{"text_format":"1","workbook":"xlsx","n_sheets":7,"sheets":["COMO PREENCHER","Bordero","Planilha1","Apoio","Gerar_Upload","FormulasAuxiliares","SuporteVBA"],"not_rendered":{"charts":0,"images":2,"macros":1,"external_links":0,"defined_names":3,"comments":1,"pivot_tables":1},"unopened":[],"bounds":{"document_bytes":16777216,"sheet_cells":100000,"rows_first":2000,"rows_last":500,"rows_between":2000,"halvings":0,"cell_chars":16384,"cell_head_chars":4096},"cells_cut":0,"cells_raw":0,"read":"whole","date_system":"1900"}

{"sheet":"COMO PREENCHER","index":0,"n_rows":20,"n_cols":2,"rows_kept":20,"cut":false,"hidden":false,"merged":[]}
[]
[]
[]
[]
[]
["INSTRUÇÕES DE PREENCHIMENTO"]
[null,"Habilitar conteudo da planilha - barra superior do excel( se solicitado)"]
[null,"Inserir o nome da empresa, o contrato e a data do protocolo ( solicitação de financiamento) informada na carta de inicio de acompanhamento"]
[null,"Organizar  os documentos, preferencialmente, por data para preenchimento"]
[null,"Use o Botão  (inserir Notas) para preencher o Bordero, inserindo nota por nota conforme imagem ao lado. "]
[null,"os campos \"tipo de documento\" e \"rubrica\" devem ser selecionados na lista que se abre."]
[null,"Use o botão (Remover Nota) se inserir a nota com dados errados."]
[null,"a cada documento de comprovação(NF) inserido será perguntado \"quer inserir nova nota fiscal?\". Responder \"sim\" para continuar . Quando finalizar, responda \"não\" e confira na listagem o que foi incluido."]
[null,"O total dos documentos de comprovação inseridos aparecem no cabeçalho"]
[null,"Usar o botão (selecionar notas) após finalizar o preenchimento do borderô"]
[null,"os itens que ficarem na cor laranja devem ser enviadas ao bandes juntamente com o bordero"]
[]
["INSTRUÇÕES PARA ENVIO"]
[null,"enviar o bordero e os documentos digitalizados em PDF por e-mail."]
[null,"cada email recebe no maximo 5 MB, em caso de muitos arquivos, favor  compactar os arquivos ou fracionar o e-mail."]

{"sheet":"Bordero","index":1,"n_rows":1010,"n_cols":16,"rows_kept":1010,"cut":false,"hidden":false,"merged":[[1,4,1,8],[2,4,2,5],[2,7,2,8]]}
[]
[null,null,null,"Nome da Empresa","BANDES"]
[null,null,null,"Contrato","001/2026",null,"Data do Protocolo","01/04/2026"]
[]
[]
[null,null,null,null,"Comprovação",null,"Valor total informado pelo cliente nesta comprovação",null,{"$f":"SUM(I11:I1010)","v":0}]
[null,null,null,null,"Notas da 1ª Comprovação",null,"Valor aceito (Após aplicação de glosa ou % de Dedicação)",null,{"$f":"SUM(Tabela1[VALOR ACEITO])","v":0}]
[]
[{"$f":"IFERROR(\"\",\"\")","v":""},"","","","","","","","",""]
["ID","TIPO DE DOCUMENTO","NÚMERO","DATA DE EMISSÃO NOTA FISCAL","CNPJ/CPF","FORNECEDOR","DESCRIÇÃO DOS MATERIAIS OU SERVIÇOS","RUBRICA","VALOR TOTAL DA NOTA","OBSERVAÇÕES","CHAVE DA NOTA FISCAL","% DE DEDICAÇÃO","VALOR PROPORCIONAL À DEDICAÇÃO","VALOR GLOSADO","VALOR APÓS GLOSA","VALOR ACEITO"]
[null,null,null,null,null,null,null,null,null,null,null,null,{"$f":"IF(ISBLANK(A11), \"\", IF(ISNUMBER(L11), I11 * L11, \"\"))","v":""},null,{"$f":"IF(AND(ISNUMBER(I11), ISNUMBER(N11)), I11 - N11, \"\")","v":""},{"$f":"IF(AND(ISNUMBER(O11), O11<>0), O11, IF(AND(ISNUMBER(M11), M11<>0), M11, IF(AND(ISNUMBER(I11), I11<>0), I11, \"\")))","v":""}]
[null,null,null,null,null,null,null,null,null,null,null,null,{"$f":"IF(ISBLANK(A12), \"\", IF(ISNUMBER(L12), I12 * L12, \"\"))","v":""},null,{"$f":"IF(AND(ISNUMBER(I12), ISNUMBER(N12)), I12 - N12, \"\")","v":""},""]
[null,null,null,null,null,null,null,null,null,null,null,null,"",null,"",""]
[null,null,null,null,null,null,null,null,null,null,null,null,"",null,"",""]
[null,null,null,null,null,null,null,null,null,null,null,null,"",null,"",""]
[null,null,null,null,null,null,null,null,null,null,null,null,"",null,"",""]
[null,null,null,null,null,null,null,null,null,null,null,null,"",null,"",""]
[null,null,null,null,null,null,null,null,null,null,null,null,"",null,"",""]
[null,null,null,null,null,null,null,null,null,null,null,null,"",null,"",""]
[null,null,null,null,null,null,null,null,null,null,null,null,"",null,"",""]
[null,null,null,null,null,null,null,null,null,null,null,null,"",null,"",""]
[null,null,null,null,null,null,null,null,null,null,null,null,"",null,"",""]
[null,null,null,null,null,null,null,null,null,null,null,null,"",null,"",""]
[null,null,null,null,null,null,null,null,null,null,null,null,"",null,"",""]
[null,null,null,null,null,null,null,null,null,null,null,null,"",null,"",""]
[null,null,null,null,null,null,null,null,null,null,null,null,"",null,"",""]
[null,null,null,null,null,null,null,null,null,null,null,null,"",null,"",""]
[null,null,null,null,null,null,null,null,null,null,null,null,"",null,"",""]
[null,null,null,null,null,null,null,null,null,null,null,null,"",null,"",""]
[null,null,null,null,null,null,null,null,null,null,null,null,"",null,"",""]
[null,null,null,null,null,null,null,null,null,null,null,null,"",null,"",""]
[null,null,null,null,null,null,null,null,null,null,null,null,"",null,"",""]
[null,null,null,null,null,null,null,null,null,null,null,null,"",null,"",""]
[null,null,null,null,null,null,null,null,null,null,null,null,"",null,"",""]
[null,null,null,null,null,null,null,null,null,null,null,null,"",null,"",""]
[null,null,null,null,null,null,null,null,null,null,null,null,"",null,"",""]
[null,null,null,null,null,null,null,null,null,null,null,null,"",null,"",""]
[null,null,null,null,null,null,null,null,null,null,null,null,"",null,"",""]
[null,null,null,null,null,null,null,null,null,null,null,null,"",null,"",""]
[null,null,null,null,null,null,null,null,null,null,null,null,"",null,"",""]
[null,null,null,null,null,null,null,null,null,null,null,null,"",null,"",""]
[null,null,null,null,null,null,null,null,null,null,null,null,"",null,"",""]
[null,null,null,null,null,null,null,null,null,null,null,null,"",null,"",""]
[null,null,null,null,null,null,null,null,null,null,null,null,"",null,"",""]
[null,null,null,null,null,null,null,null,null,null,null,null,"",null,"",""]
[null,null,null,null,null,null,null,null,null,null,null,null,"",null,"",""]
[null,null,null,null,null,null,null,null,null,null,null,null,"",null,"",""]
[null,null,null,null,null,null,null,null,null,null,null,null,"",null,"",""]
[null,null,null,null,null,null,null,null,null,null,null,null,"",null,"",""]
[null,null,null,null,null,null,null,null,null,null,null,null,"",null,"",""]
[null,null,null,null,null,null,null,null,null,null,null,null,"",null,"",""]
[null,null,null,null,null,null,null,null,null,null,null,null,"",null,"",""]
[null,null,null,null,null,null,null,null,null,null,null,null,"",null,"",""]
[null,null,null,null,null,null,null,null,null,null,null,null,"",null,"",""]
[null,null,null,null,null,null,null,null,null,null,null,null,"",null,"",""]
[null,null,null,null,null,null,null,null,null,null,null,null,"",null,"",""]
[null,null,null,null,null,null,null,null,null,null,null,null,"",null,"",""]
[null,null,null,null,null,null,null,null,null,null,null,null,"",null,"",""]
[null,null,null,null,null,null,null,null,null,null,null,null,"",null,"",""]
[null,null,null,null,null,null,null,null,null,null,null,null,"",null,"",""]
[null,null,null,null,null,null,null,null,null,null,null,null,"",null,"",""]
[null,null,null,null,null,null,null,null,null,null,null,null,"",null,"",""]
[null,null,null,null,null,null,null,null,null,null,null,null,"",null,"",""]
[null,null,null,null,null,null,null,null,null,null,null,null,"",null,"",""]
[null,null,null,null,null,null,null,null,null,null,null,null,"",null,"",""]
[null,null,null,null,null,null,null,null,null,null,null,null,"",null,"",""]
[null,null,null,null,null,null,null,null,null,null,null,null,"",null,"",""]
[null,null,null,null,null,null,null,null,null,null,null,null,"",null,"",""]
[null,null,null,null,null,null,null,null,null,null,null,null,"",null,"",""]
[null,null,null,null,null,null,null,null,null,null,null,null,"",null,"",""]
[null,null,null,null,null,null,null,null,null,null,null,null,"",null,"",""]
[null,null,null,null,null,null,null,null,null,null,null,null,"",null,"",""]
[null,null,null,null,null,null,null,null,null,null,null,null,"",null,"",""]
[null,null,null,null,null,null,null,null,null,null,null,null,"",null,"",""]
[null,null,null,null,null,null,null,null,null,null,null,null,"",null,"",{"$f":"IF(AND(ISNUMBER(O75), O75<>0), O75, IF(AND(ISNUMBER(M75), M75<>0), M75, IF(AND(ISNUMBER(I75), I75<>0), I75, \"\")))","v":""}]
[null,null,null,null,null,null,null,null,null,null,null,null,{"$f":"IF(ISBLANK(A76), \"\", IF(ISNUMBER(L76), I76 * L76, \"\"))","v":""},null,{"$f":"IF(AND(ISNUMBER(I76), ISNUMBER(N76)), I76 - N76, \"\")","v":""},""]
[null,null,null,null,null,null,null,null,null,null,null,null,"",null,"",""]
[null,null,null,null,null,null,null,null,null,null,null,null,"",null,"",""]
[null,null,null,null,null,null,null,null,null,null,null,null,"",null,"",""]
[null,null,null,null,null,null,null,null,null,null,null,null,"",null,"",""]
[null,null,null,null,null,null,null,null,null,null,null,null,"",null,"",""]
[null,null,null,null,null,null,null,null,null,null,null,null,"",null,"",""]
[null,null,null,null,null,null,null,null,null,null,null,null,"",null,"",""]
[null,null,null,null,null,null,null,null,null,null,null,null,"",null,"",""]
[null,null,null,null,null,null,null,null,null,null,null,null,"",null,"",""]
[null,null,null,null,null,null,null,null,null,null,null,null,"",null,"",""]
[null,null,null,null,null,null,null,null,null,null,null,null,"",null,"",""]
[null,null,null,null,null,null,null,null,null,null,null,null,"",null,"",""]
[null,null,null,null,null,null,null,null,null,null,null,null,"",null,"",""]
[null,null,null,null,null,null,null,null,null,null,null,null,"",null,"",""]
[null,null,null,null,null,null,null,null,null,null,null,null,"",null,"",""]
[null,null,null,null,null,null,null,null,null,null,null,null,"",null,"",""]
[null,null,null,null,null,null,null,null,null,null,null,null,"",null,"",""]
[null,null,null,null,null,null,null,null,null,null,null,null,"",null,"",""]
[null,null,null,null,null,null,null,null,null,null,null,null,"",null,"",""]
[null,null,null,null,null,null,null,null,null,null,null,null,"",null,"",""]
[null,null,null,null,null,null,null,null,null,null,null,null,"",null,"",""]
[null,null,null,null,null,null,null,null,null,null,null,null,"",null,"",""]
[null,null,null,null,null,null,null,null,null,null,null,null,"",null,"",""]
[null,null,null,null,null,null,null,null,null,null,null,null,"",null,"",""]
[null,null,null,null,null,null,null,null,null,null,null,null,"",null,"",""]
[null,null,null,null,null,null,null,null,null,null,null,null,"",null,"",""]
[null,null,null,null,null,null,null,null,null,null,null,null,"",null,"",""]
[null,null,null,null,null,null,null,null,null,null,null,null,"",null,"",""]
[null,null,null,null,null,null,null,null,null,null,null,null,"",null,"",""]
[null,null,null,null,null,null,null,null,null,null,null,null,"",null,"",""]
[null,null,null,null,null,null,null,null,null,null,null,null,"",null,"",""]
[null,null,null,null,null,null,null,null,null,null,null,null,"",null,"",""]
[null,null,null,null,null,null,null,null,null,null,null,null,"",null,"",""]
[null,null,null,null,null,null,null,null,null,null,null,null,"",null,"",""]
[null,null,null,null,null,null,null,null,null,null,null,null,"",null,"",""]
[null,null,null,null,null,null,null,null,null,null,null,null,"",null,"",""]
[null,null,null,null,null,null,null,null,null,null,null,null,"",null,"",""]
[null,null,null,null,null,null,null,null,null,null,null,null,"",null,"",""]
[null,null,null,null,null,null,null,null,null,null,null,null,"",null,"",""]
[null,null,null,null,null,null,null,null,null,null,null,null,"",null,"",""]
[null,null,null,null,null,null,null,null,null,null,null,null,"",null,"",""]
[null,null,null,null,null,null,null,null,null,null,null,null,"",null,"",""]
[null,null,null,null,null,null,null,null,null,null,null,null,"",null,"",""]
[null,null,null,null,null,null,null,null,null,null,null,null,"",null,"",""]
[null,null,null,null,null,null,null,null,null,null,null,null,"",null,"",""]
[null,null,null,null,null,null,null,null,null,null,null,null,"",null,"",""]
[null,null,null,null,null,null,null,null,null,null,null,null,"",null,"",""]
[null,null,null,null,null,null,null,null,null,null,null,null,"",null,"",""]
[null,null,null,null,null,null,null,null,null,null,null,null,"",null,"",""]
[null,null,null,null,null,null,null,null,null,null,null,null,"",null,"",""]
[null,null,null,null,null,null,null,null,null,null,null,null,"",null,"",""]
[null,null,null,null,null,null,null,null,null,null,null,null,"",null,"",""]
[null,null,null,null,null,null,null,null,null,null,null,null,"",null,"",""]
[null,null,null,null,null,null,null,null,null,null,null,null,"",null,"",""]
[null,null,null,null,null,null,null,null,null,null,null,null,"",null,"",""]
[null,null,null,null,null,null,null,null,null,null,null,null,"",null,"",""]
[null,null,null,null,null,null,null,null,null,null,null,null,"",null,"",""]
[null,null,null,null,null,null,null,null,null,null,null,null,"",null,"",""]
[null,null,null,null,null,null,null,null,null,null,null,null,"",null,"",""]
[null,null,null,null,null,null,null,null,null,null,null,null,"",null,"",""]
[null,null,null,null,null,null,null,null,null,null,null,null,"",null,"",""]
[null,null,null,null,null,null,null,null,null,null,null,null,"",null,"",""]
[null,null,null,null,null,null,null,null,null,null,null,null,"",null,"",{"$f":"IF(AND(ISNUMBER(O139), O139<>0), O139, IF(AND(ISNUMBER(M139), M139<>0), M139, IF(AND(ISNUMBER(I139), I139<>0), I139, \"\")))","v":""}]
[null,null,null,null,null,null,null,null,null,null,null,null,{"$f":"IF(ISBLANK(A140), \"\", IF(ISNUMBER(L140), I140 * L140, \"\"))","v":""},null,{"$f":"IF(AND(ISNUMBER(I140), ISNUMBER(N140)), I140 - N140, \"\")","v":""},""]
[null,null,null,null,null,null,null,null,null,null,null,null,"",null,"",""]
[null,null,null,null,null,null,null,null,null,null,null,null,"",null,"",""]
[null,null,null,null,null,null,null,null,null,null,null,null,"",null,"",""]
[null,null,null,null,null,null,null,null,null,null,null,null,"",null,"",""]
[null,null,null,null,null,null,null,null,null,null,null,null,"",null,"",""]
[null,null,null,null,null,null,null,null,null,null,null,null,"",null,"",""]
[null,null,null,null,null,null,null,null,null,null,null,null,"",null,"",""]
[null,null,null,null,null,null,null,null,null,null,null,null,"",null,"",""]
[null,null,null,null,null,null,null,null,null,null,null,null,"",null,"",""]
[null,null,null,null,null,null,null,null,null,null,null,null,"",null,"",""]
[null,null,null,null,null,null,null,null,null,null,null,null,"",null,"",""]
[null,null,null,null,null,null,null,null,null,null,null,null,"",null,"",""]
[null,null,null,null,null,null,null,null,null,null,null,null,"",null,"",""]
[null,null,null,null,null,null,null,null,null,null,null,null,"",null,"",""]
[null,null,null,null,null,null,null,null,null,null,null,null,"",null,"",""]
[null,null,null,null,null,null,null,null,null,null,null,null,"",null,"",""]
[null,null,null,null,null,null,null,null,null,null,null,null,"",null,"",""]
[null,null,null,null,null,null,null,null,null,null,null,null,"",null,"",""]
[null,null,null,null,null,null,null,null,null,null,null,null,"",null,"",""]
[null,null,null,null,null,null,null,null,null,null,null,null,"",null,"",""]
[null,null,null,null,null,null,null,null,null,null,null,null,"",null,"",""]
[null,null,null,null,null,null,null,null,null,null,null,null,"",null,"",""]
[null,null,null,null,null,null,null,null,null,null,null,null,"",null,"",""]
[null,null,null,null,null,null,null,null,null,null,null,null,"",null,"",""]
[null,null,null,null,null,null,null,null,null,null,null,null,"",null,"",""]
[null,null,null,null,null,null,null,null,null,null,null,null,"",null,"",""]
[null,null,null,null,null,null,null,null,null,null,null,null,"",null,"",""]
[null,null,null,null,null,null,null,null,null,null,null,null,"",null,"",""]
[null,null,null,null,null,null,null,null,null,null,null,null,"",null,"",""]
[null,null,null,null,null,null,null,null,null,null,null,null,"",null,"",""]
[null,null,null,null,null,null,null,null,null,null,null,null,"",null,"",""]
[null,null,null,null,null,null,null,null,null,null,null,null,"",null,"",""]
[null,null,null,null,null,null,null,null,null,null,null,null,"",null,"",""]
[null,null,null,null,null,null,null,null,null,null,null,null,"",null,"",""]
[null,null,null,null,null,null,null,null,null,null,null,null,"",null,"",""]
[null,null,null,null,null,null,null,null,null,null,null,null,"",null,"",""]
[null,null,null,null,null,null,null,null,null,null,null,null,"",null,"",""]
[null,null,null,null,null,null,null,null,null,null,null,null,"",null,"",""]
[null,null,null,null,null,null,null,null,null,null,null,null,"",null,"",""]
[null,null,null,null,null,null,null,null,null,null,null,null,"",null,"",""]
[null,null,null,null,null,null,null,null,null,null,null,null,"",null,"",""]
[null,null,null,null,null,null,null,null,null,null,null,null,"",null,"",""]
[null,null,null,null,null,null,null,null,null,null,null,null,"",null,"",""]
[null,null,null,null,null,null,null,null,null,null,null,null,"",null,"",""]
[null,null,null,null,null,null,null,null,null,null,null,null,"",null,"",""]
[null,null,null,null,null,null,null,null,null,null,null,null,"",null,"",""]
[null,null,null,null,null,null,null,null,null,null,null,null,"",null,"",""]
[null,null,null,null,null,null,null,null,null,null,null,null,"",null,"",""]
[null,null,null,null,null,null,null,null,null,null,null,null,"",null,"",""]
[null,null,null,null,null,null,null,null,null,null,null,null,"",null,"",""]
[null,null,null,null,null,null,null,null,null,null,null,null,"",null,"",""]
[null,null,null,null,null,null,null,null,null,null,null,null,"",null,"",""]
[null,null,null,null,null,null,null,null,null,null,null,null,"",null,"",""]
[null,null,null,null,null,null,null,null,null,null,null,null,"",null,"",""]
[null,null,null,null,null,null,null,null,null,null,null,null,"",null,"",""]
[null,null,null,null,null,null,null,null,null,null,null,null,"",null,"",""]
[null,null,null,null,null,null,null,null,null,null,null,null,"",null,"",""]
[null,null,null,null,null,null,null,null,null,null,null,null,"",null,"",""]
[null,null,null,null,null,null,null,null,null,null,null,null,"",null,"",""]
[null,null,null,null,null,null,null,null,null,null,null,null,"",null,"",""]
[null,null,null,null,null,null,null,null,null,null,null,null,"",null,"",""]
[null,null,null,null,null,null,null,null,null,null,null,null,"",null,"",""]
[null,null,null,null,null,null,null,null,null,null,null,null,"",null,"",{"$f":"IF(AND(ISNUMBER(O203), O203<>0), O203, IF(AND(ISNUMBER(M203), M203<>0), M203, IF(AND(ISNUMBER(I203), I203<>0), I203, \"\")))","v":""}]
[null,null,null,null,null,null,null,null,null,null,null,null,{"$f":"IF(ISBLANK(A204), \"\", IF(ISNUMBER(L204), I204 * L204, \"\"))","v":""},null,{"$f":"IF(AND(ISNUMBER(I204), ISNUMBER(N204)), I204 - N204, \"\")","v":""},""]
[null,null,null,null,null,null,null,null,null,null,null,null,"",null,"",""]
[null,null,null,null,null,null,null,null,null,null,null,null,"",null,"",""]
[null,null,null,null,null,null,null,null,null,null,null,null,"",null,"",""]
[null,null,null,null,null,null,null,null,null,null,null,null,"",null,"",""]
[null,null,null,null,null,null,null,null,null,null,null,null,"",null,"",""]
[null,null,null,null,null,null,null,null,null,null,null,null,"",null,"",""]
[null,null,null,null,null,null,null,null,null,null,null,null,"",null,"",""]
[null,null,null,null,null,null,null,null,null,null,null,null,"",null,"",""]
[null,null,null,null,null,null,null,null,null,null,null,null,"",null,"",""]
[null,null,null,null,null,null,null,null,null,null,null,null,"",null,"",""]
[null,null,null,null,null,null,null,null,null,null,null,null,"",null,"",""]
[null,null,null,null,null,null,null,null,null,null,null,null,"",null,"",""]
[null,null,null,null,null,null,null,null,null,null,null,null,"",null,"",""]
[null,null,null,null,null,null,null,null,null,null,null,null,"",null,"",""]
[null,null,null,null,null,null,null,null,null,null,null,null,"",null,"",""]
[null,null,null,null,null,null,null,null,null,null,null,null,"",null,"",""]
[null,null,null,null,null,null,null,null,null,null,null,null,"",null,"",""]
[null,null,null,null,null,null,null,null,null,null,null,null,"",null,"",""]
[null,null,null,null,null,null,null,null,null,null,null,null,"",null,"",""]
[null,null,null,null,null,null,null,null,null,null,null,null,"",null,"",""]
[null,null,null,null,null,null,null,null,null,null,null,null,"",null,"",""]
[null,null,null,null,null,null,null,null,null,null,null,null,"",null,"",""]
[null,null,null,null,null,null,null,null,null,null,null,null,"",null,"",""]
[null,null,null,null,null,null,null,null,null,null,null,null,"",null,"",""]
[null,null,null,null,null,null,null,null,null,null,null,null,"",null,"",""]
[null,null,null,null,null,null,null,null,null,null,null,null,"",null,"",""]
[null,null,null,null,null,null,null,null,null,null,null,null,"",null,"",""]
[null,null,null,null,null,null,null,null,null,null,null,null,"",null,"",""]
[null,null,null,null,null,null,null,null,null,null,null,null,"",null,"",""]
[null,null,null,null,null,null,null,null,null,null,null,null,"",null,"",""]
[null,null,null,null,null,null,null,null,null,null,null,null,"",null,"",""]
[null,null,null,null,null,null,null,null,null,null,null,null,"",null,"",""]
[null,null,null,null,null,null,null,null,null,null,null,null,"",null,"",""]
[null,null,null,null,null,null,null,null,null,null,null,null,"",null,"",""]
[null,null,null,null,null,null,null,null,null,null,null,null,"",null,"",""]
[null,null,null,null,null,null,null,null,null,null,null,null,"",null,"",""]
[null,null,null,null,null,null,null,null,null,null,null,null,"",null,"",""]
[null,null,null,null,null,null,null,null,null,null,null,null,"",null,"",""]
[null,null,null,null,null,null,null,null,null,null,null,null,"",null,"",""]
[null,null,null,null,null,null,null,null,null,null,null,null,"",null,"",""]
[null,null,null,null,null,null,null,null,null,null,null,null,"",null,"",""]
[null,null,null,null,null,null,null,null,null,null,null,null,"",null,"",""]
[null,null,null,null,null,null,null,null,null,null,null,null,"",null,"",""]
[null,null,null,null,null,null,null,null,null,null,null,null,"",null,"",""]
[null,null,null,null,null,null,null,null,null,null,null,null,"",null,"",""]
[null,null,null,null,null,null,null,null,null,null,null,null,"",null,"",""]
[null,null,null,null,null,null,null,null,null,null,null,null,"",null,"",""]
[null,null,null,null,null,null,null,null,null,null,null,null,"",null,"",""]
[null,null,null,null,null,null,null,null,null,null,null,null,"",null,"",""]
[null,null,null,null,null,null,null,null,null,null,null,null,"",null,"",""]
[null,null,null,null,null,null,null,null,null,null,null,null,"",null,"",""]
[null,null,null,null,null,null,null,null,null,null,null,null,"",null,"",""]
[null,null,null,null,null,null,null,null,null,null,null,null,"",null,"",""]
[null,null,null,null,null,null,null,null,null,null,null,null,"",null,"",""]
[null,null,null,null,null,null,null,null,null,null,null,null,"",null,"",""]
[null,null,null,null,null,null,null,null,null,null,null,null,"",null,"",""]
[null,null,null,null,null,null,null,null,null,null,null,null,"",null,"",""]
[null,null,null,null,null,null,null,null,null,null,null,null,"",null,"",""]
[null,null,null,null,null,null,null,null,null,null,null,null,"",null,"",""]
[null,null,null,null,null,null,null,null,null,null,null,null,"",null,"",""]
[null,null,null,null,null,null,null,null,null,null,null,null,"",null,"",""]
[null,null,null,null,null,null,null,null,null,null,null,null,"",null,"",""]
[null,null,null,null,null,null,null,null,null,null,null,null,"",null,"",{"$f":"IF(AND(ISNUMBER(O267), O267<>0), O267, IF(AND(ISNUMBER(M267), M267<>0), M267, IF(AND(ISNUMBER(I267), I267<>0), I267, \"\")))","v":""}]
[null,null,null,null,null,null,null,null,null,null,null,null,{"$f":"IF(ISBLANK(A268), \"\", IF(ISNUMBER(L268), I268 * L268, \"\"))","v":""},null,{"$f":"IF(AND(ISNUMBER(I268), ISNUMBER(N268)), I268 - N268, \"\")","v":""},""]
[null,null,null,null,null,null,null,null,null,null,null,null,"",null,"",""]
[null,null,null,null,null,null,null,null,null,null,null,null,"",null,"",""]
[null,null,null,null,null,null,null,null,null,null,null,null,"",null,"",""]
[null,null,null,null,null,null,null,null,null,null,null,null,"",null,"",""]
[null,null,null,null,null,null,null,null,null,null,null,null,"",null,"",""]
[null,null,null,null,null,null,null,null,null,null,null,null,"",null,"",""]
[null,null,null,null,null,null,null,null,null,null,null,null,"",null,"",""]
[null,null,null,null,null,null,null,null,null,null,null,null,"",null,"",""]
[null,null,null,null,null,null,null,null,null,null,null,null,"",null,"",""]
[null,null,null,null,null,null,null,null,null,null,null,null,"",null,"",""]
[null,null,null,null,null,null,null,null,null,null,null,null,"",null,"",""]
[null,null,null,null,null,null,null,null,null,null,null,null,"",null,"",""]
[null,null,null,null,null,null,null,null,null,null,null,null,"",null,"",""]
[null,null,null,null,null,null,null,null,null,null,null,null,"",null,"",""]
[null,null,null,null,null,null,null,null,null,null,null,null,"",null,"",""]
[null,null,null,null,null,null,null,null,null,null,null,null,"",null,"",""]
[null,null,null,null,null,null,null,null,null,null,null,null,"",null,"",""]
[null,null,null,null,null,null,null,null,null,null,null,null,"",null,"",""]
[null,null,null,null,null,null,null,null,null,null,null,null,"",null,"",""]
[null,null,null,null,null,null,null,null,null,null,null,null,"",null,"",""]
[null,null,null,null,null,null,null,null,null,null,null,null,"",null,"",""]
[null,null,null,null,null,null,null,null,null,null,null,null,"",null,"",""]
[null,null,null,null,null,null,null,null,null,null,null,null,"",null,"",""]
[null,null,null,null,null,null,null,null,null,null,null,null,"",null,"",""]
[null,null,null,null,null,null,null,null,null,null,null,null,"",null,"",""]
[null,null,null,null,null,null,null,null,null,null,null,null,"",null,"",""]
[null,null,null,null,null,null,null,null,null,null,null,null,"",null,"",""]
[null,null,null,null,null,null,null,null,null,null,null,null,"",null,"",""]
[null,null,null,null,null,null,null,null,null,null,null,null,"",null,"",""]
[null,null,null,null,null,null,null,null,null,null,null,null,"",null,"",""]
[null,null,null,null,null,null,null,null,null,null,null,null,"",null,"",""]
[null,null,null,null,null,null,null,null,null,null,null,null,"",null,"",""]
[null,null,null,null,null,null,null,null,null,null,null,null,"",null,"",""]
[null,null,null,null,null,null,null,null,null,null,null,null,"",null,"",""]
[null,null,null,null,null,null,null,null,null,null,null,null,"",null,"",""]
[null,null,null,null,null,null,null,null,null,null,null,null,"",null,"",""]
[null,null,null,null,null,null,null,null,null,null,null,null,"",null,"",""]
[null,null,null,null,null,null,null,null,null,null,null,null,"",null,"",""]
[null,null,null,null,null,null,null,null,null,null,null,null,"",null,"",""]
[null,null,null,null,null,null,null,null,null,null,null,null,"",null,"",""]
[null,null,null,null,null,null,null,null,null,null,null,null,"",null,"",""]
[null,null,null,null,null,null,null,null,null,null,null,null,"",null,"",""]
[null,null,null,null,null,null,null,null,null,null,null,null,"",null,"",""]
[null,null,null,null,null,null,null,null,null,null,null,null,"",null,"",""]
[null,null,null,null,null,null,null,null,null,null,null,null,"",null,"",""]
[null,null,null,null,null,null,null,null,null,null,null,null,"",null,"",""]
[null,null,null,null,null,null,null,null,null,null,null,null,"",null,"",""]
[null,null,null,null,null,null,null,null,null,null,null,null,"",null,"",""]
[null,null,null,null,null,null,null,null,null,null,null,null,"",null,"",""]
[null,null,null,null,null,null,null,null,null,null,null,null,"",null,"",""]
[null,null,null,null,null,null,null,null,null,null,null,null,"",null,"",""]
[null,null,null,null,null,null,null,null,null,null,null,null,"",null,"",""]
[null,null,null,null,null,null,null,null,null,null,null,null,"",null,"",""]
[null,null,null,null,null,null,null,null,null,null,null,null,"",null,"",""]
[null,null,null,null,null,null,null,null,null,null,null,null,"",null,"",""]
[null,null,null,null,null,null,null,null,null,null,null,null,"",null,"",""]
[null,null,null,null,null,null,null,null,null,null,null,null,"",null,"",""]
[null,null,null,null,null,null,null,null,null,null,null,null,"",null,"",""]
[null,null,null,null,null,null,null,null,null,null,null,null,"",null,"",""]
[null,null,null,null,null,null,null,null,null,null,null,null,"",null,"",""]
[null,null,null,null,null,null,null,null,null,null,null,null,"",null,"",""]
[null,null,null,null,null,null,null,null,null,null,null,null,"",null,"",""]
[null,null,null,null,null,null,null,null,null,null,null,null,"",null,"",{"$f":"IF(AND(ISNUMBER(O331), O331<>0), O331, IF(AND(ISNUMBER(M331), M331<>0), M331, IF(AND(ISNUMBER(I331), I331<>0), I331, \"\")))","v":""}]
[null,null,null,null,null,null,null,null,null,null,null,null,{"$f":"IF(ISBLANK(A332), \"\", IF(ISNUMBER(L332), I332 * L332, \"\"))","v":""},null,{"$f":"IF(AND(ISNUMBER(I332), ISNUMBER(N332)), I332 - N332, \"\")","v":""},""]
[null,null,null,null,null,null,null,null,null,null,null,null,"",null,"",""]
[null,null,null,null,null,null,null,null,null,null,null,null,"",null,"",""]
[null,null,null,null,null,null,null,null,null,null,null,null,"",null,"",""]
[null,null,null,null,null,null,null,null,null,null,null,null,"",null,"",""]
[null,null,null,null,null,null,null,null,null,null,null,null,"",null,"",""]
[null,null,null,null,null,null,null,null,null,null,null,null,"",null,"",""]
[null,null,null,null,null,null,null,null,null,null,null,null,"",null,"",""]
[null,null,null,null,null,null,null,null,null,null,null,null,"",null,"",""]
[null,null,null,null,null,null,null,null,null,null,null,null,"",null,"",""]
[null,null,null,null,null,null,null,null,null,null,null,null,"",null,"",""]
[null,null,null,null,null,null,null,null,null,null,null,null,"",null,"",""]
[null,null,null,null,null,null,null,null,null,null,null,null,"",null,"",""]
[null,null,null,null,null,null,null,null,null,null,null,null,"",null,"",""]
[null,null,null,null,null,null,null,null,null,null,null,null,"",null,"",""]
[null,null,null,null,null,null,null,null,null,null,null,null,"",null,"",""]
[null,null,null,null,null,null,null,null,null,null,null,null,"",null,"",""]
[null,null,null,null,null,null,null,null,null,null,null,null,"",null,"",""]
[null,null,null,null,null,null,null,null,null,null,null,null,"",null,"",""]
[null,null,null,null,null,null,null,null,null,null,null,null,"",null,"",""]
[null,null,null,null,null,null,null,null,null,null,null,null,"",null,"",""]
[null,null,null,null,null,null,null,null,null,null,null,null,"",null,"",""]
[null,null,null,null,null,null,null,null,null,null,null,null,"",null,"",""]
[null,null,null,null,null,null,null,null,null,null,null,null,"",null,"",""]
[null,null,null,null,null,null,null,null,null,null,null,null,"",null,"",""]
[null,null,null,null,null,null,null,null,null,null,null,null,"",null,"",""]
[null,null,null,null,null,null,null,null,null,null,null,null,"",null,"",""]
[null,null,null,null,null,null,null,null,null,null,null,null,"",null,"",""]
[null,null,null,null,null,null,null,null,null,null,null,null,"",null,"",""]
[null,null,null,null,null,null,null,null,null,null,null,null,"",null,"",""]
[null,null,null,null,null,null,null,null,null,null,null,null,"",null,"",""]
[null,null,null,null,null,null,null,null,null,null,null,null,"",null,"",""]
[null,null,null,null,null,null,null,null,null,null,null,null,"",null,"",""]
[null,null,null,null,null,null,null,null,null,null,null,null,"",null,"",""]
[null,null,null,null,null,null,null,null,null,null,null,null,"",null,"",""]
[null,null,null,null,null,null,null,null,null,null,null,null,"",null,"",""]
[null,null,null,null,null,null,null,null,null,null,null,null,"",null,"",""]
[null,null,null,null,null,null,null,null,null,null,null,null,"",null,"",""]
[null,null,null,null,null,null,null,null,null,null,null,null,"",null,"",""]
[null,null,null,null,null,null,null,null,null,null,null,null,"",null,"",""]
[null,null,null,null,null,null,null,null,null,null,null,null,"",null,"",""]
[null,null,null,null,null,null,null,null,null,null,null,null,"",null,"",""]
[null,null,null,null,null,null,null,null,null,null,null,null,"",null,"",""]
[null,null,null,null,null,null,null,null,null,null,null,null,"",null,"",""]
[null,null,null,null,null,null,null,null,null,null,null,null,"",null,"",""]
[null,null,null,null,null,null,null,null,null,null,null,null,"",null,"",""]
[null,null,null,null,null,null,null,null,null,null,null,null,"",null,"",""]
[null,null,null,null,null,null,null,null,null,null,null,null,"",null,"",""]
[null,null,null,null,null,null,null,null,null,null,null,null,"",null,"",""]
[null,null,null,null,null,null,null,null,null,null,null,null,"",null,"",""]
[null,null,null,null,null,null,null,null,null,null,null,null,"",null,"",""]
[null,null,null,null,null,null,null,null,null,null,null,null,"",null,"",""]
[null,null,null,null,null,null,null,null,null,null,null,null,"",null,"",""]
[null,null,null,null,null,null,null,null,null,null,null,null,"",null,"",""]
[null,null,null,null,null,null,null,null,null,null,null,null,"",null,"",""]
[null,null,null,null,null,null,null,null,null,null,null,null,"",null,"",""]
[null,null,null,null,null,null,null,null,null,null,null,null,"",null,"",""]
[null,null,null,null,null,null,null,null,null,null,null,null,"",null,"",""]
[null,null,null,null,null,null,null,null,null,null,null,null,"",null,"",""]
[null,null,null,null,null,null,null,null,null,null,null,null,"",null,"",""]
[null,null,null,null,null,null,null,null,null,null,null,null,"",null,"",""]
[null,null,null,null,null,null,null,null,null,null,null,null,"",null,"",""]
[null,null,null,null,null,null,null,null,null,null,null,null,"",null,"",""]
[null,null,null,null,null,null,null,null,null,null,null,null,"",null,"",{"$f":"IF(AND(ISNUMBER(O395), O395<>0), O395, IF(AND(ISNUMBER(M395), M395<>0), M395, IF(AND(ISNUMBER(I395), I395<>0), I395, \"\")))","v":""}]
[null,null,null,null,null,null,null,null,null,null,null,null,{"$f":"IF(ISBLANK(A396), \"\", IF(ISNUMBER(L396), I396 * L396, \"\"))","v":""},null,{"$f":"IF(AND(ISNUMBER(I396), ISNUMBER(N396)), I396 - N396, \"\")","v":""},""]
[null,null,null,null,null,null,null,null,null,null,null,null,"",null,"",""]
[null,null,null,null,null,null,null,null,null,null,null,null,"",null,"",""]
[null,null,null,null,null,null,null,null,null,null,null,null,"",null,"",""]
[null,null,null,null,null,null,null,null,null,null,null,null,"",null,"",""]
[null,null,null,null,null,null,null,null,null,null,null,null,"",null,"",""]
[null,null,null,null,null,null,null,null,null,null,null,null,"",null,"",""]
[null,null,null,null,null,null,null,null,null,null,null,null,"",null,"",""]
[null,null,null,null,null,null,null,null,null,null,null,null,"",null,"",""]
[null,null,null,null,null,null,null,null,null,null,null,null,"",null,"",""]
[null,null,null,null,null,null,null,null,null,null,null,null,"",null,"",""]
[null,null,null,null,null,null,null,null,null,null,null,null,"",null,"",""]
[null,null,null,null,null,null,null,null,null,null,null,null,"",null,"",""]
[null,null,null,null,null,null,null,null,null,null,null,null,"",null,"",""]
[null,null,null,null,null,null,null,null,null,null,null,null,"",null,"",""]
[null,null,null,null,null,null,null,null,null,null,null,null,"",null,"",""]
[null,null,null,null,null,null,null,null,null,null,null,null,"",null,"",""]
[null,null,null,null,null,null,null,null,null,null,null,null,"",null,"",""]
[null,null,null,null,null,null,null,null,null,null,null,null,"",null,"",""]
[null,null,null,null,null,null,null,null,null,null,null,null,"",null,"",""]
[null,null,null,null,null,null,null,null,null,null,null,null,"",null,"",""]
[null,null,null,null,null,null,null,null,null,null,null,null,"",null,"",""]
[null,null,null,null,null,null,null,null,null,null,null,null,"",null,"",""]
[null,null,null,null,null,null,null,null,null,null,null,null,"",null,"",""]
[null,null,null,null,null,null,null,null,null,null,null,null,"",null,"",""]
[null,null,null,null,null,null,null,null,null,null,null,null,"",null,"",""]
[null,null,null,null,null,null,null,null,null,null,null,null,"",null,"",""]
[null,null,null,null,null,null,null,null,null,null,null,null,"",null,"",""]
[null,null,null,null,null,null,null,null,null,null,null,null,"",null,"",""]
[null,null,null,null,null,null,null,null,null,null,null,null,"",null,"",""]
[null,null,null,null,null,null,null,null,null,null,null,null,"",null,"",""]
[null,null,null,null,null,null,null,null,null,null,null,null,"",null,"",""]
[null,null,null,null,null,null,null,null,null,null,null,null,"",null,"",""]
[null,null,null,null,null,null,null,null,null,null,null,null,"",null,"",""]
[null,null,null,null,null,null,null,null,null,null,null,null,"",null,"",""]
[null,null,null,null,null,null,null,null,null,null,null,null,"",null,"",""]
[null,null,null,null,null,null,null,null,null,null,null,null,"",null,"",""]
[null,null,null,null,null,null,null,null,null,null,null,null,"",null,"",""]
[null,null,null,null,null,null,null,null,null,null,null,null,"",null,"",""]
[null,null,null,null,null,null,null,null,null,null,null,null,"",null,"",""]
[null,null,null,null,null,null,null,null,null,null,null,null,"",null,"",""]
[null,null,null,null,null,null,null,null,null,null,null,null,"",null,"",""]
[null,null,null,null,null,null,null,null,null,null,null,null,"",null,"",""]
[null,null,null,null,null,null,null,null,null,null,null,null,"",null,"",""]
[null,null,null,null,null,null,null,null,null,null,null,null,"",null,"",""]
[null,null,null,null,null,null,null,null,null,null,null,null,"",null,"",""]
[null,null,null,null,null,null,null,null,null,null,null,null,"",null,"",""]
[null,null,null,null,null,null,null,null,null,null,null,null,"",null,"",""]
[null,null,null,null,null,null,null,null,null,null,null,null,"",null,"",""]
[null,null,null,null,null,null,null,null,null,null,null,null,"",null,"",""]
[null,null,null,null,null,null,null,null,null,null,null,null,"",null,"",""]
[null,null,null,null,null,null,null,null,null,null,null,null,"",null,"",""]
[null,null,null,null,null,null,null,null,null,null,null,null,"",null,"",""]
[null,null,null,null,null,null,null,null,null,null,null,null,"",null,"",""]
[null,null,null,null,null,null,null,null,null,null,null,null,"",null,"",""]
[null,null,null,null,null,null,null,null,null,null,null,null,"",null,"",""]
[null,null,null,null,null,null,null,null,null,null,null,null,"",null,"",""]
[null,null,null,null,null,null,null,null,null,null,null,null,"",null,"",""]
[null,null,null,null,null,null,null,null,null,null,null,null,"",null,"",""]
[null,null,null,null,null,null,null,null,null,null,null,null,"",null,"",""]
[null,null,null,null,null,null,null,null,null,null,null,null,"",null,"",""]
[null,null,null,null,null,null,null,null,null,null,null,null,"",null,"",""]
[null,null,null,null,null,null,null,null,null,null,null,null,"",null,"",""]
[null,null,null,null,null,null,null,null,null,null,null,null,"",null,"",{"$f":"IF(AND(ISNUMBER(O459), O459<>0), O459, IF(AND(ISNUMBER(M459), M459<>0), M459, IF(AND(ISNUMBER(I459), I459<>0), I459, \"\")))","v":""}]
[null,null,null,null,null,null,null,null,null,null,null,null,{"$f":"IF(ISBLANK(A460), \"\", IF(ISNUMBER(L460), I460 * L460, \"\"))","v":""},null,{"$f":"IF(AND(ISNUMBER(I460), ISNUMBER(N460)), I460 - N460, \"\")","v":""},""]
[null,null,null,null,null,null,null,null,null,null,null,null,"",null,"",""]
[null,null,null,null,null,null,null,null,null,null,null,null,"",null,"",""]
[null,null,null,null,null,null,null,null,null,null,null,null,"",null,"",""]
[null,null,null,null,null,null,null,null,null,null,null,null,"",null,"",""]
[null,null,null,null,null,null,null,null,null,null,null,null,"",null,"",""]
[null,null,null,null,null,null,null,null,null,null,null,null,"",null,"",""]
[null,null,null,null,null,null,null,null,null,null,null,null,"",null,"",""]
[null,null,null,null,null,null,null,null,null,null,null,null,"",null,"",""]
[null,null,null,null,null,null,null,null,null,null,null,null,"",null,"",""]
[null,null,null,null,null,null,null,null,null,null,null,null,"",null,"",""]
[null,null,null,null,null,null,null,null,null,null,null,null,"",null,"",""]
[null,null,null,null,null,null,null,null,null,null,null,null,"",null,"",""]
[null,null,null,null,null,null,null,null,null,null,null,null,"",null,"",""]
[null,null,null,null,null,null,null,null,null,null,null,null,"",null,"",""]
[null,null,null,null,null,null,null,null,null,null,null,null,"",null,"",""]
[null,null,null,null,null,null,null,null,null,null,null,null,"",null,"",""]
[null,null,null,null,null,null,null,null,null,null,null,null,"",null,"",""]
[null,null,null,null,null,null,null,null,null,null,null,null,"",null,"",""]
[null,null,null,null,null,null,null,null,null,null,null,null,"",null,"",""]
[null,null,null,null,null,null,null,null,null,null,null,null,"",null,"",""]
[null,null,null,null,null,null,null,null,null,null,null,null,"",null,"",""]
[null,null,null,null,null,null,null,null,null,null,null,null,"",null,"",""]
[null,null,null,null,null,null,null,null,null,null,null,null,"",null,"",""]
[null,null,null,null,null,null,null,null,null,null,null,null,"",null,"",""]
[null,null,null,null,null,null,null,null,null,null,null,null,"",null,"",""]
[null,null,null,null,null,null,null,null,null,null,null,null,"",null,"",""]
[null,null,null,null,null,null,null,null,null,null,null,null,"",null,"",""]
[null,null,null,null,null,null,null,null,null,null,null,null,"",null,"",""]
[null,null,null,null,null,null,null,null,null,null,null,null,"",null,"",""]
[null,null,null,null,null,null,null,null,null,null,null,null,"",null,"",""]
[null,null,null,null,null,null,null,null,null,null,null,null,"",null,"",""]
[null,null,null,null,null,null,null,null,null,null,null,null,"",null,"",""]
[null,null,null,null,null,null,null,null,null,null,null,null,"",null,"",""]
[null,null,null,null,null,null,null,null,null,null,null,null,"",null,"",""]
[null,null,null,null,null,null,null,null,null,null,null,null,"",null,"",""]
[null,null,null,null,null,null,null,null,null,null,null,null,"",null,"",""]
[null,null,null,null,null,null,null,null,null,null,null,null,"",null,"",""]
[null,null,null,null,null,null,null,null,null,null,null,null,"",null,"",""]
[null,null,null,null,null,null,null,null,null,null,null,null,"",null,"",""]
[null,null,null,null,null,null,null,null,null,null,null,null,"",null,"",""]
[null,null,null,null,null,null,null,null,null,null,null,null,"",null,"",""]
[null,null,null,null,null,null,null,null,null,null,null,null,"",null,"",""]
[null,null,null,null,null,null,null,null,null,null,null,null,"",null,"",""]
[null,null,null,null,null,null,null,null,null,null,null,null,"",null,"",""]
[null,null,null,null,null,null,null,null,null,null,null,null,"",null,"",""]
[null,null,null,null,null,null,null,null,null,null,null,null,"",null,"",""]
[null,null,null,null,null,null,null,null,null,null,null,null,"",null,"",""]
[null,null,null,null,null,null,null,null,null,null,null,null,"",null,"",""]
[null,null,null,null,null,null,null,null,null,null,null,null,"",null,"",""]
[null,null,null,null,null,null,null,null,null,null,null,null,"",null,"",""]
[null,null,null,null,null,null,null,null,null,null,null,null,"",null,"",""]
[null,null,null,null,null,null,null,null,null,null,null,null,"",null,"",""]
[null,null,null,null,null,null,null,null,null,null,null,null,"",null,"",""]
[null,null,null,null,null,null,null,null,null,null,null,null,"",null,"",""]
[null,null,null,null,null,null,null,null,null,null,null,null,"",null,"",""]
[null,null,null,null,null,null,null,null,null,null,null,null,"",null,"",""]
[null,null,null,null,null,null,null,null,null,null,null,null,"",null,"",""]
[null,null,null,null,null,null,null,null,null,null,null,null,"",null,"",""]
[null,null,null,null,null,null,null,null,null,null,null,null,"",null,"",""]
[null,null,null,null,null,null,null,null,null,null,null,null,"",null,"",""]
[null,null,null,null,null,null,null,null,null,null,null,null,"",null,"",""]
[null,null,null,null,null,null,null,null,null,null,null,null,"",null,"",""]
[null,null,null,null,null,null,null,null,null,null,null,null,"",null,"",{"$f":"IF(AND(ISNUMBER(O523), O523<>0), O523, IF(AND(ISNUMBER(M523), M523<>0), M523, IF(AND(ISNUMBER(I523), I523<>0), I523, \"\")))","v":""}]
[null,null,null,null,null,null,null,null,null,null,null,null,{"$f":"IF(ISBLANK(A524), \"\", IF(ISNUMBER(L524), I524 * L524, \"\"))","v":""},null,{"$f":"IF(AND(ISNUMBER(I524), ISNUMBER(N524)), I524 - N524, \"\")","v":""},""]
[null,null,null,null,null,null,null,null,null,null,null,null,"",null,"",""]
[null,null,null,null,null,null,null,null,null,null,null,null,"",null,"",""]
[null,null,null,null,null,null,null,null,null,null,null,null,"",null,"",""]
[null,null,null,null,null,null,null,null,null,null,null,null,"",null,"",""]
[null,null,null,null,null,null,null,null,null,null,null,null,"",null,"",""]
[null,null,null,null,null,null,null,null,null,null,null,null,"",null,"",""]
[null,null,null,null,null,null,null,null,null,null,null,null,"",null,"",""]
[null,null,null,null,null,null,null,null,null,null,null,null,"",null,"",""]
[null,null,null,null,null,null,null,null,null,null,null,null,"",null,"",""]
[null,null,null,null,null,null,null,null,null,null,null,null,"",null,"",""]
[null,null,null,null,null,null,null,null,null,null,null,null,"",null,"",""]
[null,null,null,null,null,null,null,null,null,null,null,null,"",null,"",""]
[null,null,null,null,null,null,null,null,null,null,null,null,"",null,"",""]
[null,null,null,null,null,null,null,null,null,null,null,null,"",null,"",""]
[null,null,null,null,null,null,null,null,null,null,null,null,"",null,"",""]
[null,null,null,null,null,null,null,null,null,null,null,null,"",null,"",""]
[null,null,null,null,null,null,null,null,null,null,null,null,"",null,"",""]
[null,null,null,null,null,null,null,null,null,null,null,null,"",null,"",""]
[null,null,null,null,null,null,null,null,null,null,null,null,"",null,"",""]
[null,null,null,null,null,null,null,null,null,null,null,null,"",null,"",""]
[null,null,null,null,null,null,null,null,null,null,null,null,"",null,"",""]
[null,null,null,null,null,null,null,null,null,null,null,null,"",null,"",""]
[null,null,null,null,null,null,null,null,null,null,null,null,"",null,"",""]
[null,null,null,null,null,null,null,null,null,null,null,null,"",null,"",""]
[null,null,null,null,null,null,null,null,null,null,null,null,"",null,"",""]
[null,null,null,null,null,null,null,null,null,null,null,null,"",null,"",""]
[null,null,null,null,null,null,null,null,null,null,null,null,"",null,"",""]
[null,null,null,null,null,null,null,null,null,null,null,null,"",null,"",""]
[null,null,null,null,null,null,null,null,null,null,null,null,"",null,"",""]
[null,null,null,null,null,null,null,null,null,null,null,null,"",null,"",""]
[null,null,null,null,null,null,null,null,null,null,null,null,"",null,"",""]
[null,null,null,null,null,null,null,null,null,null,null,null,"",null,"",""]
[null,null,null,null,null,null,null,null,null,null,null,null,"",null,"",""]
[null,null,null,null,null,null,null,null,null,null,null,null,"",null,"",""]
[null,null,null,null,null,null,null,null,null,null,null,null,"",null,"",""]
[null,null,null,null,null,null,null,null,null,null,null,null,"",null,"",""]
[null,null,null,null,null,null,null,null,null,null,null,null,"",null,"",""]
[null,null,null,null,null,null,null,null,null,null,null,null,"",null,"",""]
[null,null,null,null,null,null,null,null,null,null,null,null,"",null,"",""]
[null,null,null,null,null,null,null,null,null,null,null,null,"",null,"",""]
[null,null,null,null,null,null,null,null,null,null,null,null,"",null,"",""]
[null,null,null,null,null,null,null,null,null,null,null,null,"",null,"",""]
[null,null,null,null,null,null,null,null,null,null,null,null,"",null,"",""]
[null,null,null,null,null,null,null,null,null,null,null,null,"",null,"",""]
[null,null,null,null,null,null,null,null,null,null,null,null,"",null,"",""]
[null,null,null,null,null,null,null,null,null,null,null,null,"",null,"",""]
[null,null,null,null,null,null,null,null,null,null,null,null,"",null,"",""]
[null,null,null,null,null,null,null,null,null,null,null,null,"",null,"",""]
[null,null,null,null,null,null,null,null,null,null,null,null,"",null,"",""]
[null,null,null,null,null,null,null,null,null,null,null,null,"",null,"",""]
[null,null,null,null,null,null,null,null,null,null,null,null,"",null,"",""]
[null,null,null,null,null,null,null,null,null,null,null,null,"",null,"",""]
[null,null,null,null,null,null,null,null,null,null,null,null,"",null,"",""]
[null,null,null,null,null,null,null,null,null,null,null,null,"",null,"",""]
[null,null,null,null,null,null,null,null,null,null,null,null,"",null,"",""]
[null,null,null,null,null,null,null,null,null,null,null,null,"",null,"",""]
[null,null,null,null,null,null,null,null,null,null,null,null,"",null,"",""]
[null,null,null,null,null,null,null,null,null,null,null,null,"",null,"",""]
[null,null,null,null,null,null,null,null,null,null,null,null,"",null,"",""]
[null,null,null,null,null,null,null,null,null,null,null,null,"",null,"",""]
[null,null,null,null,null,null,null,null,null,null,null,null,"",null,"",""]
[null,null,null,null,null,null,null,null,null,null,null,null,"",null,"",""]
[null,null,null,null,null,null,null,null,null,null,null,null,"",null,"",{"$f":"IF(AND(ISNUMBER(O587), O587<>0), O587, IF(AND(ISNUMBER(M587), M587<>0), M587, IF(AND(ISNUMBER(I587), I587<>0), I587, \"\")))","v":""}]
[null,null,null,null,null,null,null,null,null,null,null,null,{"$f":"IF(ISBLANK(A588), \"\", IF(ISNUMBER(L588), I588 * L588, \"\"))","v":""},null,{"$f":"IF(AND(ISNUMBER(I588), ISNUMBER(N588)), I588 - N588, \"\")","v":""},""]
[null,null,null,null,null,null,null,null,null,null,null,null,"",null,"",""]
[null,null,null,null,null,null,null,null,null,null,null,null,"",null,"",""]
[null,null,null,null,null,null,null,null,null,null,null,null,"",null,"",""]
[null,null,null,null,null,null,null,null,null,null,null,null,"",null,"",""]
[null,null,null,null,null,null,null,null,null,null,null,null,"",null,"",""]
[null,null,null,null,null,null,null,null,null,null,null,null,"",null,"",""]
[null,null,null,null,null,null,null,null,null,null,null,null,"",null,"",""]
[null,null,null,null,null,null,null,null,null,null,null,null,"",null,"",""]
[null,null,null,null,null,null,null,null,null,null,null,null,"",null,"",""]
[null,null,null,null,null,null,null,null,null,null,null,null,"",null,"",""]
[null,null,null,null,null,null,null,null,null,null,null,null,"",null,"",""]
[null,null,null,null,null,null,null,null,null,null,null,null,"",null,"",""]
[null,null,null,null,null,null,null,null,null,null,null,null,"",null,"",""]
[null,null,null,null,null,null,null,null,null,null,null,null,"",null,"",""]
[null,null,null,null,null,null,null,null,null,null,null,null,"",null,"",""]
[null,null,null,null,null,null,null,null,null,null,null,null,"",null,"",""]
[null,null,null,null,null,null,null,null,null,null,null,null,"",null,"",""]
[null,null,null,null,null,null,null,null,null,null,null,null,"",null,"",""]
[null,null,null,null,null,null,null,null,null,null,null,null,"",null,"",""]
[null,null,null,null,null,null,null,null,null,null,null,null,"",null,"",""]
[null,null,null,null,null,null,null,null,null,null,null,null,"",null,"",""]
[null,null,null,null,null,null,null,null,null,null,null,null,"",null,"",""]
[null,null,null,null,null,null,null,null,null,null,null,null,"",null,"",""]
[null,null,null,null,null,null,null,null,null,null,null,null,"",null,"",""]
[null,null,null,null,null,null,null,null,null,null,null,null,"",null,"",""]
[null,null,null,null,null,null,null,null,null,null,null,null,"",null,"",""]
[null,null,null,null,null,null,null,null,null,null,null,null,"",null,"",""]
[null,null,null,null,null,null,null,null,null,null,null,null,"",null,"",""]
[null,null,null,null,null,null,null,null,null,null,null,null,"",null,"",""]
[null,null,null,null,null,null,null,null,null,null,null,null,"",null,"",""]
[null,null,null,null,null,null,null,null,null,null,null,null,"",null,"",""]
[null,null,null,null,null,null,null,null,null,null,null,null,"",null,"",""]
[null,null,null,null,null,null,null,null,null,null,null,null,"",null,"",""]
[null,null,null,null,null,null,null,null,null,null,null,null,"",null,"",""]
[null,null,null,null,null,null,null,null,null,null,null,null,"",null,"",""]
[null,null,null,null,null,null,null,null,null,null,null,null,"",null,"",""]
[null,null,null,null,null,null,null,null,null,null,null,null,"",null,"",""]
[null,null,null,null,null,null,null,null,null,null,null,null,"",null,"",""]
[null,null,null,null,null,null,null,null,null,null,null,null,"",null,"",""]
[null,null,null,null,null,null,null,null,null,null,null,null,"",null,"",""]
[null,null,null,null,null,null,null,null,null,null,null,null,"",null,"",""]
[null,null,null,null,null,null,null,null,null,null,null,null,"",null,"",""]
[null,null,null,null,null,null,null,null,null,null,null,null,"",null,"",""]
[null,null,null,null,null,null,null,null,null,null,null,null,"",null,"",""]
[null,null,null,null,null,null,null,null,null,null,null,null,"",null,"",""]
[null,null,null,null,null,null,null,null,null,null,null,null,"",null,"",""]
[null,null,null,null,null,null,null,null,null,null,null,null,"",null,"",""]
[null,null,null,null,null,null,null,null,null,null,null,null,"",null,"",""]
[null,null,null,null,null,null,null,null,null,null,null,null,"",null,"",""]
[null,null,null,null,null,null,null,null,null,null,null,null,"",null,"",""]
[null,null,null,null,null,null,null,null,null,null,null,null,"",null,"",""]
[null,null,null,null,null,null,null,null,null,null,null,null,"",null,"",""]
[null,null,null,null,null,null,null,null,null,null,null,null,"",null,"",""]
[null,null,null,null,null,null,null,null,null,null,null,null,"",null,"",""]
[null,null,null,null,null,null,null,null,null,null,null,null,"",null,"",""]
[null,null,null,null,null,null,null,null,null,null,null,null,"",null,"",""]
[null,null,null,null,null,null,null,null,null,null,null,null,"",null,"",""]
[null,null,null,null,null,null,null,null,null,null,null,null,"",null,"",""]
[null,null,null,null,null,null,null,null,null,null,null,null,"",null,"",""]
[null,null,null,null,null,null,null,null,null,null,null,null,"",null,"",""]
[null,null,null,null,null,null,null,null,null,null,null,null,"",null,"",""]
[null,null,null,null,null,null,null,null,null,null,null,null,"",null,"",""]
[null,null,null,null,null,null,null,null,null,null,null,null,"",null,"",{"$f":"IF(AND(ISNUMBER(O651), O651<>0), O651, IF(AND(ISNUMBER(M651), M651<>0), M651, IF(AND(ISNUMBER(I651), I651<>0), I651, \"\")))","v":""}]
[null,null,null,null,null,null,null,null,null,null,null,null,{"$f":"IF(ISBLANK(A652), \"\", IF(ISNUMBER(L652), I652 * L652, \"\"))","v":""},null,{"$f":"IF(AND(ISNUMBER(I652), ISNUMBER(N652)), I652 - N652, \"\")","v":""},""]
[null,null,null,null,null,null,null,null,null,null,null,null,"",null,"",""]
[null,null,null,null,null,null,null,null,null,null,null,null,"",null,"",""]
[null,null,null,null,null,null,null,null,null,null,null,null,"",null,"",""]
[null,null,null,null,null,null,null,null,null,null,null,null,"",null,"",""]
[null,null,null,null,null,null,null,null,null,null,null,null,"",null,"",""]
[null,null,null,null,null,null,null,null,null,null,null,null,"",null,"",""]
[null,null,null,null,null,null,null,null,null,null,null,null,"",null,"",""]
[null,null,null,null,null,null,null,null,null,null,null,null,"",null,"",""]
[null,null,null,null,null,null,null,null,null,null,null,null,"",null,"",""]
[null,null,null,null,null,null,null,null,null,null,null,null,"",null,"",""]
[null,null,null,null,null,null,null,null,null,null,null,null,"",null,"",""]
[null,null,null,null,null,null,null,null,null,null,null,null,"",null,"",""]
[null,null,null,null,null,null,null,null,null,null,null,null,"",null,"",""]
[null,null,null,null,null,null,null,null,null,null,null,null,"",null,"",""]
[null,null,null,null,null,null,null,null,null,null,null,null,"",null,"",""]
[null,null,null,null,null,null,null,null,null,null,null,null,"",null,"",""]
[null,null,null,null,null,null,null,null,null,null,null,null,"",null,"",""]
[null,null,null,null,null,null,null,null,null,null,null,null,"",null,"",""]
[null,null,null,null,null,null,null,null,null,null,null,null,"",null,"",""]
[null,null,null,null,null,null,null,null,null,null,null,null,"",null,"",""]
[null,null,null,null,null,null,null,null,null,null,null,null,"",null,"",""]
[null,null,null,null,null,null,null,null,null,null,null,null,"",null,"",""]
[null,null,null,null,null,null,null,null,null,null,null,null,"",null,"",""]
[null,null,null,null,null,null,null,null,null,null,null,null,"",null,"",""]
[null,null,null,null,null,null,null,null,null,null,null,null,"",null,"",""]
[null,null,null,null,null,null,null,null,null,null,null,null,"",null,"",""]
[null,null,null,null,null,null,null,null,null,null,null,null,"",null,"",""]
[null,null,null,null,null,null,null,null,null,null,null,null,"",null,"",""]
[null,null,null,null,null,null,null,null,null,null,null,null,"",null,"",""]
[null,null,null,null,null,null,null,null,null,null,null,null,"",null,"",""]
[null,null,null,null,null,null,null,null,null,null,null,null,"",null,"",""]
[null,null,null,null,null,null,null,null,null,null,null,null,"",null,"",""]
[null,null,null,null,null,null,null,null,null,null,null,null,"",null,"",""]
[null,null,null,null,null,null,null,null,null,null,null,null,"",null,"",""]
[null,null,null,null,null,null,null,null,null,null,null,null,"",null,"",""]
[null,null,null,null,null,null,null,null,null,null,null,null,"",null,"",""]
[null,null,null,null,null,null,null,null,null,null,null,null,"",null,"",""]
[null,null,null,null,null,null,null,null,null,null,null,null,"",null,"",""]
[null,null,null,null,null,null,null,null,null,null,null,null,"",null,"",""]
[null,null,null,null,null,null,null,null,null,null,null,null,"",null,"",""]
[null,null,null,null,null,null,null,null,null,null,null,null,"",null,"",""]
[null,null,null,null,null,null,null,null,null,null,null,null,"",null,"",""]
[null,null,null,null,null,null,null,null,null,null,null,null,"",null,"",""]
[null,null,null,null,null,null,null,null,null,null,null,null,"",null,"",""]
[null,null,null,null,null,null,null,null,null,null,null,null,"",null,"",""]
[null,null,null,null,null,null,null,null,null,null,null,null,"",null,"",""]
[null,null,null,null,null,null,null,null,null,null,null,null,"",null,"",""]
[null,null,null,null,null,null,null,null,null,null,null,null,"",null,"",""]
[null,null,null,null,null,null,null,null,null,null,null,null,"",null,"",""]
[null,null,null,null,null,null,null,null,null,null,null,null,"",null,"",""]
[null,null,null,null,null,null,null,null,null,null,null,null,"",null,"",""]
[null,null,null,null,null,null,null,null,null,null,null,null,"",null,"",""]
[null,null,null,null,null,null,null,null,null,null,null,null,"",null,"",""]
[null,null,null,null,null,null,null,null,null,null,null,null,"",null,"",""]
[null,null,null,null,null,null,null,null,null,null,null,null,"",null,"",""]
[null,null,null,null,null,null,null,null,null,null,null,null,"",null,"",""]
[null,null,null,null,null,null,null,null,null,null,null,null,"",null,"",""]
[null,null,null,null,null,null,null,null,null,null,null,null,"",null,"",""]
[null,null,null,null,null,null,null,null,null,null,null,null,"",null,"",""]
[null,null,null,null,null,null,null,null,null,null,null,null,"",null,"",""]
[null,null,null,null,null,null,null,null,null,null,null,null,"",null,"",""]
[null,null,null,null,null,null,null,null,null,null,null,null,"",null,"",""]
[null,null,null,null,null,null,null,null,null,null,null,null,"",null,"",{"$f":"IF(AND(ISNUMBER(O715), O715<>0), O715, IF(AND(ISNUMBER(M715), M715<>0), M715, IF(AND(ISNUMBER(I715), I715<>0), I715, \"\")))","v":""}]
[null,null,null,null,null,null,null,null,null,null,null,null,{"$f":"IF(ISBLANK(A716), \"\", IF(ISNUMBER(L716), I716 * L716, \"\"))","v":""},null,{"$f":"IF(AND(ISNUMBER(I716), ISNUMBER(N716)), I716 - N716, \"\")","v":""},""]
[null,null,null,null,null,null,null,null,null,null,null,null,"",null,"",""]
[null,null,null,null,null,null,null,null,null,null,null,null,"",null,"",""]
[null,null,null,null,null,null,null,null,null,null,null,null,"",null,"",""]
[null,null,null,null,null,null,null,null,null,null,null,null,"",null,"",""]
[null,null,null,null,null,null,null,null,null,null,null,null,"",null,"",""]
[null,null,null,null,null,null,null,null,null,null,null,null,"",null,"",""]
[null,null,null,null,null,null,null,null,null,null,null,null,"",null,"",""]
[null,null,null,null,null,null,null,null,null,null,null,null,"",null,"",""]
[null,null,null,null,null,null,null,null,null,null,null,null,"",null,"",""]
[null,null,null,null,null,null,null,null,null,null,null,null,"",null,"",""]
[null,null,null,null,null,null,null,null,null,null,null,null,"",null,"",""]
[null,null,null,null,null,null,null,null,null,null,null,null,"",null,"",""]
[null,null,null,null,null,null,null,null,null,null,null,null,"",null,"",""]
[null,null,null,null,null,null,null,null,null,null,null,null,"",null,"",""]
[null,null,null,null,null,null,null,null,null,null,null,null,"",null,"",""]
[null,null,null,null,null,null,null,null,null,null,null,null,"",null,"",""]
[null,null,null,null,null,null,null,null,null,null,null,null,"",null,"",""]
[null,null,null,null,null,null,null,null,null,null,null,null,"",null,"",""]
[null,null,null,null,null,null,null,null,null,null,null,null,"",null,"",""]
[null,null,null,null,null,null,null,null,null,null,null,null,"",null,"",""]
[null,null,null,null,null,null,null,null,null,null,null,null,"",null,"",""]
[null,null,null,null,null,null,null,null,null,null,null,null,"",null,"",""]
[null,null,null,null,null,null,null,null,null,null,null,null,"",null,"",""]
[null,null,null,null,null,null,null,null,null,null,null,null,"",null,"",""]
[null,null,null,null,null,null,null,null,null,null,null,null,"",null,"",""]
[null,null,null,null,null,null,null,null,null,null,null,null,"",null,"",""]
[null,null,null,null,null,null,null,null,null,null,null,null,"",null,"",""]
[null,null,null,null,null,null,null,null,null,null,null,null,"",null,"",""]
[null,null,null,null,null,null,null,null,null,null,null,null,"",null,"",""]
[null,null,null,null,null,null,null,null,null,null,null,null,"",null,"",""]
[null,null,null,null,null,null,null,null,null,null,null,null,"",null,"",""]
[null,null,null,null,null,null,null,null,null,null,null,null,"",null,"",""]
[null,null,null,null,null,null,null,null,null,null,null,null,"",null,"",""]
[null,null,null,null,null,null,null,null,null,null,null,null,"",null,"",""]
[null,null,null,null,null,null,null,null,null,null,null,null,"",null,"",""]
[null,null,null,null,null,null,null,null,null,null,null,null,"",null,"",""]
[null,null,null,null,null,null,null,null,null,null,null,null,"",null,"",""]
[null,null,null,null,null,null,null,null,null,null,null,null,"",null,"",""]
[null,null,null,null,null,null,null,null,null,null,null,null,"",null,"",""]
[null,null,null,null,null,null,null,null,null,null,null,null,"",null,"",""]
[null,null,null,null,null,null,null,null,null,null,null,null,"",null,"",""]
[null,null,null,null,null,null,null,null,null,null,null,null,"",null,"",""]
[null,null,null,null,null,null,null,null,null,null,null,null,"",null,"",""]
[null,null,null,null,null,null,null,null,null,null,null,null,"",null,"",""]
[null,null,null,null,null,null,null,null,null,null,null,null,"",null,"",""]
[null,null,null,null,null,null,null,null,null,null,null,null,"",null,"",""]
[null,null,null,null,null,null,null,null,null,null,null,null,"",null,"",""]
[null,null,null,null,null,null,null,null,null,null,null,null,"",null,"",""]
[null,null,null,null,null,null,null,null,null,null,null,null,"",null,"",""]
[null,null,null,null,null,null,null,null,null,null,null,null,"",null,"",""]
[null,null,null,null,null,null,null,null,null,null,null,null,"",null,"",""]
[null,null,null,null,null,null,null,null,null,null,null,null,"",null,"",""]
[null,null,null,null,null,null,null,null,null,null,null,null,"",null,"",""]
[null,null,null,null,null,null,null,null,null,null,null,null,"",null,"",""]
[null,null,null,null,null,null,null,null,null,null,null,null,"",null,"",""]
[null,null,null,null,null,null,null,null,null,null,null,null,"",null,"",""]
[null,null,null,null,null,null,null,null,null,null,null,null,"",null,"",""]
[null,null,null,null,null,null,null,null,null,null,null,null,"",null,"",""]
[null,null,null,null,null,null,null,null,null,null,null,null,"",null,"",""]
[null,null,null,null,null,null,null,null,null,null,null,null,"",null,"",""]
[null,null,null,null,null,null,null,null,null,null,null,null,"",null,"",""]
[null,null,null,null,null,null,null,null,null,null,null,null,"",null,"",""]
[null,null,null,null,null,null,null,null,null,null,null,null,"",null,"",{"$f":"IF(AND(ISNUMBER(O779), O779<>0), O779, IF(AND(ISNUMBER(M779), M779<>0), M779, IF(AND(ISNUMBER(I779), I779<>0), I779, \"\")))","v":""}]
[null,null,null,null,null,null,null,null,null,null,null,null,{"$f":"IF(ISBLANK(A780), \"\", IF(ISNUMBER(L780), I780 * L780, \"\"))","v":""},null,{"$f":"IF(AND(ISNUMBER(I780), ISNUMBER(N780)), I780 - N780, \"\")","v":""},""]
[null,null,null,null,null,null,null,null,null,null,null,null,"",null,"",""]
[null,null,null,null,null,null,null,null,null,null,null,null,"",null,"",""]
[null,null,null,null,null,null,null,null,null,null,null,null,"",null,"",""]
[null,null,null,null,null,null,null,null,null,null,null,null,"",null,"",""]
[null,null,null,null,null,null,null,null,null,null,null,null,"",null,"",""]
[null,null,null,null,null,null,null,null,null,null,null,null,"",null,"",""]
[null,null,null,null,null,null,null,null,null,null,null,null,"",null,"",""]
[null,null,null,null,null,null,null,null,null,null,null,null,"",null,"",""]
[null,null,null,null,null,null,null,null,null,null,null,null,"",null,"",""]
[null,null,null,null,null,null,null,null,null,null,null,null,"",null,"",""]
[null,null,null,null,null,null,null,null,null,null,null,null,"",null,"",""]
[null,null,null,null,null,null,null,null,null,null,null,null,"",null,"",""]
[null,null,null,null,null,null,null,null,null,null,null,null,"",null,"",""]
[null,null,null,null,null,null,null,null,null,null,null,null,"",null,"",""]
[null,null,null,null,null,null,null,null,null,null,null,null,"",null,"",""]
[null,null,null,null,null,null,null,null,null,null,null,null,"",null,"",""]
[null,null,null,null,null,null,null,null,null,null,null,null,"",null,"",""]
[null,null,null,null,null,null,null,null,null,null,null,null,"",null,"",""]
[null,null,null,null,null,null,null,null,null,null,null,null,"",null,"",""]
[null,null,null,null,null,null,null,null,null,null,null,null,"",null,"",""]
[null,null,null,null,null,null,null,null,null,null,null,null,"",null,"",""]
[null,null,null,null,null,null,null,null,null,null,null,null,"",null,"",""]
[null,null,null,null,null,null,null,null,null,null,null,null,"",null,"",""]
[null,null,null,null,null,null,null,null,null,null,null,null,"",null,"",""]
[null,null,null,null,null,null,null,null,null,null,null,null,"",null,"",""]
[null,null,null,null,null,null,null,null,null,null,null,null,"",null,"",""]
[null,null,null,null,null,null,null,null,null,null,null,null,"",null,"",""]
[null,null,null,null,null,null,null,null,null,null,null,null,"",null,"",""]
[null,null,null,null,null,null,null,null,null,null,null,null,"",null,"",""]
[null,null,null,null,null,null,null,null,null,null,null,null,"",null,"",""]
[null,null,null,null,null,null,null,null,null,null,null,null,"",null,"",""]
[null,null,null,null,null,null,null,null,null,null,null,null,"",null,"",""]
[null,null,null,null,null,null,null,null,null,null,null,null,"",null,"",""]
[null,null,null,null,null,null,null,null,null,null,null,null,"",null,"",""]
[null,null,null,null,null,null,null,null,null,null,null,null,"",null,"",""]
[null,null,null,null,null,null,null,null,null,null,null,null,"",null,"",""]
[null,null,null,null,null,null,null,null,null,null,null,null,"",null,"",""]
[null,null,null,null,null,null,null,null,null,null,null,null,"",null,"",""]
[null,null,null,null,null,null,null,null,null,null,null,null,"",null,"",""]
[null,null,null,null,null,null,null,null,null,null,null,null,"",null,"",""]
[null,null,null,null,null,null,null,null,null,null,null,null,"",null,"",""]
[null,null,null,null,null,null,null,null,null,null,null,null,"",null,"",""]
[null,null,null,null,null,null,null,null,null,null,null,null,"",null,"",""]
[null,null,null,null,null,null,null,null,null,null,null,null,"",null,"",""]
[null,null,null,null,null,null,null,null,null,null,null,null,"",null,"",""]
[null,null,null,null,null,null,null,null,null,null,null,null,"",null,"",""]
[null,null,null,null,null,null,null,null,null,null,null,null,"",null,"",""]
[null,null,null,null,null,null,null,null,null,null,null,null,"",null,"",""]
[null,null,null,null,null,null,null,null,null,null,null,null,"",null,"",""]
[null,null,null,null,null,null,null,null,null,null,null,null,"",null,"",""]
[null,null,null,null,null,null,null,null,null,null,null,null,"",null,"",""]
[null,null,null,null,null,null,null,null,null,null,null,null,"",null,"",""]
[null,null,null,null,null,null,null,null,null,null,null,null,"",null,"",""]
[null,null,null,null,null,null,null,null,null,null,null,null,"",null,"",""]
[null,null,null,null,null,null,null,null,null,null,null,null,"",null,"",""]
[null,null,null,null,null,null,null,null,null,null,null,null,"",null,"",""]
[null,null,null,null,null,null,null,null,null,null,null,null,"",null,"",""]
[null,null,null,null,null,null,null,null,null,null,null,null,"",null,"",""]
[null,null,null,null,null,null,null,null,null,null,null,null,"",null,"",""]
[null,null,null,null,null,null,null,null,null,null,null,null,"",null,"",""]
[null,null,null,null,null,null,null,null,null,null,null,null,"",null,"",""]
[null,null,null,null,null,null,null,null,null,null,null,null,"",null,"",""]
[null,null,null,null,null,null,null,null,null,null,null,null,"",null,"",{"$f":"IF(AND(ISNUMBER(O843), O843<>0), O843, IF(AND(ISNUMBER(M843), M843<>0), M843, IF(AND(ISNUMBER(I843), I843<>0), I843, \"\")))","v":""}]
[null,null,null,null,null,null,null,null,null,null,null,null,{"$f":"IF(ISBLANK(A844), \"\", IF(ISNUMBER(L844), I844 * L844, \"\"))","v":""},null,{"$f":"IF(AND(ISNUMBER(I844), ISNUMBER(N844)), I844 - N844, \"\")","v":""},""]
[null,null,null,null,null,null,null,null,null,null,null,null,"",null,"",""]
[null,null,null,null,null,null,null,null,null,null,null,null,"",null,"",""]
[null,null,null,null,null,null,null,null,null,null,null,null,"",null,"",""]
[null,null,null,null,null,null,null,null,null,null,null,null,"",null,"",""]
[null,null,null,null,null,null,null,null,null,null,null,null,"",null,"",""]
[null,null,null,null,null,null,null,null,null,null,null,null,"",null,"",""]
[null,null,null,null,null,null,null,null,null,null,null,null,"",null,"",""]
[null,null,null,null,null,null,null,null,null,null,null,null,"",null,"",""]
[null,null,null,null,null,null,null,null,null,null,null,null,"",null,"",""]
[null,null,null,null,null,null,null,null,null,null,null,null,"",null,"",""]
[null,null,null,null,null,null,null,null,null,null,null,null,"",null,"",""]
[null,null,null,null,null,null,null,null,null,null,null,null,"",null,"",""]
[null,null,null,null,null,null,null,null,null,null,null,null,"",null,"",""]
[null,null,null,null,null,null,null,null,null,null,null,null,"",null,"",""]
[null,null,null,null,null,null,null,null,null,null,null,null,"",null,"",""]
[null,null,null,null,null,null,null,null,null,null,null,null,"",null,"",""]
[null,null,null,null,null,null,null,null,null,null,null,null,"",null,"",""]
[null,null,null,null,null,null,null,null,null,null,null,null,"",null,"",""]
[null,null,null,null,null,null,null,null,null,null,null,null,"",null,"",""]
[null,null,null,null,null,null,null,null,null,null,null,null,"",null,"",""]
[null,null,null,null,null,null,null,null,null,null,null,null,"",null,"",""]
[null,null,null,null,null,null,null,null,null,null,null,null,"",null,"",""]
[null,null,null,null,null,null,null,null,null,null,null,null,"",null,"",""]
[null,null,null,null,null,null,null,null,null,null,null,null,"",null,"",""]
[null,null,null,null,null,null,null,null,null,null,null,null,"",null,"",""]
[null,null,null,null,null,null,null,null,null,null,null,null,"",null,"",""]
[null,null,null,null,null,null,null,null,null,null,null,null,"",null,"",""]
[null,null,null,null,null,null,null,null,null,null,null,null,"",null,"",""]
[null,null,null,null,null,null,null,null,null,null,null,null,"",null,"",""]
[null,null,null,null,null,null,null,null,null,null,null,null,"",null,"",""]
[null,null,null,null,null,null,null,null,null,null,null,null,"",null,"",""]
[null,null,null,null,null,null,null,null,null,null,null,null,"",null,"",""]
[null,null,null,null,null,null,null,null,null,null,null,null,"",null,"",""]
[null,null,null,null,null,null,null,null,null,null,null,null,"",null,"",""]
[null,null,null,null,null,null,null,null,null,null,null,null,"",null,"",""]
[null,null,null,null,null,null,null,null,null,null,null,null,"",null,"",""]
[null,null,null,null,null,null,null,null,null,null,null,null,"",null,"",""]
[null,null,null,null,null,null,null,null,null,null,null,null,"",null,"",""]
[null,null,null,null,null,null,null,null,null,null,null,null,"",null,"",""]
[null,null,null,null,null,null,null,null,null,null,null,null,"",null,"",""]
[null,null,null,null,null,null,null,null,null,null,null,null,"",null,"",""]
[null,null,null,null,null,null,null,null,null,null,null,null,"",null,"",""]
[null,null,null,null,null,null,null,null,null,null,null,null,"",null,"",""]
[null,null,null,null,null,null,null,null,null,null,null,null,"",null,"",""]
[null,null,null,null,null,null,null,null,null,null,null,null,"",null,"",""]
[null,null,null,null,null,null,null,null,null,null,null,null,"",null,"",""]
[null,null,null,null,null,null,null,null,null,null,null,null,"",null,"",""]
[null,null,null,null,null,null,null,null,null,null,null,null,"",null,"",""]
[null,null,null,null,null,null,null,null,null,null,null,null,"",null,"",""]
[null,null,null,null,null,null,null,null,null,null,null,null,"",null,"",""]
[null,null,null,null,null,null,null,null,null,null,null,null,"",null,"",""]
[null,null,null,null,null,null,null,null,null,null,null,null,"",null,"",""]
[null,null,null,null,null,null,null,null,null,null,null,null,"",null,"",""]
[null,null,null,null,null,null,null,null,null,null,null,null,"",null,"",""]
[null,null,null,null,null,null,null,null,null,null,null,null,"",null,"",""]
[null,null,null,null,null,null,null,null,null,null,null,null,"",null,"",""]
[null,null,null,null,null,null,null,null,null,null,null,null,"",null,"",""]
[null,null,null,null,null,null,null,null,null,null,null,null,"",null,"",""]
[null,null,null,null,null,null,null,null,null,null,null,null,"",null,"",""]
[null,null,null,null,null,null,null,null,null,null,null,null,"",null,"",""]
[null,null,null,null,null,null,null,null,null,null,null,null,"",null,"",""]
[null,null,null,null,null,null,null,null,null,null,null,null,"",null,"",""]
[null,null,null,null,null,null,null,null,null,null,null,null,"",null,"",{"$f":"IF(AND(ISNUMBER(O907), O907<>0), O907, IF(AND(ISNUMBER(M907), M907<>0), M907, IF(AND(ISNUMBER(I907), I907<>0), I907, \"\")))","v":""}]
[null,null,null,null,null,null,null,null,null,null,null,null,{"$f":"IF(ISBLANK(A908), \"\", IF(ISNUMBER(L908), I908 * L908, \"\"))","v":""},null,{"$f":"IF(AND(ISNUMBER(I908), ISNUMBER(N908)), I908 - N908, \"\")","v":""},""]
[null,null,null,null,null,null,null,null,null,null,null,null,"",null,"",""]
[null,null,null,null,null,null,null,null,null,null,null,null,"",null,"",""]
[null,null,null,null,null,null,null,null,null,null,null,null,"",null,"",""]
[null,null,null,null,null,null,null,null,null,null,null,null,"",null,"",""]
[null,null,null,null,null,null,null,null,null,null,null,null,"",null,"",""]
[null,null,null,null,null,null,null,null,null,null,null,null,"",null,"",""]
[null,null,null,null,null,null,null,null,null,null,null,null,"",null,"",""]
[null,null,null,null,null,null,null,null,null,null,null,null,"",null,"",""]
[null,null,null,null,null,null,null,null,null,null,null,null,"",null,"",""]
[null,null,null,null,null,null,null,null,null,null,null,null,"",null,"",""]
[null,null,null,null,null,null,null,null,null,null,null,null,"",null,"",""]
[null,null,null,null,null,null,null,null,null,null,null,null,"",null,"",""]
[null,null,null,null,null,null,null,null,null,null,null,null,"",null,"",""]
[null,null,null,null,null,null,null,null,null,null,null,null,"",null,"",""]
[null,null,null,null,null,null,null,null,null,null,null,null,"",null,"",""]
[null,null,null,null,null,null,null,null,null,null,null,null,"",null,"",""]
[null,null,null,null,null,null,null,null,null,null,null,null,"",null,"",""]
[null,null,null,null,null,null,null,null,null,null,null,null,"",null,"",""]
[null,null,null,null,null,null,null,null,null,null,null,null,"",null,"",""]
[null,null,null,null,null,null,null,null,null,null,null,null,"",null,"",""]
[null,null,null,null,null,null,null,null,null,null,null,null,"",null,"",""]
[null,null,null,null,null,null,null,null,null,null,null,null,"",null,"",""]
[null,null,null,null,null,null,null,null,null,null,null,null,"",null,"",""]
[null,null,null,null,null,null,null,null,null,null,null,null,"",null,"",""]
[null,null,null,null,null,null,null,null,null,null,null,null,"",null,"",""]
[null,null,null,null,null,null,null,null,null,null,null,null,"",null,"",""]
[null,null,null,null,null,null,null,null,null,null,null,null,"",null,"",""]
[null,null,null,null,null,null,null,null,null,null,null,null,"",null,"",""]
[null,null,null,null,null,null,null,null,null,null,null,null,"",null,"",""]
[null,null,null,null,null,null,null,null,null,null,null,null,"",null,"",""]
[null,null,null,null,null,null,null,null,null,null,null,null,"",null,"",""]
[null,null,null,null,null,null,null,null,null,null,null,null,"",null,"",""]
[null,null,null,null,null,null,null,null,null,null,null,null,"",null,"",""]
[null,null,null,null,null,null,null,null,null,null,null,null,"",null,"",""]
[null,null,null,null,null,null,null,null,null,null,null,null,"",null,"",""]
[null,null,null,null,null,null,null,null,null,null,null,null,"",null,"",""]
[null,null,null,null,null,null,null,null,null,null,null,null,"",null,"",""]
[null,null,null,null,null,null,null,null,null,null,null,null,"",null,"",""]
[null,null,null,null,null,null,null,null,null,null,null,null,"",null,"",""]
[null,null,null,null,null,null,null,null,null,null,null,null,"",null,"",""]
[null,null,null,null,null,null,null,null,null,null,null,null,"",null,"",""]
[null,null,null,null,null,null,null,null,null,null,null,null,"",null,"",""]
[null,null,null,null,null,null,null,null,null,null,null,null,"",null,"",""]
[null,null,null,null,null,null,null,null,null,null,null,null,"",null,"",""]
[null,null,null,null,null,null,null,null,null,null,null,null,"",null,"",""]
[null,null,null,null,null,null,null,null,null,null,null,null,"",null,"",""]
[null,null,null,null,null,null,null,null,null,null,null,null,"",null,"",""]
[null,null,null,null,null,null,null,null,null,null,null,null,"",null,"",""]
[null,null,null,null,null,null,null,null,null,null,null,null,"",null,"",""]
[null,null,null,null,null,null,null,null,null,null,null,null,"",null,"",""]
[null,null,null,null,null,null,null,null,null,null,null,null,"",null,"",""]
[null,null,null,null,null,null,null,null,null,null,null,null,"",null,"",""]
[null,null,null,null,null,null,null,null,null,null,null,null,"",null,"",""]
[null,null,null,null,null,null,null,null,null,null,null,null,"",null,"",""]
[null,null,null,null,null,null,null,null,null,null,null,null,"",null,"",""]
[null,null,null,null,null,null,null,null,null,null,null,null,"",null,"",""]
[null,null,null,null,null,null,null,null,null,null,null,null,"",null,"",""]
[null,null,null,null,null,null,null,null,null,null,null,null,"",null,"",""]
[null,null,null,null,null,null,null,null,null,null,null,null,"",null,"",""]
[null,null,null,null,null,null,null,null,null,null,null,null,"",null,"",""]
[null,null,null,null,null,null,null,null,null,null,null,null,"",null,"",""]
[null,null,null,null,null,null,null,null,null,null,null,null,"",null,"",""]
[null,null,null,null,null,null,null,null,null,null,null,null,"",null,"",{"$f":"IF(AND(ISNUMBER(O971), O971<>0), O971, IF(AND(ISNUMBER(M971), M971<>0), M971, IF(AND(ISNUMBER(I971), I971<>0), I971, \"\")))","v":""}]
[null,null,null,null,null,null,null,null,null,null,null,null,{"$f":"IF(ISBLANK(A972), \"\", IF(ISNUMBER(L972), I972 * L972, \"\"))","v":""},null,{"$f":"IF(AND(ISNUMBER(I972), ISNUMBER(N972)), I972 - N972, \"\")","v":""},""]
[null,null,null,null,null,null,null,null,null,null,null,null,"",null,"",""]
[null,null,null,null,null,null,null,null,null,null,null,null,"",null,"",""]
[null,null,null,null,null,null,null,null,null,null,null,null,"",null,"",""]
[null,null,null,null,null,null,null,null,null,null,null,null,"",null,"",""]
[null,null,null,null,null,null,null,null,null,null,null,null,"",null,"",""]
[null,null,null,null,null,null,null,null,null,null,null,null,"",null,"",""]
[null,null,null,null,null,null,null,null,null,null,null,null,"",null,"",""]
[null,null,null,null,null,null,null,null,null,null,null,null,"",null,"",""]
[null,null,null,null,null,null,null,null,null,null,null,null,"",null,"",""]
[null,null,null,null,null,null,null,null,null,null,null,null,"",null,"",""]
[null,null,null,null,null,null,null,null,null,null,null,null,"",null,"",""]
[null,null,null,null,null,null,null,null,null,null,null,null,"",null,"",""]
[null,null,null,null,null,null,null,null,null,null,null,null,"",null,"",""]
[null,null,null,null,null,null,null,null,null,null,null,null,"",null,"",""]
[null,null,null,null,null,null,null,null,null,null,null,null,"",null,"",""]
[null,null,null,null,null,null,null,null,null,null,null,null,"",null,"",""]
[null,null,null,null,null,null,null,null,null,null,null,null,"",null,"",""]
[null,null,null,null,null,null,null,null,null,null,null,null,"",null,"",""]
[null,null,null,null,null,null,null,null,null,null,null,null,"",null,"",""]
[null,null,null,null,null,null,null,null,null,null,null,null,"",null,"",""]
[null,null,null,null,null,null,null,null,null,null,null,null,"",null,"",""]
[null,null,null,null,null,null,null,null,null,null,null,null,"",null,"",""]
[null,null,null,null,null,null,null,null,null,null,null,null,"",null,"",""]
[null,null,null,null,null,null,null,null,null,null,null,null,"",null,"",""]
[null,null,null,null,null,null,null,null,null,null,null,null,"",null,"",""]
[null,null,null,null,null,null,null,null,null,null,null,null,"",null,"",""]
[null,null,null,null,null,null,null,null,null,null,null,null,"",null,"",""]
[null,null,null,null,null,null,null,null,null,null,null,null,"",null,"",""]
[null,null,null,null,null,null,null,null,null,null,null,null,"",null,"",""]
[null,null,null,null,null,null,null,null,null,null,null,null,"",null,"",""]
[null,null,null,null,null,null,null,null,null,null,null,null,"",null,"",""]
[null,null,null,null,null,null,null,null,null,null,null,null,"",null,"",""]
[null,null,null,null,null,null,null,null,null,null,null,null,"",null,"",""]
[null,null,null,null,null,null,null,null,null,null,null,null,"",null,"",""]
[null,null,null,null,null,null,null,null,null,null,null,null,"",null,"",""]
[null,null,null,null,null,null,null,null,null,null,null,null,"",null,"",""]
[null,null,null,null,null,null,null,null,null,null,null,null,"",null,"",""]
[null,null,null,null,null,null,null,null,null,null,null,null,"",null,"",""]

{"sheet":"Planilha1","index":2,"n_rows":0,"n_cols":0,"rows_kept":0,"cut":false,"hidden":false,"merged":[]}

{"sheet":"Apoio","index":3,"n_rows":140,"n_cols":13,"rows_kept":140,"cut":false,"hidden":false,"merged":[]}
[null,"Rubricas:",null,"Notas  da Contrapartida",1,null,"Tïpo de nota:",null,"NF","Percentual a Comprovar",null,null,"VALOR TOTAL DA NOTA"]
[null,"Renegociacao",null,"Notas da 1ª Comprovação",2,"Sim","DACTE",null,"Porcentagem de aceitação",0.75]
[null,"Investimentos fixos",null,"Notas da 2ª Comprovação",3,"Não","Folha de Pagamento"]
[null,"Capital de Giro",null,"Notas da 3ª Comprovação",4,null,"Guia de Recolhimento",null,null,"Scroll Area"]
[null,"Aperfeicoamento de mao-de-obra",null,"Notas da 4ª Comprovação",5,null,"Nota Fiscal  ",null,null,1000000]
[null,"Obras civis",null,"Notas da 5ª Comprovação",6,null,"Nota Fiscal de Serviço"]
[null,"Instalacoes Complementares",null,"Notas da 6ª Comprovação",7,null,"RPA"]
[null,"Moveis, utensilios e aparelhos",null,"Notas da 7ª Comprovação"]
[null,"Veiculo",null,"Notas da 8ª Comprovação"]
[null,"Rouparia",null,"Notas da 9ª Comprovação"]
[null,"Eventuais/Reserva tecnica",null,"Notas da 10ª Comprovação"]
[null,"Maquinas e Equipamentos Importados"]
[null,"Elaboracao de Estudos/Projetos"]
[null,"Despesas de analise"]
[null,"Juros durante a implantacao"]
[null,"Pesquisa/Consultoria/Marketing"]
[null,"Exame de Escrita"]
[null,"Despesas Pre-Operacionais"]
[null,"Taxa de Administracao FUNRES"]
[null,"Despesas de Organizacao e Administracao"]
[null,"Custeio Agricola"]
[null,"Saneamento Financeiro"]
[null,"Taxa analise e controle invest. FUNDAP"]
[null,"Terreno"]
[null,"Custeio Pesqueiro"]
[null,"Assistencia tecnica e gerenciamento"]
[null,"Embarcacoes"]
[null,"Obras para irrigacao e acudagem"]
[null,"Despesas Complementares",null,44114]
[null,"Refinanciamento"]
[null,"Cultura"]
[null,"Insumos agricolas"]
[null,"Telefonia Rural"]
[null,"Pre-investimento"]
[null,"Equipamentos de Informatica"]
[null,"Equipamentos hoteleiros"]
[null,"Tecnologia"]
[null,"Obras de protecao e recuperacao do solo"]
[null,"MATERIAL DE CONSUMO"]
[null,"Protecao do meio-ambiente"]
[null,"Infra-estrutura economica e social"]
[null,"Desp. c/ Intern. de maq./equip. import."]
[null,"TRATOS CULTURAIS"]
[null,"Implantacao de viveiros"]
[null,"Rebanho suino"]
[null,"Pecuaria de leite"]
[null,"Software"]
[null,"Instalacoes"]
[null,"Vistoria Previa"]
[null,"Custeio Pecuario"]
[null,"Pecuaria de corte"]
[null,"Plantel de frangos"]
[null,"Terraplenagem e sistematização"]
[null,"Edificações novas (a serem realizadas)"]
[null,"Edificações pré-existentes (usadas)"]
[null,"Meios de Transporte"]
[null,"Novos, de procedência nacional"]
[null,"Novos, de procedência estrangeira"]
[null,"Desp. Financeiras Relac. c/ o Empreend., Fase Implantação"]
[null,"Substituição de Fontes"]
[null,"Capital de Giro Exclusivo"]
[null,"Máquinas e Equipamentos"]
[null,"Máquinas e Equip. Nacionais"]
[null,"Máquinas e Equip. Nacionais Novos"]
[null,"Máquinas e Equip. Nacionais Usados"]
[null,"Máquinas e Equip. Importados"]
[null,"Outros Investimentos"]
[null,"Máquinas e Equip. Importados Usados"]
[null,"Máquinas e Equip. Importados Novos"]
[null,"Veículos"]
[null,"Veículos Nacionais"]
[null,"Veículos Nacionais Novos"]
[null,"Veículos Nacionais Usados"]
[null,"Veículos Importados"]
[null,"Veículos Importados Novos"]
[null,"Veículos Importados Usados"]
[null,"Tarifa de Análise"]
[null,"Veículos Nacionais."]
[null,"Veículos Importados."]
[null,"Encargos Contratuais"]
[null,"Edificações novas"]
[null,"Implementos e Acessórios para Veículos"]
[null,"Despesas com Software"]
[null,"Aquisição de Tecnologia"]
[null,"Consultoria Técnica-Gerencial"]
[null,"Treinamento de Recursos Humanos"]
[null,"Certificação de Empresas"]
[null,"Investimentos em Franquias"]
[null,"Tarifa de Cadastro"]
[null,"Meios de Transporte novos, de procedência estrangeira"]
[null,"Meios de Transporte novos, de procedência nacional"]
[null,"Marcas e Patentes"]
[null,"Serviços Técnicos Especializados"]
[null,"Geoprocessamento de Dados"]
[null,"Elaboração de Projetos"]
[null,"Vasilhames"]
[null,"Carta de Fiança"]
[null,"Montagem e Instalações de Equipamentos"]
[null,"Tarifa de Análise de Crédito"]
[null,"Despesas de contratação"]
[null,"Despesas com a regularização/formalização da empresa"]
[null,"Marketing e Propaganda "]
[null,"Fretes e Seguros"]
[null,"Consultoria Técnica-Gerencial"]
[null,"Despesa de Licenciamento"]
[null,"Equipe Própria"]
[null,"Viagens e Diárias"]
[null,"Elaboração de Projetos"]
[null,"Pavimentação e Drenagem"]
[null,"Obra de Revitalização de Aglomerados Urbanos"]
[null,"Sotware"]
[null,"Serviços de Consultoria"]
[null,"Serviços de Terceiros"]
[null,"Material de Consumo e Materia-prima"]
[null,"Equipamento de Informática"]
[null,"Móveis, utensílios e aparelhos usados"]
[null,"Montagem e Instalações de Equipamentos"]
[null,"Despesas para produção de Filmes e Videos"]
[null,"Móveis, utensílios e aparelhos Novos"]
[null,"DESPESAS PARA PRODUÇÃO MUSICAL"]
[null,"Gravação de CD/DVD"]
[null,"Reparos em Veículos"]
[null,"Peças para Aluguel"]
[null,"Matrizes"]
[null,"Instalação, Montagem e Trasporte de Equipamentos"]
[null,"ECG - Encargo de Concessão de Garantia do FGI"]
[null,"Despesas Cartorárias"]
[null,"Capital de giro"]
[null,"Softawares - Finep"]
[null,"CPA - Comissão Pecuniária do Fundo de Aval BANDES"]
[null,"Treinamento "]
[null,"Viagens e Diárias Nacionais"]
[null,"Prestação de serviços especializados"]
[null,"Publicidade e propaganda"]
[null,"Máquinas e Equipamentos BNDES FINAME"]
[null,"Estudos e Projetos"]
[null,"Viagens e Diárias Internacionais"]
[null,"Obras Civis/ Instalações"]
[null,"OPEX"]
[null,"Testes e Certificação"]

{"sheet":"Gerar_Upload","index":4,"n_rows":5,"n_cols":7,"rows_kept":5,"cut":false,"hidden":true,"merged":[]}
[]
["RUBRICA","(vazio)"]
[]
["DESCRIÇÃO DOS MATERIAIS OU SERVIÇOS","CNPJ/CPF","FORNECEDOR","NÚMERO","DATA DE EMISSÃO NOTA FISCAL","VALOR TOTAL DA NOTA","CHAVE DA NOTA FISCAL"]
["(vazio)","(vazio)","(vazio)","(vazio)","(vazio)","(vazio)","(vazio)"]

{"sheet":"FormulasAuxiliares","index":5,"n_rows":3000,"n_cols":9,"rows_kept":3000,"cut":false,"hidden":true,"merged":[]}
["Discriminação","CPF/CNPJ do fornecedor","Nome/Razão social do fornecedor","Número do documento","Data do documento","Valor total","Número da nota fiscal eletrônica"]
[{"$f":"IFERROR(LEFT(Gerar_Upload!A5,120),\"erro\")","v":"(vazio)"},{"$f":"IFERROR(SUBSTITUTE(SUBSTITUTE(SUBSTITUTE(Gerar_Upload!B5,\".\",\"\"),\"-\",\"\"),\"/\",\"\"),\"erro\")","v":"(vazio)"},{"$f":"IFERROR(Gerar_Upload!C5,\"erro\")","v":"(vazio)"},{"$f":"IFERROR(Gerar_Upload!D5,\"erro\")","v":"(vazio)"},{"$f":"IFERROR(DATE(YEAR(Gerar_Upload!E5),MONTH(Gerar_Upload!E5),DAY(Gerar_Upload!E5)),\"erro\")","v":"erro"},{"$f":"IFERROR(Gerar_Upload!F5,\"erro\")","v":"(vazio)"},{"$f":"IFERROR(IF(Gerar_Upload!G5<44,REPT(0,44-LEN(Gerar_Upload!G5))&Gerar_Upload!G5,Gerar_Upload!G5),\"erro\")","v":"(vazio)"},null,{"$f":"COUNTIFS(C:C,\"<>\"&0,C:C,\"<>\"&\"\")","v":2}]
[{"$f":"IFERROR(LEFT(Gerar_Upload!A6,120),\"erro\")","v":""},{"$f":"IFERROR(SUBSTITUTE(SUBSTITUTE(SUBSTITUTE(Gerar_Upload!B6,\".\",\"\"),\"-\",\"\"),\"/\",\"\"),\"erro\")","v":""},{"$f":"IFERROR(Gerar_Upload!C6,\"erro\")","v":0},{"$f":"IFERROR(Gerar_Upload!D6,\"erro\")","v":0},{"$f":"IFERROR(DATE(YEAR(Gerar_Upload!E6),MONTH(Gerar_Upload!E6),DAY(Gerar_Upload!E6)),\"erro\")","v":"00:00:00"},{"$f":"IFERROR(Gerar_Upload!F6,\"erro\")","v":0},{"$f":"IFERROR(IF(Gerar_Upload!G6<44,REPT(0,44-LEN(Gerar_Upload!G6))&Gerar_Upload!G6,Gerar_Upload!G6),\"erro\")","v":"00000000000000000000000000000000000000000000"}]
[{"$f":"IFERROR(LEFT(Gerar_Upload!A7,120),\"erro\")","v":""},{"$f":"IFERROR(SUBSTITUTE(SUBSTITUTE(SUBSTITUTE(Gerar_Upload!B7,\".\",\"\"),\"-\",\"\"),\"/\",\"\"),\"erro\")","v":""},{"$f":"IFERROR(Gerar_Upload!C7,\"erro\")","v":0},{"$f":"IFERROR(Gerar_Upload!D7,\"erro\")","v":0},{"$f":"IFERROR(DATE(YEAR(Gerar_Upload!E7),MONTH(Gerar_Upload!E7),DAY(Gerar_Upload!E7)),\"erro\")","v":"00:00:00"},{"$f":"IFERROR(Gerar_Upload!F7,\"erro\")","v":0},{"$f":"IFERROR(IF(Gerar_Upload!G7<44,REPT(0,44-LEN(Gerar_Upload!G7))&Gerar_Upload!G7,Gerar_Upload!G7),\"erro\")","v":"00000000000000000000000000000000000000000000"}]
[{"$f":"IFERROR(LEFT(Gerar_Upload!A8,120),\"erro\")","v":""},{"$f":"IFERROR(SUBSTITUTE(SUBSTITUTE(SUBSTITUTE(Gerar_Upload!B8,\".\",\"\"),\"-\",\"\"),\"/\",\"\"),\"erro\")","v":""},{"$f":"IFERROR(Gerar_Upload!C8,\"erro\")","v":0},{"$f":"IFERROR(Gerar_Upload!D8,\"erro\")","v":0},{"$f":"IFERROR(DATE(YEAR(Gerar_Upload!E8),MONTH(Gerar_Upload!E8),DAY(Gerar_Upload!E8)),\"erro\")","v":"00:00:00"},{"$f":"IFERROR(Gerar_Upload!F8,\"erro\")","v":0},{"$f":"IFERROR(IF(Gerar_Upload!G8<44,REPT(0,44-LEN(Gerar_Upload!G8))&Gerar_Upload!G8,Gerar_Upload!G8),\"erro\")","v":"00000000000000000000000000000000000000000000"}]
[{"$f":"IFERROR(LEFT(Gerar_Upload!A9,120),\"erro\")","v":""},{"$f":"IFERROR(SUBSTITUTE(SUBSTITUTE(SUBSTITUTE(Gerar_Upload!B9,\".\",\"\"),\"-\",\"\"),\"/\",\"\"),\"erro\")","v":""},{"$f":"IFERROR(Gerar_Upload!C9,\"erro\")","v":0},{"$f":"IFERROR(Gerar_Upload!D9,\"erro\")","v":0},{"$f":"IFERROR(DATE(YEAR(Gerar_Upload!E9),MONTH(Gerar_Upload!E9),DAY(Gerar_Upload!E9)),\"erro\")","v":"00:00:00"},{"$f":"IFERROR(Gerar_Upload!F9,\"erro\")","v":0},{"$f":"IFERROR(IF(Gerar_Upload!G9<44,REPT(0,44-LEN(Gerar_Upload!G9))&Gerar_Upload!G9,Gerar_Upload!G9),\"erro\")","v":"00000000000000000000000000000000000000000000"}]
[{"$f":"IFERROR(LEFT(Gerar_Upload!A10,120),\"erro\")","v":""},{"$f":"IFERROR(SUBSTITUTE(SUBSTITUTE(SUBSTITUTE(Gerar_Upload!B10,\".\",\"\"),\"-\",\"\"),\"/\",\"\"),\"erro\")","v":""},{"$f":"IFERROR(Gerar_Upload!C10,\"erro\")","v":0},{"$f":"IFERROR(Gerar_Upload!D10,\"erro\")","v":0},{"$f":"IFERROR(DATE(YEAR(Gerar_Upload!E10),MONTH(Gerar_Upload!E10),DAY(Gerar_Upload!E10)),\"erro\")","v":"00:00:00"},{"$f":"IFERROR(Gerar_Upload!F10,\"erro\")","v":0},{"$f":"IFERROR(IF(Gerar_Upload!G10<44,REPT(0,44-LEN(Gerar_Upload!G10))&Gerar_Upload!G10,Gerar_Upload!G10),\"erro\")","v":"00000000000000000000000000000000000000000000"}]
[{"$f":"IFERROR(LEFT(Gerar_Upload!A11,120),\"erro\")","v":""},{"$f":"IFERROR(SUBSTITUTE(SUBSTITUTE(SUBSTITUTE(Gerar_Upload!B11,\".\",\"\"),\"-\",\"\"),\"/\",\"\"),\"erro\")","v":""},{"$f":"IFERROR(Gerar_Upload!C11,\"erro\")","v":0},{"$f":"IFERROR(Gerar_Upload!D11,\"erro\")","v":0},{"$f":"IFERROR(DATE(YEAR(Gerar_Upload!E11),MONTH(Gerar_Upload!E11),DAY(Gerar_Upload!E11)),\"erro\")","v":"00:00:00"},{"$f":"IFERROR(Gerar_Upload!F11,\"erro\")","v":0},{"$f":"IFERROR(IF(Gerar_Upload!G11<44,REPT(0,44-LEN(Gerar_Upload!G11))&Gerar_Upload!G11,Gerar_Upload!G11),\"erro\")","v":"00000000000000000000000000000000000000000000"}]
[{"$f":"IFERROR(LEFT(Gerar_Upload!A12,120),\"erro\")","v":""},{"$f":"IFERROR(SUBSTITUTE(SUBSTITUTE(SUBSTITUTE(Gerar_Upload!B12,\".\",\"\"),\"-\",\"\"),\"/\",\"\"),\"erro\")","v":""},{"$f":"IFERROR(Gerar_Upload!C12,\"erro\")","v":0},{"$f":"IFERROR(Gerar_Upload!D12,\"erro\")","v":0},{"$f":"IFERROR(DATE(YEAR(Gerar_Upload!E12),MONTH(Gerar_Upload!E12),DAY(Gerar_Upload!E12)),\"erro\")","v":"00:00:00"},{"$f":"IFERROR(Gerar_Upload!F12,\"erro\")","v":0},{"$f":"IFERROR(IF(Gerar_Upload!G12<44,REPT(0,44-LEN(Gerar_Upload!G12))&Gerar_Upload!G12,Gerar_Upload!G12),\"erro\")","v":"00000000000000000000000000000000000000000000"}]
[{"$f":"IFERROR(LEFT(Gerar_Upload!A13,120),\"erro\")","v":""},{"$f":"IFERROR(SUBSTITUTE(SUBSTITUTE(SUBSTITUTE(Gerar_Upload!B13,\".\",\"\"),\"-\",\"\"),\"/\",\"\"),\"erro\")","v":""},{"$f":"IFERROR(Gerar_Upload!C13,\"erro\")","v":0},{"$f":"IFERROR(Gerar_Upload!D13,\"erro\")","v":0},{"$f":"IFERROR(DATE(YEAR(Gerar_Upload!E13),MONTH(Gerar_Upload!E13),DAY(Gerar_Upload!E13)),\"erro\")","v":"00:00:00"},{"$f":"IFERROR(Gerar_Upload!F13,\"erro\")","v":0},{"$f":"IFERROR(IF(Gerar_Upload!G13<44,REPT(0,44-LEN(Gerar_Upload!G13))&Gerar_Upload!G13,Gerar_Upload!G13),\"erro\")","v":"00000000000000000000000000000000000000000000"}]
[{"$f":"IFERROR(LEFT(Gerar_Upload!A14,120),\"erro\")","v":""},{"$f":"IFERROR(SUBSTITUTE(SUBSTITUTE(SUBSTITUTE(Gerar_Upload!B14,\".\",\"\"),\"-\",\"\"),\"/\",\"\"),\"erro\")","v":""},{"$f":"IFERROR(Gerar_Upload!C14,\"erro\")","v":0},{"$f":"IFERROR(Gerar_Upload!D14,\"erro\")","v":0},{"$f":"IFERROR(DATE(YEAR(Gerar_Upload!E14),MONTH(Gerar_Upload!E14),DAY(Gerar_Upload!E14)),\"erro\")","v":"00:00:00"},{"$f":"IFERROR(Gerar_Upload!F14,\"erro\")","v":0},{"$f":"IFERROR(IF(Gerar_Upload!G14<44,REPT(0,44-LEN(Gerar_Upload!G14))&Gerar_Upload!G14,Gerar_Upload!G14),\"erro\")","v":"00000000000000000000000000000000000000000000"}]
[{"$f":"IFERROR(LEFT(Gerar_Upload!A15,120),\"erro\")","v":""},{"$f":"IFERROR(SUBSTITUTE(SUBSTITUTE(SUBSTITUTE(Gerar_Upload!B15,\".\",\"\"),\"-\",\"\"),\"/\",\"\"),\"erro\")","v":""},{"$f":"IFERROR(Gerar_Upload!C15,\"erro\")","v":0},{"$f":"IFERROR(Gerar_Upload!D15,\"erro\")","v":0},{"$f":"IFERROR(DATE(YEAR(Gerar_Upload!E15),MONTH(Gerar_Upload!E15),DAY(Gerar_Upload!E15)),\"erro\")","v":"00:00:00"},{"$f":"IFERROR(Gerar_Upload!F15,\"erro\")","v":0},{"$f":"IFERROR(IF(Gerar_Upload!G15<44,REPT(0,44-LEN(Gerar_Upload!G15))&Gerar_Upload!G15,Gerar_Upload!G15),\"erro\")","v":"00000000000000000000000000000000000000000000"}]
[{"$f":"IFERROR(LEFT(Gerar_Upload!A16,120),\"erro\")","v":""},{"$f":"IFERROR(SUBSTITUTE(SUBSTITUTE(SUBSTITUTE(Gerar_Upload!B16,\".\",\"\"),\"-\",\"\"),\"/\",\"\"),\"erro\")","v":""},{"$f":"IFERROR(Gerar_Upload!C16,\"erro\")","v":0},{"$f":"IFERROR(Gerar_Upload!D16,\"erro\")","v":0},{"$f":"IFERROR(DATE(YEAR(Gerar_Upload!E16),MONTH(Gerar_Upload!E16),DAY(Gerar_Upload!E16)),\"erro\")","v":"00:00:00"},{"$f":"IFERROR(Gerar_Upload!F16,\"erro\")","v":0},{"$f":"IFERROR(IF(Gerar_Upload!G16<44,REPT(0,44-LEN(Gerar_Upload!G16))&Gerar_Upload!G16,Gerar_Upload!G16),\"erro\")","v":"00000000000000000000000000000000000000000000"}]
[{"$f":"IFERROR(LEFT(Gerar_Upload!A17,120),\"erro\")","v":""},{"$f":"IFERROR(SUBSTITUTE(SUBSTITUTE(SUBSTITUTE(Gerar_Upload!B17,\".\",\"\"),\"-\",\"\"),\"/\",\"\"),\"erro\")","v":""},{"$f":"IFERROR(Gerar_Upload!C17,\"erro\")","v":0},{"$f":"IFERROR(Gerar_Upload!D17,\"erro\")","v":0},{"$f":"IFERROR(DATE(YEAR(Gerar_Upload!E17),MONTH(Gerar_Upload!E17),DAY(Gerar_Upload!E17)),\"erro\")","v":"00:00:00"},{"$f":"IFERROR(Gerar_Upload!F17,\"erro\")","v":0},{"$f":"IFERROR(IF(Gerar_Upload!G17<44,REPT(0,44-LEN(Gerar_Upload!G17))&Gerar_Upload!G17,Gerar_Upload!G17),\"erro\")","v":"00000000000000000000000000000000000000000000"}]
[{"$f":"IFERROR(LEFT(Gerar_Upload!A18,120),\"erro\")","v":""},{"$f":"IFERROR(SUBSTITUTE(SUBSTITUTE(SUBSTITUTE(Gerar_Upload!B18,\".\",\"\"),\"-\",\"\"),\"/\",\"\"),\"erro\")","v":""},{"$f":"IFERROR(Gerar_Upload!C18,\"erro\")","v":0},{"$f":"IFERROR(Gerar_Upload!D18,\"erro\")","v":0},{"$f":"IFERROR(DATE(YEAR(Gerar_Upload!E18),MONTH(Gerar_Upload!E18),DAY(Gerar_Upload!E18)),\"erro\")","v":"00:00:00"},{"$f":"IFERROR(Gerar_Upload!F18,\"erro\")","v":0},{"$f":"IFERROR(IF(Gerar_Upload!G18<44,REPT(0,44-LEN(Gerar_Upload!G18))&Gerar_Upload!G18,Gerar_Upload!G18),\"erro\")","v":"00000000000000000000000000000000000000000000"}]
[{"$f":"IFERROR(LEFT(Gerar_Upload!A19,120),\"erro\")","v":""},{"$f":"IFERROR(SUBSTITUTE(SUBSTITUTE(SUBSTITUTE(Gerar_Upload!B19,\".\",\"\"),\"-\",\"\"),\"/\",\"\"),\"erro\")","v":""},{"$f":"IFERROR(Gerar_Upload!C19,\"erro\")","v":0},{"$f":"IFERROR(Gerar_Upload!D19,\"erro\")","v":0},{"$f":"IFERROR(DATE(YEAR(Gerar_Upload!E19),MONTH(Gerar_Upload!E19),DAY(Gerar_Upload!E19)),\"erro\")","v":"00:00:00"},{"$f":"IFERROR(Gerar_Upload!F19,\"erro\")","v":0},{"$f":"IFERROR(IF(Gerar_Upload!G19<44,REPT(0,44-LEN(Gerar_Upload!G19))&Gerar_Upload!G19,Gerar_Upload!G19),\"erro\")","v":"00000000000000000000000000000000000000000000"}]
[{"$f":"IFERROR(LEFT(Gerar_Upload!A20,120),\"erro\")","v":""},{"$f":"IFERROR(SUBSTITUTE(SUBSTITUTE(SUBSTITUTE(Gerar_Upload!B20,\".\",\"\"),\"-\",\"\"),\"/\",\"\"),\"erro\")","v":""},{"$f":"IFERROR(Gerar_Upload!C20,\"erro\")","v":0},{"$f":"IFERROR(Gerar_Upload!D20,\"erro\")","v":0},{"$f":"IFERROR(DATE(YEAR(Gerar_Upload!E20),MONTH(Gerar_Upload!E20),DAY(Gerar_Upload!E20)),\"erro\")","v":"00:00:00"},{"$f":"IFERROR(Gerar_Upload!F20,\"erro\")","v":0},{"$f":"IFERROR(IF(Gerar_Upload!G20<44,REPT(0,44-LEN(Gerar_Upload!G20))&Gerar_Upload!G20,Gerar_Upload!G20),\"erro\")","v":"00000000000000000000000000000000000000000000"}]
[{"$f":"IFERROR(LEFT(Gerar_Upload!A21,120),\"erro\")","v":""},{"$f":"IFERROR(SUBSTITUTE(SUBSTITUTE(SUBSTITUTE(Gerar_Upload!B21,\".\",\"\"),\"-\",\"\"),\"/\",\"\"),\"erro\")","v":""},{"$f":"IFERROR(Gerar_Upload!C21,\"erro\")","v":0},{"$f":"IFERROR(Gerar_Upload!D21,\"erro\")","v":0},{"$f":"IFERROR(DATE(YEAR(Gerar_Upload!E21),MONTH(Gerar_Upload!E21),DAY(Gerar_Upload!E21)),\"erro\")","v":"00:00:00"},{"$f":"IFERROR(Gerar_Upload!F21,\"erro\")","v":0},{"$f":"IFERROR(IF(Gerar_Upload!G21<44,REPT(0,44-LEN(Gerar_Upload!G21))&Gerar_Upload!G21,Gerar_Upload!G21),\"erro\")","v":"00000000000000000000000000000000000000000000"}]
[{"$f":"IFERROR(LEFT(Gerar_Upload!A22,120),\"erro\")","v":""},{"$f":"IFERROR(SUBSTITUTE(SUBSTITUTE(SUBSTITUTE(Gerar_Upload!B22,\".\",\"\"),\"-\",\"\"),\"/\",\"\"),\"erro\")","v":""},{"$f":"IFERROR(Gerar_Upload!C22,\"erro\")","v":0},{"$f":"IFERROR(Gerar_Upload!D22,\"erro\")","v":0},{"$f":"IFERROR(DATE(YEAR(Gerar_Upload!E22),MONTH(Gerar_Upload!E22),DAY(Gerar_Upload!E22)),\"erro\")","v":"00:00:00"},{"$f":"IFERROR(Gerar_Upload!F22,\"erro\")","v":0},{"$f":"IFERROR(IF(Gerar_Upload!G22<44,REPT(0,44-LEN(Gerar_Upload!G22))&Gerar_Upload!G22,Gerar_Upload!G22),\"erro\")","v":"00000000000000000000000000000000000000000000"}]
[{"$f":"IFERROR(LEFT(Gerar_Upload!A23,120),\"erro\")","v":""},{"$f":"IFERROR(SUBSTITUTE(SUBSTITUTE(SUBSTITUTE(Gerar_Upload!B23,\".\",\"\"),\"-\",\"\"),\"/\",\"\"),\"erro\")","v":""},{"$f":"IFERROR(Gerar_Upload!C23,\"erro\")","v":0},{"$f":"IFERROR(Gerar_Upload!D23,\"erro\")","v":0},{"$f":"IFERROR(DATE(YEAR(Gerar_Upload!E23),MONTH(Gerar_Upload!E23),DAY(Gerar_Upload!E23)),\"erro\")","v":"00:00:00"},{"$f":"IFERROR(Gerar_Upload!F23,\"erro\")","v":0},{"$f":"IFERROR(IF(Gerar_Upload!G23<44,REPT(0,44-LEN(Gerar_Upload!G23))&Gerar_Upload!G23,Gerar_Upload!G23),\"erro\")","v":"00000000000000000000000000000000000000000000"}]
[{"$f":"IFERROR(LEFT(Gerar_Upload!A24,120),\"erro\")","v":""},{"$f":"IFERROR(SUBSTITUTE(SUBSTITUTE(SUBSTITUTE(Gerar_Upload!B24,\".\",\"\"),\"-\",\"\"),\"/\",\"\"),\"erro\")","v":""},{"$f":"IFERROR(Gerar_Upload!C24,\"erro\")","v":0},{"$f":"IFERROR(Gerar_Upload!D24,\"erro\")","v":0},{"$f":"IFERROR(DATE(YEAR(Gerar_Upload!E24),MONTH(Gerar_Upload!E24),DAY(Gerar_Upload!E24)),\"erro\")","v":"00:00:00"},{"$f":"IFERROR(Gerar_Upload!F24,\"erro\")","v":0},{"$f":"IFERROR(IF(Gerar_Upload!G24<44,REPT(0,44-LEN(Gerar_Upload!G24))&Gerar_Upload!G24,Gerar_Upload!G24),\"erro\")","v":"00000000000000000000000000000000000000000000"}]
[{"$f":"IFERROR(LEFT(Gerar_Upload!A25,120),\"erro\")","v":""},{"$f":"IFERROR(SUBSTITUTE(SUBSTITUTE(SUBSTITUTE(Gerar_Upload!B25,\".\",\"\"),\"-\",\"\"),\"/\",\"\"),\"erro\")","v":""},{"$f":"IFERROR(Gerar_Upload!C25,\"erro\")","v":0},{"$f":"IFERROR(Gerar_Upload!D25,\"erro\")","v":0},{"$f":"IFERROR(DATE(YEAR(Gerar_Upload!E25),MONTH(Gerar_Upload!E25),DAY(Gerar_Upload!E25)),\"erro\")","v":"00:00:00"},{"$f":"IFERROR(Gerar_Upload!F25,\"erro\")","v":0},{"$f":"IFERROR(IF(Gerar_Upload!G25<44,REPT(0,44-LEN(Gerar_Upload!G25))&Gerar_Upload!G25,Gerar_Upload!G25),\"erro\")","v":"00000000000000000000000000000000000000000000"}]
[{"$f":"IFERROR(LEFT(Gerar_Upload!A26,120),\"erro\")","v":""},{"$f":"IFERROR(SUBSTITUTE(SUBSTITUTE(SUBSTITUTE(Gerar_Upload!B26,\".\",\"\"),\"-\",\"\"),\"/\",\"\"),\"erro\")","v":""},{"$f":"IFERROR(Gerar_Upload!C26,\"erro\")","v":0},{"$f":"IFERROR(Gerar_Upload!D26,\"erro\")","v":0},{"$f":"IFERROR(DATE(YEAR(Gerar_Upload!E26),MONTH(Gerar_Upload!E26),DAY(Gerar_Upload!E26)),\"erro\")","v":"00:00:00"},{"$f":"IFERROR(Gerar_Upload!F26,\"erro\")","v":0},{"$f":"IFERROR(IF(Gerar_Upload!G26<44,REPT(0,44-LEN(Gerar_Upload!G26))&Gerar_Upload!G26,Gerar_Upload!G26),\"erro\")","v":"00000000000000000000000000000000000000000000"}]
[{"$f":"IFERROR(LEFT(Gerar_Upload!A27,120),\"erro\")","v":""},{"$f":"IFERROR(SUBSTITUTE(SUBSTITUTE(SUBSTITUTE(Gerar_Upload!B27,\".\",\"\"),\"-\",\"\"),\"/\",\"\"),\"erro\")","v":""},{"$f":"IFERROR(Gerar_Upload!C27,\"erro\")","v":0},{"$f":"IFERROR(Gerar_Upload!D27,\"erro\")","v":0},{"$f":"IFERROR(DATE(YEAR(Gerar_Upload!E27),MONTH(Gerar_Upload!E27),DAY(Gerar_Upload!E27)),\"erro\")","v":"00:00:00"},{"$f":"IFERROR(Gerar_Upload!F27,\"erro\")","v":0},{"$f":"IFERROR(IF(Gerar_Upload!G27<44,REPT(0,44-LEN(Gerar_Upload!G27))&Gerar_Upload!G27,Gerar_Upload!G27),\"erro\")","v":"00000000000000000000000000000000000000000000"}]
[{"$f":"IFERROR(LEFT(Gerar_Upload!A28,120),\"erro\")","v":""},{"$f":"IFERROR(SUBSTITUTE(SUBSTITUTE(SUBSTITUTE(Gerar_Upload!B28,\".\",\"\"),\"-\",\"\"),\"/\",\"\"),\"erro\")","v":""},{"$f":"IFERROR(Gerar_Upload!C28,\"erro\")","v":0},{"$f":"IFERROR(Gerar_Upload!D28,\"erro\")","v":0},{"$f":"IFERROR(DATE(YEAR(Gerar_Upload!E28),MONTH(Gerar_Upload!E28),DAY(Gerar_Upload!E28)),\"erro\")","v":"00:00:00"},{"$f":"IFERROR(Gerar_Upload!F28,\"erro\")","v":0},{"$f":"IFERROR(IF(Gerar_Upload!G28<44,REPT(0,44-LEN(Gerar_Upload!G28))&Gerar_Upload!G28,Gerar_Upload!G28),\"erro\")","v":"00000000000000000000000000000000000000000000"}]
[{"$f":"IFERROR(LEFT(Gerar_Upload!A29,120),\"erro\")","v":""},{"$f":"IFERROR(SUBSTITUTE(SUBSTITUTE(SUBSTITUTE(Gerar_Upload!B29,\".\",\"\"),\"-\",\"\"),\"/\",\"\"),\"erro\")","v":""},{"$f":"IFERROR(Gerar_Upload!C29,\"erro\")","v":0},{"$f":"IFERROR(Gerar_Upload!D29,\"erro\")","v":0},{"$f":"IFERROR(DATE(YEAR(Gerar_Upload!E29),MONTH(Gerar_Upload!E29),DAY(Gerar_Upload!E29)),\"erro\")","v":"00:00:00"},{"$f":"IFERROR(Gerar_Upload!F29,\"erro\")","v":0},{"$f":"IFERROR(IF(Gerar_Upload!G29<44,REPT(0,44-LEN(Gerar_Upload!G29))&Gerar_Upload!G29,Gerar_Upload!G29),\"erro\")","v":"00000000000000000000000000000000000000000000"}]
[{"$f":"IFERROR(LEFT(Gerar_Upload!A30,120),\"erro\")","v":""},{"$f":"IFERROR(SUBSTITUTE(SUBSTITUTE(SUBSTITUTE(Gerar_Upload!B30,\".\",\"\"),\"-\",\"\"),\"/\",\"\"),\"erro\")","v":""},{"$f":"IFERROR(Gerar_Upload!C30,\"erro\")","v":0},{"$f":"IFERROR(Gerar_Upload!D30,\"erro\")","v":0},{"$f":"IFERROR(DATE(YEAR(Gerar_Upload!E30),MONTH(Gerar_Upload!E30),DAY(Gerar_Upload!E30)),\"erro\")","v":"00:00:00"},{"$f":"IFERROR(Gerar_Upload!F30,\"erro\")","v":0},{"$f":"IFERROR(IF(Gerar_Upload!G30<44,REPT(0,44-LEN(Gerar_Upload!G30))&Gerar_Upload!G30,Gerar_Upload!G30),\"erro\")","v":"00000000000000000000000000000000000000000000"}]
[{"$f":"IFERROR(LEFT(Gerar_Upload!A31,120),\"erro\")","v":""},{"$f":"IFERROR(SUBSTITUTE(SUBSTITUTE(SUBSTITUTE(Gerar_Upload!B31,\".\",\"\"),\"-\",\"\"),\"/\",\"\"),\"erro\")","v":""},{"$f":"IFERROR(Gerar_Upload!C31,\"erro\")","v":0},{"$f":"IFERROR(Gerar_Upload!D31,\"erro\")","v":0},{"$f":"IFERROR(DATE(YEAR(Gerar_Upload!E31),MONTH(Gerar_Upload!E31),DAY(Gerar_Upload!E31)),\"erro\")","v":"00:00:00"},{"$f":"IFERROR(Gerar_Upload!F31,\"erro\")","v":0},{"$f":"IFERROR(IF(Gerar_Upload!G31<44,REPT(0,44-LEN(Gerar_Upload!G31))&Gerar_Upload!G31,Gerar_Upload!G31),\"erro\")","v":"00000000000000000000000000000000000000000000"}]
[{"$f":"IFERROR(LEFT(Gerar_Upload!A32,120),\"erro\")","v":""},{"$f":"IFERROR(SUBSTITUTE(SUBSTITUTE(SUBSTITUTE(Gerar_Upload!B32,\".\",\"\"),\"-\",\"\"),\"/\",\"\"),\"erro\")","v":""},{"$f":"IFERROR(Gerar_Upload!C32,\"erro\")","v":0},{"$f":"IFERROR(Gerar_Upload!D32,\"erro\")","v":0},{"$f":"IFERROR(DATE(YEAR(Gerar_Upload!E32),MONTH(Gerar_Upload!E32),DAY(Gerar_Upload!E32)),\"erro\")","v":"00:00:00"},{"$f":"IFERROR(Gerar_Upload!F32,\"erro\")","v":0},{"$f":"IFERROR(IF(Gerar_Upload!G32<44,REPT(0,44-LEN(Gerar_Upload!G32))&Gerar_Upload!G32,Gerar_Upload!G32),\"erro\")","v":"00000000000000000000000000000000000000000000"}]
[{"$f":"IFERROR(LEFT(Gerar_Upload!A33,120),\"erro\")","v":""},{"$f":"IFERROR(SUBSTITUTE(SUBSTITUTE(SUBSTITUTE(Gerar_Upload!B33,\".\",\"\"),\"-\",\"\"),\"/\",\"\"),\"erro\")","v":""},{"$f":"IFERROR(Gerar_Upload!C33,\"erro\")","v":0},{"$f":"IFERROR(Gerar_Upload!D33,\"erro\")","v":0},{"$f":"IFERROR(DATE(YEAR(Gerar_Upload!E33),MONTH(Gerar_Upload!E33),DAY(Gerar_Upload!E33)),\"erro\")","v":"00:00:00"},{"$f":"IFERROR(Gerar_Upload!F33,\"erro\")","v":0},{"$f":"IFERROR(IF(Gerar_Upload!G33<44,REPT(0,44-LEN(Gerar_Upload!G33))&Gerar_Upload!G33,Gerar_Upload!G33),\"erro\")","v":"00000000000000000000000000000000000000000000"}]
[{"$f":"IFERROR(LEFT(Gerar_Upload!A34,120),\"erro\")","v":""},{"$f":"IFERROR(SUBSTITUTE(SUBSTITUTE(SUBSTITUTE(Gerar_Upload!B34,\".\",\"\"),\"-\",\"\"),\"/\",\"\"),\"erro\")","v":""},{"$f":"IFERROR(Gerar_Upload!C34,\"erro\")","v":0},{"$f":"IFERROR(Gerar_Upload!D34,\"erro\")","v":0},{"$f":"IFERROR(DATE(YEAR(Gerar_Upload!E34),MONTH(Gerar_Upload!E34),DAY(Gerar_Upload!E34)),\"erro\")","v":"00:00:00"},{"$f":"IFERROR(Gerar_Upload!F34,\"erro\")","v":0},{"$f":"IFERROR(IF(Gerar_Upload!G34<44,REPT(0,44-LEN(Gerar_Upload!G34))&Gerar_Upload!G34,Gerar_Upload!G34),\"erro\")","v":"00000000000000000000000000000000000000000000"}]
[{"$f":"IFERROR(LEFT(Gerar_Upload!A35,120),\"erro\")","v":""},{"$f":"IFERROR(SUBSTITUTE(SUBSTITUTE(SUBSTITUTE(Gerar_Upload!B35,\".\",\"\"),\"-\",\"\"),\"/\",\"\"),\"erro\")","v":""},{"$f":"IFERROR(Gerar_Upload!C35,\"erro\")","v":0},{"$f":"IFERROR(Gerar_Upload!D35,\"erro\")","v":0},{"$f":"IFERROR(DATE(YEAR(Gerar_Upload!E35),MONTH(Gerar_Upload!E35),DAY(Gerar_Upload!E35)),\"erro\")","v":"00:00:00"},{"$f":"IFERROR(Gerar_Upload!F35,\"erro\")","v":0},{"$f":"IFERROR(IF(Gerar_Upload!G35<44,REPT(0,44-LEN(Gerar_Upload!G35))&Gerar_Upload!G35,Gerar_Upload!G35),\"erro\")","v":"00000000000000000000000000000000000000000000"}]
[{"$f":"IFERROR(LEFT(Gerar_Upload!A36,120),\"erro\")","v":""},{"$f":"IFERROR(SUBSTITUTE(SUBSTITUTE(SUBSTITUTE(Gerar_Upload!B36,\".\",\"\"),\"-\",\"\"),\"/\",\"\"),\"erro\")","v":""},{"$f":"IFERROR(Gerar_Upload!C36,\"erro\")","v":0},{"$f":"IFERROR(Gerar_Upload!D36,\"erro\")","v":0},{"$f":"IFERROR(DATE(YEAR(Gerar_Upload!E36),MONTH(Gerar_Upload!E36),DAY(Gerar_Upload!E36)),\"erro\")","v":"00:00:00"},{"$f":"IFERROR(Gerar_Upload!F36,\"erro\")","v":0},{"$f":"IFERROR(IF(Gerar_Upload!G36<44,REPT(0,44-LEN(Gerar_Upload!G36))&Gerar_Upload!G36,Gerar_Upload!G36),\"erro\")","v":"00000000000000000000000000000000000000000000"}]
[{"$f":"IFERROR(LEFT(Gerar_Upload!A37,120),\"erro\")","v":""},{"$f":"IFERROR(SUBSTITUTE(SUBSTITUTE(SUBSTITUTE(Gerar_Upload!B37,\".\",\"\"),\"-\",\"\"),\"/\",\"\"),\"erro\")","v":""},{"$f":"IFERROR(Gerar_Upload!C37,\"erro\")","v":0},{"$f":"IFERROR(Gerar_Upload!D37,\"erro\")","v":0},{"$f":"IFERROR(DATE(YEAR(Gerar_Upload!E37),MONTH(Gerar_Upload!E37),DAY(Gerar_Upload!E37)),\"erro\")","v":"00:00:00"},{"$f":"IFERROR(Gerar_Upload!F37,\"erro\")","v":0},{"$f":"IFERROR(IF(Gerar_Upload!G37<44,REPT(0,44-LEN(Gerar_Upload!G37))&Gerar_Upload!G37,Gerar_Upload!G37),\"erro\")","v":"00000000000000000000000000000000000000000000"}]
[{"$f":"IFERROR(LEFT(Gerar_Upload!A38,120),\"erro\")","v":""},{"$f":"IFERROR(SUBSTITUTE(SUBSTITUTE(SUBSTITUTE(Gerar_Upload!B38,\".\",\"\"),\"-\",\"\"),\"/\",\"\"),\"erro\")","v":""},{"$f":"IFERROR(Gerar_Upload!C38,\"erro\")","v":0},{"$f":"IFERROR(Gerar_Upload!D38,\"erro\")","v":0},{"$f":"IFERROR(DATE(YEAR(Gerar_Upload!E38),MONTH(Gerar_Upload!E38),DAY(Gerar_Upload!E38)),\"erro\")","v":"00:00:00"},{"$f":"IFERROR(Gerar_Upload!F38,\"erro\")","v":0},{"$f":"IFERROR(IF(Gerar_Upload!G38<44,REPT(0,44-LEN(Gerar_Upload!G38))&Gerar_Upload!G38,Gerar_Upload!G38),\"erro\")","v":"00000000000000000000000000000000000000000000"}]
[{"$f":"IFERROR(LEFT(Gerar_Upload!A39,120),\"erro\")","v":""},{"$f":"IFERROR(SUBSTITUTE(SUBSTITUTE(SUBSTITUTE(Gerar_Upload!B39,\".\",\"\"),\"-\",\"\"),\"/\",\"\"),\"erro\")","v":""},{"$f":"IFERROR(Gerar_Upload!C39,\"erro\")","v":0},{"$f":"IFERROR(Gerar_Upload!D39,\"erro\")","v":0},{"$f":"IFERROR(DATE(YEAR(Gerar_Upload!E39),MONTH(Gerar_Upload!E39),DAY(Gerar_Upload!E39)),\"erro\")","v":"00:00:00"},{"$f":"IFERROR(Gerar_Upload!F39,\"erro\")","v":0},{"$f":"IFERROR(IF(Gerar_Upload!G39<44,REPT(0,44-LEN(Gerar_Upload!G39))&Gerar_Upload!G39,Gerar_Upload!G39),\"erro\")","v":"00000000000000000000000000000000000000000000"}]
[{"$f":"IFERROR(LEFT(Gerar_Upload!A40,120),\"erro\")","v":""},{"$f":"IFERROR(SUBSTITUTE(SUBSTITUTE(SUBSTITUTE(Gerar_Upload!B40,\".\",\"\"),\"-\",\"\"),\"/\",\"\"),\"erro\")","v":""},{"$f":"IFERROR(Gerar_Upload!C40,\"erro\")","v":0},{"$f":"IFERROR(Gerar_Upload!D40,\"erro\")","v":0},{"$f":"IFERROR(DATE(YEAR(Gerar_Upload!E40),MONTH(Gerar_Upload!E40),DAY(Gerar_Upload!E40)),\"erro\")","v":"00:00:00"},{"$f":"IFERROR(Gerar_Upload!F40,\"erro\")","v":0},{"$f":"IFERROR(IF(Gerar_Upload!G40<44,REPT(0,44-LEN(Gerar_Upload!G40))&Gerar_Upload!G40,Gerar_Upload!G40),\"erro\")","v":"00000000000000000000000000000000000000000000"}]
[{"$f":"IFERROR(LEFT(Gerar_Upload!A41,120),\"erro\")","v":""},{"$f":"IFERROR(SUBSTITUTE(SUBSTITUTE(SUBSTITUTE(Gerar_Upload!B41,\".\",\"\"),\"-\",\"\"),\"/\",\"\"),\"erro\")","v":""},{"$f":"IFERROR(Gerar_Upload!C41,\"erro\")","v":0},{"$f":"IFERROR(Gerar_Upload!D41,\"erro\")","v":0},{"$f":"IFERROR(DATE(YEAR(Gerar_Upload!E41),MONTH(Gerar_Upload!E41),DAY(Gerar_Upload!E41)),\"erro\")","v":"00:00:00"},{"$f":"IFERROR(Gerar_Upload!F41,\"erro\")","v":0},{"$f":"IFERROR(IF(Gerar_Upload!G41<44,REPT(0,44-LEN(Gerar_Upload!G41))&Gerar_Upload!G41,Gerar_Upload!G41),\"erro\")","v":"00000000000000000000000000000000000000000000"}]
[{"$f":"IFERROR(LEFT(Gerar_Upload!A42,120),\"erro\")","v":""},{"$f":"IFERROR(SUBSTITUTE(SUBSTITUTE(SUBSTITUTE(Gerar_Upload!B42,\".\",\"\"),\"-\",\"\"),\"/\",\"\"),\"erro\")","v":""},{"$f":"IFERROR(Gerar_Upload!C42,\"erro\")","v":0},{"$f":"IFERROR(Gerar_Upload!D42,\"erro\")","v":0},{"$f":"IFERROR(DATE(YEAR(Gerar_Upload!E42),MONTH(Gerar_Upload!E42),DAY(Gerar_Upload!E42)),\"erro\")","v":"00:00:00"},{"$f":"IFERROR(Gerar_Upload!F42,\"erro\")","v":0},{"$f":"IFERROR(IF(Gerar_Upload!G42<44,REPT(0,44-LEN(Gerar_Upload!G42))&Gerar_Upload!G42,Gerar_Upload!G42),\"erro\")","v":"00000000000000000000000000000000000000000000"}]
[{"$f":"IFERROR(LEFT(Gerar_Upload!A43,120),\"erro\")","v":""},{"$f":"IFERROR(SUBSTITUTE(SUBSTITUTE(SUBSTITUTE(Gerar_Upload!B43,\".\",\"\"),\"-\",\"\"),\"/\",\"\"),\"erro\")","v":""},{"$f":"IFERROR(Gerar_Upload!C43,\"erro\")","v":0},{"$f":"IFERROR(Gerar_Upload!D43,\"erro\")","v":0},{"$f":"IFERROR(DATE(YEAR(Gerar_Upload!E43),MONTH(Gerar_Upload!E43),DAY(Gerar_Upload!E43)),\"erro\")","v":"00:00:00"},{"$f":"IFERROR(Gerar_Upload!F43,\"erro\")","v":0},{"$f":"IFERROR(IF(Gerar_Upload!G43<44,REPT(0,44-LEN(Gerar_Upload!G43))&Gerar_Upload!G43,Gerar_Upload!G43),\"erro\")","v":"00000000000000000000000000000000000000000000"}]
[{"$f":"IFERROR(LEFT(Gerar_Upload!A44,120),\"erro\")","v":""},{"$f":"IFERROR(SUBSTITUTE(SUBSTITUTE(SUBSTITUTE(Gerar_Upload!B44,\".\",\"\"),\"-\",\"\"),\"/\",\"\"),\"erro\")","v":""},{"$f":"IFERROR(Gerar_Upload!C44,\"erro\")","v":0},{"$f":"IFERROR(Gerar_Upload!D44,\"erro\")","v":0},{"$f":"IFERROR(DATE(YEAR(Gerar_Upload!E44),MONTH(Gerar_Upload!E44),DAY(Gerar_Upload!E44)),\"erro\")","v":"00:00:00"},{"$f":"IFERROR(Gerar_Upload!F44,\"erro\")","v":0},{"$f":"IFERROR(IF(Gerar_Upload!G44<44,REPT(0,44-LEN(Gerar_Upload!G44))&Gerar_Upload!G44,Gerar_Upload!G44),\"erro\")","v":"00000000000000000000000000000000000000000000"}]
[{"$f":"IFERROR(LEFT(Gerar_Upload!A45,120),\"erro\")","v":""},{"$f":"IFERROR(SUBSTITUTE(SUBSTITUTE(SUBSTITUTE(Gerar_Upload!B45,\".\",\"\"),\"-\",\"\"),\"/\",\"\"),\"erro\")","v":""},{"$f":"IFERROR(Gerar_Upload!C45,\"erro\")","v":0},{"$f":"IFERROR(Gerar_Upload!D45,\"erro\")","v":0},{"$f":"IFERROR(DATE(YEAR(Gerar_Upload!E45),MONTH(Gerar_Upload!E45),DAY(Gerar_Upload!E45)),\"erro\")","v":"00:00:00"},{"$f":"IFERROR(Gerar_Upload!F45,\"erro\")","v":0},{"$f":"IFERROR(IF(Gerar_Upload!G45<44,REPT(0,44-LEN(Gerar_Upload!G45))&Gerar_Upload!G45,Gerar_Upload!G45),\"erro\")","v":"00000000000000000000000000000000000000000000"}]
[{"$f":"IFERROR(LEFT(Gerar_Upload!A46,120),\"erro\")","v":""},{"$f":"IFERROR(SUBSTITUTE(SUBSTITUTE(SUBSTITUTE(Gerar_Upload!B46,\".\",\"\"),\"-\",\"\"),\"/\",\"\"),\"erro\")","v":""},{"$f":"IFERROR(Gerar_Upload!C46,\"erro\")","v":0},{"$f":"IFERROR(Gerar_Upload!D46,\"erro\")","v":0},{"$f":"IFERROR(DATE(YEAR(Gerar_Upload!E46),MONTH(Gerar_Upload!E46),DAY(Gerar_Upload!E46)),\"erro\")","v":"00:00:00"},{"$f":"IFERROR(Gerar_Upload!F46,\"erro\")","v":0},{"$f":"IFERROR(IF(Gerar_Upload!G46<44,REPT(0,44-LEN(Gerar_Upload!G46))&Gerar_Upload!G46,Gerar_Upload!G46),\"erro\")","v":"00000000000000000000000000000000000000000000"}]
[{"$f":"IFERROR(LEFT(Gerar_Upload!A47,120),\"erro\")","v":""},{"$f":"IFERROR(SUBSTITUTE(SUBSTITUTE(SUBSTITUTE(Gerar_Upload!B47,\".\",\"\"),\"-\",\"\"),\"/\",\"\"),\"erro\")","v":""},{"$f":"IFERROR(Gerar_Upload!C47,\"erro\")","v":0},{"$f":"IFERROR(Gerar_Upload!D47,\"erro\")","v":0},{"$f":"IFERROR(DATE(YEAR(Gerar_Upload!E47),MONTH(Gerar_Upload!E47),DAY(Gerar_Upload!E47)),\"erro\")","v":"00:00:00"},{"$f":"IFERROR(Gerar_Upload!F47,\"erro\")","v":0},{"$f":"IFERROR(IF(Gerar_Upload!G47<44,REPT(0,44-LEN(Gerar_Upload!G47))&Gerar_Upload!G47,Gerar_Upload!G47),\"erro\")","v":"00000000000000000000000000000000000000000000"}]
[{"$f":"IFERROR(LEFT(Gerar_Upload!A48,120),\"erro\")","v":""},{"$f":"IFERROR(SUBSTITUTE(SUBSTITUTE(SUBSTITUTE(Gerar_Upload!B48,\".\",\"\"),\"-\",\"\"),\"/\",\"\"),\"erro\")","v":""},{"$f":"IFERROR(Gerar_Upload!C48,\"erro\")","v":0},{"$f":"IFERROR(Gerar_Upload!D48,\"erro\")","v":0},{"$f":"IFERROR(DATE(YEAR(Gerar_Upload!E48),MONTH(Gerar_Upload!E48),DAY(Gerar_Upload!E48)),\"erro\")","v":"00:00:00"},{"$f":"IFERROR(Gerar_Upload!F48,\"erro\")","v":0},{"$f":"IFERROR(IF(Gerar_Upload!G48<44,REPT(0,44-LEN(Gerar_Upload!G48))&Gerar_Upload!G48,Gerar_Upload!G48),\"erro\")","v":"00000000000000000000000000000000000000000000"}]
[{"$f":"IFERROR(LEFT(Gerar_Upload!A49,120),\"erro\")","v":""},{"$f":"IFERROR(SUBSTITUTE(SUBSTITUTE(SUBSTITUTE(Gerar_Upload!B49,\".\",\"\"),\"-\",\"\"),\"/\",\"\"),\"erro\")","v":""},{"$f":"IFERROR(Gerar_Upload!C49,\"erro\")","v":0},{"$f":"IFERROR(Gerar_Upload!D49,\"erro\")","v":0},{"$f":"IFERROR(DATE(YEAR(Gerar_Upload!E49),MONTH(Gerar_Upload!E49),DAY(Gerar_Upload!E49)),\"erro\")","v":"00:00:00"},{"$f":"IFERROR(Gerar_Upload!F49,\"erro\")","v":0},{"$f":"IFERROR(IF(Gerar_Upload!G49<44,REPT(0,44-LEN(Gerar_Upload!G49))&Gerar_Upload!G49,Gerar_Upload!G49),\"erro\")","v":"00000000000000000000000000000000000000000000"}]
[{"$f":"IFERROR(LEFT(Gerar_Upload!A50,120),\"erro\")","v":""},{"$f":"IFERROR(SUBSTITUTE(SUBSTITUTE(SUBSTITUTE(Gerar_Upload!B50,\".\",\"\"),\"-\",\"\"),\"/\",\"\"),\"erro\")","v":""},{"$f":"IFERROR(Gerar_Upload!C50,\"erro\")","v":0},{"$f":"IFERROR(Gerar_Upload!D50,\"erro\")","v":0},{"$f":"IFERROR(DATE(YEAR(Gerar_Upload!E50),MONTH(Gerar_Upload!E50),DAY(Gerar_Upload!E50)),\"erro\")","v":"00:00:00"},{"$f":"IFERROR(Gerar_Upload!F50,\"erro\")","v":0},{"$f":"IFERROR(IF(Gerar_Upload!G50<44,REPT(0,44-LEN(Gerar_Upload!G50))&Gerar_Upload!G50,Gerar_Upload!G50),\"erro\")","v":"00000000000000000000000000000000000000000000"}]
[{"$f":"IFERROR(LEFT(Gerar_Upload!A51,120),\"erro\")","v":""},{"$f":"IFERROR(SUBSTITUTE(SUBSTITUTE(SUBSTITUTE(Gerar_Upload!B51,\".\",\"\"),\"-\",\"\"),\"/\",\"\"),\"erro\")","v":""},{"$f":"IFERROR(Gerar_Upload!C51,\"erro\")","v":0},{"$f":"IFERROR(Gerar_Upload!D51,\"erro\")","v":0},{"$f":"IFERROR(DATE(YEAR(Gerar_Upload!E51),MONTH(Gerar_Upload!E51),DAY(Gerar_Upload!E51)),\"erro\")","v":"00:00:00"},{"$f":"IFERROR(Gerar_Upload!F51,\"erro\")","v":0},{"$f":"IFERROR(IF(Gerar_Upload!G51<44,REPT(0,44-LEN(Gerar_Upload!G51))&Gerar_Upload!G51,Gerar_Upload!G51),\"erro\")","v":"00000000000000000000000000000000000000000000"}]
[{"$f":"IFERROR(LEFT(Gerar_Upload!A52,120),\"erro\")","v":""},{"$f":"IFERROR(SUBSTITUTE(SUBSTITUTE(SUBSTITUTE(Gerar_Upload!B52,\".\",\"\"),\"-\",\"\"),\"/\",\"\"),\"erro\")","v":""},{"$f":"IFERROR(Gerar_Upload!C52,\"erro\")","v":0},{"$f":"IFERROR(Gerar_Upload!D52,\"erro\")","v":0},{"$f":"IFERROR(DATE(YEAR(Gerar_Upload!E52),MONTH(Gerar_Upload!E52),DAY(Gerar_Upload!E52)),\"erro\")","v":"00:00:00"},{"$f":"IFERROR(Gerar_Upload!F52,\"erro\")","v":0},{"$f":"IFERROR(IF(Gerar_Upload!G52<44,REPT(0,44-LEN(Gerar_Upload!G52))&Gerar_Upload!G52,Gerar_Upload!G52),\"erro\")","v":"00000000000000000000000000000000000000000000"}]
[{"$f":"IFERROR(LEFT(Gerar_Upload!A53,120),\"erro\")","v":""},{"$f":"IFERROR(SUBSTITUTE(SUBSTITUTE(SUBSTITUTE(Gerar_Upload!B53,\".\",\"\"),\"-\",\"\"),\"/\",\"\"),\"erro\")","v":""},{"$f":"IFERROR(Gerar_Upload!C53,\"erro\")","v":0},{"$f":"IFERROR(Gerar_Upload!D53,\"erro\")","v":0},{"$f":"IFERROR(DATE(YEAR(Gerar_Upload!E53),MONTH(Gerar_Upload!E53),DAY(Gerar_Upload!E53)),\"erro\")","v":"00:00:00"},{"$f":"IFERROR(Gerar_Upload!F53,\"erro\")","v":0},{"$f":"IFERROR(IF(Gerar_Upload!G53<44,REPT(0,44-LEN(Gerar_Upload!G53))&Gerar_Upload!G53,Gerar_Upload!G53),\"erro\")","v":"00000000000000000000000000000000000000000000"}]
[{"$f":"IFERROR(LEFT(Gerar_Upload!A54,120),\"erro\")","v":""},{"$f":"IFERROR(SUBSTITUTE(SUBSTITUTE(SUBSTITUTE(Gerar_Upload!B54,\".\",\"\"),\"-\",\"\"),\"/\",\"\"),\"erro\")","v":""},{"$f":"IFERROR(Gerar_Upload!C54,\"erro\")","v":0},{"$f":"IFERROR(Gerar_Upload!D54,\"erro\")","v":0},{"$f":"IFERROR(DATE(YEAR(Gerar_Upload!E54),MONTH(Gerar_Upload!E54),DAY(Gerar_Upload!E54)),\"erro\")","v":"00:00:00"},{"$f":"IFERROR(Gerar_Upload!F54,\"erro\")","v":0},{"$f":"IFERROR(IF(Gerar_Upload!G54<44,REPT(0,44-LEN(Gerar_Upload!G54))&Gerar_Upload!G54,Gerar_Upload!G54),\"erro\")","v":"00000000000000000000000000000000000000000000"}]
[{"$f":"IFERROR(LEFT(Gerar_Upload!A55,120),\"erro\")","v":""},{"$f":"IFERROR(SUBSTITUTE(SUBSTITUTE(SUBSTITUTE(Gerar_Upload!B55,\".\",\"\"),\"-\",\"\"),\"/\",\"\"),\"erro\")","v":""},{"$f":"IFERROR(Gerar_Upload!C55,\"erro\")","v":0},{"$f":"IFERROR(Gerar_Upload!D55,\"erro\")","v":0},{"$f":"IFERROR(DATE(YEAR(Gerar_Upload!E55),MONTH(Gerar_Upload!E55),DAY(Gerar_Upload!E55)),\"erro\")","v":"00:00:00"},{"$f":"IFERROR(Gerar_Upload!F55,\"erro\")","v":0},{"$f":"IFERROR(IF(Gerar_Upload!G55<44,REPT(0,44-LEN(Gerar_Upload!G55))&Gerar_Upload!G55,Gerar_Upload!G55),\"erro\")","v":"00000000000000000000000000000000000000000000"}]
[{"$f":"IFERROR(LEFT(Gerar_Upload!A56,120),\"erro\")","v":""},{"$f":"IFERROR(SUBSTITUTE(SUBSTITUTE(SUBSTITUTE(Gerar_Upload!B56,\".\",\"\"),\"-\",\"\"),\"/\",\"\"),\"erro\")","v":""},{"$f":"IFERROR(Gerar_Upload!C56,\"erro\")","v":0},{"$f":"IFERROR(Gerar_Upload!D56,\"erro\")","v":0},{"$f":"IFERROR(DATE(YEAR(Gerar_Upload!E56),MONTH(Gerar_Upload!E56),DAY(Gerar_Upload!E56)),\"erro\")","v":"00:00:00"},{"$f":"IFERROR(Gerar_Upload!F56,\"erro\")","v":0},{"$f":"IFERROR(IF(Gerar_Upload!G56<44,REPT(0,44-LEN(Gerar_Upload!G56))&Gerar_Upload!G56,Gerar_Upload!G56),\"erro\")","v":"00000000000000000000000000000000000000000000"}]
[{"$f":"IFERROR(LEFT(Gerar_Upload!A57,120),\"erro\")","v":""},{"$f":"IFERROR(SUBSTITUTE(SUBSTITUTE(SUBSTITUTE(Gerar_Upload!B57,\".\",\"\"),\"-\",\"\"),\"/\",\"\"),\"erro\")","v":""},{"$f":"IFERROR(Gerar_Upload!C57,\"erro\")","v":0},{"$f":"IFERROR(Gerar_Upload!D57,\"erro\")","v":0},{"$f":"IFERROR(DATE(YEAR(Gerar_Upload!E57),MONTH(Gerar_Upload!E57),DAY(Gerar_Upload!E57)),\"erro\")","v":"00:00:00"},{"$f":"IFERROR(Gerar_Upload!F57,\"erro\")","v":0},{"$f":"IFERROR(IF(Gerar_Upload!G57<44,REPT(0,44-LEN(Gerar_Upload!G57))&Gerar_Upload!G57,Gerar_Upload!G57),\"erro\")","v":"00000000000000000000000000000000000000000000"}]
[{"$f":"IFERROR(LEFT(Gerar_Upload!A58,120),\"erro\")","v":""},{"$f":"IFERROR(SUBSTITUTE(SUBSTITUTE(SUBSTITUTE(Gerar_Upload!B58,\".\",\"\"),\"-\",\"\"),\"/\",\"\"),\"erro\")","v":""},{"$f":"IFERROR(Gerar_Upload!C58,\"erro\")","v":0},{"$f":"IFERROR(Gerar_Upload!D58,\"erro\")","v":0},{"$f":"IFERROR(DATE(YEAR(Gerar_Upload!E58),MONTH(Gerar_Upload!E58),DAY(Gerar_Upload!E58)),\"erro\")","v":"00:00:00"},{"$f":"IFERROR(Gerar_Upload!F58,\"erro\")","v":0},{"$f":"IFERROR(IF(Gerar_Upload!G58<44,REPT(0,44-LEN(Gerar_Upload!G58))&Gerar_Upload!G58,Gerar_Upload!G58),\"erro\")","v":"00000000000000000000000000000000000000000000"}]
[{"$f":"IFERROR(LEFT(Gerar_Upload!A59,120),\"erro\")","v":""},{"$f":"IFERROR(SUBSTITUTE(SUBSTITUTE(SUBSTITUTE(Gerar_Upload!B59,\".\",\"\"),\"-\",\"\"),\"/\",\"\"),\"erro\")","v":""},{"$f":"IFERROR(Gerar_Upload!C59,\"erro\")","v":0},{"$f":"IFERROR(Gerar_Upload!D59,\"erro\")","v":0},{"$f":"IFERROR(DATE(YEAR(Gerar_Upload!E59),MONTH(Gerar_Upload!E59),DAY(Gerar_Upload!E59)),\"erro\")","v":"00:00:00"},{"$f":"IFERROR(Gerar_Upload!F59,\"erro\")","v":0},{"$f":"IFERROR(IF(Gerar_Upload!G59<44,REPT(0,44-LEN(Gerar_Upload!G59))&Gerar_Upload!G59,Gerar_Upload!G59),\"erro\")","v":"00000000000000000000000000000000000000000000"}]
[{"$f":"IFERROR(LEFT(Gerar_Upload!A60,120),\"erro\")","v":""},{"$f":"IFERROR(SUBSTITUTE(SUBSTITUTE(SUBSTITUTE(Gerar_Upload!B60,\".\",\"\"),\"-\",\"\"),\"/\",\"\"),\"erro\")","v":""},{"$f":"IFERROR(Gerar_Upload!C60,\"erro\")","v":0},{"$f":"IFERROR(Gerar_Upload!D60,\"erro\")","v":0},{"$f":"IFERROR(DATE(YEAR(Gerar_Upload!E60),MONTH(Gerar_Upload!E60),DAY(Gerar_Upload!E60)),\"erro\")","v":"00:00:00"},{"$f":"IFERROR(Gerar_Upload!F60,\"erro\")","v":0},{"$f":"IFERROR(IF(Gerar_Upload!G60<44,REPT(0,44-LEN(Gerar_Upload!G60))&Gerar_Upload!G60,Gerar_Upload!G60),\"erro\")","v":"00000000000000000000000000000000000000000000"}]
[{"$f":"IFERROR(LEFT(Gerar_Upload!A61,120),\"erro\")","v":""},{"$f":"IFERROR(SUBSTITUTE(SUBSTITUTE(SUBSTITUTE(Gerar_Upload!B61,\".\",\"\"),\"-\",\"\"),\"/\",\"\"),\"erro\")","v":""},{"$f":"IFERROR(Gerar_Upload!C61,\"erro\")","v":0},{"$f":"IFERROR(Gerar_Upload!D61,\"erro\")","v":0},{"$f":"IFERROR(DATE(YEAR(Gerar_Upload!E61),MONTH(Gerar_Upload!E61),DAY(Gerar_Upload!E61)),\"erro\")","v":"00:00:00"},{"$f":"IFERROR(Gerar_Upload!F61,\"erro\")","v":0},{"$f":"IFERROR(IF(Gerar_Upload!G61<44,REPT(0,44-LEN(Gerar_Upload!G61))&Gerar_Upload!G61,Gerar_Upload!G61),\"erro\")","v":"00000000000000000000000000000000000000000000"}]
[{"$f":"IFERROR(LEFT(Gerar_Upload!A62,120),\"erro\")","v":""},{"$f":"IFERROR(SUBSTITUTE(SUBSTITUTE(SUBSTITUTE(Gerar_Upload!B62,\".\",\"\"),\"-\",\"\"),\"/\",\"\"),\"erro\")","v":""},{"$f":"IFERROR(Gerar_Upload!C62,\"erro\")","v":0},{"$f":"IFERROR(Gerar_Upload!D62,\"erro\")","v":0},{"$f":"IFERROR(DATE(YEAR(Gerar_Upload!E62),MONTH(Gerar_Upload!E62),DAY(Gerar_Upload!E62)),\"erro\")","v":"00:00:00"},{"$f":"IFERROR(Gerar_Upload!F62,\"erro\")","v":0},{"$f":"IFERROR(IF(Gerar_Upload!G62<44,REPT(0,44-LEN(Gerar_Upload!G62))&Gerar_Upload!G62,Gerar_Upload!G62),\"erro\")","v":"00000000000000000000000000000000000000000000"}]
[{"$f":"IFERROR(LEFT(Gerar_Upload!A63,120),\"erro\")","v":""},{"$f":"IFERROR(SUBSTITUTE(SUBSTITUTE(SUBSTITUTE(Gerar_Upload!B63,\".\",\"\"),\"-\",\"\"),\"/\",\"\"),\"erro\")","v":""},{"$f":"IFERROR(Gerar_Upload!C63,\"erro\")","v":0},{"$f":"IFERROR(Gerar_Upload!D63,\"erro\")","v":0},{"$f":"IFERROR(DATE(YEAR(Gerar_Upload!E63),MONTH(Gerar_Upload!E63),DAY(Gerar_Upload!E63)),\"erro\")","v":"00:00:00"},{"$f":"IFERROR(Gerar_Upload!F63,\"erro\")","v":0},{"$f":"IFERROR(IF(Gerar_Upload!G63<44,REPT(0,44-LEN(Gerar_Upload!G63))&Gerar_Upload!G63,Gerar_Upload!G63),\"erro\")","v":"00000000000000000000000000000000000000000000"}]
[{"$f":"IFERROR(LEFT(Gerar_Upload!A64,120),\"erro\")","v":""},{"$f":"IFERROR(SUBSTITUTE(SUBSTITUTE(SUBSTITUTE(Gerar_Upload!B64,\".\",\"\"),\"-\",\"\"),\"/\",\"\"),\"erro\")","v":""},{"$f":"IFERROR(Gerar_Upload!C64,\"erro\")","v":0},{"$f":"IFERROR(Gerar_Upload!D64,\"erro\")","v":0},{"$f":"IFERROR(DATE(YEAR(Gerar_Upload!E64),MONTH(Gerar_Upload!E64),DAY(Gerar_Upload!E64)),\"erro\")","v":"00:00:00"},{"$f":"IFERROR(Gerar_Upload!F64,\"erro\")","v":0},{"$f":"IFERROR(IF(Gerar_Upload!G64<44,REPT(0,44-LEN(Gerar_Upload!G64))&Gerar_Upload!G64,Gerar_Upload!G64),\"erro\")","v":"00000000000000000000000000000000000000000000"}]
[{"$f":"IFERROR(LEFT(Gerar_Upload!A65,120),\"erro\")","v":""},{"$f":"IFERROR(SUBSTITUTE(SUBSTITUTE(SUBSTITUTE(Gerar_Upload!B65,\".\",\"\"),\"-\",\"\"),\"/\",\"\"),\"erro\")","v":""},{"$f":"IFERROR(Gerar_Upload!C65,\"erro\")","v":0},{"$f":"IFERROR(Gerar_Upload!D65,\"erro\")","v":0},{"$f":"IFERROR(DATE(YEAR(Gerar_Upload!E65),MONTH(Gerar_Upload!E65),DAY(Gerar_Upload!E65)),\"erro\")","v":"00:00:00"},{"$f":"IFERROR(Gerar_Upload!F65,\"erro\")","v":0},{"$f":"IFERROR(IF(Gerar_Upload!G65<44,REPT(0,44-LEN(Gerar_Upload!G65))&Gerar_Upload!G65,Gerar_Upload!G65),\"erro\")","v":"00000000000000000000000000000000000000000000"}]
[{"$f":"IFERROR(LEFT(Gerar_Upload!A66,120),\"erro\")","v":""},{"$f":"IFERROR(SUBSTITUTE(SUBSTITUTE(SUBSTITUTE(Gerar_Upload!B66,\".\",\"\"),\"-\",\"\"),\"/\",\"\"),\"erro\")","v":""},{"$f":"IFERROR(Gerar_Upload!C66,\"erro\")","v":0},{"$f":"IFERROR(Gerar_Upload!D66,\"erro\")","v":0},{"$f":"IFERROR(DATE(YEAR(Gerar_Upload!E66),MONTH(Gerar_Upload!E66),DAY(Gerar_Upload!E66)),\"erro\")","v":"00:00:00"},{"$f":"IFERROR(Gerar_Upload!F66,\"erro\")","v":0},{"$f":"IFERROR(IF(Gerar_Upload!G66<44,REPT(0,44-LEN(Gerar_Upload!G66))&Gerar_Upload!G66,Gerar_Upload!G66),\"erro\")","v":"00000000000000000000000000000000000000000000"}]
[{"$f":"IFERROR(LEFT(Gerar_Upload!A67,120),\"erro\")","v":""},{"$f":"IFERROR(SUBSTITUTE(SUBSTITUTE(SUBSTITUTE(Gerar_Upload!B67,\".\",\"\"),\"-\",\"\"),\"/\",\"\"),\"erro\")","v":""},{"$f":"IFERROR(Gerar_Upload!C67,\"erro\")","v":0},{"$f":"IFERROR(Gerar_Upload!D67,\"erro\")","v":0},{"$f":"IFERROR(DATE(YEAR(Gerar_Upload!E67),MONTH(Gerar_Upload!E67),DAY(Gerar_Upload!E67)),\"erro\")","v":"00:00:00"},{"$f":"IFERROR(Gerar_Upload!F67,\"erro\")","v":0},{"$f":"IFERROR(IF(Gerar_Upload!G67<44,REPT(0,44-LEN(Gerar_Upload!G67))&Gerar_Upload!G67,Gerar_Upload!G67),\"erro\")","v":"00000000000000000000000000000000000000000000"}]
[{"$f":"IFERROR(LEFT(Gerar_Upload!A68,120),\"erro\")","v":""},{"$f":"IFERROR(SUBSTITUTE(SUBSTITUTE(SUBSTITUTE(Gerar_Upload!B68,\".\",\"\"),\"-\",\"\"),\"/\",\"\"),\"erro\")","v":""},{"$f":"IFERROR(Gerar_Upload!C68,\"erro\")","v":0},{"$f":"IFERROR(Gerar_Upload!D68,\"erro\")","v":0},{"$f":"IFERROR(DATE(YEAR(Gerar_Upload!E68),MONTH(Gerar_Upload!E68),DAY(Gerar_Upload!E68)),\"erro\")","v":"00:00:00"},{"$f":"IFERROR(Gerar_Upload!F68,\"erro\")","v":0},{"$f":"IFERROR(IF(Gerar_Upload!G68<44,REPT(0,44-LEN(Gerar_Upload!G68))&Gerar_Upload!G68,Gerar_Upload!G68),\"erro\")","v":"00000000000000000000000000000000000000000000"}]
[{"$f":"IFERROR(LEFT(Gerar_Upload!A69,120),\"erro\")","v":""},{"$f":"IFERROR(SUBSTITUTE(SUBSTITUTE(SUBSTITUTE(Gerar_Upload!B69,\".\",\"\"),\"-\",\"\"),\"/\",\"\"),\"erro\")","v":""},{"$f":"IFERROR(Gerar_Upload!C69,\"erro\")","v":0},{"$f":"IFERROR(Gerar_Upload!D69,\"erro\")","v":0},{"$f":"IFERROR(DATE(YEAR(Gerar_Upload!E69),MONTH(Gerar_Upload!E69),DAY(Gerar_Upload!E69)),\"erro\")","v":"00:00:00"},{"$f":"IFERROR(Gerar_Upload!F69,\"erro\")","v":0},{"$f":"IFERROR(IF(Gerar_Upload!G69<44,REPT(0,44-LEN(Gerar_Upload!G69))&Gerar_Upload!G69,Gerar_Upload!G69),\"erro\")","v":"00000000000000000000000000000000000000000000"}]
[{"$f":"IFERROR(LEFT(Gerar_Upload!A70,120),\"erro\")","v":""},{"$f":"IFERROR(SUBSTITUTE(SUBSTITUTE(SUBSTITUTE(Gerar_Upload!B70,\".\",\"\"),\"-\",\"\"),\"/\",\"\"),\"erro\")","v":""},{"$f":"IFERROR(Gerar_Upload!C70,\"erro\")","v":0},{"$f":"IFERROR(Gerar_Upload!D70,\"erro\")","v":0},{"$f":"IFERROR(DATE(YEAR(Gerar_Upload!E70),MONTH(Gerar_Upload!E70),DAY(Gerar_Upload!E70)),\"erro\")","v":"00:00:00"},{"$f":"IFERROR(Gerar_Upload!F70,\"erro\")","v":0},{"$f":"IFERROR(IF(Gerar_Upload!G70<44,REPT(0,44-LEN(Gerar_Upload!G70))&Gerar_Upload!G70,Gerar_Upload!G70),\"erro\")","v":"00000000000000000000000000000000000000000000"}]
[{"$f":"IFERROR(LEFT(Gerar_Upload!A71,120),\"erro\")","v":""},{"$f":"IFERROR(SUBSTITUTE(SUBSTITUTE(SUBSTITUTE(Gerar_Upload!B71,\".\",\"\"),\"-\",\"\"),\"/\",\"\"),\"erro\")","v":""},{"$f":"IFERROR(Gerar_Upload!C71,\"erro\")","v":0},{"$f":"IFERROR(Gerar_Upload!D71,\"erro\")","v":0},{"$f":"IFERROR(DATE(YEAR(Gerar_Upload!E71),MONTH(Gerar_Upload!E71),DAY(Gerar_Upload!E71)),\"erro\")","v":"00:00:00"},{"$f":"IFERROR(Gerar_Upload!F71,\"erro\")","v":0},{"$f":"IFERROR(IF(Gerar_Upload!G71<44,REPT(0,44-LEN(Gerar_Upload!G71))&Gerar_Upload!G71,Gerar_Upload!G71),\"erro\")","v":"00000000000000000000000000000000000000000000"}]
[{"$f":"IFERROR(LEFT(Gerar_Upload!A72,120),\"erro\")","v":""},{"$f":"IFERROR(SUBSTITUTE(SUBSTITUTE(SUBSTITUTE(Gerar_Upload!B72,\".\",\"\"),\"-\",\"\"),\"/\",\"\"),\"erro\")","v":""},{"$f":"IFERROR(Gerar_Upload!C72,\"erro\")","v":0},{"$f":"IFERROR(Gerar_Upload!D72,\"erro\")","v":0},{"$f":"IFERROR(DATE(YEAR(Gerar_Upload!E72),MONTH(Gerar_Upload!E72),DAY(Gerar_Upload!E72)),\"erro\")","v":"00:00:00"},{"$f":"IFERROR(Gerar_Upload!F72,\"erro\")","v":0},{"$f":"IFERROR(IF(Gerar_Upload!G72<44,REPT(0,44-LEN(Gerar_Upload!G72))&Gerar_Upload!G72,Gerar_Upload!G72),\"erro\")","v":"00000000000000000000000000000000000000000000"}]
[{"$f":"IFERROR(LEFT(Gerar_Upload!A73,120),\"erro\")","v":""},{"$f":"IFERROR(SUBSTITUTE(SUBSTITUTE(SUBSTITUTE(Gerar_Upload!B73,\".\",\"\"),\"-\",\"\"),\"/\",\"\"),\"erro\")","v":""},{"$f":"IFERROR(Gerar_Upload!C73,\"erro\")","v":0},{"$f":"IFERROR(Gerar_Upload!D73,\"erro\")","v":0},{"$f":"IFERROR(DATE(YEAR(Gerar_Upload!E73),MONTH(Gerar_Upload!E73),DAY(Gerar_Upload!E73)),\"erro\")","v":"00:00:00"},{"$f":"IFERROR(Gerar_Upload!F73,\"erro\")","v":0},{"$f":"IFERROR(IF(Gerar_Upload!G73<44,REPT(0,44-LEN(Gerar_Upload!G73))&Gerar_Upload!G73,Gerar_Upload!G73),\"erro\")","v":"00000000000000000000000000000000000000000000"}]
[{"$f":"IFERROR(LEFT(Gerar_Upload!A74,120),\"erro\")","v":""},{"$f":"IFERROR(SUBSTITUTE(SUBSTITUTE(SUBSTITUTE(Gerar_Upload!B74,\".\",\"\"),\"-\",\"\"),\"/\",\"\"),\"erro\")","v":""},{"$f":"IFERROR(Gerar_Upload!C74,\"erro\")","v":0},{"$f":"IFERROR(Gerar_Upload!D74,\"erro\")","v":0},{"$f":"IFERROR(DATE(YEAR(Gerar_Upload!E74),MONTH(Gerar_Upload!E74),DAY(Gerar_Upload!E74)),\"erro\")","v":"00:00:00"},{"$f":"IFERROR(Gerar_Upload!F74,\"erro\")","v":0},{"$f":"IFERROR(IF(Gerar_Upload!G74<44,REPT(0,44-LEN(Gerar_Upload!G74))&Gerar_Upload!G74,Gerar_Upload!G74),\"erro\")","v":"00000000000000000000000000000000000000000000"}]
[{"$f":"IFERROR(LEFT(Gerar_Upload!A75,120),\"erro\")","v":""},{"$f":"IFERROR(SUBSTITUTE(SUBSTITUTE(SUBSTITUTE(Gerar_Upload!B75,\".\",\"\"),\"-\",\"\"),\"/\",\"\"),\"erro\")","v":""},{"$f":"IFERROR(Gerar_Upload!C75,\"erro\")","v":0},{"$f":"IFERROR(Gerar_Upload!D75,\"erro\")","v":0},{"$f":"IFERROR(DATE(YEAR(Gerar_Upload!E75),MONTH(Gerar_Upload!E75),DAY(Gerar_Upload!E75)),\"erro\")","v":"00:00:00"},{"$f":"IFERROR(Gerar_Upload!F75,\"erro\")","v":0},{"$f":"IFERROR(IF(Gerar_Upload!G75<44,REPT(0,44-LEN(Gerar_Upload!G75))&Gerar_Upload!G75,Gerar_Upload!G75),\"erro\")","v":"00000000000000000000000000000000000000000000"}]
[{"$f":"IFERROR(LEFT(Gerar_Upload!A76,120),\"erro\")","v":""},{"$f":"IFERROR(SUBSTITUTE(SUBSTITUTE(SUBSTITUTE(Gerar_Upload!B76,\".\",\"\"),\"-\",\"\"),\"/\",\"\"),\"erro\")","v":""},{"$f":"IFERROR(Gerar_Upload!C76,\"erro\")","v":0},{"$f":"IFERROR(Gerar_Upload!D76,\"erro\")","v":0},{"$f":"IFERROR(DATE(YEAR(Gerar_Upload!E76),MONTH(Gerar_Upload!E76),DAY(Gerar_Upload!E76)),\"erro\")","v":"00:00:00"},{"$f":"IFERROR(Gerar_Upload!F76,\"erro\")","v":0},{"$f":"IFERROR(IF(Gerar_Upload!G76<44,REPT(0,44-LEN(Gerar_Upload!G76))&Gerar_Upload!G76,Gerar_Upload!G76),\"erro\")","v":"00000000000000000000000000000000000000000000"}]
[{"$f":"IFERROR(LEFT(Gerar_Upload!A77,120),\"erro\")","v":""},{"$f":"IFERROR(SUBSTITUTE(SUBSTITUTE(SUBSTITUTE(Gerar_Upload!B77,\".\",\"\"),\"-\",\"\"),\"/\",\"\"),\"erro\")","v":""},{"$f":"IFERROR(Gerar_Upload!C77,\"erro\")","v":0},{"$f":"IFERROR(Gerar_Upload!D77,\"erro\")","v":0},{"$f":"IFERROR(DATE(YEAR(Gerar_Upload!E77),MONTH(Gerar_Upload!E77),DAY(Gerar_Upload!E77)),\"erro\")","v":"00:00:00"},{"$f":"IFERROR(Gerar_Upload!F77,\"erro\")","v":0},{"$f":"IFERROR(IF(Gerar_Upload!G77<44,REPT(0,44-LEN(Gerar_Upload!G77))&Gerar_Upload!G77,Gerar_Upload!G77),\"erro\")","v":"00000000000000000000000000000000000000000000"}]
[{"$f":"IFERROR(LEFT(Gerar_Upload!A78,120),\"erro\")","v":""},{"$f":"IFERROR(SUBSTITUTE(SUBSTITUTE(SUBSTITUTE(Gerar_Upload!B78,\".\",\"\"),\"-\",\"\"),\"/\",\"\"),\"erro\")","v":""},{"$f":"IFERROR(Gerar_Upload!C78,\"erro\")","v":0},{"$f":"IFERROR(Gerar_Upload!D78,\"erro\")","v":0},{"$f":"IFERROR(DATE(YEAR(Gerar_Upload!E78),MONTH(Gerar_Upload!E78),DAY(Gerar_Upload!E78)),\"erro\")","v":"00:00:00"},{"$f":"IFERROR(Gerar_Upload!F78,\"erro\")","v":0},{"$f":"IFERROR(IF(Gerar_Upload!G78<44,REPT(0,44-LEN(Gerar_Upload!G78))&Gerar_Upload!G78,Gerar_Upload!G78),\"erro\")","v":"00000000000000000000000000000000000000000000"}]
[{"$f":"IFERROR(LEFT(Gerar_Upload!A79,120),\"erro\")","v":""},{"$f":"IFERROR(SUBSTITUTE(SUBSTITUTE(SUBSTITUTE(Gerar_Upload!B79,\".\",\"\"),\"-\",\"\"),\"/\",\"\"),\"erro\")","v":""},{"$f":"IFERROR(Gerar_Upload!C79,\"erro\")","v":0},{"$f":"IFERROR(Gerar_Upload!D79,\"erro\")","v":0},{"$f":"IFERROR(DATE(YEAR(Gerar_Upload!E79),MONTH(Gerar_Upload!E79),DAY(Gerar_Upload!E79)),\"erro\")","v":"00:00:00"},{"$f":"IFERROR(Gerar_Upload!F79,\"erro\")","v":0},{"$f":"IFERROR(IF(Gerar_Upload!G79<44,REPT(0,44-LEN(Gerar_Upload!G79))&Gerar_Upload!G79,Gerar_Upload!G79),\"erro\")","v":"00000000000000000000000000000000000000000000"}]
[{"$f":"IFERROR(LEFT(Gerar_Upload!A80,120),\"erro\")","v":""},{"$f":"IFERROR(SUBSTITUTE(SUBSTITUTE(SUBSTITUTE(Gerar_Upload!B80,\".\",\"\"),\"-\",\"\"),\"/\",\"\"),\"erro\")","v":""},{"$f":"IFERROR(Gerar_Upload!C80,\"erro\")","v":0},{"$f":"IFERROR(Gerar_Upload!D80,\"erro\")","v":0},{"$f":"IFERROR(DATE(YEAR(Gerar_Upload!E80),MONTH(Gerar_Upload!E80),DAY(Gerar_Upload!E80)),\"erro\")","v":"00:00:00"},{"$f":"IFERROR(Gerar_Upload!F80,\"erro\")","v":0},{"$f":"IFERROR(IF(Gerar_Upload!G80<44,REPT(0,44-LEN(Gerar_Upload!G80))&Gerar_Upload!G80,Gerar_Upload!G80),\"erro\")","v":"00000000000000000000000000000000000000000000"}]
[{"$f":"IFERROR(LEFT(Gerar_Upload!A81,120),\"erro\")","v":""},{"$f":"IFERROR(SUBSTITUTE(SUBSTITUTE(SUBSTITUTE(Gerar_Upload!B81,\".\",\"\"),\"-\",\"\"),\"/\",\"\"),\"erro\")","v":""},{"$f":"IFERROR(Gerar_Upload!C81,\"erro\")","v":0},{"$f":"IFERROR(Gerar_Upload!D81,\"erro\")","v":0},{"$f":"IFERROR(DATE(YEAR(Gerar_Upload!E81),MONTH(Gerar_Upload!E81),DAY(Gerar_Upload!E81)),\"erro\")","v":"00:00:00"},{"$f":"IFERROR(Gerar_Upload!F81,\"erro\")","v":0},{"$f":"IFERROR(IF(Gerar_Upload!G81<44,REPT(0,44-LEN(Gerar_Upload!G81))&Gerar_Upload!G81,Gerar_Upload!G81),\"erro\")","v":"00000000000000000000000000000000000000000000"}]
[{"$f":"IFERROR(LEFT(Gerar_Upload!A82,120),\"erro\")","v":""},{"$f":"IFERROR(SUBSTITUTE(SUBSTITUTE(SUBSTITUTE(Gerar_Upload!B82,\".\",\"\"),\"-\",\"\"),\"/\",\"\"),\"erro\")","v":""},{"$f":"IFERROR(Gerar_Upload!C82,\"erro\")","v":0},{"$f":"IFERROR(Gerar_Upload!D82,\"erro\")","v":0},{"$f":"IFERROR(DATE(YEAR(Gerar_Upload!E82),MONTH(Gerar_Upload!E82),DAY(Gerar_Upload!E82)),\"erro\")","v":"00:00:00"},{"$f":"IFERROR(Gerar_Upload!F82,\"erro\")","v":0},{"$f":"IFERROR(IF(Gerar_Upload!G82<44,REPT(0,44-LEN(Gerar_Upload!G82))&Gerar_Upload!G82,Gerar_Upload!G82),\"erro\")","v":"00000000000000000000000000000000000000000000"}]
[{"$f":"IFERROR(LEFT(Gerar_Upload!A83,120),\"erro\")","v":""},{"$f":"IFERROR(SUBSTITUTE(SUBSTITUTE(SUBSTITUTE(Gerar_Upload!B83,\".\",\"\"),\"-\",\"\"),\"/\",\"\"),\"erro\")","v":""},{"$f":"IFERROR(Gerar_Upload!C83,\"erro\")","v":0},{"$f":"IFERROR(Gerar_Upload!D83,\"erro\")","v":0},{"$f":"IFERROR(DATE(YEAR(Gerar_Upload!E83),MONTH(Gerar_Upload!E83),DAY(Gerar_Upload!E83)),\"erro\")","v":"00:00:00"},{"$f":"IFERROR(Gerar_Upload!F83,\"erro\")","v":0},{"$f":"IFERROR(IF(Gerar_Upload!G83<44,REPT(0,44-LEN(Gerar_Upload!G83))&Gerar_Upload!G83,Gerar_Upload!G83),\"erro\")","v":"00000000000000000000000000000000000000000000"}]
[{"$f":"IFERROR(LEFT(Gerar_Upload!A84,120),\"erro\")","v":""},{"$f":"IFERROR(SUBSTITUTE(SUBSTITUTE(SUBSTITUTE(Gerar_Upload!B84,\".\",\"\"),\"-\",\"\"),\"/\",\"\"),\"erro\")","v":""},{"$f":"IFERROR(Gerar_Upload!C84,\"erro\")","v":0},{"$f":"IFERROR(Gerar_Upload!D84,\"erro\")","v":0},{"$f":"IFERROR(DATE(YEAR(Gerar_Upload!E84),MONTH(Gerar_Upload!E84),DAY(Gerar_Upload!E84)),\"erro\")","v":"00:00:00"},{"$f":"IFERROR(Gerar_Upload!F84,\"erro\")","v":0},{"$f":"IFERROR(IF(Gerar_Upload!G84<44,REPT(0,44-LEN(Gerar_Upload!G84))&Gerar_Upload!G84,Gerar_Upload!G84),\"erro\")","v":"00000000000000000000000000000000000000000000"}]
[{"$f":"IFERROR(LEFT(Gerar_Upload!A85,120),\"erro\")","v":""},{"$f":"IFERROR(SUBSTITUTE(SUBSTITUTE(SUBSTITUTE(Gerar_Upload!B85,\".\",\"\"),\"-\",\"\"),\"/\",\"\"),\"erro\")","v":""},{"$f":"IFERROR(Gerar_Upload!C85,\"erro\")","v":0},{"$f":"IFERROR(Gerar_Upload!D85,\"erro\")","v":0},{"$f":"IFERROR(DATE(YEAR(Gerar_Upload!E85),MONTH(Gerar_Upload!E85),DAY(Gerar_Upload!E85)),\"erro\")","v":"00:00:00"},{"$f":"IFERROR(Gerar_Upload!F85,\"erro\")","v":0},{"$f":"IFERROR(IF(Gerar_Upload!G85<44,REPT(0,44-LEN(Gerar_Upload!G85))&Gerar_Upload!G85,Gerar_Upload!G85),\"erro\")","v":"00000000000000000000000000000000000000000000"}]
[{"$f":"IFERROR(LEFT(Gerar_Upload!A86,120),\"erro\")","v":""},{"$f":"IFERROR(SUBSTITUTE(SUBSTITUTE(SUBSTITUTE(Gerar_Upload!B86,\".\",\"\"),\"-\",\"\"),\"/\",\"\"),\"erro\")","v":""},{"$f":"IFERROR(Gerar_Upload!C86,\"erro\")","v":0},{"$f":"IFERROR(Gerar_Upload!D86,\"erro\")","v":0},{"$f":"IFERROR(DATE(YEAR(Gerar_Upload!E86),MONTH(Gerar_Upload!E86),DAY(Gerar_Upload!E86)),\"erro\")","v":"00:00:00"},{"$f":"IFERROR(Gerar_Upload!F86,\"erro\")","v":0},{"$f":"IFERROR(IF(Gerar_Upload!G86<44,REPT(0,44-LEN(Gerar_Upload!G86))&Gerar_Upload!G86,Gerar_Upload!G86),\"erro\")","v":"00000000000000000000000000000000000000000000"}]
[{"$f":"IFERROR(LEFT(Gerar_Upload!A87,120),\"erro\")","v":""},{"$f":"IFERROR(SUBSTITUTE(SUBSTITUTE(SUBSTITUTE(Gerar_Upload!B87,\".\",\"\"),\"-\",\"\"),\"/\",\"\"),\"erro\")","v":""},{"$f":"IFERROR(Gerar_Upload!C87,\"erro\")","v":0},{"$f":"IFERROR(Gerar_Upload!D87,\"erro\")","v":0},{"$f":"IFERROR(DATE(YEAR(Gerar_Upload!E87),MONTH(Gerar_Upload!E87),DAY(Gerar_Upload!E87)),\"erro\")","v":"00:00:00"},{"$f":"IFERROR(Gerar_Upload!F87,\"erro\")","v":0},{"$f":"IFERROR(IF(Gerar_Upload!G87<44,REPT(0,44-LEN(Gerar_Upload!G87))&Gerar_Upload!G87,Gerar_Upload!G87),\"erro\")","v":"00000000000000000000000000000000000000000000"}]
[{"$f":"IFERROR(LEFT(Gerar_Upload!A88,120),\"erro\")","v":""},{"$f":"IFERROR(SUBSTITUTE(SUBSTITUTE(SUBSTITUTE(Gerar_Upload!B88,\".\",\"\"),\"-\",\"\"),\"/\",\"\"),\"erro\")","v":""},{"$f":"IFERROR(Gerar_Upload!C88,\"erro\")","v":0},{"$f":"IFERROR(Gerar_Upload!D88,\"erro\")","v":0},{"$f":"IFERROR(DATE(YEAR(Gerar_Upload!E88),MONTH(Gerar_Upload!E88),DAY(Gerar_Upload!E88)),\"erro\")","v":"00:00:00"},{"$f":"IFERROR(Gerar_Upload!F88,\"erro\")","v":0},{"$f":"IFERROR(IF(Gerar_Upload!G88<44,REPT(0,44-LEN(Gerar_Upload!G88))&Gerar_Upload!G88,Gerar_Upload!G88),\"erro\")","v":"00000000000000000000000000000000000000000000"}]
[{"$f":"IFERROR(LEFT(Gerar_Upload!A89,120),\"erro\")","v":""},{"$f":"IFERROR(SUBSTITUTE(SUBSTITUTE(SUBSTITUTE(Gerar_Upload!B89,\".\",\"\"),\"-\",\"\"),\"/\",\"\"),\"erro\")","v":""},{"$f":"IFERROR(Gerar_Upload!C89,\"erro\")","v":0},{"$f":"IFERROR(Gerar_Upload!D89,\"erro\")","v":0},{"$f":"IFERROR(DATE(YEAR(Gerar_Upload!E89),MONTH(Gerar_Upload!E89),DAY(Gerar_Upload!E89)),\"erro\")","v":"00:00:00"},{"$f":"IFERROR(Gerar_Upload!F89,\"erro\")","v":0},{"$f":"IFERROR(IF(Gerar_Upload!G89<44,REPT(0,44-LEN(Gerar_Upload!G89))&Gerar_Upload!G89,Gerar_Upload!G89),\"erro\")","v":"00000000000000000000000000000000000000000000"}]
[{"$f":"IFERROR(LEFT(Gerar_Upload!A90,120),\"erro\")","v":""},{"$f":"IFERROR(SUBSTITUTE(SUBSTITUTE(SUBSTITUTE(Gerar_Upload!B90,\".\",\"\"),\"-\",\"\"),\"/\",\"\"),\"erro\")","v":""},{"$f":"IFERROR(Gerar_Upload!C90,\"erro\")","v":0},{"$f":"IFERROR(Gerar_Upload!D90,\"erro\")","v":0},{"$f":"IFERROR(DATE(YEAR(Gerar_Upload!E90),MONTH(Gerar_Upload!E90),DAY(Gerar_Upload!E90)),\"erro\")","v":"00:00:00"},{"$f":"IFERROR(Gerar_Upload!F90,\"erro\")","v":0},{"$f":"IFERROR(IF(Gerar_Upload!G90<44,REPT(0,44-LEN(Gerar_Upload!G90))&Gerar_Upload!G90,Gerar_Upload!G90),\"erro\")","v":"00000000000000000000000000000000000000000000"}]
[{"$f":"IFERROR(LEFT(Gerar_Upload!A91,120),\"erro\")","v":""},{"$f":"IFERROR(SUBSTITUTE(SUBSTITUTE(SUBSTITUTE(Gerar_Upload!B91,\".\",\"\"),\"-\",\"\"),\"/\",\"\"),\"erro\")","v":""},{"$f":"IFERROR(Gerar_Upload!C91,\"erro\")","v":0},{"$f":"IFERROR(Gerar_Upload!D91,\"erro\")","v":0},{"$f":"IFERROR(DATE(YEAR(Gerar_Upload!E91),MONTH(Gerar_Upload!E91),DAY(Gerar_Upload!E91)),\"erro\")","v":"00:00:00"},{"$f":"IFERROR(Gerar_Upload!F91,\"erro\")","v":0},{"$f":"IFERROR(IF(Gerar_Upload!G91<44,REPT(0,44-LEN(Gerar_Upload!G91))&Gerar_Upload!G91,Gerar_Upload!G91),\"erro\")","v":"00000000000000000000000000000000000000000000"}]
[{"$f":"IFERROR(LEFT(Gerar_Upload!A92,120),\"erro\")","v":""},{"$f":"IFERROR(SUBSTITUTE(SUBSTITUTE(SUBSTITUTE(Gerar_Upload!B92,\".\",\"\"),\"-\",\"\"),\"/\",\"\"),\"erro\")","v":""},{"$f":"IFERROR(Gerar_Upload!C92,\"erro\")","v":0},{"$f":"IFERROR(Gerar_Upload!D92,\"erro\")","v":0},{"$f":"IFERROR(DATE(YEAR(Gerar_Upload!E92),MONTH(Gerar_Upload!E92),DAY(Gerar_Upload!E92)),\"erro\")","v":"00:00:00"},{"$f":"IFERROR(Gerar_Upload!F92,\"erro\")","v":0},{"$f":"IFERROR(IF(Gerar_Upload!G92<44,REPT(0,44-LEN(Gerar_Upload!G92))&Gerar_Upload!G92,Gerar_Upload!G92),\"erro\")","v":"00000000000000000000000000000000000000000000"}]
[{"$f":"IFERROR(LEFT(Gerar_Upload!A93,120),\"erro\")","v":""},{"$f":"IFERROR(SUBSTITUTE(SUBSTITUTE(SUBSTITUTE(Gerar_Upload!B93,\".\",\"\"),\"-\",\"\"),\"/\",\"\"),\"erro\")","v":""},{"$f":"IFERROR(Gerar_Upload!C93,\"erro\")","v":0},{"$f":"IFERROR(Gerar_Upload!D93,\"erro\")","v":0},{"$f":"IFERROR(DATE(YEAR(Gerar_Upload!E93),MONTH(Gerar_Upload!E93),DAY(Gerar_Upload!E93)),\"erro\")","v":"00:00:00"},{"$f":"IFERROR(Gerar_Upload!F93,\"erro\")","v":0},{"$f":"IFERROR(IF(Gerar_Upload!G93<44,REPT(0,44-LEN(Gerar_Upload!G93))&Gerar_Upload!G93,Gerar_Upload!G93),\"erro\")","v":"00000000000000000000000000000000000000000000"}]
[{"$f":"IFERROR(LEFT(Gerar_Upload!A94,120),\"erro\")","v":""},{"$f":"IFERROR(SUBSTITUTE(SUBSTITUTE(SUBSTITUTE(Gerar_Upload!B94,\".\",\"\"),\"-\",\"\"),\"/\",\"\"),\"erro\")","v":""},{"$f":"IFERROR(Gerar_Upload!C94,\"erro\")","v":0},{"$f":"IFERROR(Gerar_Upload!D94,\"erro\")","v":0},{"$f":"IFERROR(DATE(YEAR(Gerar_Upload!E94),MONTH(Gerar_Upload!E94),DAY(Gerar_Upload!E94)),\"erro\")","v":"00:00:00"},{"$f":"IFERROR(Gerar_Upload!F94,\"erro\")","v":0},{"$f":"IFERROR(IF(Gerar_Upload!G94<44,REPT(0,44-LEN(Gerar_Upload!G94))&Gerar_Upload!G94,Gerar_Upload!G94),\"erro\")","v":"00000000000000000000000000000000000000000000"}]
[{"$f":"IFERROR(LEFT(Gerar_Upload!A95,120),\"erro\")","v":""},{"$f":"IFERROR(SUBSTITUTE(SUBSTITUTE(SUBSTITUTE(Gerar_Upload!B95,\".\",\"\"),\"-\",\"\"),\"/\",\"\"),\"erro\")","v":""},{"$f":"IFERROR(Gerar_Upload!C95,\"erro\")","v":0},{"$f":"IFERROR(Gerar_Upload!D95,\"erro\")","v":0},{"$f":"IFERROR(DATE(YEAR(Gerar_Upload!E95),MONTH(Gerar_Upload!E95),DAY(Gerar_Upload!E95)),\"erro\")","v":"00:00:00"},{"$f":"IFERROR(Gerar_Upload!F95,\"erro\")","v":0},{"$f":"IFERROR(IF(Gerar_Upload!G95<44,REPT(0,44-LEN(Gerar_Upload!G95))&Gerar_Upload!G95,Gerar_Upload!G95),\"erro\")","v":"00000000000000000000000000000000000000000000"}]
[{"$f":"IFERROR(LEFT(Gerar_Upload!A96,120),\"erro\")","v":""},{"$f":"IFERROR(SUBSTITUTE(SUBSTITUTE(SUBSTITUTE(Gerar_Upload!B96,\".\",\"\"),\"-\",\"\"),\"/\",\"\"),\"erro\")","v":""},{"$f":"IFERROR(Gerar_Upload!C96,\"erro\")","v":0},{"$f":"IFERROR(Gerar_Upload!D96,\"erro\")","v":0},{"$f":"IFERROR(DATE(YEAR(Gerar_Upload!E96),MONTH(Gerar_Upload!E96),DAY(Gerar_Upload!E96)),\"erro\")","v":"00:00:00"},{"$f":"IFERROR(Gerar_Upload!F96,\"erro\")","v":0},{"$f":"IFERROR(IF(Gerar_Upload!G96<44,REPT(0,44-LEN(Gerar_Upload!G96))&Gerar_Upload!G96,Gerar_Upload!G96),\"erro\")","v":"00000000000000000000000000000000000000000000"}]
[{"$f":"IFERROR(LEFT(Gerar_Upload!A97,120),\"erro\")","v":""},{"$f":"IFERROR(SUBSTITUTE(SUBSTITUTE(SUBSTITUTE(Gerar_Upload!B97,\".\",\"\"),\"-\",\"\"),\"/\",\"\"),\"erro\")","v":""},{"$f":"IFERROR(Gerar_Upload!C97,\"erro\")","v":0},{"$f":"IFERROR(Gerar_Upload!D97,\"erro\")","v":0},{"$f":"IFERROR(DATE(YEAR(Gerar_Upload!E97),MONTH(Gerar_Upload!E97),DAY(Gerar_Upload!E97)),\"erro\")","v":"00:00:00"},{"$f":"IFERROR(Gerar_Upload!F97,\"erro\")","v":0},{"$f":"IFERROR(IF(Gerar_Upload!G97<44,REPT(0,44-LEN(Gerar_Upload!G97))&Gerar_Upload!G97,Gerar_Upload!G97),\"erro\")","v":"00000000000000000000000000000000000000000000"}]
[{"$f":"IFERROR(LEFT(Gerar_Upload!A98,120),\"erro\")","v":""},{"$f":"IFERROR(SUBSTITUTE(SUBSTITUTE(SUBSTITUTE(Gerar_Upload!B98,\".\",\"\"),\"-\",\"\"),\"/\",\"\"),\"erro\")","v":""},{"$f":"IFERROR(Gerar_Upload!C98,\"erro\")","v":0},{"$f":"IFERROR(Gerar_Upload!D98,\"erro\")","v":0},{"$f":"IFERROR(DATE(YEAR(Gerar_Upload!E98),MONTH(Gerar_Upload!E98),DAY(Gerar_Upload!E98)),\"erro\")","v":"00:00:00"},{"$f":"IFERROR(Gerar_Upload!F98,\"erro\")","v":0},{"$f":"IFERROR(IF(Gerar_Upload!G98<44,REPT(0,44-LEN(Gerar_Upload!G98))&Gerar_Upload!G98,Gerar_Upload!G98),\"erro\")","v":"00000000000000000000000000000000000000000000"}]
[{"$f":"IFERROR(LEFT(Gerar_Upload!A99,120),\"erro\")","v":""},{"$f":"IFERROR(SUBSTITUTE(SUBSTITUTE(SUBSTITUTE(Gerar_Upload!B99,\".\",\"\"),\"-\",\"\"),\"/\",\"\"),\"erro\")","v":""},{"$f":"IFERROR(Gerar_Upload!C99,\"erro\")","v":0},{"$f":"IFERROR(Gerar_Upload!D99,\"erro\")","v":0},{"$f":"IFERROR(DATE(YEAR(Gerar_Upload!E99),MONTH(Gerar_Upload!E99),DAY(Gerar_Upload!E99)),\"erro\")","v":"00:00:00"},{"$f":"IFERROR(Gerar_Upload!F99,\"erro\")","v":0},{"$f":"IFERROR(IF(Gerar_Upload!G99<44,REPT(0,44-LEN(Gerar_Upload!G99))&Gerar_Upload!G99,Gerar_Upload!G99),\"erro\")","v":"00000000000000000000000000000000000000000000"}]
[{"$f":"IFERROR(LEFT(Gerar_Upload!A100,120),\"erro\")","v":""},{"$f":"IFERROR(SUBSTITUTE(SUBSTITUTE(SUBSTITUTE(Gerar_Upload!B100,\".\",\"\"),\"-\",\"\"),\"/\",\"\"),\"erro\")","v":""},{"$f":"IFERROR(Gerar_Upload!C100,\"erro\")","v":0},{"$f":"IFERROR(Gerar_Upload!D100,\"erro\")","v":0},{"$f":"IFERROR(DATE(YEAR(Gerar_Upload!E100),MONTH(Gerar_Upload!E100),DAY(Gerar_Upload!E100)),\"erro\")","v":"00:00:00"},{"$f":"IFERROR(Gerar_Upload!F100,\"erro\")","v":0},{"$f":"IFERROR(IF(Gerar_Upload!G100<44,REPT(0,44-LEN(Gerar_Upload!G100))&Gerar_Upload!G100,Gerar_Upload!G100),\"erro\")","v":"00000000000000000000000000000000000000000000"}]
[{"$f":"IFERROR(LEFT(Gerar_Upload!A101,120),\"erro\")","v":""},{"$f":"IFERROR(SUBSTITUTE(SUBSTITUTE(SUBSTITUTE(Gerar_Upload!B101,\".\",\"\"),\"-\",\"\"),\"/\",\"\"),\"erro\")","v":""},{"$f":"IFERROR(Gerar_Upload!C101,\"erro\")","v":0},{"$f":"IFERROR(Gerar_Upload!D101,\"erro\")","v":0},{"$f":"IFERROR(DATE(YEAR(Gerar_Upload!E101),MONTH(Gerar_Upload!E101),DAY(Gerar_Upload!E101)),\"erro\")","v":"00:00:00"},{"$f":"IFERROR(Gerar_Upload!F101,\"erro\")","v":0},{"$f":"IFERROR(IF(Gerar_Upload!G101<44,REPT(0,44-LEN(Gerar_Upload!G101))&Gerar_Upload!G101,Gerar_Upload!G101),\"erro\")","v":"00000000000000000000000000000000000000000000"}]
[{"$f":"IFERROR(LEFT(Gerar_Upload!A102,120),\"erro\")","v":""},{"$f":"IFERROR(SUBSTITUTE(SUBSTITUTE(SUBSTITUTE(Gerar_Upload!B102,\".\",\"\"),\"-\",\"\"),\"/\",\"\"),\"erro\")","v":""},{"$f":"IFERROR(Gerar_Upload!C102,\"erro\")","v":0},{"$f":"IFERROR(Gerar_Upload!D102,\"erro\")","v":0},{"$f":"IFERROR(DATE(YEAR(Gerar_Upload!E102),MONTH(Gerar_Upload!E102),DAY(Gerar_Upload!E102)),\"erro\")","v":"00:00:00"},{"$f":"IFERROR(Gerar_Upload!F102,\"erro\")","v":0},{"$f":"IFERROR(IF(Gerar_Upload!G102<44,REPT(0,44-LEN(Gerar_Upload!G102))&Gerar_Upload!G102,Gerar_Upload!G102),\"erro\")","v":"00000000000000000000000000000000000000000000"}]
[{"$f":"IFERROR(LEFT(Gerar_Upload!A103,120),\"erro\")","v":""},{"$f":"IFERROR(SUBSTITUTE(SUBSTITUTE(SUBSTITUTE(Gerar_Upload!B103,\".\",\"\"),\"-\",\"\"),\"/\",\"\"),\"erro\")","v":""},{"$f":"IFERROR(Gerar_Upload!C103,\"erro\")","v":0},{"$f":"IFERROR(Gerar_Upload!D103,\"erro\")","v":0},{"$f":"IFERROR(DATE(YEAR(Gerar_Upload!E103),MONTH(Gerar_Upload!E103),DAY(Gerar_Upload!E103)),\"erro\")","v":"00:00:00"},{"$f":"IFERROR(Gerar_Upload!F103,\"erro\")","v":0},{"$f":"IFERROR(IF(Gerar_Upload!G103<44,REPT(0,44-LEN(Gerar_Upload!G103))&Gerar_Upload!G103,Gerar_Upload!G103),\"erro\")","v":"00000000000000000000000000000000000000000000"}]
[{"$f":"IFERROR(LEFT(Gerar_Upload!A104,120),\"erro\")","v":""},{"$f":"IFERROR(SUBSTITUTE(SUBSTITUTE(SUBSTITUTE(Gerar_Upload!B104,\".\",\"\"),\"-\",\"\"),\"/\",\"\"),\"erro\")","v":""},{"$f":"IFERROR(Gerar_Upload!C104,\"erro\")","v":0},{"$f":"IFERROR(Gerar_Upload!D104,\"erro\")","v":0},{"$f":"IFERROR(DATE(YEAR(Gerar_Upload!E104),MONTH(Gerar_Upload!E104),DAY(Gerar_Upload!E104)),\"erro\")","v":"00:00:00"},{"$f":"IFERROR(Gerar_Upload!F104,\"erro\")","v":0},{"$f":"IFERROR(IF(Gerar_Upload!G104<44,REPT(0,44-LEN(Gerar_Upload!G104))&Gerar_Upload!G104,Gerar_Upload!G104),\"erro\")","v":"00000000000000000000000000000000000000000000"}]
[{"$f":"IFERROR(LEFT(Gerar_Upload!A105,120),\"erro\")","v":""},{"$f":"IFERROR(SUBSTITUTE(SUBSTITUTE(SUBSTITUTE(Gerar_Upload!B105,\".\",\"\"),\"-\",\"\"),\"/\",\"\"),\"erro\")","v":""},{"$f":"IFERROR(Gerar_Upload!C105,\"erro\")","v":0},{"$f":"IFERROR(Gerar_Upload!D105,\"erro\")","v":0},{"$f":"IFERROR(DATE(YEAR(Gerar_Upload!E105),MONTH(Gerar_Upload!E105),DAY(Gerar_Upload!E105)),\"erro\")","v":"00:00:00"},{"$f":"IFERROR(Gerar_Upload!F105,\"erro\")","v":0},{"$f":"IFERROR(IF(Gerar_Upload!G105<44,REPT(0,44-LEN(Gerar_Upload!G105))&Gerar_Upload!G105,Gerar_Upload!G105),\"erro\")","v":"00000000000000000000000000000000000000000000"}]
[{"$f":"IFERROR(LEFT(Gerar_Upload!A106,120),\"erro\")","v":""},{"$f":"IFERROR(SUBSTITUTE(SUBSTITUTE(SUBSTITUTE(Gerar_Upload!B106,\".\",\"\"),\"-\",\"\"),\"/\",\"\"),\"erro\")","v":""},{"$f":"IFERROR(Gerar_Upload!C106,\"erro\")","v":0},{"$f":"IFERROR(Gerar_Upload!D106,\"erro\")","v":0},{"$f":"IFERROR(DATE(YEAR(Gerar_Upload!E106),MONTH(Gerar_Upload!E106),DAY(Gerar_Upload!E106)),\"erro\")","v":"00:00:00"},{"$f":"IFERROR(Gerar_Upload!F106,\"erro\")","v":0},{"$f":"IFERROR(IF(Gerar_Upload!G106<44,REPT(0,44-LEN(Gerar_Upload!G106))&Gerar_Upload!G106,Gerar_Upload!G106),\"erro\")","v":"00000000000000000000000000000000000000000000"}]
[{"$f":"IFERROR(LEFT(Gerar_Upload!A107,120),\"erro\")","v":""},{"$f":"IFERROR(SUBSTITUTE(SUBSTITUTE(SUBSTITUTE(Gerar_Upload!B107,\".\",\"\"),\"-\",\"\"),\"/\",\"\"),\"erro\")","v":""},{"$f":"IFERROR(Gerar_Upload!C107,\"erro\")","v":0},{"$f":"IFERROR(Gerar_Upload!D107,\"erro\")","v":0},{"$f":"IFERROR(DATE(YEAR(Gerar_Upload!E107),MONTH(Gerar_Upload!E107),DAY(Gerar_Upload!E107)),\"erro\")","v":"00:00:00"},{"$f":"IFERROR(Gerar_Upload!F107,\"erro\")","v":0},{"$f":"IFERROR(IF(Gerar_Upload!G107<44,REPT(0,44-LEN(Gerar_Upload!G107))&Gerar_Upload!G107,Gerar_Upload!G107),\"erro\")","v":"00000000000000000000000000000000000000000000"}]
[{"$f":"IFERROR(LEFT(Gerar_Upload!A108,120),\"erro\")","v":""},{"$f":"IFERROR(SUBSTITUTE(SUBSTITUTE(SUBSTITUTE(Gerar_Upload!B108,\".\",\"\"),\"-\",\"\"),\"/\",\"\"),\"erro\")","v":""},{"$f":"IFERROR(Gerar_Upload!C108,\"erro\")","v":0},{"$f":"IFERROR(Gerar_Upload!D108,\"erro\")","v":0},{"$f":"IFERROR(DATE(YEAR(Gerar_Upload!E108),MONTH(Gerar_Upload!E108),DAY(Gerar_Upload!E108)),\"erro\")","v":"00:00:00"},{"$f":"IFERROR(Gerar_Upload!F108,\"erro\")","v":0},{"$f":"IFERROR(IF(Gerar_Upload!G108<44,REPT(0,44-LEN(Gerar_Upload!G108))&Gerar_Upload!G108,Gerar_Upload!G108),\"erro\")","v":"00000000000000000000000000000000000000000000"}]
[{"$f":"IFERROR(LEFT(Gerar_Upload!A109,120),\"erro\")","v":""},{"$f":"IFERROR(SUBSTITUTE(SUBSTITUTE(SUBSTITUTE(Gerar_Upload!B109,\".\",\"\"),\"-\",\"\"),\"/\",\"\"),\"erro\")","v":""},{"$f":"IFERROR(Gerar_Upload!C109,\"erro\")","v":0},{"$f":"IFERROR(Gerar_Upload!D109,\"erro\")","v":0},{"$f":"IFERROR(DATE(YEAR(Gerar_Upload!E109),MONTH(Gerar_Upload!E109),DAY(Gerar_Upload!E109)),\"erro\")","v":"00:00:00"},{"$f":"IFERROR(Gerar_Upload!F109,\"erro\")","v":0},{"$f":"IFERROR(IF(Gerar_Upload!G109<44,REPT(0,44-LEN(Gerar_Upload!G109))&Gerar_Upload!G109,Gerar_Upload!G109),\"erro\")","v":"00000000000000000000000000000000000000000000"}]
[{"$f":"IFERROR(LEFT(Gerar_Upload!A110,120),\"erro\")","v":""},{"$f":"IFERROR(SUBSTITUTE(SUBSTITUTE(SUBSTITUTE(Gerar_Upload!B110,\".\",\"\"),\"-\",\"\"),\"/\",\"\"),\"erro\")","v":""},{"$f":"IFERROR(Gerar_Upload!C110,\"erro\")","v":0},{"$f":"IFERROR(Gerar_Upload!D110,\"erro\")","v":0},{"$f":"IFERROR(DATE(YEAR(Gerar_Upload!E110),MONTH(Gerar_Upload!E110),DAY(Gerar_Upload!E110)),\"erro\")","v":"00:00:00"},{"$f":"IFERROR(Gerar_Upload!F110,\"erro\")","v":0},{"$f":"IFERROR(IF(Gerar_Upload!G110<44,REPT(0,44-LEN(Gerar_Upload!G110))&Gerar_Upload!G110,Gerar_Upload!G110),\"erro\")","v":"00000000000000000000000000000000000000000000"}]
[{"$f":"IFERROR(LEFT(Gerar_Upload!A111,120),\"erro\")","v":""},{"$f":"IFERROR(SUBSTITUTE(SUBSTITUTE(SUBSTITUTE(Gerar_Upload!B111,\".\",\"\"),\"-\",\"\"),\"/\",\"\"),\"erro\")","v":""},{"$f":"IFERROR(Gerar_Upload!C111,\"erro\")","v":0},{"$f":"IFERROR(Gerar_Upload!D111,\"erro\")","v":0},{"$f":"IFERROR(DATE(YEAR(Gerar_Upload!E111),MONTH(Gerar_Upload!E111),DAY(Gerar_Upload!E111)),\"erro\")","v":"00:00:00"},{"$f":"IFERROR(Gerar_Upload!F111,\"erro\")","v":0},{"$f":"IFERROR(IF(Gerar_Upload!G111<44,REPT(0,44-LEN(Gerar_Upload!G111))&Gerar_Upload!G111,Gerar_Upload!G111),\"erro\")","v":"00000000000000000000000000000000000000000000"}]
[{"$f":"IFERROR(LEFT(Gerar_Upload!A112,120),\"erro\")","v":""},{"$f":"IFERROR(SUBSTITUTE(SUBSTITUTE(SUBSTITUTE(Gerar_Upload!B112,\".\",\"\"),\"-\",\"\"),\"/\",\"\"),\"erro\")","v":""},{"$f":"IFERROR(Gerar_Upload!C112,\"erro\")","v":0},{"$f":"IFERROR(Gerar_Upload!D112,\"erro\")","v":0},{"$f":"IFERROR(DATE(YEAR(Gerar_Upload!E112),MONTH(Gerar_Upload!E112),DAY(Gerar_Upload!E112)),\"erro\")","v":"00:00:00"},{"$f":"IFERROR(Gerar_Upload!F112,\"erro\")","v":0},{"$f":"IFERROR(IF(Gerar_Upload!G112<44,REPT(0,44-LEN(Gerar_Upload!G112))&Gerar_Upload!G112,Gerar_Upload!G112),\"erro\")","v":"00000000000000000000000000000000000000000000"}]
[{"$f":"IFERROR(LEFT(Gerar_Upload!A113,120),\"erro\")","v":""},{"$f":"IFERROR(SUBSTITUTE(SUBSTITUTE(SUBSTITUTE(Gerar_Upload!B113,\".\",\"\"),\"-\",\"\"),\"/\",\"\"),\"erro\")","v":""},{"$f":"IFERROR(Gerar_Upload!C113,\"erro\")","v":0},{"$f":"IFERROR(Gerar_Upload!D113,\"erro\")","v":0},{"$f":"IFERROR(DATE(YEAR(Gerar_Upload!E113),MONTH(Gerar_Upload!E113),DAY(Gerar_Upload!E113)),\"erro\")","v":"00:00:00"},{"$f":"IFERROR(Gerar_Upload!F113,\"erro\")","v":0},{"$f":"IFERROR(IF(Gerar_Upload!G113<44,REPT(0,44-LEN(Gerar_Upload!G113))&Gerar_Upload!G113,Gerar_Upload!G113),\"erro\")","v":"00000000000000000000000000000000000000000000"}]
[{"$f":"IFERROR(LEFT(Gerar_Upload!A114,120),\"erro\")","v":""},{"$f":"IFERROR(SUBSTITUTE(SUBSTITUTE(SUBSTITUTE(Gerar_Upload!B114,\".\",\"\"),\"-\",\"\"),\"/\",\"\"),\"erro\")","v":""},{"$f":"IFERROR(Gerar_Upload!C114,\"erro\")","v":0},{"$f":"IFERROR(Gerar_Upload!D114,\"erro\")","v":0},{"$f":"IFERROR(DATE(YEAR(Gerar_Upload!E114),MONTH(Gerar_Upload!E114),DAY(Gerar_Upload!E114)),\"erro\")","v":"00:00:00"},{"$f":"IFERROR(Gerar_Upload!F114,\"erro\")","v":0},{"$f":"IFERROR(IF(Gerar_Upload!G114<44,REPT(0,44-LEN(Gerar_Upload!G114))&Gerar_Upload!G114,Gerar_Upload!G114),\"erro\")","v":"00000000000000000000000000000000000000000000"}]
[{"$f":"IFERROR(LEFT(Gerar_Upload!A115,120),\"erro\")","v":""},{"$f":"IFERROR(SUBSTITUTE(SUBSTITUTE(SUBSTITUTE(Gerar_Upload!B115,\".\",\"\"),\"-\",\"\"),\"/\",\"\"),\"erro\")","v":""},{"$f":"IFERROR(Gerar_Upload!C115,\"erro\")","v":0},{"$f":"IFERROR(Gerar_Upload!D115,\"erro\")","v":0},{"$f":"IFERROR(DATE(YEAR(Gerar_Upload!E115),MONTH(Gerar_Upload!E115),DAY(Gerar_Upload!E115)),\"erro\")","v":"00:00:00"},{"$f":"IFERROR(Gerar_Upload!F115,\"erro\")","v":0},{"$f":"IFERROR(IF(Gerar_Upload!G115<44,REPT(0,44-LEN(Gerar_Upload!G115))&Gerar_Upload!G115,Gerar_Upload!G115),\"erro\")","v":"00000000000000000000000000000000000000000000"}]
[{"$f":"IFERROR(LEFT(Gerar_Upload!A116,120),\"erro\")","v":""},{"$f":"IFERROR(SUBSTITUTE(SUBSTITUTE(SUBSTITUTE(Gerar_Upload!B116,\".\",\"\"),\"-\",\"\"),\"/\",\"\"),\"erro\")","v":""},{"$f":"IFERROR(Gerar_Upload!C116,\"erro\")","v":0},{"$f":"IFERROR(Gerar_Upload!D116,\"erro\")","v":0},{"$f":"IFERROR(DATE(YEAR(Gerar_Upload!E116),MONTH(Gerar_Upload!E116),DAY(Gerar_Upload!E116)),\"erro\")","v":"00:00:00"},{"$f":"IFERROR(Gerar_Upload!F116,\"erro\")","v":0},{"$f":"IFERROR(IF(Gerar_Upload!G116<44,REPT(0,44-LEN(Gerar_Upload!G116))&Gerar_Upload!G116,Gerar_Upload!G116),\"erro\")","v":"00000000000000000000000000000000000000000000"}]
[{"$f":"IFERROR(LEFT(Gerar_Upload!A117,120),\"erro\")","v":""},{"$f":"IFERROR(SUBSTITUTE(SUBSTITUTE(SUBSTITUTE(Gerar_Upload!B117,\".\",\"\"),\"-\",\"\"),\"/\",\"\"),\"erro\")","v":""},{"$f":"IFERROR(Gerar_Upload!C117,\"erro\")","v":0},{"$f":"IFERROR(Gerar_Upload!D117,\"erro\")","v":0},{"$f":"IFERROR(DATE(YEAR(Gerar_Upload!E117),MONTH(Gerar_Upload!E117),DAY(Gerar_Upload!E117)),\"erro\")","v":"00:00:00"},{"$f":"IFERROR(Gerar_Upload!F117,\"erro\")","v":0},{"$f":"IFERROR(IF(Gerar_Upload!G117<44,REPT(0,44-LEN(Gerar_Upload!G117))&Gerar_Upload!G117,Gerar_Upload!G117),\"erro\")","v":"00000000000000000000000000000000000000000000"}]
[{"$f":"IFERROR(LEFT(Gerar_Upload!A118,120),\"erro\")","v":""},{"$f":"IFERROR(SUBSTITUTE(SUBSTITUTE(SUBSTITUTE(Gerar_Upload!B118,\".\",\"\"),\"-\",\"\"),\"/\",\"\"),\"erro\")","v":""},{"$f":"IFERROR(Gerar_Upload!C118,\"erro\")","v":0},{"$f":"IFERROR(Gerar_Upload!D118,\"erro\")","v":0},{"$f":"IFERROR(DATE(YEAR(Gerar_Upload!E118),MONTH(Gerar_Upload!E118),DAY(Gerar_Upload!E118)),\"erro\")","v":"00:00:00"},{"$f":"IFERROR(Gerar_Upload!F118,\"erro\")","v":0},{"$f":"IFERROR(IF(Gerar_Upload!G118<44,REPT(0,44-LEN(Gerar_Upload!G118))&Gerar_Upload!G118,Gerar_Upload!G118),\"erro\")","v":"00000000000000000000000000000000000000000000"}]
[{"$f":"IFERROR(LEFT(Gerar_Upload!A119,120),\"erro\")","v":""},{"$f":"IFERROR(SUBSTITUTE(SUBSTITUTE(SUBSTITUTE(Gerar_Upload!B119,\".\",\"\"),\"-\",\"\"),\"/\",\"\"),\"erro\")","v":""},{"$f":"IFERROR(Gerar_Upload!C119,\"erro\")","v":0},{"$f":"IFERROR(Gerar_Upload!D119,\"erro\")","v":0},{"$f":"IFERROR(DATE(YEAR(Gerar_Upload!E119),MONTH(Gerar_Upload!E119),DAY(Gerar_Upload!E119)),\"erro\")","v":"00:00:00"},{"$f":"IFERROR(Gerar_Upload!F119,\"erro\")","v":0},{"$f":"IFERROR(IF(Gerar_Upload!G119<44,REPT(0,44-LEN(Gerar_Upload!G119))&Gerar_Upload!G119,Gerar_Upload!G119),\"erro\")","v":"00000000000000000000000000000000000000000000"}]
[{"$f":"IFERROR(LEFT(Gerar_Upload!A120,120),\"erro\")","v":""},{"$f":"IFERROR(SUBSTITUTE(SUBSTITUTE(SUBSTITUTE(Gerar_Upload!B120,\".\",\"\"),\"-\",\"\"),\"/\",\"\"),\"erro\")","v":""},{"$f":"IFERROR(Gerar_Upload!C120,\"erro\")","v":0},{"$f":"IFERROR(Gerar_Upload!D120,\"erro\")","v":0},{"$f":"IFERROR(DATE(YEAR(Gerar_Upload!E120),MONTH(Gerar_Upload!E120),DAY(Gerar_Upload!E120)),\"erro\")","v":"00:00:00"},{"$f":"IFERROR(Gerar_Upload!F120,\"erro\")","v":0},{"$f":"IFERROR(IF(Gerar_Upload!G120<44,REPT(0,44-LEN(Gerar_Upload!G120))&Gerar_Upload!G120,Gerar_Upload!G120),\"erro\")","v":"00000000000000000000000000000000000000000000"}]
[{"$f":"IFERROR(LEFT(Gerar_Upload!A121,120),\"erro\")","v":""},{"$f":"IFERROR(SUBSTITUTE(SUBSTITUTE(SUBSTITUTE(Gerar_Upload!B121,\".\",\"\"),\"-\",\"\"),\"/\",\"\"),\"erro\")","v":""},{"$f":"IFERROR(Gerar_Upload!C121,\"erro\")","v":0},{"$f":"IFERROR(Gerar_Upload!D121,\"erro\")","v":0},{"$f":"IFERROR(DATE(YEAR(Gerar_Upload!E121),MONTH(Gerar_Upload!E121),DAY(Gerar_Upload!E121)),\"erro\")","v":"00:00:00"},{"$f":"IFERROR(Gerar_Upload!F121,\"erro\")","v":0},{"$f":"IFERROR(IF(Gerar_Upload!G121<44,REPT(0,44-LEN(Gerar_Upload!G121))&Gerar_Upload!G121,Gerar_Upload!G121),\"erro\")","v":"00000000000000000000000000000000000000000000"}]
[{"$f":"IFERROR(LEFT(Gerar_Upload!A122,120),\"erro\")","v":""},{"$f":"IFERROR(SUBSTITUTE(SUBSTITUTE(SUBSTITUTE(Gerar_Upload!B122,\".\",\"\"),\"-\",\"\"),\"/\",\"\"),\"erro\")","v":""},{"$f":"IFERROR(Gerar_Upload!C122,\"erro\")","v":0},{"$f":"IFERROR(Gerar_Upload!D122,\"erro\")","v":0},{"$f":"IFERROR(DATE(YEAR(Gerar_Upload!E122),MONTH(Gerar_Upload!E122),DAY(Gerar_Upload!E122)),\"erro\")","v":"00:00:00"},{"$f":"IFERROR(Gerar_Upload!F122,\"erro\")","v":0},{"$f":"IFERROR(IF(Gerar_Upload!G122<44,REPT(0,44-LEN(Gerar_Upload!G122))&Gerar_Upload!G122,Gerar_Upload!G122),\"erro\")","v":"00000000000000000000000000000000000000000000"}]
[{"$f":"IFERROR(LEFT(Gerar_Upload!A123,120),\"erro\")","v":""},{"$f":"IFERROR(SUBSTITUTE(SUBSTITUTE(SUBSTITUTE(Gerar_Upload!B123,\".\",\"\"),\"-\",\"\"),\"/\",\"\"),\"erro\")","v":""},{"$f":"IFERROR(Gerar_Upload!C123,\"erro\")","v":0},{"$f":"IFERROR(Gerar_Upload!D123,\"erro\")","v":0},{"$f":"IFERROR(DATE(YEAR(Gerar_Upload!E123),MONTH(Gerar_Upload!E123),DAY(Gerar_Upload!E123)),\"erro\")","v":"00:00:00"},{"$f":"IFERROR(Gerar_Upload!F123,\"erro\")","v":0},{"$f":"IFERROR(IF(Gerar_Upload!G123<44,REPT(0,44-LEN(Gerar_Upload!G123))&Gerar_Upload!G123,Gerar_Upload!G123),\"erro\")","v":"00000000000000000000000000000000000000000000"}]
[{"$f":"IFERROR(LEFT(Gerar_Upload!A124,120),\"erro\")","v":""},{"$f":"IFERROR(SUBSTITUTE(SUBSTITUTE(SUBSTITUTE(Gerar_Upload!B124,\".\",\"\"),\"-\",\"\"),\"/\",\"\"),\"erro\")","v":""},{"$f":"IFERROR(Gerar_Upload!C124,\"erro\")","v":0},{"$f":"IFERROR(Gerar_Upload!D124,\"erro\")","v":0},{"$f":"IFERROR(DATE(YEAR(Gerar_Upload!E124),MONTH(Gerar_Upload!E124),DAY(Gerar_Upload!E124)),\"erro\")","v":"00:00:00"},{"$f":"IFERROR(Gerar_Upload!F124,\"erro\")","v":0},{"$f":"IFERROR(IF(Gerar_Upload!G124<44,REPT(0,44-LEN(Gerar_Upload!G124))&Gerar_Upload!G124,Gerar_Upload!G124),\"erro\")","v":"00000000000000000000000000000000000000000000"}]
[{"$f":"IFERROR(LEFT(Gerar_Upload!A125,120),\"erro\")","v":""},{"$f":"IFERROR(SUBSTITUTE(SUBSTITUTE(SUBSTITUTE(Gerar_Upload!B125,\".\",\"\"),\"-\",\"\"),\"/\",\"\"),\"erro\")","v":""},{"$f":"IFERROR(Gerar_Upload!C125,\"erro\")","v":0},{"$f":"IFERROR(Gerar_Upload!D125,\"erro\")","v":0},{"$f":"IFERROR(DATE(YEAR(Gerar_Upload!E125),MONTH(Gerar_Upload!E125),DAY(Gerar_Upload!E125)),\"erro\")","v":"00:00:00"},{"$f":"IFERROR(Gerar_Upload!F125,\"erro\")","v":0},{"$f":"IFERROR(IF(Gerar_Upload!G125<44,REPT(0,44-LEN(Gerar_Upload!G125))&Gerar_Upload!G125,Gerar_Upload!G125),\"erro\")","v":"00000000000000000000000000000000000000000000"}]
[{"$f":"IFERROR(LEFT(Gerar_Upload!A126,120),\"erro\")","v":""},{"$f":"IFERROR(SUBSTITUTE(SUBSTITUTE(SUBSTITUTE(Gerar_Upload!B126,\".\",\"\"),\"-\",\"\"),\"/\",\"\"),\"erro\")","v":""},{"$f":"IFERROR(Gerar_Upload!C126,\"erro\")","v":0},{"$f":"IFERROR(Gerar_Upload!D126,\"erro\")","v":0},{"$f":"IFERROR(DATE(YEAR(Gerar_Upload!E126),MONTH(Gerar_Upload!E126),DAY(Gerar_Upload!E126)),\"erro\")","v":"00:00:00"},{"$f":"IFERROR(Gerar_Upload!F126,\"erro\")","v":0},{"$f":"IFERROR(IF(Gerar_Upload!G126<44,REPT(0,44-LEN(Gerar_Upload!G126))&Gerar_Upload!G126,Gerar_Upload!G126),\"erro\")","v":"00000000000000000000000000000000000000000000"}]
[{"$f":"IFERROR(LEFT(Gerar_Upload!A127,120),\"erro\")","v":""},{"$f":"IFERROR(SUBSTITUTE(SUBSTITUTE(SUBSTITUTE(Gerar_Upload!B127,\".\",\"\"),\"-\",\"\"),\"/\",\"\"),\"erro\")","v":""},{"$f":"IFERROR(Gerar_Upload!C127,\"erro\")","v":0},{"$f":"IFERROR(Gerar_Upload!D127,\"erro\")","v":0},{"$f":"IFERROR(DATE(YEAR(Gerar_Upload!E127),MONTH(Gerar_Upload!E127),DAY(Gerar_Upload!E127)),\"erro\")","v":"00:00:00"},{"$f":"IFERROR(Gerar_Upload!F127,\"erro\")","v":0},{"$f":"IFERROR(IF(Gerar_Upload!G127<44,REPT(0,44-LEN(Gerar_Upload!G127))&Gerar_Upload!G127,Gerar_Upload!G127),\"erro\")","v":"00000000000000000000000000000000000000000000"}]
[{"$f":"IFERROR(LEFT(Gerar_Upload!A128,120),\"erro\")","v":""},{"$f":"IFERROR(SUBSTITUTE(SUBSTITUTE(SUBSTITUTE(Gerar_Upload!B128,\".\",\"\"),\"-\",\"\"),\"/\",\"\"),\"erro\")","v":""},{"$f":"IFERROR(Gerar_Upload!C128,\"erro\")","v":0},{"$f":"IFERROR(Gerar_Upload!D128,\"erro\")","v":0},{"$f":"IFERROR(DATE(YEAR(Gerar_Upload!E128),MONTH(Gerar_Upload!E128),DAY(Gerar_Upload!E128)),\"erro\")","v":"00:00:00"},{"$f":"IFERROR(Gerar_Upload!F128,\"erro\")","v":0},{"$f":"IFERROR(IF(Gerar_Upload!G128<44,REPT(0,44-LEN(Gerar_Upload!G128))&Gerar_Upload!G128,Gerar_Upload!G128),\"erro\")","v":"00000000000000000000000000000000000000000000"}]
[{"$f":"IFERROR(LEFT(Gerar_Upload!A129,120),\"erro\")","v":""},{"$f":"IFERROR(SUBSTITUTE(SUBSTITUTE(SUBSTITUTE(Gerar_Upload!B129,\".\",\"\"),\"-\",\"\"),\"/\",\"\"),\"erro\")","v":""},{"$f":"IFERROR(Gerar_Upload!C129,\"erro\")","v":0},{"$f":"IFERROR(Gerar_Upload!D129,\"erro\")","v":0},{"$f":"IFERROR(DATE(YEAR(Gerar_Upload!E129),MONTH(Gerar_Upload!E129),DAY(Gerar_Upload!E129)),\"erro\")","v":"00:00:00"},{"$f":"IFERROR(Gerar_Upload!F129,\"erro\")","v":0},{"$f":"IFERROR(IF(Gerar_Upload!G129<44,REPT(0,44-LEN(Gerar_Upload!G129))&Gerar_Upload!G129,Gerar_Upload!G129),\"erro\")","v":"00000000000000000000000000000000000000000000"}]
[{"$f":"IFERROR(LEFT(Gerar_Upload!A130,120),\"erro\")","v":""},{"$f":"IFERROR(SUBSTITUTE(SUBSTITUTE(SUBSTITUTE(Gerar_Upload!B130,\".\",\"\"),\"-\",\"\"),\"/\",\"\"),\"erro\")","v":""},{"$f":"IFERROR(Gerar_Upload!C130,\"erro\")","v":0},{"$f":"IFERROR(Gerar_Upload!D130,\"erro\")","v":0},{"$f":"IFERROR(DATE(YEAR(Gerar_Upload!E130),MONTH(Gerar_Upload!E130),DAY(Gerar_Upload!E130)),\"erro\")","v":"00:00:00"},{"$f":"IFERROR(Gerar_Upload!F130,\"erro\")","v":0},{"$f":"IFERROR(IF(Gerar_Upload!G130<44,REPT(0,44-LEN(Gerar_Upload!G130))&Gerar_Upload!G130,Gerar_Upload!G130),\"erro\")","v":"00000000000000000000000000000000000000000000"}]
[{"$f":"IFERROR(LEFT(Gerar_Upload!A131,120),\"erro\")","v":""},{"$f":"IFERROR(SUBSTITUTE(SUBSTITUTE(SUBSTITUTE(Gerar_Upload!B131,\".\",\"\"),\"-\",\"\"),\"/\",\"\"),\"erro\")","v":""},{"$f":"IFERROR(Gerar_Upload!C131,\"erro\")","v":0},{"$f":"IFERROR(Gerar_Upload!D131,\"erro\")","v":0},{"$f":"IFERROR(DATE(YEAR(Gerar_Upload!E131),MONTH(Gerar_Upload!E131),DAY(Gerar_Upload!E131)),\"erro\")","v":"00:00:00"},{"$f":"IFERROR(Gerar_Upload!F131,\"erro\")","v":0},{"$f":"IFERROR(IF(Gerar_Upload!G131<44,REPT(0,44-LEN(Gerar_Upload!G131))&Gerar_Upload!G131,Gerar_Upload!G131),\"erro\")","v":"00000000000000000000000000000000000000000000"}]
[{"$f":"IFERROR(LEFT(Gerar_Upload!A132,120),\"erro\")","v":""},{"$f":"IFERROR(SUBSTITUTE(SUBSTITUTE(SUBSTITUTE(Gerar_Upload!B132,\".\",\"\"),\"-\",\"\"),\"/\",\"\"),\"erro\")","v":""},{"$f":"IFERROR(Gerar_Upload!C132,\"erro\")","v":0},{"$f":"IFERROR(Gerar_Upload!D132,\"erro\")","v":0},{"$f":"IFERROR(DATE(YEAR(Gerar_Upload!E132),MONTH(Gerar_Upload!E132),DAY(Gerar_Upload!E132)),\"erro\")","v":"00:00:00"},{"$f":"IFERROR(Gerar_Upload!F132,\"erro\")","v":0},{"$f":"IFERROR(IF(Gerar_Upload!G132<44,REPT(0,44-LEN(Gerar_Upload!G132))&Gerar_Upload!G132,Gerar_Upload!G132),\"erro\")","v":"00000000000000000000000000000000000000000000"}]
[{"$f":"IFERROR(LEFT(Gerar_Upload!A133,120),\"erro\")","v":""},{"$f":"IFERROR(SUBSTITUTE(SUBSTITUTE(SUBSTITUTE(Gerar_Upload!B133,\".\",\"\"),\"-\",\"\"),\"/\",\"\"),\"erro\")","v":""},{"$f":"IFERROR(Gerar_Upload!C133,\"erro\")","v":0},{"$f":"IFERROR(Gerar_Upload!D133,\"erro\")","v":0},{"$f":"IFERROR(DATE(YEAR(Gerar_Upload!E133),MONTH(Gerar_Upload!E133),DAY(Gerar_Upload!E133)),\"erro\")","v":"00:00:00"},{"$f":"IFERROR(Gerar_Upload!F133,\"erro\")","v":0},{"$f":"IFERROR(IF(Gerar_Upload!G133<44,REPT(0,44-LEN(Gerar_Upload!G133))&Gerar_Upload!G133,Gerar_Upload!G133),\"erro\")","v":"00000000000000000000000000000000000000000000"}]
[{"$f":"IFERROR(LEFT(Gerar_Upload!A134,120),\"erro\")","v":""},{"$f":"IFERROR(SUBSTITUTE(SUBSTITUTE(SUBSTITUTE(Gerar_Upload!B134,\".\",\"\"),\"-\",\"\"),\"/\",\"\"),\"erro\")","v":""},{"$f":"IFERROR(Gerar_Upload!C134,\"erro\")","v":0},{"$f":"IFERROR(Gerar_Upload!D134,\"erro\")","v":0},{"$f":"IFERROR(DATE(YEAR(Gerar_Upload!E134),MONTH(Gerar_Upload!E134),DAY(Gerar_Upload!E134)),\"erro\")","v":"00:00:00"},{"$f":"IFERROR(Gerar_Upload!F134,\"erro\")","v":0},{"$f":"IFERROR(IF(Gerar_Upload!G134<44,REPT(0,44-LEN(Gerar_Upload!G134))&Gerar_Upload!G134,Gerar_Upload!G134),\"erro\")","v":"00000000000000000000000000000000000000000000"}]
[{"$f":"IFERROR(LEFT(Gerar_Upload!A135,120),\"erro\")","v":""},{"$f":"IFERROR(SUBSTITUTE(SUBSTITUTE(SUBSTITUTE(Gerar_Upload!B135,\".\",\"\"),\"-\",\"\"),\"/\",\"\"),\"erro\")","v":""},{"$f":"IFERROR(Gerar_Upload!C135,\"erro\")","v":0},{"$f":"IFERROR(Gerar_Upload!D135,\"erro\")","v":0},{"$f":"IFERROR(DATE(YEAR(Gerar_Upload!E135),MONTH(Gerar_Upload!E135),DAY(Gerar_Upload!E135)),\"erro\")","v":"00:00:00"},{"$f":"IFERROR(Gerar_Upload!F135,\"erro\")","v":0},{"$f":"IFERROR(IF(Gerar_Upload!G135<44,REPT(0,44-LEN(Gerar_Upload!G135))&Gerar_Upload!G135,Gerar_Upload!G135),\"erro\")","v":"00000000000000000000000000000000000000000000"}]
[{"$f":"IFERROR(LEFT(Gerar_Upload!A136,120),\"erro\")","v":""},{"$f":"IFERROR(SUBSTITUTE(SUBSTITUTE(SUBSTITUTE(Gerar_Upload!B136,\".\",\"\"),\"-\",\"\"),\"/\",\"\"),\"erro\")","v":""},{"$f":"IFERROR(Gerar_Upload!C136,\"erro\")","v":0},{"$f":"IFERROR(Gerar_Upload!D136,\"erro\")","v":0},{"$f":"IFERROR(DATE(YEAR(Gerar_Upload!E136),MONTH(Gerar_Upload!E136),DAY(Gerar_Upload!E136)),\"erro\")","v":"00:00:00"},{"$f":"IFERROR(Gerar_Upload!F136,\"erro\")","v":0},{"$f":"IFERROR(IF(Gerar_Upload!G136<44,REPT(0,44-LEN(Gerar_Upload!G136))&Gerar_Upload!G136,Gerar_Upload!G136),\"erro\")","v":"00000000000000000000000000000000000000000000"}]
[{"$f":"IFERROR(LEFT(Gerar_Upload!A137,120),\"erro\")","v":""},{"$f":"IFERROR(SUBSTITUTE(SUBSTITUTE(SUBSTITUTE(Gerar_Upload!B137,\".\",\"\"),\"-\",\"\"),\"/\",\"\"),\"erro\")","v":""},{"$f":"IFERROR(Gerar_Upload!C137,\"erro\")","v":0},{"$f":"IFERROR(Gerar_Upload!D137,\"erro\")","v":0},{"$f":"IFERROR(DATE(YEAR(Gerar_Upload!E137),MONTH(Gerar_Upload!E137),DAY(Gerar_Upload!E137)),\"erro\")","v":"00:00:00"},{"$f":"IFERROR(Gerar_Upload!F137,\"erro\")","v":0},{"$f":"IFERROR(IF(Gerar_Upload!G137<44,REPT(0,44-LEN(Gerar_Upload!G137))&Gerar_Upload!G137,Gerar_Upload!G137),\"erro\")","v":"00000000000000000000000000000000000000000000"}]
[{"$f":"IFERROR(LEFT(Gerar_Upload!A138,120),\"erro\")","v":""},{"$f":"IFERROR(SUBSTITUTE(SUBSTITUTE(SUBSTITUTE(Gerar_Upload!B138,\".\",\"\"),\"-\",\"\"),\"/\",\"\"),\"erro\")","v":""},{"$f":"IFERROR(Gerar_Upload!C138,\"erro\")","v":0},{"$f":"IFERROR(Gerar_Upload!D138,\"erro\")","v":0},{"$f":"IFERROR(DATE(YEAR(Gerar_Upload!E138),MONTH(Gerar_Upload!E138),DAY(Gerar_Upload!E138)),\"erro\")","v":"00:00:00"},{"$f":"IFERROR(Gerar_Upload!F138,\"erro\")","v":0},{"$f":"IFERROR(IF(Gerar_Upload!G138<44,REPT(0,44-LEN(Gerar_Upload!G138))&Gerar_Upload!G138,Gerar_Upload!G138),\"erro\")","v":"00000000000000000000000000000000000000000000"}]
[{"$f":"IFERROR(LEFT(Gerar_Upload!A139,120),\"erro\")","v":""},{"$f":"IFERROR(SUBSTITUTE(SUBSTITUTE(SUBSTITUTE(Gerar_Upload!B139,\".\",\"\"),\"-\",\"\"),\"/\",\"\"),\"erro\")","v":""},{"$f":"IFERROR(Gerar_Upload!C139,\"erro\")","v":0},{"$f":"IFERROR(Gerar_Upload!D139,\"erro\")","v":0},{"$f":"IFERROR(DATE(YEAR(Gerar_Upload!E139),MONTH(Gerar_Upload!E139),DAY(Gerar_Upload!E139)),\"erro\")","v":"00:00:00"},{"$f":"IFERROR(Gerar_Upload!F139,\"erro\")","v":0},{"$f":"IFERROR(IF(Gerar_Upload!G139<44,REPT(0,44-LEN(Gerar_Upload!G139))&Gerar_Upload!G139,Gerar_Upload!G139),\"erro\")","v":"00000000000000000000000000000000000000000000"}]
[{"$f":"IFERROR(LEFT(Gerar_Upload!A140,120),\"erro\")","v":""},{"$f":"IFERROR(SUBSTITUTE(SUBSTITUTE(SUBSTITUTE(Gerar_Upload!B140,\".\",\"\"),\"-\",\"\"),\"/\",\"\"),\"erro\")","v":""},{"$f":"IFERROR(Gerar_Upload!C140,\"erro\")","v":0},{"$f":"IFERROR(Gerar_Upload!D140,\"erro\")","v":0},{"$f":"IFERROR(DATE(YEAR(Gerar_Upload!E140),MONTH(Gerar_Upload!E140),DAY(Gerar_Upload!E140)),\"erro\")","v":"00:00:00"},{"$f":"IFERROR(Gerar_Upload!F140,\"erro\")","v":0},{"$f":"IFERROR(IF(Gerar_Upload!G140<44,REPT(0,44-LEN(Gerar_Upload!G140))&Gerar_Upload!G140,Gerar_Upload!G140),\"erro\")","v":"00000000000000000000000000000000000000000000"}]
[{"$f":"IFERROR(LEFT(Gerar_Upload!A141,120),\"erro\")","v":""},{"$f":"IFERROR(SUBSTITUTE(SUBSTITUTE(SUBSTITUTE(Gerar_Upload!B141,\".\",\"\"),\"-\",\"\"),\"/\",\"\"),\"erro\")","v":""},{"$f":"IFERROR(Gerar_Upload!C141,\"erro\")","v":0},{"$f":"IFERROR(Gerar_Upload!D141,\"erro\")","v":0},{"$f":"IFERROR(DATE(YEAR(Gerar_Upload!E141),MONTH(Gerar_Upload!E141),DAY(Gerar_Upload!E141)),\"erro\")","v":"00:00:00"},{"$f":"IFERROR(Gerar_Upload!F141,\"erro\")","v":0},{"$f":"IFERROR(IF(Gerar_Upload!G141<44,REPT(0,44-LEN(Gerar_Upload!G141))&Gerar_Upload!G141,Gerar_Upload!G141),\"erro\")","v":"00000000000000000000000000000000000000000000"}]
[{"$f":"IFERROR(LEFT(Gerar_Upload!A142,120),\"erro\")","v":""},{"$f":"IFERROR(SUBSTITUTE(SUBSTITUTE(SUBSTITUTE(Gerar_Upload!B142,\".\",\"\"),\"-\",\"\"),\"/\",\"\"),\"erro\")","v":""},{"$f":"IFERROR(Gerar_Upload!C142,\"erro\")","v":0},{"$f":"IFERROR(Gerar_Upload!D142,\"erro\")","v":0},{"$f":"IFERROR(DATE(YEAR(Gerar_Upload!E142),MONTH(Gerar_Upload!E142),DAY(Gerar_Upload!E142)),\"erro\")","v":"00:00:00"},{"$f":"IFERROR(Gerar_Upload!F142,\"erro\")","v":0},{"$f":"IFERROR(IF(Gerar_Upload!G142<44,REPT(0,44-LEN(Gerar_Upload!G142))&Gerar_Upload!G142,Gerar_Upload!G142),\"erro\")","v":"00000000000000000000000000000000000000000000"}]
[{"$f":"IFERROR(LEFT(Gerar_Upload!A143,120),\"erro\")","v":""},{"$f":"IFERROR(SUBSTITUTE(SUBSTITUTE(SUBSTITUTE(Gerar_Upload!B143,\".\",\"\"),\"-\",\"\"),\"/\",\"\"),\"erro\")","v":""},{"$f":"IFERROR(Gerar_Upload!C143,\"erro\")","v":0},{"$f":"IFERROR(Gerar_Upload!D143,\"erro\")","v":0},{"$f":"IFERROR(DATE(YEAR(Gerar_Upload!E143),MONTH(Gerar_Upload!E143),DAY(Gerar_Upload!E143)),\"erro\")","v":"00:00:00"},{"$f":"IFERROR(Gerar_Upload!F143,\"erro\")","v":0},{"$f":"IFERROR(IF(Gerar_Upload!G143<44,REPT(0,44-LEN(Gerar_Upload!G143))&Gerar_Upload!G143,Gerar_Upload!G143),\"erro\")","v":"00000000000000000000000000000000000000000000"}]
[{"$f":"IFERROR(LEFT(Gerar_Upload!A144,120),\"erro\")","v":""},{"$f":"IFERROR(SUBSTITUTE(SUBSTITUTE(SUBSTITUTE(Gerar_Upload!B144,\".\",\"\"),\"-\",\"\"),\"/\",\"\"),\"erro\")","v":""},{"$f":"IFERROR(Gerar_Upload!C144,\"erro\")","v":0},{"$f":"IFERROR(Gerar_Upload!D144,\"erro\")","v":0},{"$f":"IFERROR(DATE(YEAR(Gerar_Upload!E144),MONTH(Gerar_Upload!E144),DAY(Gerar_Upload!E144)),\"erro\")","v":"00:00:00"},{"$f":"IFERROR(Gerar_Upload!F144,\"erro\")","v":0},{"$f":"IFERROR(IF(Gerar_Upload!G144<44,REPT(0,44-LEN(Gerar_Upload!G144))&Gerar_Upload!G144,Gerar_Upload!G144),\"erro\")","v":"00000000000000000000000000000000000000000000"}]
[{"$f":"IFERROR(LEFT(Gerar_Upload!A145,120),\"erro\")","v":""},{"$f":"IFERROR(SUBSTITUTE(SUBSTITUTE(SUBSTITUTE(Gerar_Upload!B145,\".\",\"\"),\"-\",\"\"),\"/\",\"\"),\"erro\")","v":""},{"$f":"IFERROR(Gerar_Upload!C145,\"erro\")","v":0},{"$f":"IFERROR(Gerar_Upload!D145,\"erro\")","v":0},{"$f":"IFERROR(DATE(YEAR(Gerar_Upload!E145),MONTH(Gerar_Upload!E145),DAY(Gerar_Upload!E145)),\"erro\")","v":"00:00:00"},{"$f":"IFERROR(Gerar_Upload!F145,\"erro\")","v":0},{"$f":"IFERROR(IF(Gerar_Upload!G145<44,REPT(0,44-LEN(Gerar_Upload!G145))&Gerar_Upload!G145,Gerar_Upload!G145),\"erro\")","v":"00000000000000000000000000000000000000000000"}]
[{"$f":"IFERROR(LEFT(Gerar_Upload!A146,120),\"erro\")","v":""},{"$f":"IFERROR(SUBSTITUTE(SUBSTITUTE(SUBSTITUTE(Gerar_Upload!B146,\".\",\"\"),\"-\",\"\"),\"/\",\"\"),\"erro\")","v":""},{"$f":"IFERROR(Gerar_Upload!C146,\"erro\")","v":0},{"$f":"IFERROR(Gerar_Upload!D146,\"erro\")","v":0},{"$f":"IFERROR(DATE(YEAR(Gerar_Upload!E146),MONTH(Gerar_Upload!E146),DAY(Gerar_Upload!E146)),\"erro\")","v":"00:00:00"},{"$f":"IFERROR(Gerar_Upload!F146,\"erro\")","v":0},{"$f":"IFERROR(IF(Gerar_Upload!G146<44,REPT(0,44-LEN(Gerar_Upload!G146))&Gerar_Upload!G146,Gerar_Upload!G146),\"erro\")","v":"00000000000000000000000000000000000000000000"}]
[{"$f":"IFERROR(LEFT(Gerar_Upload!A147,120),\"erro\")","v":""},{"$f":"IFERROR(SUBSTITUTE(SUBSTITUTE(SUBSTITUTE(Gerar_Upload!B147,\".\",\"\"),\"-\",\"\"),\"/\",\"\"),\"erro\")","v":""},{"$f":"IFERROR(Gerar_Upload!C147,\"erro\")","v":0},{"$f":"IFERROR(Gerar_Upload!D147,\"erro\")","v":0},{"$f":"IFERROR(DATE(YEAR(Gerar_Upload!E147),MONTH(Gerar_Upload!E147),DAY(Gerar_Upload!E147)),\"erro\")","v":"00:00:00"},{"$f":"IFERROR(Gerar_Upload!F147,\"erro\")","v":0},{"$f":"IFERROR(IF(Gerar_Upload!G147<44,REPT(0,44-LEN(Gerar_Upload!G147))&Gerar_Upload!G147,Gerar_Upload!G147),\"erro\")","v":"00000000000000000000000000000000000000000000"}]
[{"$f":"IFERROR(LEFT(Gerar_Upload!A148,120),\"erro\")","v":""},{"$f":"IFERROR(SUBSTITUTE(SUBSTITUTE(SUBSTITUTE(Gerar_Upload!B148,\".\",\"\"),\"-\",\"\"),\"/\",\"\"),\"erro\")","v":""},{"$f":"IFERROR(Gerar_Upload!C148,\"erro\")","v":0},{"$f":"IFERROR(Gerar_Upload!D148,\"erro\")","v":0},{"$f":"IFERROR(DATE(YEAR(Gerar_Upload!E148),MONTH(Gerar_Upload!E148),DAY(Gerar_Upload!E148)),\"erro\")","v":"00:00:00"},{"$f":"IFERROR(Gerar_Upload!F148,\"erro\")","v":0},{"$f":"IFERROR(IF(Gerar_Upload!G148<44,REPT(0,44-LEN(Gerar_Upload!G148))&Gerar_Upload!G148,Gerar_Upload!G148),\"erro\")","v":"00000000000000000000000000000000000000000000"}]
[{"$f":"IFERROR(LEFT(Gerar_Upload!A149,120),\"erro\")","v":""},{"$f":"IFERROR(SUBSTITUTE(SUBSTITUTE(SUBSTITUTE(Gerar_Upload!B149,\".\",\"\"),\"-\",\"\"),\"/\",\"\"),\"erro\")","v":""},{"$f":"IFERROR(Gerar_Upload!C149,\"erro\")","v":0},{"$f":"IFERROR(Gerar_Upload!D149,\"erro\")","v":0},{"$f":"IFERROR(DATE(YEAR(Gerar_Upload!E149),MONTH(Gerar_Upload!E149),DAY(Gerar_Upload!E149)),\"erro\")","v":"00:00:00"},{"$f":"IFERROR(Gerar_Upload!F149,\"erro\")","v":0},{"$f":"IFERROR(IF(Gerar_Upload!G149<44,REPT(0,44-LEN(Gerar_Upload!G149))&Gerar_Upload!G149,Gerar_Upload!G149),\"erro\")","v":"00000000000000000000000000000000000000000000"}]
[{"$f":"IFERROR(LEFT(Gerar_Upload!A150,120),\"erro\")","v":""},{"$f":"IFERROR(SUBSTITUTE(SUBSTITUTE(SUBSTITUTE(Gerar_Upload!B150,\".\",\"\"),\"-\",\"\"),\"/\",\"\"),\"erro\")","v":""},{"$f":"IFERROR(Gerar_Upload!C150,\"erro\")","v":0},{"$f":"IFERROR(Gerar_Upload!D150,\"erro\")","v":0},{"$f":"IFERROR(DATE(YEAR(Gerar_Upload!E150),MONTH(Gerar_Upload!E150),DAY(Gerar_Upload!E150)),\"erro\")","v":"00:00:00"},{"$f":"IFERROR(Gerar_Upload!F150,\"erro\")","v":0},{"$f":"IFERROR(IF(Gerar_Upload!G150<44,REPT(0,44-LEN(Gerar_Upload!G150))&Gerar_Upload!G150,Gerar_Upload!G150),\"erro\")","v":"00000000000000000000000000000000000000000000"}]
[{"$f":"IFERROR(LEFT(Gerar_Upload!A151,120),\"erro\")","v":""},{"$f":"IFERROR(SUBSTITUTE(SUBSTITUTE(SUBSTITUTE(Gerar_Upload!B151,\".\",\"\"),\"-\",\"\"),\"/\",\"\"),\"erro\")","v":""},{"$f":"IFERROR(Gerar_Upload!C151,\"erro\")","v":0},{"$f":"IFERROR(Gerar_Upload!D151,\"erro\")","v":0},{"$f":"IFERROR(DATE(YEAR(Gerar_Upload!E151),MONTH(Gerar_Upload!E151),DAY(Gerar_Upload!E151)),\"erro\")","v":"00:00:00"},{"$f":"IFERROR(Gerar_Upload!F151,\"erro\")","v":0},{"$f":"IFERROR(IF(Gerar_Upload!G151<44,REPT(0,44-LEN(Gerar_Upload!G151))&Gerar_Upload!G151,Gerar_Upload!G151),\"erro\")","v":"00000000000000000000000000000000000000000000"}]
[{"$f":"IFERROR(LEFT(Gerar_Upload!A152,120),\"erro\")","v":""},{"$f":"IFERROR(SUBSTITUTE(SUBSTITUTE(SUBSTITUTE(Gerar_Upload!B152,\".\",\"\"),\"-\",\"\"),\"/\",\"\"),\"erro\")","v":""},{"$f":"IFERROR(Gerar_Upload!C152,\"erro\")","v":0},{"$f":"IFERROR(Gerar_Upload!D152,\"erro\")","v":0},{"$f":"IFERROR(DATE(YEAR(Gerar_Upload!E152),MONTH(Gerar_Upload!E152),DAY(Gerar_Upload!E152)),\"erro\")","v":"00:00:00"},{"$f":"IFERROR(Gerar_Upload!F152,\"erro\")","v":0},{"$f":"IFERROR(IF(Gerar_Upload!G152<44,REPT(0,44-LEN(Gerar_Upload!G152))&Gerar_Upload!G152,Gerar_Upload!G152),\"erro\")","v":"00000000000000000000000000000000000000000000"}]
[{"$f":"IFERROR(LEFT(Gerar_Upload!A153,120),\"erro\")","v":""},{"$f":"IFERROR(SUBSTITUTE(SUBSTITUTE(SUBSTITUTE(Gerar_Upload!B153,\".\",\"\"),\"-\",\"\"),\"/\",\"\"),\"erro\")","v":""},{"$f":"IFERROR(Gerar_Upload!C153,\"erro\")","v":0},{"$f":"IFERROR(Gerar_Upload!D153,\"erro\")","v":0},{"$f":"IFERROR(DATE(YEAR(Gerar_Upload!E153),MONTH(Gerar_Upload!E153),DAY(Gerar_Upload!E153)),\"erro\")","v":"00:00:00"},{"$f":"IFERROR(Gerar_Upload!F153,\"erro\")","v":0},{"$f":"IFERROR(IF(Gerar_Upload!G153<44,REPT(0,44-LEN(Gerar_Upload!G153))&Gerar_Upload!G153,Gerar_Upload!G153),\"erro\")","v":"00000000000000000000000000000000000000000000"}]
[{"$f":"IFERROR(LEFT(Gerar_Upload!A154,120),\"erro\")","v":""},{"$f":"IFERROR(SUBSTITUTE(SUBSTITUTE(SUBSTITUTE(Gerar_Upload!B154,\".\",\"\"),\"-\",\"\"),\"/\",\"\"),\"erro\")","v":""},{"$f":"IFERROR(Gerar_Upload!C154,\"erro\")","v":0},{"$f":"IFERROR(Gerar_Upload!D154,\"erro\")","v":0},{"$f":"IFERROR(DATE(YEAR(Gerar_Upload!E154),MONTH(Gerar_Upload!E154),DAY(Gerar_Upload!E154)),\"erro\")","v":"00:00:00"},{"$f":"IFERROR(Gerar_Upload!F154,\"erro\")","v":0},{"$f":"IFERROR(IF(Gerar_Upload!G154<44,REPT(0,44-LEN(Gerar_Upload!G154))&Gerar_Upload!G154,Gerar_Upload!G154),\"erro\")","v":"00000000000000000000000000000000000000000000"}]
[{"$f":"IFERROR(LEFT(Gerar_Upload!A155,120),\"erro\")","v":""},{"$f":"IFERROR(SUBSTITUTE(SUBSTITUTE(SUBSTITUTE(Gerar_Upload!B155,\".\",\"\"),\"-\",\"\"),\"/\",\"\"),\"erro\")","v":""},{"$f":"IFERROR(Gerar_Upload!C155,\"erro\")","v":0},{"$f":"IFERROR(Gerar_Upload!D155,\"erro\")","v":0},{"$f":"IFERROR(DATE(YEAR(Gerar_Upload!E155),MONTH(Gerar_Upload!E155),DAY(Gerar_Upload!E155)),\"erro\")","v":"00:00:00"},{"$f":"IFERROR(Gerar_Upload!F155,\"erro\")","v":0},{"$f":"IFERROR(IF(Gerar_Upload!G155<44,REPT(0,44-LEN(Gerar_Upload!G155))&Gerar_Upload!G155,Gerar_Upload!G155),\"erro\")","v":"00000000000000000000000000000000000000000000"}]
[{"$f":"IFERROR(LEFT(Gerar_Upload!A156,120),\"erro\")","v":""},{"$f":"IFERROR(SUBSTITUTE(SUBSTITUTE(SUBSTITUTE(Gerar_Upload!B156,\".\",\"\"),\"-\",\"\"),\"/\",\"\"),\"erro\")","v":""},{"$f":"IFERROR(Gerar_Upload!C156,\"erro\")","v":0},{"$f":"IFERROR(Gerar_Upload!D156,\"erro\")","v":0},{"$f":"IFERROR(DATE(YEAR(Gerar_Upload!E156),MONTH(Gerar_Upload!E156),DAY(Gerar_Upload!E156)),\"erro\")","v":"00:00:00"},{"$f":"IFERROR(Gerar_Upload!F156,\"erro\")","v":0},{"$f":"IFERROR(IF(Gerar_Upload!G156<44,REPT(0,44-LEN(Gerar_Upload!G156))&Gerar_Upload!G156,Gerar_Upload!G156),\"erro\")","v":"00000000000000000000000000000000000000000000"}]
[{"$f":"IFERROR(LEFT(Gerar_Upload!A157,120),\"erro\")","v":""},{"$f":"IFERROR(SUBSTITUTE(SUBSTITUTE(SUBSTITUTE(Gerar_Upload!B157,\".\",\"\"),\"-\",\"\"),\"/\",\"\"),\"erro\")","v":""},{"$f":"IFERROR(Gerar_Upload!C157,\"erro\")","v":0},{"$f":"IFERROR(Gerar_Upload!D157,\"erro\")","v":0},{"$f":"IFERROR(DATE(YEAR(Gerar_Upload!E157),MONTH(Gerar_Upload!E157),DAY(Gerar_Upload!E157)),\"erro\")","v":"00:00:00"},{"$f":"IFERROR(Gerar_Upload!F157,\"erro\")","v":0},{"$f":"IFERROR(IF(Gerar_Upload!G157<44,REPT(0,44-LEN(Gerar_Upload!G157))&Gerar_Upload!G157,Gerar_Upload!G157),\"erro\")","v":"00000000000000000000000000000000000000000000"}]
[{"$f":"IFERROR(LEFT(Gerar_Upload!A158,120),\"erro\")","v":""},{"$f":"IFERROR(SUBSTITUTE(SUBSTITUTE(SUBSTITUTE(Gerar_Upload!B158,\".\",\"\"),\"-\",\"\"),\"/\",\"\"),\"erro\")","v":""},{"$f":"IFERROR(Gerar_Upload!C158,\"erro\")","v":0},{"$f":"IFERROR(Gerar_Upload!D158,\"erro\")","v":0},{"$f":"IFERROR(DATE(YEAR(Gerar_Upload!E158),MONTH(Gerar_Upload!E158),DAY(Gerar_Upload!E158)),\"erro\")","v":"00:00:00"},{"$f":"IFERROR(Gerar_Upload!F158,\"erro\")","v":0},{"$f":"IFERROR(IF(Gerar_Upload!G158<44,REPT(0,44-LEN(Gerar_Upload!G158))&Gerar_Upload!G158,Gerar_Upload!G158),\"erro\")","v":"00000000000000000000000000000000000000000000"}]
[{"$f":"IFERROR(LEFT(Gerar_Upload!A159,120),\"erro\")","v":""},{"$f":"IFERROR(SUBSTITUTE(SUBSTITUTE(SUBSTITUTE(Gerar_Upload!B159,\".\",\"\"),\"-\",\"\"),\"/\",\"\"),\"erro\")","v":""},{"$f":"IFERROR(Gerar_Upload!C159,\"erro\")","v":0},{"$f":"IFERROR(Gerar_Upload!D159,\"erro\")","v":0},{"$f":"IFERROR(DATE(YEAR(Gerar_Upload!E159),MONTH(Gerar_Upload!E159),DAY(Gerar_Upload!E159)),\"erro\")","v":"00:00:00"},{"$f":"IFERROR(Gerar_Upload!F159,\"erro\")","v":0},{"$f":"IFERROR(IF(Gerar_Upload!G159<44,REPT(0,44-LEN(Gerar_Upload!G159))&Gerar_Upload!G159,Gerar_Upload!G159),\"erro\")","v":"00000000000000000000000000000000000000000000"}]
[{"$f":"IFERROR(LEFT(Gerar_Upload!A160,120),\"erro\")","v":""},{"$f":"IFERROR(SUBSTITUTE(SUBSTITUTE(SUBSTITUTE(Gerar_Upload!B160,\".\",\"\"),\"-\",\"\"),\"/\",\"\"),\"erro\")","v":""},{"$f":"IFERROR(Gerar_Upload!C160,\"erro\")","v":0},{"$f":"IFERROR(Gerar_Upload!D160,\"erro\")","v":0},{"$f":"IFERROR(DATE(YEAR(Gerar_Upload!E160),MONTH(Gerar_Upload!E160),DAY(Gerar_Upload!E160)),\"erro\")","v":"00:00:00"},{"$f":"IFERROR(Gerar_Upload!F160,\"erro\")","v":0},{"$f":"IFERROR(IF(Gerar_Upload!G160<44,REPT(0,44-LEN(Gerar_Upload!G160))&Gerar_Upload!G160,Gerar_Upload!G160),\"erro\")","v":"00000000000000000000000000000000000000000000"}]
[{"$f":"IFERROR(LEFT(Gerar_Upload!A161,120),\"erro\")","v":""},{"$f":"IFERROR(SUBSTITUTE(SUBSTITUTE(SUBSTITUTE(Gerar_Upload!B161,\".\",\"\"),\"-\",\"\"),\"/\",\"\"),\"erro\")","v":""},{"$f":"IFERROR(Gerar_Upload!C161,\"erro\")","v":0},{"$f":"IFERROR(Gerar_Upload!D161,\"erro\")","v":0},{"$f":"IFERROR(DATE(YEAR(Gerar_Upload!E161),MONTH(Gerar_Upload!E161),DAY(Gerar_Upload!E161)),\"erro\")","v":"00:00:00"},{"$f":"IFERROR(Gerar_Upload!F161,\"erro\")","v":0},{"$f":"IFERROR(IF(Gerar_Upload!G161<44,REPT(0,44-LEN(Gerar_Upload!G161))&Gerar_Upload!G161,Gerar_Upload!G161),\"erro\")","v":"00000000000000000000000000000000000000000000"}]
[{"$f":"IFERROR(LEFT(Gerar_Upload!A162,120),\"erro\")","v":""},{"$f":"IFERROR(SUBSTITUTE(SUBSTITUTE(SUBSTITUTE(Gerar_Upload!B162,\".\",\"\"),\"-\",\"\"),\"/\",\"\"),\"erro\")","v":""},{"$f":"IFERROR(Gerar_Upload!C162,\"erro\")","v":0},{"$f":"IFERROR(Gerar_Upload!D162,\"erro\")","v":0},{"$f":"IFERROR(DATE(YEAR(Gerar_Upload!E162),MONTH(Gerar_Upload!E162),DAY(Gerar_Upload!E162)),\"erro\")","v":"00:00:00"},{"$f":"IFERROR(Gerar_Upload!F162,\"erro\")","v":0},{"$f":"IFERROR(IF(Gerar_Upload!G162<44,REPT(0,44-LEN(Gerar_Upload!G162))&Gerar_Upload!G162,Gerar_Upload!G162),\"erro\")","v":"00000000000000000000000000000000000000000000"}]
[{"$f":"IFERROR(LEFT(Gerar_Upload!A163,120),\"erro\")","v":""},{"$f":"IFERROR(SUBSTITUTE(SUBSTITUTE(SUBSTITUTE(Gerar_Upload!B163,\".\",\"\"),\"-\",\"\"),\"/\",\"\"),\"erro\")","v":""},{"$f":"IFERROR(Gerar_Upload!C163,\"erro\")","v":0},{"$f":"IFERROR(Gerar_Upload!D163,\"erro\")","v":0},{"$f":"IFERROR(DATE(YEAR(Gerar_Upload!E163),MONTH(Gerar_Upload!E163),DAY(Gerar_Upload!E163)),\"erro\")","v":"00:00:00"},{"$f":"IFERROR(Gerar_Upload!F163,\"erro\")","v":0},{"$f":"IFERROR(IF(Gerar_Upload!G163<44,REPT(0,44-LEN(Gerar_Upload!G163))&Gerar_Upload!G163,Gerar_Upload!G163),\"erro\")","v":"00000000000000000000000000000000000000000000"}]
[{"$f":"IFERROR(LEFT(Gerar_Upload!A164,120),\"erro\")","v":""},{"$f":"IFERROR(SUBSTITUTE(SUBSTITUTE(SUBSTITUTE(Gerar_Upload!B164,\".\",\"\"),\"-\",\"\"),\"/\",\"\"),\"erro\")","v":""},{"$f":"IFERROR(Gerar_Upload!C164,\"erro\")","v":0},{"$f":"IFERROR(Gerar_Upload!D164,\"erro\")","v":0},{"$f":"IFERROR(DATE(YEAR(Gerar_Upload!E164),MONTH(Gerar_Upload!E164),DAY(Gerar_Upload!E164)),\"erro\")","v":"00:00:00"},{"$f":"IFERROR(Gerar_Upload!F164,\"erro\")","v":0},{"$f":"IFERROR(IF(Gerar_Upload!G164<44,REPT(0,44-LEN(Gerar_Upload!G164))&Gerar_Upload!G164,Gerar_Upload!G164),\"erro\")","v":"00000000000000000000000000000000000000000000"}]
[{"$f":"IFERROR(LEFT(Gerar_Upload!A165,120),\"erro\")","v":""},{"$f":"IFERROR(SUBSTITUTE(SUBSTITUTE(SUBSTITUTE(Gerar_Upload!B165,\".\",\"\"),\"-\",\"\"),\"/\",\"\"),\"erro\")","v":""},{"$f":"IFERROR(Gerar_Upload!C165,\"erro\")","v":0},{"$f":"IFERROR(Gerar_Upload!D165,\"erro\")","v":0},{"$f":"IFERROR(DATE(YEAR(Gerar_Upload!E165),MONTH(Gerar_Upload!E165),DAY(Gerar_Upload!E165)),\"erro\")","v":"00:00:00"},{"$f":"IFERROR(Gerar_Upload!F165,\"erro\")","v":0},{"$f":"IFERROR(IF(Gerar_Upload!G165<44,REPT(0,44-LEN(Gerar_Upload!G165))&Gerar_Upload!G165,Gerar_Upload!G165),\"erro\")","v":"00000000000000000000000000000000000000000000"}]
[{"$f":"IFERROR(LEFT(Gerar_Upload!A166,120),\"erro\")","v":""},{"$f":"IFERROR(SUBSTITUTE(SUBSTITUTE(SUBSTITUTE(Gerar_Upload!B166,\".\",\"\"),\"-\",\"\"),\"/\",\"\"),\"erro\")","v":""},{"$f":"IFERROR(Gerar_Upload!C166,\"erro\")","v":0},{"$f":"IFERROR(Gerar_Upload!D166,\"erro\")","v":0},{"$f":"IFERROR(DATE(YEAR(Gerar_Upload!E166),MONTH(Gerar_Upload!E166),DAY(Gerar_Upload!E166)),\"erro\")","v":"00:00:00"},{"$f":"IFERROR(Gerar_Upload!F166,\"erro\")","v":0},{"$f":"IFERROR(IF(Gerar_Upload!G166<44,REPT(0,44-LEN(Gerar_Upload!G166))&Gerar_Upload!G166,Gerar_Upload!G166),\"erro\")","v":"00000000000000000000000000000000000000000000"}]
[{"$f":"IFERROR(LEFT(Gerar_Upload!A167,120),\"erro\")","v":""},{"$f":"IFERROR(SUBSTITUTE(SUBSTITUTE(SUBSTITUTE(Gerar_Upload!B167,\".\",\"\"),\"-\",\"\"),\"/\",\"\"),\"erro\")","v":""},{"$f":"IFERROR(Gerar_Upload!C167,\"erro\")","v":0},{"$f":"IFERROR(Gerar_Upload!D167,\"erro\")","v":0},{"$f":"IFERROR(DATE(YEAR(Gerar_Upload!E167),MONTH(Gerar_Upload!E167),DAY(Gerar_Upload!E167)),\"erro\")","v":"00:00:00"},{"$f":"IFERROR(Gerar_Upload!F167,\"erro\")","v":0},{"$f":"IFERROR(IF(Gerar_Upload!G167<44,REPT(0,44-LEN(Gerar_Upload!G167))&Gerar_Upload!G167,Gerar_Upload!G167),\"erro\")","v":"00000000000000000000000000000000000000000000"}]
[{"$f":"IFERROR(LEFT(Gerar_Upload!A168,120),\"erro\")","v":""},{"$f":"IFERROR(SUBSTITUTE(SUBSTITUTE(SUBSTITUTE(Gerar_Upload!B168,\".\",\"\"),\"-\",\"\"),\"/\",\"\"),\"erro\")","v":""},{"$f":"IFERROR(Gerar_Upload!C168,\"erro\")","v":0},{"$f":"IFERROR(Gerar_Upload!D168,\"erro\")","v":0},{"$f":"IFERROR(DATE(YEAR(Gerar_Upload!E168),MONTH(Gerar_Upload!E168),DAY(Gerar_Upload!E168)),\"erro\")","v":"00:00:00"},{"$f":"IFERROR(Gerar_Upload!F168,\"erro\")","v":0},{"$f":"IFERROR(IF(Gerar_Upload!G168<44,REPT(0,44-LEN(Gerar_Upload!G168))&Gerar_Upload!G168,Gerar_Upload!G168),\"erro\")","v":"00000000000000000000000000000000000000000000"}]
[{"$f":"IFERROR(LEFT(Gerar_Upload!A169,120),\"erro\")","v":""},{"$f":"IFERROR(SUBSTITUTE(SUBSTITUTE(SUBSTITUTE(Gerar_Upload!B169,\".\",\"\"),\"-\",\"\"),\"/\",\"\"),\"erro\")","v":""},{"$f":"IFERROR(Gerar_Upload!C169,\"erro\")","v":0},{"$f":"IFERROR(Gerar_Upload!D169,\"erro\")","v":0},{"$f":"IFERROR(DATE(YEAR(Gerar_Upload!E169),MONTH(Gerar_Upload!E169),DAY(Gerar_Upload!E169)),\"erro\")","v":"00:00:00"},{"$f":"IFERROR(Gerar_Upload!F169,\"erro\")","v":0},{"$f":"IFERROR(IF(Gerar_Upload!G169<44,REPT(0,44-LEN(Gerar_Upload!G169))&Gerar_Upload!G169,Gerar_Upload!G169),\"erro\")","v":"00000000000000000000000000000000000000000000"}]
[{"$f":"IFERROR(LEFT(Gerar_Upload!A170,120),\"erro\")","v":""},{"$f":"IFERROR(SUBSTITUTE(SUBSTITUTE(SUBSTITUTE(Gerar_Upload!B170,\".\",\"\"),\"-\",\"\"),\"/\",\"\"),\"erro\")","v":""},{"$f":"IFERROR(Gerar_Upload!C170,\"erro\")","v":0},{"$f":"IFERROR(Gerar_Upload!D170,\"erro\")","v":0},{"$f":"IFERROR(DATE(YEAR(Gerar_Upload!E170),MONTH(Gerar_Upload!E170),DAY(Gerar_Upload!E170)),\"erro\")","v":"00:00:00"},{"$f":"IFERROR(Gerar_Upload!F170,\"erro\")","v":0},{"$f":"IFERROR(IF(Gerar_Upload!G170<44,REPT(0,44-LEN(Gerar_Upload!G170))&Gerar_Upload!G170,Gerar_Upload!G170),\"erro\")","v":"00000000000000000000000000000000000000000000"}]
[{"$f":"IFERROR(LEFT(Gerar_Upload!A171,120),\"erro\")","v":""},{"$f":"IFERROR(SUBSTITUTE(SUBSTITUTE(SUBSTITUTE(Gerar_Upload!B171,\".\",\"\"),\"-\",\"\"),\"/\",\"\"),\"erro\")","v":""},{"$f":"IFERROR(Gerar_Upload!C171,\"erro\")","v":0},{"$f":"IFERROR(Gerar_Upload!D171,\"erro\")","v":0},{"$f":"IFERROR(DATE(YEAR(Gerar_Upload!E171),MONTH(Gerar_Upload!E171),DAY(Gerar_Upload!E171)),\"erro\")","v":"00:00:00"},{"$f":"IFERROR(Gerar_Upload!F171,\"erro\")","v":0},{"$f":"IFERROR(IF(Gerar_Upload!G171<44,REPT(0,44-LEN(Gerar_Upload!G171))&Gerar_Upload!G171,Gerar_Upload!G171),\"erro\")","v":"00000000000000000000000000000000000000000000"}]
[{"$f":"IFERROR(LEFT(Gerar_Upload!A172,120),\"erro\")","v":""},{"$f":"IFERROR(SUBSTITUTE(SUBSTITUTE(SUBSTITUTE(Gerar_Upload!B172,\".\",\"\"),\"-\",\"\"),\"/\",\"\"),\"erro\")","v":""},{"$f":"IFERROR(Gerar_Upload!C172,\"erro\")","v":0},{"$f":"IFERROR(Gerar_Upload!D172,\"erro\")","v":0},{"$f":"IFERROR(DATE(YEAR(Gerar_Upload!E172),MONTH(Gerar_Upload!E172),DAY(Gerar_Upload!E172)),\"erro\")","v":"00:00:00"},{"$f":"IFERROR(Gerar_Upload!F172,\"erro\")","v":0},{"$f":"IFERROR(IF(Gerar_Upload!G172<44,REPT(0,44-LEN(Gerar_Upload!G172))&Gerar_Upload!G172,Gerar_Upload!G172),\"erro\")","v":"00000000000000000000000000000000000000000000"}]
[{"$f":"IFERROR(LEFT(Gerar_Upload!A173,120),\"erro\")","v":""},{"$f":"IFERROR(SUBSTITUTE(SUBSTITUTE(SUBSTITUTE(Gerar_Upload!B173,\".\",\"\"),\"-\",\"\"),\"/\",\"\"),\"erro\")","v":""},{"$f":"IFERROR(Gerar_Upload!C173,\"erro\")","v":0},{"$f":"IFERROR(Gerar_Upload!D173,\"erro\")","v":0},{"$f":"IFERROR(DATE(YEAR(Gerar_Upload!E173),MONTH(Gerar_Upload!E173),DAY(Gerar_Upload!E173)),\"erro\")","v":"00:00:00"},{"$f":"IFERROR(Gerar_Upload!F173,\"erro\")","v":0},{"$f":"IFERROR(IF(Gerar_Upload!G173<44,REPT(0,44-LEN(Gerar_Upload!G173))&Gerar_Upload!G173,Gerar_Upload!G173),\"erro\")","v":"00000000000000000000000000000000000000000000"}]
[{"$f":"IFERROR(LEFT(Gerar_Upload!A174,120),\"erro\")","v":""},{"$f":"IFERROR(SUBSTITUTE(SUBSTITUTE(SUBSTITUTE(Gerar_Upload!B174,\".\",\"\"),\"-\",\"\"),\"/\",\"\"),\"erro\")","v":""},{"$f":"IFERROR(Gerar_Upload!C174,\"erro\")","v":0},{"$f":"IFERROR(Gerar_Upload!D174,\"erro\")","v":0},{"$f":"IFERROR(DATE(YEAR(Gerar_Upload!E174),MONTH(Gerar_Upload!E174),DAY(Gerar_Upload!E174)),\"erro\")","v":"00:00:00"},{"$f":"IFERROR(Gerar_Upload!F174,\"erro\")","v":0},{"$f":"IFERROR(IF(Gerar_Upload!G174<44,REPT(0,44-LEN(Gerar_Upload!G174))&Gerar_Upload!G174,Gerar_Upload!G174),\"erro\")","v":"00000000000000000000000000000000000000000000"}]
[{"$f":"IFERROR(LEFT(Gerar_Upload!A175,120),\"erro\")","v":""},{"$f":"IFERROR(SUBSTITUTE(SUBSTITUTE(SUBSTITUTE(Gerar_Upload!B175,\".\",\"\"),\"-\",\"\"),\"/\",\"\"),\"erro\")","v":""},{"$f":"IFERROR(Gerar_Upload!C175,\"erro\")","v":0},{"$f":"IFERROR(Gerar_Upload!D175,\"erro\")","v":0},{"$f":"IFERROR(DATE(YEAR(Gerar_Upload!E175),MONTH(Gerar_Upload!E175),DAY(Gerar_Upload!E175)),\"erro\")","v":"00:00:00"},{"$f":"IFERROR(Gerar_Upload!F175,\"erro\")","v":0},{"$f":"IFERROR(IF(Gerar_Upload!G175<44,REPT(0,44-LEN(Gerar_Upload!G175))&Gerar_Upload!G175,Gerar_Upload!G175),\"erro\")","v":"00000000000000000000000000000000000000000000"}]
[{"$f":"IFERROR(LEFT(Gerar_Upload!A176,120),\"erro\")","v":""},{"$f":"IFERROR(SUBSTITUTE(SUBSTITUTE(SUBSTITUTE(Gerar_Upload!B176,\".\",\"\"),\"-\",\"\"),\"/\",\"\"),\"erro\")","v":""},{"$f":"IFERROR(Gerar_Upload!C176,\"erro\")","v":0},{"$f":"IFERROR(Gerar_Upload!D176,\"erro\")","v":0},{"$f":"IFERROR(DATE(YEAR(Gerar_Upload!E176),MONTH(Gerar_Upload!E176),DAY(Gerar_Upload!E176)),\"erro\")","v":"00:00:00"},{"$f":"IFERROR(Gerar_Upload!F176,\"erro\")","v":0},{"$f":"IFERROR(IF(Gerar_Upload!G176<44,REPT(0,44-LEN(Gerar_Upload!G176))&Gerar_Upload!G176,Gerar_Upload!G176),\"erro\")","v":"00000000000000000000000000000000000000000000"}]
[{"$f":"IFERROR(LEFT(Gerar_Upload!A177,120),\"erro\")","v":""},{"$f":"IFERROR(SUBSTITUTE(SUBSTITUTE(SUBSTITUTE(Gerar_Upload!B177,\".\",\"\"),\"-\",\"\"),\"/\",\"\"),\"erro\")","v":""},{"$f":"IFERROR(Gerar_Upload!C177,\"erro\")","v":0},{"$f":"IFERROR(Gerar_Upload!D177,\"erro\")","v":0},{"$f":"IFERROR(DATE(YEAR(Gerar_Upload!E177),MONTH(Gerar_Upload!E177),DAY(Gerar_Upload!E177)),\"erro\")","v":"00:00:00"},{"$f":"IFERROR(Gerar_Upload!F177,\"erro\")","v":0},{"$f":"IFERROR(IF(Gerar_Upload!G177<44,REPT(0,44-LEN(Gerar_Upload!G177))&Gerar_Upload!G177,Gerar_Upload!G177),\"erro\")","v":"00000000000000000000000000000000000000000000"}]
[{"$f":"IFERROR(LEFT(Gerar_Upload!A178,120),\"erro\")","v":""},{"$f":"IFERROR(SUBSTITUTE(SUBSTITUTE(SUBSTITUTE(Gerar_Upload!B178,\".\",\"\"),\"-\",\"\"),\"/\",\"\"),\"erro\")","v":""},{"$f":"IFERROR(Gerar_Upload!C178,\"erro\")","v":0},{"$f":"IFERROR(Gerar_Upload!D178,\"erro\")","v":0},{"$f":"IFERROR(DATE(YEAR(Gerar_Upload!E178),MONTH(Gerar_Upload!E178),DAY(Gerar_Upload!E178)),\"erro\")","v":"00:00:00"},{"$f":"IFERROR(Gerar_Upload!F178,\"erro\")","v":0},{"$f":"IFERROR(IF(Gerar_Upload!G178<44,REPT(0,44-LEN(Gerar_Upload!G178))&Gerar_Upload!G178,Gerar_Upload!G178),\"erro\")","v":"00000000000000000000000000000000000000000000"}]
[{"$f":"IFERROR(LEFT(Gerar_Upload!A179,120),\"erro\")","v":""},{"$f":"IFERROR(SUBSTITUTE(SUBSTITUTE(SUBSTITUTE(Gerar_Upload!B179,\".\",\"\"),\"-\",\"\"),\"/\",\"\"),\"erro\")","v":""},{"$f":"IFERROR(Gerar_Upload!C179,\"erro\")","v":0},{"$f":"IFERROR(Gerar_Upload!D179,\"erro\")","v":0},{"$f":"IFERROR(DATE(YEAR(Gerar_Upload!E179),MONTH(Gerar_Upload!E179),DAY(Gerar_Upload!E179)),\"erro\")","v":"00:00:00"},{"$f":"IFERROR(Gerar_Upload!F179,\"erro\")","v":0},{"$f":"IFERROR(IF(Gerar_Upload!G179<44,REPT(0,44-LEN(Gerar_Upload!G179))&Gerar_Upload!G179,Gerar_Upload!G179),\"erro\")","v":"00000000000000000000000000000000000000000000"}]
[{"$f":"IFERROR(LEFT(Gerar_Upload!A180,120),\"erro\")","v":""},{"$f":"IFERROR(SUBSTITUTE(SUBSTITUTE(SUBSTITUTE(Gerar_Upload!B180,\".\",\"\"),\"-\",\"\"),\"/\",\"\"),\"erro\")","v":""},{"$f":"IFERROR(Gerar_Upload!C180,\"erro\")","v":0},{"$f":"IFERROR(Gerar_Upload!D180,\"erro\")","v":0},{"$f":"IFERROR(DATE(YEAR(Gerar_Upload!E180),MONTH(Gerar_Upload!E180),DAY(Gerar_Upload!E180)),\"erro\")","v":"00:00:00"},{"$f":"IFERROR(Gerar_Upload!F180,\"erro\")","v":0},{"$f":"IFERROR(IF(Gerar_Upload!G180<44,REPT(0,44-LEN(Gerar_Upload!G180))&Gerar_Upload!G180,Gerar_Upload!G180),\"erro\")","v":"00000000000000000000000000000000000000000000"}]
[{"$f":"IFERROR(LEFT(Gerar_Upload!A181,120),\"erro\")","v":""},{"$f":"IFERROR(SUBSTITUTE(SUBSTITUTE(SUBSTITUTE(Gerar_Upload!B181,\".\",\"\"),\"-\",\"\"),\"/\",\"\"),\"erro\")","v":""},{"$f":"IFERROR(Gerar_Upload!C181,\"erro\")","v":0},{"$f":"IFERROR(Gerar_Upload!D181,\"erro\")","v":0},{"$f":"IFERROR(DATE(YEAR(Gerar_Upload!E181),MONTH(Gerar_Upload!E181),DAY(Gerar_Upload!E181)),\"erro\")","v":"00:00:00"},{"$f":"IFERROR(Gerar_Upload!F181,\"erro\")","v":0},{"$f":"IFERROR(IF(Gerar_Upload!G181<44,REPT(0,44-LEN(Gerar_Upload!G181))&Gerar_Upload!G181,Gerar_Upload!G181),\"erro\")","v":"00000000000000000000000000000000000000000000"}]
[{"$f":"IFERROR(LEFT(Gerar_Upload!A182,120),\"erro\")","v":""},{"$f":"IFERROR(SUBSTITUTE(SUBSTITUTE(SUBSTITUTE(Gerar_Upload!B182,\".\",\"\"),\"-\",\"\"),\"/\",\"\"),\"erro\")","v":""},{"$f":"IFERROR(Gerar_Upload!C182,\"erro\")","v":0},{"$f":"IFERROR(Gerar_Upload!D182,\"erro\")","v":0},{"$f":"IFERROR(DATE(YEAR(Gerar_Upload!E182),MONTH(Gerar_Upload!E182),DAY(Gerar_Upload!E182)),\"erro\")","v":"00:00:00"},{"$f":"IFERROR(Gerar_Upload!F182,\"erro\")","v":0},{"$f":"IFERROR(IF(Gerar_Upload!G182<44,REPT(0,44-LEN(Gerar_Upload!G182))&Gerar_Upload!G182,Gerar_Upload!G182),\"erro\")","v":"00000000000000000000000000000000000000000000"}]
[{"$f":"IFERROR(LEFT(Gerar_Upload!A183,120),\"erro\")","v":""},{"$f":"IFERROR(SUBSTITUTE(SUBSTITUTE(SUBSTITUTE(Gerar_Upload!B183,\".\",\"\"),\"-\",\"\"),\"/\",\"\"),\"erro\")","v":""},{"$f":"IFERROR(Gerar_Upload!C183,\"erro\")","v":0},{"$f":"IFERROR(Gerar_Upload!D183,\"erro\")","v":0},{"$f":"IFERROR(DATE(YEAR(Gerar_Upload!E183),MONTH(Gerar_Upload!E183),DAY(Gerar_Upload!E183)),\"erro\")","v":"00:00:00"},{"$f":"IFERROR(Gerar_Upload!F183,\"erro\")","v":0},{"$f":"IFERROR(IF(Gerar_Upload!G183<44,REPT(0,44-LEN(Gerar_Upload!G183))&Gerar_Upload!G183,Gerar_Upload!G183),\"erro\")","v":"00000000000000000000000000000000000000000000"}]
[{"$f":"IFERROR(LEFT(Gerar_Upload!A184,120),\"erro\")","v":""},{"$f":"IFERROR(SUBSTITUTE(SUBSTITUTE(SUBSTITUTE(Gerar_Upload!B184,\".\",\"\"),\"-\",\"\"),\"/\",\"\"),\"erro\")","v":""},{"$f":"IFERROR(Gerar_Upload!C184,\"erro\")","v":0},{"$f":"IFERROR(Gerar_Upload!D184,\"erro\")","v":0},{"$f":"IFERROR(DATE(YEAR(Gerar_Upload!E184),MONTH(Gerar_Upload!E184),DAY(Gerar_Upload!E184)),\"erro\")","v":"00:00:00"},{"$f":"IFERROR(Gerar_Upload!F184,\"erro\")","v":0},{"$f":"IFERROR(IF(Gerar_Upload!G184<44,REPT(0,44-LEN(Gerar_Upload!G184))&Gerar_Upload!G184,Gerar_Upload!G184),\"erro\")","v":"00000000000000000000000000000000000000000000"}]
[{"$f":"IFERROR(LEFT(Gerar_Upload!A185,120),\"erro\")","v":""},{"$f":"IFERROR(SUBSTITUTE(SUBSTITUTE(SUBSTITUTE(Gerar_Upload!B185,\".\",\"\"),\"-\",\"\"),\"/\",\"\"),\"erro\")","v":""},{"$f":"IFERROR(Gerar_Upload!C185,\"erro\")","v":0},{"$f":"IFERROR(Gerar_Upload!D185,\"erro\")","v":0},{"$f":"IFERROR(DATE(YEAR(Gerar_Upload!E185),MONTH(Gerar_Upload!E185),DAY(Gerar_Upload!E185)),\"erro\")","v":"00:00:00"},{"$f":"IFERROR(Gerar_Upload!F185,\"erro\")","v":0},{"$f":"IFERROR(IF(Gerar_Upload!G185<44,REPT(0,44-LEN(Gerar_Upload!G185))&Gerar_Upload!G185,Gerar_Upload!G185),\"erro\")","v":"00000000000000000000000000000000000000000000"}]
[{"$f":"IFERROR(LEFT(Gerar_Upload!A186,120),\"erro\")","v":""},{"$f":"IFERROR(SUBSTITUTE(SUBSTITUTE(SUBSTITUTE(Gerar_Upload!B186,\".\",\"\"),\"-\",\"\"),\"/\",\"\"),\"erro\")","v":""},{"$f":"IFERROR(Gerar_Upload!C186,\"erro\")","v":0},{"$f":"IFERROR(Gerar_Upload!D186,\"erro\")","v":0},{"$f":"IFERROR(DATE(YEAR(Gerar_Upload!E186),MONTH(Gerar_Upload!E186),DAY(Gerar_Upload!E186)),\"erro\")","v":"00:00:00"},{"$f":"IFERROR(Gerar_Upload!F186,\"erro\")","v":0},{"$f":"IFERROR(IF(Gerar_Upload!G186<44,REPT(0,44-LEN(Gerar_Upload!G186))&Gerar_Upload!G186,Gerar_Upload!G186),\"erro\")","v":"00000000000000000000000000000000000000000000"}]
[{"$f":"IFERROR(LEFT(Gerar_Upload!A187,120),\"erro\")","v":""},{"$f":"IFERROR(SUBSTITUTE(SUBSTITUTE(SUBSTITUTE(Gerar_Upload!B187,\".\",\"\"),\"-\",\"\"),\"/\",\"\"),\"erro\")","v":""},{"$f":"IFERROR(Gerar_Upload!C187,\"erro\")","v":0},{"$f":"IFERROR(Gerar_Upload!D187,\"erro\")","v":0},{"$f":"IFERROR(DATE(YEAR(Gerar_Upload!E187),MONTH(Gerar_Upload!E187),DAY(Gerar_Upload!E187)),\"erro\")","v":"00:00:00"},{"$f":"IFERROR(Gerar_Upload!F187,\"erro\")","v":0},{"$f":"IFERROR(IF(Gerar_Upload!G187<44,REPT(0,44-LEN(Gerar_Upload!G187))&Gerar_Upload!G187,Gerar_Upload!G187),\"erro\")","v":"00000000000000000000000000000000000000000000"}]
[{"$f":"IFERROR(LEFT(Gerar_Upload!A188,120),\"erro\")","v":""},{"$f":"IFERROR(SUBSTITUTE(SUBSTITUTE(SUBSTITUTE(Gerar_Upload!B188,\".\",\"\"),\"-\",\"\"),\"/\",\"\"),\"erro\")","v":""},{"$f":"IFERROR(Gerar_Upload!C188,\"erro\")","v":0},{"$f":"IFERROR(Gerar_Upload!D188,\"erro\")","v":0},{"$f":"IFERROR(DATE(YEAR(Gerar_Upload!E188),MONTH(Gerar_Upload!E188),DAY(Gerar_Upload!E188)),\"erro\")","v":"00:00:00"},{"$f":"IFERROR(Gerar_Upload!F188,\"erro\")","v":0},{"$f":"IFERROR(IF(Gerar_Upload!G188<44,REPT(0,44-LEN(Gerar_Upload!G188))&Gerar_Upload!G188,Gerar_Upload!G188),\"erro\")","v":"00000000000000000000000000000000000000000000"}]
[{"$f":"IFERROR(LEFT(Gerar_Upload!A189,120),\"erro\")","v":""},{"$f":"IFERROR(SUBSTITUTE(SUBSTITUTE(SUBSTITUTE(Gerar_Upload!B189,\".\",\"\"),\"-\",\"\"),\"/\",\"\"),\"erro\")","v":""},{"$f":"IFERROR(Gerar_Upload!C189,\"erro\")","v":0},{"$f":"IFERROR(Gerar_Upload!D189,\"erro\")","v":0},{"$f":"IFERROR(DATE(YEAR(Gerar_Upload!E189),MONTH(Gerar_Upload!E189),DAY(Gerar_Upload!E189)),\"erro\")","v":"00:00:00"},{"$f":"IFERROR(Gerar_Upload!F189,\"erro\")","v":0},{"$f":"IFERROR(IF(Gerar_Upload!G189<44,REPT(0,44-LEN(Gerar_Upload!G189))&Gerar_Upload!G189,Gerar_Upload!G189),\"erro\")","v":"00000000000000000000000000000000000000000000"}]
[{"$f":"IFERROR(LEFT(Gerar_Upload!A190,120),\"erro\")","v":""},{"$f":"IFERROR(SUBSTITUTE(SUBSTITUTE(SUBSTITUTE(Gerar_Upload!B190,\".\",\"\"),\"-\",\"\"),\"/\",\"\"),\"erro\")","v":""},{"$f":"IFERROR(Gerar_Upload!C190,\"erro\")","v":0},{"$f":"IFERROR(Gerar_Upload!D190,\"erro\")","v":0},{"$f":"IFERROR(DATE(YEAR(Gerar_Upload!E190),MONTH(Gerar_Upload!E190),DAY(Gerar_Upload!E190)),\"erro\")","v":"00:00:00"},{"$f":"IFERROR(Gerar_Upload!F190,\"erro\")","v":0},{"$f":"IFERROR(IF(Gerar_Upload!G190<44,REPT(0,44-LEN(Gerar_Upload!G190))&Gerar_Upload!G190,Gerar_Upload!G190),\"erro\")","v":"00000000000000000000000000000000000000000000"}]
[{"$f":"IFERROR(LEFT(Gerar_Upload!A191,120),\"erro\")","v":""},{"$f":"IFERROR(SUBSTITUTE(SUBSTITUTE(SUBSTITUTE(Gerar_Upload!B191,\".\",\"\"),\"-\",\"\"),\"/\",\"\"),\"erro\")","v":""},{"$f":"IFERROR(Gerar_Upload!C191,\"erro\")","v":0},{"$f":"IFERROR(Gerar_Upload!D191,\"erro\")","v":0},{"$f":"IFERROR(DATE(YEAR(Gerar_Upload!E191),MONTH(Gerar_Upload!E191),DAY(Gerar_Upload!E191)),\"erro\")","v":"00:00:00"},{"$f":"IFERROR(Gerar_Upload!F191,\"erro\")","v":0},{"$f":"IFERROR(IF(Gerar_Upload!G191<44,REPT(0,44-LEN(Gerar_Upload!G191))&Gerar_Upload!G191,Gerar_Upload!G191),\"erro\")","v":"00000000000000000000000000000000000000000000"}]
[{"$f":"IFERROR(LEFT(Gerar_Upload!A192,120),\"erro\")","v":""},{"$f":"IFERROR(SUBSTITUTE(SUBSTITUTE(SUBSTITUTE(Gerar_Upload!B192,\".\",\"\"),\"-\",\"\"),\"/\",\"\"),\"erro\")","v":""},{"$f":"IFERROR(Gerar_Upload!C192,\"erro\")","v":0},{"$f":"IFERROR(Gerar_Upload!D192,\"erro\")","v":0},{"$f":"IFERROR(DATE(YEAR(Gerar_Upload!E192),MONTH(Gerar_Upload!E192),DAY(Gerar_Upload!E192)),\"erro\")","v":"00:00:00"},{"$f":"IFERROR(Gerar_Upload!F192,\"erro\")","v":0},{"$f":"IFERROR(IF(Gerar_Upload!G192<44,REPT(0,44-LEN(Gerar_Upload!G192))&Gerar_Upload!G192,Gerar_Upload!G192),\"erro\")","v":"00000000000000000000000000000000000000000000"}]
[{"$f":"IFERROR(LEFT(Gerar_Upload!A193,120),\"erro\")","v":""},{"$f":"IFERROR(SUBSTITUTE(SUBSTITUTE(SUBSTITUTE(Gerar_Upload!B193,\".\",\"\"),\"-\",\"\"),\"/\",\"\"),\"erro\")","v":""},{"$f":"IFERROR(Gerar_Upload!C193,\"erro\")","v":0},{"$f":"IFERROR(Gerar_Upload!D193,\"erro\")","v":0},{"$f":"IFERROR(DATE(YEAR(Gerar_Upload!E193),MONTH(Gerar_Upload!E193),DAY(Gerar_Upload!E193)),\"erro\")","v":"00:00:00"},{"$f":"IFERROR(Gerar_Upload!F193,\"erro\")","v":0},{"$f":"IFERROR(IF(Gerar_Upload!G193<44,REPT(0,44-LEN(Gerar_Upload!G193))&Gerar_Upload!G193,Gerar_Upload!G193),\"erro\")","v":"00000000000000000000000000000000000000000000"}]
[{"$f":"IFERROR(LEFT(Gerar_Upload!A194,120),\"erro\")","v":""},{"$f":"IFERROR(SUBSTITUTE(SUBSTITUTE(SUBSTITUTE(Gerar_Upload!B194,\".\",\"\"),\"-\",\"\"),\"/\",\"\"),\"erro\")","v":""},{"$f":"IFERROR(Gerar_Upload!C194,\"erro\")","v":0},{"$f":"IFERROR(Gerar_Upload!D194,\"erro\")","v":0},{"$f":"IFERROR(DATE(YEAR(Gerar_Upload!E194),MONTH(Gerar_Upload!E194),DAY(Gerar_Upload!E194)),\"erro\")","v":"00:00:00"},{"$f":"IFERROR(Gerar_Upload!F194,\"erro\")","v":0},{"$f":"IFERROR(IF(Gerar_Upload!G194<44,REPT(0,44-LEN(Gerar_Upload!G194))&Gerar_Upload!G194,Gerar_Upload!G194),\"erro\")","v":"00000000000000000000000000000000000000000000"}]
[{"$f":"IFERROR(LEFT(Gerar_Upload!A195,120),\"erro\")","v":""},{"$f":"IFERROR(SUBSTITUTE(SUBSTITUTE(SUBSTITUTE(Gerar_Upload!B195,\".\",\"\"),\"-\",\"\"),\"/\",\"\"),\"erro\")","v":""},{"$f":"IFERROR(Gerar_Upload!C195,\"erro\")","v":0},{"$f":"IFERROR(Gerar_Upload!D195,\"erro\")","v":0},{"$f":"IFERROR(DATE(YEAR(Gerar_Upload!E195),MONTH(Gerar_Upload!E195),DAY(Gerar_Upload!E195)),\"erro\")","v":"00:00:00"},{"$f":"IFERROR(Gerar_Upload!F195,\"erro\")","v":0},{"$f":"IFERROR(IF(Gerar_Upload!G195<44,REPT(0,44-LEN(Gerar_Upload!G195))&Gerar_Upload!G195,Gerar_Upload!G195),\"erro\")","v":"00000000000000000000000000000000000000000000"}]
[{"$f":"IFERROR(LEFT(Gerar_Upload!A196,120),\"erro\")","v":""},{"$f":"IFERROR(SUBSTITUTE(SUBSTITUTE(SUBSTITUTE(Gerar_Upload!B196,\".\",\"\"),\"-\",\"\"),\"/\",\"\"),\"erro\")","v":""},{"$f":"IFERROR(Gerar_Upload!C196,\"erro\")","v":0},{"$f":"IFERROR(Gerar_Upload!D196,\"erro\")","v":0},{"$f":"IFERROR(DATE(YEAR(Gerar_Upload!E196),MONTH(Gerar_Upload!E196),DAY(Gerar_Upload!E196)),\"erro\")","v":"00:00:00"},{"$f":"IFERROR(Gerar_Upload!F196,\"erro\")","v":0},{"$f":"IFERROR(IF(Gerar_Upload!G196<44,REPT(0,44-LEN(Gerar_Upload!G196))&Gerar_Upload!G196,Gerar_Upload!G196),\"erro\")","v":"00000000000000000000000000000000000000000000"}]
[{"$f":"IFERROR(LEFT(Gerar_Upload!A197,120),\"erro\")","v":""},{"$f":"IFERROR(SUBSTITUTE(SUBSTITUTE(SUBSTITUTE(Gerar_Upload!B197,\".\",\"\"),\"-\",\"\"),\"/\",\"\"),\"erro\")","v":""},{"$f":"IFERROR(Gerar_Upload!C197,\"erro\")","v":0},{"$f":"IFERROR(Gerar_Upload!D197,\"erro\")","v":0},{"$f":"IFERROR(DATE(YEAR(Gerar_Upload!E197),MONTH(Gerar_Upload!E197),DAY(Gerar_Upload!E197)),\"erro\")","v":"00:00:00"},{"$f":"IFERROR(Gerar_Upload!F197,\"erro\")","v":0},{"$f":"IFERROR(IF(Gerar_Upload!G197<44,REPT(0,44-LEN(Gerar_Upload!G197))&Gerar_Upload!G197,Gerar_Upload!G197),\"erro\")","v":"00000000000000000000000000000000000000000000"}]
[{"$f":"IFERROR(LEFT(Gerar_Upload!A198,120),\"erro\")","v":""},{"$f":"IFERROR(SUBSTITUTE(SUBSTITUTE(SUBSTITUTE(Gerar_Upload!B198,\".\",\"\"),\"-\",\"\"),\"/\",\"\"),\"erro\")","v":""},{"$f":"IFERROR(Gerar_Upload!C198,\"erro\")","v":0},{"$f":"IFERROR(Gerar_Upload!D198,\"erro\")","v":0},{"$f":"IFERROR(DATE(YEAR(Gerar_Upload!E198),MONTH(Gerar_Upload!E198),DAY(Gerar_Upload!E198)),\"erro\")","v":"00:00:00"},{"$f":"IFERROR(Gerar_Upload!F198,\"erro\")","v":0},{"$f":"IFERROR(IF(Gerar_Upload!G198<44,REPT(0,44-LEN(Gerar_Upload!G198))&Gerar_Upload!G198,Gerar_Upload!G198),\"erro\")","v":"00000000000000000000000000000000000000000000"}]
[{"$f":"IFERROR(LEFT(Gerar_Upload!A199,120),\"erro\")","v":""},{"$f":"IFERROR(SUBSTITUTE(SUBSTITUTE(SUBSTITUTE(Gerar_Upload!B199,\".\",\"\"),\"-\",\"\"),\"/\",\"\"),\"erro\")","v":""},{"$f":"IFERROR(Gerar_Upload!C199,\"erro\")","v":0},{"$f":"IFERROR(Gerar_Upload!D199,\"erro\")","v":0},{"$f":"IFERROR(DATE(YEAR(Gerar_Upload!E199),MONTH(Gerar_Upload!E199),DAY(Gerar_Upload!E199)),\"erro\")","v":"00:00:00"},{"$f":"IFERROR(Gerar_Upload!F199,\"erro\")","v":0},{"$f":"IFERROR(IF(Gerar_Upload!G199<44,REPT(0,44-LEN(Gerar_Upload!G199))&Gerar_Upload!G199,Gerar_Upload!G199),\"erro\")","v":"00000000000000000000000000000000000000000000"}]
[{"$f":"IFERROR(LEFT(Gerar_Upload!A200,120),\"erro\")","v":""},{"$f":"IFERROR(SUBSTITUTE(SUBSTITUTE(SUBSTITUTE(Gerar_Upload!B200,\".\",\"\"),\"-\",\"\"),\"/\",\"\"),\"erro\")","v":""},{"$f":"IFERROR(Gerar_Upload!C200,\"erro\")","v":0},{"$f":"IFERROR(Gerar_Upload!D200,\"erro\")","v":0},{"$f":"IFERROR(DATE(YEAR(Gerar_Upload!E200),MONTH(Gerar_Upload!E200),DAY(Gerar_Upload!E200)),\"erro\")","v":"00:00:00"},{"$f":"IFERROR(Gerar_Upload!F200,\"erro\")","v":0},{"$f":"IFERROR(IF(Gerar_Upload!G200<44,REPT(0,44-LEN(Gerar_Upload!G200))&Gerar_Upload!G200,Gerar_Upload!G200),\"erro\")","v":"00000000000000000000000000000000000000000000"}]
[{"$f":"IFERROR(LEFT(Gerar_Upload!A201,120),\"erro\")","v":""},{"$f":"IFERROR(SUBSTITUTE(SUBSTITUTE(SUBSTITUTE(Gerar_Upload!B201,\".\",\"\"),\"-\",\"\"),\"/\",\"\"),\"erro\")","v":""},{"$f":"IFERROR(Gerar_Upload!C201,\"erro\")","v":0},{"$f":"IFERROR(Gerar_Upload!D201,\"erro\")","v":0},{"$f":"IFERROR(DATE(YEAR(Gerar_Upload!E201),MONTH(Gerar_Upload!E201),DAY(Gerar_Upload!E201)),\"erro\")","v":"00:00:00"},{"$f":"IFERROR(Gerar_Upload!F201,\"erro\")","v":0},{"$f":"IFERROR(IF(Gerar_Upload!G201<44,REPT(0,44-LEN(Gerar_Upload!G201))&Gerar_Upload!G201,Gerar_Upload!G201),\"erro\")","v":"00000000000000000000000000000000000000000000"}]
[{"$f":"IFERROR(LEFT(Gerar_Upload!A202,120),\"erro\")","v":""},{"$f":"IFERROR(SUBSTITUTE(SUBSTITUTE(SUBSTITUTE(Gerar_Upload!B202,\".\",\"\"),\"-\",\"\"),\"/\",\"\"),\"erro\")","v":""},{"$f":"IFERROR(Gerar_Upload!C202,\"erro\")","v":0},{"$f":"IFERROR(Gerar_Upload!D202,\"erro\")","v":0},{"$f":"IFERROR(DATE(YEAR(Gerar_Upload!E202),MONTH(Gerar_Upload!E202),DAY(Gerar_Upload!E202)),\"erro\")","v":"00:00:00"},{"$f":"IFERROR(Gerar_Upload!F202,\"erro\")","v":0},{"$f":"IFERROR(IF(Gerar_Upload!G202<44,REPT(0,44-LEN(Gerar_Upload!G202))&Gerar_Upload!G202,Gerar_Upload!G202),\"erro\")","v":"00000000000000000000000000000000000000000000"}]
[{"$f":"IFERROR(LEFT(Gerar_Upload!A203,120),\"erro\")","v":""},{"$f":"IFERROR(SUBSTITUTE(SUBSTITUTE(SUBSTITUTE(Gerar_Upload!B203,\".\",\"\"),\"-\",\"\"),\"/\",\"\"),\"erro\")","v":""},{"$f":"IFERROR(Gerar_Upload!C203,\"erro\")","v":0},{"$f":"IFERROR(Gerar_Upload!D203,\"erro\")","v":0},{"$f":"IFERROR(DATE(YEAR(Gerar_Upload!E203),MONTH(Gerar_Upload!E203),DAY(Gerar_Upload!E203)),\"erro\")","v":"00:00:00"},{"$f":"IFERROR(Gerar_Upload!F203,\"erro\")","v":0},{"$f":"IFERROR(IF(Gerar_Upload!G203<44,REPT(0,44-LEN(Gerar_Upload!G203))&Gerar_Upload!G203,Gerar_Upload!G203),\"erro\")","v":"00000000000000000000000000000000000000000000"}]
[{"$f":"IFERROR(LEFT(Gerar_Upload!A204,120),\"erro\")","v":""},{"$f":"IFERROR(SUBSTITUTE(SUBSTITUTE(SUBSTITUTE(Gerar_Upload!B204,\".\",\"\"),\"-\",\"\"),\"/\",\"\"),\"erro\")","v":""},{"$f":"IFERROR(Gerar_Upload!C204,\"erro\")","v":0},{"$f":"IFERROR(Gerar_Upload!D204,\"erro\")","v":0},{"$f":"IFERROR(DATE(YEAR(Gerar_Upload!E204),MONTH(Gerar_Upload!E204),DAY(Gerar_Upload!E204)),\"erro\")","v":"00:00:00"},{"$f":"IFERROR(Gerar_Upload!F204,\"erro\")","v":0},{"$f":"IFERROR(IF(Gerar_Upload!G204<44,REPT(0,44-LEN(Gerar_Upload!G204))&Gerar_Upload!G204,Gerar_Upload!G204),\"erro\")","v":"00000000000000000000000000000000000000000000"}]
[{"$f":"IFERROR(LEFT(Gerar_Upload!A205,120),\"erro\")","v":""},{"$f":"IFERROR(SUBSTITUTE(SUBSTITUTE(SUBSTITUTE(Gerar_Upload!B205,\".\",\"\"),\"-\",\"\"),\"/\",\"\"),\"erro\")","v":""},{"$f":"IFERROR(Gerar_Upload!C205,\"erro\")","v":0},{"$f":"IFERROR(Gerar_Upload!D205,\"erro\")","v":0},{"$f":"IFERROR(DATE(YEAR(Gerar_Upload!E205),MONTH(Gerar_Upload!E205),DAY(Gerar_Upload!E205)),\"erro\")","v":"00:00:00"},{"$f":"IFERROR(Gerar_Upload!F205,\"erro\")","v":0},{"$f":"IFERROR(IF(Gerar_Upload!G205<44,REPT(0,44-LEN(Gerar_Upload!G205))&Gerar_Upload!G205,Gerar_Upload!G205),\"erro\")","v":"00000000000000000000000000000000000000000000"}]
[{"$f":"IFERROR(LEFT(Gerar_Upload!A206,120),\"erro\")","v":""},{"$f":"IFERROR(SUBSTITUTE(SUBSTITUTE(SUBSTITUTE(Gerar_Upload!B206,\".\",\"\"),\"-\",\"\"),\"/\",\"\"),\"erro\")","v":""},{"$f":"IFERROR(Gerar_Upload!C206,\"erro\")","v":0},{"$f":"IFERROR(Gerar_Upload!D206,\"erro\")","v":0},{"$f":"IFERROR(DATE(YEAR(Gerar_Upload!E206),MONTH(Gerar_Upload!E206),DAY(Gerar_Upload!E206)),\"erro\")","v":"00:00:00"},{"$f":"IFERROR(Gerar_Upload!F206,\"erro\")","v":0},{"$f":"IFERROR(IF(Gerar_Upload!G206<44,REPT(0,44-LEN(Gerar_Upload!G206))&Gerar_Upload!G206,Gerar_Upload!G206),\"erro\")","v":"00000000000000000000000000000000000000000000"}]
[{"$f":"IFERROR(LEFT(Gerar_Upload!A207,120),\"erro\")","v":""},{"$f":"IFERROR(SUBSTITUTE(SUBSTITUTE(SUBSTITUTE(Gerar_Upload!B207,\".\",\"\"),\"-\",\"\"),\"/\",\"\"),\"erro\")","v":""},{"$f":"IFERROR(Gerar_Upload!C207,\"erro\")","v":0},{"$f":"IFERROR(Gerar_Upload!D207,\"erro\")","v":0},{"$f":"IFERROR(DATE(YEAR(Gerar_Upload!E207),MONTH(Gerar_Upload!E207),DAY(Gerar_Upload!E207)),\"erro\")","v":"00:00:00"},{"$f":"IFERROR(Gerar_Upload!F207,\"erro\")","v":0},{"$f":"IFERROR(IF(Gerar_Upload!G207<44,REPT(0,44-LEN(Gerar_Upload!G207))&Gerar_Upload!G207,Gerar_Upload!G207),\"erro\")","v":"00000000000000000000000000000000000000000000"}]
[{"$f":"IFERROR(LEFT(Gerar_Upload!A208,120),\"erro\")","v":""},{"$f":"IFERROR(SUBSTITUTE(SUBSTITUTE(SUBSTITUTE(Gerar_Upload!B208,\".\",\"\"),\"-\",\"\"),\"/\",\"\"),\"erro\")","v":""},{"$f":"IFERROR(Gerar_Upload!C208,\"erro\")","v":0},{"$f":"IFERROR(Gerar_Upload!D208,\"erro\")","v":0},{"$f":"IFERROR(DATE(YEAR(Gerar_Upload!E208),MONTH(Gerar_Upload!E208),DAY(Gerar_Upload!E208)),\"erro\")","v":"00:00:00"},{"$f":"IFERROR(Gerar_Upload!F208,\"erro\")","v":0},{"$f":"IFERROR(IF(Gerar_Upload!G208<44,REPT(0,44-LEN(Gerar_Upload!G208))&Gerar_Upload!G208,Gerar_Upload!G208),\"erro\")","v":"00000000000000000000000000000000000000000000"}]
[{"$f":"IFERROR(LEFT(Gerar_Upload!A209,120),\"erro\")","v":""},{"$f":"IFERROR(SUBSTITUTE(SUBSTITUTE(SUBSTITUTE(Gerar_Upload!B209,\".\",\"\"),\"-\",\"\"),\"/\",\"\"),\"erro\")","v":""},{"$f":"IFERROR(Gerar_Upload!C209,\"erro\")","v":0},{"$f":"IFERROR(Gerar_Upload!D209,\"erro\")","v":0},{"$f":"IFERROR(DATE(YEAR(Gerar_Upload!E209),MONTH(Gerar_Upload!E209),DAY(Gerar_Upload!E209)),\"erro\")","v":"00:00:00"},{"$f":"IFERROR(Gerar_Upload!F209,\"erro\")","v":0},{"$f":"IFERROR(IF(Gerar_Upload!G209<44,REPT(0,44-LEN(Gerar_Upload!G209))&Gerar_Upload!G209,Gerar_Upload!G209),\"erro\")","v":"00000000000000000000000000000000000000000000"}]
[{"$f":"IFERROR(LEFT(Gerar_Upload!A210,120),\"erro\")","v":""},{"$f":"IFERROR(SUBSTITUTE(SUBSTITUTE(SUBSTITUTE(Gerar_Upload!B210,\".\",\"\"),\"-\",\"\"),\"/\",\"\"),\"erro\")","v":""},{"$f":"IFERROR(Gerar_Upload!C210,\"erro\")","v":0},{"$f":"IFERROR(Gerar_Upload!D210,\"erro\")","v":0},{"$f":"IFERROR(DATE(YEAR(Gerar_Upload!E210),MONTH(Gerar_Upload!E210),DAY(Gerar_Upload!E210)),\"erro\")","v":"00:00:00"},{"$f":"IFERROR(Gerar_Upload!F210,\"erro\")","v":0},{"$f":"IFERROR(IF(Gerar_Upload!G210<44,REPT(0,44-LEN(Gerar_Upload!G210))&Gerar_Upload!G210,Gerar_Upload!G210),\"erro\")","v":"00000000000000000000000000000000000000000000"}]
[{"$f":"IFERROR(LEFT(Gerar_Upload!A211,120),\"erro\")","v":""},{"$f":"IFERROR(SUBSTITUTE(SUBSTITUTE(SUBSTITUTE(Gerar_Upload!B211,\".\",\"\"),\"-\",\"\"),\"/\",\"\"),\"erro\")","v":""},{"$f":"IFERROR(Gerar_Upload!C211,\"erro\")","v":0},{"$f":"IFERROR(Gerar_Upload!D211,\"erro\")","v":0},{"$f":"IFERROR(DATE(YEAR(Gerar_Upload!E211),MONTH(Gerar_Upload!E211),DAY(Gerar_Upload!E211)),\"erro\")","v":"00:00:00"},{"$f":"IFERROR(Gerar_Upload!F211,\"erro\")","v":0},{"$f":"IFERROR(IF(Gerar_Upload!G211<44,REPT(0,44-LEN(Gerar_Upload!G211))&Gerar_Upload!G211,Gerar_Upload!G211),\"erro\")","v":"00000000000000000000000000000000000000000000"}]
[{"$f":"IFERROR(LEFT(Gerar_Upload!A212,120),\"erro\")","v":""},{"$f":"IFERROR(SUBSTITUTE(SUBSTITUTE(SUBSTITUTE(Gerar_Upload!B212,\".\",\"\"),\"-\",\"\"),\"/\",\"\"),\"erro\")","v":""},{"$f":"IFERROR(Gerar_Upload!C212,\"erro\")","v":0},{"$f":"IFERROR(Gerar_Upload!D212,\"erro\")","v":0},{"$f":"IFERROR(DATE(YEAR(Gerar_Upload!E212),MONTH(Gerar_Upload!E212),DAY(Gerar_Upload!E212)),\"erro\")","v":"00:00:00"},{"$f":"IFERROR(Gerar_Upload!F212,\"erro\")","v":0},{"$f":"IFERROR(IF(Gerar_Upload!G212<44,REPT(0,44-LEN(Gerar_Upload!G212))&Gerar_Upload!G212,Gerar_Upload!G212),\"erro\")","v":"00000000000000000000000000000000000000000000"}]
[{"$f":"IFERROR(LEFT(Gerar_Upload!A213,120),\"erro\")","v":""},{"$f":"IFERROR(SUBSTITUTE(SUBSTITUTE(SUBSTITUTE(Gerar_Upload!B213,\".\",\"\"),\"-\",\"\"),\"/\",\"\"),\"erro\")","v":""},{"$f":"IFERROR(Gerar_Upload!C213,\"erro\")","v":0},{"$f":"IFERROR(Gerar_Upload!D213,\"erro\")","v":0},{"$f":"IFERROR(DATE(YEAR(Gerar_Upload!E213),MONTH(Gerar_Upload!E213),DAY(Gerar_Upload!E213)),\"erro\")","v":"00:00:00"},{"$f":"IFERROR(Gerar_Upload!F213,\"erro\")","v":0},{"$f":"IFERROR(IF(Gerar_Upload!G213<44,REPT(0,44-LEN(Gerar_Upload!G213))&Gerar_Upload!G213,Gerar_Upload!G213),\"erro\")","v":"00000000000000000000000000000000000000000000"}]
[{"$f":"IFERROR(LEFT(Gerar_Upload!A214,120),\"erro\")","v":""},{"$f":"IFERROR(SUBSTITUTE(SUBSTITUTE(SUBSTITUTE(Gerar_Upload!B214,\".\",\"\"),\"-\",\"\"),\"/\",\"\"),\"erro\")","v":""},{"$f":"IFERROR(Gerar_Upload!C214,\"erro\")","v":0},{"$f":"IFERROR(Gerar_Upload!D214,\"erro\")","v":0},{"$f":"IFERROR(DATE(YEAR(Gerar_Upload!E214),MONTH(Gerar_Upload!E214),DAY(Gerar_Upload!E214)),\"erro\")","v":"00:00:00"},{"$f":"IFERROR(Gerar_Upload!F214,\"erro\")","v":0},{"$f":"IFERROR(IF(Gerar_Upload!G214<44,REPT(0,44-LEN(Gerar_Upload!G214))&Gerar_Upload!G214,Gerar_Upload!G214),\"erro\")","v":"00000000000000000000000000000000000000000000"}]
[{"$f":"IFERROR(LEFT(Gerar_Upload!A215,120),\"erro\")","v":""},{"$f":"IFERROR(SUBSTITUTE(SUBSTITUTE(SUBSTITUTE(Gerar_Upload!B215,\".\",\"\"),\"-\",\"\"),\"/\",\"\"),\"erro\")","v":""},{"$f":"IFERROR(Gerar_Upload!C215,\"erro\")","v":0},{"$f":"IFERROR(Gerar_Upload!D215,\"erro\")","v":0},{"$f":"IFERROR(DATE(YEAR(Gerar_Upload!E215),MONTH(Gerar_Upload!E215),DAY(Gerar_Upload!E215)),\"erro\")","v":"00:00:00"},{"$f":"IFERROR(Gerar_Upload!F215,\"erro\")","v":0},{"$f":"IFERROR(IF(Gerar_Upload!G215<44,REPT(0,44-LEN(Gerar_Upload!G215))&Gerar_Upload!G215,Gerar_Upload!G215),\"erro\")","v":"00000000000000000000000000000000000000000000"}]
[{"$f":"IFERROR(LEFT(Gerar_Upload!A216,120),\"erro\")","v":""},{"$f":"IFERROR(SUBSTITUTE(SUBSTITUTE(SUBSTITUTE(Gerar_Upload!B216,\".\",\"\"),\"-\",\"\"),\"/\",\"\"),\"erro\")","v":""},{"$f":"IFERROR(Gerar_Upload!C216,\"erro\")","v":0},{"$f":"IFERROR(Gerar_Upload!D216,\"erro\")","v":0},{"$f":"IFERROR(DATE(YEAR(Gerar_Upload!E216),MONTH(Gerar_Upload!E216),DAY(Gerar_Upload!E216)),\"erro\")","v":"00:00:00"},{"$f":"IFERROR(Gerar_Upload!F216,\"erro\")","v":0},{"$f":"IFERROR(IF(Gerar_Upload!G216<44,REPT(0,44-LEN(Gerar_Upload!G216))&Gerar_Upload!G216,Gerar_Upload!G216),\"erro\")","v":"00000000000000000000000000000000000000000000"}]
[{"$f":"IFERROR(LEFT(Gerar_Upload!A217,120),\"erro\")","v":""},{"$f":"IFERROR(SUBSTITUTE(SUBSTITUTE(SUBSTITUTE(Gerar_Upload!B217,\".\",\"\"),\"-\",\"\"),\"/\",\"\"),\"erro\")","v":""},{"$f":"IFERROR(Gerar_Upload!C217,\"erro\")","v":0},{"$f":"IFERROR(Gerar_Upload!D217,\"erro\")","v":0},{"$f":"IFERROR(DATE(YEAR(Gerar_Upload!E217),MONTH(Gerar_Upload!E217),DAY(Gerar_Upload!E217)),\"erro\")","v":"00:00:00"},{"$f":"IFERROR(Gerar_Upload!F217,\"erro\")","v":0},{"$f":"IFERROR(IF(Gerar_Upload!G217<44,REPT(0,44-LEN(Gerar_Upload!G217))&Gerar_Upload!G217,Gerar_Upload!G217),\"erro\")","v":"00000000000000000000000000000000000000000000"}]
[{"$f":"IFERROR(LEFT(Gerar_Upload!A218,120),\"erro\")","v":""},{"$f":"IFERROR(SUBSTITUTE(SUBSTITUTE(SUBSTITUTE(Gerar_Upload!B218,\".\",\"\"),\"-\",\"\"),\"/\",\"\"),\"erro\")","v":""},{"$f":"IFERROR(Gerar_Upload!C218,\"erro\")","v":0},{"$f":"IFERROR(Gerar_Upload!D218,\"erro\")","v":0},{"$f":"IFERROR(DATE(YEAR(Gerar_Upload!E218),MONTH(Gerar_Upload!E218),DAY(Gerar_Upload!E218)),\"erro\")","v":"00:00:00"},{"$f":"IFERROR(Gerar_Upload!F218,\"erro\")","v":0},{"$f":"IFERROR(IF(Gerar_Upload!G218<44,REPT(0,44-LEN(Gerar_Upload!G218))&Gerar_Upload!G218,Gerar_Upload!G218),\"erro\")","v":"00000000000000000000000000000000000000000000"}]
[{"$f":"IFERROR(LEFT(Gerar_Upload!A219,120),\"erro\")","v":""},{"$f":"IFERROR(SUBSTITUTE(SUBSTITUTE(SUBSTITUTE(Gerar_Upload!B219,\".\",\"\"),\"-\",\"\"),\"/\",\"\"),\"erro\")","v":""},{"$f":"IFERROR(Gerar_Upload!C219,\"erro\")","v":0},{"$f":"IFERROR(Gerar_Upload!D219,\"erro\")","v":0},{"$f":"IFERROR(DATE(YEAR(Gerar_Upload!E219),MONTH(Gerar_Upload!E219),DAY(Gerar_Upload!E219)),\"erro\")","v":"00:00:00"},{"$f":"IFERROR(Gerar_Upload!F219,\"erro\")","v":0},{"$f":"IFERROR(IF(Gerar_Upload!G219<44,REPT(0,44-LEN(Gerar_Upload!G219))&Gerar_Upload!G219,Gerar_Upload!G219),\"erro\")","v":"00000000000000000000000000000000000000000000"}]
[{"$f":"IFERROR(LEFT(Gerar_Upload!A220,120),\"erro\")","v":""},{"$f":"IFERROR(SUBSTITUTE(SUBSTITUTE(SUBSTITUTE(Gerar_Upload!B220,\".\",\"\"),\"-\",\"\"),\"/\",\"\"),\"erro\")","v":""},{"$f":"IFERROR(Gerar_Upload!C220,\"erro\")","v":0},{"$f":"IFERROR(Gerar_Upload!D220,\"erro\")","v":0},{"$f":"IFERROR(DATE(YEAR(Gerar_Upload!E220),MONTH(Gerar_Upload!E220),DAY(Gerar_Upload!E220)),\"erro\")","v":"00:00:00"},{"$f":"IFERROR(Gerar_Upload!F220,\"erro\")","v":0},{"$f":"IFERROR(IF(Gerar_Upload!G220<44,REPT(0,44-LEN(Gerar_Upload!G220))&Gerar_Upload!G220,Gerar_Upload!G220),\"erro\")","v":"00000000000000000000000000000000000000000000"}]
[{"$f":"IFERROR(LEFT(Gerar_Upload!A221,120),\"erro\")","v":""},{"$f":"IFERROR(SUBSTITUTE(SUBSTITUTE(SUBSTITUTE(Gerar_Upload!B221,\".\",\"\"),\"-\",\"\"),\"/\",\"\"),\"erro\")","v":""},{"$f":"IFERROR(Gerar_Upload!C221,\"erro\")","v":0},{"$f":"IFERROR(Gerar_Upload!D221,\"erro\")","v":0},{"$f":"IFERROR(DATE(YEAR(Gerar_Upload!E221),MONTH(Gerar_Upload!E221),DAY(Gerar_Upload!E221)),\"erro\")","v":"00:00:00"},{"$f":"IFERROR(Gerar_Upload!F221,\"erro\")","v":0},{"$f":"IFERROR(IF(Gerar_Upload!G221<44,REPT(0,44-LEN(Gerar_Upload!G221))&Gerar_Upload!G221,Gerar_Upload!G221),\"erro\")","v":"00000000000000000000000000000000000000000000"}]
[{"$f":"IFERROR(LEFT(Gerar_Upload!A222,120),\"erro\")","v":""},{"$f":"IFERROR(SUBSTITUTE(SUBSTITUTE(SUBSTITUTE(Gerar_Upload!B222,\".\",\"\"),\"-\",\"\"),\"/\",\"\"),\"erro\")","v":""},{"$f":"IFERROR(Gerar_Upload!C222,\"erro\")","v":0},{"$f":"IFERROR(Gerar_Upload!D222,\"erro\")","v":0},{"$f":"IFERROR(DATE(YEAR(Gerar_Upload!E222),MONTH(Gerar_Upload!E222),DAY(Gerar_Upload!E222)),\"erro\")","v":"00:00:00"},{"$f":"IFERROR(Gerar_Upload!F222,\"erro\")","v":0},{"$f":"IFERROR(IF(Gerar_Upload!G222<44,REPT(0,44-LEN(Gerar_Upload!G222))&Gerar_Upload!G222,Gerar_Upload!G222),\"erro\")","v":"00000000000000000000000000000000000000000000"}]
[{"$f":"IFERROR(LEFT(Gerar_Upload!A223,120),\"erro\")","v":""},{"$f":"IFERROR(SUBSTITUTE(SUBSTITUTE(SUBSTITUTE(Gerar_Upload!B223,\".\",\"\"),\"-\",\"\"),\"/\",\"\"),\"erro\")","v":""},{"$f":"IFERROR(Gerar_Upload!C223,\"erro\")","v":0},{"$f":"IFERROR(Gerar_Upload!D223,\"erro\")","v":0},{"$f":"IFERROR(DATE(YEAR(Gerar_Upload!E223),MONTH(Gerar_Upload!E223),DAY(Gerar_Upload!E223)),\"erro\")","v":"00:00:00"},{"$f":"IFERROR(Gerar_Upload!F223,\"erro\")","v":0},{"$f":"IFERROR(IF(Gerar_Upload!G223<44,REPT(0,44-LEN(Gerar_Upload!G223))&Gerar_Upload!G223,Gerar_Upload!G223),\"erro\")","v":"00000000000000000000000000000000000000000000"}]
[{"$f":"IFERROR(LEFT(Gerar_Upload!A224,120),\"erro\")","v":""},{"$f":"IFERROR(SUBSTITUTE(SUBSTITUTE(SUBSTITUTE(Gerar_Upload!B224,\".\",\"\"),\"-\",\"\"),\"/\",\"\"),\"erro\")","v":""},{"$f":"IFERROR(Gerar_Upload!C224,\"erro\")","v":0},{"$f":"IFERROR(Gerar_Upload!D224,\"erro\")","v":0},{"$f":"IFERROR(DATE(YEAR(Gerar_Upload!E224),MONTH(Gerar_Upload!E224),DAY(Gerar_Upload!E224)),\"erro\")","v":"00:00:00"},{"$f":"IFERROR(Gerar_Upload!F224,\"erro\")","v":0},{"$f":"IFERROR(IF(Gerar_Upload!G224<44,REPT(0,44-LEN(Gerar_Upload!G224))&Gerar_Upload!G224,Gerar_Upload!G224),\"erro\")","v":"00000000000000000000000000000000000000000000"}]
[{"$f":"IFERROR(LEFT(Gerar_Upload!A225,120),\"erro\")","v":""},{"$f":"IFERROR(SUBSTITUTE(SUBSTITUTE(SUBSTITUTE(Gerar_Upload!B225,\".\",\"\"),\"-\",\"\"),\"/\",\"\"),\"erro\")","v":""},{"$f":"IFERROR(Gerar_Upload!C225,\"erro\")","v":0},{"$f":"IFERROR(Gerar_Upload!D225,\"erro\")","v":0},{"$f":"IFERROR(DATE(YEAR(Gerar_Upload!E225),MONTH(Gerar_Upload!E225),DAY(Gerar_Upload!E225)),\"erro\")","v":"00:00:00"},{"$f":"IFERROR(Gerar_Upload!F225,\"erro\")","v":0},{"$f":"IFERROR(IF(Gerar_Upload!G225<44,REPT(0,44-LEN(Gerar_Upload!G225))&Gerar_Upload!G225,Gerar_Upload!G225),\"erro\")","v":"00000000000000000000000000000000000000000000"}]
[{"$f":"IFERROR(LEFT(Gerar_Upload!A226,120),\"erro\")","v":""},{"$f":"IFERROR(SUBSTITUTE(SUBSTITUTE(SUBSTITUTE(Gerar_Upload!B226,\".\",\"\"),\"-\",\"\"),\"/\",\"\"),\"erro\")","v":""},{"$f":"IFERROR(Gerar_Upload!C226,\"erro\")","v":0},{"$f":"IFERROR(Gerar_Upload!D226,\"erro\")","v":0},{"$f":"IFERROR(DATE(YEAR(Gerar_Upload!E226),MONTH(Gerar_Upload!E226),DAY(Gerar_Upload!E226)),\"erro\")","v":"00:00:00"},{"$f":"IFERROR(Gerar_Upload!F226,\"erro\")","v":0},{"$f":"IFERROR(IF(Gerar_Upload!G226<44,REPT(0,44-LEN(Gerar_Upload!G226))&Gerar_Upload!G226,Gerar_Upload!G226),\"erro\")","v":"00000000000000000000000000000000000000000000"}]
[{"$f":"IFERROR(LEFT(Gerar_Upload!A227,120),\"erro\")","v":""},{"$f":"IFERROR(SUBSTITUTE(SUBSTITUTE(SUBSTITUTE(Gerar_Upload!B227,\".\",\"\"),\"-\",\"\"),\"/\",\"\"),\"erro\")","v":""},{"$f":"IFERROR(Gerar_Upload!C227,\"erro\")","v":0},{"$f":"IFERROR(Gerar_Upload!D227,\"erro\")","v":0},{"$f":"IFERROR(DATE(YEAR(Gerar_Upload!E227),MONTH(Gerar_Upload!E227),DAY(Gerar_Upload!E227)),\"erro\")","v":"00:00:00"},{"$f":"IFERROR(Gerar_Upload!F227,\"erro\")","v":0},{"$f":"IFERROR(IF(Gerar_Upload!G227<44,REPT(0,44-LEN(Gerar_Upload!G227))&Gerar_Upload!G227,Gerar_Upload!G227),\"erro\")","v":"00000000000000000000000000000000000000000000"}]
[{"$f":"IFERROR(LEFT(Gerar_Upload!A228,120),\"erro\")","v":""},{"$f":"IFERROR(SUBSTITUTE(SUBSTITUTE(SUBSTITUTE(Gerar_Upload!B228,\".\",\"\"),\"-\",\"\"),\"/\",\"\"),\"erro\")","v":""},{"$f":"IFERROR(Gerar_Upload!C228,\"erro\")","v":0},{"$f":"IFERROR(Gerar_Upload!D228,\"erro\")","v":0},{"$f":"IFERROR(DATE(YEAR(Gerar_Upload!E228),MONTH(Gerar_Upload!E228),DAY(Gerar_Upload!E228)),\"erro\")","v":"00:00:00"},{"$f":"IFERROR(Gerar_Upload!F228,\"erro\")","v":0},{"$f":"IFERROR(IF(Gerar_Upload!G228<44,REPT(0,44-LEN(Gerar_Upload!G228))&Gerar_Upload!G228,Gerar_Upload!G228),\"erro\")","v":"00000000000000000000000000000000000000000000"}]
[{"$f":"IFERROR(LEFT(Gerar_Upload!A229,120),\"erro\")","v":""},{"$f":"IFERROR(SUBSTITUTE(SUBSTITUTE(SUBSTITUTE(Gerar_Upload!B229,\".\",\"\"),\"-\",\"\"),\"/\",\"\"),\"erro\")","v":""},{"$f":"IFERROR(Gerar_Upload!C229,\"erro\")","v":0},{"$f":"IFERROR(Gerar_Upload!D229,\"erro\")","v":0},{"$f":"IFERROR(DATE(YEAR(Gerar_Upload!E229),MONTH(Gerar_Upload!E229),DAY(Gerar_Upload!E229)),\"erro\")","v":"00:00:00"},{"$f":"IFERROR(Gerar_Upload!F229,\"erro\")","v":0},{"$f":"IFERROR(IF(Gerar_Upload!G229<44,REPT(0,44-LEN(Gerar_Upload!G229))&Gerar_Upload!G229,Gerar_Upload!G229),\"erro\")","v":"00000000000000000000000000000000000000000000"}]
[{"$f":"IFERROR(LEFT(Gerar_Upload!A230,120),\"erro\")","v":""},{"$f":"IFERROR(SUBSTITUTE(SUBSTITUTE(SUBSTITUTE(Gerar_Upload!B230,\".\",\"\"),\"-\",\"\"),\"/\",\"\"),\"erro\")","v":""},{"$f":"IFERROR(Gerar_Upload!C230,\"erro\")","v":0},{"$f":"IFERROR(Gerar_Upload!D230,\"erro\")","v":0},{"$f":"IFERROR(DATE(YEAR(Gerar_Upload!E230),MONTH(Gerar_Upload!E230),DAY(Gerar_Upload!E230)),\"erro\")","v":"00:00:00"},{"$f":"IFERROR(Gerar_Upload!F230,\"erro\")","v":0},{"$f":"IFERROR(IF(Gerar_Upload!G230<44,REPT(0,44-LEN(Gerar_Upload!G230))&Gerar_Upload!G230,Gerar_Upload!G230),\"erro\")","v":"00000000000000000000000000000000000000000000"}]
[{"$f":"IFERROR(LEFT(Gerar_Upload!A231,120),\"erro\")","v":""},{"$f":"IFERROR(SUBSTITUTE(SUBSTITUTE(SUBSTITUTE(Gerar_Upload!B231,\".\",\"\"),\"-\",\"\"),\"/\",\"\"),\"erro\")","v":""},{"$f":"IFERROR(Gerar_Upload!C231,\"erro\")","v":0},{"$f":"IFERROR(Gerar_Upload!D231,\"erro\")","v":0},{"$f":"IFERROR(DATE(YEAR(Gerar_Upload!E231),MONTH(Gerar_Upload!E231),DAY(Gerar_Upload!E231)),\"erro\")","v":"00:00:00"},{"$f":"IFERROR(Gerar_Upload!F231,\"erro\")","v":0},{"$f":"IFERROR(IF(Gerar_Upload!G231<44,REPT(0,44-LEN(Gerar_Upload!G231))&Gerar_Upload!G231,Gerar_Upload!G231),\"erro\")","v":"00000000000000000000000000000000000000000000"}]
[{"$f":"IFERROR(LEFT(Gerar_Upload!A232,120),\"erro\")","v":""},{"$f":"IFERROR(SUBSTITUTE(SUBSTITUTE(SUBSTITUTE(Gerar_Upload!B232,\".\",\"\"),\"-\",\"\"),\"/\",\"\"),\"erro\")","v":""},{"$f":"IFERROR(Gerar_Upload!C232,\"erro\")","v":0},{"$f":"IFERROR(Gerar_Upload!D232,\"erro\")","v":0},{"$f":"IFERROR(DATE(YEAR(Gerar_Upload!E232),MONTH(Gerar_Upload!E232),DAY(Gerar_Upload!E232)),\"erro\")","v":"00:00:00"},{"$f":"IFERROR(Gerar_Upload!F232,\"erro\")","v":0},{"$f":"IFERROR(IF(Gerar_Upload!G232<44,REPT(0,44-LEN(Gerar_Upload!G232))&Gerar_Upload!G232,Gerar_Upload!G232),\"erro\")","v":"00000000000000000000000000000000000000000000"}]
[{"$f":"IFERROR(LEFT(Gerar_Upload!A233,120),\"erro\")","v":""},{"$f":"IFERROR(SUBSTITUTE(SUBSTITUTE(SUBSTITUTE(Gerar_Upload!B233,\".\",\"\"),\"-\",\"\"),\"/\",\"\"),\"erro\")","v":""},{"$f":"IFERROR(Gerar_Upload!C233,\"erro\")","v":0},{"$f":"IFERROR(Gerar_Upload!D233,\"erro\")","v":0},{"$f":"IFERROR(DATE(YEAR(Gerar_Upload!E233),MONTH(Gerar_Upload!E233),DAY(Gerar_Upload!E233)),\"erro\")","v":"00:00:00"},{"$f":"IFERROR(Gerar_Upload!F233,\"erro\")","v":0},{"$f":"IFERROR(IF(Gerar_Upload!G233<44,REPT(0,44-LEN(Gerar_Upload!G233))&Gerar_Upload!G233,Gerar_Upload!G233),\"erro\")","v":"00000000000000000000000000000000000000000000"}]
[{"$f":"IFERROR(LEFT(Gerar_Upload!A234,120),\"erro\")","v":""},{"$f":"IFERROR(SUBSTITUTE(SUBSTITUTE(SUBSTITUTE(Gerar_Upload!B234,\".\",\"\"),\"-\",\"\"),\"/\",\"\"),\"erro\")","v":""},{"$f":"IFERROR(Gerar_Upload!C234,\"erro\")","v":0},{"$f":"IFERROR(Gerar_Upload!D234,\"erro\")","v":0},{"$f":"IFERROR(DATE(YEAR(Gerar_Upload!E234),MONTH(Gerar_Upload!E234),DAY(Gerar_Upload!E234)),\"erro\")","v":"00:00:00"},{"$f":"IFERROR(Gerar_Upload!F234,\"erro\")","v":0},{"$f":"IFERROR(IF(Gerar_Upload!G234<44,REPT(0,44-LEN(Gerar_Upload!G234))&Gerar_Upload!G234,Gerar_Upload!G234),\"erro\")","v":"00000000000000000000000000000000000000000000"}]
[{"$f":"IFERROR(LEFT(Gerar_Upload!A235,120),\"erro\")","v":""},{"$f":"IFERROR(SUBSTITUTE(SUBSTITUTE(SUBSTITUTE(Gerar_Upload!B235,\".\",\"\"),\"-\",\"\"),\"/\",\"\"),\"erro\")","v":""},{"$f":"IFERROR(Gerar_Upload!C235,\"erro\")","v":0},{"$f":"IFERROR(Gerar_Upload!D235,\"erro\")","v":0},{"$f":"IFERROR(DATE(YEAR(Gerar_Upload!E235),MONTH(Gerar_Upload!E235),DAY(Gerar_Upload!E235)),\"erro\")","v":"00:00:00"},{"$f":"IFERROR(Gerar_Upload!F235,\"erro\")","v":0},{"$f":"IFERROR(IF(Gerar_Upload!G235<44,REPT(0,44-LEN(Gerar_Upload!G235))&Gerar_Upload!G235,Gerar_Upload!G235),\"erro\")","v":"00000000000000000000000000000000000000000000"}]
[{"$f":"IFERROR(LEFT(Gerar_Upload!A236,120),\"erro\")","v":""},{"$f":"IFERROR(SUBSTITUTE(SUBSTITUTE(SUBSTITUTE(Gerar_Upload!B236,\".\",\"\"),\"-\",\"\"),\"/\",\"\"),\"erro\")","v":""},{"$f":"IFERROR(Gerar_Upload!C236,\"erro\")","v":0},{"$f":"IFERROR(Gerar_Upload!D236,\"erro\")","v":0},{"$f":"IFERROR(DATE(YEAR(Gerar_Upload!E236),MONTH(Gerar_Upload!E236),DAY(Gerar_Upload!E236)),\"erro\")","v":"00:00:00"},{"$f":"IFERROR(Gerar_Upload!F236,\"erro\")","v":0},{"$f":"IFERROR(IF(Gerar_Upload!G236<44,REPT(0,44-LEN(Gerar_Upload!G236))&Gerar_Upload!G236,Gerar_Upload!G236),\"erro\")","v":"00000000000000000000000000000000000000000000"}]
[{"$f":"IFERROR(LEFT(Gerar_Upload!A237,120),\"erro\")","v":""},{"$f":"IFERROR(SUBSTITUTE(SUBSTITUTE(SUBSTITUTE(Gerar_Upload!B237,\".\",\"\"),\"-\",\"\"),\"/\",\"\"),\"erro\")","v":""},{"$f":"IFERROR(Gerar_Upload!C237,\"erro\")","v":0},{"$f":"IFERROR(Gerar_Upload!D237,\"erro\")","v":0},{"$f":"IFERROR(DATE(YEAR(Gerar_Upload!E237),MONTH(Gerar_Upload!E237),DAY(Gerar_Upload!E237)),\"erro\")","v":"00:00:00"},{"$f":"IFERROR(Gerar_Upload!F237,\"erro\")","v":0},{"$f":"IFERROR(IF(Gerar_Upload!G237<44,REPT(0,44-LEN(Gerar_Upload!G237))&Gerar_Upload!G237,Gerar_Upload!G237),\"erro\")","v":"00000000000000000000000000000000000000000000"}]
[{"$f":"IFERROR(LEFT(Gerar_Upload!A238,120),\"erro\")","v":""},{"$f":"IFERROR(SUBSTITUTE(SUBSTITUTE(SUBSTITUTE(Gerar_Upload!B238,\".\",\"\"),\"-\",\"\"),\"/\",\"\"),\"erro\")","v":""},{"$f":"IFERROR(Gerar_Upload!C238,\"erro\")","v":0},{"$f":"IFERROR(Gerar_Upload!D238,\"erro\")","v":0},{"$f":"IFERROR(DATE(YEAR(Gerar_Upload!E238),MONTH(Gerar_Upload!E238),DAY(Gerar_Upload!E238)),\"erro\")","v":"00:00:00"},{"$f":"IFERROR(Gerar_Upload!F238,\"erro\")","v":0},{"$f":"IFERROR(IF(Gerar_Upload!G238<44,REPT(0,44-LEN(Gerar_Upload!G238))&Gerar_Upload!G238,Gerar_Upload!G238),\"erro\")","v":"00000000000000000000000000000000000000000000"}]
[{"$f":"IFERROR(LEFT(Gerar_Upload!A239,120),\"erro\")","v":""},{"$f":"IFERROR(SUBSTITUTE(SUBSTITUTE(SUBSTITUTE(Gerar_Upload!B239,\".\",\"\"),\"-\",\"\"),\"/\",\"\"),\"erro\")","v":""},{"$f":"IFERROR(Gerar_Upload!C239,\"erro\")","v":0},{"$f":"IFERROR(Gerar_Upload!D239,\"erro\")","v":0},{"$f":"IFERROR(DATE(YEAR(Gerar_Upload!E239),MONTH(Gerar_Upload!E239),DAY(Gerar_Upload!E239)),\"erro\")","v":"00:00:00"},{"$f":"IFERROR(Gerar_Upload!F239,\"erro\")","v":0},{"$f":"IFERROR(IF(Gerar_Upload!G239<44,REPT(0,44-LEN(Gerar_Upload!G239))&Gerar_Upload!G239,Gerar_Upload!G239),\"erro\")","v":"00000000000000000000000000000000000000000000"}]
[{"$f":"IFERROR(LEFT(Gerar_Upload!A240,120),\"erro\")","v":""},{"$f":"IFERROR(SUBSTITUTE(SUBSTITUTE(SUBSTITUTE(Gerar_Upload!B240,\".\",\"\"),\"-\",\"\"),\"/\",\"\"),\"erro\")","v":""},{"$f":"IFERROR(Gerar_Upload!C240,\"erro\")","v":0},{"$f":"IFERROR(Gerar_Upload!D240,\"erro\")","v":0},{"$f":"IFERROR(DATE(YEAR(Gerar_Upload!E240),MONTH(Gerar_Upload!E240),DAY(Gerar_Upload!E240)),\"erro\")","v":"00:00:00"},{"$f":"IFERROR(Gerar_Upload!F240,\"erro\")","v":0},{"$f":"IFERROR(IF(Gerar_Upload!G240<44,REPT(0,44-LEN(Gerar_Upload!G240))&Gerar_Upload!G240,Gerar_Upload!G240),\"erro\")","v":"00000000000000000000000000000000000000000000"}]
[{"$f":"IFERROR(LEFT(Gerar_Upload!A241,120),\"erro\")","v":""},{"$f":"IFERROR(SUBSTITUTE(SUBSTITUTE(SUBSTITUTE(Gerar_Upload!B241,\".\",\"\"),\"-\",\"\"),\"/\",\"\"),\"erro\")","v":""},{"$f":"IFERROR(Gerar_Upload!C241,\"erro\")","v":0},{"$f":"IFERROR(Gerar_Upload!D241,\"erro\")","v":0},{"$f":"IFERROR(DATE(YEAR(Gerar_Upload!E241),MONTH(Gerar_Upload!E241),DAY(Gerar_Upload!E241)),\"erro\")","v":"00:00:00"},{"$f":"IFERROR(Gerar_Upload!F241,\"erro\")","v":0},{"$f":"IFERROR(IF(Gerar_Upload!G241<44,REPT(0,44-LEN(Gerar_Upload!G241))&Gerar_Upload!G241,Gerar_Upload!G241),\"erro\")","v":"00000000000000000000000000000000000000000000"}]
[{"$f":"IFERROR(LEFT(Gerar_Upload!A242,120),\"erro\")","v":""},{"$f":"IFERROR(SUBSTITUTE(SUBSTITUTE(SUBSTITUTE(Gerar_Upload!B242,\".\",\"\"),\"-\",\"\"),\"/\",\"\"),\"erro\")","v":""},{"$f":"IFERROR(Gerar_Upload!C242,\"erro\")","v":0},{"$f":"IFERROR(Gerar_Upload!D242,\"erro\")","v":0},{"$f":"IFERROR(DATE(YEAR(Gerar_Upload!E242),MONTH(Gerar_Upload!E242),DAY(Gerar_Upload!E242)),\"erro\")","v":"00:00:00"},{"$f":"IFERROR(Gerar_Upload!F242,\"erro\")","v":0},{"$f":"IFERROR(IF(Gerar_Upload!G242<44,REPT(0,44-LEN(Gerar_Upload!G242))&Gerar_Upload!G242,Gerar_Upload!G242),\"erro\")","v":"00000000000000000000000000000000000000000000"}]
[{"$f":"IFERROR(LEFT(Gerar_Upload!A243,120),\"erro\")","v":""},{"$f":"IFERROR(SUBSTITUTE(SUBSTITUTE(SUBSTITUTE(Gerar_Upload!B243,\".\",\"\"),\"-\",\"\"),\"/\",\"\"),\"erro\")","v":""},{"$f":"IFERROR(Gerar_Upload!C243,\"erro\")","v":0},{"$f":"IFERROR(Gerar_Upload!D243,\"erro\")","v":0},{"$f":"IFERROR(DATE(YEAR(Gerar_Upload!E243),MONTH(Gerar_Upload!E243),DAY(Gerar_Upload!E243)),\"erro\")","v":"00:00:00"},{"$f":"IFERROR(Gerar_Upload!F243,\"erro\")","v":0},{"$f":"IFERROR(IF(Gerar_Upload!G243<44,REPT(0,44-LEN(Gerar_Upload!G243))&Gerar_Upload!G243,Gerar_Upload!G243),\"erro\")","v":"00000000000000000000000000000000000000000000"}]
[{"$f":"IFERROR(LEFT(Gerar_Upload!A244,120),\"erro\")","v":""},{"$f":"IFERROR(SUBSTITUTE(SUBSTITUTE(SUBSTITUTE(Gerar_Upload!B244,\".\",\"\"),\"-\",\"\"),\"/\",\"\"),\"erro\")","v":""},{"$f":"IFERROR(Gerar_Upload!C244,\"erro\")","v":0},{"$f":"IFERROR(Gerar_Upload!D244,\"erro\")","v":0},{"$f":"IFERROR(DATE(YEAR(Gerar_Upload!E244),MONTH(Gerar_Upload!E244),DAY(Gerar_Upload!E244)),\"erro\")","v":"00:00:00"},{"$f":"IFERROR(Gerar_Upload!F244,\"erro\")","v":0},{"$f":"IFERROR(IF(Gerar_Upload!G244<44,REPT(0,44-LEN(Gerar_Upload!G244))&Gerar_Upload!G244,Gerar_Upload!G244),\"erro\")","v":"00000000000000000000000000000000000000000000"}]
[{"$f":"IFERROR(LEFT(Gerar_Upload!A245,120),\"erro\")","v":""},{"$f":"IFERROR(SUBSTITUTE(SUBSTITUTE(SUBSTITUTE(Gerar_Upload!B245,\".\",\"\"),\"-\",\"\"),\"/\",\"\"),\"erro\")","v":""},{"$f":"IFERROR(Gerar_Upload!C245,\"erro\")","v":0},{"$f":"IFERROR(Gerar_Upload!D245,\"erro\")","v":0},{"$f":"IFERROR(DATE(YEAR(Gerar_Upload!E245),MONTH(Gerar_Upload!E245),DAY(Gerar_Upload!E245)),\"erro\")","v":"00:00:00"},{"$f":"IFERROR(Gerar_Upload!F245,\"erro\")","v":0},{"$f":"IFERROR(IF(Gerar_Upload!G245<44,REPT(0,44-LEN(Gerar_Upload!G245))&Gerar_Upload!G245,Gerar_Upload!G245),\"erro\")","v":"00000000000000000000000000000000000000000000"}]
[{"$f":"IFERROR(LEFT(Gerar_Upload!A246,120),\"erro\")","v":""},{"$f":"IFERROR(SUBSTITUTE(SUBSTITUTE(SUBSTITUTE(Gerar_Upload!B246,\".\",\"\"),\"-\",\"\"),\"/\",\"\"),\"erro\")","v":""},{"$f":"IFERROR(Gerar_Upload!C246,\"erro\")","v":0},{"$f":"IFERROR(Gerar_Upload!D246,\"erro\")","v":0},{"$f":"IFERROR(DATE(YEAR(Gerar_Upload!E246),MONTH(Gerar_Upload!E246),DAY(Gerar_Upload!E246)),\"erro\")","v":"00:00:00"},{"$f":"IFERROR(Gerar_Upload!F246,\"erro\")","v":0},{"$f":"IFERROR(IF(Gerar_Upload!G246<44,REPT(0,44-LEN(Gerar_Upload!G246))&Gerar_Upload!G246,Gerar_Upload!G246),\"erro\")","v":"00000000000000000000000000000000000000000000"}]
[{"$f":"IFERROR(LEFT(Gerar_Upload!A247,120),\"erro\")","v":""},{"$f":"IFERROR(SUBSTITUTE(SUBSTITUTE(SUBSTITUTE(Gerar_Upload!B247,\".\",\"\"),\"-\",\"\"),\"/\",\"\"),\"erro\")","v":""},{"$f":"IFERROR(Gerar_Upload!C247,\"erro\")","v":0},{"$f":"IFERROR(Gerar_Upload!D247,\"erro\")","v":0},{"$f":"IFERROR(DATE(YEAR(Gerar_Upload!E247),MONTH(Gerar_Upload!E247),DAY(Gerar_Upload!E247)),\"erro\")","v":"00:00:00"},{"$f":"IFERROR(Gerar_Upload!F247,\"erro\")","v":0},{"$f":"IFERROR(IF(Gerar_Upload!G247<44,REPT(0,44-LEN(Gerar_Upload!G247))&Gerar_Upload!G247,Gerar_Upload!G247),\"erro\")","v":"00000000000000000000000000000000000000000000"}]
[{"$f":"IFERROR(LEFT(Gerar_Upload!A248,120),\"erro\")","v":""},{"$f":"IFERROR(SUBSTITUTE(SUBSTITUTE(SUBSTITUTE(Gerar_Upload!B248,\".\",\"\"),\"-\",\"\"),\"/\",\"\"),\"erro\")","v":""},{"$f":"IFERROR(Gerar_Upload!C248,\"erro\")","v":0},{"$f":"IFERROR(Gerar_Upload!D248,\"erro\")","v":0},{"$f":"IFERROR(DATE(YEAR(Gerar_Upload!E248),MONTH(Gerar_Upload!E248),DAY(Gerar_Upload!E248)),\"erro\")","v":"00:00:00"},{"$f":"IFERROR(Gerar_Upload!F248,\"erro\")","v":0},{"$f":"IFERROR(IF(Gerar_Upload!G248<44,REPT(0,44-LEN(Gerar_Upload!G248))&Gerar_Upload!G248,Gerar_Upload!G248),\"erro\")","v":"00000000000000000000000000000000000000000000"}]
[{"$f":"IFERROR(LEFT(Gerar_Upload!A249,120),\"erro\")","v":""},{"$f":"IFERROR(SUBSTITUTE(SUBSTITUTE(SUBSTITUTE(Gerar_Upload!B249,\".\",\"\"),\"-\",\"\"),\"/\",\"\"),\"erro\")","v":""},{"$f":"IFERROR(Gerar_Upload!C249,\"erro\")","v":0},{"$f":"IFERROR(Gerar_Upload!D249,\"erro\")","v":0},{"$f":"IFERROR(DATE(YEAR(Gerar_Upload!E249),MONTH(Gerar_Upload!E249),DAY(Gerar_Upload!E249)),\"erro\")","v":"00:00:00"},{"$f":"IFERROR(Gerar_Upload!F249,\"erro\")","v":0},{"$f":"IFERROR(IF(Gerar_Upload!G249<44,REPT(0,44-LEN(Gerar_Upload!G249))&Gerar_Upload!G249,Gerar_Upload!G249),\"erro\")","v":"00000000000000000000000000000000000000000000"}]
[{"$f":"IFERROR(LEFT(Gerar_Upload!A250,120),\"erro\")","v":""},{"$f":"IFERROR(SUBSTITUTE(SUBSTITUTE(SUBSTITUTE(Gerar_Upload!B250,\".\",\"\"),\"-\",\"\"),\"/\",\"\"),\"erro\")","v":""},{"$f":"IFERROR(Gerar_Upload!C250,\"erro\")","v":0},{"$f":"IFERROR(Gerar_Upload!D250,\"erro\")","v":0},{"$f":"IFERROR(DATE(YEAR(Gerar_Upload!E250),MONTH(Gerar_Upload!E250),DAY(Gerar_Upload!E250)),\"erro\")","v":"00:00:00"},{"$f":"IFERROR(Gerar_Upload!F250,\"erro\")","v":0},{"$f":"IFERROR(IF(Gerar_Upload!G250<44,REPT(0,44-LEN(Gerar_Upload!G250))&Gerar_Upload!G250,Gerar_Upload!G250),\"erro\")","v":"00000000000000000000000000000000000000000000"}]
[{"$f":"IFERROR(LEFT(Gerar_Upload!A251,120),\"erro\")","v":""},{"$f":"IFERROR(SUBSTITUTE(SUBSTITUTE(SUBSTITUTE(Gerar_Upload!B251,\".\",\"\"),\"-\",\"\"),\"/\",\"\"),\"erro\")","v":""},{"$f":"IFERROR(Gerar_Upload!C251,\"erro\")","v":0},{"$f":"IFERROR(Gerar_Upload!D251,\"erro\")","v":0},{"$f":"IFERROR(DATE(YEAR(Gerar_Upload!E251),MONTH(Gerar_Upload!E251),DAY(Gerar_Upload!E251)),\"erro\")","v":"00:00:00"},{"$f":"IFERROR(Gerar_Upload!F251,\"erro\")","v":0},{"$f":"IFERROR(IF(Gerar_Upload!G251<44,REPT(0,44-LEN(Gerar_Upload!G251))&Gerar_Upload!G251,Gerar_Upload!G251),\"erro\")","v":"00000000000000000000000000000000000000000000"}]
[{"$f":"IFERROR(LEFT(Gerar_Upload!A252,120),\"erro\")","v":""},{"$f":"IFERROR(SUBSTITUTE(SUBSTITUTE(SUBSTITUTE(Gerar_Upload!B252,\".\",\"\"),\"-\",\"\"),\"/\",\"\"),\"erro\")","v":""},{"$f":"IFERROR(Gerar_Upload!C252,\"erro\")","v":0},{"$f":"IFERROR(Gerar_Upload!D252,\"erro\")","v":0},{"$f":"IFERROR(DATE(YEAR(Gerar_Upload!E252),MONTH(Gerar_Upload!E252),DAY(Gerar_Upload!E252)),\"erro\")","v":"00:00:00"},{"$f":"IFERROR(Gerar_Upload!F252,\"erro\")","v":0},{"$f":"IFERROR(IF(Gerar_Upload!G252<44,REPT(0,44-LEN(Gerar_Upload!G252))&Gerar_Upload!G252,Gerar_Upload!G252),\"erro\")","v":"00000000000000000000000000000000000000000000"}]
[{"$f":"IFERROR(LEFT(Gerar_Upload!A253,120),\"erro\")","v":""},{"$f":"IFERROR(SUBSTITUTE(SUBSTITUTE(SUBSTITUTE(Gerar_Upload!B253,\".\",\"\"),\"-\",\"\"),\"/\",\"\"),\"erro\")","v":""},{"$f":"IFERROR(Gerar_Upload!C253,\"erro\")","v":0},{"$f":"IFERROR(Gerar_Upload!D253,\"erro\")","v":0},{"$f":"IFERROR(DATE(YEAR(Gerar_Upload!E253),MONTH(Gerar_Upload!E253),DAY(Gerar_Upload!E253)),\"erro\")","v":"00:00:00"},{"$f":"IFERROR(Gerar_Upload!F253,\"erro\")","v":0},{"$f":"IFERROR(IF(Gerar_Upload!G253<44,REPT(0,44-LEN(Gerar_Upload!G253))&Gerar_Upload!G253,Gerar_Upload!G253),\"erro\")","v":"00000000000000000000000000000000000000000000"}]
[{"$f":"IFERROR(LEFT(Gerar_Upload!A254,120),\"erro\")","v":""},{"$f":"IFERROR(SUBSTITUTE(SUBSTITUTE(SUBSTITUTE(Gerar_Upload!B254,\".\",\"\"),\"-\",\"\"),\"/\",\"\"),\"erro\")","v":""},{"$f":"IFERROR(Gerar_Upload!C254,\"erro\")","v":0},{"$f":"IFERROR(Gerar_Upload!D254,\"erro\")","v":0},{"$f":"IFERROR(DATE(YEAR(Gerar_Upload!E254),MONTH(Gerar_Upload!E254),DAY(Gerar_Upload!E254)),\"erro\")","v":"00:00:00"},{"$f":"IFERROR(Gerar_Upload!F254,\"erro\")","v":0},{"$f":"IFERROR(IF(Gerar_Upload!G254<44,REPT(0,44-LEN(Gerar_Upload!G254))&Gerar_Upload!G254,Gerar_Upload!G254),\"erro\")","v":"00000000000000000000000000000000000000000000"}]
[{"$f":"IFERROR(LEFT(Gerar_Upload!A255,120),\"erro\")","v":""},{"$f":"IFERROR(SUBSTITUTE(SUBSTITUTE(SUBSTITUTE(Gerar_Upload!B255,\".\",\"\"),\"-\",\"\"),\"/\",\"\"),\"erro\")","v":""},{"$f":"IFERROR(Gerar_Upload!C255,\"erro\")","v":0},{"$f":"IFERROR(Gerar_Upload!D255,\"erro\")","v":0},{"$f":"IFERROR(DATE(YEAR(Gerar_Upload!E255),MONTH(Gerar_Upload!E255),DAY(Gerar_Upload!E255)),\"erro\")","v":"00:00:00"},{"$f":"IFERROR(Gerar_Upload!F255,\"erro\")","v":0},{"$f":"IFERROR(IF(Gerar_Upload!G255<44,REPT(0,44-LEN(Gerar_Upload!G255))&Gerar_Upload!G255,Gerar_Upload!G255),\"erro\")","v":"00000000000000000000000000000000000000000000"}]
[{"$f":"IFERROR(LEFT(Gerar_Upload!A256,120),\"erro\")","v":""},{"$f":"IFERROR(SUBSTITUTE(SUBSTITUTE(SUBSTITUTE(Gerar_Upload!B256,\".\",\"\"),\"-\",\"\"),\"/\",\"\"),\"erro\")","v":""},{"$f":"IFERROR(Gerar_Upload!C256,\"erro\")","v":0},{"$f":"IFERROR(Gerar_Upload!D256,\"erro\")","v":0},{"$f":"IFERROR(DATE(YEAR(Gerar_Upload!E256),MONTH(Gerar_Upload!E256),DAY(Gerar_Upload!E256)),\"erro\")","v":"00:00:00"},{"$f":"IFERROR(Gerar_Upload!F256,\"erro\")","v":0},{"$f":"IFERROR(IF(Gerar_Upload!G256<44,REPT(0,44-LEN(Gerar_Upload!G256))&Gerar_Upload!G256,Gerar_Upload!G256),\"erro\")","v":"00000000000000000000000000000000000000000000"}]
[{"$f":"IFERROR(LEFT(Gerar_Upload!A257,120),\"erro\")","v":""},{"$f":"IFERROR(SUBSTITUTE(SUBSTITUTE(SUBSTITUTE(Gerar_Upload!B257,\".\",\"\"),\"-\",\"\"),\"/\",\"\"),\"erro\")","v":""},{"$f":"IFERROR(Gerar_Upload!C257,\"erro\")","v":0},{"$f":"IFERROR(Gerar_Upload!D257,\"erro\")","v":0},{"$f":"IFERROR(DATE(YEAR(Gerar_Upload!E257),MONTH(Gerar_Upload!E257),DAY(Gerar_Upload!E257)),\"erro\")","v":"00:00:00"},{"$f":"IFERROR(Gerar_Upload!F257,\"erro\")","v":0},{"$f":"IFERROR(IF(Gerar_Upload!G257<44,REPT(0,44-LEN(Gerar_Upload!G257))&Gerar_Upload!G257,Gerar_Upload!G257),\"erro\")","v":"00000000000000000000000000000000000000000000"}]
[{"$f":"IFERROR(LEFT(Gerar_Upload!A258,120),\"erro\")","v":""},{"$f":"IFERROR(SUBSTITUTE(SUBSTITUTE(SUBSTITUTE(Gerar_Upload!B258,\".\",\"\"),\"-\",\"\"),\"/\",\"\"),\"erro\")","v":""},{"$f":"IFERROR(Gerar_Upload!C258,\"erro\")","v":0},{"$f":"IFERROR(Gerar_Upload!D258,\"erro\")","v":0},{"$f":"IFERROR(DATE(YEAR(Gerar_Upload!E258),MONTH(Gerar_Upload!E258),DAY(Gerar_Upload!E258)),\"erro\")","v":"00:00:00"},{"$f":"IFERROR(Gerar_Upload!F258,\"erro\")","v":0},{"$f":"IFERROR(IF(Gerar_Upload!G258<44,REPT(0,44-LEN(Gerar_Upload!G258))&Gerar_Upload!G258,Gerar_Upload!G258),\"erro\")","v":"00000000000000000000000000000000000000000000"}]
[{"$f":"IFERROR(LEFT(Gerar_Upload!A259,120),\"erro\")","v":""},{"$f":"IFERROR(SUBSTITUTE(SUBSTITUTE(SUBSTITUTE(Gerar_Upload!B259,\".\",\"\"),\"-\",\"\"),\"/\",\"\"),\"erro\")","v":""},{"$f":"IFERROR(Gerar_Upload!C259,\"erro\")","v":0},{"$f":"IFERROR(Gerar_Upload!D259,\"erro\")","v":0},{"$f":"IFERROR(DATE(YEAR(Gerar_Upload!E259),MONTH(Gerar_Upload!E259),DAY(Gerar_Upload!E259)),\"erro\")","v":"00:00:00"},{"$f":"IFERROR(Gerar_Upload!F259,\"erro\")","v":0},{"$f":"IFERROR(IF(Gerar_Upload!G259<44,REPT(0,44-LEN(Gerar_Upload!G259))&Gerar_Upload!G259,Gerar_Upload!G259),\"erro\")","v":"00000000000000000000000000000000000000000000"}]
[{"$f":"IFERROR(LEFT(Gerar_Upload!A260,120),\"erro\")","v":""},{"$f":"IFERROR(SUBSTITUTE(SUBSTITUTE(SUBSTITUTE(Gerar_Upload!B260,\".\",\"\"),\"-\",\"\"),\"/\",\"\"),\"erro\")","v":""},{"$f":"IFERROR(Gerar_Upload!C260,\"erro\")","v":0},{"$f":"IFERROR(Gerar_Upload!D260,\"erro\")","v":0},{"$f":"IFERROR(DATE(YEAR(Gerar_Upload!E260),MONTH(Gerar_Upload!E260),DAY(Gerar_Upload!E260)),\"erro\")","v":"00:00:00"},{"$f":"IFERROR(Gerar_Upload!F260,\"erro\")","v":0},{"$f":"IFERROR(IF(Gerar_Upload!G260<44,REPT(0,44-LEN(Gerar_Upload!G260))&Gerar_Upload!G260,Gerar_Upload!G260),\"erro\")","v":"00000000000000000000000000000000000000000000"}]
[{"$f":"IFERROR(LEFT(Gerar_Upload!A261,120),\"erro\")","v":""},{"$f":"IFERROR(SUBSTITUTE(SUBSTITUTE(SUBSTITUTE(Gerar_Upload!B261,\".\",\"\"),\"-\",\"\"),\"/\",\"\"),\"erro\")","v":""},{"$f":"IFERROR(Gerar_Upload!C261,\"erro\")","v":0},{"$f":"IFERROR(Gerar_Upload!D261,\"erro\")","v":0},{"$f":"IFERROR(DATE(YEAR(Gerar_Upload!E261),MONTH(Gerar_Upload!E261),DAY(Gerar_Upload!E261)),\"erro\")","v":"00:00:00"},{"$f":"IFERROR(Gerar_Upload!F261,\"erro\")","v":0},{"$f":"IFERROR(IF(Gerar_Upload!G261<44,REPT(0,44-LEN(Gerar_Upload!G261))&Gerar_Upload!G261,Gerar_Upload!G261),\"erro\")","v":"00000000000000000000000000000000000000000000"}]
[{"$f":"IFERROR(LEFT(Gerar_Upload!A262,120),\"erro\")","v":""},{"$f":"IFERROR(SUBSTITUTE(SUBSTITUTE(SUBSTITUTE(Gerar_Upload!B262,\".\",\"\"),\"-\",\"\"),\"/\",\"\"),\"erro\")","v":""},{"$f":"IFERROR(Gerar_Upload!C262,\"erro\")","v":0},{"$f":"IFERROR(Gerar_Upload!D262,\"erro\")","v":0},{"$f":"IFERROR(DATE(YEAR(Gerar_Upload!E262),MONTH(Gerar_Upload!E262),DAY(Gerar_Upload!E262)),\"erro\")","v":"00:00:00"},{"$f":"IFERROR(Gerar_Upload!F262,\"erro\")","v":0},{"$f":"IFERROR(IF(Gerar_Upload!G262<44,REPT(0,44-LEN(Gerar_Upload!G262))&Gerar_Upload!G262,Gerar_Upload!G262),\"erro\")","v":"00000000000000000000000000000000000000000000"}]
[{"$f":"IFERROR(LEFT(Gerar_Upload!A263,120),\"erro\")","v":""},{"$f":"IFERROR(SUBSTITUTE(SUBSTITUTE(SUBSTITUTE(Gerar_Upload!B263,\".\",\"\"),\"-\",\"\"),\"/\",\"\"),\"erro\")","v":""},{"$f":"IFERROR(Gerar_Upload!C263,\"erro\")","v":0},{"$f":"IFERROR(Gerar_Upload!D263,\"erro\")","v":0},{"$f":"IFERROR(DATE(YEAR(Gerar_Upload!E263),MONTH(Gerar_Upload!E263),DAY(Gerar_Upload!E263)),\"erro\")","v":"00:00:00"},{"$f":"IFERROR(Gerar_Upload!F263,\"erro\")","v":0},{"$f":"IFERROR(IF(Gerar_Upload!G263<44,REPT(0,44-LEN(Gerar_Upload!G263))&Gerar_Upload!G263,Gerar_Upload!G263),\"erro\")","v":"00000000000000000000000000000000000000000000"}]
[{"$f":"IFERROR(LEFT(Gerar_Upload!A264,120),\"erro\")","v":""},{"$f":"IFERROR(SUBSTITUTE(SUBSTITUTE(SUBSTITUTE(Gerar_Upload!B264,\".\",\"\"),\"-\",\"\"),\"/\",\"\"),\"erro\")","v":""},{"$f":"IFERROR(Gerar_Upload!C264,\"erro\")","v":0},{"$f":"IFERROR(Gerar_Upload!D264,\"erro\")","v":0},{"$f":"IFERROR(DATE(YEAR(Gerar_Upload!E264),MONTH(Gerar_Upload!E264),DAY(Gerar_Upload!E264)),\"erro\")","v":"00:00:00"},{"$f":"IFERROR(Gerar_Upload!F264,\"erro\")","v":0},{"$f":"IFERROR(IF(Gerar_Upload!G264<44,REPT(0,44-LEN(Gerar_Upload!G264))&Gerar_Upload!G264,Gerar_Upload!G264),\"erro\")","v":"00000000000000000000000000000000000000000000"}]
[{"$f":"IFERROR(LEFT(Gerar_Upload!A265,120),\"erro\")","v":""},{"$f":"IFERROR(SUBSTITUTE(SUBSTITUTE(SUBSTITUTE(Gerar_Upload!B265,\".\",\"\"),\"-\",\"\"),\"/\",\"\"),\"erro\")","v":""},{"$f":"IFERROR(Gerar_Upload!C265,\"erro\")","v":0},{"$f":"IFERROR(Gerar_Upload!D265,\"erro\")","v":0},{"$f":"IFERROR(DATE(YEAR(Gerar_Upload!E265),MONTH(Gerar_Upload!E265),DAY(Gerar_Upload!E265)),\"erro\")","v":"00:00:00"},{"$f":"IFERROR(Gerar_Upload!F265,\"erro\")","v":0},{"$f":"IFERROR(IF(Gerar_Upload!G265<44,REPT(0,44-LEN(Gerar_Upload!G265))&Gerar_Upload!G265,Gerar_Upload!G265),\"erro\")","v":"00000000000000000000000000000000000000000000"}]
[{"$f":"IFERROR(LEFT(Gerar_Upload!A266,120),\"erro\")","v":""},{"$f":"IFERROR(SUBSTITUTE(SUBSTITUTE(SUBSTITUTE(Gerar_Upload!B266,\".\",\"\"),\"-\",\"\"),\"/\",\"\"),\"erro\")","v":""},{"$f":"IFERROR(Gerar_Upload!C266,\"erro\")","v":0},{"$f":"IFERROR(Gerar_Upload!D266,\"erro\")","v":0},{"$f":"IFERROR(DATE(YEAR(Gerar_Upload!E266),MONTH(Gerar_Upload!E266),DAY(Gerar_Upload!E266)),\"erro\")","v":"00:00:00"},{"$f":"IFERROR(Gerar_Upload!F266,\"erro\")","v":0},{"$f":"IFERROR(IF(Gerar_Upload!G266<44,REPT(0,44-LEN(Gerar_Upload!G266))&Gerar_Upload!G266,Gerar_Upload!G266),\"erro\")","v":"00000000000000000000000000000000000000000000"}]
[{"$f":"IFERROR(LEFT(Gerar_Upload!A267,120),\"erro\")","v":""},{"$f":"IFERROR(SUBSTITUTE(SUBSTITUTE(SUBSTITUTE(Gerar_Upload!B267,\".\",\"\"),\"-\",\"\"),\"/\",\"\"),\"erro\")","v":""},{"$f":"IFERROR(Gerar_Upload!C267,\"erro\")","v":0},{"$f":"IFERROR(Gerar_Upload!D267,\"erro\")","v":0},{"$f":"IFERROR(DATE(YEAR(Gerar_Upload!E267),MONTH(Gerar_Upload!E267),DAY(Gerar_Upload!E267)),\"erro\")","v":"00:00:00"},{"$f":"IFERROR(Gerar_Upload!F267,\"erro\")","v":0},{"$f":"IFERROR(IF(Gerar_Upload!G267<44,REPT(0,44-LEN(Gerar_Upload!G267))&Gerar_Upload!G267,Gerar_Upload!G267),\"erro\")","v":"00000000000000000000000000000000000000000000"}]
[{"$f":"IFERROR(LEFT(Gerar_Upload!A268,120),\"erro\")","v":""},{"$f":"IFERROR(SUBSTITUTE(SUBSTITUTE(SUBSTITUTE(Gerar_Upload!B268,\".\",\"\"),\"-\",\"\"),\"/\",\"\"),\"erro\")","v":""},{"$f":"IFERROR(Gerar_Upload!C268,\"erro\")","v":0},{"$f":"IFERROR(Gerar_Upload!D268,\"erro\")","v":0},{"$f":"IFERROR(DATE(YEAR(Gerar_Upload!E268),MONTH(Gerar_Upload!E268),DAY(Gerar_Upload!E268)),\"erro\")","v":"00:00:00"},{"$f":"IFERROR(Gerar_Upload!F268,\"erro\")","v":0},{"$f":"IFERROR(IF(Gerar_Upload!G268<44,REPT(0,44-LEN(Gerar_Upload!G268))&Gerar_Upload!G268,Gerar_Upload!G268),\"erro\")","v":"00000000000000000000000000000000000000000000"}]
[{"$f":"IFERROR(LEFT(Gerar_Upload!A269,120),\"erro\")","v":""},{"$f":"IFERROR(SUBSTITUTE(SUBSTITUTE(SUBSTITUTE(Gerar_Upload!B269,\".\",\"\"),\"-\",\"\"),\"/\",\"\"),\"erro\")","v":""},{"$f":"IFERROR(Gerar_Upload!C269,\"erro\")","v":0},{"$f":"IFERROR(Gerar_Upload!D269,\"erro\")","v":0},{"$f":"IFERROR(DATE(YEAR(Gerar_Upload!E269),MONTH(Gerar_Upload!E269),DAY(Gerar_Upload!E269)),\"erro\")","v":"00:00:00"},{"$f":"IFERROR(Gerar_Upload!F269,\"erro\")","v":0},{"$f":"IFERROR(IF(Gerar_Upload!G269<44,REPT(0,44-LEN(Gerar_Upload!G269))&Gerar_Upload!G269,Gerar_Upload!G269),\"erro\")","v":"00000000000000000000000000000000000000000000"}]
[{"$f":"IFERROR(LEFT(Gerar_Upload!A270,120),\"erro\")","v":""},{"$f":"IFERROR(SUBSTITUTE(SUBSTITUTE(SUBSTITUTE(Gerar_Upload!B270,\".\",\"\"),\"-\",\"\"),\"/\",\"\"),\"erro\")","v":""},{"$f":"IFERROR(Gerar_Upload!C270,\"erro\")","v":0},{"$f":"IFERROR(Gerar_Upload!D270,\"erro\")","v":0},{"$f":"IFERROR(DATE(YEAR(Gerar_Upload!E270),MONTH(Gerar_Upload!E270),DAY(Gerar_Upload!E270)),\"erro\")","v":"00:00:00"},{"$f":"IFERROR(Gerar_Upload!F270,\"erro\")","v":0},{"$f":"IFERROR(IF(Gerar_Upload!G270<44,REPT(0,44-LEN(Gerar_Upload!G270))&Gerar_Upload!G270,Gerar_Upload!G270),\"erro\")","v":"00000000000000000000000000000000000000000000"}]
[{"$f":"IFERROR(LEFT(Gerar_Upload!A271,120),\"erro\")","v":""},{"$f":"IFERROR(SUBSTITUTE(SUBSTITUTE(SUBSTITUTE(Gerar_Upload!B271,\".\",\"\"),\"-\",\"\"),\"/\",\"\"),\"erro\")","v":""},{"$f":"IFERROR(Gerar_Upload!C271,\"erro\")","v":0},{"$f":"IFERROR(Gerar_Upload!D271,\"erro\")","v":0},{"$f":"IFERROR(DATE(YEAR(Gerar_Upload!E271),MONTH(Gerar_Upload!E271),DAY(Gerar_Upload!E271)),\"erro\")","v":"00:00:00"},{"$f":"IFERROR(Gerar_Upload!F271,\"erro\")","v":0},{"$f":"IFERROR(IF(Gerar_Upload!G271<44,REPT(0,44-LEN(Gerar_Upload!G271))&Gerar_Upload!G271,Gerar_Upload!G271),\"erro\")","v":"00000000000000000000000000000000000000000000"}]
[{"$f":"IFERROR(LEFT(Gerar_Upload!A272,120),\"erro\")","v":""},{"$f":"IFERROR(SUBSTITUTE(SUBSTITUTE(SUBSTITUTE(Gerar_Upload!B272,\".\",\"\"),\"-\",\"\"),\"/\",\"\"),\"erro\")","v":""},{"$f":"IFERROR(Gerar_Upload!C272,\"erro\")","v":0},{"$f":"IFERROR(Gerar_Upload!D272,\"erro\")","v":0},{"$f":"IFERROR(DATE(YEAR(Gerar_Upload!E272),MONTH(Gerar_Upload!E272),DAY(Gerar_Upload!E272)),\"erro\")","v":"00:00:00"},{"$f":"IFERROR(Gerar_Upload!F272,\"erro\")","v":0},{"$f":"IFERROR(IF(Gerar_Upload!G272<44,REPT(0,44-LEN(Gerar_Upload!G272))&Gerar_Upload!G272,Gerar_Upload!G272),\"erro\")","v":"00000000000000000000000000000000000000000000"}]
[{"$f":"IFERROR(LEFT(Gerar_Upload!A273,120),\"erro\")","v":""},{"$f":"IFERROR(SUBSTITUTE(SUBSTITUTE(SUBSTITUTE(Gerar_Upload!B273,\".\",\"\"),\"-\",\"\"),\"/\",\"\"),\"erro\")","v":""},{"$f":"IFERROR(Gerar_Upload!C273,\"erro\")","v":0},{"$f":"IFERROR(Gerar_Upload!D273,\"erro\")","v":0},{"$f":"IFERROR(DATE(YEAR(Gerar_Upload!E273),MONTH(Gerar_Upload!E273),DAY(Gerar_Upload!E273)),\"erro\")","v":"00:00:00"},{"$f":"IFERROR(Gerar_Upload!F273,\"erro\")","v":0},{"$f":"IFERROR(IF(Gerar_Upload!G273<44,REPT(0,44-LEN(Gerar_Upload!G273))&Gerar_Upload!G273,Gerar_Upload!G273),\"erro\")","v":"00000000000000000000000000000000000000000000"}]
[{"$f":"IFERROR(LEFT(Gerar_Upload!A274,120),\"erro\")","v":""},{"$f":"IFERROR(SUBSTITUTE(SUBSTITUTE(SUBSTITUTE(Gerar_Upload!B274,\".\",\"\"),\"-\",\"\"),\"/\",\"\"),\"erro\")","v":""},{"$f":"IFERROR(Gerar_Upload!C274,\"erro\")","v":0},{"$f":"IFERROR(Gerar_Upload!D274,\"erro\")","v":0},{"$f":"IFERROR(DATE(YEAR(Gerar_Upload!E274),MONTH(Gerar_Upload!E274),DAY(Gerar_Upload!E274)),\"erro\")","v":"00:00:00"},{"$f":"IFERROR(Gerar_Upload!F274,\"erro\")","v":0},{"$f":"IFERROR(IF(Gerar_Upload!G274<44,REPT(0,44-LEN(Gerar_Upload!G274))&Gerar_Upload!G274,Gerar_Upload!G274),\"erro\")","v":"00000000000000000000000000000000000000000000"}]
[{"$f":"IFERROR(LEFT(Gerar_Upload!A275,120),\"erro\")","v":""},{"$f":"IFERROR(SUBSTITUTE(SUBSTITUTE(SUBSTITUTE(Gerar_Upload!B275,\".\",\"\"),\"-\",\"\"),\"/\",\"\"),\"erro\")","v":""},{"$f":"IFERROR(Gerar_Upload!C275,\"erro\")","v":0},{"$f":"IFERROR(Gerar_Upload!D275,\"erro\")","v":0},{"$f":"IFERROR(DATE(YEAR(Gerar_Upload!E275),MONTH(Gerar_Upload!E275),DAY(Gerar_Upload!E275)),\"erro\")","v":"00:00:00"},{"$f":"IFERROR(Gerar_Upload!F275,\"erro\")","v":0},{"$f":"IFERROR(IF(Gerar_Upload!G275<44,REPT(0,44-LEN(Gerar_Upload!G275))&Gerar_Upload!G275,Gerar_Upload!G275),\"erro\")","v":"00000000000000000000000000000000000000000000"}]
[{"$f":"IFERROR(LEFT(Gerar_Upload!A276,120),\"erro\")","v":""},{"$f":"IFERROR(SUBSTITUTE(SUBSTITUTE(SUBSTITUTE(Gerar_Upload!B276,\".\",\"\"),\"-\",\"\"),\"/\",\"\"),\"erro\")","v":""},{"$f":"IFERROR(Gerar_Upload!C276,\"erro\")","v":0},{"$f":"IFERROR(Gerar_Upload!D276,\"erro\")","v":0},{"$f":"IFERROR(DATE(YEAR(Gerar_Upload!E276),MONTH(Gerar_Upload!E276),DAY(Gerar_Upload!E276)),\"erro\")","v":"00:00:00"},{"$f":"IFERROR(Gerar_Upload!F276,\"erro\")","v":0},{"$f":"IFERROR(IF(Gerar_Upload!G276<44,REPT(0,44-LEN(Gerar_Upload!G276))&Gerar_Upload!G276,Gerar_Upload!G276),\"erro\")","v":"00000000000000000000000000000000000000000000"}]
[{"$f":"IFERROR(LEFT(Gerar_Upload!A277,120),\"erro\")","v":""},{"$f":"IFERROR(SUBSTITUTE(SUBSTITUTE(SUBSTITUTE(Gerar_Upload!B277,\".\",\"\"),\"-\",\"\"),\"/\",\"\"),\"erro\")","v":""},{"$f":"IFERROR(Gerar_Upload!C277,\"erro\")","v":0},{"$f":"IFERROR(Gerar_Upload!D277,\"erro\")","v":0},{"$f":"IFERROR(DATE(YEAR(Gerar_Upload!E277),MONTH(Gerar_Upload!E277),DAY(Gerar_Upload!E277)),\"erro\")","v":"00:00:00"},{"$f":"IFERROR(Gerar_Upload!F277,\"erro\")","v":0},{"$f":"IFERROR(IF(Gerar_Upload!G277<44,REPT(0,44-LEN(Gerar_Upload!G277))&Gerar_Upload!G277,Gerar_Upload!G277),\"erro\")","v":"00000000000000000000000000000000000000000000"}]
[{"$f":"IFERROR(LEFT(Gerar_Upload!A278,120),\"erro\")","v":""},{"$f":"IFERROR(SUBSTITUTE(SUBSTITUTE(SUBSTITUTE(Gerar_Upload!B278,\".\",\"\"),\"-\",\"\"),\"/\",\"\"),\"erro\")","v":""},{"$f":"IFERROR(Gerar_Upload!C278,\"erro\")","v":0},{"$f":"IFERROR(Gerar_Upload!D278,\"erro\")","v":0},{"$f":"IFERROR(DATE(YEAR(Gerar_Upload!E278),MONTH(Gerar_Upload!E278),DAY(Gerar_Upload!E278)),\"erro\")","v":"00:00:00"},{"$f":"IFERROR(Gerar_Upload!F278,\"erro\")","v":0},{"$f":"IFERROR(IF(Gerar_Upload!G278<44,REPT(0,44-LEN(Gerar_Upload!G278))&Gerar_Upload!G278,Gerar_Upload!G278),\"erro\")","v":"00000000000000000000000000000000000000000000"}]
[{"$f":"IFERROR(LEFT(Gerar_Upload!A279,120),\"erro\")","v":""},{"$f":"IFERROR(SUBSTITUTE(SUBSTITUTE(SUBSTITUTE(Gerar_Upload!B279,\".\",\"\"),\"-\",\"\"),\"/\",\"\"),\"erro\")","v":""},{"$f":"IFERROR(Gerar_Upload!C279,\"erro\")","v":0},{"$f":"IFERROR(Gerar_Upload!D279,\"erro\")","v":0},{"$f":"IFERROR(DATE(YEAR(Gerar_Upload!E279),MONTH(Gerar_Upload!E279),DAY(Gerar_Upload!E279)),\"erro\")","v":"00:00:00"},{"$f":"IFERROR(Gerar_Upload!F279,\"erro\")","v":0},{"$f":"IFERROR(IF(Gerar_Upload!G279<44,REPT(0,44-LEN(Gerar_Upload!G279))&Gerar_Upload!G279,Gerar_Upload!G279),\"erro\")","v":"00000000000000000000000000000000000000000000"}]
[{"$f":"IFERROR(LEFT(Gerar_Upload!A280,120),\"erro\")","v":""},{"$f":"IFERROR(SUBSTITUTE(SUBSTITUTE(SUBSTITUTE(Gerar_Upload!B280,\".\",\"\"),\"-\",\"\"),\"/\",\"\"),\"erro\")","v":""},{"$f":"IFERROR(Gerar_Upload!C280,\"erro\")","v":0},{"$f":"IFERROR(Gerar_Upload!D280,\"erro\")","v":0},{"$f":"IFERROR(DATE(YEAR(Gerar_Upload!E280),MONTH(Gerar_Upload!E280),DAY(Gerar_Upload!E280)),\"erro\")","v":"00:00:00"},{"$f":"IFERROR(Gerar_Upload!F280,\"erro\")","v":0},{"$f":"IFERROR(IF(Gerar_Upload!G280<44,REPT(0,44-LEN(Gerar_Upload!G280))&Gerar_Upload!G280,Gerar_Upload!G280),\"erro\")","v":"00000000000000000000000000000000000000000000"}]
[{"$f":"IFERROR(LEFT(Gerar_Upload!A281,120),\"erro\")","v":""},{"$f":"IFERROR(SUBSTITUTE(SUBSTITUTE(SUBSTITUTE(Gerar_Upload!B281,\".\",\"\"),\"-\",\"\"),\"/\",\"\"),\"erro\")","v":""},{"$f":"IFERROR(Gerar_Upload!C281,\"erro\")","v":0},{"$f":"IFERROR(Gerar_Upload!D281,\"erro\")","v":0},{"$f":"IFERROR(DATE(YEAR(Gerar_Upload!E281),MONTH(Gerar_Upload!E281),DAY(Gerar_Upload!E281)),\"erro\")","v":"00:00:00"},{"$f":"IFERROR(Gerar_Upload!F281,\"erro\")","v":0},{"$f":"IFERROR(IF(Gerar_Upload!G281<44,REPT(0,44-LEN(Gerar_Upload!G281))&Gerar_Upload!G281,Gerar_Upload!G281),\"erro\")","v":"00000000000000000000000000000000000000000000"}]
[{"$f":"IFERROR(LEFT(Gerar_Upload!A282,120),\"erro\")","v":""},{"$f":"IFERROR(SUBSTITUTE(SUBSTITUTE(SUBSTITUTE(Gerar_Upload!B282,\".\",\"\"),\"-\",\"\"),\"/\",\"\"),\"erro\")","v":""},{"$f":"IFERROR(Gerar_Upload!C282,\"erro\")","v":0},{"$f":"IFERROR(Gerar_Upload!D282,\"erro\")","v":0},{"$f":"IFERROR(DATE(YEAR(Gerar_Upload!E282),MONTH(Gerar_Upload!E282),DAY(Gerar_Upload!E282)),\"erro\")","v":"00:00:00"},{"$f":"IFERROR(Gerar_Upload!F282,\"erro\")","v":0},{"$f":"IFERROR(IF(Gerar_Upload!G282<44,REPT(0,44-LEN(Gerar_Upload!G282))&Gerar_Upload!G282,Gerar_Upload!G282),\"erro\")","v":"00000000000000000000000000000000000000000000"}]
[{"$f":"IFERROR(LEFT(Gerar_Upload!A283,120),\"erro\")","v":""},{"$f":"IFERROR(SUBSTITUTE(SUBSTITUTE(SUBSTITUTE(Gerar_Upload!B283,\".\",\"\"),\"-\",\"\"),\"/\",\"\"),\"erro\")","v":""},{"$f":"IFERROR(Gerar_Upload!C283,\"erro\")","v":0},{"$f":"IFERROR(Gerar_Upload!D283,\"erro\")","v":0},{"$f":"IFERROR(DATE(YEAR(Gerar_Upload!E283),MONTH(Gerar_Upload!E283),DAY(Gerar_Upload!E283)),\"erro\")","v":"00:00:00"},{"$f":"IFERROR(Gerar_Upload!F283,\"erro\")","v":0},{"$f":"IFERROR(IF(Gerar_Upload!G283<44,REPT(0,44-LEN(Gerar_Upload!G283))&Gerar_Upload!G283,Gerar_Upload!G283),\"erro\")","v":"00000000000000000000000000000000000000000000"}]
[{"$f":"IFERROR(LEFT(Gerar_Upload!A284,120),\"erro\")","v":""},{"$f":"IFERROR(SUBSTITUTE(SUBSTITUTE(SUBSTITUTE(Gerar_Upload!B284,\".\",\"\"),\"-\",\"\"),\"/\",\"\"),\"erro\")","v":""},{"$f":"IFERROR(Gerar_Upload!C284,\"erro\")","v":0},{"$f":"IFERROR(Gerar_Upload!D284,\"erro\")","v":0},{"$f":"IFERROR(DATE(YEAR(Gerar_Upload!E284),MONTH(Gerar_Upload!E284),DAY(Gerar_Upload!E284)),\"erro\")","v":"00:00:00"},{"$f":"IFERROR(Gerar_Upload!F284,\"erro\")","v":0},{"$f":"IFERROR(IF(Gerar_Upload!G284<44,REPT(0,44-LEN(Gerar_Upload!G284))&Gerar_Upload!G284,Gerar_Upload!G284),\"erro\")","v":"00000000000000000000000000000000000000000000"}]
[{"$f":"IFERROR(LEFT(Gerar_Upload!A285,120),\"erro\")","v":""},{"$f":"IFERROR(SUBSTITUTE(SUBSTITUTE(SUBSTITUTE(Gerar_Upload!B285,\".\",\"\"),\"-\",\"\"),\"/\",\"\"),\"erro\")","v":""},{"$f":"IFERROR(Gerar_Upload!C285,\"erro\")","v":0},{"$f":"IFERROR(Gerar_Upload!D285,\"erro\")","v":0},{"$f":"IFERROR(DATE(YEAR(Gerar_Upload!E285),MONTH(Gerar_Upload!E285),DAY(Gerar_Upload!E285)),\"erro\")","v":"00:00:00"},{"$f":"IFERROR(Gerar_Upload!F285,\"erro\")","v":0},{"$f":"IFERROR(IF(Gerar_Upload!G285<44,REPT(0,44-LEN(Gerar_Upload!G285))&Gerar_Upload!G285,Gerar_Upload!G285),\"erro\")","v":"00000000000000000000000000000000000000000000"}]
[{"$f":"IFERROR(LEFT(Gerar_Upload!A286,120),\"erro\")","v":""},{"$f":"IFERROR(SUBSTITUTE(SUBSTITUTE(SUBSTITUTE(Gerar_Upload!B286,\".\",\"\"),\"-\",\"\"),\"/\",\"\"),\"erro\")","v":""},{"$f":"IFERROR(Gerar_Upload!C286,\"erro\")","v":0},{"$f":"IFERROR(Gerar_Upload!D286,\"erro\")","v":0},{"$f":"IFERROR(DATE(YEAR(Gerar_Upload!E286),MONTH(Gerar_Upload!E286),DAY(Gerar_Upload!E286)),\"erro\")","v":"00:00:00"},{"$f":"IFERROR(Gerar_Upload!F286,\"erro\")","v":0},{"$f":"IFERROR(IF(Gerar_Upload!G286<44,REPT(0,44-LEN(Gerar_Upload!G286))&Gerar_Upload!G286,Gerar_Upload!G286),\"erro\")","v":"00000000000000000000000000000000000000000000"}]
[{"$f":"IFERROR(LEFT(Gerar_Upload!A287,120),\"erro\")","v":""},{"$f":"IFERROR(SUBSTITUTE(SUBSTITUTE(SUBSTITUTE(Gerar_Upload!B287,\".\",\"\"),\"-\",\"\"),\"/\",\"\"),\"erro\")","v":""},{"$f":"IFERROR(Gerar_Upload!C287,\"erro\")","v":0},{"$f":"IFERROR(Gerar_Upload!D287,\"erro\")","v":0},{"$f":"IFERROR(DATE(YEAR(Gerar_Upload!E287),MONTH(Gerar_Upload!E287),DAY(Gerar_Upload!E287)),\"erro\")","v":"00:00:00"},{"$f":"IFERROR(Gerar_Upload!F287,\"erro\")","v":0},{"$f":"IFERROR(IF(Gerar_Upload!G287<44,REPT(0,44-LEN(Gerar_Upload!G287))&Gerar_Upload!G287,Gerar_Upload!G287),\"erro\")","v":"00000000000000000000000000000000000000000000"}]
[{"$f":"IFERROR(LEFT(Gerar_Upload!A288,120),\"erro\")","v":""},{"$f":"IFERROR(SUBSTITUTE(SUBSTITUTE(SUBSTITUTE(Gerar_Upload!B288,\".\",\"\"),\"-\",\"\"),\"/\",\"\"),\"erro\")","v":""},{"$f":"IFERROR(Gerar_Upload!C288,\"erro\")","v":0},{"$f":"IFERROR(Gerar_Upload!D288,\"erro\")","v":0},{"$f":"IFERROR(DATE(YEAR(Gerar_Upload!E288),MONTH(Gerar_Upload!E288),DAY(Gerar_Upload!E288)),\"erro\")","v":"00:00:00"},{"$f":"IFERROR(Gerar_Upload!F288,\"erro\")","v":0},{"$f":"IFERROR(IF(Gerar_Upload!G288<44,REPT(0,44-LEN(Gerar_Upload!G288))&Gerar_Upload!G288,Gerar_Upload!G288),\"erro\")","v":"00000000000000000000000000000000000000000000"}]
[{"$f":"IFERROR(LEFT(Gerar_Upload!A289,120),\"erro\")","v":""},{"$f":"IFERROR(SUBSTITUTE(SUBSTITUTE(SUBSTITUTE(Gerar_Upload!B289,\".\",\"\"),\"-\",\"\"),\"/\",\"\"),\"erro\")","v":""},{"$f":"IFERROR(Gerar_Upload!C289,\"erro\")","v":0},{"$f":"IFERROR(Gerar_Upload!D289,\"erro\")","v":0},{"$f":"IFERROR(DATE(YEAR(Gerar_Upload!E289),MONTH(Gerar_Upload!E289),DAY(Gerar_Upload!E289)),\"erro\")","v":"00:00:00"},{"$f":"IFERROR(Gerar_Upload!F289,\"erro\")","v":0},{"$f":"IFERROR(IF(Gerar_Upload!G289<44,REPT(0,44-LEN(Gerar_Upload!G289))&Gerar_Upload!G289,Gerar_Upload!G289),\"erro\")","v":"00000000000000000000000000000000000000000000"}]
[{"$f":"IFERROR(LEFT(Gerar_Upload!A290,120),\"erro\")","v":""},{"$f":"IFERROR(SUBSTITUTE(SUBSTITUTE(SUBSTITUTE(Gerar_Upload!B290,\".\",\"\"),\"-\",\"\"),\"/\",\"\"),\"erro\")","v":""},{"$f":"IFERROR(Gerar_Upload!C290,\"erro\")","v":0},{"$f":"IFERROR(Gerar_Upload!D290,\"erro\")","v":0},{"$f":"IFERROR(DATE(YEAR(Gerar_Upload!E290),MONTH(Gerar_Upload!E290),DAY(Gerar_Upload!E290)),\"erro\")","v":"00:00:00"},{"$f":"IFERROR(Gerar_Upload!F290,\"erro\")","v":0},{"$f":"IFERROR(IF(Gerar_Upload!G290<44,REPT(0,44-LEN(Gerar_Upload!G290))&Gerar_Upload!G290,Gerar_Upload!G290),\"erro\")","v":"00000000000000000000000000000000000000000000"}]
[{"$f":"IFERROR(LEFT(Gerar_Upload!A291,120),\"erro\")","v":""},{"$f":"IFERROR(SUBSTITUTE(SUBSTITUTE(SUBSTITUTE(Gerar_Upload!B291,\".\",\"\"),\"-\",\"\"),\"/\",\"\"),\"erro\")","v":""},{"$f":"IFERROR(Gerar_Upload!C291,\"erro\")","v":0},{"$f":"IFERROR(Gerar_Upload!D291,\"erro\")","v":0},{"$f":"IFERROR(DATE(YEAR(Gerar_Upload!E291),MONTH(Gerar_Upload!E291),DAY(Gerar_Upload!E291)),\"erro\")","v":"00:00:00"},{"$f":"IFERROR(Gerar_Upload!F291,\"erro\")","v":0},{"$f":"IFERROR(IF(Gerar_Upload!G291<44,REPT(0,44-LEN(Gerar_Upload!G291))&Gerar_Upload!G291,Gerar_Upload!G291),\"erro\")","v":"00000000000000000000000000000000000000000000"}]
[{"$f":"IFERROR(LEFT(Gerar_Upload!A292,120),\"erro\")","v":""},{"$f":"IFERROR(SUBSTITUTE(SUBSTITUTE(SUBSTITUTE(Gerar_Upload!B292,\".\",\"\"),\"-\",\"\"),\"/\",\"\"),\"erro\")","v":""},{"$f":"IFERROR(Gerar_Upload!C292,\"erro\")","v":0},{"$f":"IFERROR(Gerar_Upload!D292,\"erro\")","v":0},{"$f":"IFERROR(DATE(YEAR(Gerar_Upload!E292),MONTH(Gerar_Upload!E292),DAY(Gerar_Upload!E292)),\"erro\")","v":"00:00:00"},{"$f":"IFERROR(Gerar_Upload!F292,\"erro\")","v":0},{"$f":"IFERROR(IF(Gerar_Upload!G292<44,REPT(0,44-LEN(Gerar_Upload!G292))&Gerar_Upload!G292,Gerar_Upload!G292),\"erro\")","v":"00000000000000000000000000000000000000000000"}]
[{"$f":"IFERROR(LEFT(Gerar_Upload!A293,120),\"erro\")","v":""},{"$f":"IFERROR(SUBSTITUTE(SUBSTITUTE(SUBSTITUTE(Gerar_Upload!B293,\".\",\"\"),\"-\",\"\"),\"/\",\"\"),\"erro\")","v":""},{"$f":"IFERROR(Gerar_Upload!C293,\"erro\")","v":0},{"$f":"IFERROR(Gerar_Upload!D293,\"erro\")","v":0},{"$f":"IFERROR(DATE(YEAR(Gerar_Upload!E293),MONTH(Gerar_Upload!E293),DAY(Gerar_Upload!E293)),\"erro\")","v":"00:00:00"},{"$f":"IFERROR(Gerar_Upload!F293,\"erro\")","v":0},{"$f":"IFERROR(IF(Gerar_Upload!G293<44,REPT(0,44-LEN(Gerar_Upload!G293))&Gerar_Upload!G293,Gerar_Upload!G293),\"erro\")","v":"00000000000000000000000000000000000000000000"}]
[{"$f":"IFERROR(LEFT(Gerar_Upload!A294,120),\"erro\")","v":""},{"$f":"IFERROR(SUBSTITUTE(SUBSTITUTE(SUBSTITUTE(Gerar_Upload!B294,\".\",\"\"),\"-\",\"\"),\"/\",\"\"),\"erro\")","v":""},{"$f":"IFERROR(Gerar_Upload!C294,\"erro\")","v":0},{"$f":"IFERROR(Gerar_Upload!D294,\"erro\")","v":0},{"$f":"IFERROR(DATE(YEAR(Gerar_Upload!E294),MONTH(Gerar_Upload!E294),DAY(Gerar_Upload!E294)),\"erro\")","v":"00:00:00"},{"$f":"IFERROR(Gerar_Upload!F294,\"erro\")","v":0},{"$f":"IFERROR(IF(Gerar_Upload!G294<44,REPT(0,44-LEN(Gerar_Upload!G294))&Gerar_Upload!G294,Gerar_Upload!G294),\"erro\")","v":"00000000000000000000000000000000000000000000"}]
[{"$f":"IFERROR(LEFT(Gerar_Upload!A295,120),\"erro\")","v":""},{"$f":"IFERROR(SUBSTITUTE(SUBSTITUTE(SUBSTITUTE(Gerar_Upload!B295,\".\",\"\"),\"-\",\"\"),\"/\",\"\"),\"erro\")","v":""},{"$f":"IFERROR(Gerar_Upload!C295,\"erro\")","v":0},{"$f":"IFERROR(Gerar_Upload!D295,\"erro\")","v":0},{"$f":"IFERROR(DATE(YEAR(Gerar_Upload!E295),MONTH(Gerar_Upload!E295),DAY(Gerar_Upload!E295)),\"erro\")","v":"00:00:00"},{"$f":"IFERROR(Gerar_Upload!F295,\"erro\")","v":0},{"$f":"IFERROR(IF(Gerar_Upload!G295<44,REPT(0,44-LEN(Gerar_Upload!G295))&Gerar_Upload!G295,Gerar_Upload!G295),\"erro\")","v":"00000000000000000000000000000000000000000000"}]
[{"$f":"IFERROR(LEFT(Gerar_Upload!A296,120),\"erro\")","v":""},{"$f":"IFERROR(SUBSTITUTE(SUBSTITUTE(SUBSTITUTE(Gerar_Upload!B296,\".\",\"\"),\"-\",\"\"),\"/\",\"\"),\"erro\")","v":""},{"$f":"IFERROR(Gerar_Upload!C296,\"erro\")","v":0},{"$f":"IFERROR(Gerar_Upload!D296,\"erro\")","v":0},{"$f":"IFERROR(DATE(YEAR(Gerar_Upload!E296),MONTH(Gerar_Upload!E296),DAY(Gerar_Upload!E296)),\"erro\")","v":"00:00:00"},{"$f":"IFERROR(Gerar_Upload!F296,\"erro\")","v":0},{"$f":"IFERROR(IF(Gerar_Upload!G296<44,REPT(0,44-LEN(Gerar_Upload!G296))&Gerar_Upload!G296,Gerar_Upload!G296),\"erro\")","v":"00000000000000000000000000000000000000000000"}]
[{"$f":"IFERROR(LEFT(Gerar_Upload!A297,120),\"erro\")","v":""},{"$f":"IFERROR(SUBSTITUTE(SUBSTITUTE(SUBSTITUTE(Gerar_Upload!B297,\".\",\"\"),\"-\",\"\"),\"/\",\"\"),\"erro\")","v":""},{"$f":"IFERROR(Gerar_Upload!C297,\"erro\")","v":0},{"$f":"IFERROR(Gerar_Upload!D297,\"erro\")","v":0},{"$f":"IFERROR(DATE(YEAR(Gerar_Upload!E297),MONTH(Gerar_Upload!E297),DAY(Gerar_Upload!E297)),\"erro\")","v":"00:00:00"},{"$f":"IFERROR(Gerar_Upload!F297,\"erro\")","v":0},{"$f":"IFERROR(IF(Gerar_Upload!G297<44,REPT(0,44-LEN(Gerar_Upload!G297))&Gerar_Upload!G297,Gerar_Upload!G297),\"erro\")","v":"00000000000000000000000000000000000000000000"}]
[{"$f":"IFERROR(LEFT(Gerar_Upload!A298,120),\"erro\")","v":""},{"$f":"IFERROR(SUBSTITUTE(SUBSTITUTE(SUBSTITUTE(Gerar_Upload!B298,\".\",\"\"),\"-\",\"\"),\"/\",\"\"),\"erro\")","v":""},{"$f":"IFERROR(Gerar_Upload!C298,\"erro\")","v":0},{"$f":"IFERROR(Gerar_Upload!D298,\"erro\")","v":0},{"$f":"IFERROR(DATE(YEAR(Gerar_Upload!E298),MONTH(Gerar_Upload!E298),DAY(Gerar_Upload!E298)),\"erro\")","v":"00:00:00"},{"$f":"IFERROR(Gerar_Upload!F298,\"erro\")","v":0},{"$f":"IFERROR(IF(Gerar_Upload!G298<44,REPT(0,44-LEN(Gerar_Upload!G298))&Gerar_Upload!G298,Gerar_Upload!G298),\"erro\")","v":"00000000000000000000000000000000000000000000"}]
[{"$f":"IFERROR(LEFT(Gerar_Upload!A299,120),\"erro\")","v":""},{"$f":"IFERROR(SUBSTITUTE(SUBSTITUTE(SUBSTITUTE(Gerar_Upload!B299,\".\",\"\"),\"-\",\"\"),\"/\",\"\"),\"erro\")","v":""},{"$f":"IFERROR(Gerar_Upload!C299,\"erro\")","v":0},{"$f":"IFERROR(Gerar_Upload!D299,\"erro\")","v":0},{"$f":"IFERROR(DATE(YEAR(Gerar_Upload!E299),MONTH(Gerar_Upload!E299),DAY(Gerar_Upload!E299)),\"erro\")","v":"00:00:00"},{"$f":"IFERROR(Gerar_Upload!F299,\"erro\")","v":0},{"$f":"IFERROR(IF(Gerar_Upload!G299<44,REPT(0,44-LEN(Gerar_Upload!G299))&Gerar_Upload!G299,Gerar_Upload!G299),\"erro\")","v":"00000000000000000000000000000000000000000000"}]
[{"$f":"IFERROR(LEFT(Gerar_Upload!A300,120),\"erro\")","v":""},{"$f":"IFERROR(SUBSTITUTE(SUBSTITUTE(SUBSTITUTE(Gerar_Upload!B300,\".\",\"\"),\"-\",\"\"),\"/\",\"\"),\"erro\")","v":""},{"$f":"IFERROR(Gerar_Upload!C300,\"erro\")","v":0},{"$f":"IFERROR(Gerar_Upload!D300,\"erro\")","v":0},{"$f":"IFERROR(DATE(YEAR(Gerar_Upload!E300),MONTH(Gerar_Upload!E300),DAY(Gerar_Upload!E300)),\"erro\")","v":"00:00:00"},{"$f":"IFERROR(Gerar_Upload!F300,\"erro\")","v":0},{"$f":"IFERROR(IF(Gerar_Upload!G300<44,REPT(0,44-LEN(Gerar_Upload!G300))&Gerar_Upload!G300,Gerar_Upload!G300),\"erro\")","v":"00000000000000000000000000000000000000000000"}]
[{"$f":"IFERROR(LEFT(Gerar_Upload!A301,120),\"erro\")","v":""},{"$f":"IFERROR(SUBSTITUTE(SUBSTITUTE(SUBSTITUTE(Gerar_Upload!B301,\".\",\"\"),\"-\",\"\"),\"/\",\"\"),\"erro\")","v":""},{"$f":"IFERROR(Gerar_Upload!C301,\"erro\")","v":0},{"$f":"IFERROR(Gerar_Upload!D301,\"erro\")","v":0},{"$f":"IFERROR(DATE(YEAR(Gerar_Upload!E301),MONTH(Gerar_Upload!E301),DAY(Gerar_Upload!E301)),\"erro\")","v":"00:00:00"},{"$f":"IFERROR(Gerar_Upload!F301,\"erro\")","v":0},{"$f":"IFERROR(IF(Gerar_Upload!G301<44,REPT(0,44-LEN(Gerar_Upload!G301))&Gerar_Upload!G301,Gerar_Upload!G301),\"erro\")","v":"00000000000000000000000000000000000000000000"}]
[{"$f":"IFERROR(LEFT(Gerar_Upload!A302,120),\"erro\")","v":""},{"$f":"IFERROR(SUBSTITUTE(SUBSTITUTE(SUBSTITUTE(Gerar_Upload!B302,\".\",\"\"),\"-\",\"\"),\"/\",\"\"),\"erro\")","v":""},{"$f":"IFERROR(Gerar_Upload!C302,\"erro\")","v":0},{"$f":"IFERROR(Gerar_Upload!D302,\"erro\")","v":0},{"$f":"IFERROR(DATE(YEAR(Gerar_Upload!E302),MONTH(Gerar_Upload!E302),DAY(Gerar_Upload!E302)),\"erro\")","v":"00:00:00"},{"$f":"IFERROR(Gerar_Upload!F302,\"erro\")","v":0},{"$f":"IFERROR(IF(Gerar_Upload!G302<44,REPT(0,44-LEN(Gerar_Upload!G302))&Gerar_Upload!G302,Gerar_Upload!G302),\"erro\")","v":"00000000000000000000000000000000000000000000"}]
[{"$f":"IFERROR(LEFT(Gerar_Upload!A303,120),\"erro\")","v":""},{"$f":"IFERROR(SUBSTITUTE(SUBSTITUTE(SUBSTITUTE(Gerar_Upload!B303,\".\",\"\"),\"-\",\"\"),\"/\",\"\"),\"erro\")","v":""},{"$f":"IFERROR(Gerar_Upload!C303,\"erro\")","v":0},{"$f":"IFERROR(Gerar_Upload!D303,\"erro\")","v":0},{"$f":"IFERROR(DATE(YEAR(Gerar_Upload!E303),MONTH(Gerar_Upload!E303),DAY(Gerar_Upload!E303)),\"erro\")","v":"00:00:00"},{"$f":"IFERROR(Gerar_Upload!F303,\"erro\")","v":0},{"$f":"IFERROR(IF(Gerar_Upload!G303<44,REPT(0,44-LEN(Gerar_Upload!G303))&Gerar_Upload!G303,Gerar_Upload!G303),\"erro\")","v":"00000000000000000000000000000000000000000000"}]
[{"$f":"IFERROR(LEFT(Gerar_Upload!A304,120),\"erro\")","v":""},{"$f":"IFERROR(SUBSTITUTE(SUBSTITUTE(SUBSTITUTE(Gerar_Upload!B304,\".\",\"\"),\"-\",\"\"),\"/\",\"\"),\"erro\")","v":""},{"$f":"IFERROR(Gerar_Upload!C304,\"erro\")","v":0},{"$f":"IFERROR(Gerar_Upload!D304,\"erro\")","v":0},{"$f":"IFERROR(DATE(YEAR(Gerar_Upload!E304),MONTH(Gerar_Upload!E304),DAY(Gerar_Upload!E304)),\"erro\")","v":"00:00:00"},{"$f":"IFERROR(Gerar_Upload!F304,\"erro\")","v":0},{"$f":"IFERROR(IF(Gerar_Upload!G304<44,REPT(0,44-LEN(Gerar_Upload!G304))&Gerar_Upload!G304,Gerar_Upload!G304),\"erro\")","v":"00000000000000000000000000000000000000000000"}]
[{"$f":"IFERROR(LEFT(Gerar_Upload!A305,120),\"erro\")","v":""},{"$f":"IFERROR(SUBSTITUTE(SUBSTITUTE(SUBSTITUTE(Gerar_Upload!B305,\".\",\"\"),\"-\",\"\"),\"/\",\"\"),\"erro\")","v":""},{"$f":"IFERROR(Gerar_Upload!C305,\"erro\")","v":0},{"$f":"IFERROR(Gerar_Upload!D305,\"erro\")","v":0},{"$f":"IFERROR(DATE(YEAR(Gerar_Upload!E305),MONTH(Gerar_Upload!E305),DAY(Gerar_Upload!E305)),\"erro\")","v":"00:00:00"},{"$f":"IFERROR(Gerar_Upload!F305,\"erro\")","v":0},{"$f":"IFERROR(IF(Gerar_Upload!G305<44,REPT(0,44-LEN(Gerar_Upload!G305))&Gerar_Upload!G305,Gerar_Upload!G305),\"erro\")","v":"00000000000000000000000000000000000000000000"}]
[{"$f":"IFERROR(LEFT(Gerar_Upload!A306,120),\"erro\")","v":""},{"$f":"IFERROR(SUBSTITUTE(SUBSTITUTE(SUBSTITUTE(Gerar_Upload!B306,\".\",\"\"),\"-\",\"\"),\"/\",\"\"),\"erro\")","v":""},{"$f":"IFERROR(Gerar_Upload!C306,\"erro\")","v":0},{"$f":"IFERROR(Gerar_Upload!D306,\"erro\")","v":0},{"$f":"IFERROR(DATE(YEAR(Gerar_Upload!E306),MONTH(Gerar_Upload!E306),DAY(Gerar_Upload!E306)),\"erro\")","v":"00:00:00"},{"$f":"IFERROR(Gerar_Upload!F306,\"erro\")","v":0},{"$f":"IFERROR(IF(Gerar_Upload!G306<44,REPT(0,44-LEN(Gerar_Upload!G306))&Gerar_Upload!G306,Gerar_Upload!G306),\"erro\")","v":"00000000000000000000000000000000000000000000"}]
[{"$f":"IFERROR(LEFT(Gerar_Upload!A307,120),\"erro\")","v":""},{"$f":"IFERROR(SUBSTITUTE(SUBSTITUTE(SUBSTITUTE(Gerar_Upload!B307,\".\",\"\"),\"-\",\"\"),\"/\",\"\"),\"erro\")","v":""},{"$f":"IFERROR(Gerar_Upload!C307,\"erro\")","v":0},{"$f":"IFERROR(Gerar_Upload!D307,\"erro\")","v":0},{"$f":"IFERROR(DATE(YEAR(Gerar_Upload!E307),MONTH(Gerar_Upload!E307),DAY(Gerar_Upload!E307)),\"erro\")","v":"00:00:00"},{"$f":"IFERROR(Gerar_Upload!F307,\"erro\")","v":0},{"$f":"IFERROR(IF(Gerar_Upload!G307<44,REPT(0,44-LEN(Gerar_Upload!G307))&Gerar_Upload!G307,Gerar_Upload!G307),\"erro\")","v":"00000000000000000000000000000000000000000000"}]
[{"$f":"IFERROR(LEFT(Gerar_Upload!A308,120),\"erro\")","v":""},{"$f":"IFERROR(SUBSTITUTE(SUBSTITUTE(SUBSTITUTE(Gerar_Upload!B308,\".\",\"\"),\"-\",\"\"),\"/\",\"\"),\"erro\")","v":""},{"$f":"IFERROR(Gerar_Upload!C308,\"erro\")","v":0},{"$f":"IFERROR(Gerar_Upload!D308,\"erro\")","v":0},{"$f":"IFERROR(DATE(YEAR(Gerar_Upload!E308),MONTH(Gerar_Upload!E308),DAY(Gerar_Upload!E308)),\"erro\")","v":"00:00:00"},{"$f":"IFERROR(Gerar_Upload!F308,\"erro\")","v":0},{"$f":"IFERROR(IF(Gerar_Upload!G308<44,REPT(0,44-LEN(Gerar_Upload!G308))&Gerar_Upload!G308,Gerar_Upload!G308),\"erro\")","v":"00000000000000000000000000000000000000000000"}]
[{"$f":"IFERROR(LEFT(Gerar_Upload!A309,120),\"erro\")","v":""},{"$f":"IFERROR(SUBSTITUTE(SUBSTITUTE(SUBSTITUTE(Gerar_Upload!B309,\".\",\"\"),\"-\",\"\"),\"/\",\"\"),\"erro\")","v":""},{"$f":"IFERROR(Gerar_Upload!C309,\"erro\")","v":0},{"$f":"IFERROR(Gerar_Upload!D309,\"erro\")","v":0},{"$f":"IFERROR(DATE(YEAR(Gerar_Upload!E309),MONTH(Gerar_Upload!E309),DAY(Gerar_Upload!E309)),\"erro\")","v":"00:00:00"},{"$f":"IFERROR(Gerar_Upload!F309,\"erro\")","v":0},{"$f":"IFERROR(IF(Gerar_Upload!G309<44,REPT(0,44-LEN(Gerar_Upload!G309))&Gerar_Upload!G309,Gerar_Upload!G309),\"erro\")","v":"00000000000000000000000000000000000000000000"}]
[{"$f":"IFERROR(LEFT(Gerar_Upload!A310,120),\"erro\")","v":""},{"$f":"IFERROR(SUBSTITUTE(SUBSTITUTE(SUBSTITUTE(Gerar_Upload!B310,\".\",\"\"),\"-\",\"\"),\"/\",\"\"),\"erro\")","v":""},{"$f":"IFERROR(Gerar_Upload!C310,\"erro\")","v":0},{"$f":"IFERROR(Gerar_Upload!D310,\"erro\")","v":0},{"$f":"IFERROR(DATE(YEAR(Gerar_Upload!E310),MONTH(Gerar_Upload!E310),DAY(Gerar_Upload!E310)),\"erro\")","v":"00:00:00"},{"$f":"IFERROR(Gerar_Upload!F310,\"erro\")","v":0},{"$f":"IFERROR(IF(Gerar_Upload!G310<44,REPT(0,44-LEN(Gerar_Upload!G310))&Gerar_Upload!G310,Gerar_Upload!G310),\"erro\")","v":"00000000000000000000000000000000000000000000"}]
[{"$f":"IFERROR(LEFT(Gerar_Upload!A311,120),\"erro\")","v":""},{"$f":"IFERROR(SUBSTITUTE(SUBSTITUTE(SUBSTITUTE(Gerar_Upload!B311,\".\",\"\"),\"-\",\"\"),\"/\",\"\"),\"erro\")","v":""},{"$f":"IFERROR(Gerar_Upload!C311,\"erro\")","v":0},{"$f":"IFERROR(Gerar_Upload!D311,\"erro\")","v":0},{"$f":"IFERROR(DATE(YEAR(Gerar_Upload!E311),MONTH(Gerar_Upload!E311),DAY(Gerar_Upload!E311)),\"erro\")","v":"00:00:00"},{"$f":"IFERROR(Gerar_Upload!F311,\"erro\")","v":0},{"$f":"IFERROR(IF(Gerar_Upload!G311<44,REPT(0,44-LEN(Gerar_Upload!G311))&Gerar_Upload!G311,Gerar_Upload!G311),\"erro\")","v":"00000000000000000000000000000000000000000000"}]
[{"$f":"IFERROR(LEFT(Gerar_Upload!A312,120),\"erro\")","v":""},{"$f":"IFERROR(SUBSTITUTE(SUBSTITUTE(SUBSTITUTE(Gerar_Upload!B312,\".\",\"\"),\"-\",\"\"),\"/\",\"\"),\"erro\")","v":""},{"$f":"IFERROR(Gerar_Upload!C312,\"erro\")","v":0},{"$f":"IFERROR(Gerar_Upload!D312,\"erro\")","v":0},{"$f":"IFERROR(DATE(YEAR(Gerar_Upload!E312),MONTH(Gerar_Upload!E312),DAY(Gerar_Upload!E312)),\"erro\")","v":"00:00:00"},{"$f":"IFERROR(Gerar_Upload!F312,\"erro\")","v":0},{"$f":"IFERROR(IF(Gerar_Upload!G312<44,REPT(0,44-LEN(Gerar_Upload!G312))&Gerar_Upload!G312,Gerar_Upload!G312),\"erro\")","v":"00000000000000000000000000000000000000000000"}]
[{"$f":"IFERROR(LEFT(Gerar_Upload!A313,120),\"erro\")","v":""},{"$f":"IFERROR(SUBSTITUTE(SUBSTITUTE(SUBSTITUTE(Gerar_Upload!B313,\".\",\"\"),\"-\",\"\"),\"/\",\"\"),\"erro\")","v":""},{"$f":"IFERROR(Gerar_Upload!C313,\"erro\")","v":0},{"$f":"IFERROR(Gerar_Upload!D313,\"erro\")","v":0},{"$f":"IFERROR(DATE(YEAR(Gerar_Upload!E313),MONTH(Gerar_Upload!E313),DAY(Gerar_Upload!E313)),\"erro\")","v":"00:00:00"},{"$f":"IFERROR(Gerar_Upload!F313,\"erro\")","v":0},{"$f":"IFERROR(IF(Gerar_Upload!G313<44,REPT(0,44-LEN(Gerar_Upload!G313))&Gerar_Upload!G313,Gerar_Upload!G313),\"erro\")","v":"00000000000000000000000000000000000000000000"}]
[{"$f":"IFERROR(LEFT(Gerar_Upload!A314,120),\"erro\")","v":""},{"$f":"IFERROR(SUBSTITUTE(SUBSTITUTE(SUBSTITUTE(Gerar_Upload!B314,\".\",\"\"),\"-\",\"\"),\"/\",\"\"),\"erro\")","v":""},{"$f":"IFERROR(Gerar_Upload!C314,\"erro\")","v":0},{"$f":"IFERROR(Gerar_Upload!D314,\"erro\")","v":0},{"$f":"IFERROR(DATE(YEAR(Gerar_Upload!E314),MONTH(Gerar_Upload!E314),DAY(Gerar_Upload!E314)),\"erro\")","v":"00:00:00"},{"$f":"IFERROR(Gerar_Upload!F314,\"erro\")","v":0},{"$f":"IFERROR(IF(Gerar_Upload!G314<44,REPT(0,44-LEN(Gerar_Upload!G314))&Gerar_Upload!G314,Gerar_Upload!G314),\"erro\")","v":"00000000000000000000000000000000000000000000"}]
[{"$f":"IFERROR(LEFT(Gerar_Upload!A315,120),\"erro\")","v":""},{"$f":"IFERROR(SUBSTITUTE(SUBSTITUTE(SUBSTITUTE(Gerar_Upload!B315,\".\",\"\"),\"-\",\"\"),\"/\",\"\"),\"erro\")","v":""},{"$f":"IFERROR(Gerar_Upload!C315,\"erro\")","v":0},{"$f":"IFERROR(Gerar_Upload!D315,\"erro\")","v":0},{"$f":"IFERROR(DATE(YEAR(Gerar_Upload!E315),MONTH(Gerar_Upload!E315),DAY(Gerar_Upload!E315)),\"erro\")","v":"00:00:00"},{"$f":"IFERROR(Gerar_Upload!F315,\"erro\")","v":0},{"$f":"IFERROR(IF(Gerar_Upload!G315<44,REPT(0,44-LEN(Gerar_Upload!G315))&Gerar_Upload!G315,Gerar_Upload!G315),\"erro\")","v":"00000000000000000000000000000000000000000000"}]
[{"$f":"IFERROR(LEFT(Gerar_Upload!A316,120),\"erro\")","v":""},{"$f":"IFERROR(SUBSTITUTE(SUBSTITUTE(SUBSTITUTE(Gerar_Upload!B316,\".\",\"\"),\"-\",\"\"),\"/\",\"\"),\"erro\")","v":""},{"$f":"IFERROR(Gerar_Upload!C316,\"erro\")","v":0},{"$f":"IFERROR(Gerar_Upload!D316,\"erro\")","v":0},{"$f":"IFERROR(DATE(YEAR(Gerar_Upload!E316),MONTH(Gerar_Upload!E316),DAY(Gerar_Upload!E316)),\"erro\")","v":"00:00:00"},{"$f":"IFERROR(Gerar_Upload!F316,\"erro\")","v":0},{"$f":"IFERROR(IF(Gerar_Upload!G316<44,REPT(0,44-LEN(Gerar_Upload!G316))&Gerar_Upload!G316,Gerar_Upload!G316),\"erro\")","v":"00000000000000000000000000000000000000000000"}]
[{"$f":"IFERROR(LEFT(Gerar_Upload!A317,120),\"erro\")","v":""},{"$f":"IFERROR(SUBSTITUTE(SUBSTITUTE(SUBSTITUTE(Gerar_Upload!B317,\".\",\"\"),\"-\",\"\"),\"/\",\"\"),\"erro\")","v":""},{"$f":"IFERROR(Gerar_Upload!C317,\"erro\")","v":0},{"$f":"IFERROR(Gerar_Upload!D317,\"erro\")","v":0},{"$f":"IFERROR(DATE(YEAR(Gerar_Upload!E317),MONTH(Gerar_Upload!E317),DAY(Gerar_Upload!E317)),\"erro\")","v":"00:00:00"},{"$f":"IFERROR(Gerar_Upload!F317,\"erro\")","v":0},{"$f":"IFERROR(IF(Gerar_Upload!G317<44,REPT(0,44-LEN(Gerar_Upload!G317))&Gerar_Upload!G317,Gerar_Upload!G317),\"erro\")","v":"00000000000000000000000000000000000000000000"}]
[{"$f":"IFERROR(LEFT(Gerar_Upload!A318,120),\"erro\")","v":""},{"$f":"IFERROR(SUBSTITUTE(SUBSTITUTE(SUBSTITUTE(Gerar_Upload!B318,\".\",\"\"),\"-\",\"\"),\"/\",\"\"),\"erro\")","v":""},{"$f":"IFERROR(Gerar_Upload!C318,\"erro\")","v":0},{"$f":"IFERROR(Gerar_Upload!D318,\"erro\")","v":0},{"$f":"IFERROR(DATE(YEAR(Gerar_Upload!E318),MONTH(Gerar_Upload!E318),DAY(Gerar_Upload!E318)),\"erro\")","v":"00:00:00"},{"$f":"IFERROR(Gerar_Upload!F318,\"erro\")","v":0},{"$f":"IFERROR(IF(Gerar_Upload!G318<44,REPT(0,44-LEN(Gerar_Upload!G318))&Gerar_Upload!G318,Gerar_Upload!G318),\"erro\")","v":"00000000000000000000000000000000000000000000"}]
[{"$f":"IFERROR(LEFT(Gerar_Upload!A319,120),\"erro\")","v":""},{"$f":"IFERROR(SUBSTITUTE(SUBSTITUTE(SUBSTITUTE(Gerar_Upload!B319,\".\",\"\"),\"-\",\"\"),\"/\",\"\"),\"erro\")","v":""},{"$f":"IFERROR(Gerar_Upload!C319,\"erro\")","v":0},{"$f":"IFERROR(Gerar_Upload!D319,\"erro\")","v":0},{"$f":"IFERROR(DATE(YEAR(Gerar_Upload!E319),MONTH(Gerar_Upload!E319),DAY(Gerar_Upload!E319)),\"erro\")","v":"00:00:00"},{"$f":"IFERROR(Gerar_Upload!F319,\"erro\")","v":0},{"$f":"IFERROR(IF(Gerar_Upload!G319<44,REPT(0,44-LEN(Gerar_Upload!G319))&Gerar_Upload!G319,Gerar_Upload!G319),\"erro\")","v":"00000000000000000000000000000000000000000000"}]
[{"$f":"IFERROR(LEFT(Gerar_Upload!A320,120),\"erro\")","v":""},{"$f":"IFERROR(SUBSTITUTE(SUBSTITUTE(SUBSTITUTE(Gerar_Upload!B320,\".\",\"\"),\"-\",\"\"),\"/\",\"\"),\"erro\")","v":""},{"$f":"IFERROR(Gerar_Upload!C320,\"erro\")","v":0},{"$f":"IFERROR(Gerar_Upload!D320,\"erro\")","v":0},{"$f":"IFERROR(DATE(YEAR(Gerar_Upload!E320),MONTH(Gerar_Upload!E320),DAY(Gerar_Upload!E320)),\"erro\")","v":"00:00:00"},{"$f":"IFERROR(Gerar_Upload!F320,\"erro\")","v":0},{"$f":"IFERROR(IF(Gerar_Upload!G320<44,REPT(0,44-LEN(Gerar_Upload!G320))&Gerar_Upload!G320,Gerar_Upload!G320),\"erro\")","v":"00000000000000000000000000000000000000000000"}]
[{"$f":"IFERROR(LEFT(Gerar_Upload!A321,120),\"erro\")","v":""},{"$f":"IFERROR(SUBSTITUTE(SUBSTITUTE(SUBSTITUTE(Gerar_Upload!B321,\".\",\"\"),\"-\",\"\"),\"/\",\"\"),\"erro\")","v":""},{"$f":"IFERROR(Gerar_Upload!C321,\"erro\")","v":0},{"$f":"IFERROR(Gerar_Upload!D321,\"erro\")","v":0},{"$f":"IFERROR(DATE(YEAR(Gerar_Upload!E321),MONTH(Gerar_Upload!E321),DAY(Gerar_Upload!E321)),\"erro\")","v":"00:00:00"},{"$f":"IFERROR(Gerar_Upload!F321,\"erro\")","v":0},{"$f":"IFERROR(IF(Gerar_Upload!G321<44,REPT(0,44-LEN(Gerar_Upload!G321))&Gerar_Upload!G321,Gerar_Upload!G321),\"erro\")","v":"00000000000000000000000000000000000000000000"}]
[{"$f":"IFERROR(LEFT(Gerar_Upload!A322,120),\"erro\")","v":""},{"$f":"IFERROR(SUBSTITUTE(SUBSTITUTE(SUBSTITUTE(Gerar_Upload!B322,\".\",\"\"),\"-\",\"\"),\"/\",\"\"),\"erro\")","v":""},{"$f":"IFERROR(Gerar_Upload!C322,\"erro\")","v":0},{"$f":"IFERROR(Gerar_Upload!D322,\"erro\")","v":0},{"$f":"IFERROR(DATE(YEAR(Gerar_Upload!E322),MONTH(Gerar_Upload!E322),DAY(Gerar_Upload!E322)),\"erro\")","v":"00:00:00"},{"$f":"IFERROR(Gerar_Upload!F322,\"erro\")","v":0},{"$f":"IFERROR(IF(Gerar_Upload!G322<44,REPT(0,44-LEN(Gerar_Upload!G322))&Gerar_Upload!G322,Gerar_Upload!G322),\"erro\")","v":"00000000000000000000000000000000000000000000"}]
[{"$f":"IFERROR(LEFT(Gerar_Upload!A323,120),\"erro\")","v":""},{"$f":"IFERROR(SUBSTITUTE(SUBSTITUTE(SUBSTITUTE(Gerar_Upload!B323,\".\",\"\"),\"-\",\"\"),\"/\",\"\"),\"erro\")","v":""},{"$f":"IFERROR(Gerar_Upload!C323,\"erro\")","v":0},{"$f":"IFERROR(Gerar_Upload!D323,\"erro\")","v":0},{"$f":"IFERROR(DATE(YEAR(Gerar_Upload!E323),MONTH(Gerar_Upload!E323),DAY(Gerar_Upload!E323)),\"erro\")","v":"00:00:00"},{"$f":"IFERROR(Gerar_Upload!F323,\"erro\")","v":0},{"$f":"IFERROR(IF(Gerar_Upload!G323<44,REPT(0,44-LEN(Gerar_Upload!G323))&Gerar_Upload!G323,Gerar_Upload!G323),\"erro\")","v":"00000000000000000000000000000000000000000000"}]
[{"$f":"IFERROR(LEFT(Gerar_Upload!A324,120),\"erro\")","v":""},{"$f":"IFERROR(SUBSTITUTE(SUBSTITUTE(SUBSTITUTE(Gerar_Upload!B324,\".\",\"\"),\"-\",\"\"),\"/\",\"\"),\"erro\")","v":""},{"$f":"IFERROR(Gerar_Upload!C324,\"erro\")","v":0},{"$f":"IFERROR(Gerar_Upload!D324,\"erro\")","v":0},{"$f":"IFERROR(DATE(YEAR(Gerar_Upload!E324),MONTH(Gerar_Upload!E324),DAY(Gerar_Upload!E324)),\"erro\")","v":"00:00:00"},{"$f":"IFERROR(Gerar_Upload!F324,\"erro\")","v":0},{"$f":"IFERROR(IF(Gerar_Upload!G324<44,REPT(0,44-LEN(Gerar_Upload!G324))&Gerar_Upload!G324,Gerar_Upload!G324),\"erro\")","v":"00000000000000000000000000000000000000000000"}]
[{"$f":"IFERROR(LEFT(Gerar_Upload!A325,120),\"erro\")","v":""},{"$f":"IFERROR(SUBSTITUTE(SUBSTITUTE(SUBSTITUTE(Gerar_Upload!B325,\".\",\"\"),\"-\",\"\"),\"/\",\"\"),\"erro\")","v":""},{"$f":"IFERROR(Gerar_Upload!C325,\"erro\")","v":0},{"$f":"IFERROR(Gerar_Upload!D325,\"erro\")","v":0},{"$f":"IFERROR(DATE(YEAR(Gerar_Upload!E325),MONTH(Gerar_Upload!E325),DAY(Gerar_Upload!E325)),\"erro\")","v":"00:00:00"},{"$f":"IFERROR(Gerar_Upload!F325,\"erro\")","v":0},{"$f":"IFERROR(IF(Gerar_Upload!G325<44,REPT(0,44-LEN(Gerar_Upload!G325))&Gerar_Upload!G325,Gerar_Upload!G325),\"erro\")","v":"00000000000000000000000000000000000000000000"}]
[{"$f":"IFERROR(LEFT(Gerar_Upload!A326,120),\"erro\")","v":""},{"$f":"IFERROR(SUBSTITUTE(SUBSTITUTE(SUBSTITUTE(Gerar_Upload!B326,\".\",\"\"),\"-\",\"\"),\"/\",\"\"),\"erro\")","v":""},{"$f":"IFERROR(Gerar_Upload!C326,\"erro\")","v":0},{"$f":"IFERROR(Gerar_Upload!D326,\"erro\")","v":0},{"$f":"IFERROR(DATE(YEAR(Gerar_Upload!E326),MONTH(Gerar_Upload!E326),DAY(Gerar_Upload!E326)),\"erro\")","v":"00:00:00"},{"$f":"IFERROR(Gerar_Upload!F326,\"erro\")","v":0},{"$f":"IFERROR(IF(Gerar_Upload!G326<44,REPT(0,44-LEN(Gerar_Upload!G326))&Gerar_Upload!G326,Gerar_Upload!G326),\"erro\")","v":"00000000000000000000000000000000000000000000"}]
[{"$f":"IFERROR(LEFT(Gerar_Upload!A327,120),\"erro\")","v":""},{"$f":"IFERROR(SUBSTITUTE(SUBSTITUTE(SUBSTITUTE(Gerar_Upload!B327,\".\",\"\"),\"-\",\"\"),\"/\",\"\"),\"erro\")","v":""},{"$f":"IFERROR(Gerar_Upload!C327,\"erro\")","v":0},{"$f":"IFERROR(Gerar_Upload!D327,\"erro\")","v":0},{"$f":"IFERROR(DATE(YEAR(Gerar_Upload!E327),MONTH(Gerar_Upload!E327),DAY(Gerar_Upload!E327)),\"erro\")","v":"00:00:00"},{"$f":"IFERROR(Gerar_Upload!F327,\"erro\")","v":0},{"$f":"IFERROR(IF(Gerar_Upload!G327<44,REPT(0,44-LEN(Gerar_Upload!G327))&Gerar_Upload!G327,Gerar_Upload!G327),\"erro\")","v":"00000000000000000000000000000000000000000000"}]
[{"$f":"IFERROR(LEFT(Gerar_Upload!A328,120),\"erro\")","v":""},{"$f":"IFERROR(SUBSTITUTE(SUBSTITUTE(SUBSTITUTE(Gerar_Upload!B328,\".\",\"\"),\"-\",\"\"),\"/\",\"\"),\"erro\")","v":""},{"$f":"IFERROR(Gerar_Upload!C328,\"erro\")","v":0},{"$f":"IFERROR(Gerar_Upload!D328,\"erro\")","v":0},{"$f":"IFERROR(DATE(YEAR(Gerar_Upload!E328),MONTH(Gerar_Upload!E328),DAY(Gerar_Upload!E328)),\"erro\")","v":"00:00:00"},{"$f":"IFERROR(Gerar_Upload!F328,\"erro\")","v":0},{"$f":"IFERROR(IF(Gerar_Upload!G328<44,REPT(0,44-LEN(Gerar_Upload!G328))&Gerar_Upload!G328,Gerar_Upload!G328),\"erro\")","v":"00000000000000000000000000000000000000000000"}]
[{"$f":"IFERROR(LEFT(Gerar_Upload!A329,120),\"erro\")","v":""},{"$f":"IFERROR(SUBSTITUTE(SUBSTITUTE(SUBSTITUTE(Gerar_Upload!B329,\".\",\"\"),\"-\",\"\"),\"/\",\"\"),\"erro\")","v":""},{"$f":"IFERROR(Gerar_Upload!C329,\"erro\")","v":0},{"$f":"IFERROR(Gerar_Upload!D329,\"erro\")","v":0},{"$f":"IFERROR(DATE(YEAR(Gerar_Upload!E329),MONTH(Gerar_Upload!E329),DAY(Gerar_Upload!E329)),\"erro\")","v":"00:00:00"},{"$f":"IFERROR(Gerar_Upload!F329,\"erro\")","v":0},{"$f":"IFERROR(IF(Gerar_Upload!G329<44,REPT(0,44-LEN(Gerar_Upload!G329))&Gerar_Upload!G329,Gerar_Upload!G329),\"erro\")","v":"00000000000000000000000000000000000000000000"}]
[{"$f":"IFERROR(LEFT(Gerar_Upload!A330,120),\"erro\")","v":""},{"$f":"IFERROR(SUBSTITUTE(SUBSTITUTE(SUBSTITUTE(Gerar_Upload!B330,\".\",\"\"),\"-\",\"\"),\"/\",\"\"),\"erro\")","v":""},{"$f":"IFERROR(Gerar_Upload!C330,\"erro\")","v":0},{"$f":"IFERROR(Gerar_Upload!D330,\"erro\")","v":0},{"$f":"IFERROR(DATE(YEAR(Gerar_Upload!E330),MONTH(Gerar_Upload!E330),DAY(Gerar_Upload!E330)),\"erro\")","v":"00:00:00"},{"$f":"IFERROR(Gerar_Upload!F330,\"erro\")","v":0},{"$f":"IFERROR(IF(Gerar_Upload!G330<44,REPT(0,44-LEN(Gerar_Upload!G330))&Gerar_Upload!G330,Gerar_Upload!G330),\"erro\")","v":"00000000000000000000000000000000000000000000"}]
[{"$f":"IFERROR(LEFT(Gerar_Upload!A331,120),\"erro\")","v":""},{"$f":"IFERROR(SUBSTITUTE(SUBSTITUTE(SUBSTITUTE(Gerar_Upload!B331,\".\",\"\"),\"-\",\"\"),\"/\",\"\"),\"erro\")","v":""},{"$f":"IFERROR(Gerar_Upload!C331,\"erro\")","v":0},{"$f":"IFERROR(Gerar_Upload!D331,\"erro\")","v":0},{"$f":"IFERROR(DATE(YEAR(Gerar_Upload!E331),MONTH(Gerar_Upload!E331),DAY(Gerar_Upload!E331)),\"erro\")","v":"00:00:00"},{"$f":"IFERROR(Gerar_Upload!F331,\"erro\")","v":0},{"$f":"IFERROR(IF(Gerar_Upload!G331<44,REPT(0,44-LEN(Gerar_Upload!G331))&Gerar_Upload!G331,Gerar_Upload!G331),\"erro\")","v":"00000000000000000000000000000000000000000000"}]
[{"$f":"IFERROR(LEFT(Gerar_Upload!A332,120),\"erro\")","v":""},{"$f":"IFERROR(SUBSTITUTE(SUBSTITUTE(SUBSTITUTE(Gerar_Upload!B332,\".\",\"\"),\"-\",\"\"),\"/\",\"\"),\"erro\")","v":""},{"$f":"IFERROR(Gerar_Upload!C332,\"erro\")","v":0},{"$f":"IFERROR(Gerar_Upload!D332,\"erro\")","v":0},{"$f":"IFERROR(DATE(YEAR(Gerar_Upload!E332),MONTH(Gerar_Upload!E332),DAY(Gerar_Upload!E332)),\"erro\")","v":"00:00:00"},{"$f":"IFERROR(Gerar_Upload!F332,\"erro\")","v":0},{"$f":"IFERROR(IF(Gerar_Upload!G332<44,REPT(0,44-LEN(Gerar_Upload!G332))&Gerar_Upload!G332,Gerar_Upload!G332),\"erro\")","v":"00000000000000000000000000000000000000000000"}]
[{"$f":"IFERROR(LEFT(Gerar_Upload!A333,120),\"erro\")","v":""},{"$f":"IFERROR(SUBSTITUTE(SUBSTITUTE(SUBSTITUTE(Gerar_Upload!B333,\".\",\"\"),\"-\",\"\"),\"/\",\"\"),\"erro\")","v":""},{"$f":"IFERROR(Gerar_Upload!C333,\"erro\")","v":0},{"$f":"IFERROR(Gerar_Upload!D333,\"erro\")","v":0},{"$f":"IFERROR(DATE(YEAR(Gerar_Upload!E333),MONTH(Gerar_Upload!E333),DAY(Gerar_Upload!E333)),\"erro\")","v":"00:00:00"},{"$f":"IFERROR(Gerar_Upload!F333,\"erro\")","v":0},{"$f":"IFERROR(IF(Gerar_Upload!G333<44,REPT(0,44-LEN(Gerar_Upload!G333))&Gerar_Upload!G333,Gerar_Upload!G333),\"erro\")","v":"00000000000000000000000000000000000000000000"}]
[{"$f":"IFERROR(LEFT(Gerar_Upload!A334,120),\"erro\")","v":""},{"$f":"IFERROR(SUBSTITUTE(SUBSTITUTE(SUBSTITUTE(Gerar_Upload!B334,\".\",\"\"),\"-\",\"\"),\"/\",\"\"),\"erro\")","v":""},{"$f":"IFERROR(Gerar_Upload!C334,\"erro\")","v":0},{"$f":"IFERROR(Gerar_Upload!D334,\"erro\")","v":0},{"$f":"IFERROR(DATE(YEAR(Gerar_Upload!E334),MONTH(Gerar_Upload!E334),DAY(Gerar_Upload!E334)),\"erro\")","v":"00:00:00"},{"$f":"IFERROR(Gerar_Upload!F334,\"erro\")","v":0},{"$f":"IFERROR(IF(Gerar_Upload!G334<44,REPT(0,44-LEN(Gerar_Upload!G334))&Gerar_Upload!G334,Gerar_Upload!G334),\"erro\")","v":"00000000000000000000000000000000000000000000"}]
[{"$f":"IFERROR(LEFT(Gerar_Upload!A335,120),\"erro\")","v":""},{"$f":"IFERROR(SUBSTITUTE(SUBSTITUTE(SUBSTITUTE(Gerar_Upload!B335,\".\",\"\"),\"-\",\"\"),\"/\",\"\"),\"erro\")","v":""},{"$f":"IFERROR(Gerar_Upload!C335,\"erro\")","v":0},{"$f":"IFERROR(Gerar_Upload!D335,\"erro\")","v":0},{"$f":"IFERROR(DATE(YEAR(Gerar_Upload!E335),MONTH(Gerar_Upload!E335),DAY(Gerar_Upload!E335)),\"erro\")","v":"00:00:00"},{"$f":"IFERROR(Gerar_Upload!F335,\"erro\")","v":0},{"$f":"IFERROR(IF(Gerar_Upload!G335<44,REPT(0,44-LEN(Gerar_Upload!G335))&Gerar_Upload!G335,Gerar_Upload!G335),\"erro\")","v":"00000000000000000000000000000000000000000000"}]
[{"$f":"IFERROR(LEFT(Gerar_Upload!A336,120),\"erro\")","v":""},{"$f":"IFERROR(SUBSTITUTE(SUBSTITUTE(SUBSTITUTE(Gerar_Upload!B336,\".\",\"\"),\"-\",\"\"),\"/\",\"\"),\"erro\")","v":""},{"$f":"IFERROR(Gerar_Upload!C336,\"erro\")","v":0},{"$f":"IFERROR(Gerar_Upload!D336,\"erro\")","v":0},{"$f":"IFERROR(DATE(YEAR(Gerar_Upload!E336),MONTH(Gerar_Upload!E336),DAY(Gerar_Upload!E336)),\"erro\")","v":"00:00:00"},{"$f":"IFERROR(Gerar_Upload!F336,\"erro\")","v":0},{"$f":"IFERROR(IF(Gerar_Upload!G336<44,REPT(0,44-LEN(Gerar_Upload!G336))&Gerar_Upload!G336,Gerar_Upload!G336),\"erro\")","v":"00000000000000000000000000000000000000000000"}]
[{"$f":"IFERROR(LEFT(Gerar_Upload!A337,120),\"erro\")","v":""},{"$f":"IFERROR(SUBSTITUTE(SUBSTITUTE(SUBSTITUTE(Gerar_Upload!B337,\".\",\"\"),\"-\",\"\"),\"/\",\"\"),\"erro\")","v":""},{"$f":"IFERROR(Gerar_Upload!C337,\"erro\")","v":0},{"$f":"IFERROR(Gerar_Upload!D337,\"erro\")","v":0},{"$f":"IFERROR(DATE(YEAR(Gerar_Upload!E337),MONTH(Gerar_Upload!E337),DAY(Gerar_Upload!E337)),\"erro\")","v":"00:00:00"},{"$f":"IFERROR(Gerar_Upload!F337,\"erro\")","v":0},{"$f":"IFERROR(IF(Gerar_Upload!G337<44,REPT(0,44-LEN(Gerar_Upload!G337))&Gerar_Upload!G337,Gerar_Upload!G337),\"erro\")","v":"00000000000000000000000000000000000000000000"}]
[{"$f":"IFERROR(LEFT(Gerar_Upload!A338,120),\"erro\")","v":""},{"$f":"IFERROR(SUBSTITUTE(SUBSTITUTE(SUBSTITUTE(Gerar_Upload!B338,\".\",\"\"),\"-\",\"\"),\"/\",\"\"),\"erro\")","v":""},{"$f":"IFERROR(Gerar_Upload!C338,\"erro\")","v":0},{"$f":"IFERROR(Gerar_Upload!D338,\"erro\")","v":0},{"$f":"IFERROR(DATE(YEAR(Gerar_Upload!E338),MONTH(Gerar_Upload!E338),DAY(Gerar_Upload!E338)),\"erro\")","v":"00:00:00"},{"$f":"IFERROR(Gerar_Upload!F338,\"erro\")","v":0},{"$f":"IFERROR(IF(Gerar_Upload!G338<44,REPT(0,44-LEN(Gerar_Upload!G338))&Gerar_Upload!G338,Gerar_Upload!G338),\"erro\")","v":"00000000000000000000000000000000000000000000"}]
[{"$f":"IFERROR(LEFT(Gerar_Upload!A339,120),\"erro\")","v":""},{"$f":"IFERROR(SUBSTITUTE(SUBSTITUTE(SUBSTITUTE(Gerar_Upload!B339,\".\",\"\"),\"-\",\"\"),\"/\",\"\"),\"erro\")","v":""},{"$f":"IFERROR(Gerar_Upload!C339,\"erro\")","v":0},{"$f":"IFERROR(Gerar_Upload!D339,\"erro\")","v":0},{"$f":"IFERROR(DATE(YEAR(Gerar_Upload!E339),MONTH(Gerar_Upload!E339),DAY(Gerar_Upload!E339)),\"erro\")","v":"00:00:00"},{"$f":"IFERROR(Gerar_Upload!F339,\"erro\")","v":0},{"$f":"IFERROR(IF(Gerar_Upload!G339<44,REPT(0,44-LEN(Gerar_Upload!G339))&Gerar_Upload!G339,Gerar_Upload!G339),\"erro\")","v":"00000000000000000000000000000000000000000000"}]
[{"$f":"IFERROR(LEFT(Gerar_Upload!A340,120),\"erro\")","v":""},{"$f":"IFERROR(SUBSTITUTE(SUBSTITUTE(SUBSTITUTE(Gerar_Upload!B340,\".\",\"\"),\"-\",\"\"),\"/\",\"\"),\"erro\")","v":""},{"$f":"IFERROR(Gerar_Upload!C340,\"erro\")","v":0},{"$f":"IFERROR(Gerar_Upload!D340,\"erro\")","v":0},{"$f":"IFERROR(DATE(YEAR(Gerar_Upload!E340),MONTH(Gerar_Upload!E340),DAY(Gerar_Upload!E340)),\"erro\")","v":"00:00:00"},{"$f":"IFERROR(Gerar_Upload!F340,\"erro\")","v":0},{"$f":"IFERROR(IF(Gerar_Upload!G340<44,REPT(0,44-LEN(Gerar_Upload!G340))&Gerar_Upload!G340,Gerar_Upload!G340),\"erro\")","v":"00000000000000000000000000000000000000000000"}]
[{"$f":"IFERROR(LEFT(Gerar_Upload!A341,120),\"erro\")","v":""},{"$f":"IFERROR(SUBSTITUTE(SUBSTITUTE(SUBSTITUTE(Gerar_Upload!B341,\".\",\"\"),\"-\",\"\"),\"/\",\"\"),\"erro\")","v":""},{"$f":"IFERROR(Gerar_Upload!C341,\"erro\")","v":0},{"$f":"IFERROR(Gerar_Upload!D341,\"erro\")","v":0},{"$f":"IFERROR(DATE(YEAR(Gerar_Upload!E341),MONTH(Gerar_Upload!E341),DAY(Gerar_Upload!E341)),\"erro\")","v":"00:00:00"},{"$f":"IFERROR(Gerar_Upload!F341,\"erro\")","v":0},{"$f":"IFERROR(IF(Gerar_Upload!G341<44,REPT(0,44-LEN(Gerar_Upload!G341))&Gerar_Upload!G341,Gerar_Upload!G341),\"erro\")","v":"00000000000000000000000000000000000000000000"}]
[{"$f":"IFERROR(LEFT(Gerar_Upload!A342,120),\"erro\")","v":""},{"$f":"IFERROR(SUBSTITUTE(SUBSTITUTE(SUBSTITUTE(Gerar_Upload!B342,\".\",\"\"),\"-\",\"\"),\"/\",\"\"),\"erro\")","v":""},{"$f":"IFERROR(Gerar_Upload!C342,\"erro\")","v":0},{"$f":"IFERROR(Gerar_Upload!D342,\"erro\")","v":0},{"$f":"IFERROR(DATE(YEAR(Gerar_Upload!E342),MONTH(Gerar_Upload!E342),DAY(Gerar_Upload!E342)),\"erro\")","v":"00:00:00"},{"$f":"IFERROR(Gerar_Upload!F342,\"erro\")","v":0},{"$f":"IFERROR(IF(Gerar_Upload!G342<44,REPT(0,44-LEN(Gerar_Upload!G342))&Gerar_Upload!G342,Gerar_Upload!G342),\"erro\")","v":"00000000000000000000000000000000000000000000"}]
[{"$f":"IFERROR(LEFT(Gerar_Upload!A343,120),\"erro\")","v":""},{"$f":"IFERROR(SUBSTITUTE(SUBSTITUTE(SUBSTITUTE(Gerar_Upload!B343,\".\",\"\"),\"-\",\"\"),\"/\",\"\"),\"erro\")","v":""},{"$f":"IFERROR(Gerar_Upload!C343,\"erro\")","v":0},{"$f":"IFERROR(Gerar_Upload!D343,\"erro\")","v":0},{"$f":"IFERROR(DATE(YEAR(Gerar_Upload!E343),MONTH(Gerar_Upload!E343),DAY(Gerar_Upload!E343)),\"erro\")","v":"00:00:00"},{"$f":"IFERROR(Gerar_Upload!F343,\"erro\")","v":0},{"$f":"IFERROR(IF(Gerar_Upload!G343<44,REPT(0,44-LEN(Gerar_Upload!G343))&Gerar_Upload!G343,Gerar_Upload!G343),\"erro\")","v":"00000000000000000000000000000000000000000000"}]
[{"$f":"IFERROR(LEFT(Gerar_Upload!A344,120),\"erro\")","v":""},{"$f":"IFERROR(SUBSTITUTE(SUBSTITUTE(SUBSTITUTE(Gerar_Upload!B344,\".\",\"\"),\"-\",\"\"),\"/\",\"\"),\"erro\")","v":""},{"$f":"IFERROR(Gerar_Upload!C344,\"erro\")","v":0},{"$f":"IFERROR(Gerar_Upload!D344,\"erro\")","v":0},{"$f":"IFERROR(DATE(YEAR(Gerar_Upload!E344),MONTH(Gerar_Upload!E344),DAY(Gerar_Upload!E344)),\"erro\")","v":"00:00:00"},{"$f":"IFERROR(Gerar_Upload!F344,\"erro\")","v":0},{"$f":"IFERROR(IF(Gerar_Upload!G344<44,REPT(0,44-LEN(Gerar_Upload!G344))&Gerar_Upload!G344,Gerar_Upload!G344),\"erro\")","v":"00000000000000000000000000000000000000000000"}]
[{"$f":"IFERROR(LEFT(Gerar_Upload!A345,120),\"erro\")","v":""},{"$f":"IFERROR(SUBSTITUTE(SUBSTITUTE(SUBSTITUTE(Gerar_Upload!B345,\".\",\"\"),\"-\",\"\"),\"/\",\"\"),\"erro\")","v":""},{"$f":"IFERROR(Gerar_Upload!C345,\"erro\")","v":0},{"$f":"IFERROR(Gerar_Upload!D345,\"erro\")","v":0},{"$f":"IFERROR(DATE(YEAR(Gerar_Upload!E345),MONTH(Gerar_Upload!E345),DAY(Gerar_Upload!E345)),\"erro\")","v":"00:00:00"},{"$f":"IFERROR(Gerar_Upload!F345,\"erro\")","v":0},{"$f":"IFERROR(IF(Gerar_Upload!G345<44,REPT(0,44-LEN(Gerar_Upload!G345))&Gerar_Upload!G345,Gerar_Upload!G345),\"erro\")","v":"00000000000000000000000000000000000000000000"}]
[{"$f":"IFERROR(LEFT(Gerar_Upload!A346,120),\"erro\")","v":""},{"$f":"IFERROR(SUBSTITUTE(SUBSTITUTE(SUBSTITUTE(Gerar_Upload!B346,\".\",\"\"),\"-\",\"\"),\"/\",\"\"),\"erro\")","v":""},{"$f":"IFERROR(Gerar_Upload!C346,\"erro\")","v":0},{"$f":"IFERROR(Gerar_Upload!D346,\"erro\")","v":0},{"$f":"IFERROR(DATE(YEAR(Gerar_Upload!E346),MONTH(Gerar_Upload!E346),DAY(Gerar_Upload!E346)),\"erro\")","v":"00:00:00"},{"$f":"IFERROR(Gerar_Upload!F346,\"erro\")","v":0},{"$f":"IFERROR(IF(Gerar_Upload!G346<44,REPT(0,44-LEN(Gerar_Upload!G346))&Gerar_Upload!G346,Gerar_Upload!G346),\"erro\")","v":"00000000000000000000000000000000000000000000"}]
[{"$f":"IFERROR(LEFT(Gerar_Upload!A347,120),\"erro\")","v":""},{"$f":"IFERROR(SUBSTITUTE(SUBSTITUTE(SUBSTITUTE(Gerar_Upload!B347,\".\",\"\"),\"-\",\"\"),\"/\",\"\"),\"erro\")","v":""},{"$f":"IFERROR(Gerar_Upload!C347,\"erro\")","v":0},{"$f":"IFERROR(Gerar_Upload!D347,\"erro\")","v":0},{"$f":"IFERROR(DATE(YEAR(Gerar_Upload!E347),MONTH(Gerar_Upload!E347),DAY(Gerar_Upload!E347)),\"erro\")","v":"00:00:00"},{"$f":"IFERROR(Gerar_Upload!F347,\"erro\")","v":0},{"$f":"IFERROR(IF(Gerar_Upload!G347<44,REPT(0,44-LEN(Gerar_Upload!G347))&Gerar_Upload!G347,Gerar_Upload!G347),\"erro\")","v":"00000000000000000000000000000000000000000000"}]
[{"$f":"IFERROR(LEFT(Gerar_Upload!A348,120),\"erro\")","v":""},{"$f":"IFERROR(SUBSTITUTE(SUBSTITUTE(SUBSTITUTE(Gerar_Upload!B348,\".\",\"\"),\"-\",\"\"),\"/\",\"\"),\"erro\")","v":""},{"$f":"IFERROR(Gerar_Upload!C348,\"erro\")","v":0},{"$f":"IFERROR(Gerar_Upload!D348,\"erro\")","v":0},{"$f":"IFERROR(DATE(YEAR(Gerar_Upload!E348),MONTH(Gerar_Upload!E348),DAY(Gerar_Upload!E348)),\"erro\")","v":"00:00:00"},{"$f":"IFERROR(Gerar_Upload!F348,\"erro\")","v":0},{"$f":"IFERROR(IF(Gerar_Upload!G348<44,REPT(0,44-LEN(Gerar_Upload!G348))&Gerar_Upload!G348,Gerar_Upload!G348),\"erro\")","v":"00000000000000000000000000000000000000000000"}]
[{"$f":"IFERROR(LEFT(Gerar_Upload!A349,120),\"erro\")","v":""},{"$f":"IFERROR(SUBSTITUTE(SUBSTITUTE(SUBSTITUTE(Gerar_Upload!B349,\".\",\"\"),\"-\",\"\"),\"/\",\"\"),\"erro\")","v":""},{"$f":"IFERROR(Gerar_Upload!C349,\"erro\")","v":0},{"$f":"IFERROR(Gerar_Upload!D349,\"erro\")","v":0},{"$f":"IFERROR(DATE(YEAR(Gerar_Upload!E349),MONTH(Gerar_Upload!E349),DAY(Gerar_Upload!E349)),\"erro\")","v":"00:00:00"},{"$f":"IFERROR(Gerar_Upload!F349,\"erro\")","v":0},{"$f":"IFERROR(IF(Gerar_Upload!G349<44,REPT(0,44-LEN(Gerar_Upload!G349))&Gerar_Upload!G349,Gerar_Upload!G349),\"erro\")","v":"00000000000000000000000000000000000000000000"}]
[{"$f":"IFERROR(LEFT(Gerar_Upload!A350,120),\"erro\")","v":""},{"$f":"IFERROR(SUBSTITUTE(SUBSTITUTE(SUBSTITUTE(Gerar_Upload!B350,\".\",\"\"),\"-\",\"\"),\"/\",\"\"),\"erro\")","v":""},{"$f":"IFERROR(Gerar_Upload!C350,\"erro\")","v":0},{"$f":"IFERROR(Gerar_Upload!D350,\"erro\")","v":0},{"$f":"IFERROR(DATE(YEAR(Gerar_Upload!E350),MONTH(Gerar_Upload!E350),DAY(Gerar_Upload!E350)),\"erro\")","v":"00:00:00"},{"$f":"IFERROR(Gerar_Upload!F350,\"erro\")","v":0},{"$f":"IFERROR(IF(Gerar_Upload!G350<44,REPT(0,44-LEN(Gerar_Upload!G350))&Gerar_Upload!G350,Gerar_Upload!G350),\"erro\")","v":"00000000000000000000000000000000000000000000"}]
[{"$f":"IFERROR(LEFT(Gerar_Upload!A351,120),\"erro\")","v":""},{"$f":"IFERROR(SUBSTITUTE(SUBSTITUTE(SUBSTITUTE(Gerar_Upload!B351,\".\",\"\"),\"-\",\"\"),\"/\",\"\"),\"erro\")","v":""},{"$f":"IFERROR(Gerar_Upload!C351,\"erro\")","v":0},{"$f":"IFERROR(Gerar_Upload!D351,\"erro\")","v":0},{"$f":"IFERROR(DATE(YEAR(Gerar_Upload!E351),MONTH(Gerar_Upload!E351),DAY(Gerar_Upload!E351)),\"erro\")","v":"00:00:00"},{"$f":"IFERROR(Gerar_Upload!F351,\"erro\")","v":0},{"$f":"IFERROR(IF(Gerar_Upload!G351<44,REPT(0,44-LEN(Gerar_Upload!G351))&Gerar_Upload!G351,Gerar_Upload!G351),\"erro\")","v":"00000000000000000000000000000000000000000000"}]
[{"$f":"IFERROR(LEFT(Gerar_Upload!A352,120),\"erro\")","v":""},{"$f":"IFERROR(SUBSTITUTE(SUBSTITUTE(SUBSTITUTE(Gerar_Upload!B352,\".\",\"\"),\"-\",\"\"),\"/\",\"\"),\"erro\")","v":""},{"$f":"IFERROR(Gerar_Upload!C352,\"erro\")","v":0},{"$f":"IFERROR(Gerar_Upload!D352,\"erro\")","v":0},{"$f":"IFERROR(DATE(YEAR(Gerar_Upload!E352),MONTH(Gerar_Upload!E352),DAY(Gerar_Upload!E352)),\"erro\")","v":"00:00:00"},{"$f":"IFERROR(Gerar_Upload!F352,\"erro\")","v":0},{"$f":"IFERROR(IF(Gerar_Upload!G352<44,REPT(0,44-LEN(Gerar_Upload!G352))&Gerar_Upload!G352,Gerar_Upload!G352),\"erro\")","v":"00000000000000000000000000000000000000000000"}]
[{"$f":"IFERROR(LEFT(Gerar_Upload!A353,120),\"erro\")","v":""},{"$f":"IFERROR(SUBSTITUTE(SUBSTITUTE(SUBSTITUTE(Gerar_Upload!B353,\".\",\"\"),\"-\",\"\"),\"/\",\"\"),\"erro\")","v":""},{"$f":"IFERROR(Gerar_Upload!C353,\"erro\")","v":0},{"$f":"IFERROR(Gerar_Upload!D353,\"erro\")","v":0},{"$f":"IFERROR(DATE(YEAR(Gerar_Upload!E353),MONTH(Gerar_Upload!E353),DAY(Gerar_Upload!E353)),\"erro\")","v":"00:00:00"},{"$f":"IFERROR(Gerar_Upload!F353,\"erro\")","v":0},{"$f":"IFERROR(IF(Gerar_Upload!G353<44,REPT(0,44-LEN(Gerar_Upload!G353))&Gerar_Upload!G353,Gerar_Upload!G353),\"erro\")","v":"00000000000000000000000000000000000000000000"}]
[{"$f":"IFERROR(LEFT(Gerar_Upload!A354,120),\"erro\")","v":""},{"$f":"IFERROR(SUBSTITUTE(SUBSTITUTE(SUBSTITUTE(Gerar_Upload!B354,\".\",\"\"),\"-\",\"\"),\"/\",\"\"),\"erro\")","v":""},{"$f":"IFERROR(Gerar_Upload!C354,\"erro\")","v":0},{"$f":"IFERROR(Gerar_Upload!D354,\"erro\")","v":0},{"$f":"IFERROR(DATE(YEAR(Gerar_Upload!E354),MONTH(Gerar_Upload!E354),DAY(Gerar_Upload!E354)),\"erro\")","v":"00:00:00"},{"$f":"IFERROR(Gerar_Upload!F354,\"erro\")","v":0},{"$f":"IFERROR(IF(Gerar_Upload!G354<44,REPT(0,44-LEN(Gerar_Upload!G354))&Gerar_Upload!G354,Gerar_Upload!G354),\"erro\")","v":"00000000000000000000000000000000000000000000"}]
[{"$f":"IFERROR(LEFT(Gerar_Upload!A355,120),\"erro\")","v":""},{"$f":"IFERROR(SUBSTITUTE(SUBSTITUTE(SUBSTITUTE(Gerar_Upload!B355,\".\",\"\"),\"-\",\"\"),\"/\",\"\"),\"erro\")","v":""},{"$f":"IFERROR(Gerar_Upload!C355,\"erro\")","v":0},{"$f":"IFERROR(Gerar_Upload!D355,\"erro\")","v":0},{"$f":"IFERROR(DATE(YEAR(Gerar_Upload!E355),MONTH(Gerar_Upload!E355),DAY(Gerar_Upload!E355)),\"erro\")","v":"00:00:00"},{"$f":"IFERROR(Gerar_Upload!F355,\"erro\")","v":0},{"$f":"IFERROR(IF(Gerar_Upload!G355<44,REPT(0,44-LEN(Gerar_Upload!G355))&Gerar_Upload!G355,Gerar_Upload!G355),\"erro\")","v":"00000000000000000000000000000000000000000000"}]
[{"$f":"IFERROR(LEFT(Gerar_Upload!A356,120),\"erro\")","v":""},{"$f":"IFERROR(SUBSTITUTE(SUBSTITUTE(SUBSTITUTE(Gerar_Upload!B356,\".\",\"\"),\"-\",\"\"),\"/\",\"\"),\"erro\")","v":""},{"$f":"IFERROR(Gerar_Upload!C356,\"erro\")","v":0},{"$f":"IFERROR(Gerar_Upload!D356,\"erro\")","v":0},{"$f":"IFERROR(DATE(YEAR(Gerar_Upload!E356),MONTH(Gerar_Upload!E356),DAY(Gerar_Upload!E356)),\"erro\")","v":"00:00:00"},{"$f":"IFERROR(Gerar_Upload!F356,\"erro\")","v":0},{"$f":"IFERROR(IF(Gerar_Upload!G356<44,REPT(0,44-LEN(Gerar_Upload!G356))&Gerar_Upload!G356,Gerar_Upload!G356),\"erro\")","v":"00000000000000000000000000000000000000000000"}]
[{"$f":"IFERROR(LEFT(Gerar_Upload!A357,120),\"erro\")","v":""},{"$f":"IFERROR(SUBSTITUTE(SUBSTITUTE(SUBSTITUTE(Gerar_Upload!B357,\".\",\"\"),\"-\",\"\"),\"/\",\"\"),\"erro\")","v":""},{"$f":"IFERROR(Gerar_Upload!C357,\"erro\")","v":0},{"$f":"IFERROR(Gerar_Upload!D357,\"erro\")","v":0},{"$f":"IFERROR(DATE(YEAR(Gerar_Upload!E357),MONTH(Gerar_Upload!E357),DAY(Gerar_Upload!E357)),\"erro\")","v":"00:00:00"},{"$f":"IFERROR(Gerar_Upload!F357,\"erro\")","v":0},{"$f":"IFERROR(IF(Gerar_Upload!G357<44,REPT(0,44-LEN(Gerar_Upload!G357))&Gerar_Upload!G357,Gerar_Upload!G357),\"erro\")","v":"00000000000000000000000000000000000000000000"}]
[{"$f":"IFERROR(LEFT(Gerar_Upload!A358,120),\"erro\")","v":""},{"$f":"IFERROR(SUBSTITUTE(SUBSTITUTE(SUBSTITUTE(Gerar_Upload!B358,\".\",\"\"),\"-\",\"\"),\"/\",\"\"),\"erro\")","v":""},{"$f":"IFERROR(Gerar_Upload!C358,\"erro\")","v":0},{"$f":"IFERROR(Gerar_Upload!D358,\"erro\")","v":0},{"$f":"IFERROR(DATE(YEAR(Gerar_Upload!E358),MONTH(Gerar_Upload!E358),DAY(Gerar_Upload!E358)),\"erro\")","v":"00:00:00"},{"$f":"IFERROR(Gerar_Upload!F358,\"erro\")","v":0},{"$f":"IFERROR(IF(Gerar_Upload!G358<44,REPT(0,44-LEN(Gerar_Upload!G358))&Gerar_Upload!G358,Gerar_Upload!G358),\"erro\")","v":"00000000000000000000000000000000000000000000"}]
[{"$f":"IFERROR(LEFT(Gerar_Upload!A359,120),\"erro\")","v":""},{"$f":"IFERROR(SUBSTITUTE(SUBSTITUTE(SUBSTITUTE(Gerar_Upload!B359,\".\",\"\"),\"-\",\"\"),\"/\",\"\"),\"erro\")","v":""},{"$f":"IFERROR(Gerar_Upload!C359,\"erro\")","v":0},{"$f":"IFERROR(Gerar_Upload!D359,\"erro\")","v":0},{"$f":"IFERROR(DATE(YEAR(Gerar_Upload!E359),MONTH(Gerar_Upload!E359),DAY(Gerar_Upload!E359)),\"erro\")","v":"00:00:00"},{"$f":"IFERROR(Gerar_Upload!F359,\"erro\")","v":0},{"$f":"IFERROR(IF(Gerar_Upload!G359<44,REPT(0,44-LEN(Gerar_Upload!G359))&Gerar_Upload!G359,Gerar_Upload!G359),\"erro\")","v":"00000000000000000000000000000000000000000000"}]
[{"$f":"IFERROR(LEFT(Gerar_Upload!A360,120),\"erro\")","v":""},{"$f":"IFERROR(SUBSTITUTE(SUBSTITUTE(SUBSTITUTE(Gerar_Upload!B360,\".\",\"\"),\"-\",\"\"),\"/\",\"\"),\"erro\")","v":""},{"$f":"IFERROR(Gerar_Upload!C360,\"erro\")","v":0},{"$f":"IFERROR(Gerar_Upload!D360,\"erro\")","v":0},{"$f":"IFERROR(DATE(YEAR(Gerar_Upload!E360),MONTH(Gerar_Upload!E360),DAY(Gerar_Upload!E360)),\"erro\")","v":"00:00:00"},{"$f":"IFERROR(Gerar_Upload!F360,\"erro\")","v":0},{"$f":"IFERROR(IF(Gerar_Upload!G360<44,REPT(0,44-LEN(Gerar_Upload!G360))&Gerar_Upload!G360,Gerar_Upload!G360),\"erro\")","v":"00000000000000000000000000000000000000000000"}]
[{"$f":"IFERROR(LEFT(Gerar_Upload!A361,120),\"erro\")","v":""},{"$f":"IFERROR(SUBSTITUTE(SUBSTITUTE(SUBSTITUTE(Gerar_Upload!B361,\".\",\"\"),\"-\",\"\"),\"/\",\"\"),\"erro\")","v":""},{"$f":"IFERROR(Gerar_Upload!C361,\"erro\")","v":0},{"$f":"IFERROR(Gerar_Upload!D361,\"erro\")","v":0},{"$f":"IFERROR(DATE(YEAR(Gerar_Upload!E361),MONTH(Gerar_Upload!E361),DAY(Gerar_Upload!E361)),\"erro\")","v":"00:00:00"},{"$f":"IFERROR(Gerar_Upload!F361,\"erro\")","v":0},{"$f":"IFERROR(IF(Gerar_Upload!G361<44,REPT(0,44-LEN(Gerar_Upload!G361))&Gerar_Upload!G361,Gerar_Upload!G361),\"erro\")","v":"00000000000000000000000000000000000000000000"}]
[{"$f":"IFERROR(LEFT(Gerar_Upload!A362,120),\"erro\")","v":""},{"$f":"IFERROR(SUBSTITUTE(SUBSTITUTE(SUBSTITUTE(Gerar_Upload!B362,\".\",\"\"),\"-\",\"\"),\"/\",\"\"),\"erro\")","v":""},{"$f":"IFERROR(Gerar_Upload!C362,\"erro\")","v":0},{"$f":"IFERROR(Gerar_Upload!D362,\"erro\")","v":0},{"$f":"IFERROR(DATE(YEAR(Gerar_Upload!E362),MONTH(Gerar_Upload!E362),DAY(Gerar_Upload!E362)),\"erro\")","v":"00:00:00"},{"$f":"IFERROR(Gerar_Upload!F362,\"erro\")","v":0},{"$f":"IFERROR(IF(Gerar_Upload!G362<44,REPT(0,44-LEN(Gerar_Upload!G362))&Gerar_Upload!G362,Gerar_Upload!G362),\"erro\")","v":"00000000000000000000000000000000000000000000"}]
[{"$f":"IFERROR(LEFT(Gerar_Upload!A363,120),\"erro\")","v":""},{"$f":"IFERROR(SUBSTITUTE(SUBSTITUTE(SUBSTITUTE(Gerar_Upload!B363,\".\",\"\"),\"-\",\"\"),\"/\",\"\"),\"erro\")","v":""},{"$f":"IFERROR(Gerar_Upload!C363,\"erro\")","v":0},{"$f":"IFERROR(Gerar_Upload!D363,\"erro\")","v":0},{"$f":"IFERROR(DATE(YEAR(Gerar_Upload!E363),MONTH(Gerar_Upload!E363),DAY(Gerar_Upload!E363)),\"erro\")","v":"00:00:00"},{"$f":"IFERROR(Gerar_Upload!F363,\"erro\")","v":0},{"$f":"IFERROR(IF(Gerar_Upload!G363<44,REPT(0,44-LEN(Gerar_Upload!G363))&Gerar_Upload!G363,Gerar_Upload!G363),\"erro\")","v":"00000000000000000000000000000000000000000000"}]
[{"$f":"IFERROR(LEFT(Gerar_Upload!A364,120),\"erro\")","v":""},{"$f":"IFERROR(SUBSTITUTE(SUBSTITUTE(SUBSTITUTE(Gerar_Upload!B364,\".\",\"\"),\"-\",\"\"),\"/\",\"\"),\"erro\")","v":""},{"$f":"IFERROR(Gerar_Upload!C364,\"erro\")","v":0},{"$f":"IFERROR(Gerar_Upload!D364,\"erro\")","v":0},{"$f":"IFERROR(DATE(YEAR(Gerar_Upload!E364),MONTH(Gerar_Upload!E364),DAY(Gerar_Upload!E364)),\"erro\")","v":"00:00:00"},{"$f":"IFERROR(Gerar_Upload!F364,\"erro\")","v":0},{"$f":"IFERROR(IF(Gerar_Upload!G364<44,REPT(0,44-LEN(Gerar_Upload!G364))&Gerar_Upload!G364,Gerar_Upload!G364),\"erro\")","v":"00000000000000000000000000000000000000000000"}]
[{"$f":"IFERROR(LEFT(Gerar_Upload!A365,120),\"erro\")","v":""},{"$f":"IFERROR(SUBSTITUTE(SUBSTITUTE(SUBSTITUTE(Gerar_Upload!B365,\".\",\"\"),\"-\",\"\"),\"/\",\"\"),\"erro\")","v":""},{"$f":"IFERROR(Gerar_Upload!C365,\"erro\")","v":0},{"$f":"IFERROR(Gerar_Upload!D365,\"erro\")","v":0},{"$f":"IFERROR(DATE(YEAR(Gerar_Upload!E365),MONTH(Gerar_Upload!E365),DAY(Gerar_Upload!E365)),\"erro\")","v":"00:00:00"},{"$f":"IFERROR(Gerar_Upload!F365,\"erro\")","v":0},{"$f":"IFERROR(IF(Gerar_Upload!G365<44,REPT(0,44-LEN(Gerar_Upload!G365))&Gerar_Upload!G365,Gerar_Upload!G365),\"erro\")","v":"00000000000000000000000000000000000000000000"}]
[{"$f":"IFERROR(LEFT(Gerar_Upload!A366,120),\"erro\")","v":""},{"$f":"IFERROR(SUBSTITUTE(SUBSTITUTE(SUBSTITUTE(Gerar_Upload!B366,\".\",\"\"),\"-\",\"\"),\"/\",\"\"),\"erro\")","v":""},{"$f":"IFERROR(Gerar_Upload!C366,\"erro\")","v":0},{"$f":"IFERROR(Gerar_Upload!D366,\"erro\")","v":0},{"$f":"IFERROR(DATE(YEAR(Gerar_Upload!E366),MONTH(Gerar_Upload!E366),DAY(Gerar_Upload!E366)),\"erro\")","v":"00:00:00"},{"$f":"IFERROR(Gerar_Upload!F366,\"erro\")","v":0},{"$f":"IFERROR(IF(Gerar_Upload!G366<44,REPT(0,44-LEN(Gerar_Upload!G366))&Gerar_Upload!G366,Gerar_Upload!G366),\"erro\")","v":"00000000000000000000000000000000000000000000"}]
[{"$f":"IFERROR(LEFT(Gerar_Upload!A367,120),\"erro\")","v":""},{"$f":"IFERROR(SUBSTITUTE(SUBSTITUTE(SUBSTITUTE(Gerar_Upload!B367,\".\",\"\"),\"-\",\"\"),\"/\",\"\"),\"erro\")","v":""},{"$f":"IFERROR(Gerar_Upload!C367,\"erro\")","v":0},{"$f":"IFERROR(Gerar_Upload!D367,\"erro\")","v":0},{"$f":"IFERROR(DATE(YEAR(Gerar_Upload!E367),MONTH(Gerar_Upload!E367),DAY(Gerar_Upload!E367)),\"erro\")","v":"00:00:00"},{"$f":"IFERROR(Gerar_Upload!F367,\"erro\")","v":0},{"$f":"IFERROR(IF(Gerar_Upload!G367<44,REPT(0,44-LEN(Gerar_Upload!G367))&Gerar_Upload!G367,Gerar_Upload!G367),\"erro\")","v":"00000000000000000000000000000000000000000000"}]
[{"$f":"IFERROR(LEFT(Gerar_Upload!A368,120),\"erro\")","v":""},{"$f":"IFERROR(SUBSTITUTE(SUBSTITUTE(SUBSTITUTE(Gerar_Upload!B368,\".\",\"\"),\"-\",\"\"),\"/\",\"\"),\"erro\")","v":""},{"$f":"IFERROR(Gerar_Upload!C368,\"erro\")","v":0},{"$f":"IFERROR(Gerar_Upload!D368,\"erro\")","v":0},{"$f":"IFERROR(DATE(YEAR(Gerar_Upload!E368),MONTH(Gerar_Upload!E368),DAY(Gerar_Upload!E368)),\"erro\")","v":"00:00:00"},{"$f":"IFERROR(Gerar_Upload!F368,\"erro\")","v":0},{"$f":"IFERROR(IF(Gerar_Upload!G368<44,REPT(0,44-LEN(Gerar_Upload!G368))&Gerar_Upload!G368,Gerar_Upload!G368),\"erro\")","v":"00000000000000000000000000000000000000000000"}]
[{"$f":"IFERROR(LEFT(Gerar_Upload!A369,120),\"erro\")","v":""},{"$f":"IFERROR(SUBSTITUTE(SUBSTITUTE(SUBSTITUTE(Gerar_Upload!B369,\".\",\"\"),\"-\",\"\"),\"/\",\"\"),\"erro\")","v":""},{"$f":"IFERROR(Gerar_Upload!C369,\"erro\")","v":0},{"$f":"IFERROR(Gerar_Upload!D369,\"erro\")","v":0},{"$f":"IFERROR(DATE(YEAR(Gerar_Upload!E369),MONTH(Gerar_Upload!E369),DAY(Gerar_Upload!E369)),\"erro\")","v":"00:00:00"},{"$f":"IFERROR(Gerar_Upload!F369,\"erro\")","v":0},{"$f":"IFERROR(IF(Gerar_Upload!G369<44,REPT(0,44-LEN(Gerar_Upload!G369))&Gerar_Upload!G369,Gerar_Upload!G369),\"erro\")","v":"00000000000000000000000000000000000000000000"}]
[{"$f":"IFERROR(LEFT(Gerar_Upload!A370,120),\"erro\")","v":""},{"$f":"IFERROR(SUBSTITUTE(SUBSTITUTE(SUBSTITUTE(Gerar_Upload!B370,\".\",\"\"),\"-\",\"\"),\"/\",\"\"),\"erro\")","v":""},{"$f":"IFERROR(Gerar_Upload!C370,\"erro\")","v":0},{"$f":"IFERROR(Gerar_Upload!D370,\"erro\")","v":0},{"$f":"IFERROR(DATE(YEAR(Gerar_Upload!E370),MONTH(Gerar_Upload!E370),DAY(Gerar_Upload!E370)),\"erro\")","v":"00:00:00"},{"$f":"IFERROR(Gerar_Upload!F370,\"erro\")","v":0},{"$f":"IFERROR(IF(Gerar_Upload!G370<44,REPT(0,44-LEN(Gerar_Upload!G370))&Gerar_Upload!G370,Gerar_Upload!G370),\"erro\")","v":"00000000000000000000000000000000000000000000"}]
[{"$f":"IFERROR(LEFT(Gerar_Upload!A371,120),\"erro\")","v":""},{"$f":"IFERROR(SUBSTITUTE(SUBSTITUTE(SUBSTITUTE(Gerar_Upload!B371,\".\",\"\"),\"-\",\"\"),\"/\",\"\"),\"erro\")","v":""},{"$f":"IFERROR(Gerar_Upload!C371,\"erro\")","v":0},{"$f":"IFERROR(Gerar_Upload!D371,\"erro\")","v":0},{"$f":"IFERROR(DATE(YEAR(Gerar_Upload!E371),MONTH(Gerar_Upload!E371),DAY(Gerar_Upload!E371)),\"erro\")","v":"00:00:00"},{"$f":"IFERROR(Gerar_Upload!F371,\"erro\")","v":0},{"$f":"IFERROR(IF(Gerar_Upload!G371<44,REPT(0,44-LEN(Gerar_Upload!G371))&Gerar_Upload!G371,Gerar_Upload!G371),\"erro\")","v":"00000000000000000000000000000000000000000000"}]
[{"$f":"IFERROR(LEFT(Gerar_Upload!A372,120),\"erro\")","v":""},{"$f":"IFERROR(SUBSTITUTE(SUBSTITUTE(SUBSTITUTE(Gerar_Upload!B372,\".\",\"\"),\"-\",\"\"),\"/\",\"\"),\"erro\")","v":""},{"$f":"IFERROR(Gerar_Upload!C372,\"erro\")","v":0},{"$f":"IFERROR(Gerar_Upload!D372,\"erro\")","v":0},{"$f":"IFERROR(DATE(YEAR(Gerar_Upload!E372),MONTH(Gerar_Upload!E372),DAY(Gerar_Upload!E372)),\"erro\")","v":"00:00:00"},{"$f":"IFERROR(Gerar_Upload!F372,\"erro\")","v":0},{"$f":"IFERROR(IF(Gerar_Upload!G372<44,REPT(0,44-LEN(Gerar_Upload!G372))&Gerar_Upload!G372,Gerar_Upload!G372),\"erro\")","v":"00000000000000000000000000000000000000000000"}]
[{"$f":"IFERROR(LEFT(Gerar_Upload!A373,120),\"erro\")","v":""},{"$f":"IFERROR(SUBSTITUTE(SUBSTITUTE(SUBSTITUTE(Gerar_Upload!B373,\".\",\"\"),\"-\",\"\"),\"/\",\"\"),\"erro\")","v":""},{"$f":"IFERROR(Gerar_Upload!C373,\"erro\")","v":0},{"$f":"IFERROR(Gerar_Upload!D373,\"erro\")","v":0},{"$f":"IFERROR(DATE(YEAR(Gerar_Upload!E373),MONTH(Gerar_Upload!E373),DAY(Gerar_Upload!E373)),\"erro\")","v":"00:00:00"},{"$f":"IFERROR(Gerar_Upload!F373,\"erro\")","v":0},{"$f":"IFERROR(IF(Gerar_Upload!G373<44,REPT(0,44-LEN(Gerar_Upload!G373))&Gerar_Upload!G373,Gerar_Upload!G373),\"erro\")","v":"00000000000000000000000000000000000000000000"}]
[{"$f":"IFERROR(LEFT(Gerar_Upload!A374,120),\"erro\")","v":""},{"$f":"IFERROR(SUBSTITUTE(SUBSTITUTE(SUBSTITUTE(Gerar_Upload!B374,\".\",\"\"),\"-\",\"\"),\"/\",\"\"),\"erro\")","v":""},{"$f":"IFERROR(Gerar_Upload!C374,\"erro\")","v":0},{"$f":"IFERROR(Gerar_Upload!D374,\"erro\")","v":0},{"$f":"IFERROR(DATE(YEAR(Gerar_Upload!E374),MONTH(Gerar_Upload!E374),DAY(Gerar_Upload!E374)),\"erro\")","v":"00:00:00"},{"$f":"IFERROR(Gerar_Upload!F374,\"erro\")","v":0},{"$f":"IFERROR(IF(Gerar_Upload!G374<44,REPT(0,44-LEN(Gerar_Upload!G374))&Gerar_Upload!G374,Gerar_Upload!G374),\"erro\")","v":"00000000000000000000000000000000000000000000"}]
[{"$f":"IFERROR(LEFT(Gerar_Upload!A375,120),\"erro\")","v":""},{"$f":"IFERROR(SUBSTITUTE(SUBSTITUTE(SUBSTITUTE(Gerar_Upload!B375,\".\",\"\"),\"-\",\"\"),\"/\",\"\"),\"erro\")","v":""},{"$f":"IFERROR(Gerar_Upload!C375,\"erro\")","v":0},{"$f":"IFERROR(Gerar_Upload!D375,\"erro\")","v":0},{"$f":"IFERROR(DATE(YEAR(Gerar_Upload!E375),MONTH(Gerar_Upload!E375),DAY(Gerar_Upload!E375)),\"erro\")","v":"00:00:00"},{"$f":"IFERROR(Gerar_Upload!F375,\"erro\")","v":0},{"$f":"IFERROR(IF(Gerar_Upload!G375<44,REPT(0,44-LEN(Gerar_Upload!G375))&Gerar_Upload!G375,Gerar_Upload!G375),\"erro\")","v":"00000000000000000000000000000000000000000000"}]
[{"$f":"IFERROR(LEFT(Gerar_Upload!A376,120),\"erro\")","v":""},{"$f":"IFERROR(SUBSTITUTE(SUBSTITUTE(SUBSTITUTE(Gerar_Upload!B376,\".\",\"\"),\"-\",\"\"),\"/\",\"\"),\"erro\")","v":""},{"$f":"IFERROR(Gerar_Upload!C376,\"erro\")","v":0},{"$f":"IFERROR(Gerar_Upload!D376,\"erro\")","v":0},{"$f":"IFERROR(DATE(YEAR(Gerar_Upload!E376),MONTH(Gerar_Upload!E376),DAY(Gerar_Upload!E376)),\"erro\")","v":"00:00:00"},{"$f":"IFERROR(Gerar_Upload!F376,\"erro\")","v":0},{"$f":"IFERROR(IF(Gerar_Upload!G376<44,REPT(0,44-LEN(Gerar_Upload!G376))&Gerar_Upload!G376,Gerar_Upload!G376),\"erro\")","v":"00000000000000000000000000000000000000000000"}]
[{"$f":"IFERROR(LEFT(Gerar_Upload!A377,120),\"erro\")","v":""},{"$f":"IFERROR(SUBSTITUTE(SUBSTITUTE(SUBSTITUTE(Gerar_Upload!B377,\".\",\"\"),\"-\",\"\"),\"/\",\"\"),\"erro\")","v":""},{"$f":"IFERROR(Gerar_Upload!C377,\"erro\")","v":0},{"$f":"IFERROR(Gerar_Upload!D377,\"erro\")","v":0},{"$f":"IFERROR(DATE(YEAR(Gerar_Upload!E377),MONTH(Gerar_Upload!E377),DAY(Gerar_Upload!E377)),\"erro\")","v":"00:00:00"},{"$f":"IFERROR(Gerar_Upload!F377,\"erro\")","v":0},{"$f":"IFERROR(IF(Gerar_Upload!G377<44,REPT(0,44-LEN(Gerar_Upload!G377))&Gerar_Upload!G377,Gerar_Upload!G377),\"erro\")","v":"00000000000000000000000000000000000000000000"}]
[{"$f":"IFERROR(LEFT(Gerar_Upload!A378,120),\"erro\")","v":""},{"$f":"IFERROR(SUBSTITUTE(SUBSTITUTE(SUBSTITUTE(Gerar_Upload!B378,\".\",\"\"),\"-\",\"\"),\"/\",\"\"),\"erro\")","v":""},{"$f":"IFERROR(Gerar_Upload!C378,\"erro\")","v":0},{"$f":"IFERROR(Gerar_Upload!D378,\"erro\")","v":0},{"$f":"IFERROR(DATE(YEAR(Gerar_Upload!E378),MONTH(Gerar_Upload!E378),DAY(Gerar_Upload!E378)),\"erro\")","v":"00:00:00"},{"$f":"IFERROR(Gerar_Upload!F378,\"erro\")","v":0},{"$f":"IFERROR(IF(Gerar_Upload!G378<44,REPT(0,44-LEN(Gerar_Upload!G378))&Gerar_Upload!G378,Gerar_Upload!G378),\"erro\")","v":"00000000000000000000000000000000000000000000"}]
[{"$f":"IFERROR(LEFT(Gerar_Upload!A379,120),\"erro\")","v":""},{"$f":"IFERROR(SUBSTITUTE(SUBSTITUTE(SUBSTITUTE(Gerar_Upload!B379,\".\",\"\"),\"-\",\"\"),\"/\",\"\"),\"erro\")","v":""},{"$f":"IFERROR(Gerar_Upload!C379,\"erro\")","v":0},{"$f":"IFERROR(Gerar_Upload!D379,\"erro\")","v":0},{"$f":"IFERROR(DATE(YEAR(Gerar_Upload!E379),MONTH(Gerar_Upload!E379),DAY(Gerar_Upload!E379)),\"erro\")","v":"00:00:00"},{"$f":"IFERROR(Gerar_Upload!F379,\"erro\")","v":0},{"$f":"IFERROR(IF(Gerar_Upload!G379<44,REPT(0,44-LEN(Gerar_Upload!G379))&Gerar_Upload!G379,Gerar_Upload!G379),\"erro\")","v":"00000000000000000000000000000000000000000000"}]
[{"$f":"IFERROR(LEFT(Gerar_Upload!A380,120),\"erro\")","v":""},{"$f":"IFERROR(SUBSTITUTE(SUBSTITUTE(SUBSTITUTE(Gerar_Upload!B380,\".\",\"\"),\"-\",\"\"),\"/\",\"\"),\"erro\")","v":""},{"$f":"IFERROR(Gerar_Upload!C380,\"erro\")","v":0},{"$f":"IFERROR(Gerar_Upload!D380,\"erro\")","v":0},{"$f":"IFERROR(DATE(YEAR(Gerar_Upload!E380),MONTH(Gerar_Upload!E380),DAY(Gerar_Upload!E380)),\"erro\")","v":"00:00:00"},{"$f":"IFERROR(Gerar_Upload!F380,\"erro\")","v":0},{"$f":"IFERROR(IF(Gerar_Upload!G380<44,REPT(0,44-LEN(Gerar_Upload!G380))&Gerar_Upload!G380,Gerar_Upload!G380),\"erro\")","v":"00000000000000000000000000000000000000000000"}]
[{"$f":"IFERROR(LEFT(Gerar_Upload!A381,120),\"erro\")","v":""},{"$f":"IFERROR(SUBSTITUTE(SUBSTITUTE(SUBSTITUTE(Gerar_Upload!B381,\".\",\"\"),\"-\",\"\"),\"/\",\"\"),\"erro\")","v":""},{"$f":"IFERROR(Gerar_Upload!C381,\"erro\")","v":0},{"$f":"IFERROR(Gerar_Upload!D381,\"erro\")","v":0},{"$f":"IFERROR(DATE(YEAR(Gerar_Upload!E381),MONTH(Gerar_Upload!E381),DAY(Gerar_Upload!E381)),\"erro\")","v":"00:00:00"},{"$f":"IFERROR(Gerar_Upload!F381,\"erro\")","v":0},{"$f":"IFERROR(IF(Gerar_Upload!G381<44,REPT(0,44-LEN(Gerar_Upload!G381))&Gerar_Upload!G381,Gerar_Upload!G381),\"erro\")","v":"00000000000000000000000000000000000000000000"}]
[{"$f":"IFERROR(LEFT(Gerar_Upload!A382,120),\"erro\")","v":""},{"$f":"IFERROR(SUBSTITUTE(SUBSTITUTE(SUBSTITUTE(Gerar_Upload!B382,\".\",\"\"),\"-\",\"\"),\"/\",\"\"),\"erro\")","v":""},{"$f":"IFERROR(Gerar_Upload!C382,\"erro\")","v":0},{"$f":"IFERROR(Gerar_Upload!D382,\"erro\")","v":0},{"$f":"IFERROR(DATE(YEAR(Gerar_Upload!E382),MONTH(Gerar_Upload!E382),DAY(Gerar_Upload!E382)),\"erro\")","v":"00:00:00"},{"$f":"IFERROR(Gerar_Upload!F382,\"erro\")","v":0},{"$f":"IFERROR(IF(Gerar_Upload!G382<44,REPT(0,44-LEN(Gerar_Upload!G382))&Gerar_Upload!G382,Gerar_Upload!G382),\"erro\")","v":"00000000000000000000000000000000000000000000"}]
[{"$f":"IFERROR(LEFT(Gerar_Upload!A383,120),\"erro\")","v":""},{"$f":"IFERROR(SUBSTITUTE(SUBSTITUTE(SUBSTITUTE(Gerar_Upload!B383,\".\",\"\"),\"-\",\"\"),\"/\",\"\"),\"erro\")","v":""},{"$f":"IFERROR(Gerar_Upload!C383,\"erro\")","v":0},{"$f":"IFERROR(Gerar_Upload!D383,\"erro\")","v":0},{"$f":"IFERROR(DATE(YEAR(Gerar_Upload!E383),MONTH(Gerar_Upload!E383),DAY(Gerar_Upload!E383)),\"erro\")","v":"00:00:00"},{"$f":"IFERROR(Gerar_Upload!F383,\"erro\")","v":0},{"$f":"IFERROR(IF(Gerar_Upload!G383<44,REPT(0,44-LEN(Gerar_Upload!G383))&Gerar_Upload!G383,Gerar_Upload!G383),\"erro\")","v":"00000000000000000000000000000000000000000000"}]
[{"$f":"IFERROR(LEFT(Gerar_Upload!A384,120),\"erro\")","v":""},{"$f":"IFERROR(SUBSTITUTE(SUBSTITUTE(SUBSTITUTE(Gerar_Upload!B384,\".\",\"\"),\"-\",\"\"),\"/\",\"\"),\"erro\")","v":""},{"$f":"IFERROR(Gerar_Upload!C384,\"erro\")","v":0},{"$f":"IFERROR(Gerar_Upload!D384,\"erro\")","v":0},{"$f":"IFERROR(DATE(YEAR(Gerar_Upload!E384),MONTH(Gerar_Upload!E384),DAY(Gerar_Upload!E384)),\"erro\")","v":"00:00:00"},{"$f":"IFERROR(Gerar_Upload!F384,\"erro\")","v":0},{"$f":"IFERROR(IF(Gerar_Upload!G384<44,REPT(0,44-LEN(Gerar_Upload!G384))&Gerar_Upload!G384,Gerar_Upload!G384),\"erro\")","v":"00000000000000000000000000000000000000000000"}]
[{"$f":"IFERROR(LEFT(Gerar_Upload!A385,120),\"erro\")","v":""},{"$f":"IFERROR(SUBSTITUTE(SUBSTITUTE(SUBSTITUTE(Gerar_Upload!B385,\".\",\"\"),\"-\",\"\"),\"/\",\"\"),\"erro\")","v":""},{"$f":"IFERROR(Gerar_Upload!C385,\"erro\")","v":0},{"$f":"IFERROR(Gerar_Upload!D385,\"erro\")","v":0},{"$f":"IFERROR(DATE(YEAR(Gerar_Upload!E385),MONTH(Gerar_Upload!E385),DAY(Gerar_Upload!E385)),\"erro\")","v":"00:00:00"},{"$f":"IFERROR(Gerar_Upload!F385,\"erro\")","v":0},{"$f":"IFERROR(IF(Gerar_Upload!G385<44,REPT(0,44-LEN(Gerar_Upload!G385))&Gerar_Upload!G385,Gerar_Upload!G385),\"erro\")","v":"00000000000000000000000000000000000000000000"}]
[{"$f":"IFERROR(LEFT(Gerar_Upload!A386,120),\"erro\")","v":""},{"$f":"IFERROR(SUBSTITUTE(SUBSTITUTE(SUBSTITUTE(Gerar_Upload!B386,\".\",\"\"),\"-\",\"\"),\"/\",\"\"),\"erro\")","v":""},{"$f":"IFERROR(Gerar_Upload!C386,\"erro\")","v":0},{"$f":"IFERROR(Gerar_Upload!D386,\"erro\")","v":0},{"$f":"IFERROR(DATE(YEAR(Gerar_Upload!E386),MONTH(Gerar_Upload!E386),DAY(Gerar_Upload!E386)),\"erro\")","v":"00:00:00"},{"$f":"IFERROR(Gerar_Upload!F386,\"erro\")","v":0},{"$f":"IFERROR(IF(Gerar_Upload!G386<44,REPT(0,44-LEN(Gerar_Upload!G386))&Gerar_Upload!G386,Gerar_Upload!G386),\"erro\")","v":"00000000000000000000000000000000000000000000"}]
[{"$f":"IFERROR(LEFT(Gerar_Upload!A387,120),\"erro\")","v":""},{"$f":"IFERROR(SUBSTITUTE(SUBSTITUTE(SUBSTITUTE(Gerar_Upload!B387,\".\",\"\"),\"-\",\"\"),\"/\",\"\"),\"erro\")","v":""},{"$f":"IFERROR(Gerar_Upload!C387,\"erro\")","v":0},{"$f":"IFERROR(Gerar_Upload!D387,\"erro\")","v":0},{"$f":"IFERROR(DATE(YEAR(Gerar_Upload!E387),MONTH(Gerar_Upload!E387),DAY(Gerar_Upload!E387)),\"erro\")","v":"00:00:00"},{"$f":"IFERROR(Gerar_Upload!F387,\"erro\")","v":0},{"$f":"IFERROR(IF(Gerar_Upload!G387<44,REPT(0,44-LEN(Gerar_Upload!G387))&Gerar_Upload!G387,Gerar_Upload!G387),\"erro\")","v":"00000000000000000000000000000000000000000000"}]
[{"$f":"IFERROR(LEFT(Gerar_Upload!A388,120),\"erro\")","v":""},{"$f":"IFERROR(SUBSTITUTE(SUBSTITUTE(SUBSTITUTE(Gerar_Upload!B388,\".\",\"\"),\"-\",\"\"),\"/\",\"\"),\"erro\")","v":""},{"$f":"IFERROR(Gerar_Upload!C388,\"erro\")","v":0},{"$f":"IFERROR(Gerar_Upload!D388,\"erro\")","v":0},{"$f":"IFERROR(DATE(YEAR(Gerar_Upload!E388),MONTH(Gerar_Upload!E388),DAY(Gerar_Upload!E388)),\"erro\")","v":"00:00:00"},{"$f":"IFERROR(Gerar_Upload!F388,\"erro\")","v":0},{"$f":"IFERROR(IF(Gerar_Upload!G388<44,REPT(0,44-LEN(Gerar_Upload!G388))&Gerar_Upload!G388,Gerar_Upload!G388),\"erro\")","v":"00000000000000000000000000000000000000000000"}]
[{"$f":"IFERROR(LEFT(Gerar_Upload!A389,120),\"erro\")","v":""},{"$f":"IFERROR(SUBSTITUTE(SUBSTITUTE(SUBSTITUTE(Gerar_Upload!B389,\".\",\"\"),\"-\",\"\"),\"/\",\"\"),\"erro\")","v":""},{"$f":"IFERROR(Gerar_Upload!C389,\"erro\")","v":0},{"$f":"IFERROR(Gerar_Upload!D389,\"erro\")","v":0},{"$f":"IFERROR(DATE(YEAR(Gerar_Upload!E389),MONTH(Gerar_Upload!E389),DAY(Gerar_Upload!E389)),\"erro\")","v":"00:00:00"},{"$f":"IFERROR(Gerar_Upload!F389,\"erro\")","v":0},{"$f":"IFERROR(IF(Gerar_Upload!G389<44,REPT(0,44-LEN(Gerar_Upload!G389))&Gerar_Upload!G389,Gerar_Upload!G389),\"erro\")","v":"00000000000000000000000000000000000000000000"}]
[{"$f":"IFERROR(LEFT(Gerar_Upload!A390,120),\"erro\")","v":""},{"$f":"IFERROR(SUBSTITUTE(SUBSTITUTE(SUBSTITUTE(Gerar_Upload!B390,\".\",\"\"),\"-\",\"\"),\"/\",\"\"),\"erro\")","v":""},{"$f":"IFERROR(Gerar_Upload!C390,\"erro\")","v":0},{"$f":"IFERROR(Gerar_Upload!D390,\"erro\")","v":0},{"$f":"IFERROR(DATE(YEAR(Gerar_Upload!E390),MONTH(Gerar_Upload!E390),DAY(Gerar_Upload!E390)),\"erro\")","v":"00:00:00"},{"$f":"IFERROR(Gerar_Upload!F390,\"erro\")","v":0},{"$f":"IFERROR(IF(Gerar_Upload!G390<44,REPT(0,44-LEN(Gerar_Upload!G390))&Gerar_Upload!G390,Gerar_Upload!G390),\"erro\")","v":"00000000000000000000000000000000000000000000"}]
[{"$f":"IFERROR(LEFT(Gerar_Upload!A391,120),\"erro\")","v":""},{"$f":"IFERROR(SUBSTITUTE(SUBSTITUTE(SUBSTITUTE(Gerar_Upload!B391,\".\",\"\"),\"-\",\"\"),\"/\",\"\"),\"erro\")","v":""},{"$f":"IFERROR(Gerar_Upload!C391,\"erro\")","v":0},{"$f":"IFERROR(Gerar_Upload!D391,\"erro\")","v":0},{"$f":"IFERROR(DATE(YEAR(Gerar_Upload!E391),MONTH(Gerar_Upload!E391),DAY(Gerar_Upload!E391)),\"erro\")","v":"00:00:00"},{"$f":"IFERROR(Gerar_Upload!F391,\"erro\")","v":0},{"$f":"IFERROR(IF(Gerar_Upload!G391<44,REPT(0,44-LEN(Gerar_Upload!G391))&Gerar_Upload!G391,Gerar_Upload!G391),\"erro\")","v":"00000000000000000000000000000000000000000000"}]
[{"$f":"IFERROR(LEFT(Gerar_Upload!A392,120),\"erro\")","v":""},{"$f":"IFERROR(SUBSTITUTE(SUBSTITUTE(SUBSTITUTE(Gerar_Upload!B392,\".\",\"\"),\"-\",\"\"),\"/\",\"\"),\"erro\")","v":""},{"$f":"IFERROR(Gerar_Upload!C392,\"erro\")","v":0},{"$f":"IFERROR(Gerar_Upload!D392,\"erro\")","v":0},{"$f":"IFERROR(DATE(YEAR(Gerar_Upload!E392),MONTH(Gerar_Upload!E392),DAY(Gerar_Upload!E392)),\"erro\")","v":"00:00:00"},{"$f":"IFERROR(Gerar_Upload!F392,\"erro\")","v":0},{"$f":"IFERROR(IF(Gerar_Upload!G392<44,REPT(0,44-LEN(Gerar_Upload!G392))&Gerar_Upload!G392,Gerar_Upload!G392),\"erro\")","v":"00000000000000000000000000000000000000000000"}]
[{"$f":"IFERROR(LEFT(Gerar_Upload!A393,120),\"erro\")","v":""},{"$f":"IFERROR(SUBSTITUTE(SUBSTITUTE(SUBSTITUTE(Gerar_Upload!B393,\".\",\"\"),\"-\",\"\"),\"/\",\"\"),\"erro\")","v":""},{"$f":"IFERROR(Gerar_Upload!C393,\"erro\")","v":0},{"$f":"IFERROR(Gerar_Upload!D393,\"erro\")","v":0},{"$f":"IFERROR(DATE(YEAR(Gerar_Upload!E393),MONTH(Gerar_Upload!E393),DAY(Gerar_Upload!E393)),\"erro\")","v":"00:00:00"},{"$f":"IFERROR(Gerar_Upload!F393,\"erro\")","v":0},{"$f":"IFERROR(IF(Gerar_Upload!G393<44,REPT(0,44-LEN(Gerar_Upload!G393))&Gerar_Upload!G393,Gerar_Upload!G393),\"erro\")","v":"00000000000000000000000000000000000000000000"}]
[{"$f":"IFERROR(LEFT(Gerar_Upload!A394,120),\"erro\")","v":""},{"$f":"IFERROR(SUBSTITUTE(SUBSTITUTE(SUBSTITUTE(Gerar_Upload!B394,\".\",\"\"),\"-\",\"\"),\"/\",\"\"),\"erro\")","v":""},{"$f":"IFERROR(Gerar_Upload!C394,\"erro\")","v":0},{"$f":"IFERROR(Gerar_Upload!D394,\"erro\")","v":0},{"$f":"IFERROR(DATE(YEAR(Gerar_Upload!E394),MONTH(Gerar_Upload!E394),DAY(Gerar_Upload!E394)),\"erro\")","v":"00:00:00"},{"$f":"IFERROR(Gerar_Upload!F394,\"erro\")","v":0},{"$f":"IFERROR(IF(Gerar_Upload!G394<44,REPT(0,44-LEN(Gerar_Upload!G394))&Gerar_Upload!G394,Gerar_Upload!G394),\"erro\")","v":"00000000000000000000000000000000000000000000"}]
[{"$f":"IFERROR(LEFT(Gerar_Upload!A395,120),\"erro\")","v":""},{"$f":"IFERROR(SUBSTITUTE(SUBSTITUTE(SUBSTITUTE(Gerar_Upload!B395,\".\",\"\"),\"-\",\"\"),\"/\",\"\"),\"erro\")","v":""},{"$f":"IFERROR(Gerar_Upload!C395,\"erro\")","v":0},{"$f":"IFERROR(Gerar_Upload!D395,\"erro\")","v":0},{"$f":"IFERROR(DATE(YEAR(Gerar_Upload!E395),MONTH(Gerar_Upload!E395),DAY(Gerar_Upload!E395)),\"erro\")","v":"00:00:00"},{"$f":"IFERROR(Gerar_Upload!F395,\"erro\")","v":0},{"$f":"IFERROR(IF(Gerar_Upload!G395<44,REPT(0,44-LEN(Gerar_Upload!G395))&Gerar_Upload!G395,Gerar_Upload!G395),\"erro\")","v":"00000000000000000000000000000000000000000000"}]
[{"$f":"IFERROR(LEFT(Gerar_Upload!A396,120),\"erro\")","v":""},{"$f":"IFERROR(SUBSTITUTE(SUBSTITUTE(SUBSTITUTE(Gerar_Upload!B396,\".\",\"\"),\"-\",\"\"),\"/\",\"\"),\"erro\")","v":""},{"$f":"IFERROR(Gerar_Upload!C396,\"erro\")","v":0},{"$f":"IFERROR(Gerar_Upload!D396,\"erro\")","v":0},{"$f":"IFERROR(DATE(YEAR(Gerar_Upload!E396),MONTH(Gerar_Upload!E396),DAY(Gerar_Upload!E396)),\"erro\")","v":"00:00:00"},{"$f":"IFERROR(Gerar_Upload!F396,\"erro\")","v":0},{"$f":"IFERROR(IF(Gerar_Upload!G396<44,REPT(0,44-LEN(Gerar_Upload!G396))&Gerar_Upload!G396,Gerar_Upload!G396),\"erro\")","v":"00000000000000000000000000000000000000000000"}]
[{"$f":"IFERROR(LEFT(Gerar_Upload!A397,120),\"erro\")","v":""},{"$f":"IFERROR(SUBSTITUTE(SUBSTITUTE(SUBSTITUTE(Gerar_Upload!B397,\".\",\"\"),\"-\",\"\"),\"/\",\"\"),\"erro\")","v":""},{"$f":"IFERROR(Gerar_Upload!C397,\"erro\")","v":0},{"$f":"IFERROR(Gerar_Upload!D397,\"erro\")","v":0},{"$f":"IFERROR(DATE(YEAR(Gerar_Upload!E397),MONTH(Gerar_Upload!E397),DAY(Gerar_Upload!E397)),\"erro\")","v":"00:00:00"},{"$f":"IFERROR(Gerar_Upload!F397,\"erro\")","v":0},{"$f":"IFERROR(IF(Gerar_Upload!G397<44,REPT(0,44-LEN(Gerar_Upload!G397))&Gerar_Upload!G397,Gerar_Upload!G397),\"erro\")","v":"00000000000000000000000000000000000000000000"}]
[{"$f":"IFERROR(LEFT(Gerar_Upload!A398,120),\"erro\")","v":""},{"$f":"IFERROR(SUBSTITUTE(SUBSTITUTE(SUBSTITUTE(Gerar_Upload!B398,\".\",\"\"),\"-\",\"\"),\"/\",\"\"),\"erro\")","v":""},{"$f":"IFERROR(Gerar_Upload!C398,\"erro\")","v":0},{"$f":"IFERROR(Gerar_Upload!D398,\"erro\")","v":0},{"$f":"IFERROR(DATE(YEAR(Gerar_Upload!E398),MONTH(Gerar_Upload!E398),DAY(Gerar_Upload!E398)),\"erro\")","v":"00:00:00"},{"$f":"IFERROR(Gerar_Upload!F398,\"erro\")","v":0},{"$f":"IFERROR(IF(Gerar_Upload!G398<44,REPT(0,44-LEN(Gerar_Upload!G398))&Gerar_Upload!G398,Gerar_Upload!G398),\"erro\")","v":"00000000000000000000000000000000000000000000"}]
[{"$f":"IFERROR(LEFT(Gerar_Upload!A399,120),\"erro\")","v":""},{"$f":"IFERROR(SUBSTITUTE(SUBSTITUTE(SUBSTITUTE(Gerar_Upload!B399,\".\",\"\"),\"-\",\"\"),\"/\",\"\"),\"erro\")","v":""},{"$f":"IFERROR(Gerar_Upload!C399,\"erro\")","v":0},{"$f":"IFERROR(Gerar_Upload!D399,\"erro\")","v":0},{"$f":"IFERROR(DATE(YEAR(Gerar_Upload!E399),MONTH(Gerar_Upload!E399),DAY(Gerar_Upload!E399)),\"erro\")","v":"00:00:00"},{"$f":"IFERROR(Gerar_Upload!F399,\"erro\")","v":0},{"$f":"IFERROR(IF(Gerar_Upload!G399<44,REPT(0,44-LEN(Gerar_Upload!G399))&Gerar_Upload!G399,Gerar_Upload!G399),\"erro\")","v":"00000000000000000000000000000000000000000000"}]
[{"$f":"IFERROR(LEFT(Gerar_Upload!A400,120),\"erro\")","v":""},{"$f":"IFERROR(SUBSTITUTE(SUBSTITUTE(SUBSTITUTE(Gerar_Upload!B400,\".\",\"\"),\"-\",\"\"),\"/\",\"\"),\"erro\")","v":""},{"$f":"IFERROR(Gerar_Upload!C400,\"erro\")","v":0},{"$f":"IFERROR(Gerar_Upload!D400,\"erro\")","v":0},{"$f":"IFERROR(DATE(YEAR(Gerar_Upload!E400),MONTH(Gerar_Upload!E400),DAY(Gerar_Upload!E400)),\"erro\")","v":"00:00:00"},{"$f":"IFERROR(Gerar_Upload!F400,\"erro\")","v":0},{"$f":"IFERROR(IF(Gerar_Upload!G400<44,REPT(0,44-LEN(Gerar_Upload!G400))&Gerar_Upload!G400,Gerar_Upload!G400),\"erro\")","v":"00000000000000000000000000000000000000000000"}]
[{"$f":"IFERROR(LEFT(Gerar_Upload!A401,120),\"erro\")","v":""},{"$f":"IFERROR(SUBSTITUTE(SUBSTITUTE(SUBSTITUTE(Gerar_Upload!B401,\".\",\"\"),\"-\",\"\"),\"/\",\"\"),\"erro\")","v":""},{"$f":"IFERROR(Gerar_Upload!C401,\"erro\")","v":0},{"$f":"IFERROR(Gerar_Upload!D401,\"erro\")","v":0},{"$f":"IFERROR(DATE(YEAR(Gerar_Upload!E401),MONTH(Gerar_Upload!E401),DAY(Gerar_Upload!E401)),\"erro\")","v":"00:00:00"},{"$f":"IFERROR(Gerar_Upload!F401,\"erro\")","v":0},{"$f":"IFERROR(IF(Gerar_Upload!G401<44,REPT(0,44-LEN(Gerar_Upload!G401))&Gerar_Upload!G401,Gerar_Upload!G401),\"erro\")","v":"00000000000000000000000000000000000000000000"}]
[{"$f":"IFERROR(LEFT(Gerar_Upload!A402,120),\"erro\")","v":""},{"$f":"IFERROR(SUBSTITUTE(SUBSTITUTE(SUBSTITUTE(Gerar_Upload!B402,\".\",\"\"),\"-\",\"\"),\"/\",\"\"),\"erro\")","v":""},{"$f":"IFERROR(Gerar_Upload!C402,\"erro\")","v":0},{"$f":"IFERROR(Gerar_Upload!D402,\"erro\")","v":0},{"$f":"IFERROR(DATE(YEAR(Gerar_Upload!E402),MONTH(Gerar_Upload!E402),DAY(Gerar_Upload!E402)),\"erro\")","v":"00:00:00"},{"$f":"IFERROR(Gerar_Upload!F402,\"erro\")","v":0},{"$f":"IFERROR(IF(Gerar_Upload!G402<44,REPT(0,44-LEN(Gerar_Upload!G402))&Gerar_Upload!G402,Gerar_Upload!G402),\"erro\")","v":"00000000000000000000000000000000000000000000"}]
[{"$f":"IFERROR(LEFT(Gerar_Upload!A403,120),\"erro\")","v":""},{"$f":"IFERROR(SUBSTITUTE(SUBSTITUTE(SUBSTITUTE(Gerar_Upload!B403,\".\",\"\"),\"-\",\"\"),\"/\",\"\"),\"erro\")","v":""},{"$f":"IFERROR(Gerar_Upload!C403,\"erro\")","v":0},{"$f":"IFERROR(Gerar_Upload!D403,\"erro\")","v":0},{"$f":"IFERROR(DATE(YEAR(Gerar_Upload!E403),MONTH(Gerar_Upload!E403),DAY(Gerar_Upload!E403)),\"erro\")","v":"00:00:00"},{"$f":"IFERROR(Gerar_Upload!F403,\"erro\")","v":0},{"$f":"IFERROR(IF(Gerar_Upload!G403<44,REPT(0,44-LEN(Gerar_Upload!G403))&Gerar_Upload!G403,Gerar_Upload!G403),\"erro\")","v":"00000000000000000000000000000000000000000000"}]
[{"$f":"IFERROR(LEFT(Gerar_Upload!A404,120),\"erro\")","v":""},{"$f":"IFERROR(SUBSTITUTE(SUBSTITUTE(SUBSTITUTE(Gerar_Upload!B404,\".\",\"\"),\"-\",\"\"),\"/\",\"\"),\"erro\")","v":""},{"$f":"IFERROR(Gerar_Upload!C404,\"erro\")","v":0},{"$f":"IFERROR(Gerar_Upload!D404,\"erro\")","v":0},{"$f":"IFERROR(DATE(YEAR(Gerar_Upload!E404),MONTH(Gerar_Upload!E404),DAY(Gerar_Upload!E404)),\"erro\")","v":"00:00:00"},{"$f":"IFERROR(Gerar_Upload!F404,\"erro\")","v":0},{"$f":"IFERROR(IF(Gerar_Upload!G404<44,REPT(0,44-LEN(Gerar_Upload!G404))&Gerar_Upload!G404,Gerar_Upload!G404),\"erro\")","v":"00000000000000000000000000000000000000000000"}]
[{"$f":"IFERROR(LEFT(Gerar_Upload!A405,120),\"erro\")","v":""},{"$f":"IFERROR(SUBSTITUTE(SUBSTITUTE(SUBSTITUTE(Gerar_Upload!B405,\".\",\"\"),\"-\",\"\"),\"/\",\"\"),\"erro\")","v":""},{"$f":"IFERROR(Gerar_Upload!C405,\"erro\")","v":0},{"$f":"IFERROR(Gerar_Upload!D405,\"erro\")","v":0},{"$f":"IFERROR(DATE(YEAR(Gerar_Upload!E405),MONTH(Gerar_Upload!E405),DAY(Gerar_Upload!E405)),\"erro\")","v":"00:00:00"},{"$f":"IFERROR(Gerar_Upload!F405,\"erro\")","v":0},{"$f":"IFERROR(IF(Gerar_Upload!G405<44,REPT(0,44-LEN(Gerar_Upload!G405))&Gerar_Upload!G405,Gerar_Upload!G405),\"erro\")","v":"00000000000000000000000000000000000000000000"}]
[{"$f":"IFERROR(LEFT(Gerar_Upload!A406,120),\"erro\")","v":""},{"$f":"IFERROR(SUBSTITUTE(SUBSTITUTE(SUBSTITUTE(Gerar_Upload!B406,\".\",\"\"),\"-\",\"\"),\"/\",\"\"),\"erro\")","v":""},{"$f":"IFERROR(Gerar_Upload!C406,\"erro\")","v":0},{"$f":"IFERROR(Gerar_Upload!D406,\"erro\")","v":0},{"$f":"IFERROR(DATE(YEAR(Gerar_Upload!E406),MONTH(Gerar_Upload!E406),DAY(Gerar_Upload!E406)),\"erro\")","v":"00:00:00"},{"$f":"IFERROR(Gerar_Upload!F406,\"erro\")","v":0},{"$f":"IFERROR(IF(Gerar_Upload!G406<44,REPT(0,44-LEN(Gerar_Upload!G406))&Gerar_Upload!G406,Gerar_Upload!G406),\"erro\")","v":"00000000000000000000000000000000000000000000"}]
[{"$f":"IFERROR(LEFT(Gerar_Upload!A407,120),\"erro\")","v":""},{"$f":"IFERROR(SUBSTITUTE(SUBSTITUTE(SUBSTITUTE(Gerar_Upload!B407,\".\",\"\"),\"-\",\"\"),\"/\",\"\"),\"erro\")","v":""},{"$f":"IFERROR(Gerar_Upload!C407,\"erro\")","v":0},{"$f":"IFERROR(Gerar_Upload!D407,\"erro\")","v":0},{"$f":"IFERROR(DATE(YEAR(Gerar_Upload!E407),MONTH(Gerar_Upload!E407),DAY(Gerar_Upload!E407)),\"erro\")","v":"00:00:00"},{"$f":"IFERROR(Gerar_Upload!F407,\"erro\")","v":0},{"$f":"IFERROR(IF(Gerar_Upload!G407<44,REPT(0,44-LEN(Gerar_Upload!G407))&Gerar_Upload!G407,Gerar_Upload!G407),\"erro\")","v":"00000000000000000000000000000000000000000000"}]
[{"$f":"IFERROR(LEFT(Gerar_Upload!A408,120),\"erro\")","v":""},{"$f":"IFERROR(SUBSTITUTE(SUBSTITUTE(SUBSTITUTE(Gerar_Upload!B408,\".\",\"\"),\"-\",\"\"),\"/\",\"\"),\"erro\")","v":""},{"$f":"IFERROR(Gerar_Upload!C408,\"erro\")","v":0},{"$f":"IFERROR(Gerar_Upload!D408,\"erro\")","v":0},{"$f":"IFERROR(DATE(YEAR(Gerar_Upload!E408),MONTH(Gerar_Upload!E408),DAY(Gerar_Upload!E408)),\"erro\")","v":"00:00:00"},{"$f":"IFERROR(Gerar_Upload!F408,\"erro\")","v":0},{"$f":"IFERROR(IF(Gerar_Upload!G408<44,REPT(0,44-LEN(Gerar_Upload!G408))&Gerar_Upload!G408,Gerar_Upload!G408),\"erro\")","v":"00000000000000000000000000000000000000000000"}]
[{"$f":"IFERROR(LEFT(Gerar_Upload!A409,120),\"erro\")","v":""},{"$f":"IFERROR(SUBSTITUTE(SUBSTITUTE(SUBSTITUTE(Gerar_Upload!B409,\".\",\"\"),\"-\",\"\"),\"/\",\"\"),\"erro\")","v":""},{"$f":"IFERROR(Gerar_Upload!C409,\"erro\")","v":0},{"$f":"IFERROR(Gerar_Upload!D409,\"erro\")","v":0},{"$f":"IFERROR(DATE(YEAR(Gerar_Upload!E409),MONTH(Gerar_Upload!E409),DAY(Gerar_Upload!E409)),\"erro\")","v":"00:00:00"},{"$f":"IFERROR(Gerar_Upload!F409,\"erro\")","v":0},{"$f":"IFERROR(IF(Gerar_Upload!G409<44,REPT(0,44-LEN(Gerar_Upload!G409))&Gerar_Upload!G409,Gerar_Upload!G409),\"erro\")","v":"00000000000000000000000000000000000000000000"}]
[{"$f":"IFERROR(LEFT(Gerar_Upload!A410,120),\"erro\")","v":""},{"$f":"IFERROR(SUBSTITUTE(SUBSTITUTE(SUBSTITUTE(Gerar_Upload!B410,\".\",\"\"),\"-\",\"\"),\"/\",\"\"),\"erro\")","v":""},{"$f":"IFERROR(Gerar_Upload!C410,\"erro\")","v":0},{"$f":"IFERROR(Gerar_Upload!D410,\"erro\")","v":0},{"$f":"IFERROR(DATE(YEAR(Gerar_Upload!E410),MONTH(Gerar_Upload!E410),DAY(Gerar_Upload!E410)),\"erro\")","v":"00:00:00"},{"$f":"IFERROR(Gerar_Upload!F410,\"erro\")","v":0},{"$f":"IFERROR(IF(Gerar_Upload!G410<44,REPT(0,44-LEN(Gerar_Upload!G410))&Gerar_Upload!G410,Gerar_Upload!G410),\"erro\")","v":"00000000000000000000000000000000000000000000"}]
[{"$f":"IFERROR(LEFT(Gerar_Upload!A411,120),\"erro\")","v":""},{"$f":"IFERROR(SUBSTITUTE(SUBSTITUTE(SUBSTITUTE(Gerar_Upload!B411,\".\",\"\"),\"-\",\"\"),\"/\",\"\"),\"erro\")","v":""},{"$f":"IFERROR(Gerar_Upload!C411,\"erro\")","v":0},{"$f":"IFERROR(Gerar_Upload!D411,\"erro\")","v":0},{"$f":"IFERROR(DATE(YEAR(Gerar_Upload!E411),MONTH(Gerar_Upload!E411),DAY(Gerar_Upload!E411)),\"erro\")","v":"00:00:00"},{"$f":"IFERROR(Gerar_Upload!F411,\"erro\")","v":0},{"$f":"IFERROR(IF(Gerar_Upload!G411<44,REPT(0,44-LEN(Gerar_Upload!G411))&Gerar_Upload!G411,Gerar_Upload!G411),\"erro\")","v":"00000000000000000000000000000000000000000000"}]
[{"$f":"IFERROR(LEFT(Gerar_Upload!A412,120),\"erro\")","v":""},{"$f":"IFERROR(SUBSTITUTE(SUBSTITUTE(SUBSTITUTE(Gerar_Upload!B412,\".\",\"\"),\"-\",\"\"),\"/\",\"\"),\"erro\")","v":""},{"$f":"IFERROR(Gerar_Upload!C412,\"erro\")","v":0},{"$f":"IFERROR(Gerar_Upload!D412,\"erro\")","v":0},{"$f":"IFERROR(DATE(YEAR(Gerar_Upload!E412),MONTH(Gerar_Upload!E412),DAY(Gerar_Upload!E412)),\"erro\")","v":"00:00:00"},{"$f":"IFERROR(Gerar_Upload!F412,\"erro\")","v":0},{"$f":"IFERROR(IF(Gerar_Upload!G412<44,REPT(0,44-LEN(Gerar_Upload!G412))&Gerar_Upload!G412,Gerar_Upload!G412),\"erro\")","v":"00000000000000000000000000000000000000000000"}]
[{"$f":"IFERROR(LEFT(Gerar_Upload!A413,120),\"erro\")","v":""},{"$f":"IFERROR(SUBSTITUTE(SUBSTITUTE(SUBSTITUTE(Gerar_Upload!B413,\".\",\"\"),\"-\",\"\"),\"/\",\"\"),\"erro\")","v":""},{"$f":"IFERROR(Gerar_Upload!C413,\"erro\")","v":0},{"$f":"IFERROR(Gerar_Upload!D413,\"erro\")","v":0},{"$f":"IFERROR(DATE(YEAR(Gerar_Upload!E413),MONTH(Gerar_Upload!E413),DAY(Gerar_Upload!E413)),\"erro\")","v":"00:00:00"},{"$f":"IFERROR(Gerar_Upload!F413,\"erro\")","v":0},{"$f":"IFERROR(IF(Gerar_Upload!G413<44,REPT(0,44-LEN(Gerar_Upload!G413))&Gerar_Upload!G413,Gerar_Upload!G413),\"erro\")","v":"00000000000000000000000000000000000000000000"}]
[{"$f":"IFERROR(LEFT(Gerar_Upload!A414,120),\"erro\")","v":""},{"$f":"IFERROR(SUBSTITUTE(SUBSTITUTE(SUBSTITUTE(Gerar_Upload!B414,\".\",\"\"),\"-\",\"\"),\"/\",\"\"),\"erro\")","v":""},{"$f":"IFERROR(Gerar_Upload!C414,\"erro\")","v":0},{"$f":"IFERROR(Gerar_Upload!D414,\"erro\")","v":0},{"$f":"IFERROR(DATE(YEAR(Gerar_Upload!E414),MONTH(Gerar_Upload!E414),DAY(Gerar_Upload!E414)),\"erro\")","v":"00:00:00"},{"$f":"IFERROR(Gerar_Upload!F414,\"erro\")","v":0},{"$f":"IFERROR(IF(Gerar_Upload!G414<44,REPT(0,44-LEN(Gerar_Upload!G414))&Gerar_Upload!G414,Gerar_Upload!G414),\"erro\")","v":"00000000000000000000000000000000000000000000"}]
[{"$f":"IFERROR(LEFT(Gerar_Upload!A415,120),\"erro\")","v":""},{"$f":"IFERROR(SUBSTITUTE(SUBSTITUTE(SUBSTITUTE(Gerar_Upload!B415,\".\",\"\"),\"-\",\"\"),\"/\",\"\"),\"erro\")","v":""},{"$f":"IFERROR(Gerar_Upload!C415,\"erro\")","v":0},{"$f":"IFERROR(Gerar_Upload!D415,\"erro\")","v":0},{"$f":"IFERROR(DATE(YEAR(Gerar_Upload!E415),MONTH(Gerar_Upload!E415),DAY(Gerar_Upload!E415)),\"erro\")","v":"00:00:00"},{"$f":"IFERROR(Gerar_Upload!F415,\"erro\")","v":0},{"$f":"IFERROR(IF(Gerar_Upload!G415<44,REPT(0,44-LEN(Gerar_Upload!G415))&Gerar_Upload!G415,Gerar_Upload!G415),\"erro\")","v":"00000000000000000000000000000000000000000000"}]
[{"$f":"IFERROR(LEFT(Gerar_Upload!A416,120),\"erro\")","v":""},{"$f":"IFERROR(SUBSTITUTE(SUBSTITUTE(SUBSTITUTE(Gerar_Upload!B416,\".\",\"\"),\"-\",\"\"),\"/\",\"\"),\"erro\")","v":""},{"$f":"IFERROR(Gerar_Upload!C416,\"erro\")","v":0},{"$f":"IFERROR(Gerar_Upload!D416,\"erro\")","v":0},{"$f":"IFERROR(DATE(YEAR(Gerar_Upload!E416),MONTH(Gerar_Upload!E416),DAY(Gerar_Upload!E416)),\"erro\")","v":"00:00:00"},{"$f":"IFERROR(Gerar_Upload!F416,\"erro\")","v":0},{"$f":"IFERROR(IF(Gerar_Upload!G416<44,REPT(0,44-LEN(Gerar_Upload!G416))&Gerar_Upload!G416,Gerar_Upload!G416),\"erro\")","v":"00000000000000000000000000000000000000000000"}]
[{"$f":"IFERROR(LEFT(Gerar_Upload!A417,120),\"erro\")","v":""},{"$f":"IFERROR(SUBSTITUTE(SUBSTITUTE(SUBSTITUTE(Gerar_Upload!B417,\".\",\"\"),\"-\",\"\"),\"/\",\"\"),\"erro\")","v":""},{"$f":"IFERROR(Gerar_Upload!C417,\"erro\")","v":0},{"$f":"IFERROR(Gerar_Upload!D417,\"erro\")","v":0},{"$f":"IFERROR(DATE(YEAR(Gerar_Upload!E417),MONTH(Gerar_Upload!E417),DAY(Gerar_Upload!E417)),\"erro\")","v":"00:00:00"},{"$f":"IFERROR(Gerar_Upload!F417,\"erro\")","v":0},{"$f":"IFERROR(IF(Gerar_Upload!G417<44,REPT(0,44-LEN(Gerar_Upload!G417))&Gerar_Upload!G417,Gerar_Upload!G417),\"erro\")","v":"00000000000000000000000000000000000000000000"}]
[{"$f":"IFERROR(LEFT(Gerar_Upload!A418,120),\"erro\")","v":""},{"$f":"IFERROR(SUBSTITUTE(SUBSTITUTE(SUBSTITUTE(Gerar_Upload!B418,\".\",\"\"),\"-\",\"\"),\"/\",\"\"),\"erro\")","v":""},{"$f":"IFERROR(Gerar_Upload!C418,\"erro\")","v":0},{"$f":"IFERROR(Gerar_Upload!D418,\"erro\")","v":0},{"$f":"IFERROR(DATE(YEAR(Gerar_Upload!E418),MONTH(Gerar_Upload!E418),DAY(Gerar_Upload!E418)),\"erro\")","v":"00:00:00"},{"$f":"IFERROR(Gerar_Upload!F418,\"erro\")","v":0},{"$f":"IFERROR(IF(Gerar_Upload!G418<44,REPT(0,44-LEN(Gerar_Upload!G418))&Gerar_Upload!G418,Gerar_Upload!G418),\"erro\")","v":"00000000000000000000000000000000000000000000"}]
[{"$f":"IFERROR(LEFT(Gerar_Upload!A419,120),\"erro\")","v":""},{"$f":"IFERROR(SUBSTITUTE(SUBSTITUTE(SUBSTITUTE(Gerar_Upload!B419,\".\",\"\"),\"-\",\"\"),\"/\",\"\"),\"erro\")","v":""},{"$f":"IFERROR(Gerar_Upload!C419,\"erro\")","v":0},{"$f":"IFERROR(Gerar_Upload!D419,\"erro\")","v":0},{"$f":"IFERROR(DATE(YEAR(Gerar_Upload!E419),MONTH(Gerar_Upload!E419),DAY(Gerar_Upload!E419)),\"erro\")","v":"00:00:00"},{"$f":"IFERROR(Gerar_Upload!F419,\"erro\")","v":0},{"$f":"IFERROR(IF(Gerar_Upload!G419<44,REPT(0,44-LEN(Gerar_Upload!G419))&Gerar_Upload!G419,Gerar_Upload!G419),\"erro\")","v":"00000000000000000000000000000000000000000000"}]
[{"$f":"IFERROR(LEFT(Gerar_Upload!A420,120),\"erro\")","v":""},{"$f":"IFERROR(SUBSTITUTE(SUBSTITUTE(SUBSTITUTE(Gerar_Upload!B420,\".\",\"\"),\"-\",\"\"),\"/\",\"\"),\"erro\")","v":""},{"$f":"IFERROR(Gerar_Upload!C420,\"erro\")","v":0},{"$f":"IFERROR(Gerar_Upload!D420,\"erro\")","v":0},{"$f":"IFERROR(DATE(YEAR(Gerar_Upload!E420),MONTH(Gerar_Upload!E420),DAY(Gerar_Upload!E420)),\"erro\")","v":"00:00:00"},{"$f":"IFERROR(Gerar_Upload!F420,\"erro\")","v":0},{"$f":"IFERROR(IF(Gerar_Upload!G420<44,REPT(0,44-LEN(Gerar_Upload!G420))&Gerar_Upload!G420,Gerar_Upload!G420),\"erro\")","v":"00000000000000000000000000000000000000000000"}]
[{"$f":"IFERROR(LEFT(Gerar_Upload!A421,120),\"erro\")","v":""},{"$f":"IFERROR(SUBSTITUTE(SUBSTITUTE(SUBSTITUTE(Gerar_Upload!B421,\".\",\"\"),\"-\",\"\"),\"/\",\"\"),\"erro\")","v":""},{"$f":"IFERROR(Gerar_Upload!C421,\"erro\")","v":0},{"$f":"IFERROR(Gerar_Upload!D421,\"erro\")","v":0},{"$f":"IFERROR(DATE(YEAR(Gerar_Upload!E421),MONTH(Gerar_Upload!E421),DAY(Gerar_Upload!E421)),\"erro\")","v":"00:00:00"},{"$f":"IFERROR(Gerar_Upload!F421,\"erro\")","v":0},{"$f":"IFERROR(IF(Gerar_Upload!G421<44,REPT(0,44-LEN(Gerar_Upload!G421))&Gerar_Upload!G421,Gerar_Upload!G421),\"erro\")","v":"00000000000000000000000000000000000000000000"}]
[{"$f":"IFERROR(LEFT(Gerar_Upload!A422,120),\"erro\")","v":""},{"$f":"IFERROR(SUBSTITUTE(SUBSTITUTE(SUBSTITUTE(Gerar_Upload!B422,\".\",\"\"),\"-\",\"\"),\"/\",\"\"),\"erro\")","v":""},{"$f":"IFERROR(Gerar_Upload!C422,\"erro\")","v":0},{"$f":"IFERROR(Gerar_Upload!D422,\"erro\")","v":0},{"$f":"IFERROR(DATE(YEAR(Gerar_Upload!E422),MONTH(Gerar_Upload!E422),DAY(Gerar_Upload!E422)),\"erro\")","v":"00:00:00"},{"$f":"IFERROR(Gerar_Upload!F422,\"erro\")","v":0},{"$f":"IFERROR(IF(Gerar_Upload!G422<44,REPT(0,44-LEN(Gerar_Upload!G422))&Gerar_Upload!G422,Gerar_Upload!G422),\"erro\")","v":"00000000000000000000000000000000000000000000"}]
[{"$f":"IFERROR(LEFT(Gerar_Upload!A423,120),\"erro\")","v":""},{"$f":"IFERROR(SUBSTITUTE(SUBSTITUTE(SUBSTITUTE(Gerar_Upload!B423,\".\",\"\"),\"-\",\"\"),\"/\",\"\"),\"erro\")","v":""},{"$f":"IFERROR(Gerar_Upload!C423,\"erro\")","v":0},{"$f":"IFERROR(Gerar_Upload!D423,\"erro\")","v":0},{"$f":"IFERROR(DATE(YEAR(Gerar_Upload!E423),MONTH(Gerar_Upload!E423),DAY(Gerar_Upload!E423)),\"erro\")","v":"00:00:00"},{"$f":"IFERROR(Gerar_Upload!F423,\"erro\")","v":0},{"$f":"IFERROR(IF(Gerar_Upload!G423<44,REPT(0,44-LEN(Gerar_Upload!G423))&Gerar_Upload!G423,Gerar_Upload!G423),\"erro\")","v":"00000000000000000000000000000000000000000000"}]
[{"$f":"IFERROR(LEFT(Gerar_Upload!A424,120),\"erro\")","v":""},{"$f":"IFERROR(SUBSTITUTE(SUBSTITUTE(SUBSTITUTE(Gerar_Upload!B424,\".\",\"\"),\"-\",\"\"),\"/\",\"\"),\"erro\")","v":""},{"$f":"IFERROR(Gerar_Upload!C424,\"erro\")","v":0},{"$f":"IFERROR(Gerar_Upload!D424,\"erro\")","v":0},{"$f":"IFERROR(DATE(YEAR(Gerar_Upload!E424),MONTH(Gerar_Upload!E424),DAY(Gerar_Upload!E424)),\"erro\")","v":"00:00:00"},{"$f":"IFERROR(Gerar_Upload!F424,\"erro\")","v":0},{"$f":"IFERROR(IF(Gerar_Upload!G424<44,REPT(0,44-LEN(Gerar_Upload!G424))&Gerar_Upload!G424,Gerar_Upload!G424),\"erro\")","v":"00000000000000000000000000000000000000000000"}]
[{"$f":"IFERROR(LEFT(Gerar_Upload!A425,120),\"erro\")","v":""},{"$f":"IFERROR(SUBSTITUTE(SUBSTITUTE(SUBSTITUTE(Gerar_Upload!B425,\".\",\"\"),\"-\",\"\"),\"/\",\"\"),\"erro\")","v":""},{"$f":"IFERROR(Gerar_Upload!C425,\"erro\")","v":0},{"$f":"IFERROR(Gerar_Upload!D425,\"erro\")","v":0},{"$f":"IFERROR(DATE(YEAR(Gerar_Upload!E425),MONTH(Gerar_Upload!E425),DAY(Gerar_Upload!E425)),\"erro\")","v":"00:00:00"},{"$f":"IFERROR(Gerar_Upload!F425,\"erro\")","v":0},{"$f":"IFERROR(IF(Gerar_Upload!G425<44,REPT(0,44-LEN(Gerar_Upload!G425))&Gerar_Upload!G425,Gerar_Upload!G425),\"erro\")","v":"00000000000000000000000000000000000000000000"}]
[{"$f":"IFERROR(LEFT(Gerar_Upload!A426,120),\"erro\")","v":""},{"$f":"IFERROR(SUBSTITUTE(SUBSTITUTE(SUBSTITUTE(Gerar_Upload!B426,\".\",\"\"),\"-\",\"\"),\"/\",\"\"),\"erro\")","v":""},{"$f":"IFERROR(Gerar_Upload!C426,\"erro\")","v":0},{"$f":"IFERROR(Gerar_Upload!D426,\"erro\")","v":0},{"$f":"IFERROR(DATE(YEAR(Gerar_Upload!E426),MONTH(Gerar_Upload!E426),DAY(Gerar_Upload!E426)),\"erro\")","v":"00:00:00"},{"$f":"IFERROR(Gerar_Upload!F426,\"erro\")","v":0},{"$f":"IFERROR(IF(Gerar_Upload!G426<44,REPT(0,44-LEN(Gerar_Upload!G426))&Gerar_Upload!G426,Gerar_Upload!G426),\"erro\")","v":"00000000000000000000000000000000000000000000"}]
[{"$f":"IFERROR(LEFT(Gerar_Upload!A427,120),\"erro\")","v":""},{"$f":"IFERROR(SUBSTITUTE(SUBSTITUTE(SUBSTITUTE(Gerar_Upload!B427,\".\",\"\"),\"-\",\"\"),\"/\",\"\"),\"erro\")","v":""},{"$f":"IFERROR(Gerar_Upload!C427,\"erro\")","v":0},{"$f":"IFERROR(Gerar_Upload!D427,\"erro\")","v":0},{"$f":"IFERROR(DATE(YEAR(Gerar_Upload!E427),MONTH(Gerar_Upload!E427),DAY(Gerar_Upload!E427)),\"erro\")","v":"00:00:00"},{"$f":"IFERROR(Gerar_Upload!F427,\"erro\")","v":0},{"$f":"IFERROR(IF(Gerar_Upload!G427<44,REPT(0,44-LEN(Gerar_Upload!G427))&Gerar_Upload!G427,Gerar_Upload!G427),\"erro\")","v":"00000000000000000000000000000000000000000000"}]
[{"$f":"IFERROR(LEFT(Gerar_Upload!A428,120),\"erro\")","v":""},{"$f":"IFERROR(SUBSTITUTE(SUBSTITUTE(SUBSTITUTE(Gerar_Upload!B428,\".\",\"\"),\"-\",\"\"),\"/\",\"\"),\"erro\")","v":""},{"$f":"IFERROR(Gerar_Upload!C428,\"erro\")","v":0},{"$f":"IFERROR(Gerar_Upload!D428,\"erro\")","v":0},{"$f":"IFERROR(DATE(YEAR(Gerar_Upload!E428),MONTH(Gerar_Upload!E428),DAY(Gerar_Upload!E428)),\"erro\")","v":"00:00:00"},{"$f":"IFERROR(Gerar_Upload!F428,\"erro\")","v":0},{"$f":"IFERROR(IF(Gerar_Upload!G428<44,REPT(0,44-LEN(Gerar_Upload!G428))&Gerar_Upload!G428,Gerar_Upload!G428),\"erro\")","v":"00000000000000000000000000000000000000000000"}]
[{"$f":"IFERROR(LEFT(Gerar_Upload!A429,120),\"erro\")","v":""},{"$f":"IFERROR(SUBSTITUTE(SUBSTITUTE(SUBSTITUTE(Gerar_Upload!B429,\".\",\"\"),\"-\",\"\"),\"/\",\"\"),\"erro\")","v":""},{"$f":"IFERROR(Gerar_Upload!C429,\"erro\")","v":0},{"$f":"IFERROR(Gerar_Upload!D429,\"erro\")","v":0},{"$f":"IFERROR(DATE(YEAR(Gerar_Upload!E429),MONTH(Gerar_Upload!E429),DAY(Gerar_Upload!E429)),\"erro\")","v":"00:00:00"},{"$f":"IFERROR(Gerar_Upload!F429,\"erro\")","v":0},{"$f":"IFERROR(IF(Gerar_Upload!G429<44,REPT(0,44-LEN(Gerar_Upload!G429))&Gerar_Upload!G429,Gerar_Upload!G429),\"erro\")","v":"00000000000000000000000000000000000000000000"}]
[{"$f":"IFERROR(LEFT(Gerar_Upload!A430,120),\"erro\")","v":""},{"$f":"IFERROR(SUBSTITUTE(SUBSTITUTE(SUBSTITUTE(Gerar_Upload!B430,\".\",\"\"),\"-\",\"\"),\"/\",\"\"),\"erro\")","v":""},{"$f":"IFERROR(Gerar_Upload!C430,\"erro\")","v":0},{"$f":"IFERROR(Gerar_Upload!D430,\"erro\")","v":0},{"$f":"IFERROR(DATE(YEAR(Gerar_Upload!E430),MONTH(Gerar_Upload!E430),DAY(Gerar_Upload!E430)),\"erro\")","v":"00:00:00"},{"$f":"IFERROR(Gerar_Upload!F430,\"erro\")","v":0},{"$f":"IFERROR(IF(Gerar_Upload!G430<44,REPT(0,44-LEN(Gerar_Upload!G430))&Gerar_Upload!G430,Gerar_Upload!G430),\"erro\")","v":"00000000000000000000000000000000000000000000"}]
[{"$f":"IFERROR(LEFT(Gerar_Upload!A431,120),\"erro\")","v":""},{"$f":"IFERROR(SUBSTITUTE(SUBSTITUTE(SUBSTITUTE(Gerar_Upload!B431,\".\",\"\"),\"-\",\"\"),\"/\",\"\"),\"erro\")","v":""},{"$f":"IFERROR(Gerar_Upload!C431,\"erro\")","v":0},{"$f":"IFERROR(Gerar_Upload!D431,\"erro\")","v":0},{"$f":"IFERROR(DATE(YEAR(Gerar_Upload!E431),MONTH(Gerar_Upload!E431),DAY(Gerar_Upload!E431)),\"erro\")","v":"00:00:00"},{"$f":"IFERROR(Gerar_Upload!F431,\"erro\")","v":0},{"$f":"IFERROR(IF(Gerar_Upload!G431<44,REPT(0,44-LEN(Gerar_Upload!G431))&Gerar_Upload!G431,Gerar_Upload!G431),\"erro\")","v":"00000000000000000000000000000000000000000000"}]
[{"$f":"IFERROR(LEFT(Gerar_Upload!A432,120),\"erro\")","v":""},{"$f":"IFERROR(SUBSTITUTE(SUBSTITUTE(SUBSTITUTE(Gerar_Upload!B432,\".\",\"\"),\"-\",\"\"),\"/\",\"\"),\"erro\")","v":""},{"$f":"IFERROR(Gerar_Upload!C432,\"erro\")","v":0},{"$f":"IFERROR(Gerar_Upload!D432,\"erro\")","v":0},{"$f":"IFERROR(DATE(YEAR(Gerar_Upload!E432),MONTH(Gerar_Upload!E432),DAY(Gerar_Upload!E432)),\"erro\")","v":"00:00:00"},{"$f":"IFERROR(Gerar_Upload!F432,\"erro\")","v":0},{"$f":"IFERROR(IF(Gerar_Upload!G432<44,REPT(0,44-LEN(Gerar_Upload!G432))&Gerar_Upload!G432,Gerar_Upload!G432),\"erro\")","v":"00000000000000000000000000000000000000000000"}]
[{"$f":"IFERROR(LEFT(Gerar_Upload!A433,120),\"erro\")","v":""},{"$f":"IFERROR(SUBSTITUTE(SUBSTITUTE(SUBSTITUTE(Gerar_Upload!B433,\".\",\"\"),\"-\",\"\"),\"/\",\"\"),\"erro\")","v":""},{"$f":"IFERROR(Gerar_Upload!C433,\"erro\")","v":0},{"$f":"IFERROR(Gerar_Upload!D433,\"erro\")","v":0},{"$f":"IFERROR(DATE(YEAR(Gerar_Upload!E433),MONTH(Gerar_Upload!E433),DAY(Gerar_Upload!E433)),\"erro\")","v":"00:00:00"},{"$f":"IFERROR(Gerar_Upload!F433,\"erro\")","v":0},{"$f":"IFERROR(IF(Gerar_Upload!G433<44,REPT(0,44-LEN(Gerar_Upload!G433))&Gerar_Upload!G433,Gerar_Upload!G433),\"erro\")","v":"00000000000000000000000000000000000000000000"}]
[{"$f":"IFERROR(LEFT(Gerar_Upload!A434,120),\"erro\")","v":""},{"$f":"IFERROR(SUBSTITUTE(SUBSTITUTE(SUBSTITUTE(Gerar_Upload!B434,\".\",\"\"),\"-\",\"\"),\"/\",\"\"),\"erro\")","v":""},{"$f":"IFERROR(Gerar_Upload!C434,\"erro\")","v":0},{"$f":"IFERROR(Gerar_Upload!D434,\"erro\")","v":0},{"$f":"IFERROR(DATE(YEAR(Gerar_Upload!E434),MONTH(Gerar_Upload!E434),DAY(Gerar_Upload!E434)),\"erro\")","v":"00:00:00"},{"$f":"IFERROR(Gerar_Upload!F434,\"erro\")","v":0},{"$f":"IFERROR(IF(Gerar_Upload!G434<44,REPT(0,44-LEN(Gerar_Upload!G434))&Gerar_Upload!G434,Gerar_Upload!G434),\"erro\")","v":"00000000000000000000000000000000000000000000"}]
[{"$f":"IFERROR(LEFT(Gerar_Upload!A435,120),\"erro\")","v":""},{"$f":"IFERROR(SUBSTITUTE(SUBSTITUTE(SUBSTITUTE(Gerar_Upload!B435,\".\",\"\"),\"-\",\"\"),\"/\",\"\"),\"erro\")","v":""},{"$f":"IFERROR(Gerar_Upload!C435,\"erro\")","v":0},{"$f":"IFERROR(Gerar_Upload!D435,\"erro\")","v":0},{"$f":"IFERROR(DATE(YEAR(Gerar_Upload!E435),MONTH(Gerar_Upload!E435),DAY(Gerar_Upload!E435)),\"erro\")","v":"00:00:00"},{"$f":"IFERROR(Gerar_Upload!F435,\"erro\")","v":0},{"$f":"IFERROR(IF(Gerar_Upload!G435<44,REPT(0,44-LEN(Gerar_Upload!G435))&Gerar_Upload!G435,Gerar_Upload!G435),\"erro\")","v":"00000000000000000000000000000000000000000000"}]
[{"$f":"IFERROR(LEFT(Gerar_Upload!A436,120),\"erro\")","v":""},{"$f":"IFERROR(SUBSTITUTE(SUBSTITUTE(SUBSTITUTE(Gerar_Upload!B436,\".\",\"\"),\"-\",\"\"),\"/\",\"\"),\"erro\")","v":""},{"$f":"IFERROR(Gerar_Upload!C436,\"erro\")","v":0},{"$f":"IFERROR(Gerar_Upload!D436,\"erro\")","v":0},{"$f":"IFERROR(DATE(YEAR(Gerar_Upload!E436),MONTH(Gerar_Upload!E436),DAY(Gerar_Upload!E436)),\"erro\")","v":"00:00:00"},{"$f":"IFERROR(Gerar_Upload!F436,\"erro\")","v":0},{"$f":"IFERROR(IF(Gerar_Upload!G436<44,REPT(0,44-LEN(Gerar_Upload!G436))&Gerar_Upload!G436,Gerar_Upload!G436),\"erro\")","v":"00000000000000000000000000000000000000000000"}]
[{"$f":"IFERROR(LEFT(Gerar_Upload!A437,120),\"erro\")","v":""},{"$f":"IFERROR(SUBSTITUTE(SUBSTITUTE(SUBSTITUTE(Gerar_Upload!B437,\".\",\"\"),\"-\",\"\"),\"/\",\"\"),\"erro\")","v":""},{"$f":"IFERROR(Gerar_Upload!C437,\"erro\")","v":0},{"$f":"IFERROR(Gerar_Upload!D437,\"erro\")","v":0},{"$f":"IFERROR(DATE(YEAR(Gerar_Upload!E437),MONTH(Gerar_Upload!E437),DAY(Gerar_Upload!E437)),\"erro\")","v":"00:00:00"},{"$f":"IFERROR(Gerar_Upload!F437,\"erro\")","v":0},{"$f":"IFERROR(IF(Gerar_Upload!G437<44,REPT(0,44-LEN(Gerar_Upload!G437))&Gerar_Upload!G437,Gerar_Upload!G437),\"erro\")","v":"00000000000000000000000000000000000000000000"}]
[{"$f":"IFERROR(LEFT(Gerar_Upload!A438,120),\"erro\")","v":""},{"$f":"IFERROR(SUBSTITUTE(SUBSTITUTE(SUBSTITUTE(Gerar_Upload!B438,\".\",\"\"),\"-\",\"\"),\"/\",\"\"),\"erro\")","v":""},{"$f":"IFERROR(Gerar_Upload!C438,\"erro\")","v":0},{"$f":"IFERROR(Gerar_Upload!D438,\"erro\")","v":0},{"$f":"IFERROR(DATE(YEAR(Gerar_Upload!E438),MONTH(Gerar_Upload!E438),DAY(Gerar_Upload!E438)),\"erro\")","v":"00:00:00"},{"$f":"IFERROR(Gerar_Upload!F438,\"erro\")","v":0},{"$f":"IFERROR(IF(Gerar_Upload!G438<44,REPT(0,44-LEN(Gerar_Upload!G438))&Gerar_Upload!G438,Gerar_Upload!G438),\"erro\")","v":"00000000000000000000000000000000000000000000"}]
[{"$f":"IFERROR(LEFT(Gerar_Upload!A439,120),\"erro\")","v":""},{"$f":"IFERROR(SUBSTITUTE(SUBSTITUTE(SUBSTITUTE(Gerar_Upload!B439,\".\",\"\"),\"-\",\"\"),\"/\",\"\"),\"erro\")","v":""},{"$f":"IFERROR(Gerar_Upload!C439,\"erro\")","v":0},{"$f":"IFERROR(Gerar_Upload!D439,\"erro\")","v":0},{"$f":"IFERROR(DATE(YEAR(Gerar_Upload!E439),MONTH(Gerar_Upload!E439),DAY(Gerar_Upload!E439)),\"erro\")","v":"00:00:00"},{"$f":"IFERROR(Gerar_Upload!F439,\"erro\")","v":0},{"$f":"IFERROR(IF(Gerar_Upload!G439<44,REPT(0,44-LEN(Gerar_Upload!G439))&Gerar_Upload!G439,Gerar_Upload!G439),\"erro\")","v":"00000000000000000000000000000000000000000000"}]
[{"$f":"IFERROR(LEFT(Gerar_Upload!A440,120),\"erro\")","v":""},{"$f":"IFERROR(SUBSTITUTE(SUBSTITUTE(SUBSTITUTE(Gerar_Upload!B440,\".\",\"\"),\"-\",\"\"),\"/\",\"\"),\"erro\")","v":""},{"$f":"IFERROR(Gerar_Upload!C440,\"erro\")","v":0},{"$f":"IFERROR(Gerar_Upload!D440,\"erro\")","v":0},{"$f":"IFERROR(DATE(YEAR(Gerar_Upload!E440),MONTH(Gerar_Upload!E440),DAY(Gerar_Upload!E440)),\"erro\")","v":"00:00:00"},{"$f":"IFERROR(Gerar_Upload!F440,\"erro\")","v":0},{"$f":"IFERROR(IF(Gerar_Upload!G440<44,REPT(0,44-LEN(Gerar_Upload!G440))&Gerar_Upload!G440,Gerar_Upload!G440),\"erro\")","v":"00000000000000000000000000000000000000000000"}]
[{"$f":"IFERROR(LEFT(Gerar_Upload!A441,120),\"erro\")","v":""},{"$f":"IFERROR(SUBSTITUTE(SUBSTITUTE(SUBSTITUTE(Gerar_Upload!B441,\".\",\"\"),\"-\",\"\"),\"/\",\"\"),\"erro\")","v":""},{"$f":"IFERROR(Gerar_Upload!C441,\"erro\")","v":0},{"$f":"IFERROR(Gerar_Upload!D441,\"erro\")","v":0},{"$f":"IFERROR(DATE(YEAR(Gerar_Upload!E441),MONTH(Gerar_Upload!E441),DAY(Gerar_Upload!E441)),\"erro\")","v":"00:00:00"},{"$f":"IFERROR(Gerar_Upload!F441,\"erro\")","v":0},{"$f":"IFERROR(IF(Gerar_Upload!G441<44,REPT(0,44-LEN(Gerar_Upload!G441))&Gerar_Upload!G441,Gerar_Upload!G441),\"erro\")","v":"00000000000000000000000000000000000000000000"}]
[{"$f":"IFERROR(LEFT(Gerar_Upload!A442,120),\"erro\")","v":""},{"$f":"IFERROR(SUBSTITUTE(SUBSTITUTE(SUBSTITUTE(Gerar_Upload!B442,\".\",\"\"),\"-\",\"\"),\"/\",\"\"),\"erro\")","v":""},{"$f":"IFERROR(Gerar_Upload!C442,\"erro\")","v":0},{"$f":"IFERROR(Gerar_Upload!D442,\"erro\")","v":0},{"$f":"IFERROR(DATE(YEAR(Gerar_Upload!E442),MONTH(Gerar_Upload!E442),DAY(Gerar_Upload!E442)),\"erro\")","v":"00:00:00"},{"$f":"IFERROR(Gerar_Upload!F442,\"erro\")","v":0},{"$f":"IFERROR(IF(Gerar_Upload!G442<44,REPT(0,44-LEN(Gerar_Upload!G442))&Gerar_Upload!G442,Gerar_Upload!G442),\"erro\")","v":"00000000000000000000000000000000000000000000"}]
[{"$f":"IFERROR(LEFT(Gerar_Upload!A443,120),\"erro\")","v":""},{"$f":"IFERROR(SUBSTITUTE(SUBSTITUTE(SUBSTITUTE(Gerar_Upload!B443,\".\",\"\"),\"-\",\"\"),\"/\",\"\"),\"erro\")","v":""},{"$f":"IFERROR(Gerar_Upload!C443,\"erro\")","v":0},{"$f":"IFERROR(Gerar_Upload!D443,\"erro\")","v":0},{"$f":"IFERROR(DATE(YEAR(Gerar_Upload!E443),MONTH(Gerar_Upload!E443),DAY(Gerar_Upload!E443)),\"erro\")","v":"00:00:00"},{"$f":"IFERROR(Gerar_Upload!F443,\"erro\")","v":0},{"$f":"IFERROR(IF(Gerar_Upload!G443<44,REPT(0,44-LEN(Gerar_Upload!G443))&Gerar_Upload!G443,Gerar_Upload!G443),\"erro\")","v":"00000000000000000000000000000000000000000000"}]
[{"$f":"IFERROR(LEFT(Gerar_Upload!A444,120),\"erro\")","v":""},{"$f":"IFERROR(SUBSTITUTE(SUBSTITUTE(SUBSTITUTE(Gerar_Upload!B444,\".\",\"\"),\"-\",\"\"),\"/\",\"\"),\"erro\")","v":""},{"$f":"IFERROR(Gerar_Upload!C444,\"erro\")","v":0},{"$f":"IFERROR(Gerar_Upload!D444,\"erro\")","v":0},{"$f":"IFERROR(DATE(YEAR(Gerar_Upload!E444),MONTH(Gerar_Upload!E444),DAY(Gerar_Upload!E444)),\"erro\")","v":"00:00:00"},{"$f":"IFERROR(Gerar_Upload!F444,\"erro\")","v":0},{"$f":"IFERROR(IF(Gerar_Upload!G444<44,REPT(0,44-LEN(Gerar_Upload!G444))&Gerar_Upload!G444,Gerar_Upload!G444),\"erro\")","v":"00000000000000000000000000000000000000000000"}]
[{"$f":"IFERROR(LEFT(Gerar_Upload!A445,120),\"erro\")","v":""},{"$f":"IFERROR(SUBSTITUTE(SUBSTITUTE(SUBSTITUTE(Gerar_Upload!B445,\".\",\"\"),\"-\",\"\"),\"/\",\"\"),\"erro\")","v":""},{"$f":"IFERROR(Gerar_Upload!C445,\"erro\")","v":0},{"$f":"IFERROR(Gerar_Upload!D445,\"erro\")","v":0},{"$f":"IFERROR(DATE(YEAR(Gerar_Upload!E445),MONTH(Gerar_Upload!E445),DAY(Gerar_Upload!E445)),\"erro\")","v":"00:00:00"},{"$f":"IFERROR(Gerar_Upload!F445,\"erro\")","v":0},{"$f":"IFERROR(IF(Gerar_Upload!G445<44,REPT(0,44-LEN(Gerar_Upload!G445))&Gerar_Upload!G445,Gerar_Upload!G445),\"erro\")","v":"00000000000000000000000000000000000000000000"}]
[{"$f":"IFERROR(LEFT(Gerar_Upload!A446,120),\"erro\")","v":""},{"$f":"IFERROR(SUBSTITUTE(SUBSTITUTE(SUBSTITUTE(Gerar_Upload!B446,\".\",\"\"),\"-\",\"\"),\"/\",\"\"),\"erro\")","v":""},{"$f":"IFERROR(Gerar_Upload!C446,\"erro\")","v":0},{"$f":"IFERROR(Gerar_Upload!D446,\"erro\")","v":0},{"$f":"IFERROR(DATE(YEAR(Gerar_Upload!E446),MONTH(Gerar_Upload!E446),DAY(Gerar_Upload!E446)),\"erro\")","v":"00:00:00"},{"$f":"IFERROR(Gerar_Upload!F446,\"erro\")","v":0},{"$f":"IFERROR(IF(Gerar_Upload!G446<44,REPT(0,44-LEN(Gerar_Upload!G446))&Gerar_Upload!G446,Gerar_Upload!G446),\"erro\")","v":"00000000000000000000000000000000000000000000"}]
[{"$f":"IFERROR(LEFT(Gerar_Upload!A447,120),\"erro\")","v":""},{"$f":"IFERROR(SUBSTITUTE(SUBSTITUTE(SUBSTITUTE(Gerar_Upload!B447,\".\",\"\"),\"-\",\"\"),\"/\",\"\"),\"erro\")","v":""},{"$f":"IFERROR(Gerar_Upload!C447,\"erro\")","v":0},{"$f":"IFERROR(Gerar_Upload!D447,\"erro\")","v":0},{"$f":"IFERROR(DATE(YEAR(Gerar_Upload!E447),MONTH(Gerar_Upload!E447),DAY(Gerar_Upload!E447)),\"erro\")","v":"00:00:00"},{"$f":"IFERROR(Gerar_Upload!F447,\"erro\")","v":0},{"$f":"IFERROR(IF(Gerar_Upload!G447<44,REPT(0,44-LEN(Gerar_Upload!G447))&Gerar_Upload!G447,Gerar_Upload!G447),\"erro\")","v":"00000000000000000000000000000000000000000000"}]
[{"$f":"IFERROR(LEFT(Gerar_Upload!A448,120),\"erro\")","v":""},{"$f":"IFERROR(SUBSTITUTE(SUBSTITUTE(SUBSTITUTE(Gerar_Upload!B448,\".\",\"\"),\"-\",\"\"),\"/\",\"\"),\"erro\")","v":""},{"$f":"IFERROR(Gerar_Upload!C448,\"erro\")","v":0},{"$f":"IFERROR(Gerar_Upload!D448,\"erro\")","v":0},{"$f":"IFERROR(DATE(YEAR(Gerar_Upload!E448),MONTH(Gerar_Upload!E448),DAY(Gerar_Upload!E448)),\"erro\")","v":"00:00:00"},{"$f":"IFERROR(Gerar_Upload!F448,\"erro\")","v":0},{"$f":"IFERROR(IF(Gerar_Upload!G448<44,REPT(0,44-LEN(Gerar_Upload!G448))&Gerar_Upload!G448,Gerar_Upload!G448),\"erro\")","v":"00000000000000000000000000000000000000000000"}]
[{"$f":"IFERROR(LEFT(Gerar_Upload!A449,120),\"erro\")","v":""},{"$f":"IFERROR(SUBSTITUTE(SUBSTITUTE(SUBSTITUTE(Gerar_Upload!B449,\".\",\"\"),\"-\",\"\"),\"/\",\"\"),\"erro\")","v":""},{"$f":"IFERROR(Gerar_Upload!C449,\"erro\")","v":0},{"$f":"IFERROR(Gerar_Upload!D449,\"erro\")","v":0},{"$f":"IFERROR(DATE(YEAR(Gerar_Upload!E449),MONTH(Gerar_Upload!E449),DAY(Gerar_Upload!E449)),\"erro\")","v":"00:00:00"},{"$f":"IFERROR(Gerar_Upload!F449,\"erro\")","v":0},{"$f":"IFERROR(IF(Gerar_Upload!G449<44,REPT(0,44-LEN(Gerar_Upload!G449))&Gerar_Upload!G449,Gerar_Upload!G449),\"erro\")","v":"00000000000000000000000000000000000000000000"}]
[{"$f":"IFERROR(LEFT(Gerar_Upload!A450,120),\"erro\")","v":""},{"$f":"IFERROR(SUBSTITUTE(SUBSTITUTE(SUBSTITUTE(Gerar_Upload!B450,\".\",\"\"),\"-\",\"\"),\"/\",\"\"),\"erro\")","v":""},{"$f":"IFERROR(Gerar_Upload!C450,\"erro\")","v":0},{"$f":"IFERROR(Gerar_Upload!D450,\"erro\")","v":0},{"$f":"IFERROR(DATE(YEAR(Gerar_Upload!E450),MONTH(Gerar_Upload!E450),DAY(Gerar_Upload!E450)),\"erro\")","v":"00:00:00"},{"$f":"IFERROR(Gerar_Upload!F450,\"erro\")","v":0},{"$f":"IFERROR(IF(Gerar_Upload!G450<44,REPT(0,44-LEN(Gerar_Upload!G450))&Gerar_Upload!G450,Gerar_Upload!G450),\"erro\")","v":"00000000000000000000000000000000000000000000"}]
[{"$f":"IFERROR(LEFT(Gerar_Upload!A451,120),\"erro\")","v":""},{"$f":"IFERROR(SUBSTITUTE(SUBSTITUTE(SUBSTITUTE(Gerar_Upload!B451,\".\",\"\"),\"-\",\"\"),\"/\",\"\"),\"erro\")","v":""},{"$f":"IFERROR(Gerar_Upload!C451,\"erro\")","v":0},{"$f":"IFERROR(Gerar_Upload!D451,\"erro\")","v":0},{"$f":"IFERROR(DATE(YEAR(Gerar_Upload!E451),MONTH(Gerar_Upload!E451),DAY(Gerar_Upload!E451)),\"erro\")","v":"00:00:00"},{"$f":"IFERROR(Gerar_Upload!F451,\"erro\")","v":0},{"$f":"IFERROR(IF(Gerar_Upload!G451<44,REPT(0,44-LEN(Gerar_Upload!G451))&Gerar_Upload!G451,Gerar_Upload!G451),\"erro\")","v":"00000000000000000000000000000000000000000000"}]
[{"$f":"IFERROR(LEFT(Gerar_Upload!A452,120),\"erro\")","v":""},{"$f":"IFERROR(SUBSTITUTE(SUBSTITUTE(SUBSTITUTE(Gerar_Upload!B452,\".\",\"\"),\"-\",\"\"),\"/\",\"\"),\"erro\")","v":""},{"$f":"IFERROR(Gerar_Upload!C452,\"erro\")","v":0},{"$f":"IFERROR(Gerar_Upload!D452,\"erro\")","v":0},{"$f":"IFERROR(DATE(YEAR(Gerar_Upload!E452),MONTH(Gerar_Upload!E452),DAY(Gerar_Upload!E452)),\"erro\")","v":"00:00:00"},{"$f":"IFERROR(Gerar_Upload!F452,\"erro\")","v":0},{"$f":"IFERROR(IF(Gerar_Upload!G452<44,REPT(0,44-LEN(Gerar_Upload!G452))&Gerar_Upload!G452,Gerar_Upload!G452),\"erro\")","v":"00000000000000000000000000000000000000000000"}]
[{"$f":"IFERROR(LEFT(Gerar_Upload!A453,120),\"erro\")","v":""},{"$f":"IFERROR(SUBSTITUTE(SUBSTITUTE(SUBSTITUTE(Gerar_Upload!B453,\".\",\"\"),\"-\",\"\"),\"/\",\"\"),\"erro\")","v":""},{"$f":"IFERROR(Gerar_Upload!C453,\"erro\")","v":0},{"$f":"IFERROR(Gerar_Upload!D453,\"erro\")","v":0},{"$f":"IFERROR(DATE(YEAR(Gerar_Upload!E453),MONTH(Gerar_Upload!E453),DAY(Gerar_Upload!E453)),\"erro\")","v":"00:00:00"},{"$f":"IFERROR(Gerar_Upload!F453,\"erro\")","v":0},{"$f":"IFERROR(IF(Gerar_Upload!G453<44,REPT(0,44-LEN(Gerar_Upload!G453))&Gerar_Upload!G453,Gerar_Upload!G453),\"erro\")","v":"00000000000000000000000000000000000000000000"}]
[{"$f":"IFERROR(LEFT(Gerar_Upload!A454,120),\"erro\")","v":""},{"$f":"IFERROR(SUBSTITUTE(SUBSTITUTE(SUBSTITUTE(Gerar_Upload!B454,\".\",\"\"),\"-\",\"\"),\"/\",\"\"),\"erro\")","v":""},{"$f":"IFERROR(Gerar_Upload!C454,\"erro\")","v":0},{"$f":"IFERROR(Gerar_Upload!D454,\"erro\")","v":0},{"$f":"IFERROR(DATE(YEAR(Gerar_Upload!E454),MONTH(Gerar_Upload!E454),DAY(Gerar_Upload!E454)),\"erro\")","v":"00:00:00"},{"$f":"IFERROR(Gerar_Upload!F454,\"erro\")","v":0},{"$f":"IFERROR(IF(Gerar_Upload!G454<44,REPT(0,44-LEN(Gerar_Upload!G454))&Gerar_Upload!G454,Gerar_Upload!G454),\"erro\")","v":"00000000000000000000000000000000000000000000"}]
[{"$f":"IFERROR(LEFT(Gerar_Upload!A455,120),\"erro\")","v":""},{"$f":"IFERROR(SUBSTITUTE(SUBSTITUTE(SUBSTITUTE(Gerar_Upload!B455,\".\",\"\"),\"-\",\"\"),\"/\",\"\"),\"erro\")","v":""},{"$f":"IFERROR(Gerar_Upload!C455,\"erro\")","v":0},{"$f":"IFERROR(Gerar_Upload!D455,\"erro\")","v":0},{"$f":"IFERROR(DATE(YEAR(Gerar_Upload!E455),MONTH(Gerar_Upload!E455),DAY(Gerar_Upload!E455)),\"erro\")","v":"00:00:00"},{"$f":"IFERROR(Gerar_Upload!F455,\"erro\")","v":0},{"$f":"IFERROR(IF(Gerar_Upload!G455<44,REPT(0,44-LEN(Gerar_Upload!G455))&Gerar_Upload!G455,Gerar_Upload!G455),\"erro\")","v":"00000000000000000000000000000000000000000000"}]
[{"$f":"IFERROR(LEFT(Gerar_Upload!A456,120),\"erro\")","v":""},{"$f":"IFERROR(SUBSTITUTE(SUBSTITUTE(SUBSTITUTE(Gerar_Upload!B456,\".\",\"\"),\"-\",\"\"),\"/\",\"\"),\"erro\")","v":""},{"$f":"IFERROR(Gerar_Upload!C456,\"erro\")","v":0},{"$f":"IFERROR(Gerar_Upload!D456,\"erro\")","v":0},{"$f":"IFERROR(DATE(YEAR(Gerar_Upload!E456),MONTH(Gerar_Upload!E456),DAY(Gerar_Upload!E456)),\"erro\")","v":"00:00:00"},{"$f":"IFERROR(Gerar_Upload!F456,\"erro\")","v":0},{"$f":"IFERROR(IF(Gerar_Upload!G456<44,REPT(0,44-LEN(Gerar_Upload!G456))&Gerar_Upload!G456,Gerar_Upload!G456),\"erro\")","v":"00000000000000000000000000000000000000000000"}]
[{"$f":"IFERROR(LEFT(Gerar_Upload!A457,120),\"erro\")","v":""},{"$f":"IFERROR(SUBSTITUTE(SUBSTITUTE(SUBSTITUTE(Gerar_Upload!B457,\".\",\"\"),\"-\",\"\"),\"/\",\"\"),\"erro\")","v":""},{"$f":"IFERROR(Gerar_Upload!C457,\"erro\")","v":0},{"$f":"IFERROR(Gerar_Upload!D457,\"erro\")","v":0},{"$f":"IFERROR(DATE(YEAR(Gerar_Upload!E457),MONTH(Gerar_Upload!E457),DAY(Gerar_Upload!E457)),\"erro\")","v":"00:00:00"},{"$f":"IFERROR(Gerar_Upload!F457,\"erro\")","v":0},{"$f":"IFERROR(IF(Gerar_Upload!G457<44,REPT(0,44-LEN(Gerar_Upload!G457))&Gerar_Upload!G457,Gerar_Upload!G457),\"erro\")","v":"00000000000000000000000000000000000000000000"}]
[{"$f":"IFERROR(LEFT(Gerar_Upload!A458,120),\"erro\")","v":""},{"$f":"IFERROR(SUBSTITUTE(SUBSTITUTE(SUBSTITUTE(Gerar_Upload!B458,\".\",\"\"),\"-\",\"\"),\"/\",\"\"),\"erro\")","v":""},{"$f":"IFERROR(Gerar_Upload!C458,\"erro\")","v":0},{"$f":"IFERROR(Gerar_Upload!D458,\"erro\")","v":0},{"$f":"IFERROR(DATE(YEAR(Gerar_Upload!E458),MONTH(Gerar_Upload!E458),DAY(Gerar_Upload!E458)),\"erro\")","v":"00:00:00"},{"$f":"IFERROR(Gerar_Upload!F458,\"erro\")","v":0},{"$f":"IFERROR(IF(Gerar_Upload!G458<44,REPT(0,44-LEN(Gerar_Upload!G458))&Gerar_Upload!G458,Gerar_Upload!G458),\"erro\")","v":"00000000000000000000000000000000000000000000"}]
[{"$f":"IFERROR(LEFT(Gerar_Upload!A459,120),\"erro\")","v":""},{"$f":"IFERROR(SUBSTITUTE(SUBSTITUTE(SUBSTITUTE(Gerar_Upload!B459,\".\",\"\"),\"-\",\"\"),\"/\",\"\"),\"erro\")","v":""},{"$f":"IFERROR(Gerar_Upload!C459,\"erro\")","v":0},{"$f":"IFERROR(Gerar_Upload!D459,\"erro\")","v":0},{"$f":"IFERROR(DATE(YEAR(Gerar_Upload!E459),MONTH(Gerar_Upload!E459),DAY(Gerar_Upload!E459)),\"erro\")","v":"00:00:00"},{"$f":"IFERROR(Gerar_Upload!F459,\"erro\")","v":0},{"$f":"IFERROR(IF(Gerar_Upload!G459<44,REPT(0,44-LEN(Gerar_Upload!G459))&Gerar_Upload!G459,Gerar_Upload!G459),\"erro\")","v":"00000000000000000000000000000000000000000000"}]
[{"$f":"IFERROR(LEFT(Gerar_Upload!A460,120),\"erro\")","v":""},{"$f":"IFERROR(SUBSTITUTE(SUBSTITUTE(SUBSTITUTE(Gerar_Upload!B460,\".\",\"\"),\"-\",\"\"),\"/\",\"\"),\"erro\")","v":""},{"$f":"IFERROR(Gerar_Upload!C460,\"erro\")","v":0},{"$f":"IFERROR(Gerar_Upload!D460,\"erro\")","v":0},{"$f":"IFERROR(DATE(YEAR(Gerar_Upload!E460),MONTH(Gerar_Upload!E460),DAY(Gerar_Upload!E460)),\"erro\")","v":"00:00:00"},{"$f":"IFERROR(Gerar_Upload!F460,\"erro\")","v":0},{"$f":"IFERROR(IF(Gerar_Upload!G460<44,REPT(0,44-LEN(Gerar_Upload!G460))&Gerar_Upload!G460,Gerar_Upload!G460),\"erro\")","v":"00000000000000000000000000000000000000000000"}]
[{"$f":"IFERROR(LEFT(Gerar_Upload!A461,120),\"erro\")","v":""},{"$f":"IFERROR(SUBSTITUTE(SUBSTITUTE(SUBSTITUTE(Gerar_Upload!B461,\".\",\"\"),\"-\",\"\"),\"/\",\"\"),\"erro\")","v":""},{"$f":"IFERROR(Gerar_Upload!C461,\"erro\")","v":0},{"$f":"IFERROR(Gerar_Upload!D461,\"erro\")","v":0},{"$f":"IFERROR(DATE(YEAR(Gerar_Upload!E461),MONTH(Gerar_Upload!E461),DAY(Gerar_Upload!E461)),\"erro\")","v":"00:00:00"},{"$f":"IFERROR(Gerar_Upload!F461,\"erro\")","v":0},{"$f":"IFERROR(IF(Gerar_Upload!G461<44,REPT(0,44-LEN(Gerar_Upload!G461))&Gerar_Upload!G461,Gerar_Upload!G461),\"erro\")","v":"00000000000000000000000000000000000000000000"}]
[{"$f":"IFERROR(LEFT(Gerar_Upload!A462,120),\"erro\")","v":""},{"$f":"IFERROR(SUBSTITUTE(SUBSTITUTE(SUBSTITUTE(Gerar_Upload!B462,\".\",\"\"),\"-\",\"\"),\"/\",\"\"),\"erro\")","v":""},{"$f":"IFERROR(Gerar_Upload!C462,\"erro\")","v":0},{"$f":"IFERROR(Gerar_Upload!D462,\"erro\")","v":0},{"$f":"IFERROR(DATE(YEAR(Gerar_Upload!E462),MONTH(Gerar_Upload!E462),DAY(Gerar_Upload!E462)),\"erro\")","v":"00:00:00"},{"$f":"IFERROR(Gerar_Upload!F462,\"erro\")","v":0},{"$f":"IFERROR(IF(Gerar_Upload!G462<44,REPT(0,44-LEN(Gerar_Upload!G462))&Gerar_Upload!G462,Gerar_Upload!G462),\"erro\")","v":"00000000000000000000000000000000000000000000"}]
[{"$f":"IFERROR(LEFT(Gerar_Upload!A463,120),\"erro\")","v":""},{"$f":"IFERROR(SUBSTITUTE(SUBSTITUTE(SUBSTITUTE(Gerar_Upload!B463,\".\",\"\"),\"-\",\"\"),\"/\",\"\"),\"erro\")","v":""},{"$f":"IFERROR(Gerar_Upload!C463,\"erro\")","v":0},{"$f":"IFERROR(Gerar_Upload!D463,\"erro\")","v":0},{"$f":"IFERROR(DATE(YEAR(Gerar_Upload!E463),MONTH(Gerar_Upload!E463),DAY(Gerar_Upload!E463)),\"erro\")","v":"00:00:00"},{"$f":"IFERROR(Gerar_Upload!F463,\"erro\")","v":0},{"$f":"IFERROR(IF(Gerar_Upload!G463<44,REPT(0,44-LEN(Gerar_Upload!G463))&Gerar_Upload!G463,Gerar_Upload!G463),\"erro\")","v":"00000000000000000000000000000000000000000000"}]
[{"$f":"IFERROR(LEFT(Gerar_Upload!A464,120),\"erro\")","v":""},{"$f":"IFERROR(SUBSTITUTE(SUBSTITUTE(SUBSTITUTE(Gerar_Upload!B464,\".\",\"\"),\"-\",\"\"),\"/\",\"\"),\"erro\")","v":""},{"$f":"IFERROR(Gerar_Upload!C464,\"erro\")","v":0},{"$f":"IFERROR(Gerar_Upload!D464,\"erro\")","v":0},{"$f":"IFERROR(DATE(YEAR(Gerar_Upload!E464),MONTH(Gerar_Upload!E464),DAY(Gerar_Upload!E464)),\"erro\")","v":"00:00:00"},{"$f":"IFERROR(Gerar_Upload!F464,\"erro\")","v":0},{"$f":"IFERROR(IF(Gerar_Upload!G464<44,REPT(0,44-LEN(Gerar_Upload!G464))&Gerar_Upload!G464,Gerar_Upload!G464),\"erro\")","v":"00000000000000000000000000000000000000000000"}]
[{"$f":"IFERROR(LEFT(Gerar_Upload!A465,120),\"erro\")","v":""},{"$f":"IFERROR(SUBSTITUTE(SUBSTITUTE(SUBSTITUTE(Gerar_Upload!B465,\".\",\"\"),\"-\",\"\"),\"/\",\"\"),\"erro\")","v":""},{"$f":"IFERROR(Gerar_Upload!C465,\"erro\")","v":0},{"$f":"IFERROR(Gerar_Upload!D465,\"erro\")","v":0},{"$f":"IFERROR(DATE(YEAR(Gerar_Upload!E465),MONTH(Gerar_Upload!E465),DAY(Gerar_Upload!E465)),\"erro\")","v":"00:00:00"},{"$f":"IFERROR(Gerar_Upload!F465,\"erro\")","v":0},{"$f":"IFERROR(IF(Gerar_Upload!G465<44,REPT(0,44-LEN(Gerar_Upload!G465))&Gerar_Upload!G465,Gerar_Upload!G465),\"erro\")","v":"00000000000000000000000000000000000000000000"}]
[{"$f":"IFERROR(LEFT(Gerar_Upload!A466,120),\"erro\")","v":""},{"$f":"IFERROR(SUBSTITUTE(SUBSTITUTE(SUBSTITUTE(Gerar_Upload!B466,\".\",\"\"),\"-\",\"\"),\"/\",\"\"),\"erro\")","v":""},{"$f":"IFERROR(Gerar_Upload!C466,\"erro\")","v":0},{"$f":"IFERROR(Gerar_Upload!D466,\"erro\")","v":0},{"$f":"IFERROR(DATE(YEAR(Gerar_Upload!E466),MONTH(Gerar_Upload!E466),DAY(Gerar_Upload!E466)),\"erro\")","v":"00:00:00"},{"$f":"IFERROR(Gerar_Upload!F466,\"erro\")","v":0},{"$f":"IFERROR(IF(Gerar_Upload!G466<44,REPT(0,44-LEN(Gerar_Upload!G466))&Gerar_Upload!G466,Gerar_Upload!G466),\"erro\")","v":"00000000000000000000000000000000000000000000"}]
[{"$f":"IFERROR(LEFT(Gerar_Upload!A467,120),\"erro\")","v":""},{"$f":"IFERROR(SUBSTITUTE(SUBSTITUTE(SUBSTITUTE(Gerar_Upload!B467,\".\",\"\"),\"-\",\"\"),\"/\",\"\"),\"erro\")","v":""},{"$f":"IFERROR(Gerar_Upload!C467,\"erro\")","v":0},{"$f":"IFERROR(Gerar_Upload!D467,\"erro\")","v":0},{"$f":"IFERROR(DATE(YEAR(Gerar_Upload!E467),MONTH(Gerar_Upload!E467),DAY(Gerar_Upload!E467)),\"erro\")","v":"00:00:00"},{"$f":"IFERROR(Gerar_Upload!F467,\"erro\")","v":0},{"$f":"IFERROR(IF(Gerar_Upload!G467<44,REPT(0,44-LEN(Gerar_Upload!G467))&Gerar_Upload!G467,Gerar_Upload!G467),\"erro\")","v":"00000000000000000000000000000000000000000000"}]
[{"$f":"IFERROR(LEFT(Gerar_Upload!A468,120),\"erro\")","v":""},{"$f":"IFERROR(SUBSTITUTE(SUBSTITUTE(SUBSTITUTE(Gerar_Upload!B468,\".\",\"\"),\"-\",\"\"),\"/\",\"\"),\"erro\")","v":""},{"$f":"IFERROR(Gerar_Upload!C468,\"erro\")","v":0},{"$f":"IFERROR(Gerar_Upload!D468,\"erro\")","v":0},{"$f":"IFERROR(DATE(YEAR(Gerar_Upload!E468),MONTH(Gerar_Upload!E468),DAY(Gerar_Upload!E468)),\"erro\")","v":"00:00:00"},{"$f":"IFERROR(Gerar_Upload!F468,\"erro\")","v":0},{"$f":"IFERROR(IF(Gerar_Upload!G468<44,REPT(0,44-LEN(Gerar_Upload!G468))&Gerar_Upload!G468,Gerar_Upload!G468),\"erro\")","v":"00000000000000000000000000000000000000000000"}]
[{"$f":"IFERROR(LEFT(Gerar_Upload!A469,120),\"erro\")","v":""},{"$f":"IFERROR(SUBSTITUTE(SUBSTITUTE(SUBSTITUTE(Gerar_Upload!B469,\".\",\"\"),\"-\",\"\"),\"/\",\"\"),\"erro\")","v":""},{"$f":"IFERROR(Gerar_Upload!C469,\"erro\")","v":0},{"$f":"IFERROR(Gerar_Upload!D469,\"erro\")","v":0},{"$f":"IFERROR(DATE(YEAR(Gerar_Upload!E469),MONTH(Gerar_Upload!E469),DAY(Gerar_Upload!E469)),\"erro\")","v":"00:00:00"},{"$f":"IFERROR(Gerar_Upload!F469,\"erro\")","v":0},{"$f":"IFERROR(IF(Gerar_Upload!G469<44,REPT(0,44-LEN(Gerar_Upload!G469))&Gerar_Upload!G469,Gerar_Upload!G469),\"erro\")","v":"00000000000000000000000000000000000000000000"}]
[{"$f":"IFERROR(LEFT(Gerar_Upload!A470,120),\"erro\")","v":""},{"$f":"IFERROR(SUBSTITUTE(SUBSTITUTE(SUBSTITUTE(Gerar_Upload!B470,\".\",\"\"),\"-\",\"\"),\"/\",\"\"),\"erro\")","v":""},{"$f":"IFERROR(Gerar_Upload!C470,\"erro\")","v":0},{"$f":"IFERROR(Gerar_Upload!D470,\"erro\")","v":0},{"$f":"IFERROR(DATE(YEAR(Gerar_Upload!E470),MONTH(Gerar_Upload!E470),DAY(Gerar_Upload!E470)),\"erro\")","v":"00:00:00"},{"$f":"IFERROR(Gerar_Upload!F470,\"erro\")","v":0},{"$f":"IFERROR(IF(Gerar_Upload!G470<44,REPT(0,44-LEN(Gerar_Upload!G470))&Gerar_Upload!G470,Gerar_Upload!G470),\"erro\")","v":"00000000000000000000000000000000000000000000"}]
[{"$f":"IFERROR(LEFT(Gerar_Upload!A471,120),\"erro\")","v":""},{"$f":"IFERROR(SUBSTITUTE(SUBSTITUTE(SUBSTITUTE(Gerar_Upload!B471,\".\",\"\"),\"-\",\"\"),\"/\",\"\"),\"erro\")","v":""},{"$f":"IFERROR(Gerar_Upload!C471,\"erro\")","v":0},{"$f":"IFERROR(Gerar_Upload!D471,\"erro\")","v":0},{"$f":"IFERROR(DATE(YEAR(Gerar_Upload!E471),MONTH(Gerar_Upload!E471),DAY(Gerar_Upload!E471)),\"erro\")","v":"00:00:00"},{"$f":"IFERROR(Gerar_Upload!F471,\"erro\")","v":0},{"$f":"IFERROR(IF(Gerar_Upload!G471<44,REPT(0,44-LEN(Gerar_Upload!G471))&Gerar_Upload!G471,Gerar_Upload!G471),\"erro\")","v":"00000000000000000000000000000000000000000000"}]
[{"$f":"IFERROR(LEFT(Gerar_Upload!A472,120),\"erro\")","v":""},{"$f":"IFERROR(SUBSTITUTE(SUBSTITUTE(SUBSTITUTE(Gerar_Upload!B472,\".\",\"\"),\"-\",\"\"),\"/\",\"\"),\"erro\")","v":""},{"$f":"IFERROR(Gerar_Upload!C472,\"erro\")","v":0},{"$f":"IFERROR(Gerar_Upload!D472,\"erro\")","v":0},{"$f":"IFERROR(DATE(YEAR(Gerar_Upload!E472),MONTH(Gerar_Upload!E472),DAY(Gerar_Upload!E472)),\"erro\")","v":"00:00:00"},{"$f":"IFERROR(Gerar_Upload!F472,\"erro\")","v":0},{"$f":"IFERROR(IF(Gerar_Upload!G472<44,REPT(0,44-LEN(Gerar_Upload!G472))&Gerar_Upload!G472,Gerar_Upload!G472),\"erro\")","v":"00000000000000000000000000000000000000000000"}]
[{"$f":"IFERROR(LEFT(Gerar_Upload!A473,120),\"erro\")","v":""},{"$f":"IFERROR(SUBSTITUTE(SUBSTITUTE(SUBSTITUTE(Gerar_Upload!B473,\".\",\"\"),\"-\",\"\"),\"/\",\"\"),\"erro\")","v":""},{"$f":"IFERROR(Gerar_Upload!C473,\"erro\")","v":0},{"$f":"IFERROR(Gerar_Upload!D473,\"erro\")","v":0},{"$f":"IFERROR(DATE(YEAR(Gerar_Upload!E473),MONTH(Gerar_Upload!E473),DAY(Gerar_Upload!E473)),\"erro\")","v":"00:00:00"},{"$f":"IFERROR(Gerar_Upload!F473,\"erro\")","v":0},{"$f":"IFERROR(IF(Gerar_Upload!G473<44,REPT(0,44-LEN(Gerar_Upload!G473))&Gerar_Upload!G473,Gerar_Upload!G473),\"erro\")","v":"00000000000000000000000000000000000000000000"}]
[{"$f":"IFERROR(LEFT(Gerar_Upload!A474,120),\"erro\")","v":""},{"$f":"IFERROR(SUBSTITUTE(SUBSTITUTE(SUBSTITUTE(Gerar_Upload!B474,\".\",\"\"),\"-\",\"\"),\"/\",\"\"),\"erro\")","v":""},{"$f":"IFERROR(Gerar_Upload!C474,\"erro\")","v":0},{"$f":"IFERROR(Gerar_Upload!D474,\"erro\")","v":0},{"$f":"IFERROR(DATE(YEAR(Gerar_Upload!E474),MONTH(Gerar_Upload!E474),DAY(Gerar_Upload!E474)),\"erro\")","v":"00:00:00"},{"$f":"IFERROR(Gerar_Upload!F474,\"erro\")","v":0},{"$f":"IFERROR(IF(Gerar_Upload!G474<44,REPT(0,44-LEN(Gerar_Upload!G474))&Gerar_Upload!G474,Gerar_Upload!G474),\"erro\")","v":"00000000000000000000000000000000000000000000"}]
[{"$f":"IFERROR(LEFT(Gerar_Upload!A475,120),\"erro\")","v":""},{"$f":"IFERROR(SUBSTITUTE(SUBSTITUTE(SUBSTITUTE(Gerar_Upload!B475,\".\",\"\"),\"-\",\"\"),\"/\",\"\"),\"erro\")","v":""},{"$f":"IFERROR(Gerar_Upload!C475,\"erro\")","v":0},{"$f":"IFERROR(Gerar_Upload!D475,\"erro\")","v":0},{"$f":"IFERROR(DATE(YEAR(Gerar_Upload!E475),MONTH(Gerar_Upload!E475),DAY(Gerar_Upload!E475)),\"erro\")","v":"00:00:00"},{"$f":"IFERROR(Gerar_Upload!F475,\"erro\")","v":0},{"$f":"IFERROR(IF(Gerar_Upload!G475<44,REPT(0,44-LEN(Gerar_Upload!G475))&Gerar_Upload!G475,Gerar_Upload!G475),\"erro\")","v":"00000000000000000000000000000000000000000000"}]
[{"$f":"IFERROR(LEFT(Gerar_Upload!A476,120),\"erro\")","v":""},{"$f":"IFERROR(SUBSTITUTE(SUBSTITUTE(SUBSTITUTE(Gerar_Upload!B476,\".\",\"\"),\"-\",\"\"),\"/\",\"\"),\"erro\")","v":""},{"$f":"IFERROR(Gerar_Upload!C476,\"erro\")","v":0},{"$f":"IFERROR(Gerar_Upload!D476,\"erro\")","v":0},{"$f":"IFERROR(DATE(YEAR(Gerar_Upload!E476),MONTH(Gerar_Upload!E476),DAY(Gerar_Upload!E476)),\"erro\")","v":"00:00:00"},{"$f":"IFERROR(Gerar_Upload!F476,\"erro\")","v":0},{"$f":"IFERROR(IF(Gerar_Upload!G476<44,REPT(0,44-LEN(Gerar_Upload!G476))&Gerar_Upload!G476,Gerar_Upload!G476),\"erro\")","v":"00000000000000000000000000000000000000000000"}]
[{"$f":"IFERROR(LEFT(Gerar_Upload!A477,120),\"erro\")","v":""},{"$f":"IFERROR(SUBSTITUTE(SUBSTITUTE(SUBSTITUTE(Gerar_Upload!B477,\".\",\"\"),\"-\",\"\"),\"/\",\"\"),\"erro\")","v":""},{"$f":"IFERROR(Gerar_Upload!C477,\"erro\")","v":0},{"$f":"IFERROR(Gerar_Upload!D477,\"erro\")","v":0},{"$f":"IFERROR(DATE(YEAR(Gerar_Upload!E477),MONTH(Gerar_Upload!E477),DAY(Gerar_Upload!E477)),\"erro\")","v":"00:00:00"},{"$f":"IFERROR(Gerar_Upload!F477,\"erro\")","v":0},{"$f":"IFERROR(IF(Gerar_Upload!G477<44,REPT(0,44-LEN(Gerar_Upload!G477))&Gerar_Upload!G477,Gerar_Upload!G477),\"erro\")","v":"00000000000000000000000000000000000000000000"}]
[{"$f":"IFERROR(LEFT(Gerar_Upload!A478,120),\"erro\")","v":""},{"$f":"IFERROR(SUBSTITUTE(SUBSTITUTE(SUBSTITUTE(Gerar_Upload!B478,\".\",\"\"),\"-\",\"\"),\"/\",\"\"),\"erro\")","v":""},{"$f":"IFERROR(Gerar_Upload!C478,\"erro\")","v":0},{"$f":"IFERROR(Gerar_Upload!D478,\"erro\")","v":0},{"$f":"IFERROR(DATE(YEAR(Gerar_Upload!E478),MONTH(Gerar_Upload!E478),DAY(Gerar_Upload!E478)),\"erro\")","v":"00:00:00"},{"$f":"IFERROR(Gerar_Upload!F478,\"erro\")","v":0},{"$f":"IFERROR(IF(Gerar_Upload!G478<44,REPT(0,44-LEN(Gerar_Upload!G478))&Gerar_Upload!G478,Gerar_Upload!G478),\"erro\")","v":"00000000000000000000000000000000000000000000"}]
[{"$f":"IFERROR(LEFT(Gerar_Upload!A479,120),\"erro\")","v":""},{"$f":"IFERROR(SUBSTITUTE(SUBSTITUTE(SUBSTITUTE(Gerar_Upload!B479,\".\",\"\"),\"-\",\"\"),\"/\",\"\"),\"erro\")","v":""},{"$f":"IFERROR(Gerar_Upload!C479,\"erro\")","v":0},{"$f":"IFERROR(Gerar_Upload!D479,\"erro\")","v":0},{"$f":"IFERROR(DATE(YEAR(Gerar_Upload!E479),MONTH(Gerar_Upload!E479),DAY(Gerar_Upload!E479)),\"erro\")","v":"00:00:00"},{"$f":"IFERROR(Gerar_Upload!F479,\"erro\")","v":0},{"$f":"IFERROR(IF(Gerar_Upload!G479<44,REPT(0,44-LEN(Gerar_Upload!G479))&Gerar_Upload!G479,Gerar_Upload!G479),\"erro\")","v":"00000000000000000000000000000000000000000000"}]
[{"$f":"IFERROR(LEFT(Gerar_Upload!A480,120),\"erro\")","v":""},{"$f":"IFERROR(SUBSTITUTE(SUBSTITUTE(SUBSTITUTE(Gerar_Upload!B480,\".\",\"\"),\"-\",\"\"),\"/\",\"\"),\"erro\")","v":""},{"$f":"IFERROR(Gerar_Upload!C480,\"erro\")","v":0},{"$f":"IFERROR(Gerar_Upload!D480,\"erro\")","v":0},{"$f":"IFERROR(DATE(YEAR(Gerar_Upload!E480),MONTH(Gerar_Upload!E480),DAY(Gerar_Upload!E480)),\"erro\")","v":"00:00:00"},{"$f":"IFERROR(Gerar_Upload!F480,\"erro\")","v":0},{"$f":"IFERROR(IF(Gerar_Upload!G480<44,REPT(0,44-LEN(Gerar_Upload!G480))&Gerar_Upload!G480,Gerar_Upload!G480),\"erro\")","v":"00000000000000000000000000000000000000000000"}]
[{"$f":"IFERROR(LEFT(Gerar_Upload!A481,120),\"erro\")","v":""},{"$f":"IFERROR(SUBSTITUTE(SUBSTITUTE(SUBSTITUTE(Gerar_Upload!B481,\".\",\"\"),\"-\",\"\"),\"/\",\"\"),\"erro\")","v":""},{"$f":"IFERROR(Gerar_Upload!C481,\"erro\")","v":0},{"$f":"IFERROR(Gerar_Upload!D481,\"erro\")","v":0},{"$f":"IFERROR(DATE(YEAR(Gerar_Upload!E481),MONTH(Gerar_Upload!E481),DAY(Gerar_Upload!E481)),\"erro\")","v":"00:00:00"},{"$f":"IFERROR(Gerar_Upload!F481,\"erro\")","v":0},{"$f":"IFERROR(IF(Gerar_Upload!G481<44,REPT(0,44-LEN(Gerar_Upload!G481))&Gerar_Upload!G481,Gerar_Upload!G481),\"erro\")","v":"00000000000000000000000000000000000000000000"}]
[{"$f":"IFERROR(LEFT(Gerar_Upload!A482,120),\"erro\")","v":""},{"$f":"IFERROR(SUBSTITUTE(SUBSTITUTE(SUBSTITUTE(Gerar_Upload!B482,\".\",\"\"),\"-\",\"\"),\"/\",\"\"),\"erro\")","v":""},{"$f":"IFERROR(Gerar_Upload!C482,\"erro\")","v":0},{"$f":"IFERROR(Gerar_Upload!D482,\"erro\")","v":0},{"$f":"IFERROR(DATE(YEAR(Gerar_Upload!E482),MONTH(Gerar_Upload!E482),DAY(Gerar_Upload!E482)),\"erro\")","v":"00:00:00"},{"$f":"IFERROR(Gerar_Upload!F482,\"erro\")","v":0},{"$f":"IFERROR(IF(Gerar_Upload!G482<44,REPT(0,44-LEN(Gerar_Upload!G482))&Gerar_Upload!G482,Gerar_Upload!G482),\"erro\")","v":"00000000000000000000000000000000000000000000"}]
[{"$f":"IFERROR(LEFT(Gerar_Upload!A483,120),\"erro\")","v":""},{"$f":"IFERROR(SUBSTITUTE(SUBSTITUTE(SUBSTITUTE(Gerar_Upload!B483,\".\",\"\"),\"-\",\"\"),\"/\",\"\"),\"erro\")","v":""},{"$f":"IFERROR(Gerar_Upload!C483,\"erro\")","v":0},{"$f":"IFERROR(Gerar_Upload!D483,\"erro\")","v":0},{"$f":"IFERROR(DATE(YEAR(Gerar_Upload!E483),MONTH(Gerar_Upload!E483),DAY(Gerar_Upload!E483)),\"erro\")","v":"00:00:00"},{"$f":"IFERROR(Gerar_Upload!F483,\"erro\")","v":0},{"$f":"IFERROR(IF(Gerar_Upload!G483<44,REPT(0,44-LEN(Gerar_Upload!G483))&Gerar_Upload!G483,Gerar_Upload!G483),\"erro\")","v":"00000000000000000000000000000000000000000000"}]
[{"$f":"IFERROR(LEFT(Gerar_Upload!A484,120),\"erro\")","v":""},{"$f":"IFERROR(SUBSTITUTE(SUBSTITUTE(SUBSTITUTE(Gerar_Upload!B484,\".\",\"\"),\"-\",\"\"),\"/\",\"\"),\"erro\")","v":""},{"$f":"IFERROR(Gerar_Upload!C484,\"erro\")","v":0},{"$f":"IFERROR(Gerar_Upload!D484,\"erro\")","v":0},{"$f":"IFERROR(DATE(YEAR(Gerar_Upload!E484),MONTH(Gerar_Upload!E484),DAY(Gerar_Upload!E484)),\"erro\")","v":"00:00:00"},{"$f":"IFERROR(Gerar_Upload!F484,\"erro\")","v":0},{"$f":"IFERROR(IF(Gerar_Upload!G484<44,REPT(0,44-LEN(Gerar_Upload!G484))&Gerar_Upload!G484,Gerar_Upload!G484),\"erro\")","v":"00000000000000000000000000000000000000000000"}]
[{"$f":"IFERROR(LEFT(Gerar_Upload!A485,120),\"erro\")","v":""},{"$f":"IFERROR(SUBSTITUTE(SUBSTITUTE(SUBSTITUTE(Gerar_Upload!B485,\".\",\"\"),\"-\",\"\"),\"/\",\"\"),\"erro\")","v":""},{"$f":"IFERROR(Gerar_Upload!C485,\"erro\")","v":0},{"$f":"IFERROR(Gerar_Upload!D485,\"erro\")","v":0},{"$f":"IFERROR(DATE(YEAR(Gerar_Upload!E485),MONTH(Gerar_Upload!E485),DAY(Gerar_Upload!E485)),\"erro\")","v":"00:00:00"},{"$f":"IFERROR(Gerar_Upload!F485,\"erro\")","v":0},{"$f":"IFERROR(IF(Gerar_Upload!G485<44,REPT(0,44-LEN(Gerar_Upload!G485))&Gerar_Upload!G485,Gerar_Upload!G485),\"erro\")","v":"00000000000000000000000000000000000000000000"}]
[{"$f":"IFERROR(LEFT(Gerar_Upload!A486,120),\"erro\")","v":""},{"$f":"IFERROR(SUBSTITUTE(SUBSTITUTE(SUBSTITUTE(Gerar_Upload!B486,\".\",\"\"),\"-\",\"\"),\"/\",\"\"),\"erro\")","v":""},{"$f":"IFERROR(Gerar_Upload!C486,\"erro\")","v":0},{"$f":"IFERROR(Gerar_Upload!D486,\"erro\")","v":0},{"$f":"IFERROR(DATE(YEAR(Gerar_Upload!E486),MONTH(Gerar_Upload!E486),DAY(Gerar_Upload!E486)),\"erro\")","v":"00:00:00"},{"$f":"IFERROR(Gerar_Upload!F486,\"erro\")","v":0},{"$f":"IFERROR(IF(Gerar_Upload!G486<44,REPT(0,44-LEN(Gerar_Upload!G486))&Gerar_Upload!G486,Gerar_Upload!G486),\"erro\")","v":"00000000000000000000000000000000000000000000"}]
[{"$f":"IFERROR(LEFT(Gerar_Upload!A487,120),\"erro\")","v":""},{"$f":"IFERROR(SUBSTITUTE(SUBSTITUTE(SUBSTITUTE(Gerar_Upload!B487,\".\",\"\"),\"-\",\"\"),\"/\",\"\"),\"erro\")","v":""},{"$f":"IFERROR(Gerar_Upload!C487,\"erro\")","v":0},{"$f":"IFERROR(Gerar_Upload!D487,\"erro\")","v":0},{"$f":"IFERROR(DATE(YEAR(Gerar_Upload!E487),MONTH(Gerar_Upload!E487),DAY(Gerar_Upload!E487)),\"erro\")","v":"00:00:00"},{"$f":"IFERROR(Gerar_Upload!F487,\"erro\")","v":0},{"$f":"IFERROR(IF(Gerar_Upload!G487<44,REPT(0,44-LEN(Gerar_Upload!G487))&Gerar_Upload!G487,Gerar_Upload!G487),\"erro\")","v":"00000000000000000000000000000000000000000000"}]
[{"$f":"IFERROR(LEFT(Gerar_Upload!A488,120),\"erro\")","v":""},{"$f":"IFERROR(SUBSTITUTE(SUBSTITUTE(SUBSTITUTE(Gerar_Upload!B488,\".\",\"\"),\"-\",\"\"),\"/\",\"\"),\"erro\")","v":""},{"$f":"IFERROR(Gerar_Upload!C488,\"erro\")","v":0},{"$f":"IFERROR(Gerar_Upload!D488,\"erro\")","v":0},{"$f":"IFERROR(DATE(YEAR(Gerar_Upload!E488),MONTH(Gerar_Upload!E488),DAY(Gerar_Upload!E488)),\"erro\")","v":"00:00:00"},{"$f":"IFERROR(Gerar_Upload!F488,\"erro\")","v":0},{"$f":"IFERROR(IF(Gerar_Upload!G488<44,REPT(0,44-LEN(Gerar_Upload!G488))&Gerar_Upload!G488,Gerar_Upload!G488),\"erro\")","v":"00000000000000000000000000000000000000000000"}]
[{"$f":"IFERROR(LEFT(Gerar_Upload!A489,120),\"erro\")","v":""},{"$f":"IFERROR(SUBSTITUTE(SUBSTITUTE(SUBSTITUTE(Gerar_Upload!B489,\".\",\"\"),\"-\",\"\"),\"/\",\"\"),\"erro\")","v":""},{"$f":"IFERROR(Gerar_Upload!C489,\"erro\")","v":0},{"$f":"IFERROR(Gerar_Upload!D489,\"erro\")","v":0},{"$f":"IFERROR(DATE(YEAR(Gerar_Upload!E489),MONTH(Gerar_Upload!E489),DAY(Gerar_Upload!E489)),\"erro\")","v":"00:00:00"},{"$f":"IFERROR(Gerar_Upload!F489,\"erro\")","v":0},{"$f":"IFERROR(IF(Gerar_Upload!G489<44,REPT(0,44-LEN(Gerar_Upload!G489))&Gerar_Upload!G489,Gerar_Upload!G489),\"erro\")","v":"00000000000000000000000000000000000000000000"}]
[{"$f":"IFERROR(LEFT(Gerar_Upload!A490,120),\"erro\")","v":""},{"$f":"IFERROR(SUBSTITUTE(SUBSTITUTE(SUBSTITUTE(Gerar_Upload!B490,\".\",\"\"),\"-\",\"\"),\"/\",\"\"),\"erro\")","v":""},{"$f":"IFERROR(Gerar_Upload!C490,\"erro\")","v":0},{"$f":"IFERROR(Gerar_Upload!D490,\"erro\")","v":0},{"$f":"IFERROR(DATE(YEAR(Gerar_Upload!E490),MONTH(Gerar_Upload!E490),DAY(Gerar_Upload!E490)),\"erro\")","v":"00:00:00"},{"$f":"IFERROR(Gerar_Upload!F490,\"erro\")","v":0},{"$f":"IFERROR(IF(Gerar_Upload!G490<44,REPT(0,44-LEN(Gerar_Upload!G490))&Gerar_Upload!G490,Gerar_Upload!G490),\"erro\")","v":"00000000000000000000000000000000000000000000"}]
[{"$f":"IFERROR(LEFT(Gerar_Upload!A491,120),\"erro\")","v":""},{"$f":"IFERROR(SUBSTITUTE(SUBSTITUTE(SUBSTITUTE(Gerar_Upload!B491,\".\",\"\"),\"-\",\"\"),\"/\",\"\"),\"erro\")","v":""},{"$f":"IFERROR(Gerar_Upload!C491,\"erro\")","v":0},{"$f":"IFERROR(Gerar_Upload!D491,\"erro\")","v":0},{"$f":"IFERROR(DATE(YEAR(Gerar_Upload!E491),MONTH(Gerar_Upload!E491),DAY(Gerar_Upload!E491)),\"erro\")","v":"00:00:00"},{"$f":"IFERROR(Gerar_Upload!F491,\"erro\")","v":0},{"$f":"IFERROR(IF(Gerar_Upload!G491<44,REPT(0,44-LEN(Gerar_Upload!G491))&Gerar_Upload!G491,Gerar_Upload!G491),\"erro\")","v":"00000000000000000000000000000000000000000000"}]
[{"$f":"IFERROR(LEFT(Gerar_Upload!A492,120),\"erro\")","v":""},{"$f":"IFERROR(SUBSTITUTE(SUBSTITUTE(SUBSTITUTE(Gerar_Upload!B492,\".\",\"\"),\"-\",\"\"),\"/\",\"\"),\"erro\")","v":""},{"$f":"IFERROR(Gerar_Upload!C492,\"erro\")","v":0},{"$f":"IFERROR(Gerar_Upload!D492,\"erro\")","v":0},{"$f":"IFERROR(DATE(YEAR(Gerar_Upload!E492),MONTH(Gerar_Upload!E492),DAY(Gerar_Upload!E492)),\"erro\")","v":"00:00:00"},{"$f":"IFERROR(Gerar_Upload!F492,\"erro\")","v":0},{"$f":"IFERROR(IF(Gerar_Upload!G492<44,REPT(0,44-LEN(Gerar_Upload!G492))&Gerar_Upload!G492,Gerar_Upload!G492),\"erro\")","v":"00000000000000000000000000000000000000000000"}]
[{"$f":"IFERROR(LEFT(Gerar_Upload!A493,120),\"erro\")","v":""},{"$f":"IFERROR(SUBSTITUTE(SUBSTITUTE(SUBSTITUTE(Gerar_Upload!B493,\".\",\"\"),\"-\",\"\"),\"/\",\"\"),\"erro\")","v":""},{"$f":"IFERROR(Gerar_Upload!C493,\"erro\")","v":0},{"$f":"IFERROR(Gerar_Upload!D493,\"erro\")","v":0},{"$f":"IFERROR(DATE(YEAR(Gerar_Upload!E493),MONTH(Gerar_Upload!E493),DAY(Gerar_Upload!E493)),\"erro\")","v":"00:00:00"},{"$f":"IFERROR(Gerar_Upload!F493,\"erro\")","v":0},{"$f":"IFERROR(IF(Gerar_Upload!G493<44,REPT(0,44-LEN(Gerar_Upload!G493))&Gerar_Upload!G493,Gerar_Upload!G493),\"erro\")","v":"00000000000000000000000000000000000000000000"}]
[{"$f":"IFERROR(LEFT(Gerar_Upload!A494,120),\"erro\")","v":""},{"$f":"IFERROR(SUBSTITUTE(SUBSTITUTE(SUBSTITUTE(Gerar_Upload!B494,\".\",\"\"),\"-\",\"\"),\"/\",\"\"),\"erro\")","v":""},{"$f":"IFERROR(Gerar_Upload!C494,\"erro\")","v":0},{"$f":"IFERROR(Gerar_Upload!D494,\"erro\")","v":0},{"$f":"IFERROR(DATE(YEAR(Gerar_Upload!E494),MONTH(Gerar_Upload!E494),DAY(Gerar_Upload!E494)),\"erro\")","v":"00:00:00"},{"$f":"IFERROR(Gerar_Upload!F494,\"erro\")","v":0},{"$f":"IFERROR(IF(Gerar_Upload!G494<44,REPT(0,44-LEN(Gerar_Upload!G494))&Gerar_Upload!G494,Gerar_Upload!G494),\"erro\")","v":"00000000000000000000000000000000000000000000"}]
[{"$f":"IFERROR(LEFT(Gerar_Upload!A495,120),\"erro\")","v":""},{"$f":"IFERROR(SUBSTITUTE(SUBSTITUTE(SUBSTITUTE(Gerar_Upload!B495,\".\",\"\"),\"-\",\"\"),\"/\",\"\"),\"erro\")","v":""},{"$f":"IFERROR(Gerar_Upload!C495,\"erro\")","v":0},{"$f":"IFERROR(Gerar_Upload!D495,\"erro\")","v":0},{"$f":"IFERROR(DATE(YEAR(Gerar_Upload!E495),MONTH(Gerar_Upload!E495),DAY(Gerar_Upload!E495)),\"erro\")","v":"00:00:00"},{"$f":"IFERROR(Gerar_Upload!F495,\"erro\")","v":0},{"$f":"IFERROR(IF(Gerar_Upload!G495<44,REPT(0,44-LEN(Gerar_Upload!G495))&Gerar_Upload!G495,Gerar_Upload!G495),\"erro\")","v":"00000000000000000000000000000000000000000000"}]
[{"$f":"IFERROR(LEFT(Gerar_Upload!A496,120),\"erro\")","v":""},{"$f":"IFERROR(SUBSTITUTE(SUBSTITUTE(SUBSTITUTE(Gerar_Upload!B496,\".\",\"\"),\"-\",\"\"),\"/\",\"\"),\"erro\")","v":""},{"$f":"IFERROR(Gerar_Upload!C496,\"erro\")","v":0},{"$f":"IFERROR(Gerar_Upload!D496,\"erro\")","v":0},{"$f":"IFERROR(DATE(YEAR(Gerar_Upload!E496),MONTH(Gerar_Upload!E496),DAY(Gerar_Upload!E496)),\"erro\")","v":"00:00:00"},{"$f":"IFERROR(Gerar_Upload!F496,\"erro\")","v":0},{"$f":"IFERROR(IF(Gerar_Upload!G496<44,REPT(0,44-LEN(Gerar_Upload!G496))&Gerar_Upload!G496,Gerar_Upload!G496),\"erro\")","v":"00000000000000000000000000000000000000000000"}]
[{"$f":"IFERROR(LEFT(Gerar_Upload!A497,120),\"erro\")","v":""},{"$f":"IFERROR(SUBSTITUTE(SUBSTITUTE(SUBSTITUTE(Gerar_Upload!B497,\".\",\"\"),\"-\",\"\"),\"/\",\"\"),\"erro\")","v":""},{"$f":"IFERROR(Gerar_Upload!C497,\"erro\")","v":0},{"$f":"IFERROR(Gerar_Upload!D497,\"erro\")","v":0},{"$f":"IFERROR(DATE(YEAR(Gerar_Upload!E497),MONTH(Gerar_Upload!E497),DAY(Gerar_Upload!E497)),\"erro\")","v":"00:00:00"},{"$f":"IFERROR(Gerar_Upload!F497,\"erro\")","v":0},{"$f":"IFERROR(IF(Gerar_Upload!G497<44,REPT(0,44-LEN(Gerar_Upload!G497))&Gerar_Upload!G497,Gerar_Upload!G497),\"erro\")","v":"00000000000000000000000000000000000000000000"}]
[{"$f":"IFERROR(LEFT(Gerar_Upload!A498,120),\"erro\")","v":""},{"$f":"IFERROR(SUBSTITUTE(SUBSTITUTE(SUBSTITUTE(Gerar_Upload!B498,\".\",\"\"),\"-\",\"\"),\"/\",\"\"),\"erro\")","v":""},{"$f":"IFERROR(Gerar_Upload!C498,\"erro\")","v":0},{"$f":"IFERROR(Gerar_Upload!D498,\"erro\")","v":0},{"$f":"IFERROR(DATE(YEAR(Gerar_Upload!E498),MONTH(Gerar_Upload!E498),DAY(Gerar_Upload!E498)),\"erro\")","v":"00:00:00"},{"$f":"IFERROR(Gerar_Upload!F498,\"erro\")","v":0},{"$f":"IFERROR(IF(Gerar_Upload!G498<44,REPT(0,44-LEN(Gerar_Upload!G498))&Gerar_Upload!G498,Gerar_Upload!G498),\"erro\")","v":"00000000000000000000000000000000000000000000"}]
[{"$f":"IFERROR(LEFT(Gerar_Upload!A499,120),\"erro\")","v":""},{"$f":"IFERROR(SUBSTITUTE(SUBSTITUTE(SUBSTITUTE(Gerar_Upload!B499,\".\",\"\"),\"-\",\"\"),\"/\",\"\"),\"erro\")","v":""},{"$f":"IFERROR(Gerar_Upload!C499,\"erro\")","v":0},{"$f":"IFERROR(Gerar_Upload!D499,\"erro\")","v":0},{"$f":"IFERROR(DATE(YEAR(Gerar_Upload!E499),MONTH(Gerar_Upload!E499),DAY(Gerar_Upload!E499)),\"erro\")","v":"00:00:00"},{"$f":"IFERROR(Gerar_Upload!F499,\"erro\")","v":0},{"$f":"IFERROR(IF(Gerar_Upload!G499<44,REPT(0,44-LEN(Gerar_Upload!G499))&Gerar_Upload!G499,Gerar_Upload!G499),\"erro\")","v":"00000000000000000000000000000000000000000000"}]
[{"$f":"IFERROR(LEFT(Gerar_Upload!A500,120),\"erro\")","v":""},{"$f":"IFERROR(SUBSTITUTE(SUBSTITUTE(SUBSTITUTE(Gerar_Upload!B500,\".\",\"\"),\"-\",\"\"),\"/\",\"\"),\"erro\")","v":""},{"$f":"IFERROR(Gerar_Upload!C500,\"erro\")","v":0},{"$f":"IFERROR(Gerar_Upload!D500,\"erro\")","v":0},{"$f":"IFERROR(DATE(YEAR(Gerar_Upload!E500),MONTH(Gerar_Upload!E500),DAY(Gerar_Upload!E500)),\"erro\")","v":"00:00:00"},{"$f":"IFERROR(Gerar_Upload!F500,\"erro\")","v":0},{"$f":"IFERROR(IF(Gerar_Upload!G500<44,REPT(0,44-LEN(Gerar_Upload!G500))&Gerar_Upload!G500,Gerar_Upload!G500),\"erro\")","v":"00000000000000000000000000000000000000000000"}]
[{"$f":"IFERROR(LEFT(Gerar_Upload!A501,120),\"erro\")","v":""},{"$f":"IFERROR(SUBSTITUTE(SUBSTITUTE(SUBSTITUTE(Gerar_Upload!B501,\".\",\"\"),\"-\",\"\"),\"/\",\"\"),\"erro\")","v":""},{"$f":"IFERROR(Gerar_Upload!C501,\"erro\")","v":0},{"$f":"IFERROR(Gerar_Upload!D501,\"erro\")","v":0},{"$f":"IFERROR(DATE(YEAR(Gerar_Upload!E501),MONTH(Gerar_Upload!E501),DAY(Gerar_Upload!E501)),\"erro\")","v":"00:00:00"},{"$f":"IFERROR(Gerar_Upload!F501,\"erro\")","v":0},{"$f":"IFERROR(IF(Gerar_Upload!G501<44,REPT(0,44-LEN(Gerar_Upload!G501))&Gerar_Upload!G501,Gerar_Upload!G501),\"erro\")","v":"00000000000000000000000000000000000000000000"}]
[{"$f":"IFERROR(LEFT(Gerar_Upload!A502,120),\"erro\")","v":""},{"$f":"IFERROR(SUBSTITUTE(SUBSTITUTE(SUBSTITUTE(Gerar_Upload!B502,\".\",\"\"),\"-\",\"\"),\"/\",\"\"),\"erro\")","v":""},{"$f":"IFERROR(Gerar_Upload!C502,\"erro\")","v":0},{"$f":"IFERROR(Gerar_Upload!D502,\"erro\")","v":0},{"$f":"IFERROR(DATE(YEAR(Gerar_Upload!E502),MONTH(Gerar_Upload!E502),DAY(Gerar_Upload!E502)),\"erro\")","v":"00:00:00"},{"$f":"IFERROR(Gerar_Upload!F502,\"erro\")","v":0},{"$f":"IFERROR(IF(Gerar_Upload!G502<44,REPT(0,44-LEN(Gerar_Upload!G502))&Gerar_Upload!G502,Gerar_Upload!G502),\"erro\")","v":"00000000000000000000000000000000000000000000"}]
[{"$f":"IFERROR(LEFT(Gerar_Upload!A503,120),\"erro\")","v":""},{"$f":"IFERROR(SUBSTITUTE(SUBSTITUTE(SUBSTITUTE(Gerar_Upload!B503,\".\",\"\"),\"-\",\"\"),\"/\",\"\"),\"erro\")","v":""},{"$f":"IFERROR(Gerar_Upload!C503,\"erro\")","v":0},{"$f":"IFERROR(Gerar_Upload!D503,\"erro\")","v":0},{"$f":"IFERROR(DATE(YEAR(Gerar_Upload!E503),MONTH(Gerar_Upload!E503),DAY(Gerar_Upload!E503)),\"erro\")","v":"00:00:00"},{"$f":"IFERROR(Gerar_Upload!F503,\"erro\")","v":0},{"$f":"IFERROR(IF(Gerar_Upload!G503<44,REPT(0,44-LEN(Gerar_Upload!G503))&Gerar_Upload!G503,Gerar_Upload!G503),\"erro\")","v":"00000000000000000000000000000000000000000000"}]
[{"$f":"IFERROR(LEFT(Gerar_Upload!A504,120),\"erro\")","v":""},{"$f":"IFERROR(SUBSTITUTE(SUBSTITUTE(SUBSTITUTE(Gerar_Upload!B504,\".\",\"\"),\"-\",\"\"),\"/\",\"\"),\"erro\")","v":""},{"$f":"IFERROR(Gerar_Upload!C504,\"erro\")","v":0},{"$f":"IFERROR(Gerar_Upload!D504,\"erro\")","v":0},{"$f":"IFERROR(DATE(YEAR(Gerar_Upload!E504),MONTH(Gerar_Upload!E504),DAY(Gerar_Upload!E504)),\"erro\")","v":"00:00:00"},{"$f":"IFERROR(Gerar_Upload!F504,\"erro\")","v":0},{"$f":"IFERROR(IF(Gerar_Upload!G504<44,REPT(0,44-LEN(Gerar_Upload!G504))&Gerar_Upload!G504,Gerar_Upload!G504),\"erro\")","v":"00000000000000000000000000000000000000000000"}]
[{"$f":"IFERROR(LEFT(Gerar_Upload!A505,120),\"erro\")","v":""},{"$f":"IFERROR(SUBSTITUTE(SUBSTITUTE(SUBSTITUTE(Gerar_Upload!B505,\".\",\"\"),\"-\",\"\"),\"/\",\"\"),\"erro\")","v":""},{"$f":"IFERROR(Gerar_Upload!C505,\"erro\")","v":0},{"$f":"IFERROR(Gerar_Upload!D505,\"erro\")","v":0},{"$f":"IFERROR(DATE(YEAR(Gerar_Upload!E505),MONTH(Gerar_Upload!E505),DAY(Gerar_Upload!E505)),\"erro\")","v":"00:00:00"},{"$f":"IFERROR(Gerar_Upload!F505,\"erro\")","v":0},{"$f":"IFERROR(IF(Gerar_Upload!G505<44,REPT(0,44-LEN(Gerar_Upload!G505))&Gerar_Upload!G505,Gerar_Upload!G505),\"erro\")","v":"00000000000000000000000000000000000000000000"}]
[{"$f":"IFERROR(LEFT(Gerar_Upload!A506,120),\"erro\")","v":""},{"$f":"IFERROR(SUBSTITUTE(SUBSTITUTE(SUBSTITUTE(Gerar_Upload!B506,\".\",\"\"),\"-\",\"\"),\"/\",\"\"),\"erro\")","v":""},{"$f":"IFERROR(Gerar_Upload!C506,\"erro\")","v":0},{"$f":"IFERROR(Gerar_Upload!D506,\"erro\")","v":0},{"$f":"IFERROR(DATE(YEAR(Gerar_Upload!E506),MONTH(Gerar_Upload!E506),DAY(Gerar_Upload!E506)),\"erro\")","v":"00:00:00"},{"$f":"IFERROR(Gerar_Upload!F506,\"erro\")","v":0},{"$f":"IFERROR(IF(Gerar_Upload!G506<44,REPT(0,44-LEN(Gerar_Upload!G506))&Gerar_Upload!G506,Gerar_Upload!G506),\"erro\")","v":"00000000000000000000000000000000000000000000"}]
[{"$f":"IFERROR(LEFT(Gerar_Upload!A507,120),\"erro\")","v":""},{"$f":"IFERROR(SUBSTITUTE(SUBSTITUTE(SUBSTITUTE(Gerar_Upload!B507,\".\",\"\"),\"-\",\"\"),\"/\",\"\"),\"erro\")","v":""},{"$f":"IFERROR(Gerar_Upload!C507,\"erro\")","v":0},{"$f":"IFERROR(Gerar_Upload!D507,\"erro\")","v":0},{"$f":"IFERROR(DATE(YEAR(Gerar_Upload!E507),MONTH(Gerar_Upload!E507),DAY(Gerar_Upload!E507)),\"erro\")","v":"00:00:00"},{"$f":"IFERROR(Gerar_Upload!F507,\"erro\")","v":0},{"$f":"IFERROR(IF(Gerar_Upload!G507<44,REPT(0,44-LEN(Gerar_Upload!G507))&Gerar_Upload!G507,Gerar_Upload!G507),\"erro\")","v":"00000000000000000000000000000000000000000000"}]
[{"$f":"IFERROR(LEFT(Gerar_Upload!A508,120),\"erro\")","v":""},{"$f":"IFERROR(SUBSTITUTE(SUBSTITUTE(SUBSTITUTE(Gerar_Upload!B508,\".\",\"\"),\"-\",\"\"),\"/\",\"\"),\"erro\")","v":""},{"$f":"IFERROR(Gerar_Upload!C508,\"erro\")","v":0},{"$f":"IFERROR(Gerar_Upload!D508,\"erro\")","v":0},{"$f":"IFERROR(DATE(YEAR(Gerar_Upload!E508),MONTH(Gerar_Upload!E508),DAY(Gerar_Upload!E508)),\"erro\")","v":"00:00:00"},{"$f":"IFERROR(Gerar_Upload!F508,\"erro\")","v":0},{"$f":"IFERROR(IF(Gerar_Upload!G508<44,REPT(0,44-LEN(Gerar_Upload!G508))&Gerar_Upload!G508,Gerar_Upload!G508),\"erro\")","v":"00000000000000000000000000000000000000000000"}]
[{"$f":"IFERROR(LEFT(Gerar_Upload!A509,120),\"erro\")","v":""},{"$f":"IFERROR(SUBSTITUTE(SUBSTITUTE(SUBSTITUTE(Gerar_Upload!B509,\".\",\"\"),\"-\",\"\"),\"/\",\"\"),\"erro\")","v":""},{"$f":"IFERROR(Gerar_Upload!C509,\"erro\")","v":0},{"$f":"IFERROR(Gerar_Upload!D509,\"erro\")","v":0},{"$f":"IFERROR(DATE(YEAR(Gerar_Upload!E509),MONTH(Gerar_Upload!E509),DAY(Gerar_Upload!E509)),\"erro\")","v":"00:00:00"},{"$f":"IFERROR(Gerar_Upload!F509,\"erro\")","v":0},{"$f":"IFERROR(IF(Gerar_Upload!G509<44,REPT(0,44-LEN(Gerar_Upload!G509))&Gerar_Upload!G509,Gerar_Upload!G509),\"erro\")","v":"00000000000000000000000000000000000000000000"}]
[{"$f":"IFERROR(LEFT(Gerar_Upload!A510,120),\"erro\")","v":""},{"$f":"IFERROR(SUBSTITUTE(SUBSTITUTE(SUBSTITUTE(Gerar_Upload!B510,\".\",\"\"),\"-\",\"\"),\"/\",\"\"),\"erro\")","v":""},{"$f":"IFERROR(Gerar_Upload!C510,\"erro\")","v":0},{"$f":"IFERROR(Gerar_Upload!D510,\"erro\")","v":0},{"$f":"IFERROR(DATE(YEAR(Gerar_Upload!E510),MONTH(Gerar_Upload!E510),DAY(Gerar_Upload!E510)),\"erro\")","v":"00:00:00"},{"$f":"IFERROR(Gerar_Upload!F510,\"erro\")","v":0},{"$f":"IFERROR(IF(Gerar_Upload!G510<44,REPT(0,44-LEN(Gerar_Upload!G510))&Gerar_Upload!G510,Gerar_Upload!G510),\"erro\")","v":"00000000000000000000000000000000000000000000"}]
[{"$f":"IFERROR(LEFT(Gerar_Upload!A511,120),\"erro\")","v":""},{"$f":"IFERROR(SUBSTITUTE(SUBSTITUTE(SUBSTITUTE(Gerar_Upload!B511,\".\",\"\"),\"-\",\"\"),\"/\",\"\"),\"erro\")","v":""},{"$f":"IFERROR(Gerar_Upload!C511,\"erro\")","v":0},{"$f":"IFERROR(Gerar_Upload!D511,\"erro\")","v":0},{"$f":"IFERROR(DATE(YEAR(Gerar_Upload!E511),MONTH(Gerar_Upload!E511),DAY(Gerar_Upload!E511)),\"erro\")","v":"00:00:00"},{"$f":"IFERROR(Gerar_Upload!F511,\"erro\")","v":0},{"$f":"IFERROR(IF(Gerar_Upload!G511<44,REPT(0,44-LEN(Gerar_Upload!G511))&Gerar_Upload!G511,Gerar_Upload!G511),\"erro\")","v":"00000000000000000000000000000000000000000000"}]
[{"$f":"IFERROR(LEFT(Gerar_Upload!A512,120),\"erro\")","v":""},{"$f":"IFERROR(SUBSTITUTE(SUBSTITUTE(SUBSTITUTE(Gerar_Upload!B512,\".\",\"\"),\"-\",\"\"),\"/\",\"\"),\"erro\")","v":""},{"$f":"IFERROR(Gerar_Upload!C512,\"erro\")","v":0},{"$f":"IFERROR(Gerar_Upload!D512,\"erro\")","v":0},{"$f":"IFERROR(DATE(YEAR(Gerar_Upload!E512),MONTH(Gerar_Upload!E512),DAY(Gerar_Upload!E512)),\"erro\")","v":"00:00:00"},{"$f":"IFERROR(Gerar_Upload!F512,\"erro\")","v":0},{"$f":"IFERROR(IF(Gerar_Upload!G512<44,REPT(0,44-LEN(Gerar_Upload!G512))&Gerar_Upload!G512,Gerar_Upload!G512),\"erro\")","v":"00000000000000000000000000000000000000000000"}]
[{"$f":"IFERROR(LEFT(Gerar_Upload!A513,120),\"erro\")","v":""},{"$f":"IFERROR(SUBSTITUTE(SUBSTITUTE(SUBSTITUTE(Gerar_Upload!B513,\".\",\"\"),\"-\",\"\"),\"/\",\"\"),\"erro\")","v":""},{"$f":"IFERROR(Gerar_Upload!C513,\"erro\")","v":0},{"$f":"IFERROR(Gerar_Upload!D513,\"erro\")","v":0},{"$f":"IFERROR(DATE(YEAR(Gerar_Upload!E513),MONTH(Gerar_Upload!E513),DAY(Gerar_Upload!E513)),\"erro\")","v":"00:00:00"},{"$f":"IFERROR(Gerar_Upload!F513,\"erro\")","v":0},{"$f":"IFERROR(IF(Gerar_Upload!G513<44,REPT(0,44-LEN(Gerar_Upload!G513))&Gerar_Upload!G513,Gerar_Upload!G513),\"erro\")","v":"00000000000000000000000000000000000000000000"}]
[{"$f":"IFERROR(LEFT(Gerar_Upload!A514,120),\"erro\")","v":""},{"$f":"IFERROR(SUBSTITUTE(SUBSTITUTE(SUBSTITUTE(Gerar_Upload!B514,\".\",\"\"),\"-\",\"\"),\"/\",\"\"),\"erro\")","v":""},{"$f":"IFERROR(Gerar_Upload!C514,\"erro\")","v":0},{"$f":"IFERROR(Gerar_Upload!D514,\"erro\")","v":0},{"$f":"IFERROR(DATE(YEAR(Gerar_Upload!E514),MONTH(Gerar_Upload!E514),DAY(Gerar_Upload!E514)),\"erro\")","v":"00:00:00"},{"$f":"IFERROR(Gerar_Upload!F514,\"erro\")","v":0},{"$f":"IFERROR(IF(Gerar_Upload!G514<44,REPT(0,44-LEN(Gerar_Upload!G514))&Gerar_Upload!G514,Gerar_Upload!G514),\"erro\")","v":"00000000000000000000000000000000000000000000"}]
[{"$f":"IFERROR(LEFT(Gerar_Upload!A515,120),\"erro\")","v":""},{"$f":"IFERROR(SUBSTITUTE(SUBSTITUTE(SUBSTITUTE(Gerar_Upload!B515,\".\",\"\"),\"-\",\"\"),\"/\",\"\"),\"erro\")","v":""},{"$f":"IFERROR(Gerar_Upload!C515,\"erro\")","v":0},{"$f":"IFERROR(Gerar_Upload!D515,\"erro\")","v":0},{"$f":"IFERROR(DATE(YEAR(Gerar_Upload!E515),MONTH(Gerar_Upload!E515),DAY(Gerar_Upload!E515)),\"erro\")","v":"00:00:00"},{"$f":"IFERROR(Gerar_Upload!F515,\"erro\")","v":0},{"$f":"IFERROR(IF(Gerar_Upload!G515<44,REPT(0,44-LEN(Gerar_Upload!G515))&Gerar_Upload!G515,Gerar_Upload!G515),\"erro\")","v":"00000000000000000000000000000000000000000000"}]
[{"$f":"IFERROR(LEFT(Gerar_Upload!A516,120),\"erro\")","v":""},{"$f":"IFERROR(SUBSTITUTE(SUBSTITUTE(SUBSTITUTE(Gerar_Upload!B516,\".\",\"\"),\"-\",\"\"),\"/\",\"\"),\"erro\")","v":""},{"$f":"IFERROR(Gerar_Upload!C516,\"erro\")","v":0},{"$f":"IFERROR(Gerar_Upload!D516,\"erro\")","v":0},{"$f":"IFERROR(DATE(YEAR(Gerar_Upload!E516),MONTH(Gerar_Upload!E516),DAY(Gerar_Upload!E516)),\"erro\")","v":"00:00:00"},{"$f":"IFERROR(Gerar_Upload!F516,\"erro\")","v":0},{"$f":"IFERROR(IF(Gerar_Upload!G516<44,REPT(0,44-LEN(Gerar_Upload!G516))&Gerar_Upload!G516,Gerar_Upload!G516),\"erro\")","v":"00000000000000000000000000000000000000000000"}]
[{"$f":"IFERROR(LEFT(Gerar_Upload!A517,120),\"erro\")","v":""},{"$f":"IFERROR(SUBSTITUTE(SUBSTITUTE(SUBSTITUTE(Gerar_Upload!B517,\".\",\"\"),\"-\",\"\"),\"/\",\"\"),\"erro\")","v":""},{"$f":"IFERROR(Gerar_Upload!C517,\"erro\")","v":0},{"$f":"IFERROR(Gerar_Upload!D517,\"erro\")","v":0},{"$f":"IFERROR(DATE(YEAR(Gerar_Upload!E517),MONTH(Gerar_Upload!E517),DAY(Gerar_Upload!E517)),\"erro\")","v":"00:00:00"},{"$f":"IFERROR(Gerar_Upload!F517,\"erro\")","v":0},{"$f":"IFERROR(IF(Gerar_Upload!G517<44,REPT(0,44-LEN(Gerar_Upload!G517))&Gerar_Upload!G517,Gerar_Upload!G517),\"erro\")","v":"00000000000000000000000000000000000000000000"}]
[{"$f":"IFERROR(LEFT(Gerar_Upload!A518,120),\"erro\")","v":""},{"$f":"IFERROR(SUBSTITUTE(SUBSTITUTE(SUBSTITUTE(Gerar_Upload!B518,\".\",\"\"),\"-\",\"\"),\"/\",\"\"),\"erro\")","v":""},{"$f":"IFERROR(Gerar_Upload!C518,\"erro\")","v":0},{"$f":"IFERROR(Gerar_Upload!D518,\"erro\")","v":0},{"$f":"IFERROR(DATE(YEAR(Gerar_Upload!E518),MONTH(Gerar_Upload!E518),DAY(Gerar_Upload!E518)),\"erro\")","v":"00:00:00"},{"$f":"IFERROR(Gerar_Upload!F518,\"erro\")","v":0},{"$f":"IFERROR(IF(Gerar_Upload!G518<44,REPT(0,44-LEN(Gerar_Upload!G518))&Gerar_Upload!G518,Gerar_Upload!G518),\"erro\")","v":"00000000000000000000000000000000000000000000"}]
[{"$f":"IFERROR(LEFT(Gerar_Upload!A519,120),\"erro\")","v":""},{"$f":"IFERROR(SUBSTITUTE(SUBSTITUTE(SUBSTITUTE(Gerar_Upload!B519,\".\",\"\"),\"-\",\"\"),\"/\",\"\"),\"erro\")","v":""},{"$f":"IFERROR(Gerar_Upload!C519,\"erro\")","v":0},{"$f":"IFERROR(Gerar_Upload!D519,\"erro\")","v":0},{"$f":"IFERROR(DATE(YEAR(Gerar_Upload!E519),MONTH(Gerar_Upload!E519),DAY(Gerar_Upload!E519)),\"erro\")","v":"00:00:00"},{"$f":"IFERROR(Gerar_Upload!F519,\"erro\")","v":0},{"$f":"IFERROR(IF(Gerar_Upload!G519<44,REPT(0,44-LEN(Gerar_Upload!G519))&Gerar_Upload!G519,Gerar_Upload!G519),\"erro\")","v":"00000000000000000000000000000000000000000000"}]
[{"$f":"IFERROR(LEFT(Gerar_Upload!A520,120),\"erro\")","v":""},{"$f":"IFERROR(SUBSTITUTE(SUBSTITUTE(SUBSTITUTE(Gerar_Upload!B520,\".\",\"\"),\"-\",\"\"),\"/\",\"\"),\"erro\")","v":""},{"$f":"IFERROR(Gerar_Upload!C520,\"erro\")","v":0},{"$f":"IFERROR(Gerar_Upload!D520,\"erro\")","v":0},{"$f":"IFERROR(DATE(YEAR(Gerar_Upload!E520),MONTH(Gerar_Upload!E520),DAY(Gerar_Upload!E520)),\"erro\")","v":"00:00:00"},{"$f":"IFERROR(Gerar_Upload!F520,\"erro\")","v":0},{"$f":"IFERROR(IF(Gerar_Upload!G520<44,REPT(0,44-LEN(Gerar_Upload!G520))&Gerar_Upload!G520,Gerar_Upload!G520),\"erro\")","v":"00000000000000000000000000000000000000000000"}]
[{"$f":"IFERROR(LEFT(Gerar_Upload!A521,120),\"erro\")","v":""},{"$f":"IFERROR(SUBSTITUTE(SUBSTITUTE(SUBSTITUTE(Gerar_Upload!B521,\".\",\"\"),\"-\",\"\"),\"/\",\"\"),\"erro\")","v":""},{"$f":"IFERROR(Gerar_Upload!C521,\"erro\")","v":0},{"$f":"IFERROR(Gerar_Upload!D521,\"erro\")","v":0},{"$f":"IFERROR(DATE(YEAR(Gerar_Upload!E521),MONTH(Gerar_Upload!E521),DAY(Gerar_Upload!E521)),\"erro\")","v":"00:00:00"},{"$f":"IFERROR(Gerar_Upload!F521,\"erro\")","v":0},{"$f":"IFERROR(IF(Gerar_Upload!G521<44,REPT(0,44-LEN(Gerar_Upload!G521))&Gerar_Upload!G521,Gerar_Upload!G521),\"erro\")","v":"00000000000000000000000000000000000000000000"}]
[{"$f":"IFERROR(LEFT(Gerar_Upload!A522,120),\"erro\")","v":""},{"$f":"IFERROR(SUBSTITUTE(SUBSTITUTE(SUBSTITUTE(Gerar_Upload!B522,\".\",\"\"),\"-\",\"\"),\"/\",\"\"),\"erro\")","v":""},{"$f":"IFERROR(Gerar_Upload!C522,\"erro\")","v":0},{"$f":"IFERROR(Gerar_Upload!D522,\"erro\")","v":0},{"$f":"IFERROR(DATE(YEAR(Gerar_Upload!E522),MONTH(Gerar_Upload!E522),DAY(Gerar_Upload!E522)),\"erro\")","v":"00:00:00"},{"$f":"IFERROR(Gerar_Upload!F522,\"erro\")","v":0},{"$f":"IFERROR(IF(Gerar_Upload!G522<44,REPT(0,44-LEN(Gerar_Upload!G522))&Gerar_Upload!G522,Gerar_Upload!G522),\"erro\")","v":"00000000000000000000000000000000000000000000"}]
[{"$f":"IFERROR(LEFT(Gerar_Upload!A523,120),\"erro\")","v":""},{"$f":"IFERROR(SUBSTITUTE(SUBSTITUTE(SUBSTITUTE(Gerar_Upload!B523,\".\",\"\"),\"-\",\"\"),\"/\",\"\"),\"erro\")","v":""},{"$f":"IFERROR(Gerar_Upload!C523,\"erro\")","v":0},{"$f":"IFERROR(Gerar_Upload!D523,\"erro\")","v":0},{"$f":"IFERROR(DATE(YEAR(Gerar_Upload!E523),MONTH(Gerar_Upload!E523),DAY(Gerar_Upload!E523)),\"erro\")","v":"00:00:00"},{"$f":"IFERROR(Gerar_Upload!F523,\"erro\")","v":0},{"$f":"IFERROR(IF(Gerar_Upload!G523<44,REPT(0,44-LEN(Gerar_Upload!G523))&Gerar_Upload!G523,Gerar_Upload!G523),\"erro\")","v":"00000000000000000000000000000000000000000000"}]
[{"$f":"IFERROR(LEFT(Gerar_Upload!A524,120),\"erro\")","v":""},{"$f":"IFERROR(SUBSTITUTE(SUBSTITUTE(SUBSTITUTE(Gerar_Upload!B524,\".\",\"\"),\"-\",\"\"),\"/\",\"\"),\"erro\")","v":""},{"$f":"IFERROR(Gerar_Upload!C524,\"erro\")","v":0},{"$f":"IFERROR(Gerar_Upload!D524,\"erro\")","v":0},{"$f":"IFERROR(DATE(YEAR(Gerar_Upload!E524),MONTH(Gerar_Upload!E524),DAY(Gerar_Upload!E524)),\"erro\")","v":"00:00:00"},{"$f":"IFERROR(Gerar_Upload!F524,\"erro\")","v":0},{"$f":"IFERROR(IF(Gerar_Upload!G524<44,REPT(0,44-LEN(Gerar_Upload!G524))&Gerar_Upload!G524,Gerar_Upload!G524),\"erro\")","v":"00000000000000000000000000000000000000000000"}]
[{"$f":"IFERROR(LEFT(Gerar_Upload!A525,120),\"erro\")","v":""},{"$f":"IFERROR(SUBSTITUTE(SUBSTITUTE(SUBSTITUTE(Gerar_Upload!B525,\".\",\"\"),\"-\",\"\"),\"/\",\"\"),\"erro\")","v":""},{"$f":"IFERROR(Gerar_Upload!C525,\"erro\")","v":0},{"$f":"IFERROR(Gerar_Upload!D525,\"erro\")","v":0},{"$f":"IFERROR(DATE(YEAR(Gerar_Upload!E525),MONTH(Gerar_Upload!E525),DAY(Gerar_Upload!E525)),\"erro\")","v":"00:00:00"},{"$f":"IFERROR(Gerar_Upload!F525,\"erro\")","v":0},{"$f":"IFERROR(IF(Gerar_Upload!G525<44,REPT(0,44-LEN(Gerar_Upload!G525))&Gerar_Upload!G525,Gerar_Upload!G525),\"erro\")","v":"00000000000000000000000000000000000000000000"}]
[{"$f":"IFERROR(LEFT(Gerar_Upload!A526,120),\"erro\")","v":""},{"$f":"IFERROR(SUBSTITUTE(SUBSTITUTE(SUBSTITUTE(Gerar_Upload!B526,\".\",\"\"),\"-\",\"\"),\"/\",\"\"),\"erro\")","v":""},{"$f":"IFERROR(Gerar_Upload!C526,\"erro\")","v":0},{"$f":"IFERROR(Gerar_Upload!D526,\"erro\")","v":0},{"$f":"IFERROR(DATE(YEAR(Gerar_Upload!E526),MONTH(Gerar_Upload!E526),DAY(Gerar_Upload!E526)),\"erro\")","v":"00:00:00"},{"$f":"IFERROR(Gerar_Upload!F526,\"erro\")","v":0},{"$f":"IFERROR(IF(Gerar_Upload!G526<44,REPT(0,44-LEN(Gerar_Upload!G526))&Gerar_Upload!G526,Gerar_Upload!G526),\"erro\")","v":"00000000000000000000000000000000000000000000"}]
[{"$f":"IFERROR(LEFT(Gerar_Upload!A527,120),\"erro\")","v":""},{"$f":"IFERROR(SUBSTITUTE(SUBSTITUTE(SUBSTITUTE(Gerar_Upload!B527,\".\",\"\"),\"-\",\"\"),\"/\",\"\"),\"erro\")","v":""},{"$f":"IFERROR(Gerar_Upload!C527,\"erro\")","v":0},{"$f":"IFERROR(Gerar_Upload!D527,\"erro\")","v":0},{"$f":"IFERROR(DATE(YEAR(Gerar_Upload!E527),MONTH(Gerar_Upload!E527),DAY(Gerar_Upload!E527)),\"erro\")","v":"00:00:00"},{"$f":"IFERROR(Gerar_Upload!F527,\"erro\")","v":0},{"$f":"IFERROR(IF(Gerar_Upload!G527<44,REPT(0,44-LEN(Gerar_Upload!G527))&Gerar_Upload!G527,Gerar_Upload!G527),\"erro\")","v":"00000000000000000000000000000000000000000000"}]
[{"$f":"IFERROR(LEFT(Gerar_Upload!A528,120),\"erro\")","v":""},{"$f":"IFERROR(SUBSTITUTE(SUBSTITUTE(SUBSTITUTE(Gerar_Upload!B528,\".\",\"\"),\"-\",\"\"),\"/\",\"\"),\"erro\")","v":""},{"$f":"IFERROR(Gerar_Upload!C528,\"erro\")","v":0},{"$f":"IFERROR(Gerar_Upload!D528,\"erro\")","v":0},{"$f":"IFERROR(DATE(YEAR(Gerar_Upload!E528),MONTH(Gerar_Upload!E528),DAY(Gerar_Upload!E528)),\"erro\")","v":"00:00:00"},{"$f":"IFERROR(Gerar_Upload!F528,\"erro\")","v":0},{"$f":"IFERROR(IF(Gerar_Upload!G528<44,REPT(0,44-LEN(Gerar_Upload!G528))&Gerar_Upload!G528,Gerar_Upload!G528),\"erro\")","v":"00000000000000000000000000000000000000000000"}]
[{"$f":"IFERROR(LEFT(Gerar_Upload!A529,120),\"erro\")","v":""},{"$f":"IFERROR(SUBSTITUTE(SUBSTITUTE(SUBSTITUTE(Gerar_Upload!B529,\".\",\"\"),\"-\",\"\"),\"/\",\"\"),\"erro\")","v":""},{"$f":"IFERROR(Gerar_Upload!C529,\"erro\")","v":0},{"$f":"IFERROR(Gerar_Upload!D529,\"erro\")","v":0},{"$f":"IFERROR(DATE(YEAR(Gerar_Upload!E529),MONTH(Gerar_Upload!E529),DAY(Gerar_Upload!E529)),\"erro\")","v":"00:00:00"},{"$f":"IFERROR(Gerar_Upload!F529,\"erro\")","v":0},{"$f":"IFERROR(IF(Gerar_Upload!G529<44,REPT(0,44-LEN(Gerar_Upload!G529))&Gerar_Upload!G529,Gerar_Upload!G529),\"erro\")","v":"00000000000000000000000000000000000000000000"}]
[{"$f":"IFERROR(LEFT(Gerar_Upload!A530,120),\"erro\")","v":""},{"$f":"IFERROR(SUBSTITUTE(SUBSTITUTE(SUBSTITUTE(Gerar_Upload!B530,\".\",\"\"),\"-\",\"\"),\"/\",\"\"),\"erro\")","v":""},{"$f":"IFERROR(Gerar_Upload!C530,\"erro\")","v":0},{"$f":"IFERROR(Gerar_Upload!D530,\"erro\")","v":0},{"$f":"IFERROR(DATE(YEAR(Gerar_Upload!E530),MONTH(Gerar_Upload!E530),DAY(Gerar_Upload!E530)),\"erro\")","v":"00:00:00"},{"$f":"IFERROR(Gerar_Upload!F530,\"erro\")","v":0},{"$f":"IFERROR(IF(Gerar_Upload!G530<44,REPT(0,44-LEN(Gerar_Upload!G530))&Gerar_Upload!G530,Gerar_Upload!G530),\"erro\")","v":"00000000000000000000000000000000000000000000"}]
[{"$f":"IFERROR(LEFT(Gerar_Upload!A531,120),\"erro\")","v":""},{"$f":"IFERROR(SUBSTITUTE(SUBSTITUTE(SUBSTITUTE(Gerar_Upload!B531,\".\",\"\"),\"-\",\"\"),\"/\",\"\"),\"erro\")","v":""},{"$f":"IFERROR(Gerar_Upload!C531,\"erro\")","v":0},{"$f":"IFERROR(Gerar_Upload!D531,\"erro\")","v":0},{"$f":"IFERROR(DATE(YEAR(Gerar_Upload!E531),MONTH(Gerar_Upload!E531),DAY(Gerar_Upload!E531)),\"erro\")","v":"00:00:00"},{"$f":"IFERROR(Gerar_Upload!F531,\"erro\")","v":0},{"$f":"IFERROR(IF(Gerar_Upload!G531<44,REPT(0,44-LEN(Gerar_Upload!G531))&Gerar_Upload!G531,Gerar_Upload!G531),\"erro\")","v":"00000000000000000000000000000000000000000000"}]
[{"$f":"IFERROR(LEFT(Gerar_Upload!A532,120),\"erro\")","v":""},{"$f":"IFERROR(SUBSTITUTE(SUBSTITUTE(SUBSTITUTE(Gerar_Upload!B532,\".\",\"\"),\"-\",\"\"),\"/\",\"\"),\"erro\")","v":""},{"$f":"IFERROR(Gerar_Upload!C532,\"erro\")","v":0},{"$f":"IFERROR(Gerar_Upload!D532,\"erro\")","v":0},{"$f":"IFERROR(DATE(YEAR(Gerar_Upload!E532),MONTH(Gerar_Upload!E532),DAY(Gerar_Upload!E532)),\"erro\")","v":"00:00:00"},{"$f":"IFERROR(Gerar_Upload!F532,\"erro\")","v":0},{"$f":"IFERROR(IF(Gerar_Upload!G532<44,REPT(0,44-LEN(Gerar_Upload!G532))&Gerar_Upload!G532,Gerar_Upload!G532),\"erro\")","v":"00000000000000000000000000000000000000000000"}]
[{"$f":"IFERROR(LEFT(Gerar_Upload!A533,120),\"erro\")","v":""},{"$f":"IFERROR(SUBSTITUTE(SUBSTITUTE(SUBSTITUTE(Gerar_Upload!B533,\".\",\"\"),\"-\",\"\"),\"/\",\"\"),\"erro\")","v":""},{"$f":"IFERROR(Gerar_Upload!C533,\"erro\")","v":0},{"$f":"IFERROR(Gerar_Upload!D533,\"erro\")","v":0},{"$f":"IFERROR(DATE(YEAR(Gerar_Upload!E533),MONTH(Gerar_Upload!E533),DAY(Gerar_Upload!E533)),\"erro\")","v":"00:00:00"},{"$f":"IFERROR(Gerar_Upload!F533,\"erro\")","v":0},{"$f":"IFERROR(IF(Gerar_Upload!G533<44,REPT(0,44-LEN(Gerar_Upload!G533))&Gerar_Upload!G533,Gerar_Upload!G533),\"erro\")","v":"00000000000000000000000000000000000000000000"}]
[{"$f":"IFERROR(LEFT(Gerar_Upload!A534,120),\"erro\")","v":""},{"$f":"IFERROR(SUBSTITUTE(SUBSTITUTE(SUBSTITUTE(Gerar_Upload!B534,\".\",\"\"),\"-\",\"\"),\"/\",\"\"),\"erro\")","v":""},{"$f":"IFERROR(Gerar_Upload!C534,\"erro\")","v":0},{"$f":"IFERROR(Gerar_Upload!D534,\"erro\")","v":0},{"$f":"IFERROR(DATE(YEAR(Gerar_Upload!E534),MONTH(Gerar_Upload!E534),DAY(Gerar_Upload!E534)),\"erro\")","v":"00:00:00"},{"$f":"IFERROR(Gerar_Upload!F534,\"erro\")","v":0},{"$f":"IFERROR(IF(Gerar_Upload!G534<44,REPT(0,44-LEN(Gerar_Upload!G534))&Gerar_Upload!G534,Gerar_Upload!G534),\"erro\")","v":"00000000000000000000000000000000000000000000"}]
[{"$f":"IFERROR(LEFT(Gerar_Upload!A535,120),\"erro\")","v":""},{"$f":"IFERROR(SUBSTITUTE(SUBSTITUTE(SUBSTITUTE(Gerar_Upload!B535,\".\",\"\"),\"-\",\"\"),\"/\",\"\"),\"erro\")","v":""},{"$f":"IFERROR(Gerar_Upload!C535,\"erro\")","v":0},{"$f":"IFERROR(Gerar_Upload!D535,\"erro\")","v":0},{"$f":"IFERROR(DATE(YEAR(Gerar_Upload!E535),MONTH(Gerar_Upload!E535),DAY(Gerar_Upload!E535)),\"erro\")","v":"00:00:00"},{"$f":"IFERROR(Gerar_Upload!F535,\"erro\")","v":0},{"$f":"IFERROR(IF(Gerar_Upload!G535<44,REPT(0,44-LEN(Gerar_Upload!G535))&Gerar_Upload!G535,Gerar_Upload!G535),\"erro\")","v":"00000000000000000000000000000000000000000000"}]
[{"$f":"IFERROR(LEFT(Gerar_Upload!A536,120),\"erro\")","v":""},{"$f":"IFERROR(SUBSTITUTE(SUBSTITUTE(SUBSTITUTE(Gerar_Upload!B536,\".\",\"\"),\"-\",\"\"),\"/\",\"\"),\"erro\")","v":""},{"$f":"IFERROR(Gerar_Upload!C536,\"erro\")","v":0},{"$f":"IFERROR(Gerar_Upload!D536,\"erro\")","v":0},{"$f":"IFERROR(DATE(YEAR(Gerar_Upload!E536),MONTH(Gerar_Upload!E536),DAY(Gerar_Upload!E536)),\"erro\")","v":"00:00:00"},{"$f":"IFERROR(Gerar_Upload!F536,\"erro\")","v":0},{"$f":"IFERROR(IF(Gerar_Upload!G536<44,REPT(0,44-LEN(Gerar_Upload!G536))&Gerar_Upload!G536,Gerar_Upload!G536),\"erro\")","v":"00000000000000000000000000000000000000000000"}]
[{"$f":"IFERROR(LEFT(Gerar_Upload!A537,120),\"erro\")","v":""},{"$f":"IFERROR(SUBSTITUTE(SUBSTITUTE(SUBSTITUTE(Gerar_Upload!B537,\".\",\"\"),\"-\",\"\"),\"/\",\"\"),\"erro\")","v":""},{"$f":"IFERROR(Gerar_Upload!C537,\"erro\")","v":0},{"$f":"IFERROR(Gerar_Upload!D537,\"erro\")","v":0},{"$f":"IFERROR(DATE(YEAR(Gerar_Upload!E537),MONTH(Gerar_Upload!E537),DAY(Gerar_Upload!E537)),\"erro\")","v":"00:00:00"},{"$f":"IFERROR(Gerar_Upload!F537,\"erro\")","v":0},{"$f":"IFERROR(IF(Gerar_Upload!G537<44,REPT(0,44-LEN(Gerar_Upload!G537))&Gerar_Upload!G537,Gerar_Upload!G537),\"erro\")","v":"00000000000000000000000000000000000000000000"}]
[{"$f":"IFERROR(LEFT(Gerar_Upload!A538,120),\"erro\")","v":""},{"$f":"IFERROR(SUBSTITUTE(SUBSTITUTE(SUBSTITUTE(Gerar_Upload!B538,\".\",\"\"),\"-\",\"\"),\"/\",\"\"),\"erro\")","v":""},{"$f":"IFERROR(Gerar_Upload!C538,\"erro\")","v":0},{"$f":"IFERROR(Gerar_Upload!D538,\"erro\")","v":0},{"$f":"IFERROR(DATE(YEAR(Gerar_Upload!E538),MONTH(Gerar_Upload!E538),DAY(Gerar_Upload!E538)),\"erro\")","v":"00:00:00"},{"$f":"IFERROR(Gerar_Upload!F538,\"erro\")","v":0},{"$f":"IFERROR(IF(Gerar_Upload!G538<44,REPT(0,44-LEN(Gerar_Upload!G538))&Gerar_Upload!G538,Gerar_Upload!G538),\"erro\")","v":"00000000000000000000000000000000000000000000"}]
[{"$f":"IFERROR(LEFT(Gerar_Upload!A539,120),\"erro\")","v":""},{"$f":"IFERROR(SUBSTITUTE(SUBSTITUTE(SUBSTITUTE(Gerar_Upload!B539,\".\",\"\"),\"-\",\"\"),\"/\",\"\"),\"erro\")","v":""},{"$f":"IFERROR(Gerar_Upload!C539,\"erro\")","v":0},{"$f":"IFERROR(Gerar_Upload!D539,\"erro\")","v":0},{"$f":"IFERROR(DATE(YEAR(Gerar_Upload!E539),MONTH(Gerar_Upload!E539),DAY(Gerar_Upload!E539)),\"erro\")","v":"00:00:00"},{"$f":"IFERROR(Gerar_Upload!F539,\"erro\")","v":0},{"$f":"IFERROR(IF(Gerar_Upload!G539<44,REPT(0,44-LEN(Gerar_Upload!G539))&Gerar_Upload!G539,Gerar_Upload!G539),\"erro\")","v":"00000000000000000000000000000000000000000000"}]
[{"$f":"IFERROR(LEFT(Gerar_Upload!A540,120),\"erro\")","v":""},{"$f":"IFERROR(SUBSTITUTE(SUBSTITUTE(SUBSTITUTE(Gerar_Upload!B540,\".\",\"\"),\"-\",\"\"),\"/\",\"\"),\"erro\")","v":""},{"$f":"IFERROR(Gerar_Upload!C540,\"erro\")","v":0},{"$f":"IFERROR(Gerar_Upload!D540,\"erro\")","v":0},{"$f":"IFERROR(DATE(YEAR(Gerar_Upload!E540),MONTH(Gerar_Upload!E540),DAY(Gerar_Upload!E540)),\"erro\")","v":"00:00:00"},{"$f":"IFERROR(Gerar_Upload!F540,\"erro\")","v":0},{"$f":"IFERROR(IF(Gerar_Upload!G540<44,REPT(0,44-LEN(Gerar_Upload!G540))&Gerar_Upload!G540,Gerar_Upload!G540),\"erro\")","v":"00000000000000000000000000000000000000000000"}]
[{"$f":"IFERROR(LEFT(Gerar_Upload!A541,120),\"erro\")","v":""},{"$f":"IFERROR(SUBSTITUTE(SUBSTITUTE(SUBSTITUTE(Gerar_Upload!B541,\".\",\"\"),\"-\",\"\"),\"/\",\"\"),\"erro\")","v":""},{"$f":"IFERROR(Gerar_Upload!C541,\"erro\")","v":0},{"$f":"IFERROR(Gerar_Upload!D541,\"erro\")","v":0},{"$f":"IFERROR(DATE(YEAR(Gerar_Upload!E541),MONTH(Gerar_Upload!E541),DAY(Gerar_Upload!E541)),\"erro\")","v":"00:00:00"},{"$f":"IFERROR(Gerar_Upload!F541,\"erro\")","v":0},{"$f":"IFERROR(IF(Gerar_Upload!G541<44,REPT(0,44-LEN(Gerar_Upload!G541))&Gerar_Upload!G541,Gerar_Upload!G541),\"erro\")","v":"00000000000000000000000000000000000000000000"}]
[{"$f":"IFERROR(LEFT(Gerar_Upload!A542,120),\"erro\")","v":""},{"$f":"IFERROR(SUBSTITUTE(SUBSTITUTE(SUBSTITUTE(Gerar_Upload!B542,\".\",\"\"),\"-\",\"\"),\"/\",\"\"),\"erro\")","v":""},{"$f":"IFERROR(Gerar_Upload!C542,\"erro\")","v":0},{"$f":"IFERROR(Gerar_Upload!D542,\"erro\")","v":0},{"$f":"IFERROR(DATE(YEAR(Gerar_Upload!E542),MONTH(Gerar_Upload!E542),DAY(Gerar_Upload!E542)),\"erro\")","v":"00:00:00"},{"$f":"IFERROR(Gerar_Upload!F542,\"erro\")","v":0},{"$f":"IFERROR(IF(Gerar_Upload!G542<44,REPT(0,44-LEN(Gerar_Upload!G542))&Gerar_Upload!G542,Gerar_Upload!G542),\"erro\")","v":"00000000000000000000000000000000000000000000"}]
[{"$f":"IFERROR(LEFT(Gerar_Upload!A543,120),\"erro\")","v":""},{"$f":"IFERROR(SUBSTITUTE(SUBSTITUTE(SUBSTITUTE(Gerar_Upload!B543,\".\",\"\"),\"-\",\"\"),\"/\",\"\"),\"erro\")","v":""},{"$f":"IFERROR(Gerar_Upload!C543,\"erro\")","v":0},{"$f":"IFERROR(Gerar_Upload!D543,\"erro\")","v":0},{"$f":"IFERROR(DATE(YEAR(Gerar_Upload!E543),MONTH(Gerar_Upload!E543),DAY(Gerar_Upload!E543)),\"erro\")","v":"00:00:00"},{"$f":"IFERROR(Gerar_Upload!F543,\"erro\")","v":0},{"$f":"IFERROR(IF(Gerar_Upload!G543<44,REPT(0,44-LEN(Gerar_Upload!G543))&Gerar_Upload!G543,Gerar_Upload!G543),\"erro\")","v":"00000000000000000000000000000000000000000000"}]
[{"$f":"IFERROR(LEFT(Gerar_Upload!A544,120),\"erro\")","v":""},{"$f":"IFERROR(SUBSTITUTE(SUBSTITUTE(SUBSTITUTE(Gerar_Upload!B544,\".\",\"\"),\"-\",\"\"),\"/\",\"\"),\"erro\")","v":""},{"$f":"IFERROR(Gerar_Upload!C544,\"erro\")","v":0},{"$f":"IFERROR(Gerar_Upload!D544,\"erro\")","v":0},{"$f":"IFERROR(DATE(YEAR(Gerar_Upload!E544),MONTH(Gerar_Upload!E544),DAY(Gerar_Upload!E544)),\"erro\")","v":"00:00:00"},{"$f":"IFERROR(Gerar_Upload!F544,\"erro\")","v":0},{"$f":"IFERROR(IF(Gerar_Upload!G544<44,REPT(0,44-LEN(Gerar_Upload!G544))&Gerar_Upload!G544,Gerar_Upload!G544),\"erro\")","v":"00000000000000000000000000000000000000000000"}]
[{"$f":"IFERROR(LEFT(Gerar_Upload!A545,120),\"erro\")","v":""},{"$f":"IFERROR(SUBSTITUTE(SUBSTITUTE(SUBSTITUTE(Gerar_Upload!B545,\".\",\"\"),\"-\",\"\"),\"/\",\"\"),\"erro\")","v":""},{"$f":"IFERROR(Gerar_Upload!C545,\"erro\")","v":0},{"$f":"IFERROR(Gerar_Upload!D545,\"erro\")","v":0},{"$f":"IFERROR(DATE(YEAR(Gerar_Upload!E545),MONTH(Gerar_Upload!E545),DAY(Gerar_Upload!E545)),\"erro\")","v":"00:00:00"},{"$f":"IFERROR(Gerar_Upload!F545,\"erro\")","v":0},{"$f":"IFERROR(IF(Gerar_Upload!G545<44,REPT(0,44-LEN(Gerar_Upload!G545))&Gerar_Upload!G545,Gerar_Upload!G545),\"erro\")","v":"00000000000000000000000000000000000000000000"}]
[{"$f":"IFERROR(LEFT(Gerar_Upload!A546,120),\"erro\")","v":""},{"$f":"IFERROR(SUBSTITUTE(SUBSTITUTE(SUBSTITUTE(Gerar_Upload!B546,\".\",\"\"),\"-\",\"\"),\"/\",\"\"),\"erro\")","v":""},{"$f":"IFERROR(Gerar_Upload!C546,\"erro\")","v":0},{"$f":"IFERROR(Gerar_Upload!D546,\"erro\")","v":0},{"$f":"IFERROR(DATE(YEAR(Gerar_Upload!E546),MONTH(Gerar_Upload!E546),DAY(Gerar_Upload!E546)),\"erro\")","v":"00:00:00"},{"$f":"IFERROR(Gerar_Upload!F546,\"erro\")","v":0},{"$f":"IFERROR(IF(Gerar_Upload!G546<44,REPT(0,44-LEN(Gerar_Upload!G546))&Gerar_Upload!G546,Gerar_Upload!G546),\"erro\")","v":"00000000000000000000000000000000000000000000"}]
[{"$f":"IFERROR(LEFT(Gerar_Upload!A547,120),\"erro\")","v":""},{"$f":"IFERROR(SUBSTITUTE(SUBSTITUTE(SUBSTITUTE(Gerar_Upload!B547,\".\",\"\"),\"-\",\"\"),\"/\",\"\"),\"erro\")","v":""},{"$f":"IFERROR(Gerar_Upload!C547,\"erro\")","v":0},{"$f":"IFERROR(Gerar_Upload!D547,\"erro\")","v":0},{"$f":"IFERROR(DATE(YEAR(Gerar_Upload!E547),MONTH(Gerar_Upload!E547),DAY(Gerar_Upload!E547)),\"erro\")","v":"00:00:00"},{"$f":"IFERROR(Gerar_Upload!F547,\"erro\")","v":0},{"$f":"IFERROR(IF(Gerar_Upload!G547<44,REPT(0,44-LEN(Gerar_Upload!G547))&Gerar_Upload!G547,Gerar_Upload!G547),\"erro\")","v":"00000000000000000000000000000000000000000000"}]
[{"$f":"IFERROR(LEFT(Gerar_Upload!A548,120),\"erro\")","v":""},{"$f":"IFERROR(SUBSTITUTE(SUBSTITUTE(SUBSTITUTE(Gerar_Upload!B548,\".\",\"\"),\"-\",\"\"),\"/\",\"\"),\"erro\")","v":""},{"$f":"IFERROR(Gerar_Upload!C548,\"erro\")","v":0},{"$f":"IFERROR(Gerar_Upload!D548,\"erro\")","v":0},{"$f":"IFERROR(DATE(YEAR(Gerar_Upload!E548),MONTH(Gerar_Upload!E548),DAY(Gerar_Upload!E548)),\"erro\")","v":"00:00:00"},{"$f":"IFERROR(Gerar_Upload!F548,\"erro\")","v":0},{"$f":"IFERROR(IF(Gerar_Upload!G548<44,REPT(0,44-LEN(Gerar_Upload!G548))&Gerar_Upload!G548,Gerar_Upload!G548),\"erro\")","v":"00000000000000000000000000000000000000000000"}]
[{"$f":"IFERROR(LEFT(Gerar_Upload!A549,120),\"erro\")","v":""},{"$f":"IFERROR(SUBSTITUTE(SUBSTITUTE(SUBSTITUTE(Gerar_Upload!B549,\".\",\"\"),\"-\",\"\"),\"/\",\"\"),\"erro\")","v":""},{"$f":"IFERROR(Gerar_Upload!C549,\"erro\")","v":0},{"$f":"IFERROR(Gerar_Upload!D549,\"erro\")","v":0},{"$f":"IFERROR(DATE(YEAR(Gerar_Upload!E549),MONTH(Gerar_Upload!E549),DAY(Gerar_Upload!E549)),\"erro\")","v":"00:00:00"},{"$f":"IFERROR(Gerar_Upload!F549,\"erro\")","v":0},{"$f":"IFERROR(IF(Gerar_Upload!G549<44,REPT(0,44-LEN(Gerar_Upload!G549))&Gerar_Upload!G549,Gerar_Upload!G549),\"erro\")","v":"00000000000000000000000000000000000000000000"}]
[{"$f":"IFERROR(LEFT(Gerar_Upload!A550,120),\"erro\")","v":""},{"$f":"IFERROR(SUBSTITUTE(SUBSTITUTE(SUBSTITUTE(Gerar_Upload!B550,\".\",\"\"),\"-\",\"\"),\"/\",\"\"),\"erro\")","v":""},{"$f":"IFERROR(Gerar_Upload!C550,\"erro\")","v":0},{"$f":"IFERROR(Gerar_Upload!D550,\"erro\")","v":0},{"$f":"IFERROR(DATE(YEAR(Gerar_Upload!E550),MONTH(Gerar_Upload!E550),DAY(Gerar_Upload!E550)),\"erro\")","v":"00:00:00"},{"$f":"IFERROR(Gerar_Upload!F550,\"erro\")","v":0},{"$f":"IFERROR(IF(Gerar_Upload!G550<44,REPT(0,44-LEN(Gerar_Upload!G550))&Gerar_Upload!G550,Gerar_Upload!G550),\"erro\")","v":"00000000000000000000000000000000000000000000"}]
[{"$f":"IFERROR(LEFT(Gerar_Upload!A551,120),\"erro\")","v":""},{"$f":"IFERROR(SUBSTITUTE(SUBSTITUTE(SUBSTITUTE(Gerar_Upload!B551,\".\",\"\"),\"-\",\"\"),\"/\",\"\"),\"erro\")","v":""},{"$f":"IFERROR(Gerar_Upload!C551,\"erro\")","v":0},{"$f":"IFERROR(Gerar_Upload!D551,\"erro\")","v":0},{"$f":"IFERROR(DATE(YEAR(Gerar_Upload!E551),MONTH(Gerar_Upload!E551),DAY(Gerar_Upload!E551)),\"erro\")","v":"00:00:00"},{"$f":"IFERROR(Gerar_Upload!F551,\"erro\")","v":0},{"$f":"IFERROR(IF(Gerar_Upload!G551<44,REPT(0,44-LEN(Gerar_Upload!G551))&Gerar_Upload!G551,Gerar_Upload!G551),\"erro\")","v":"00000000000000000000000000000000000000000000"}]
[{"$f":"IFERROR(LEFT(Gerar_Upload!A552,120),\"erro\")","v":""},{"$f":"IFERROR(SUBSTITUTE(SUBSTITUTE(SUBSTITUTE(Gerar_Upload!B552,\".\",\"\"),\"-\",\"\"),\"/\",\"\"),\"erro\")","v":""},{"$f":"IFERROR(Gerar_Upload!C552,\"erro\")","v":0},{"$f":"IFERROR(Gerar_Upload!D552,\"erro\")","v":0},{"$f":"IFERROR(DATE(YEAR(Gerar_Upload!E552),MONTH(Gerar_Upload!E552),DAY(Gerar_Upload!E552)),\"erro\")","v":"00:00:00"},{"$f":"IFERROR(Gerar_Upload!F552,\"erro\")","v":0},{"$f":"IFERROR(IF(Gerar_Upload!G552<44,REPT(0,44-LEN(Gerar_Upload!G552))&Gerar_Upload!G552,Gerar_Upload!G552),\"erro\")","v":"00000000000000000000000000000000000000000000"}]
[{"$f":"IFERROR(LEFT(Gerar_Upload!A553,120),\"erro\")","v":""},{"$f":"IFERROR(SUBSTITUTE(SUBSTITUTE(SUBSTITUTE(Gerar_Upload!B553,\".\",\"\"),\"-\",\"\"),\"/\",\"\"),\"erro\")","v":""},{"$f":"IFERROR(Gerar_Upload!C553,\"erro\")","v":0},{"$f":"IFERROR(Gerar_Upload!D553,\"erro\")","v":0},{"$f":"IFERROR(DATE(YEAR(Gerar_Upload!E553),MONTH(Gerar_Upload!E553),DAY(Gerar_Upload!E553)),\"erro\")","v":"00:00:00"},{"$f":"IFERROR(Gerar_Upload!F553,\"erro\")","v":0},{"$f":"IFERROR(IF(Gerar_Upload!G553<44,REPT(0,44-LEN(Gerar_Upload!G553))&Gerar_Upload!G553,Gerar_Upload!G553),\"erro\")","v":"00000000000000000000000000000000000000000000"}]
[{"$f":"IFERROR(LEFT(Gerar_Upload!A554,120),\"erro\")","v":""},{"$f":"IFERROR(SUBSTITUTE(SUBSTITUTE(SUBSTITUTE(Gerar_Upload!B554,\".\",\"\"),\"-\",\"\"),\"/\",\"\"),\"erro\")","v":""},{"$f":"IFERROR(Gerar_Upload!C554,\"erro\")","v":0},{"$f":"IFERROR(Gerar_Upload!D554,\"erro\")","v":0},{"$f":"IFERROR(DATE(YEAR(Gerar_Upload!E554),MONTH(Gerar_Upload!E554),DAY(Gerar_Upload!E554)),\"erro\")","v":"00:00:00"},{"$f":"IFERROR(Gerar_Upload!F554,\"erro\")","v":0},{"$f":"IFERROR(IF(Gerar_Upload!G554<44,REPT(0,44-LEN(Gerar_Upload!G554))&Gerar_Upload!G554,Gerar_Upload!G554),\"erro\")","v":"00000000000000000000000000000000000000000000"}]
[{"$f":"IFERROR(LEFT(Gerar_Upload!A555,120),\"erro\")","v":""},{"$f":"IFERROR(SUBSTITUTE(SUBSTITUTE(SUBSTITUTE(Gerar_Upload!B555,\".\",\"\"),\"-\",\"\"),\"/\",\"\"),\"erro\")","v":""},{"$f":"IFERROR(Gerar_Upload!C555,\"erro\")","v":0},{"$f":"IFERROR(Gerar_Upload!D555,\"erro\")","v":0},{"$f":"IFERROR(DATE(YEAR(Gerar_Upload!E555),MONTH(Gerar_Upload!E555),DAY(Gerar_Upload!E555)),\"erro\")","v":"00:00:00"},{"$f":"IFERROR(Gerar_Upload!F555,\"erro\")","v":0},{"$f":"IFERROR(IF(Gerar_Upload!G555<44,REPT(0,44-LEN(Gerar_Upload!G555))&Gerar_Upload!G555,Gerar_Upload!G555),\"erro\")","v":"00000000000000000000000000000000000000000000"}]
[{"$f":"IFERROR(LEFT(Gerar_Upload!A556,120),\"erro\")","v":""},{"$f":"IFERROR(SUBSTITUTE(SUBSTITUTE(SUBSTITUTE(Gerar_Upload!B556,\".\",\"\"),\"-\",\"\"),\"/\",\"\"),\"erro\")","v":""},{"$f":"IFERROR(Gerar_Upload!C556,\"erro\")","v":0},{"$f":"IFERROR(Gerar_Upload!D556,\"erro\")","v":0},{"$f":"IFERROR(DATE(YEAR(Gerar_Upload!E556),MONTH(Gerar_Upload!E556),DAY(Gerar_Upload!E556)),\"erro\")","v":"00:00:00"},{"$f":"IFERROR(Gerar_Upload!F556,\"erro\")","v":0},{"$f":"IFERROR(IF(Gerar_Upload!G556<44,REPT(0,44-LEN(Gerar_Upload!G556))&Gerar_Upload!G556,Gerar_Upload!G556),\"erro\")","v":"00000000000000000000000000000000000000000000"}]
[{"$f":"IFERROR(LEFT(Gerar_Upload!A557,120),\"erro\")","v":""},{"$f":"IFERROR(SUBSTITUTE(SUBSTITUTE(SUBSTITUTE(Gerar_Upload!B557,\".\",\"\"),\"-\",\"\"),\"/\",\"\"),\"erro\")","v":""},{"$f":"IFERROR(Gerar_Upload!C557,\"erro\")","v":0},{"$f":"IFERROR(Gerar_Upload!D557,\"erro\")","v":0},{"$f":"IFERROR(DATE(YEAR(Gerar_Upload!E557),MONTH(Gerar_Upload!E557),DAY(Gerar_Upload!E557)),\"erro\")","v":"00:00:00"},{"$f":"IFERROR(Gerar_Upload!F557,\"erro\")","v":0},{"$f":"IFERROR(IF(Gerar_Upload!G557<44,REPT(0,44-LEN(Gerar_Upload!G557))&Gerar_Upload!G557,Gerar_Upload!G557),\"erro\")","v":"00000000000000000000000000000000000000000000"}]
[{"$f":"IFERROR(LEFT(Gerar_Upload!A558,120),\"erro\")","v":""},{"$f":"IFERROR(SUBSTITUTE(SUBSTITUTE(SUBSTITUTE(Gerar_Upload!B558,\".\",\"\"),\"-\",\"\"),\"/\",\"\"),\"erro\")","v":""},{"$f":"IFERROR(Gerar_Upload!C558,\"erro\")","v":0},{"$f":"IFERROR(Gerar_Upload!D558,\"erro\")","v":0},{"$f":"IFERROR(DATE(YEAR(Gerar_Upload!E558),MONTH(Gerar_Upload!E558),DAY(Gerar_Upload!E558)),\"erro\")","v":"00:00:00"},{"$f":"IFERROR(Gerar_Upload!F558,\"erro\")","v":0},{"$f":"IFERROR(IF(Gerar_Upload!G558<44,REPT(0,44-LEN(Gerar_Upload!G558))&Gerar_Upload!G558,Gerar_Upload!G558),\"erro\")","v":"00000000000000000000000000000000000000000000"}]
[{"$f":"IFERROR(LEFT(Gerar_Upload!A559,120),\"erro\")","v":""},{"$f":"IFERROR(SUBSTITUTE(SUBSTITUTE(SUBSTITUTE(Gerar_Upload!B559,\".\",\"\"),\"-\",\"\"),\"/\",\"\"),\"erro\")","v":""},{"$f":"IFERROR(Gerar_Upload!C559,\"erro\")","v":0},{"$f":"IFERROR(Gerar_Upload!D559,\"erro\")","v":0},{"$f":"IFERROR(DATE(YEAR(Gerar_Upload!E559),MONTH(Gerar_Upload!E559),DAY(Gerar_Upload!E559)),\"erro\")","v":"00:00:00"},{"$f":"IFERROR(Gerar_Upload!F559,\"erro\")","v":0},{"$f":"IFERROR(IF(Gerar_Upload!G559<44,REPT(0,44-LEN(Gerar_Upload!G559))&Gerar_Upload!G559,Gerar_Upload!G559),\"erro\")","v":"00000000000000000000000000000000000000000000"}]
[{"$f":"IFERROR(LEFT(Gerar_Upload!A560,120),\"erro\")","v":""},{"$f":"IFERROR(SUBSTITUTE(SUBSTITUTE(SUBSTITUTE(Gerar_Upload!B560,\".\",\"\"),\"-\",\"\"),\"/\",\"\"),\"erro\")","v":""},{"$f":"IFERROR(Gerar_Upload!C560,\"erro\")","v":0},{"$f":"IFERROR(Gerar_Upload!D560,\"erro\")","v":0},{"$f":"IFERROR(DATE(YEAR(Gerar_Upload!E560),MONTH(Gerar_Upload!E560),DAY(Gerar_Upload!E560)),\"erro\")","v":"00:00:00"},{"$f":"IFERROR(Gerar_Upload!F560,\"erro\")","v":0},{"$f":"IFERROR(IF(Gerar_Upload!G560<44,REPT(0,44-LEN(Gerar_Upload!G560))&Gerar_Upload!G560,Gerar_Upload!G560),\"erro\")","v":"00000000000000000000000000000000000000000000"}]
[{"$f":"IFERROR(LEFT(Gerar_Upload!A561,120),\"erro\")","v":""},{"$f":"IFERROR(SUBSTITUTE(SUBSTITUTE(SUBSTITUTE(Gerar_Upload!B561,\".\",\"\"),\"-\",\"\"),\"/\",\"\"),\"erro\")","v":""},{"$f":"IFERROR(Gerar_Upload!C561,\"erro\")","v":0},{"$f":"IFERROR(Gerar_Upload!D561,\"erro\")","v":0},{"$f":"IFERROR(DATE(YEAR(Gerar_Upload!E561),MONTH(Gerar_Upload!E561),DAY(Gerar_Upload!E561)),\"erro\")","v":"00:00:00"},{"$f":"IFERROR(Gerar_Upload!F561,\"erro\")","v":0},{"$f":"IFERROR(IF(Gerar_Upload!G561<44,REPT(0,44-LEN(Gerar_Upload!G561))&Gerar_Upload!G561,Gerar_Upload!G561),\"erro\")","v":"00000000000000000000000000000000000000000000"}]
[{"$f":"IFERROR(LEFT(Gerar_Upload!A562,120),\"erro\")","v":""},{"$f":"IFERROR(SUBSTITUTE(SUBSTITUTE(SUBSTITUTE(Gerar_Upload!B562,\".\",\"\"),\"-\",\"\"),\"/\",\"\"),\"erro\")","v":""},{"$f":"IFERROR(Gerar_Upload!C562,\"erro\")","v":0},{"$f":"IFERROR(Gerar_Upload!D562,\"erro\")","v":0},{"$f":"IFERROR(DATE(YEAR(Gerar_Upload!E562),MONTH(Gerar_Upload!E562),DAY(Gerar_Upload!E562)),\"erro\")","v":"00:00:00"},{"$f":"IFERROR(Gerar_Upload!F562,\"erro\")","v":0},{"$f":"IFERROR(IF(Gerar_Upload!G562<44,REPT(0,44-LEN(Gerar_Upload!G562))&Gerar_Upload!G562,Gerar_Upload!G562),\"erro\")","v":"00000000000000000000000000000000000000000000"}]
[{"$f":"IFERROR(LEFT(Gerar_Upload!A563,120),\"erro\")","v":""},{"$f":"IFERROR(SUBSTITUTE(SUBSTITUTE(SUBSTITUTE(Gerar_Upload!B563,\".\",\"\"),\"-\",\"\"),\"/\",\"\"),\"erro\")","v":""},{"$f":"IFERROR(Gerar_Upload!C563,\"erro\")","v":0},{"$f":"IFERROR(Gerar_Upload!D563,\"erro\")","v":0},{"$f":"IFERROR(DATE(YEAR(Gerar_Upload!E563),MONTH(Gerar_Upload!E563),DAY(Gerar_Upload!E563)),\"erro\")","v":"00:00:00"},{"$f":"IFERROR(Gerar_Upload!F563,\"erro\")","v":0},{"$f":"IFERROR(IF(Gerar_Upload!G563<44,REPT(0,44-LEN(Gerar_Upload!G563))&Gerar_Upload!G563,Gerar_Upload!G563),\"erro\")","v":"00000000000000000000000000000000000000000000"}]
[{"$f":"IFERROR(LEFT(Gerar_Upload!A564,120),\"erro\")","v":""},{"$f":"IFERROR(SUBSTITUTE(SUBSTITUTE(SUBSTITUTE(Gerar_Upload!B564,\".\",\"\"),\"-\",\"\"),\"/\",\"\"),\"erro\")","v":""},{"$f":"IFERROR(Gerar_Upload!C564,\"erro\")","v":0},{"$f":"IFERROR(Gerar_Upload!D564,\"erro\")","v":0},{"$f":"IFERROR(DATE(YEAR(Gerar_Upload!E564),MONTH(Gerar_Upload!E564),DAY(Gerar_Upload!E564)),\"erro\")","v":"00:00:00"},{"$f":"IFERROR(Gerar_Upload!F564,\"erro\")","v":0},{"$f":"IFERROR(IF(Gerar_Upload!G564<44,REPT(0,44-LEN(Gerar_Upload!G564))&Gerar_Upload!G564,Gerar_Upload!G564),\"erro\")","v":"00000000000000000000000000000000000000000000"}]
[{"$f":"IFERROR(LEFT(Gerar_Upload!A565,120),\"erro\")","v":""},{"$f":"IFERROR(SUBSTITUTE(SUBSTITUTE(SUBSTITUTE(Gerar_Upload!B565,\".\",\"\"),\"-\",\"\"),\"/\",\"\"),\"erro\")","v":""},{"$f":"IFERROR(Gerar_Upload!C565,\"erro\")","v":0},{"$f":"IFERROR(Gerar_Upload!D565,\"erro\")","v":0},{"$f":"IFERROR(DATE(YEAR(Gerar_Upload!E565),MONTH(Gerar_Upload!E565),DAY(Gerar_Upload!E565)),\"erro\")","v":"00:00:00"},{"$f":"IFERROR(Gerar_Upload!F565,\"erro\")","v":0},{"$f":"IFERROR(IF(Gerar_Upload!G565<44,REPT(0,44-LEN(Gerar_Upload!G565))&Gerar_Upload!G565,Gerar_Upload!G565),\"erro\")","v":"00000000000000000000000000000000000000000000"}]
[{"$f":"IFERROR(LEFT(Gerar_Upload!A566,120),\"erro\")","v":""},{"$f":"IFERROR(SUBSTITUTE(SUBSTITUTE(SUBSTITUTE(Gerar_Upload!B566,\".\",\"\"),\"-\",\"\"),\"/\",\"\"),\"erro\")","v":""},{"$f":"IFERROR(Gerar_Upload!C566,\"erro\")","v":0},{"$f":"IFERROR(Gerar_Upload!D566,\"erro\")","v":0},{"$f":"IFERROR(DATE(YEAR(Gerar_Upload!E566),MONTH(Gerar_Upload!E566),DAY(Gerar_Upload!E566)),\"erro\")","v":"00:00:00"},{"$f":"IFERROR(Gerar_Upload!F566,\"erro\")","v":0},{"$f":"IFERROR(IF(Gerar_Upload!G566<44,REPT(0,44-LEN(Gerar_Upload!G566))&Gerar_Upload!G566,Gerar_Upload!G566),\"erro\")","v":"00000000000000000000000000000000000000000000"}]
[{"$f":"IFERROR(LEFT(Gerar_Upload!A567,120),\"erro\")","v":""},{"$f":"IFERROR(SUBSTITUTE(SUBSTITUTE(SUBSTITUTE(Gerar_Upload!B567,\".\",\"\"),\"-\",\"\"),\"/\",\"\"),\"erro\")","v":""},{"$f":"IFERROR(Gerar_Upload!C567,\"erro\")","v":0},{"$f":"IFERROR(Gerar_Upload!D567,\"erro\")","v":0},{"$f":"IFERROR(DATE(YEAR(Gerar_Upload!E567),MONTH(Gerar_Upload!E567),DAY(Gerar_Upload!E567)),\"erro\")","v":"00:00:00"},{"$f":"IFERROR(Gerar_Upload!F567,\"erro\")","v":0},{"$f":"IFERROR(IF(Gerar_Upload!G567<44,REPT(0,44-LEN(Gerar_Upload!G567))&Gerar_Upload!G567,Gerar_Upload!G567),\"erro\")","v":"00000000000000000000000000000000000000000000"}]
[{"$f":"IFERROR(LEFT(Gerar_Upload!A568,120),\"erro\")","v":""},{"$f":"IFERROR(SUBSTITUTE(SUBSTITUTE(SUBSTITUTE(Gerar_Upload!B568,\".\",\"\"),\"-\",\"\"),\"/\",\"\"),\"erro\")","v":""},{"$f":"IFERROR(Gerar_Upload!C568,\"erro\")","v":0},{"$f":"IFERROR(Gerar_Upload!D568,\"erro\")","v":0},{"$f":"IFERROR(DATE(YEAR(Gerar_Upload!E568),MONTH(Gerar_Upload!E568),DAY(Gerar_Upload!E568)),\"erro\")","v":"00:00:00"},{"$f":"IFERROR(Gerar_Upload!F568,\"erro\")","v":0},{"$f":"IFERROR(IF(Gerar_Upload!G568<44,REPT(0,44-LEN(Gerar_Upload!G568))&Gerar_Upload!G568,Gerar_Upload!G568),\"erro\")","v":"00000000000000000000000000000000000000000000"}]
[{"$f":"IFERROR(LEFT(Gerar_Upload!A569,120),\"erro\")","v":""},{"$f":"IFERROR(SUBSTITUTE(SUBSTITUTE(SUBSTITUTE(Gerar_Upload!B569,\".\",\"\"),\"-\",\"\"),\"/\",\"\"),\"erro\")","v":""},{"$f":"IFERROR(Gerar_Upload!C569,\"erro\")","v":0},{"$f":"IFERROR(Gerar_Upload!D569,\"erro\")","v":0},{"$f":"IFERROR(DATE(YEAR(Gerar_Upload!E569),MONTH(Gerar_Upload!E569),DAY(Gerar_Upload!E569)),\"erro\")","v":"00:00:00"},{"$f":"IFERROR(Gerar_Upload!F569,\"erro\")","v":0},{"$f":"IFERROR(IF(Gerar_Upload!G569<44,REPT(0,44-LEN(Gerar_Upload!G569))&Gerar_Upload!G569,Gerar_Upload!G569),\"erro\")","v":"00000000000000000000000000000000000000000000"}]
[{"$f":"IFERROR(LEFT(Gerar_Upload!A570,120),\"erro\")","v":""},{"$f":"IFERROR(SUBSTITUTE(SUBSTITUTE(SUBSTITUTE(Gerar_Upload!B570,\".\",\"\"),\"-\",\"\"),\"/\",\"\"),\"erro\")","v":""},{"$f":"IFERROR(Gerar_Upload!C570,\"erro\")","v":0},{"$f":"IFERROR(Gerar_Upload!D570,\"erro\")","v":0},{"$f":"IFERROR(DATE(YEAR(Gerar_Upload!E570),MONTH(Gerar_Upload!E570),DAY(Gerar_Upload!E570)),\"erro\")","v":"00:00:00"},{"$f":"IFERROR(Gerar_Upload!F570,\"erro\")","v":0},{"$f":"IFERROR(IF(Gerar_Upload!G570<44,REPT(0,44-LEN(Gerar_Upload!G570))&Gerar_Upload!G570,Gerar_Upload!G570),\"erro\")","v":"00000000000000000000000000000000000000000000"}]
[{"$f":"IFERROR(LEFT(Gerar_Upload!A571,120),\"erro\")","v":""},{"$f":"IFERROR(SUBSTITUTE(SUBSTITUTE(SUBSTITUTE(Gerar_Upload!B571,\".\",\"\"),\"-\",\"\"),\"/\",\"\"),\"erro\")","v":""},{"$f":"IFERROR(Gerar_Upload!C571,\"erro\")","v":0},{"$f":"IFERROR(Gerar_Upload!D571,\"erro\")","v":0},{"$f":"IFERROR(DATE(YEAR(Gerar_Upload!E571),MONTH(Gerar_Upload!E571),DAY(Gerar_Upload!E571)),\"erro\")","v":"00:00:00"},{"$f":"IFERROR(Gerar_Upload!F571,\"erro\")","v":0},{"$f":"IFERROR(IF(Gerar_Upload!G571<44,REPT(0,44-LEN(Gerar_Upload!G571))&Gerar_Upload!G571,Gerar_Upload!G571),\"erro\")","v":"00000000000000000000000000000000000000000000"}]
[{"$f":"IFERROR(LEFT(Gerar_Upload!A572,120),\"erro\")","v":""},{"$f":"IFERROR(SUBSTITUTE(SUBSTITUTE(SUBSTITUTE(Gerar_Upload!B572,\".\",\"\"),\"-\",\"\"),\"/\",\"\"),\"erro\")","v":""},{"$f":"IFERROR(Gerar_Upload!C572,\"erro\")","v":0},{"$f":"IFERROR(Gerar_Upload!D572,\"erro\")","v":0},{"$f":"IFERROR(DATE(YEAR(Gerar_Upload!E572),MONTH(Gerar_Upload!E572),DAY(Gerar_Upload!E572)),\"erro\")","v":"00:00:00"},{"$f":"IFERROR(Gerar_Upload!F572,\"erro\")","v":0},{"$f":"IFERROR(IF(Gerar_Upload!G572<44,REPT(0,44-LEN(Gerar_Upload!G572))&Gerar_Upload!G572,Gerar_Upload!G572),\"erro\")","v":"00000000000000000000000000000000000000000000"}]
[{"$f":"IFERROR(LEFT(Gerar_Upload!A573,120),\"erro\")","v":""},{"$f":"IFERROR(SUBSTITUTE(SUBSTITUTE(SUBSTITUTE(Gerar_Upload!B573,\".\",\"\"),\"-\",\"\"),\"/\",\"\"),\"erro\")","v":""},{"$f":"IFERROR(Gerar_Upload!C573,\"erro\")","v":0},{"$f":"IFERROR(Gerar_Upload!D573,\"erro\")","v":0},{"$f":"IFERROR(DATE(YEAR(Gerar_Upload!E573),MONTH(Gerar_Upload!E573),DAY(Gerar_Upload!E573)),\"erro\")","v":"00:00:00"},{"$f":"IFERROR(Gerar_Upload!F573,\"erro\")","v":0},{"$f":"IFERROR(IF(Gerar_Upload!G573<44,REPT(0,44-LEN(Gerar_Upload!G573))&Gerar_Upload!G573,Gerar_Upload!G573),\"erro\")","v":"00000000000000000000000000000000000000000000"}]
[{"$f":"IFERROR(LEFT(Gerar_Upload!A574,120),\"erro\")","v":""},{"$f":"IFERROR(SUBSTITUTE(SUBSTITUTE(SUBSTITUTE(Gerar_Upload!B574,\".\",\"\"),\"-\",\"\"),\"/\",\"\"),\"erro\")","v":""},{"$f":"IFERROR(Gerar_Upload!C574,\"erro\")","v":0},{"$f":"IFERROR(Gerar_Upload!D574,\"erro\")","v":0},{"$f":"IFERROR(DATE(YEAR(Gerar_Upload!E574),MONTH(Gerar_Upload!E574),DAY(Gerar_Upload!E574)),\"erro\")","v":"00:00:00"},{"$f":"IFERROR(Gerar_Upload!F574,\"erro\")","v":0},{"$f":"IFERROR(IF(Gerar_Upload!G574<44,REPT(0,44-LEN(Gerar_Upload!G574))&Gerar_Upload!G574,Gerar_Upload!G574),\"erro\")","v":"00000000000000000000000000000000000000000000"}]
[{"$f":"IFERROR(LEFT(Gerar_Upload!A575,120),\"erro\")","v":""},{"$f":"IFERROR(SUBSTITUTE(SUBSTITUTE(SUBSTITUTE(Gerar_Upload!B575,\".\",\"\"),\"-\",\"\"),\"/\",\"\"),\"erro\")","v":""},{"$f":"IFERROR(Gerar_Upload!C575,\"erro\")","v":0},{"$f":"IFERROR(Gerar_Upload!D575,\"erro\")","v":0},{"$f":"IFERROR(DATE(YEAR(Gerar_Upload!E575),MONTH(Gerar_Upload!E575),DAY(Gerar_Upload!E575)),\"erro\")","v":"00:00:00"},{"$f":"IFERROR(Gerar_Upload!F575,\"erro\")","v":0},{"$f":"IFERROR(IF(Gerar_Upload!G575<44,REPT(0,44-LEN(Gerar_Upload!G575))&Gerar_Upload!G575,Gerar_Upload!G575),\"erro\")","v":"00000000000000000000000000000000000000000000"}]
[{"$f":"IFERROR(LEFT(Gerar_Upload!A576,120),\"erro\")","v":""},{"$f":"IFERROR(SUBSTITUTE(SUBSTITUTE(SUBSTITUTE(Gerar_Upload!B576,\".\",\"\"),\"-\",\"\"),\"/\",\"\"),\"erro\")","v":""},{"$f":"IFERROR(Gerar_Upload!C576,\"erro\")","v":0},{"$f":"IFERROR(Gerar_Upload!D576,\"erro\")","v":0},{"$f":"IFERROR(DATE(YEAR(Gerar_Upload!E576),MONTH(Gerar_Upload!E576),DAY(Gerar_Upload!E576)),\"erro\")","v":"00:00:00"},{"$f":"IFERROR(Gerar_Upload!F576,\"erro\")","v":0},{"$f":"IFERROR(IF(Gerar_Upload!G576<44,REPT(0,44-LEN(Gerar_Upload!G576))&Gerar_Upload!G576,Gerar_Upload!G576),\"erro\")","v":"00000000000000000000000000000000000000000000"}]
[{"$f":"IFERROR(LEFT(Gerar_Upload!A577,120),\"erro\")","v":""},{"$f":"IFERROR(SUBSTITUTE(SUBSTITUTE(SUBSTITUTE(Gerar_Upload!B577,\".\",\"\"),\"-\",\"\"),\"/\",\"\"),\"erro\")","v":""},{"$f":"IFERROR(Gerar_Upload!C577,\"erro\")","v":0},{"$f":"IFERROR(Gerar_Upload!D577,\"erro\")","v":0},{"$f":"IFERROR(DATE(YEAR(Gerar_Upload!E577),MONTH(Gerar_Upload!E577),DAY(Gerar_Upload!E577)),\"erro\")","v":"00:00:00"},{"$f":"IFERROR(Gerar_Upload!F577,\"erro\")","v":0},{"$f":"IFERROR(IF(Gerar_Upload!G577<44,REPT(0,44-LEN(Gerar_Upload!G577))&Gerar_Upload!G577,Gerar_Upload!G577),\"erro\")","v":"00000000000000000000000000000000000000000000"}]
[{"$f":"IFERROR(LEFT(Gerar_Upload!A578,120),\"erro\")","v":""},{"$f":"IFERROR(SUBSTITUTE(SUBSTITUTE(SUBSTITUTE(Gerar_Upload!B578,\".\",\"\"),\"-\",\"\"),\"/\",\"\"),\"erro\")","v":""},{"$f":"IFERROR(Gerar_Upload!C578,\"erro\")","v":0},{"$f":"IFERROR(Gerar_Upload!D578,\"erro\")","v":0},{"$f":"IFERROR(DATE(YEAR(Gerar_Upload!E578),MONTH(Gerar_Upload!E578),DAY(Gerar_Upload!E578)),\"erro\")","v":"00:00:00"},{"$f":"IFERROR(Gerar_Upload!F578,\"erro\")","v":0},{"$f":"IFERROR(IF(Gerar_Upload!G578<44,REPT(0,44-LEN(Gerar_Upload!G578))&Gerar_Upload!G578,Gerar_Upload!G578),\"erro\")","v":"00000000000000000000000000000000000000000000"}]
[{"$f":"IFERROR(LEFT(Gerar_Upload!A579,120),\"erro\")","v":""},{"$f":"IFERROR(SUBSTITUTE(SUBSTITUTE(SUBSTITUTE(Gerar_Upload!B579,\".\",\"\"),\"-\",\"\"),\"/\",\"\"),\"erro\")","v":""},{"$f":"IFERROR(Gerar_Upload!C579,\"erro\")","v":0},{"$f":"IFERROR(Gerar_Upload!D579,\"erro\")","v":0},{"$f":"IFERROR(DATE(YEAR(Gerar_Upload!E579),MONTH(Gerar_Upload!E579),DAY(Gerar_Upload!E579)),\"erro\")","v":"00:00:00"},{"$f":"IFERROR(Gerar_Upload!F579,\"erro\")","v":0},{"$f":"IFERROR(IF(Gerar_Upload!G579<44,REPT(0,44-LEN(Gerar_Upload!G579))&Gerar_Upload!G579,Gerar_Upload!G579),\"erro\")","v":"00000000000000000000000000000000000000000000"}]
[{"$f":"IFERROR(LEFT(Gerar_Upload!A580,120),\"erro\")","v":""},{"$f":"IFERROR(SUBSTITUTE(SUBSTITUTE(SUBSTITUTE(Gerar_Upload!B580,\".\",\"\"),\"-\",\"\"),\"/\",\"\"),\"erro\")","v":""},{"$f":"IFERROR(Gerar_Upload!C580,\"erro\")","v":0},{"$f":"IFERROR(Gerar_Upload!D580,\"erro\")","v":0},{"$f":"IFERROR(DATE(YEAR(Gerar_Upload!E580),MONTH(Gerar_Upload!E580),DAY(Gerar_Upload!E580)),\"erro\")","v":"00:00:00"},{"$f":"IFERROR(Gerar_Upload!F580,\"erro\")","v":0},{"$f":"IFERROR(IF(Gerar_Upload!G580<44,REPT(0,44-LEN(Gerar_Upload!G580))&Gerar_Upload!G580,Gerar_Upload!G580),\"erro\")","v":"00000000000000000000000000000000000000000000"}]
[{"$f":"IFERROR(LEFT(Gerar_Upload!A581,120),\"erro\")","v":""},{"$f":"IFERROR(SUBSTITUTE(SUBSTITUTE(SUBSTITUTE(Gerar_Upload!B581,\".\",\"\"),\"-\",\"\"),\"/\",\"\"),\"erro\")","v":""},{"$f":"IFERROR(Gerar_Upload!C581,\"erro\")","v":0},{"$f":"IFERROR(Gerar_Upload!D581,\"erro\")","v":0},{"$f":"IFERROR(DATE(YEAR(Gerar_Upload!E581),MONTH(Gerar_Upload!E581),DAY(Gerar_Upload!E581)),\"erro\")","v":"00:00:00"},{"$f":"IFERROR(Gerar_Upload!F581,\"erro\")","v":0},{"$f":"IFERROR(IF(Gerar_Upload!G581<44,REPT(0,44-LEN(Gerar_Upload!G581))&Gerar_Upload!G581,Gerar_Upload!G581),\"erro\")","v":"00000000000000000000000000000000000000000000"}]
[{"$f":"IFERROR(LEFT(Gerar_Upload!A582,120),\"erro\")","v":""},{"$f":"IFERROR(SUBSTITUTE(SUBSTITUTE(SUBSTITUTE(Gerar_Upload!B582,\".\",\"\"),\"-\",\"\"),\"/\",\"\"),\"erro\")","v":""},{"$f":"IFERROR(Gerar_Upload!C582,\"erro\")","v":0},{"$f":"IFERROR(Gerar_Upload!D582,\"erro\")","v":0},{"$f":"IFERROR(DATE(YEAR(Gerar_Upload!E582),MONTH(Gerar_Upload!E582),DAY(Gerar_Upload!E582)),\"erro\")","v":"00:00:00"},{"$f":"IFERROR(Gerar_Upload!F582,\"erro\")","v":0},{"$f":"IFERROR(IF(Gerar_Upload!G582<44,REPT(0,44-LEN(Gerar_Upload!G582))&Gerar_Upload!G582,Gerar_Upload!G582),\"erro\")","v":"00000000000000000000000000000000000000000000"}]
[{"$f":"IFERROR(LEFT(Gerar_Upload!A583,120),\"erro\")","v":""},{"$f":"IFERROR(SUBSTITUTE(SUBSTITUTE(SUBSTITUTE(Gerar_Upload!B583,\".\",\"\"),\"-\",\"\"),\"/\",\"\"),\"erro\")","v":""},{"$f":"IFERROR(Gerar_Upload!C583,\"erro\")","v":0},{"$f":"IFERROR(Gerar_Upload!D583,\"erro\")","v":0},{"$f":"IFERROR(DATE(YEAR(Gerar_Upload!E583),MONTH(Gerar_Upload!E583),DAY(Gerar_Upload!E583)),\"erro\")","v":"00:00:00"},{"$f":"IFERROR(Gerar_Upload!F583,\"erro\")","v":0},{"$f":"IFERROR(IF(Gerar_Upload!G583<44,REPT(0,44-LEN(Gerar_Upload!G583))&Gerar_Upload!G583,Gerar_Upload!G583),\"erro\")","v":"00000000000000000000000000000000000000000000"}]
[{"$f":"IFERROR(LEFT(Gerar_Upload!A584,120),\"erro\")","v":""},{"$f":"IFERROR(SUBSTITUTE(SUBSTITUTE(SUBSTITUTE(Gerar_Upload!B584,\".\",\"\"),\"-\",\"\"),\"/\",\"\"),\"erro\")","v":""},{"$f":"IFERROR(Gerar_Upload!C584,\"erro\")","v":0},{"$f":"IFERROR(Gerar_Upload!D584,\"erro\")","v":0},{"$f":"IFERROR(DATE(YEAR(Gerar_Upload!E584),MONTH(Gerar_Upload!E584),DAY(Gerar_Upload!E584)),\"erro\")","v":"00:00:00"},{"$f":"IFERROR(Gerar_Upload!F584,\"erro\")","v":0},{"$f":"IFERROR(IF(Gerar_Upload!G584<44,REPT(0,44-LEN(Gerar_Upload!G584))&Gerar_Upload!G584,Gerar_Upload!G584),\"erro\")","v":"00000000000000000000000000000000000000000000"}]
[{"$f":"IFERROR(LEFT(Gerar_Upload!A585,120),\"erro\")","v":""},{"$f":"IFERROR(SUBSTITUTE(SUBSTITUTE(SUBSTITUTE(Gerar_Upload!B585,\".\",\"\"),\"-\",\"\"),\"/\",\"\"),\"erro\")","v":""},{"$f":"IFERROR(Gerar_Upload!C585,\"erro\")","v":0},{"$f":"IFERROR(Gerar_Upload!D585,\"erro\")","v":0},{"$f":"IFERROR(DATE(YEAR(Gerar_Upload!E585),MONTH(Gerar_Upload!E585),DAY(Gerar_Upload!E585)),\"erro\")","v":"00:00:00"},{"$f":"IFERROR(Gerar_Upload!F585,\"erro\")","v":0},{"$f":"IFERROR(IF(Gerar_Upload!G585<44,REPT(0,44-LEN(Gerar_Upload!G585))&Gerar_Upload!G585,Gerar_Upload!G585),\"erro\")","v":"00000000000000000000000000000000000000000000"}]
[{"$f":"IFERROR(LEFT(Gerar_Upload!A586,120),\"erro\")","v":""},{"$f":"IFERROR(SUBSTITUTE(SUBSTITUTE(SUBSTITUTE(Gerar_Upload!B586,\".\",\"\"),\"-\",\"\"),\"/\",\"\"),\"erro\")","v":""},{"$f":"IFERROR(Gerar_Upload!C586,\"erro\")","v":0},{"$f":"IFERROR(Gerar_Upload!D586,\"erro\")","v":0},{"$f":"IFERROR(DATE(YEAR(Gerar_Upload!E586),MONTH(Gerar_Upload!E586),DAY(Gerar_Upload!E586)),\"erro\")","v":"00:00:00"},{"$f":"IFERROR(Gerar_Upload!F586,\"erro\")","v":0},{"$f":"IFERROR(IF(Gerar_Upload!G586<44,REPT(0,44-LEN(Gerar_Upload!G586))&Gerar_Upload!G586,Gerar_Upload!G586),\"erro\")","v":"00000000000000000000000000000000000000000000"}]
[{"$f":"IFERROR(LEFT(Gerar_Upload!A587,120),\"erro\")","v":""},{"$f":"IFERROR(SUBSTITUTE(SUBSTITUTE(SUBSTITUTE(Gerar_Upload!B587,\".\",\"\"),\"-\",\"\"),\"/\",\"\"),\"erro\")","v":""},{"$f":"IFERROR(Gerar_Upload!C587,\"erro\")","v":0},{"$f":"IFERROR(Gerar_Upload!D587,\"erro\")","v":0},{"$f":"IFERROR(DATE(YEAR(Gerar_Upload!E587),MONTH(Gerar_Upload!E587),DAY(Gerar_Upload!E587)),\"erro\")","v":"00:00:00"},{"$f":"IFERROR(Gerar_Upload!F587,\"erro\")","v":0},{"$f":"IFERROR(IF(Gerar_Upload!G587<44,REPT(0,44-LEN(Gerar_Upload!G587))&Gerar_Upload!G587,Gerar_Upload!G587),\"erro\")","v":"00000000000000000000000000000000000000000000"}]
[{"$f":"IFERROR(LEFT(Gerar_Upload!A588,120),\"erro\")","v":""},{"$f":"IFERROR(SUBSTITUTE(SUBSTITUTE(SUBSTITUTE(Gerar_Upload!B588,\".\",\"\"),\"-\",\"\"),\"/\",\"\"),\"erro\")","v":""},{"$f":"IFERROR(Gerar_Upload!C588,\"erro\")","v":0},{"$f":"IFERROR(Gerar_Upload!D588,\"erro\")","v":0},{"$f":"IFERROR(DATE(YEAR(Gerar_Upload!E588),MONTH(Gerar_Upload!E588),DAY(Gerar_Upload!E588)),\"erro\")","v":"00:00:00"},{"$f":"IFERROR(Gerar_Upload!F588,\"erro\")","v":0},{"$f":"IFERROR(IF(Gerar_Upload!G588<44,REPT(0,44-LEN(Gerar_Upload!G588))&Gerar_Upload!G588,Gerar_Upload!G588),\"erro\")","v":"00000000000000000000000000000000000000000000"}]
[{"$f":"IFERROR(LEFT(Gerar_Upload!A589,120),\"erro\")","v":""},{"$f":"IFERROR(SUBSTITUTE(SUBSTITUTE(SUBSTITUTE(Gerar_Upload!B589,\".\",\"\"),\"-\",\"\"),\"/\",\"\"),\"erro\")","v":""},{"$f":"IFERROR(Gerar_Upload!C589,\"erro\")","v":0},{"$f":"IFERROR(Gerar_Upload!D589,\"erro\")","v":0},{"$f":"IFERROR(DATE(YEAR(Gerar_Upload!E589),MONTH(Gerar_Upload!E589),DAY(Gerar_Upload!E589)),\"erro\")","v":"00:00:00"},{"$f":"IFERROR(Gerar_Upload!F589,\"erro\")","v":0},{"$f":"IFERROR(IF(Gerar_Upload!G589<44,REPT(0,44-LEN(Gerar_Upload!G589))&Gerar_Upload!G589,Gerar_Upload!G589),\"erro\")","v":"00000000000000000000000000000000000000000000"}]
[{"$f":"IFERROR(LEFT(Gerar_Upload!A590,120),\"erro\")","v":""},{"$f":"IFERROR(SUBSTITUTE(SUBSTITUTE(SUBSTITUTE(Gerar_Upload!B590,\".\",\"\"),\"-\",\"\"),\"/\",\"\"),\"erro\")","v":""},{"$f":"IFERROR(Gerar_Upload!C590,\"erro\")","v":0},{"$f":"IFERROR(Gerar_Upload!D590,\"erro\")","v":0},{"$f":"IFERROR(DATE(YEAR(Gerar_Upload!E590),MONTH(Gerar_Upload!E590),DAY(Gerar_Upload!E590)),\"erro\")","v":"00:00:00"},{"$f":"IFERROR(Gerar_Upload!F590,\"erro\")","v":0},{"$f":"IFERROR(IF(Gerar_Upload!G590<44,REPT(0,44-LEN(Gerar_Upload!G590))&Gerar_Upload!G590,Gerar_Upload!G590),\"erro\")","v":"00000000000000000000000000000000000000000000"}]
[{"$f":"IFERROR(LEFT(Gerar_Upload!A591,120),\"erro\")","v":""},{"$f":"IFERROR(SUBSTITUTE(SUBSTITUTE(SUBSTITUTE(Gerar_Upload!B591,\".\",\"\"),\"-\",\"\"),\"/\",\"\"),\"erro\")","v":""},{"$f":"IFERROR(Gerar_Upload!C591,\"erro\")","v":0},{"$f":"IFERROR(Gerar_Upload!D591,\"erro\")","v":0},{"$f":"IFERROR(DATE(YEAR(Gerar_Upload!E591),MONTH(Gerar_Upload!E591),DAY(Gerar_Upload!E591)),\"erro\")","v":"00:00:00"},{"$f":"IFERROR(Gerar_Upload!F591,\"erro\")","v":0},{"$f":"IFERROR(IF(Gerar_Upload!G591<44,REPT(0,44-LEN(Gerar_Upload!G591))&Gerar_Upload!G591,Gerar_Upload!G591),\"erro\")","v":"00000000000000000000000000000000000000000000"}]
[{"$f":"IFERROR(LEFT(Gerar_Upload!A592,120),\"erro\")","v":""},{"$f":"IFERROR(SUBSTITUTE(SUBSTITUTE(SUBSTITUTE(Gerar_Upload!B592,\".\",\"\"),\"-\",\"\"),\"/\",\"\"),\"erro\")","v":""},{"$f":"IFERROR(Gerar_Upload!C592,\"erro\")","v":0},{"$f":"IFERROR(Gerar_Upload!D592,\"erro\")","v":0},{"$f":"IFERROR(DATE(YEAR(Gerar_Upload!E592),MONTH(Gerar_Upload!E592),DAY(Gerar_Upload!E592)),\"erro\")","v":"00:00:00"},{"$f":"IFERROR(Gerar_Upload!F592,\"erro\")","v":0},{"$f":"IFERROR(IF(Gerar_Upload!G592<44,REPT(0,44-LEN(Gerar_Upload!G592))&Gerar_Upload!G592,Gerar_Upload!G592),\"erro\")","v":"00000000000000000000000000000000000000000000"}]
[{"$f":"IFERROR(LEFT(Gerar_Upload!A593,120),\"erro\")","v":""},{"$f":"IFERROR(SUBSTITUTE(SUBSTITUTE(SUBSTITUTE(Gerar_Upload!B593,\".\",\"\"),\"-\",\"\"),\"/\",\"\"),\"erro\")","v":""},{"$f":"IFERROR(Gerar_Upload!C593,\"erro\")","v":0},{"$f":"IFERROR(Gerar_Upload!D593,\"erro\")","v":0},{"$f":"IFERROR(DATE(YEAR(Gerar_Upload!E593),MONTH(Gerar_Upload!E593),DAY(Gerar_Upload!E593)),\"erro\")","v":"00:00:00"},{"$f":"IFERROR(Gerar_Upload!F593,\"erro\")","v":0},{"$f":"IFERROR(IF(Gerar_Upload!G593<44,REPT(0,44-LEN(Gerar_Upload!G593))&Gerar_Upload!G593,Gerar_Upload!G593),\"erro\")","v":"00000000000000000000000000000000000000000000"}]
[{"$f":"IFERROR(LEFT(Gerar_Upload!A594,120),\"erro\")","v":""},{"$f":"IFERROR(SUBSTITUTE(SUBSTITUTE(SUBSTITUTE(Gerar_Upload!B594,\".\",\"\"),\"-\",\"\"),\"/\",\"\"),\"erro\")","v":""},{"$f":"IFERROR(Gerar_Upload!C594,\"erro\")","v":0},{"$f":"IFERROR(Gerar_Upload!D594,\"erro\")","v":0},{"$f":"IFERROR(DATE(YEAR(Gerar_Upload!E594),MONTH(Gerar_Upload!E594),DAY(Gerar_Upload!E594)),\"erro\")","v":"00:00:00"},{"$f":"IFERROR(Gerar_Upload!F594,\"erro\")","v":0},{"$f":"IFERROR(IF(Gerar_Upload!G594<44,REPT(0,44-LEN(Gerar_Upload!G594))&Gerar_Upload!G594,Gerar_Upload!G594),\"erro\")","v":"00000000000000000000000000000000000000000000"}]
[{"$f":"IFERROR(LEFT(Gerar_Upload!A595,120),\"erro\")","v":""},{"$f":"IFERROR(SUBSTITUTE(SUBSTITUTE(SUBSTITUTE(Gerar_Upload!B595,\".\",\"\"),\"-\",\"\"),\"/\",\"\"),\"erro\")","v":""},{"$f":"IFERROR(Gerar_Upload!C595,\"erro\")","v":0},{"$f":"IFERROR(Gerar_Upload!D595,\"erro\")","v":0},{"$f":"IFERROR(DATE(YEAR(Gerar_Upload!E595),MONTH(Gerar_Upload!E595),DAY(Gerar_Upload!E595)),\"erro\")","v":"00:00:00"},{"$f":"IFERROR(Gerar_Upload!F595,\"erro\")","v":0},{"$f":"IFERROR(IF(Gerar_Upload!G595<44,REPT(0,44-LEN(Gerar_Upload!G595))&Gerar_Upload!G595,Gerar_Upload!G595),\"erro\")","v":"00000000000000000000000000000000000000000000"}]
[{"$f":"IFERROR(LEFT(Gerar_Upload!A596,120),\"erro\")","v":""},{"$f":"IFERROR(SUBSTITUTE(SUBSTITUTE(SUBSTITUTE(Gerar_Upload!B596,\".\",\"\"),\"-\",\"\"),\"/\",\"\"),\"erro\")","v":""},{"$f":"IFERROR(Gerar_Upload!C596,\"erro\")","v":0},{"$f":"IFERROR(Gerar_Upload!D596,\"erro\")","v":0},{"$f":"IFERROR(DATE(YEAR(Gerar_Upload!E596),MONTH(Gerar_Upload!E596),DAY(Gerar_Upload!E596)),\"erro\")","v":"00:00:00"},{"$f":"IFERROR(Gerar_Upload!F596,\"erro\")","v":0},{"$f":"IFERROR(IF(Gerar_Upload!G596<44,REPT(0,44-LEN(Gerar_Upload!G596))&Gerar_Upload!G596,Gerar_Upload!G596),\"erro\")","v":"00000000000000000000000000000000000000000000"}]
[{"$f":"IFERROR(LEFT(Gerar_Upload!A597,120),\"erro\")","v":""},{"$f":"IFERROR(SUBSTITUTE(SUBSTITUTE(SUBSTITUTE(Gerar_Upload!B597,\".\",\"\"),\"-\",\"\"),\"/\",\"\"),\"erro\")","v":""},{"$f":"IFERROR(Gerar_Upload!C597,\"erro\")","v":0},{"$f":"IFERROR(Gerar_Upload!D597,\"erro\")","v":0},{"$f":"IFERROR(DATE(YEAR(Gerar_Upload!E597),MONTH(Gerar_Upload!E597),DAY(Gerar_Upload!E597)),\"erro\")","v":"00:00:00"},{"$f":"IFERROR(Gerar_Upload!F597,\"erro\")","v":0},{"$f":"IFERROR(IF(Gerar_Upload!G597<44,REPT(0,44-LEN(Gerar_Upload!G597))&Gerar_Upload!G597,Gerar_Upload!G597),\"erro\")","v":"00000000000000000000000000000000000000000000"}]
[{"$f":"IFERROR(LEFT(Gerar_Upload!A598,120),\"erro\")","v":""},{"$f":"IFERROR(SUBSTITUTE(SUBSTITUTE(SUBSTITUTE(Gerar_Upload!B598,\".\",\"\"),\"-\",\"\"),\"/\",\"\"),\"erro\")","v":""},{"$f":"IFERROR(Gerar_Upload!C598,\"erro\")","v":0},{"$f":"IFERROR(Gerar_Upload!D598,\"erro\")","v":0},{"$f":"IFERROR(DATE(YEAR(Gerar_Upload!E598),MONTH(Gerar_Upload!E598),DAY(Gerar_Upload!E598)),\"erro\")","v":"00:00:00"},{"$f":"IFERROR(Gerar_Upload!F598,\"erro\")","v":0},{"$f":"IFERROR(IF(Gerar_Upload!G598<44,REPT(0,44-LEN(Gerar_Upload!G598))&Gerar_Upload!G598,Gerar_Upload!G598),\"erro\")","v":"00000000000000000000000000000000000000000000"}]
[{"$f":"IFERROR(LEFT(Gerar_Upload!A599,120),\"erro\")","v":""},{"$f":"IFERROR(SUBSTITUTE(SUBSTITUTE(SUBSTITUTE(Gerar_Upload!B599,\".\",\"\"),\"-\",\"\"),\"/\",\"\"),\"erro\")","v":""},{"$f":"IFERROR(Gerar_Upload!C599,\"erro\")","v":0},{"$f":"IFERROR(Gerar_Upload!D599,\"erro\")","v":0},{"$f":"IFERROR(DATE(YEAR(Gerar_Upload!E599),MONTH(Gerar_Upload!E599),DAY(Gerar_Upload!E599)),\"erro\")","v":"00:00:00"},{"$f":"IFERROR(Gerar_Upload!F599,\"erro\")","v":0},{"$f":"IFERROR(IF(Gerar_Upload!G599<44,REPT(0,44-LEN(Gerar_Upload!G599))&Gerar_Upload!G599,Gerar_Upload!G599),\"erro\")","v":"00000000000000000000000000000000000000000000"}]
[{"$f":"IFERROR(LEFT(Gerar_Upload!A600,120),\"erro\")","v":""},{"$f":"IFERROR(SUBSTITUTE(SUBSTITUTE(SUBSTITUTE(Gerar_Upload!B600,\".\",\"\"),\"-\",\"\"),\"/\",\"\"),\"erro\")","v":""},{"$f":"IFERROR(Gerar_Upload!C600,\"erro\")","v":0},{"$f":"IFERROR(Gerar_Upload!D600,\"erro\")","v":0},{"$f":"IFERROR(DATE(YEAR(Gerar_Upload!E600),MONTH(Gerar_Upload!E600),DAY(Gerar_Upload!E600)),\"erro\")","v":"00:00:00"},{"$f":"IFERROR(Gerar_Upload!F600,\"erro\")","v":0},{"$f":"IFERROR(IF(Gerar_Upload!G600<44,REPT(0,44-LEN(Gerar_Upload!G600))&Gerar_Upload!G600,Gerar_Upload!G600),\"erro\")","v":"00000000000000000000000000000000000000000000"}]
[{"$f":"IFERROR(LEFT(Gerar_Upload!A601,120),\"erro\")","v":""},{"$f":"IFERROR(SUBSTITUTE(SUBSTITUTE(SUBSTITUTE(Gerar_Upload!B601,\".\",\"\"),\"-\",\"\"),\"/\",\"\"),\"erro\")","v":""},{"$f":"IFERROR(Gerar_Upload!C601,\"erro\")","v":0},{"$f":"IFERROR(Gerar_Upload!D601,\"erro\")","v":0},{"$f":"IFERROR(DATE(YEAR(Gerar_Upload!E601),MONTH(Gerar_Upload!E601),DAY(Gerar_Upload!E601)),\"erro\")","v":"00:00:00"},{"$f":"IFERROR(Gerar_Upload!F601,\"erro\")","v":0},{"$f":"IFERROR(IF(Gerar_Upload!G601<44,REPT(0,44-LEN(Gerar_Upload!G601))&Gerar_Upload!G601,Gerar_Upload!G601),\"erro\")","v":"00000000000000000000000000000000000000000000"}]
[{"$f":"IFERROR(LEFT(Gerar_Upload!A602,120),\"erro\")","v":""},{"$f":"IFERROR(SUBSTITUTE(SUBSTITUTE(SUBSTITUTE(Gerar_Upload!B602,\".\",\"\"),\"-\",\"\"),\"/\",\"\"),\"erro\")","v":""},{"$f":"IFERROR(Gerar_Upload!C602,\"erro\")","v":0},{"$f":"IFERROR(Gerar_Upload!D602,\"erro\")","v":0},{"$f":"IFERROR(DATE(YEAR(Gerar_Upload!E602),MONTH(Gerar_Upload!E602),DAY(Gerar_Upload!E602)),\"erro\")","v":"00:00:00"},{"$f":"IFERROR(Gerar_Upload!F602,\"erro\")","v":0},{"$f":"IFERROR(IF(Gerar_Upload!G602<44,REPT(0,44-LEN(Gerar_Upload!G602))&Gerar_Upload!G602,Gerar_Upload!G602),\"erro\")","v":"00000000000000000000000000000000000000000000"}]
[{"$f":"IFERROR(LEFT(Gerar_Upload!A603,120),\"erro\")","v":""},{"$f":"IFERROR(SUBSTITUTE(SUBSTITUTE(SUBSTITUTE(Gerar_Upload!B603,\".\",\"\"),\"-\",\"\"),\"/\",\"\"),\"erro\")","v":""},{"$f":"IFERROR(Gerar_Upload!C603,\"erro\")","v":0},{"$f":"IFERROR(Gerar_Upload!D603,\"erro\")","v":0},{"$f":"IFERROR(DATE(YEAR(Gerar_Upload!E603),MONTH(Gerar_Upload!E603),DAY(Gerar_Upload!E603)),\"erro\")","v":"00:00:00"},{"$f":"IFERROR(Gerar_Upload!F603,\"erro\")","v":0},{"$f":"IFERROR(IF(Gerar_Upload!G603<44,REPT(0,44-LEN(Gerar_Upload!G603))&Gerar_Upload!G603,Gerar_Upload!G603),\"erro\")","v":"00000000000000000000000000000000000000000000"}]
[{"$f":"IFERROR(LEFT(Gerar_Upload!A604,120),\"erro\")","v":""},{"$f":"IFERROR(SUBSTITUTE(SUBSTITUTE(SUBSTITUTE(Gerar_Upload!B604,\".\",\"\"),\"-\",\"\"),\"/\",\"\"),\"erro\")","v":""},{"$f":"IFERROR(Gerar_Upload!C604,\"erro\")","v":0},{"$f":"IFERROR(Gerar_Upload!D604,\"erro\")","v":0},{"$f":"IFERROR(DATE(YEAR(Gerar_Upload!E604),MONTH(Gerar_Upload!E604),DAY(Gerar_Upload!E604)),\"erro\")","v":"00:00:00"},{"$f":"IFERROR(Gerar_Upload!F604,\"erro\")","v":0},{"$f":"IFERROR(IF(Gerar_Upload!G604<44,REPT(0,44-LEN(Gerar_Upload!G604))&Gerar_Upload!G604,Gerar_Upload!G604),\"erro\")","v":"00000000000000000000000000000000000000000000"}]
[{"$f":"IFERROR(LEFT(Gerar_Upload!A605,120),\"erro\")","v":""},{"$f":"IFERROR(SUBSTITUTE(SUBSTITUTE(SUBSTITUTE(Gerar_Upload!B605,\".\",\"\"),\"-\",\"\"),\"/\",\"\"),\"erro\")","v":""},{"$f":"IFERROR(Gerar_Upload!C605,\"erro\")","v":0},{"$f":"IFERROR(Gerar_Upload!D605,\"erro\")","v":0},{"$f":"IFERROR(DATE(YEAR(Gerar_Upload!E605),MONTH(Gerar_Upload!E605),DAY(Gerar_Upload!E605)),\"erro\")","v":"00:00:00"},{"$f":"IFERROR(Gerar_Upload!F605,\"erro\")","v":0},{"$f":"IFERROR(IF(Gerar_Upload!G605<44,REPT(0,44-LEN(Gerar_Upload!G605))&Gerar_Upload!G605,Gerar_Upload!G605),\"erro\")","v":"00000000000000000000000000000000000000000000"}]
[{"$f":"IFERROR(LEFT(Gerar_Upload!A606,120),\"erro\")","v":""},{"$f":"IFERROR(SUBSTITUTE(SUBSTITUTE(SUBSTITUTE(Gerar_Upload!B606,\".\",\"\"),\"-\",\"\"),\"/\",\"\"),\"erro\")","v":""},{"$f":"IFERROR(Gerar_Upload!C606,\"erro\")","v":0},{"$f":"IFERROR(Gerar_Upload!D606,\"erro\")","v":0},{"$f":"IFERROR(DATE(YEAR(Gerar_Upload!E606),MONTH(Gerar_Upload!E606),DAY(Gerar_Upload!E606)),\"erro\")","v":"00:00:00"},{"$f":"IFERROR(Gerar_Upload!F606,\"erro\")","v":0},{"$f":"IFERROR(IF(Gerar_Upload!G606<44,REPT(0,44-LEN(Gerar_Upload!G606))&Gerar_Upload!G606,Gerar_Upload!G606),\"erro\")","v":"00000000000000000000000000000000000000000000"}]
[{"$f":"IFERROR(LEFT(Gerar_Upload!A607,120),\"erro\")","v":""},{"$f":"IFERROR(SUBSTITUTE(SUBSTITUTE(SUBSTITUTE(Gerar_Upload!B607,\".\",\"\"),\"-\",\"\"),\"/\",\"\"),\"erro\")","v":""},{"$f":"IFERROR(Gerar_Upload!C607,\"erro\")","v":0},{"$f":"IFERROR(Gerar_Upload!D607,\"erro\")","v":0},{"$f":"IFERROR(DATE(YEAR(Gerar_Upload!E607),MONTH(Gerar_Upload!E607),DAY(Gerar_Upload!E607)),\"erro\")","v":"00:00:00"},{"$f":"IFERROR(Gerar_Upload!F607,\"erro\")","v":0},{"$f":"IFERROR(IF(Gerar_Upload!G607<44,REPT(0,44-LEN(Gerar_Upload!G607))&Gerar_Upload!G607,Gerar_Upload!G607),\"erro\")","v":"00000000000000000000000000000000000000000000"}]
[{"$f":"IFERROR(LEFT(Gerar_Upload!A608,120),\"erro\")","v":""},{"$f":"IFERROR(SUBSTITUTE(SUBSTITUTE(SUBSTITUTE(Gerar_Upload!B608,\".\",\"\"),\"-\",\"\"),\"/\",\"\"),\"erro\")","v":""},{"$f":"IFERROR(Gerar_Upload!C608,\"erro\")","v":0},{"$f":"IFERROR(Gerar_Upload!D608,\"erro\")","v":0},{"$f":"IFERROR(DATE(YEAR(Gerar_Upload!E608),MONTH(Gerar_Upload!E608),DAY(Gerar_Upload!E608)),\"erro\")","v":"00:00:00"},{"$f":"IFERROR(Gerar_Upload!F608,\"erro\")","v":0},{"$f":"IFERROR(IF(Gerar_Upload!G608<44,REPT(0,44-LEN(Gerar_Upload!G608))&Gerar_Upload!G608,Gerar_Upload!G608),\"erro\")","v":"00000000000000000000000000000000000000000000"}]
[{"$f":"IFERROR(LEFT(Gerar_Upload!A609,120),\"erro\")","v":""},{"$f":"IFERROR(SUBSTITUTE(SUBSTITUTE(SUBSTITUTE(Gerar_Upload!B609,\".\",\"\"),\"-\",\"\"),\"/\",\"\"),\"erro\")","v":""},{"$f":"IFERROR(Gerar_Upload!C609,\"erro\")","v":0},{"$f":"IFERROR(Gerar_Upload!D609,\"erro\")","v":0},{"$f":"IFERROR(DATE(YEAR(Gerar_Upload!E609),MONTH(Gerar_Upload!E609),DAY(Gerar_Upload!E609)),\"erro\")","v":"00:00:00"},{"$f":"IFERROR(Gerar_Upload!F609,\"erro\")","v":0},{"$f":"IFERROR(IF(Gerar_Upload!G609<44,REPT(0,44-LEN(Gerar_Upload!G609))&Gerar_Upload!G609,Gerar_Upload!G609),\"erro\")","v":"00000000000000000000000000000000000000000000"}]
[{"$f":"IFERROR(LEFT(Gerar_Upload!A610,120),\"erro\")","v":""},{"$f":"IFERROR(SUBSTITUTE(SUBSTITUTE(SUBSTITUTE(Gerar_Upload!B610,\".\",\"\"),\"-\",\"\"),\"/\",\"\"),\"erro\")","v":""},{"$f":"IFERROR(Gerar_Upload!C610,\"erro\")","v":0},{"$f":"IFERROR(Gerar_Upload!D610,\"erro\")","v":0},{"$f":"IFERROR(DATE(YEAR(Gerar_Upload!E610),MONTH(Gerar_Upload!E610),DAY(Gerar_Upload!E610)),\"erro\")","v":"00:00:00"},{"$f":"IFERROR(Gerar_Upload!F610,\"erro\")","v":0},{"$f":"IFERROR(IF(Gerar_Upload!G610<44,REPT(0,44-LEN(Gerar_Upload!G610))&Gerar_Upload!G610,Gerar_Upload!G610),\"erro\")","v":"00000000000000000000000000000000000000000000"}]
[{"$f":"IFERROR(LEFT(Gerar_Upload!A611,120),\"erro\")","v":""},{"$f":"IFERROR(SUBSTITUTE(SUBSTITUTE(SUBSTITUTE(Gerar_Upload!B611,\".\",\"\"),\"-\",\"\"),\"/\",\"\"),\"erro\")","v":""},{"$f":"IFERROR(Gerar_Upload!C611,\"erro\")","v":0},{"$f":"IFERROR(Gerar_Upload!D611,\"erro\")","v":0},{"$f":"IFERROR(DATE(YEAR(Gerar_Upload!E611),MONTH(Gerar_Upload!E611),DAY(Gerar_Upload!E611)),\"erro\")","v":"00:00:00"},{"$f":"IFERROR(Gerar_Upload!F611,\"erro\")","v":0},{"$f":"IFERROR(IF(Gerar_Upload!G611<44,REPT(0,44-LEN(Gerar_Upload!G611))&Gerar_Upload!G611,Gerar_Upload!G611),\"erro\")","v":"00000000000000000000000000000000000000000000"}]
[{"$f":"IFERROR(LEFT(Gerar_Upload!A612,120),\"erro\")","v":""},{"$f":"IFERROR(SUBSTITUTE(SUBSTITUTE(SUBSTITUTE(Gerar_Upload!B612,\".\",\"\"),\"-\",\"\"),\"/\",\"\"),\"erro\")","v":""},{"$f":"IFERROR(Gerar_Upload!C612,\"erro\")","v":0},{"$f":"IFERROR(Gerar_Upload!D612,\"erro\")","v":0},{"$f":"IFERROR(DATE(YEAR(Gerar_Upload!E612),MONTH(Gerar_Upload!E612),DAY(Gerar_Upload!E612)),\"erro\")","v":"00:00:00"},{"$f":"IFERROR(Gerar_Upload!F612,\"erro\")","v":0},{"$f":"IFERROR(IF(Gerar_Upload!G612<44,REPT(0,44-LEN(Gerar_Upload!G612))&Gerar_Upload!G612,Gerar_Upload!G612),\"erro\")","v":"00000000000000000000000000000000000000000000"}]
[{"$f":"IFERROR(LEFT(Gerar_Upload!A613,120),\"erro\")","v":""},{"$f":"IFERROR(SUBSTITUTE(SUBSTITUTE(SUBSTITUTE(Gerar_Upload!B613,\".\",\"\"),\"-\",\"\"),\"/\",\"\"),\"erro\")","v":""},{"$f":"IFERROR(Gerar_Upload!C613,\"erro\")","v":0},{"$f":"IFERROR(Gerar_Upload!D613,\"erro\")","v":0},{"$f":"IFERROR(DATE(YEAR(Gerar_Upload!E613),MONTH(Gerar_Upload!E613),DAY(Gerar_Upload!E613)),\"erro\")","v":"00:00:00"},{"$f":"IFERROR(Gerar_Upload!F613,\"erro\")","v":0},{"$f":"IFERROR(IF(Gerar_Upload!G613<44,REPT(0,44-LEN(Gerar_Upload!G613))&Gerar_Upload!G613,Gerar_Upload!G613),\"erro\")","v":"00000000000000000000000000000000000000000000"}]
[{"$f":"IFERROR(LEFT(Gerar_Upload!A614,120),\"erro\")","v":""},{"$f":"IFERROR(SUBSTITUTE(SUBSTITUTE(SUBSTITUTE(Gerar_Upload!B614,\".\",\"\"),\"-\",\"\"),\"/\",\"\"),\"erro\")","v":""},{"$f":"IFERROR(Gerar_Upload!C614,\"erro\")","v":0},{"$f":"IFERROR(Gerar_Upload!D614,\"erro\")","v":0},{"$f":"IFERROR(DATE(YEAR(Gerar_Upload!E614),MONTH(Gerar_Upload!E614),DAY(Gerar_Upload!E614)),\"erro\")","v":"00:00:00"},{"$f":"IFERROR(Gerar_Upload!F614,\"erro\")","v":0},{"$f":"IFERROR(IF(Gerar_Upload!G614<44,REPT(0,44-LEN(Gerar_Upload!G614))&Gerar_Upload!G614,Gerar_Upload!G614),\"erro\")","v":"00000000000000000000000000000000000000000000"}]
[{"$f":"IFERROR(LEFT(Gerar_Upload!A615,120),\"erro\")","v":""},{"$f":"IFERROR(SUBSTITUTE(SUBSTITUTE(SUBSTITUTE(Gerar_Upload!B615,\".\",\"\"),\"-\",\"\"),\"/\",\"\"),\"erro\")","v":""},{"$f":"IFERROR(Gerar_Upload!C615,\"erro\")","v":0},{"$f":"IFERROR(Gerar_Upload!D615,\"erro\")","v":0},{"$f":"IFERROR(DATE(YEAR(Gerar_Upload!E615),MONTH(Gerar_Upload!E615),DAY(Gerar_Upload!E615)),\"erro\")","v":"00:00:00"},{"$f":"IFERROR(Gerar_Upload!F615,\"erro\")","v":0},{"$f":"IFERROR(IF(Gerar_Upload!G615<44,REPT(0,44-LEN(Gerar_Upload!G615))&Gerar_Upload!G615,Gerar_Upload!G615),\"erro\")","v":"00000000000000000000000000000000000000000000"}]
[{"$f":"IFERROR(LEFT(Gerar_Upload!A616,120),\"erro\")","v":""},{"$f":"IFERROR(SUBSTITUTE(SUBSTITUTE(SUBSTITUTE(Gerar_Upload!B616,\".\",\"\"),\"-\",\"\"),\"/\",\"\"),\"erro\")","v":""},{"$f":"IFERROR(Gerar_Upload!C616,\"erro\")","v":0},{"$f":"IFERROR(Gerar_Upload!D616,\"erro\")","v":0},{"$f":"IFERROR(DATE(YEAR(Gerar_Upload!E616),MONTH(Gerar_Upload!E616),DAY(Gerar_Upload!E616)),\"erro\")","v":"00:00:00"},{"$f":"IFERROR(Gerar_Upload!F616,\"erro\")","v":0},{"$f":"IFERROR(IF(Gerar_Upload!G616<44,REPT(0,44-LEN(Gerar_Upload!G616))&Gerar_Upload!G616,Gerar_Upload!G616),\"erro\")","v":"00000000000000000000000000000000000000000000"}]
[{"$f":"IFERROR(LEFT(Gerar_Upload!A617,120),\"erro\")","v":""},{"$f":"IFERROR(SUBSTITUTE(SUBSTITUTE(SUBSTITUTE(Gerar_Upload!B617,\".\",\"\"),\"-\",\"\"),\"/\",\"\"),\"erro\")","v":""},{"$f":"IFERROR(Gerar_Upload!C617,\"erro\")","v":0},{"$f":"IFERROR(Gerar_Upload!D617,\"erro\")","v":0},{"$f":"IFERROR(DATE(YEAR(Gerar_Upload!E617),MONTH(Gerar_Upload!E617),DAY(Gerar_Upload!E617)),\"erro\")","v":"00:00:00"},{"$f":"IFERROR(Gerar_Upload!F617,\"erro\")","v":0},{"$f":"IFERROR(IF(Gerar_Upload!G617<44,REPT(0,44-LEN(Gerar_Upload!G617))&Gerar_Upload!G617,Gerar_Upload!G617),\"erro\")","v":"00000000000000000000000000000000000000000000"}]
[{"$f":"IFERROR(LEFT(Gerar_Upload!A618,120),\"erro\")","v":""},{"$f":"IFERROR(SUBSTITUTE(SUBSTITUTE(SUBSTITUTE(Gerar_Upload!B618,\".\",\"\"),\"-\",\"\"),\"/\",\"\"),\"erro\")","v":""},{"$f":"IFERROR(Gerar_Upload!C618,\"erro\")","v":0},{"$f":"IFERROR(Gerar_Upload!D618,\"erro\")","v":0},{"$f":"IFERROR(DATE(YEAR(Gerar_Upload!E618),MONTH(Gerar_Upload!E618),DAY(Gerar_Upload!E618)),\"erro\")","v":"00:00:00"},{"$f":"IFERROR(Gerar_Upload!F618,\"erro\")","v":0},{"$f":"IFERROR(IF(Gerar_Upload!G618<44,REPT(0,44-LEN(Gerar_Upload!G618))&Gerar_Upload!G618,Gerar_Upload!G618),\"erro\")","v":"00000000000000000000000000000000000000000000"}]
[{"$f":"IFERROR(LEFT(Gerar_Upload!A619,120),\"erro\")","v":""},{"$f":"IFERROR(SUBSTITUTE(SUBSTITUTE(SUBSTITUTE(Gerar_Upload!B619,\".\",\"\"),\"-\",\"\"),\"/\",\"\"),\"erro\")","v":""},{"$f":"IFERROR(Gerar_Upload!C619,\"erro\")","v":0},{"$f":"IFERROR(Gerar_Upload!D619,\"erro\")","v":0},{"$f":"IFERROR(DATE(YEAR(Gerar_Upload!E619),MONTH(Gerar_Upload!E619),DAY(Gerar_Upload!E619)),\"erro\")","v":"00:00:00"},{"$f":"IFERROR(Gerar_Upload!F619,\"erro\")","v":0},{"$f":"IFERROR(IF(Gerar_Upload!G619<44,REPT(0,44-LEN(Gerar_Upload!G619))&Gerar_Upload!G619,Gerar_Upload!G619),\"erro\")","v":"00000000000000000000000000000000000000000000"}]
[{"$f":"IFERROR(LEFT(Gerar_Upload!A620,120),\"erro\")","v":""},{"$f":"IFERROR(SUBSTITUTE(SUBSTITUTE(SUBSTITUTE(Gerar_Upload!B620,\".\",\"\"),\"-\",\"\"),\"/\",\"\"),\"erro\")","v":""},{"$f":"IFERROR(Gerar_Upload!C620,\"erro\")","v":0},{"$f":"IFERROR(Gerar_Upload!D620,\"erro\")","v":0},{"$f":"IFERROR(DATE(YEAR(Gerar_Upload!E620),MONTH(Gerar_Upload!E620),DAY(Gerar_Upload!E620)),\"erro\")","v":"00:00:00"},{"$f":"IFERROR(Gerar_Upload!F620,\"erro\")","v":0},{"$f":"IFERROR(IF(Gerar_Upload!G620<44,REPT(0,44-LEN(Gerar_Upload!G620))&Gerar_Upload!G620,Gerar_Upload!G620),\"erro\")","v":"00000000000000000000000000000000000000000000"}]
[{"$f":"IFERROR(LEFT(Gerar_Upload!A621,120),\"erro\")","v":""},{"$f":"IFERROR(SUBSTITUTE(SUBSTITUTE(SUBSTITUTE(Gerar_Upload!B621,\".\",\"\"),\"-\",\"\"),\"/\",\"\"),\"erro\")","v":""},{"$f":"IFERROR(Gerar_Upload!C621,\"erro\")","v":0},{"$f":"IFERROR(Gerar_Upload!D621,\"erro\")","v":0},{"$f":"IFERROR(DATE(YEAR(Gerar_Upload!E621),MONTH(Gerar_Upload!E621),DAY(Gerar_Upload!E621)),\"erro\")","v":"00:00:00"},{"$f":"IFERROR(Gerar_Upload!F621,\"erro\")","v":0},{"$f":"IFERROR(IF(Gerar_Upload!G621<44,REPT(0,44-LEN(Gerar_Upload!G621))&Gerar_Upload!G621,Gerar_Upload!G621),\"erro\")","v":"00000000000000000000000000000000000000000000"}]
[{"$f":"IFERROR(LEFT(Gerar_Upload!A622,120),\"erro\")","v":""},{"$f":"IFERROR(SUBSTITUTE(SUBSTITUTE(SUBSTITUTE(Gerar_Upload!B622,\".\",\"\"),\"-\",\"\"),\"/\",\"\"),\"erro\")","v":""},{"$f":"IFERROR(Gerar_Upload!C622,\"erro\")","v":0},{"$f":"IFERROR(Gerar_Upload!D622,\"erro\")","v":0},{"$f":"IFERROR(DATE(YEAR(Gerar_Upload!E622),MONTH(Gerar_Upload!E622),DAY(Gerar_Upload!E622)),\"erro\")","v":"00:00:00"},{"$f":"IFERROR(Gerar_Upload!F622,\"erro\")","v":0},{"$f":"IFERROR(IF(Gerar_Upload!G622<44,REPT(0,44-LEN(Gerar_Upload!G622))&Gerar_Upload!G622,Gerar_Upload!G622),\"erro\")","v":"00000000000000000000000000000000000000000000"}]
[{"$f":"IFERROR(LEFT(Gerar_Upload!A623,120),\"erro\")","v":""},{"$f":"IFERROR(SUBSTITUTE(SUBSTITUTE(SUBSTITUTE(Gerar_Upload!B623,\".\",\"\"),\"-\",\"\"),\"/\",\"\"),\"erro\")","v":""},{"$f":"IFERROR(Gerar_Upload!C623,\"erro\")","v":0},{"$f":"IFERROR(Gerar_Upload!D623,\"erro\")","v":0},{"$f":"IFERROR(DATE(YEAR(Gerar_Upload!E623),MONTH(Gerar_Upload!E623),DAY(Gerar_Upload!E623)),\"erro\")","v":"00:00:00"},{"$f":"IFERROR(Gerar_Upload!F623,\"erro\")","v":0},{"$f":"IFERROR(IF(Gerar_Upload!G623<44,REPT(0,44-LEN(Gerar_Upload!G623))&Gerar_Upload!G623,Gerar_Upload!G623),\"erro\")","v":"00000000000000000000000000000000000000000000"}]
[{"$f":"IFERROR(LEFT(Gerar_Upload!A624,120),\"erro\")","v":""},{"$f":"IFERROR(SUBSTITUTE(SUBSTITUTE(SUBSTITUTE(Gerar_Upload!B624,\".\",\"\"),\"-\",\"\"),\"/\",\"\"),\"erro\")","v":""},{"$f":"IFERROR(Gerar_Upload!C624,\"erro\")","v":0},{"$f":"IFERROR(Gerar_Upload!D624,\"erro\")","v":0},{"$f":"IFERROR(DATE(YEAR(Gerar_Upload!E624),MONTH(Gerar_Upload!E624),DAY(Gerar_Upload!E624)),\"erro\")","v":"00:00:00"},{"$f":"IFERROR(Gerar_Upload!F624,\"erro\")","v":0},{"$f":"IFERROR(IF(Gerar_Upload!G624<44,REPT(0,44-LEN(Gerar_Upload!G624))&Gerar_Upload!G624,Gerar_Upload!G624),\"erro\")","v":"00000000000000000000000000000000000000000000"}]
[{"$f":"IFERROR(LEFT(Gerar_Upload!A625,120),\"erro\")","v":""},{"$f":"IFERROR(SUBSTITUTE(SUBSTITUTE(SUBSTITUTE(Gerar_Upload!B625,\".\",\"\"),\"-\",\"\"),\"/\",\"\"),\"erro\")","v":""},{"$f":"IFERROR(Gerar_Upload!C625,\"erro\")","v":0},{"$f":"IFERROR(Gerar_Upload!D625,\"erro\")","v":0},{"$f":"IFERROR(DATE(YEAR(Gerar_Upload!E625),MONTH(Gerar_Upload!E625),DAY(Gerar_Upload!E625)),\"erro\")","v":"00:00:00"},{"$f":"IFERROR(Gerar_Upload!F625,\"erro\")","v":0},{"$f":"IFERROR(IF(Gerar_Upload!G625<44,REPT(0,44-LEN(Gerar_Upload!G625))&Gerar_Upload!G625,Gerar_Upload!G625),\"erro\")","v":"00000000000000000000000000000000000000000000"}]
[{"$f":"IFERROR(LEFT(Gerar_Upload!A626,120),\"erro\")","v":""},{"$f":"IFERROR(SUBSTITUTE(SUBSTITUTE(SUBSTITUTE(Gerar_Upload!B626,\".\",\"\"),\"-\",\"\"),\"/\",\"\"),\"erro\")","v":""},{"$f":"IFERROR(Gerar_Upload!C626,\"erro\")","v":0},{"$f":"IFERROR(Gerar_Upload!D626,\"erro\")","v":0},{"$f":"IFERROR(DATE(YEAR(Gerar_Upload!E626),MONTH(Gerar_Upload!E626),DAY(Gerar_Upload!E626)),\"erro\")","v":"00:00:00"},{"$f":"IFERROR(Gerar_Upload!F626,\"erro\")","v":0},{"$f":"IFERROR(IF(Gerar_Upload!G626<44,REPT(0,44-LEN(Gerar_Upload!G626))&Gerar_Upload!G626,Gerar_Upload!G626),\"erro\")","v":"00000000000000000000000000000000000000000000"}]
[{"$f":"IFERROR(LEFT(Gerar_Upload!A627,120),\"erro\")","v":""},{"$f":"IFERROR(SUBSTITUTE(SUBSTITUTE(SUBSTITUTE(Gerar_Upload!B627,\".\",\"\"),\"-\",\"\"),\"/\",\"\"),\"erro\")","v":""},{"$f":"IFERROR(Gerar_Upload!C627,\"erro\")","v":0},{"$f":"IFERROR(Gerar_Upload!D627,\"erro\")","v":0},{"$f":"IFERROR(DATE(YEAR(Gerar_Upload!E627),MONTH(Gerar_Upload!E627),DAY(Gerar_Upload!E627)),\"erro\")","v":"00:00:00"},{"$f":"IFERROR(Gerar_Upload!F627,\"erro\")","v":0},{"$f":"IFERROR(IF(Gerar_Upload!G627<44,REPT(0,44-LEN(Gerar_Upload!G627))&Gerar_Upload!G627,Gerar_Upload!G627),\"erro\")","v":"00000000000000000000000000000000000000000000"}]
[{"$f":"IFERROR(LEFT(Gerar_Upload!A628,120),\"erro\")","v":""},{"$f":"IFERROR(SUBSTITUTE(SUBSTITUTE(SUBSTITUTE(Gerar_Upload!B628,\".\",\"\"),\"-\",\"\"),\"/\",\"\"),\"erro\")","v":""},{"$f":"IFERROR(Gerar_Upload!C628,\"erro\")","v":0},{"$f":"IFERROR(Gerar_Upload!D628,\"erro\")","v":0},{"$f":"IFERROR(DATE(YEAR(Gerar_Upload!E628),MONTH(Gerar_Upload!E628),DAY(Gerar_Upload!E628)),\"erro\")","v":"00:00:00"},{"$f":"IFERROR(Gerar_Upload!F628,\"erro\")","v":0},{"$f":"IFERROR(IF(Gerar_Upload!G628<44,REPT(0,44-LEN(Gerar_Upload!G628))&Gerar_Upload!G628,Gerar_Upload!G628),\"erro\")","v":"00000000000000000000000000000000000000000000"}]
[{"$f":"IFERROR(LEFT(Gerar_Upload!A629,120),\"erro\")","v":""},{"$f":"IFERROR(SUBSTITUTE(SUBSTITUTE(SUBSTITUTE(Gerar_Upload!B629,\".\",\"\"),\"-\",\"\"),\"/\",\"\"),\"erro\")","v":""},{"$f":"IFERROR(Gerar_Upload!C629,\"erro\")","v":0},{"$f":"IFERROR(Gerar_Upload!D629,\"erro\")","v":0},{"$f":"IFERROR(DATE(YEAR(Gerar_Upload!E629),MONTH(Gerar_Upload!E629),DAY(Gerar_Upload!E629)),\"erro\")","v":"00:00:00"},{"$f":"IFERROR(Gerar_Upload!F629,\"erro\")","v":0},{"$f":"IFERROR(IF(Gerar_Upload!G629<44,REPT(0,44-LEN(Gerar_Upload!G629))&Gerar_Upload!G629,Gerar_Upload!G629),\"erro\")","v":"00000000000000000000000000000000000000000000"}]
[{"$f":"IFERROR(LEFT(Gerar_Upload!A630,120),\"erro\")","v":""},{"$f":"IFERROR(SUBSTITUTE(SUBSTITUTE(SUBSTITUTE(Gerar_Upload!B630,\".\",\"\"),\"-\",\"\"),\"/\",\"\"),\"erro\")","v":""},{"$f":"IFERROR(Gerar_Upload!C630,\"erro\")","v":0},{"$f":"IFERROR(Gerar_Upload!D630,\"erro\")","v":0},{"$f":"IFERROR(DATE(YEAR(Gerar_Upload!E630),MONTH(Gerar_Upload!E630),DAY(Gerar_Upload!E630)),\"erro\")","v":"00:00:00"},{"$f":"IFERROR(Gerar_Upload!F630,\"erro\")","v":0},{"$f":"IFERROR(IF(Gerar_Upload!G630<44,REPT(0,44-LEN(Gerar_Upload!G630))&Gerar_Upload!G630,Gerar_Upload!G630),\"erro\")","v":"00000000000000000000000000000000000000000000"}]
[{"$f":"IFERROR(LEFT(Gerar_Upload!A631,120),\"erro\")","v":""},{"$f":"IFERROR(SUBSTITUTE(SUBSTITUTE(SUBSTITUTE(Gerar_Upload!B631,\".\",\"\"),\"-\",\"\"),\"/\",\"\"),\"erro\")","v":""},{"$f":"IFERROR(Gerar_Upload!C631,\"erro\")","v":0},{"$f":"IFERROR(Gerar_Upload!D631,\"erro\")","v":0},{"$f":"IFERROR(DATE(YEAR(Gerar_Upload!E631),MONTH(Gerar_Upload!E631),DAY(Gerar_Upload!E631)),\"erro\")","v":"00:00:00"},{"$f":"IFERROR(Gerar_Upload!F631,\"erro\")","v":0},{"$f":"IFERROR(IF(Gerar_Upload!G631<44,REPT(0,44-LEN(Gerar_Upload!G631))&Gerar_Upload!G631,Gerar_Upload!G631),\"erro\")","v":"00000000000000000000000000000000000000000000"}]
[{"$f":"IFERROR(LEFT(Gerar_Upload!A632,120),\"erro\")","v":""},{"$f":"IFERROR(SUBSTITUTE(SUBSTITUTE(SUBSTITUTE(Gerar_Upload!B632,\".\",\"\"),\"-\",\"\"),\"/\",\"\"),\"erro\")","v":""},{"$f":"IFERROR(Gerar_Upload!C632,\"erro\")","v":0},{"$f":"IFERROR(Gerar_Upload!D632,\"erro\")","v":0},{"$f":"IFERROR(DATE(YEAR(Gerar_Upload!E632),MONTH(Gerar_Upload!E632),DAY(Gerar_Upload!E632)),\"erro\")","v":"00:00:00"},{"$f":"IFERROR(Gerar_Upload!F632,\"erro\")","v":0},{"$f":"IFERROR(IF(Gerar_Upload!G632<44,REPT(0,44-LEN(Gerar_Upload!G632))&Gerar_Upload!G632,Gerar_Upload!G632),\"erro\")","v":"00000000000000000000000000000000000000000000"}]
[{"$f":"IFERROR(LEFT(Gerar_Upload!A633,120),\"erro\")","v":""},{"$f":"IFERROR(SUBSTITUTE(SUBSTITUTE(SUBSTITUTE(Gerar_Upload!B633,\".\",\"\"),\"-\",\"\"),\"/\",\"\"),\"erro\")","v":""},{"$f":"IFERROR(Gerar_Upload!C633,\"erro\")","v":0},{"$f":"IFERROR(Gerar_Upload!D633,\"erro\")","v":0},{"$f":"IFERROR(DATE(YEAR(Gerar_Upload!E633),MONTH(Gerar_Upload!E633),DAY(Gerar_Upload!E633)),\"erro\")","v":"00:00:00"},{"$f":"IFERROR(Gerar_Upload!F633,\"erro\")","v":0},{"$f":"IFERROR(IF(Gerar_Upload!G633<44,REPT(0,44-LEN(Gerar_Upload!G633))&Gerar_Upload!G633,Gerar_Upload!G633),\"erro\")","v":"00000000000000000000000000000000000000000000"}]
[{"$f":"IFERROR(LEFT(Gerar_Upload!A634,120),\"erro\")","v":""},{"$f":"IFERROR(SUBSTITUTE(SUBSTITUTE(SUBSTITUTE(Gerar_Upload!B634,\".\",\"\"),\"-\",\"\"),\"/\",\"\"),\"erro\")","v":""},{"$f":"IFERROR(Gerar_Upload!C634,\"erro\")","v":0},{"$f":"IFERROR(Gerar_Upload!D634,\"erro\")","v":0},{"$f":"IFERROR(DATE(YEAR(Gerar_Upload!E634),MONTH(Gerar_Upload!E634),DAY(Gerar_Upload!E634)),\"erro\")","v":"00:00:00"},{"$f":"IFERROR(Gerar_Upload!F634,\"erro\")","v":0},{"$f":"IFERROR(IF(Gerar_Upload!G634<44,REPT(0,44-LEN(Gerar_Upload!G634))&Gerar_Upload!G634,Gerar_Upload!G634),\"erro\")","v":"00000000000000000000000000000000000000000000"}]
[{"$f":"IFERROR(LEFT(Gerar_Upload!A635,120),\"erro\")","v":""},{"$f":"IFERROR(SUBSTITUTE(SUBSTITUTE(SUBSTITUTE(Gerar_Upload!B635,\".\",\"\"),\"-\",\"\"),\"/\",\"\"),\"erro\")","v":""},{"$f":"IFERROR(Gerar_Upload!C635,\"erro\")","v":0},{"$f":"IFERROR(Gerar_Upload!D635,\"erro\")","v":0},{"$f":"IFERROR(DATE(YEAR(Gerar_Upload!E635),MONTH(Gerar_Upload!E635),DAY(Gerar_Upload!E635)),\"erro\")","v":"00:00:00"},{"$f":"IFERROR(Gerar_Upload!F635,\"erro\")","v":0},{"$f":"IFERROR(IF(Gerar_Upload!G635<44,REPT(0,44-LEN(Gerar_Upload!G635))&Gerar_Upload!G635,Gerar_Upload!G635),\"erro\")","v":"00000000000000000000000000000000000000000000"}]
[{"$f":"IFERROR(LEFT(Gerar_Upload!A636,120),\"erro\")","v":""},{"$f":"IFERROR(SUBSTITUTE(SUBSTITUTE(SUBSTITUTE(Gerar_Upload!B636,\".\",\"\"),\"-\",\"\"),\"/\",\"\"),\"erro\")","v":""},{"$f":"IFERROR(Gerar_Upload!C636,\"erro\")","v":0},{"$f":"IFERROR(Gerar_Upload!D636,\"erro\")","v":0},{"$f":"IFERROR(DATE(YEAR(Gerar_Upload!E636),MONTH(Gerar_Upload!E636),DAY(Gerar_Upload!E636)),\"erro\")","v":"00:00:00"},{"$f":"IFERROR(Gerar_Upload!F636,\"erro\")","v":0},{"$f":"IFERROR(IF(Gerar_Upload!G636<44,REPT(0,44-LEN(Gerar_Upload!G636))&Gerar_Upload!G636,Gerar_Upload!G636),\"erro\")","v":"00000000000000000000000000000000000000000000"}]
[{"$f":"IFERROR(LEFT(Gerar_Upload!A637,120),\"erro\")","v":""},{"$f":"IFERROR(SUBSTITUTE(SUBSTITUTE(SUBSTITUTE(Gerar_Upload!B637,\".\",\"\"),\"-\",\"\"),\"/\",\"\"),\"erro\")","v":""},{"$f":"IFERROR(Gerar_Upload!C637,\"erro\")","v":0},{"$f":"IFERROR(Gerar_Upload!D637,\"erro\")","v":0},{"$f":"IFERROR(DATE(YEAR(Gerar_Upload!E637),MONTH(Gerar_Upload!E637),DAY(Gerar_Upload!E637)),\"erro\")","v":"00:00:00"},{"$f":"IFERROR(Gerar_Upload!F637,\"erro\")","v":0},{"$f":"IFERROR(IF(Gerar_Upload!G637<44,REPT(0,44-LEN(Gerar_Upload!G637))&Gerar_Upload!G637,Gerar_Upload!G637),\"erro\")","v":"00000000000000000000000000000000000000000000"}]
[{"$f":"IFERROR(LEFT(Gerar_Upload!A638,120),\"erro\")","v":""},{"$f":"IFERROR(SUBSTITUTE(SUBSTITUTE(SUBSTITUTE(Gerar_Upload!B638,\".\",\"\"),\"-\",\"\"),\"/\",\"\"),\"erro\")","v":""},{"$f":"IFERROR(Gerar_Upload!C638,\"erro\")","v":0},{"$f":"IFERROR(Gerar_Upload!D638,\"erro\")","v":0},{"$f":"IFERROR(DATE(YEAR(Gerar_Upload!E638),MONTH(Gerar_Upload!E638),DAY(Gerar_Upload!E638)),\"erro\")","v":"00:00:00"},{"$f":"IFERROR(Gerar_Upload!F638,\"erro\")","v":0},{"$f":"IFERROR(IF(Gerar_Upload!G638<44,REPT(0,44-LEN(Gerar_Upload!G638))&Gerar_Upload!G638,Gerar_Upload!G638),\"erro\")","v":"00000000000000000000000000000000000000000000"}]
[{"$f":"IFERROR(LEFT(Gerar_Upload!A639,120),\"erro\")","v":""},{"$f":"IFERROR(SUBSTITUTE(SUBSTITUTE(SUBSTITUTE(Gerar_Upload!B639,\".\",\"\"),\"-\",\"\"),\"/\",\"\"),\"erro\")","v":""},{"$f":"IFERROR(Gerar_Upload!C639,\"erro\")","v":0},{"$f":"IFERROR(Gerar_Upload!D639,\"erro\")","v":0},{"$f":"IFERROR(DATE(YEAR(Gerar_Upload!E639),MONTH(Gerar_Upload!E639),DAY(Gerar_Upload!E639)),\"erro\")","v":"00:00:00"},{"$f":"IFERROR(Gerar_Upload!F639,\"erro\")","v":0},{"$f":"IFERROR(IF(Gerar_Upload!G639<44,REPT(0,44-LEN(Gerar_Upload!G639))&Gerar_Upload!G639,Gerar_Upload!G639),\"erro\")","v":"00000000000000000000000000000000000000000000"}]
[{"$f":"IFERROR(LEFT(Gerar_Upload!A640,120),\"erro\")","v":""},{"$f":"IFERROR(SUBSTITUTE(SUBSTITUTE(SUBSTITUTE(Gerar_Upload!B640,\".\",\"\"),\"-\",\"\"),\"/\",\"\"),\"erro\")","v":""},{"$f":"IFERROR(Gerar_Upload!C640,\"erro\")","v":0},{"$f":"IFERROR(Gerar_Upload!D640,\"erro\")","v":0},{"$f":"IFERROR(DATE(YEAR(Gerar_Upload!E640),MONTH(Gerar_Upload!E640),DAY(Gerar_Upload!E640)),\"erro\")","v":"00:00:00"},{"$f":"IFERROR(Gerar_Upload!F640,\"erro\")","v":0},{"$f":"IFERROR(IF(Gerar_Upload!G640<44,REPT(0,44-LEN(Gerar_Upload!G640))&Gerar_Upload!G640,Gerar_Upload!G640),\"erro\")","v":"00000000000000000000000000000000000000000000"}]
[{"$f":"IFERROR(LEFT(Gerar_Upload!A641,120),\"erro\")","v":""},{"$f":"IFERROR(SUBSTITUTE(SUBSTITUTE(SUBSTITUTE(Gerar_Upload!B641,\".\",\"\"),\"-\",\"\"),\"/\",\"\"),\"erro\")","v":""},{"$f":"IFERROR(Gerar_Upload!C641,\"erro\")","v":0},{"$f":"IFERROR(Gerar_Upload!D641,\"erro\")","v":0},{"$f":"IFERROR(DATE(YEAR(Gerar_Upload!E641),MONTH(Gerar_Upload!E641),DAY(Gerar_Upload!E641)),\"erro\")","v":"00:00:00"},{"$f":"IFERROR(Gerar_Upload!F641,\"erro\")","v":0},{"$f":"IFERROR(IF(Gerar_Upload!G641<44,REPT(0,44-LEN(Gerar_Upload!G641))&Gerar_Upload!G641,Gerar_Upload!G641),\"erro\")","v":"00000000000000000000000000000000000000000000"}]
[{"$f":"IFERROR(LEFT(Gerar_Upload!A642,120),\"erro\")","v":""},{"$f":"IFERROR(SUBSTITUTE(SUBSTITUTE(SUBSTITUTE(Gerar_Upload!B642,\".\",\"\"),\"-\",\"\"),\"/\",\"\"),\"erro\")","v":""},{"$f":"IFERROR(Gerar_Upload!C642,\"erro\")","v":0},{"$f":"IFERROR(Gerar_Upload!D642,\"erro\")","v":0},{"$f":"IFERROR(DATE(YEAR(Gerar_Upload!E642),MONTH(Gerar_Upload!E642),DAY(Gerar_Upload!E642)),\"erro\")","v":"00:00:00"},{"$f":"IFERROR(Gerar_Upload!F642,\"erro\")","v":0},{"$f":"IFERROR(IF(Gerar_Upload!G642<44,REPT(0,44-LEN(Gerar_Upload!G642))&Gerar_Upload!G642,Gerar_Upload!G642),\"erro\")","v":"00000000000000000000000000000000000000000000"}]
[{"$f":"IFERROR(LEFT(Gerar_Upload!A643,120),\"erro\")","v":""},{"$f":"IFERROR(SUBSTITUTE(SUBSTITUTE(SUBSTITUTE(Gerar_Upload!B643,\".\",\"\"),\"-\",\"\"),\"/\",\"\"),\"erro\")","v":""},{"$f":"IFERROR(Gerar_Upload!C643,\"erro\")","v":0},{"$f":"IFERROR(Gerar_Upload!D643,\"erro\")","v":0},{"$f":"IFERROR(DATE(YEAR(Gerar_Upload!E643),MONTH(Gerar_Upload!E643),DAY(Gerar_Upload!E643)),\"erro\")","v":"00:00:00"},{"$f":"IFERROR(Gerar_Upload!F643,\"erro\")","v":0},{"$f":"IFERROR(IF(Gerar_Upload!G643<44,REPT(0,44-LEN(Gerar_Upload!G643))&Gerar_Upload!G643,Gerar_Upload!G643),\"erro\")","v":"00000000000000000000000000000000000000000000"}]
[{"$f":"IFERROR(LEFT(Gerar_Upload!A644,120),\"erro\")","v":""},{"$f":"IFERROR(SUBSTITUTE(SUBSTITUTE(SUBSTITUTE(Gerar_Upload!B644,\".\",\"\"),\"-\",\"\"),\"/\",\"\"),\"erro\")","v":""},{"$f":"IFERROR(Gerar_Upload!C644,\"erro\")","v":0},{"$f":"IFERROR(Gerar_Upload!D644,\"erro\")","v":0},{"$f":"IFERROR(DATE(YEAR(Gerar_Upload!E644),MONTH(Gerar_Upload!E644),DAY(Gerar_Upload!E644)),\"erro\")","v":"00:00:00"},{"$f":"IFERROR(Gerar_Upload!F644,\"erro\")","v":0},{"$f":"IFERROR(IF(Gerar_Upload!G644<44,REPT(0,44-LEN(Gerar_Upload!G644))&Gerar_Upload!G644,Gerar_Upload!G644),\"erro\")","v":"00000000000000000000000000000000000000000000"}]
[{"$f":"IFERROR(LEFT(Gerar_Upload!A645,120),\"erro\")","v":""},{"$f":"IFERROR(SUBSTITUTE(SUBSTITUTE(SUBSTITUTE(Gerar_Upload!B645,\".\",\"\"),\"-\",\"\"),\"/\",\"\"),\"erro\")","v":""},{"$f":"IFERROR(Gerar_Upload!C645,\"erro\")","v":0},{"$f":"IFERROR(Gerar_Upload!D645,\"erro\")","v":0},{"$f":"IFERROR(DATE(YEAR(Gerar_Upload!E645),MONTH(Gerar_Upload!E645),DAY(Gerar_Upload!E645)),\"erro\")","v":"00:00:00"},{"$f":"IFERROR(Gerar_Upload!F645,\"erro\")","v":0},{"$f":"IFERROR(IF(Gerar_Upload!G645<44,REPT(0,44-LEN(Gerar_Upload!G645))&Gerar_Upload!G645,Gerar_Upload!G645),\"erro\")","v":"00000000000000000000000000000000000000000000"}]
[{"$f":"IFERROR(LEFT(Gerar_Upload!A646,120),\"erro\")","v":""},{"$f":"IFERROR(SUBSTITUTE(SUBSTITUTE(SUBSTITUTE(Gerar_Upload!B646,\".\",\"\"),\"-\",\"\"),\"/\",\"\"),\"erro\")","v":""},{"$f":"IFERROR(Gerar_Upload!C646,\"erro\")","v":0},{"$f":"IFERROR(Gerar_Upload!D646,\"erro\")","v":0},{"$f":"IFERROR(DATE(YEAR(Gerar_Upload!E646),MONTH(Gerar_Upload!E646),DAY(Gerar_Upload!E646)),\"erro\")","v":"00:00:00"},{"$f":"IFERROR(Gerar_Upload!F646,\"erro\")","v":0},{"$f":"IFERROR(IF(Gerar_Upload!G646<44,REPT(0,44-LEN(Gerar_Upload!G646))&Gerar_Upload!G646,Gerar_Upload!G646),\"erro\")","v":"00000000000000000000000000000000000000000000"}]
[{"$f":"IFERROR(LEFT(Gerar_Upload!A647,120),\"erro\")","v":""},{"$f":"IFERROR(SUBSTITUTE(SUBSTITUTE(SUBSTITUTE(Gerar_Upload!B647,\".\",\"\"),\"-\",\"\"),\"/\",\"\"),\"erro\")","v":""},{"$f":"IFERROR(Gerar_Upload!C647,\"erro\")","v":0},{"$f":"IFERROR(Gerar_Upload!D647,\"erro\")","v":0},{"$f":"IFERROR(DATE(YEAR(Gerar_Upload!E647),MONTH(Gerar_Upload!E647),DAY(Gerar_Upload!E647)),\"erro\")","v":"00:00:00"},{"$f":"IFERROR(Gerar_Upload!F647,\"erro\")","v":0},{"$f":"IFERROR(IF(Gerar_Upload!G647<44,REPT(0,44-LEN(Gerar_Upload!G647))&Gerar_Upload!G647,Gerar_Upload!G647),\"erro\")","v":"00000000000000000000000000000000000000000000"}]
[{"$f":"IFERROR(LEFT(Gerar_Upload!A648,120),\"erro\")","v":""},{"$f":"IFERROR(SUBSTITUTE(SUBSTITUTE(SUBSTITUTE(Gerar_Upload!B648,\".\",\"\"),\"-\",\"\"),\"/\",\"\"),\"erro\")","v":""},{"$f":"IFERROR(Gerar_Upload!C648,\"erro\")","v":0},{"$f":"IFERROR(Gerar_Upload!D648,\"erro\")","v":0},{"$f":"IFERROR(DATE(YEAR(Gerar_Upload!E648),MONTH(Gerar_Upload!E648),DAY(Gerar_Upload!E648)),\"erro\")","v":"00:00:00"},{"$f":"IFERROR(Gerar_Upload!F648,\"erro\")","v":0},{"$f":"IFERROR(IF(Gerar_Upload!G648<44,REPT(0,44-LEN(Gerar_Upload!G648))&Gerar_Upload!G648,Gerar_Upload!G648),\"erro\")","v":"00000000000000000000000000000000000000000000"}]
[{"$f":"IFERROR(LEFT(Gerar_Upload!A649,120),\"erro\")","v":""},{"$f":"IFERROR(SUBSTITUTE(SUBSTITUTE(SUBSTITUTE(Gerar_Upload!B649,\".\",\"\"),\"-\",\"\"),\"/\",\"\"),\"erro\")","v":""},{"$f":"IFERROR(Gerar_Upload!C649,\"erro\")","v":0},{"$f":"IFERROR(Gerar_Upload!D649,\"erro\")","v":0},{"$f":"IFERROR(DATE(YEAR(Gerar_Upload!E649),MONTH(Gerar_Upload!E649),DAY(Gerar_Upload!E649)),\"erro\")","v":"00:00:00"},{"$f":"IFERROR(Gerar_Upload!F649,\"erro\")","v":0},{"$f":"IFERROR(IF(Gerar_Upload!G649<44,REPT(0,44-LEN(Gerar_Upload!G649))&Gerar_Upload!G649,Gerar_Upload!G649),\"erro\")","v":"00000000000000000000000000000000000000000000"}]
[{"$f":"IFERROR(LEFT(Gerar_Upload!A650,120),\"erro\")","v":""},{"$f":"IFERROR(SUBSTITUTE(SUBSTITUTE(SUBSTITUTE(Gerar_Upload!B650,\".\",\"\"),\"-\",\"\"),\"/\",\"\"),\"erro\")","v":""},{"$f":"IFERROR(Gerar_Upload!C650,\"erro\")","v":0},{"$f":"IFERROR(Gerar_Upload!D650,\"erro\")","v":0},{"$f":"IFERROR(DATE(YEAR(Gerar_Upload!E650),MONTH(Gerar_Upload!E650),DAY(Gerar_Upload!E650)),\"erro\")","v":"00:00:00"},{"$f":"IFERROR(Gerar_Upload!F650,\"erro\")","v":0},{"$f":"IFERROR(IF(Gerar_Upload!G650<44,REPT(0,44-LEN(Gerar_Upload!G650))&Gerar_Upload!G650,Gerar_Upload!G650),\"erro\")","v":"00000000000000000000000000000000000000000000"}]
[{"$f":"IFERROR(LEFT(Gerar_Upload!A651,120),\"erro\")","v":""},{"$f":"IFERROR(SUBSTITUTE(SUBSTITUTE(SUBSTITUTE(Gerar_Upload!B651,\".\",\"\"),\"-\",\"\"),\"/\",\"\"),\"erro\")","v":""},{"$f":"IFERROR(Gerar_Upload!C651,\"erro\")","v":0},{"$f":"IFERROR(Gerar_Upload!D651,\"erro\")","v":0},{"$f":"IFERROR(DATE(YEAR(Gerar_Upload!E651),MONTH(Gerar_Upload!E651),DAY(Gerar_Upload!E651)),\"erro\")","v":"00:00:00"},{"$f":"IFERROR(Gerar_Upload!F651,\"erro\")","v":0},{"$f":"IFERROR(IF(Gerar_Upload!G651<44,REPT(0,44-LEN(Gerar_Upload!G651))&Gerar_Upload!G651,Gerar_Upload!G651),\"erro\")","v":"00000000000000000000000000000000000000000000"}]
[{"$f":"IFERROR(LEFT(Gerar_Upload!A652,120),\"erro\")","v":""},{"$f":"IFERROR(SUBSTITUTE(SUBSTITUTE(SUBSTITUTE(Gerar_Upload!B652,\".\",\"\"),\"-\",\"\"),\"/\",\"\"),\"erro\")","v":""},{"$f":"IFERROR(Gerar_Upload!C652,\"erro\")","v":0},{"$f":"IFERROR(Gerar_Upload!D652,\"erro\")","v":0},{"$f":"IFERROR(DATE(YEAR(Gerar_Upload!E652),MONTH(Gerar_Upload!E652),DAY(Gerar_Upload!E652)),\"erro\")","v":"00:00:00"},{"$f":"IFERROR(Gerar_Upload!F652,\"erro\")","v":0},{"$f":"IFERROR(IF(Gerar_Upload!G652<44,REPT(0,44-LEN(Gerar_Upload!G652))&Gerar_Upload!G652,Gerar_Upload!G652),\"erro\")","v":"00000000000000000000000000000000000000000000"}]
[{"$f":"IFERROR(LEFT(Gerar_Upload!A653,120),\"erro\")","v":""},{"$f":"IFERROR(SUBSTITUTE(SUBSTITUTE(SUBSTITUTE(Gerar_Upload!B653,\".\",\"\"),\"-\",\"\"),\"/\",\"\"),\"erro\")","v":""},{"$f":"IFERROR(Gerar_Upload!C653,\"erro\")","v":0},{"$f":"IFERROR(Gerar_Upload!D653,\"erro\")","v":0},{"$f":"IFERROR(DATE(YEAR(Gerar_Upload!E653),MONTH(Gerar_Upload!E653),DAY(Gerar_Upload!E653)),\"erro\")","v":"00:00:00"},{"$f":"IFERROR(Gerar_Upload!F653,\"erro\")","v":0},{"$f":"IFERROR(IF(Gerar_Upload!G653<44,REPT(0,44-LEN(Gerar_Upload!G653))&Gerar_Upload!G653,Gerar_Upload!G653),\"erro\")","v":"00000000000000000000000000000000000000000000"}]
[{"$f":"IFERROR(LEFT(Gerar_Upload!A654,120),\"erro\")","v":""},{"$f":"IFERROR(SUBSTITUTE(SUBSTITUTE(SUBSTITUTE(Gerar_Upload!B654,\".\",\"\"),\"-\",\"\"),\"/\",\"\"),\"erro\")","v":""},{"$f":"IFERROR(Gerar_Upload!C654,\"erro\")","v":0},{"$f":"IFERROR(Gerar_Upload!D654,\"erro\")","v":0},{"$f":"IFERROR(DATE(YEAR(Gerar_Upload!E654),MONTH(Gerar_Upload!E654),DAY(Gerar_Upload!E654)),\"erro\")","v":"00:00:00"},{"$f":"IFERROR(Gerar_Upload!F654,\"erro\")","v":0},{"$f":"IFERROR(IF(Gerar_Upload!G654<44,REPT(0,44-LEN(Gerar_Upload!G654))&Gerar_Upload!G654,Gerar_Upload!G654),\"erro\")","v":"00000000000000000000000000000000000000000000"}]
[{"$f":"IFERROR(LEFT(Gerar_Upload!A655,120),\"erro\")","v":""},{"$f":"IFERROR(SUBSTITUTE(SUBSTITUTE(SUBSTITUTE(Gerar_Upload!B655,\".\",\"\"),\"-\",\"\"),\"/\",\"\"),\"erro\")","v":""},{"$f":"IFERROR(Gerar_Upload!C655,\"erro\")","v":0},{"$f":"IFERROR(Gerar_Upload!D655,\"erro\")","v":0},{"$f":"IFERROR(DATE(YEAR(Gerar_Upload!E655),MONTH(Gerar_Upload!E655),DAY(Gerar_Upload!E655)),\"erro\")","v":"00:00:00"},{"$f":"IFERROR(Gerar_Upload!F655,\"erro\")","v":0},{"$f":"IFERROR(IF(Gerar_Upload!G655<44,REPT(0,44-LEN(Gerar_Upload!G655))&Gerar_Upload!G655,Gerar_Upload!G655),\"erro\")","v":"00000000000000000000000000000000000000000000"}]
[{"$f":"IFERROR(LEFT(Gerar_Upload!A656,120),\"erro\")","v":""},{"$f":"IFERROR(SUBSTITUTE(SUBSTITUTE(SUBSTITUTE(Gerar_Upload!B656,\".\",\"\"),\"-\",\"\"),\"/\",\"\"),\"erro\")","v":""},{"$f":"IFERROR(Gerar_Upload!C656,\"erro\")","v":0},{"$f":"IFERROR(Gerar_Upload!D656,\"erro\")","v":0},{"$f":"IFERROR(DATE(YEAR(Gerar_Upload!E656),MONTH(Gerar_Upload!E656),DAY(Gerar_Upload!E656)),\"erro\")","v":"00:00:00"},{"$f":"IFERROR(Gerar_Upload!F656,\"erro\")","v":0},{"$f":"IFERROR(IF(Gerar_Upload!G656<44,REPT(0,44-LEN(Gerar_Upload!G656))&Gerar_Upload!G656,Gerar_Upload!G656),\"erro\")","v":"00000000000000000000000000000000000000000000"}]
[{"$f":"IFERROR(LEFT(Gerar_Upload!A657,120),\"erro\")","v":""},{"$f":"IFERROR(SUBSTITUTE(SUBSTITUTE(SUBSTITUTE(Gerar_Upload!B657,\".\",\"\"),\"-\",\"\"),\"/\",\"\"),\"erro\")","v":""},{"$f":"IFERROR(Gerar_Upload!C657,\"erro\")","v":0},{"$f":"IFERROR(Gerar_Upload!D657,\"erro\")","v":0},{"$f":"IFERROR(DATE(YEAR(Gerar_Upload!E657),MONTH(Gerar_Upload!E657),DAY(Gerar_Upload!E657)),\"erro\")","v":"00:00:00"},{"$f":"IFERROR(Gerar_Upload!F657,\"erro\")","v":0},{"$f":"IFERROR(IF(Gerar_Upload!G657<44,REPT(0,44-LEN(Gerar_Upload!G657))&Gerar_Upload!G657,Gerar_Upload!G657),\"erro\")","v":"00000000000000000000000000000000000000000000"}]
[{"$f":"IFERROR(LEFT(Gerar_Upload!A658,120),\"erro\")","v":""},{"$f":"IFERROR(SUBSTITUTE(SUBSTITUTE(SUBSTITUTE(Gerar_Upload!B658,\".\",\"\"),\"-\",\"\"),\"/\",\"\"),\"erro\")","v":""},{"$f":"IFERROR(Gerar_Upload!C658,\"erro\")","v":0},{"$f":"IFERROR(Gerar_Upload!D658,\"erro\")","v":0},{"$f":"IFERROR(DATE(YEAR(Gerar_Upload!E658),MONTH(Gerar_Upload!E658),DAY(Gerar_Upload!E658)),\"erro\")","v":"00:00:00"},{"$f":"IFERROR(Gerar_Upload!F658,\"erro\")","v":0},{"$f":"IFERROR(IF(Gerar_Upload!G658<44,REPT(0,44-LEN(Gerar_Upload!G658))&Gerar_Upload!G658,Gerar_Upload!G658),\"erro\")","v":"00000000000000000000000000000000000000000000"}]
[{"$f":"IFERROR(LEFT(Gerar_Upload!A659,120),\"erro\")","v":""},{"$f":"IFERROR(SUBSTITUTE(SUBSTITUTE(SUBSTITUTE(Gerar_Upload!B659,\".\",\"\"),\"-\",\"\"),\"/\",\"\"),\"erro\")","v":""},{"$f":"IFERROR(Gerar_Upload!C659,\"erro\")","v":0},{"$f":"IFERROR(Gerar_Upload!D659,\"erro\")","v":0},{"$f":"IFERROR(DATE(YEAR(Gerar_Upload!E659),MONTH(Gerar_Upload!E659),DAY(Gerar_Upload!E659)),\"erro\")","v":"00:00:00"},{"$f":"IFERROR(Gerar_Upload!F659,\"erro\")","v":0},{"$f":"IFERROR(IF(Gerar_Upload!G659<44,REPT(0,44-LEN(Gerar_Upload!G659))&Gerar_Upload!G659,Gerar_Upload!G659),\"erro\")","v":"00000000000000000000000000000000000000000000"}]
[{"$f":"IFERROR(LEFT(Gerar_Upload!A660,120),\"erro\")","v":""},{"$f":"IFERROR(SUBSTITUTE(SUBSTITUTE(SUBSTITUTE(Gerar_Upload!B660,\".\",\"\"),\"-\",\"\"),\"/\",\"\"),\"erro\")","v":""},{"$f":"IFERROR(Gerar_Upload!C660,\"erro\")","v":0},{"$f":"IFERROR(Gerar_Upload!D660,\"erro\")","v":0},{"$f":"IFERROR(DATE(YEAR(Gerar_Upload!E660),MONTH(Gerar_Upload!E660),DAY(Gerar_Upload!E660)),\"erro\")","v":"00:00:00"},{"$f":"IFERROR(Gerar_Upload!F660,\"erro\")","v":0},{"$f":"IFERROR(IF(Gerar_Upload!G660<44,REPT(0,44-LEN(Gerar_Upload!G660))&Gerar_Upload!G660,Gerar_Upload!G660),\"erro\")","v":"00000000000000000000000000000000000000000000"}]
[{"$f":"IFERROR(LEFT(Gerar_Upload!A661,120),\"erro\")","v":""},{"$f":"IFERROR(SUBSTITUTE(SUBSTITUTE(SUBSTITUTE(Gerar_Upload!B661,\".\",\"\"),\"-\",\"\"),\"/\",\"\"),\"erro\")","v":""},{"$f":"IFERROR(Gerar_Upload!C661,\"erro\")","v":0},{"$f":"IFERROR(Gerar_Upload!D661,\"erro\")","v":0},{"$f":"IFERROR(DATE(YEAR(Gerar_Upload!E661),MONTH(Gerar_Upload!E661),DAY(Gerar_Upload!E661)),\"erro\")","v":"00:00:00"},{"$f":"IFERROR(Gerar_Upload!F661,\"erro\")","v":0},{"$f":"IFERROR(IF(Gerar_Upload!G661<44,REPT(0,44-LEN(Gerar_Upload!G661))&Gerar_Upload!G661,Gerar_Upload!G661),\"erro\")","v":"00000000000000000000000000000000000000000000"}]
[{"$f":"IFERROR(LEFT(Gerar_Upload!A662,120),\"erro\")","v":""},{"$f":"IFERROR(SUBSTITUTE(SUBSTITUTE(SUBSTITUTE(Gerar_Upload!B662,\".\",\"\"),\"-\",\"\"),\"/\",\"\"),\"erro\")","v":""},{"$f":"IFERROR(Gerar_Upload!C662,\"erro\")","v":0},{"$f":"IFERROR(Gerar_Upload!D662,\"erro\")","v":0},{"$f":"IFERROR(DATE(YEAR(Gerar_Upload!E662),MONTH(Gerar_Upload!E662),DAY(Gerar_Upload!E662)),\"erro\")","v":"00:00:00"},{"$f":"IFERROR(Gerar_Upload!F662,\"erro\")","v":0},{"$f":"IFERROR(IF(Gerar_Upload!G662<44,REPT(0,44-LEN(Gerar_Upload!G662))&Gerar_Upload!G662,Gerar_Upload!G662),\"erro\")","v":"00000000000000000000000000000000000000000000"}]
[{"$f":"IFERROR(LEFT(Gerar_Upload!A663,120),\"erro\")","v":""},{"$f":"IFERROR(SUBSTITUTE(SUBSTITUTE(SUBSTITUTE(Gerar_Upload!B663,\".\",\"\"),\"-\",\"\"),\"/\",\"\"),\"erro\")","v":""},{"$f":"IFERROR(Gerar_Upload!C663,\"erro\")","v":0},{"$f":"IFERROR(Gerar_Upload!D663,\"erro\")","v":0},{"$f":"IFERROR(DATE(YEAR(Gerar_Upload!E663),MONTH(Gerar_Upload!E663),DAY(Gerar_Upload!E663)),\"erro\")","v":"00:00:00"},{"$f":"IFERROR(Gerar_Upload!F663,\"erro\")","v":0},{"$f":"IFERROR(IF(Gerar_Upload!G663<44,REPT(0,44-LEN(Gerar_Upload!G663))&Gerar_Upload!G663,Gerar_Upload!G663),\"erro\")","v":"00000000000000000000000000000000000000000000"}]
[{"$f":"IFERROR(LEFT(Gerar_Upload!A664,120),\"erro\")","v":""},{"$f":"IFERROR(SUBSTITUTE(SUBSTITUTE(SUBSTITUTE(Gerar_Upload!B664,\".\",\"\"),\"-\",\"\"),\"/\",\"\"),\"erro\")","v":""},{"$f":"IFERROR(Gerar_Upload!C664,\"erro\")","v":0},{"$f":"IFERROR(Gerar_Upload!D664,\"erro\")","v":0},{"$f":"IFERROR(DATE(YEAR(Gerar_Upload!E664),MONTH(Gerar_Upload!E664),DAY(Gerar_Upload!E664)),\"erro\")","v":"00:00:00"},{"$f":"IFERROR(Gerar_Upload!F664,\"erro\")","v":0},{"$f":"IFERROR(IF(Gerar_Upload!G664<44,REPT(0,44-LEN(Gerar_Upload!G664))&Gerar_Upload!G664,Gerar_Upload!G664),\"erro\")","v":"00000000000000000000000000000000000000000000"}]
[{"$f":"IFERROR(LEFT(Gerar_Upload!A665,120),\"erro\")","v":""},{"$f":"IFERROR(SUBSTITUTE(SUBSTITUTE(SUBSTITUTE(Gerar_Upload!B665,\".\",\"\"),\"-\",\"\"),\"/\",\"\"),\"erro\")","v":""},{"$f":"IFERROR(Gerar_Upload!C665,\"erro\")","v":0},{"$f":"IFERROR(Gerar_Upload!D665,\"erro\")","v":0},{"$f":"IFERROR(DATE(YEAR(Gerar_Upload!E665),MONTH(Gerar_Upload!E665),DAY(Gerar_Upload!E665)),\"erro\")","v":"00:00:00"},{"$f":"IFERROR(Gerar_Upload!F665,\"erro\")","v":0},{"$f":"IFERROR(IF(Gerar_Upload!G665<44,REPT(0,44-LEN(Gerar_Upload!G665))&Gerar_Upload!G665,Gerar_Upload!G665),\"erro\")","v":"00000000000000000000000000000000000000000000"}]
[{"$f":"IFERROR(LEFT(Gerar_Upload!A666,120),\"erro\")","v":""},{"$f":"IFERROR(SUBSTITUTE(SUBSTITUTE(SUBSTITUTE(Gerar_Upload!B666,\".\",\"\"),\"-\",\"\"),\"/\",\"\"),\"erro\")","v":""},{"$f":"IFERROR(Gerar_Upload!C666,\"erro\")","v":0},{"$f":"IFERROR(Gerar_Upload!D666,\"erro\")","v":0},{"$f":"IFERROR(DATE(YEAR(Gerar_Upload!E666),MONTH(Gerar_Upload!E666),DAY(Gerar_Upload!E666)),\"erro\")","v":"00:00:00"},{"$f":"IFERROR(Gerar_Upload!F666,\"erro\")","v":0},{"$f":"IFERROR(IF(Gerar_Upload!G666<44,REPT(0,44-LEN(Gerar_Upload!G666))&Gerar_Upload!G666,Gerar_Upload!G666),\"erro\")","v":"00000000000000000000000000000000000000000000"}]
[{"$f":"IFERROR(LEFT(Gerar_Upload!A667,120),\"erro\")","v":""},{"$f":"IFERROR(SUBSTITUTE(SUBSTITUTE(SUBSTITUTE(Gerar_Upload!B667,\".\",\"\"),\"-\",\"\"),\"/\",\"\"),\"erro\")","v":""},{"$f":"IFERROR(Gerar_Upload!C667,\"erro\")","v":0},{"$f":"IFERROR(Gerar_Upload!D667,\"erro\")","v":0},{"$f":"IFERROR(DATE(YEAR(Gerar_Upload!E667),MONTH(Gerar_Upload!E667),DAY(Gerar_Upload!E667)),\"erro\")","v":"00:00:00"},{"$f":"IFERROR(Gerar_Upload!F667,\"erro\")","v":0},{"$f":"IFERROR(IF(Gerar_Upload!G667<44,REPT(0,44-LEN(Gerar_Upload!G667))&Gerar_Upload!G667,Gerar_Upload!G667),\"erro\")","v":"00000000000000000000000000000000000000000000"}]
[{"$f":"IFERROR(LEFT(Gerar_Upload!A668,120),\"erro\")","v":""},{"$f":"IFERROR(SUBSTITUTE(SUBSTITUTE(SUBSTITUTE(Gerar_Upload!B668,\".\",\"\"),\"-\",\"\"),\"/\",\"\"),\"erro\")","v":""},{"$f":"IFERROR(Gerar_Upload!C668,\"erro\")","v":0},{"$f":"IFERROR(Gerar_Upload!D668,\"erro\")","v":0},{"$f":"IFERROR(DATE(YEAR(Gerar_Upload!E668),MONTH(Gerar_Upload!E668),DAY(Gerar_Upload!E668)),\"erro\")","v":"00:00:00"},{"$f":"IFERROR(Gerar_Upload!F668,\"erro\")","v":0},{"$f":"IFERROR(IF(Gerar_Upload!G668<44,REPT(0,44-LEN(Gerar_Upload!G668))&Gerar_Upload!G668,Gerar_Upload!G668),\"erro\")","v":"00000000000000000000000000000000000000000000"}]
[{"$f":"IFERROR(LEFT(Gerar_Upload!A669,120),\"erro\")","v":""},{"$f":"IFERROR(SUBSTITUTE(SUBSTITUTE(SUBSTITUTE(Gerar_Upload!B669,\".\",\"\"),\"-\",\"\"),\"/\",\"\"),\"erro\")","v":""},{"$f":"IFERROR(Gerar_Upload!C669,\"erro\")","v":0},{"$f":"IFERROR(Gerar_Upload!D669,\"erro\")","v":0},{"$f":"IFERROR(DATE(YEAR(Gerar_Upload!E669),MONTH(Gerar_Upload!E669),DAY(Gerar_Upload!E669)),\"erro\")","v":"00:00:00"},{"$f":"IFERROR(Gerar_Upload!F669,\"erro\")","v":0},{"$f":"IFERROR(IF(Gerar_Upload!G669<44,REPT(0,44-LEN(Gerar_Upload!G669))&Gerar_Upload!G669,Gerar_Upload!G669),\"erro\")","v":"00000000000000000000000000000000000000000000"}]
[{"$f":"IFERROR(LEFT(Gerar_Upload!A670,120),\"erro\")","v":""},{"$f":"IFERROR(SUBSTITUTE(SUBSTITUTE(SUBSTITUTE(Gerar_Upload!B670,\".\",\"\"),\"-\",\"\"),\"/\",\"\"),\"erro\")","v":""},{"$f":"IFERROR(Gerar_Upload!C670,\"erro\")","v":0},{"$f":"IFERROR(Gerar_Upload!D670,\"erro\")","v":0},{"$f":"IFERROR(DATE(YEAR(Gerar_Upload!E670),MONTH(Gerar_Upload!E670),DAY(Gerar_Upload!E670)),\"erro\")","v":"00:00:00"},{"$f":"IFERROR(Gerar_Upload!F670,\"erro\")","v":0},{"$f":"IFERROR(IF(Gerar_Upload!G670<44,REPT(0,44-LEN(Gerar_Upload!G670))&Gerar_Upload!G670,Gerar_Upload!G670),\"erro\")","v":"00000000000000000000000000000000000000000000"}]
[{"$f":"IFERROR(LEFT(Gerar_Upload!A671,120),\"erro\")","v":""},{"$f":"IFERROR(SUBSTITUTE(SUBSTITUTE(SUBSTITUTE(Gerar_Upload!B671,\".\",\"\"),\"-\",\"\"),\"/\",\"\"),\"erro\")","v":""},{"$f":"IFERROR(Gerar_Upload!C671,\"erro\")","v":0},{"$f":"IFERROR(Gerar_Upload!D671,\"erro\")","v":0},{"$f":"IFERROR(DATE(YEAR(Gerar_Upload!E671),MONTH(Gerar_Upload!E671),DAY(Gerar_Upload!E671)),\"erro\")","v":"00:00:00"},{"$f":"IFERROR(Gerar_Upload!F671,\"erro\")","v":0},{"$f":"IFERROR(IF(Gerar_Upload!G671<44,REPT(0,44-LEN(Gerar_Upload!G671))&Gerar_Upload!G671,Gerar_Upload!G671),\"erro\")","v":"00000000000000000000000000000000000000000000"}]
[{"$f":"IFERROR(LEFT(Gerar_Upload!A672,120),\"erro\")","v":""},{"$f":"IFERROR(SUBSTITUTE(SUBSTITUTE(SUBSTITUTE(Gerar_Upload!B672,\".\",\"\"),\"-\",\"\"),\"/\",\"\"),\"erro\")","v":""},{"$f":"IFERROR(Gerar_Upload!C672,\"erro\")","v":0},{"$f":"IFERROR(Gerar_Upload!D672,\"erro\")","v":0},{"$f":"IFERROR(DATE(YEAR(Gerar_Upload!E672),MONTH(Gerar_Upload!E672),DAY(Gerar_Upload!E672)),\"erro\")","v":"00:00:00"},{"$f":"IFERROR(Gerar_Upload!F672,\"erro\")","v":0},{"$f":"IFERROR(IF(Gerar_Upload!G672<44,REPT(0,44-LEN(Gerar_Upload!G672))&Gerar_Upload!G672,Gerar_Upload!G672),\"erro\")","v":"00000000000000000000000000000000000000000000"}]
[{"$f":"IFERROR(LEFT(Gerar_Upload!A673,120),\"erro\")","v":""},{"$f":"IFERROR(SUBSTITUTE(SUBSTITUTE(SUBSTITUTE(Gerar_Upload!B673,\".\",\"\"),\"-\",\"\"),\"/\",\"\"),\"erro\")","v":""},{"$f":"IFERROR(Gerar_Upload!C673,\"erro\")","v":0},{"$f":"IFERROR(Gerar_Upload!D673,\"erro\")","v":0},{"$f":"IFERROR(DATE(YEAR(Gerar_Upload!E673),MONTH(Gerar_Upload!E673),DAY(Gerar_Upload!E673)),\"erro\")","v":"00:00:00"},{"$f":"IFERROR(Gerar_Upload!F673,\"erro\")","v":0},{"$f":"IFERROR(IF(Gerar_Upload!G673<44,REPT(0,44-LEN(Gerar_Upload!G673))&Gerar_Upload!G673,Gerar_Upload!G673),\"erro\")","v":"00000000000000000000000000000000000000000000"}]
[{"$f":"IFERROR(LEFT(Gerar_Upload!A674,120),\"erro\")","v":""},{"$f":"IFERROR(SUBSTITUTE(SUBSTITUTE(SUBSTITUTE(Gerar_Upload!B674,\".\",\"\"),\"-\",\"\"),\"/\",\"\"),\"erro\")","v":""},{"$f":"IFERROR(Gerar_Upload!C674,\"erro\")","v":0},{"$f":"IFERROR(Gerar_Upload!D674,\"erro\")","v":0},{"$f":"IFERROR(DATE(YEAR(Gerar_Upload!E674),MONTH(Gerar_Upload!E674),DAY(Gerar_Upload!E674)),\"erro\")","v":"00:00:00"},{"$f":"IFERROR(Gerar_Upload!F674,\"erro\")","v":0},{"$f":"IFERROR(IF(Gerar_Upload!G674<44,REPT(0,44-LEN(Gerar_Upload!G674))&Gerar_Upload!G674,Gerar_Upload!G674),\"erro\")","v":"00000000000000000000000000000000000000000000"}]
[{"$f":"IFERROR(LEFT(Gerar_Upload!A675,120),\"erro\")","v":""},{"$f":"IFERROR(SUBSTITUTE(SUBSTITUTE(SUBSTITUTE(Gerar_Upload!B675,\".\",\"\"),\"-\",\"\"),\"/\",\"\"),\"erro\")","v":""},{"$f":"IFERROR(Gerar_Upload!C675,\"erro\")","v":0},{"$f":"IFERROR(Gerar_Upload!D675,\"erro\")","v":0},{"$f":"IFERROR(DATE(YEAR(Gerar_Upload!E675),MONTH(Gerar_Upload!E675),DAY(Gerar_Upload!E675)),\"erro\")","v":"00:00:00"},{"$f":"IFERROR(Gerar_Upload!F675,\"erro\")","v":0},{"$f":"IFERROR(IF(Gerar_Upload!G675<44,REPT(0,44-LEN(Gerar_Upload!G675))&Gerar_Upload!G675,Gerar_Upload!G675),\"erro\")","v":"00000000000000000000000000000000000000000000"}]
[{"$f":"IFERROR(LEFT(Gerar_Upload!A676,120),\"erro\")","v":""},{"$f":"IFERROR(SUBSTITUTE(SUBSTITUTE(SUBSTITUTE(Gerar_Upload!B676,\".\",\"\"),\"-\",\"\"),\"/\",\"\"),\"erro\")","v":""},{"$f":"IFERROR(Gerar_Upload!C676,\"erro\")","v":0},{"$f":"IFERROR(Gerar_Upload!D676,\"erro\")","v":0},{"$f":"IFERROR(DATE(YEAR(Gerar_Upload!E676),MONTH(Gerar_Upload!E676),DAY(Gerar_Upload!E676)),\"erro\")","v":"00:00:00"},{"$f":"IFERROR(Gerar_Upload!F676,\"erro\")","v":0},{"$f":"IFERROR(IF(Gerar_Upload!G676<44,REPT(0,44-LEN(Gerar_Upload!G676))&Gerar_Upload!G676,Gerar_Upload!G676),\"erro\")","v":"00000000000000000000000000000000000000000000"}]
[{"$f":"IFERROR(LEFT(Gerar_Upload!A677,120),\"erro\")","v":""},{"$f":"IFERROR(SUBSTITUTE(SUBSTITUTE(SUBSTITUTE(Gerar_Upload!B677,\".\",\"\"),\"-\",\"\"),\"/\",\"\"),\"erro\")","v":""},{"$f":"IFERROR(Gerar_Upload!C677,\"erro\")","v":0},{"$f":"IFERROR(Gerar_Upload!D677,\"erro\")","v":0},{"$f":"IFERROR(DATE(YEAR(Gerar_Upload!E677),MONTH(Gerar_Upload!E677),DAY(Gerar_Upload!E677)),\"erro\")","v":"00:00:00"},{"$f":"IFERROR(Gerar_Upload!F677,\"erro\")","v":0},{"$f":"IFERROR(IF(Gerar_Upload!G677<44,REPT(0,44-LEN(Gerar_Upload!G677))&Gerar_Upload!G677,Gerar_Upload!G677),\"erro\")","v":"00000000000000000000000000000000000000000000"}]
[{"$f":"IFERROR(LEFT(Gerar_Upload!A678,120),\"erro\")","v":""},{"$f":"IFERROR(SUBSTITUTE(SUBSTITUTE(SUBSTITUTE(Gerar_Upload!B678,\".\",\"\"),\"-\",\"\"),\"/\",\"\"),\"erro\")","v":""},{"$f":"IFERROR(Gerar_Upload!C678,\"erro\")","v":0},{"$f":"IFERROR(Gerar_Upload!D678,\"erro\")","v":0},{"$f":"IFERROR(DATE(YEAR(Gerar_Upload!E678),MONTH(Gerar_Upload!E678),DAY(Gerar_Upload!E678)),\"erro\")","v":"00:00:00"},{"$f":"IFERROR(Gerar_Upload!F678,\"erro\")","v":0},{"$f":"IFERROR(IF(Gerar_Upload!G678<44,REPT(0,44-LEN(Gerar_Upload!G678))&Gerar_Upload!G678,Gerar_Upload!G678),\"erro\")","v":"00000000000000000000000000000000000000000000"}]
[{"$f":"IFERROR(LEFT(Gerar_Upload!A679,120),\"erro\")","v":""},{"$f":"IFERROR(SUBSTITUTE(SUBSTITUTE(SUBSTITUTE(Gerar_Upload!B679,\".\",\"\"),\"-\",\"\"),\"/\",\"\"),\"erro\")","v":""},{"$f":"IFERROR(Gerar_Upload!C679,\"erro\")","v":0},{"$f":"IFERROR(Gerar_Upload!D679,\"erro\")","v":0},{"$f":"IFERROR(DATE(YEAR(Gerar_Upload!E679),MONTH(Gerar_Upload!E679),DAY(Gerar_Upload!E679)),\"erro\")","v":"00:00:00"},{"$f":"IFERROR(Gerar_Upload!F679,\"erro\")","v":0},{"$f":"IFERROR(IF(Gerar_Upload!G679<44,REPT(0,44-LEN(Gerar_Upload!G679))&Gerar_Upload!G679,Gerar_Upload!G679),\"erro\")","v":"00000000000000000000000000000000000000000000"}]
[{"$f":"IFERROR(LEFT(Gerar_Upload!A680,120),\"erro\")","v":""},{"$f":"IFERROR(SUBSTITUTE(SUBSTITUTE(SUBSTITUTE(Gerar_Upload!B680,\".\",\"\"),\"-\",\"\"),\"/\",\"\"),\"erro\")","v":""},{"$f":"IFERROR(Gerar_Upload!C680,\"erro\")","v":0},{"$f":"IFERROR(Gerar_Upload!D680,\"erro\")","v":0},{"$f":"IFERROR(DATE(YEAR(Gerar_Upload!E680),MONTH(Gerar_Upload!E680),DAY(Gerar_Upload!E680)),\"erro\")","v":"00:00:00"},{"$f":"IFERROR(Gerar_Upload!F680,\"erro\")","v":0},{"$f":"IFERROR(IF(Gerar_Upload!G680<44,REPT(0,44-LEN(Gerar_Upload!G680))&Gerar_Upload!G680,Gerar_Upload!G680),\"erro\")","v":"00000000000000000000000000000000000000000000"}]
[{"$f":"IFERROR(LEFT(Gerar_Upload!A681,120),\"erro\")","v":""},{"$f":"IFERROR(SUBSTITUTE(SUBSTITUTE(SUBSTITUTE(Gerar_Upload!B681,\".\",\"\"),\"-\",\"\"),\"/\",\"\"),\"erro\")","v":""},{"$f":"IFERROR(Gerar_Upload!C681,\"erro\")","v":0},{"$f":"IFERROR(Gerar_Upload!D681,\"erro\")","v":0},{"$f":"IFERROR(DATE(YEAR(Gerar_Upload!E681),MONTH(Gerar_Upload!E681),DAY(Gerar_Upload!E681)),\"erro\")","v":"00:00:00"},{"$f":"IFERROR(Gerar_Upload!F681,\"erro\")","v":0},{"$f":"IFERROR(IF(Gerar_Upload!G681<44,REPT(0,44-LEN(Gerar_Upload!G681))&Gerar_Upload!G681,Gerar_Upload!G681),\"erro\")","v":"00000000000000000000000000000000000000000000"}]
[{"$f":"IFERROR(LEFT(Gerar_Upload!A682,120),\"erro\")","v":""},{"$f":"IFERROR(SUBSTITUTE(SUBSTITUTE(SUBSTITUTE(Gerar_Upload!B682,\".\",\"\"),\"-\",\"\"),\"/\",\"\"),\"erro\")","v":""},{"$f":"IFERROR(Gerar_Upload!C682,\"erro\")","v":0},{"$f":"IFERROR(Gerar_Upload!D682,\"erro\")","v":0},{"$f":"IFERROR(DATE(YEAR(Gerar_Upload!E682),MONTH(Gerar_Upload!E682),DAY(Gerar_Upload!E682)),\"erro\")","v":"00:00:00"},{"$f":"IFERROR(Gerar_Upload!F682,\"erro\")","v":0},{"$f":"IFERROR(IF(Gerar_Upload!G682<44,REPT(0,44-LEN(Gerar_Upload!G682))&Gerar_Upload!G682,Gerar_Upload!G682),\"erro\")","v":"00000000000000000000000000000000000000000000"}]
[{"$f":"IFERROR(LEFT(Gerar_Upload!A683,120),\"erro\")","v":""},{"$f":"IFERROR(SUBSTITUTE(SUBSTITUTE(SUBSTITUTE(Gerar_Upload!B683,\".\",\"\"),\"-\",\"\"),\"/\",\"\"),\"erro\")","v":""},{"$f":"IFERROR(Gerar_Upload!C683,\"erro\")","v":0},{"$f":"IFERROR(Gerar_Upload!D683,\"erro\")","v":0},{"$f":"IFERROR(DATE(YEAR(Gerar_Upload!E683),MONTH(Gerar_Upload!E683),DAY(Gerar_Upload!E683)),\"erro\")","v":"00:00:00"},{"$f":"IFERROR(Gerar_Upload!F683,\"erro\")","v":0},{"$f":"IFERROR(IF(Gerar_Upload!G683<44,REPT(0,44-LEN(Gerar_Upload!G683))&Gerar_Upload!G683,Gerar_Upload!G683),\"erro\")","v":"00000000000000000000000000000000000000000000"}]
[{"$f":"IFERROR(LEFT(Gerar_Upload!A684,120),\"erro\")","v":""},{"$f":"IFERROR(SUBSTITUTE(SUBSTITUTE(SUBSTITUTE(Gerar_Upload!B684,\".\",\"\"),\"-\",\"\"),\"/\",\"\"),\"erro\")","v":""},{"$f":"IFERROR(Gerar_Upload!C684,\"erro\")","v":0},{"$f":"IFERROR(Gerar_Upload!D684,\"erro\")","v":0},{"$f":"IFERROR(DATE(YEAR(Gerar_Upload!E684),MONTH(Gerar_Upload!E684),DAY(Gerar_Upload!E684)),\"erro\")","v":"00:00:00"},{"$f":"IFERROR(Gerar_Upload!F684,\"erro\")","v":0},{"$f":"IFERROR(IF(Gerar_Upload!G684<44,REPT(0,44-LEN(Gerar_Upload!G684))&Gerar_Upload!G684,Gerar_Upload!G684),\"erro\")","v":"00000000000000000000000000000000000000000000"}]
[{"$f":"IFERROR(LEFT(Gerar_Upload!A685,120),\"erro\")","v":""},{"$f":"IFERROR(SUBSTITUTE(SUBSTITUTE(SUBSTITUTE(Gerar_Upload!B685,\".\",\"\"),\"-\",\"\"),\"/\",\"\"),\"erro\")","v":""},{"$f":"IFERROR(Gerar_Upload!C685,\"erro\")","v":0},{"$f":"IFERROR(Gerar_Upload!D685,\"erro\")","v":0},{"$f":"IFERROR(DATE(YEAR(Gerar_Upload!E685),MONTH(Gerar_Upload!E685),DAY(Gerar_Upload!E685)),\"erro\")","v":"00:00:00"},{"$f":"IFERROR(Gerar_Upload!F685,\"erro\")","v":0},{"$f":"IFERROR(IF(Gerar_Upload!G685<44,REPT(0,44-LEN(Gerar_Upload!G685))&Gerar_Upload!G685,Gerar_Upload!G685),\"erro\")","v":"00000000000000000000000000000000000000000000"}]
[{"$f":"IFERROR(LEFT(Gerar_Upload!A686,120),\"erro\")","v":""},{"$f":"IFERROR(SUBSTITUTE(SUBSTITUTE(SUBSTITUTE(Gerar_Upload!B686,\".\",\"\"),\"-\",\"\"),\"/\",\"\"),\"erro\")","v":""},{"$f":"IFERROR(Gerar_Upload!C686,\"erro\")","v":0},{"$f":"IFERROR(Gerar_Upload!D686,\"erro\")","v":0},{"$f":"IFERROR(DATE(YEAR(Gerar_Upload!E686),MONTH(Gerar_Upload!E686),DAY(Gerar_Upload!E686)),\"erro\")","v":"00:00:00"},{"$f":"IFERROR(Gerar_Upload!F686,\"erro\")","v":0},{"$f":"IFERROR(IF(Gerar_Upload!G686<44,REPT(0,44-LEN(Gerar_Upload!G686))&Gerar_Upload!G686,Gerar_Upload!G686),\"erro\")","v":"00000000000000000000000000000000000000000000"}]
[{"$f":"IFERROR(LEFT(Gerar_Upload!A687,120),\"erro\")","v":""},{"$f":"IFERROR(SUBSTITUTE(SUBSTITUTE(SUBSTITUTE(Gerar_Upload!B687,\".\",\"\"),\"-\",\"\"),\"/\",\"\"),\"erro\")","v":""},{"$f":"IFERROR(Gerar_Upload!C687,\"erro\")","v":0},{"$f":"IFERROR(Gerar_Upload!D687,\"erro\")","v":0},{"$f":"IFERROR(DATE(YEAR(Gerar_Upload!E687),MONTH(Gerar_Upload!E687),DAY(Gerar_Upload!E687)),\"erro\")","v":"00:00:00"},{"$f":"IFERROR(Gerar_Upload!F687,\"erro\")","v":0},{"$f":"IFERROR(IF(Gerar_Upload!G687<44,REPT(0,44-LEN(Gerar_Upload!G687))&Gerar_Upload!G687,Gerar_Upload!G687),\"erro\")","v":"00000000000000000000000000000000000000000000"}]
[{"$f":"IFERROR(LEFT(Gerar_Upload!A688,120),\"erro\")","v":""},{"$f":"IFERROR(SUBSTITUTE(SUBSTITUTE(SUBSTITUTE(Gerar_Upload!B688,\".\",\"\"),\"-\",\"\"),\"/\",\"\"),\"erro\")","v":""},{"$f":"IFERROR(Gerar_Upload!C688,\"erro\")","v":0},{"$f":"IFERROR(Gerar_Upload!D688,\"erro\")","v":0},{"$f":"IFERROR(DATE(YEAR(Gerar_Upload!E688),MONTH(Gerar_Upload!E688),DAY(Gerar_Upload!E688)),\"erro\")","v":"00:00:00"},{"$f":"IFERROR(Gerar_Upload!F688,\"erro\")","v":0},{"$f":"IFERROR(IF(Gerar_Upload!G688<44,REPT(0,44-LEN(Gerar_Upload!G688))&Gerar_Upload!G688,Gerar_Upload!G688),\"erro\")","v":"00000000000000000000000000000000000000000000"}]
[{"$f":"IFERROR(LEFT(Gerar_Upload!A689,120),\"erro\")","v":""},{"$f":"IFERROR(SUBSTITUTE(SUBSTITUTE(SUBSTITUTE(Gerar_Upload!B689,\".\",\"\"),\"-\",\"\"),\"/\",\"\"),\"erro\")","v":""},{"$f":"IFERROR(Gerar_Upload!C689,\"erro\")","v":0},{"$f":"IFERROR(Gerar_Upload!D689,\"erro\")","v":0},{"$f":"IFERROR(DATE(YEAR(Gerar_Upload!E689),MONTH(Gerar_Upload!E689),DAY(Gerar_Upload!E689)),\"erro\")","v":"00:00:00"},{"$f":"IFERROR(Gerar_Upload!F689,\"erro\")","v":0},{"$f":"IFERROR(IF(Gerar_Upload!G689<44,REPT(0,44-LEN(Gerar_Upload!G689))&Gerar_Upload!G689,Gerar_Upload!G689),\"erro\")","v":"00000000000000000000000000000000000000000000"}]
[{"$f":"IFERROR(LEFT(Gerar_Upload!A690,120),\"erro\")","v":""},{"$f":"IFERROR(SUBSTITUTE(SUBSTITUTE(SUBSTITUTE(Gerar_Upload!B690,\".\",\"\"),\"-\",\"\"),\"/\",\"\"),\"erro\")","v":""},{"$f":"IFERROR(Gerar_Upload!C690,\"erro\")","v":0},{"$f":"IFERROR(Gerar_Upload!D690,\"erro\")","v":0},{"$f":"IFERROR(DATE(YEAR(Gerar_Upload!E690),MONTH(Gerar_Upload!E690),DAY(Gerar_Upload!E690)),\"erro\")","v":"00:00:00"},{"$f":"IFERROR(Gerar_Upload!F690,\"erro\")","v":0},{"$f":"IFERROR(IF(Gerar_Upload!G690<44,REPT(0,44-LEN(Gerar_Upload!G690))&Gerar_Upload!G690,Gerar_Upload!G690),\"erro\")","v":"00000000000000000000000000000000000000000000"}]
[{"$f":"IFERROR(LEFT(Gerar_Upload!A691,120),\"erro\")","v":""},{"$f":"IFERROR(SUBSTITUTE(SUBSTITUTE(SUBSTITUTE(Gerar_Upload!B691,\".\",\"\"),\"-\",\"\"),\"/\",\"\"),\"erro\")","v":""},{"$f":"IFERROR(Gerar_Upload!C691,\"erro\")","v":0},{"$f":"IFERROR(Gerar_Upload!D691,\"erro\")","v":0},{"$f":"IFERROR(DATE(YEAR(Gerar_Upload!E691),MONTH(Gerar_Upload!E691),DAY(Gerar_Upload!E691)),\"erro\")","v":"00:00:00"},{"$f":"IFERROR(Gerar_Upload!F691,\"erro\")","v":0},{"$f":"IFERROR(IF(Gerar_Upload!G691<44,REPT(0,44-LEN(Gerar_Upload!G691))&Gerar_Upload!G691,Gerar_Upload!G691),\"erro\")","v":"00000000000000000000000000000000000000000000"}]
[{"$f":"IFERROR(LEFT(Gerar_Upload!A692,120),\"erro\")","v":""},{"$f":"IFERROR(SUBSTITUTE(SUBSTITUTE(SUBSTITUTE(Gerar_Upload!B692,\".\",\"\"),\"-\",\"\"),\"/\",\"\"),\"erro\")","v":""},{"$f":"IFERROR(Gerar_Upload!C692,\"erro\")","v":0},{"$f":"IFERROR(Gerar_Upload!D692,\"erro\")","v":0},{"$f":"IFERROR(DATE(YEAR(Gerar_Upload!E692),MONTH(Gerar_Upload!E692),DAY(Gerar_Upload!E692)),\"erro\")","v":"00:00:00"},{"$f":"IFERROR(Gerar_Upload!F692,\"erro\")","v":0},{"$f":"IFERROR(IF(Gerar_Upload!G692<44,REPT(0,44-LEN(Gerar_Upload!G692))&Gerar_Upload!G692,Gerar_Upload!G692),\"erro\")","v":"00000000000000000000000000000000000000000000"}]
[{"$f":"IFERROR(LEFT(Gerar_Upload!A693,120),\"erro\")","v":""},{"$f":"IFERROR(SUBSTITUTE(SUBSTITUTE(SUBSTITUTE(Gerar_Upload!B693,\".\",\"\"),\"-\",\"\"),\"/\",\"\"),\"erro\")","v":""},{"$f":"IFERROR(Gerar_Upload!C693,\"erro\")","v":0},{"$f":"IFERROR(Gerar_Upload!D693,\"erro\")","v":0},{"$f":"IFERROR(DATE(YEAR(Gerar_Upload!E693),MONTH(Gerar_Upload!E693),DAY(Gerar_Upload!E693)),\"erro\")","v":"00:00:00"},{"$f":"IFERROR(Gerar_Upload!F693,\"erro\")","v":0},{"$f":"IFERROR(IF(Gerar_Upload!G693<44,REPT(0,44-LEN(Gerar_Upload!G693))&Gerar_Upload!G693,Gerar_Upload!G693),\"erro\")","v":"00000000000000000000000000000000000000000000"}]
[{"$f":"IFERROR(LEFT(Gerar_Upload!A694,120),\"erro\")","v":""},{"$f":"IFERROR(SUBSTITUTE(SUBSTITUTE(SUBSTITUTE(Gerar_Upload!B694,\".\",\"\"),\"-\",\"\"),\"/\",\"\"),\"erro\")","v":""},{"$f":"IFERROR(Gerar_Upload!C694,\"erro\")","v":0},{"$f":"IFERROR(Gerar_Upload!D694,\"erro\")","v":0},{"$f":"IFERROR(DATE(YEAR(Gerar_Upload!E694),MONTH(Gerar_Upload!E694),DAY(Gerar_Upload!E694)),\"erro\")","v":"00:00:00"},{"$f":"IFERROR(Gerar_Upload!F694,\"erro\")","v":0},{"$f":"IFERROR(IF(Gerar_Upload!G694<44,REPT(0,44-LEN(Gerar_Upload!G694))&Gerar_Upload!G694,Gerar_Upload!G694),\"erro\")","v":"00000000000000000000000000000000000000000000"}]
[{"$f":"IFERROR(LEFT(Gerar_Upload!A695,120),\"erro\")","v":""},{"$f":"IFERROR(SUBSTITUTE(SUBSTITUTE(SUBSTITUTE(Gerar_Upload!B695,\".\",\"\"),\"-\",\"\"),\"/\",\"\"),\"erro\")","v":""},{"$f":"IFERROR(Gerar_Upload!C695,\"erro\")","v":0},{"$f":"IFERROR(Gerar_Upload!D695,\"erro\")","v":0},{"$f":"IFERROR(DATE(YEAR(Gerar_Upload!E695),MONTH(Gerar_Upload!E695),DAY(Gerar_Upload!E695)),\"erro\")","v":"00:00:00"},{"$f":"IFERROR(Gerar_Upload!F695,\"erro\")","v":0},{"$f":"IFERROR(IF(Gerar_Upload!G695<44,REPT(0,44-LEN(Gerar_Upload!G695))&Gerar_Upload!G695,Gerar_Upload!G695),\"erro\")","v":"00000000000000000000000000000000000000000000"}]
[{"$f":"IFERROR(LEFT(Gerar_Upload!A696,120),\"erro\")","v":""},{"$f":"IFERROR(SUBSTITUTE(SUBSTITUTE(SUBSTITUTE(Gerar_Upload!B696,\".\",\"\"),\"-\",\"\"),\"/\",\"\"),\"erro\")","v":""},{"$f":"IFERROR(Gerar_Upload!C696,\"erro\")","v":0},{"$f":"IFERROR(Gerar_Upload!D696,\"erro\")","v":0},{"$f":"IFERROR(DATE(YEAR(Gerar_Upload!E696),MONTH(Gerar_Upload!E696),DAY(Gerar_Upload!E696)),\"erro\")","v":"00:00:00"},{"$f":"IFERROR(Gerar_Upload!F696,\"erro\")","v":0},{"$f":"IFERROR(IF(Gerar_Upload!G696<44,REPT(0,44-LEN(Gerar_Upload!G696))&Gerar_Upload!G696,Gerar_Upload!G696),\"erro\")","v":"00000000000000000000000000000000000000000000"}]
[{"$f":"IFERROR(LEFT(Gerar_Upload!A697,120),\"erro\")","v":""},{"$f":"IFERROR(SUBSTITUTE(SUBSTITUTE(SUBSTITUTE(Gerar_Upload!B697,\".\",\"\"),\"-\",\"\"),\"/\",\"\"),\"erro\")","v":""},{"$f":"IFERROR(Gerar_Upload!C697,\"erro\")","v":0},{"$f":"IFERROR(Gerar_Upload!D697,\"erro\")","v":0},{"$f":"IFERROR(DATE(YEAR(Gerar_Upload!E697),MONTH(Gerar_Upload!E697),DAY(Gerar_Upload!E697)),\"erro\")","v":"00:00:00"},{"$f":"IFERROR(Gerar_Upload!F697,\"erro\")","v":0},{"$f":"IFERROR(IF(Gerar_Upload!G697<44,REPT(0,44-LEN(Gerar_Upload!G697))&Gerar_Upload!G697,Gerar_Upload!G697),\"erro\")","v":"00000000000000000000000000000000000000000000"}]
[{"$f":"IFERROR(LEFT(Gerar_Upload!A698,120),\"erro\")","v":""},{"$f":"IFERROR(SUBSTITUTE(SUBSTITUTE(SUBSTITUTE(Gerar_Upload!B698,\".\",\"\"),\"-\",\"\"),\"/\",\"\"),\"erro\")","v":""},{"$f":"IFERROR(Gerar_Upload!C698,\"erro\")","v":0},{"$f":"IFERROR(Gerar_Upload!D698,\"erro\")","v":0},{"$f":"IFERROR(DATE(YEAR(Gerar_Upload!E698),MONTH(Gerar_Upload!E698),DAY(Gerar_Upload!E698)),\"erro\")","v":"00:00:00"},{"$f":"IFERROR(Gerar_Upload!F698,\"erro\")","v":0},{"$f":"IFERROR(IF(Gerar_Upload!G698<44,REPT(0,44-LEN(Gerar_Upload!G698))&Gerar_Upload!G698,Gerar_Upload!G698),\"erro\")","v":"00000000000000000000000000000000000000000000"}]
[{"$f":"IFERROR(LEFT(Gerar_Upload!A699,120),\"erro\")","v":""},{"$f":"IFERROR(SUBSTITUTE(SUBSTITUTE(SUBSTITUTE(Gerar_Upload!B699,\".\",\"\"),\"-\",\"\"),\"/\",\"\"),\"erro\")","v":""},{"$f":"IFERROR(Gerar_Upload!C699,\"erro\")","v":0},{"$f":"IFERROR(Gerar_Upload!D699,\"erro\")","v":0},{"$f":"IFERROR(DATE(YEAR(Gerar_Upload!E699),MONTH(Gerar_Upload!E699),DAY(Gerar_Upload!E699)),\"erro\")","v":"00:00:00"},{"$f":"IFERROR(Gerar_Upload!F699,\"erro\")","v":0},{"$f":"IFERROR(IF(Gerar_Upload!G699<44,REPT(0,44-LEN(Gerar_Upload!G699))&Gerar_Upload!G699,Gerar_Upload!G699),\"erro\")","v":"00000000000000000000000000000000000000000000"}]
[{"$f":"IFERROR(LEFT(Gerar_Upload!A700,120),\"erro\")","v":""},{"$f":"IFERROR(SUBSTITUTE(SUBSTITUTE(SUBSTITUTE(Gerar_Upload!B700,\".\",\"\"),\"-\",\"\"),\"/\",\"\"),\"erro\")","v":""},{"$f":"IFERROR(Gerar_Upload!C700,\"erro\")","v":0},{"$f":"IFERROR(Gerar_Upload!D700,\"erro\")","v":0},{"$f":"IFERROR(DATE(YEAR(Gerar_Upload!E700),MONTH(Gerar_Upload!E700),DAY(Gerar_Upload!E700)),\"erro\")","v":"00:00:00"},{"$f":"IFERROR(Gerar_Upload!F700,\"erro\")","v":0},{"$f":"IFERROR(IF(Gerar_Upload!G700<44,REPT(0,44-LEN(Gerar_Upload!G700))&Gerar_Upload!G700,Gerar_Upload!G700),\"erro\")","v":"00000000000000000000000000000000000000000000"}]
[{"$f":"IFERROR(LEFT(Gerar_Upload!A701,120),\"erro\")","v":""},{"$f":"IFERROR(SUBSTITUTE(SUBSTITUTE(SUBSTITUTE(Gerar_Upload!B701,\".\",\"\"),\"-\",\"\"),\"/\",\"\"),\"erro\")","v":""},{"$f":"IFERROR(Gerar_Upload!C701,\"erro\")","v":0},{"$f":"IFERROR(Gerar_Upload!D701,\"erro\")","v":0},{"$f":"IFERROR(DATE(YEAR(Gerar_Upload!E701),MONTH(Gerar_Upload!E701),DAY(Gerar_Upload!E701)),\"erro\")","v":"00:00:00"},{"$f":"IFERROR(Gerar_Upload!F701,\"erro\")","v":0},{"$f":"IFERROR(IF(Gerar_Upload!G701<44,REPT(0,44-LEN(Gerar_Upload!G701))&Gerar_Upload!G701,Gerar_Upload!G701),\"erro\")","v":"00000000000000000000000000000000000000000000"}]
[{"$f":"IFERROR(LEFT(Gerar_Upload!A702,120),\"erro\")","v":""},{"$f":"IFERROR(SUBSTITUTE(SUBSTITUTE(SUBSTITUTE(Gerar_Upload!B702,\".\",\"\"),\"-\",\"\"),\"/\",\"\"),\"erro\")","v":""},{"$f":"IFERROR(Gerar_Upload!C702,\"erro\")","v":0},{"$f":"IFERROR(Gerar_Upload!D702,\"erro\")","v":0},{"$f":"IFERROR(DATE(YEAR(Gerar_Upload!E702),MONTH(Gerar_Upload!E702),DAY(Gerar_Upload!E702)),\"erro\")","v":"00:00:00"},{"$f":"IFERROR(Gerar_Upload!F702,\"erro\")","v":0},{"$f":"IFERROR(IF(Gerar_Upload!G702<44,REPT(0,44-LEN(Gerar_Upload!G702))&Gerar_Upload!G702,Gerar_Upload!G702),\"erro\")","v":"00000000000000000000000000000000000000000000"}]
[{"$f":"IFERROR(LEFT(Gerar_Upload!A703,120),\"erro\")","v":""},{"$f":"IFERROR(SUBSTITUTE(SUBSTITUTE(SUBSTITUTE(Gerar_Upload!B703,\".\",\"\"),\"-\",\"\"),\"/\",\"\"),\"erro\")","v":""},{"$f":"IFERROR(Gerar_Upload!C703,\"erro\")","v":0},{"$f":"IFERROR(Gerar_Upload!D703,\"erro\")","v":0},{"$f":"IFERROR(DATE(YEAR(Gerar_Upload!E703),MONTH(Gerar_Upload!E703),DAY(Gerar_Upload!E703)),\"erro\")","v":"00:00:00"},{"$f":"IFERROR(Gerar_Upload!F703,\"erro\")","v":0},{"$f":"IFERROR(IF(Gerar_Upload!G703<44,REPT(0,44-LEN(Gerar_Upload!G703))&Gerar_Upload!G703,Gerar_Upload!G703),\"erro\")","v":"00000000000000000000000000000000000000000000"}]
[{"$f":"IFERROR(LEFT(Gerar_Upload!A704,120),\"erro\")","v":""},{"$f":"IFERROR(SUBSTITUTE(SUBSTITUTE(SUBSTITUTE(Gerar_Upload!B704,\".\",\"\"),\"-\",\"\"),\"/\",\"\"),\"erro\")","v":""},{"$f":"IFERROR(Gerar_Upload!C704,\"erro\")","v":0},{"$f":"IFERROR(Gerar_Upload!D704,\"erro\")","v":0},{"$f":"IFERROR(DATE(YEAR(Gerar_Upload!E704),MONTH(Gerar_Upload!E704),DAY(Gerar_Upload!E704)),\"erro\")","v":"00:00:00"},{"$f":"IFERROR(Gerar_Upload!F704,\"erro\")","v":0},{"$f":"IFERROR(IF(Gerar_Upload!G704<44,REPT(0,44-LEN(Gerar_Upload!G704))&Gerar_Upload!G704,Gerar_Upload!G704),\"erro\")","v":"00000000000000000000000000000000000000000000"}]
[{"$f":"IFERROR(LEFT(Gerar_Upload!A705,120),\"erro\")","v":""},{"$f":"IFERROR(SUBSTITUTE(SUBSTITUTE(SUBSTITUTE(Gerar_Upload!B705,\".\",\"\"),\"-\",\"\"),\"/\",\"\"),\"erro\")","v":""},{"$f":"IFERROR(Gerar_Upload!C705,\"erro\")","v":0},{"$f":"IFERROR(Gerar_Upload!D705,\"erro\")","v":0},{"$f":"IFERROR(DATE(YEAR(Gerar_Upload!E705),MONTH(Gerar_Upload!E705),DAY(Gerar_Upload!E705)),\"erro\")","v":"00:00:00"},{"$f":"IFERROR(Gerar_Upload!F705,\"erro\")","v":0},{"$f":"IFERROR(IF(Gerar_Upload!G705<44,REPT(0,44-LEN(Gerar_Upload!G705))&Gerar_Upload!G705,Gerar_Upload!G705),\"erro\")","v":"00000000000000000000000000000000000000000000"}]
[{"$f":"IFERROR(LEFT(Gerar_Upload!A706,120),\"erro\")","v":""},{"$f":"IFERROR(SUBSTITUTE(SUBSTITUTE(SUBSTITUTE(Gerar_Upload!B706,\".\",\"\"),\"-\",\"\"),\"/\",\"\"),\"erro\")","v":""},{"$f":"IFERROR(Gerar_Upload!C706,\"erro\")","v":0},{"$f":"IFERROR(Gerar_Upload!D706,\"erro\")","v":0},{"$f":"IFERROR(DATE(YEAR(Gerar_Upload!E706),MONTH(Gerar_Upload!E706),DAY(Gerar_Upload!E706)),\"erro\")","v":"00:00:00"},{"$f":"IFERROR(Gerar_Upload!F706,\"erro\")","v":0},{"$f":"IFERROR(IF(Gerar_Upload!G706<44,REPT(0,44-LEN(Gerar_Upload!G706))&Gerar_Upload!G706,Gerar_Upload!G706),\"erro\")","v":"00000000000000000000000000000000000000000000"}]
[{"$f":"IFERROR(LEFT(Gerar_Upload!A707,120),\"erro\")","v":""},{"$f":"IFERROR(SUBSTITUTE(SUBSTITUTE(SUBSTITUTE(Gerar_Upload!B707,\".\",\"\"),\"-\",\"\"),\"/\",\"\"),\"erro\")","v":""},{"$f":"IFERROR(Gerar_Upload!C707,\"erro\")","v":0},{"$f":"IFERROR(Gerar_Upload!D707,\"erro\")","v":0},{"$f":"IFERROR(DATE(YEAR(Gerar_Upload!E707),MONTH(Gerar_Upload!E707),DAY(Gerar_Upload!E707)),\"erro\")","v":"00:00:00"},{"$f":"IFERROR(Gerar_Upload!F707,\"erro\")","v":0},{"$f":"IFERROR(IF(Gerar_Upload!G707<44,REPT(0,44-LEN(Gerar_Upload!G707))&Gerar_Upload!G707,Gerar_Upload!G707),\"erro\")","v":"00000000000000000000000000000000000000000000"}]
[{"$f":"IFERROR(LEFT(Gerar_Upload!A708,120),\"erro\")","v":""},{"$f":"IFERROR(SUBSTITUTE(SUBSTITUTE(SUBSTITUTE(Gerar_Upload!B708,\".\",\"\"),\"-\",\"\"),\"/\",\"\"),\"erro\")","v":""},{"$f":"IFERROR(Gerar_Upload!C708,\"erro\")","v":0},{"$f":"IFERROR(Gerar_Upload!D708,\"erro\")","v":0},{"$f":"IFERROR(DATE(YEAR(Gerar_Upload!E708),MONTH(Gerar_Upload!E708),DAY(Gerar_Upload!E708)),\"erro\")","v":"00:00:00"},{"$f":"IFERROR(Gerar_Upload!F708,\"erro\")","v":0},{"$f":"IFERROR(IF(Gerar_Upload!G708<44,REPT(0,44-LEN(Gerar_Upload!G708))&Gerar_Upload!G708,Gerar_Upload!G708),\"erro\")","v":"00000000000000000000000000000000000000000000"}]
[{"$f":"IFERROR(LEFT(Gerar_Upload!A709,120),\"erro\")","v":""},{"$f":"IFERROR(SUBSTITUTE(SUBSTITUTE(SUBSTITUTE(Gerar_Upload!B709,\".\",\"\"),\"-\",\"\"),\"/\",\"\"),\"erro\")","v":""},{"$f":"IFERROR(Gerar_Upload!C709,\"erro\")","v":0},{"$f":"IFERROR(Gerar_Upload!D709,\"erro\")","v":0},{"$f":"IFERROR(DATE(YEAR(Gerar_Upload!E709),MONTH(Gerar_Upload!E709),DAY(Gerar_Upload!E709)),\"erro\")","v":"00:00:00"},{"$f":"IFERROR(Gerar_Upload!F709,\"erro\")","v":0},{"$f":"IFERROR(IF(Gerar_Upload!G709<44,REPT(0,44-LEN(Gerar_Upload!G709))&Gerar_Upload!G709,Gerar_Upload!G709),\"erro\")","v":"00000000000000000000000000000000000000000000"}]
[{"$f":"IFERROR(LEFT(Gerar_Upload!A710,120),\"erro\")","v":""},{"$f":"IFERROR(SUBSTITUTE(SUBSTITUTE(SUBSTITUTE(Gerar_Upload!B710,\".\",\"\"),\"-\",\"\"),\"/\",\"\"),\"erro\")","v":""},{"$f":"IFERROR(Gerar_Upload!C710,\"erro\")","v":0},{"$f":"IFERROR(Gerar_Upload!D710,\"erro\")","v":0},{"$f":"IFERROR(DATE(YEAR(Gerar_Upload!E710),MONTH(Gerar_Upload!E710),DAY(Gerar_Upload!E710)),\"erro\")","v":"00:00:00"},{"$f":"IFERROR(Gerar_Upload!F710,\"erro\")","v":0},{"$f":"IFERROR(IF(Gerar_Upload!G710<44,REPT(0,44-LEN(Gerar_Upload!G710))&Gerar_Upload!G710,Gerar_Upload!G710),\"erro\")","v":"00000000000000000000000000000000000000000000"}]
[{"$f":"IFERROR(LEFT(Gerar_Upload!A711,120),\"erro\")","v":""},{"$f":"IFERROR(SUBSTITUTE(SUBSTITUTE(SUBSTITUTE(Gerar_Upload!B711,\".\",\"\"),\"-\",\"\"),\"/\",\"\"),\"erro\")","v":""},{"$f":"IFERROR(Gerar_Upload!C711,\"erro\")","v":0},{"$f":"IFERROR(Gerar_Upload!D711,\"erro\")","v":0},{"$f":"IFERROR(DATE(YEAR(Gerar_Upload!E711),MONTH(Gerar_Upload!E711),DAY(Gerar_Upload!E711)),\"erro\")","v":"00:00:00"},{"$f":"IFERROR(Gerar_Upload!F711,\"erro\")","v":0},{"$f":"IFERROR(IF(Gerar_Upload!G711<44,REPT(0,44-LEN(Gerar_Upload!G711))&Gerar_Upload!G711,Gerar_Upload!G711),\"erro\")","v":"00000000000000000000000000000000000000000000"}]
[{"$f":"IFERROR(LEFT(Gerar_Upload!A712,120),\"erro\")","v":""},{"$f":"IFERROR(SUBSTITUTE(SUBSTITUTE(SUBSTITUTE(Gerar_Upload!B712,\".\",\"\"),\"-\",\"\"),\"/\",\"\"),\"erro\")","v":""},{"$f":"IFERROR(Gerar_Upload!C712,\"erro\")","v":0},{"$f":"IFERROR(Gerar_Upload!D712,\"erro\")","v":0},{"$f":"IFERROR(DATE(YEAR(Gerar_Upload!E712),MONTH(Gerar_Upload!E712),DAY(Gerar_Upload!E712)),\"erro\")","v":"00:00:00"},{"$f":"IFERROR(Gerar_Upload!F712,\"erro\")","v":0},{"$f":"IFERROR(IF(Gerar_Upload!G712<44,REPT(0,44-LEN(Gerar_Upload!G712))&Gerar_Upload!G712,Gerar_Upload!G712),\"erro\")","v":"00000000000000000000000000000000000000000000"}]
[{"$f":"IFERROR(LEFT(Gerar_Upload!A713,120),\"erro\")","v":""},{"$f":"IFERROR(SUBSTITUTE(SUBSTITUTE(SUBSTITUTE(Gerar_Upload!B713,\".\",\"\"),\"-\",\"\"),\"/\",\"\"),\"erro\")","v":""},{"$f":"IFERROR(Gerar_Upload!C713,\"erro\")","v":0},{"$f":"IFERROR(Gerar_Upload!D713,\"erro\")","v":0},{"$f":"IFERROR(DATE(YEAR(Gerar_Upload!E713),MONTH(Gerar_Upload!E713),DAY(Gerar_Upload!E713)),\"erro\")","v":"00:00:00"},{"$f":"IFERROR(Gerar_Upload!F713,\"erro\")","v":0},{"$f":"IFERROR(IF(Gerar_Upload!G713<44,REPT(0,44-LEN(Gerar_Upload!G713))&Gerar_Upload!G713,Gerar_Upload!G713),\"erro\")","v":"00000000000000000000000000000000000000000000"}]
[{"$f":"IFERROR(LEFT(Gerar_Upload!A714,120),\"erro\")","v":""},{"$f":"IFERROR(SUBSTITUTE(SUBSTITUTE(SUBSTITUTE(Gerar_Upload!B714,\".\",\"\"),\"-\",\"\"),\"/\",\"\"),\"erro\")","v":""},{"$f":"IFERROR(Gerar_Upload!C714,\"erro\")","v":0},{"$f":"IFERROR(Gerar_Upload!D714,\"erro\")","v":0},{"$f":"IFERROR(DATE(YEAR(Gerar_Upload!E714),MONTH(Gerar_Upload!E714),DAY(Gerar_Upload!E714)),\"erro\")","v":"00:00:00"},{"$f":"IFERROR(Gerar_Upload!F714,\"erro\")","v":0},{"$f":"IFERROR(IF(Gerar_Upload!G714<44,REPT(0,44-LEN(Gerar_Upload!G714))&Gerar_Upload!G714,Gerar_Upload!G714),\"erro\")","v":"00000000000000000000000000000000000000000000"}]
[{"$f":"IFERROR(LEFT(Gerar_Upload!A715,120),\"erro\")","v":""},{"$f":"IFERROR(SUBSTITUTE(SUBSTITUTE(SUBSTITUTE(Gerar_Upload!B715,\".\",\"\"),\"-\",\"\"),\"/\",\"\"),\"erro\")","v":""},{"$f":"IFERROR(Gerar_Upload!C715,\"erro\")","v":0},{"$f":"IFERROR(Gerar_Upload!D715,\"erro\")","v":0},{"$f":"IFERROR(DATE(YEAR(Gerar_Upload!E715),MONTH(Gerar_Upload!E715),DAY(Gerar_Upload!E715)),\"erro\")","v":"00:00:00"},{"$f":"IFERROR(Gerar_Upload!F715,\"erro\")","v":0},{"$f":"IFERROR(IF(Gerar_Upload!G715<44,REPT(0,44-LEN(Gerar_Upload!G715))&Gerar_Upload!G715,Gerar_Upload!G715),\"erro\")","v":"00000000000000000000000000000000000000000000"}]
[{"$f":"IFERROR(LEFT(Gerar_Upload!A716,120),\"erro\")","v":""},{"$f":"IFERROR(SUBSTITUTE(SUBSTITUTE(SUBSTITUTE(Gerar_Upload!B716,\".\",\"\"),\"-\",\"\"),\"/\",\"\"),\"erro\")","v":""},{"$f":"IFERROR(Gerar_Upload!C716,\"erro\")","v":0},{"$f":"IFERROR(Gerar_Upload!D716,\"erro\")","v":0},{"$f":"IFERROR(DATE(YEAR(Gerar_Upload!E716),MONTH(Gerar_Upload!E716),DAY(Gerar_Upload!E716)),\"erro\")","v":"00:00:00"},{"$f":"IFERROR(Gerar_Upload!F716,\"erro\")","v":0},{"$f":"IFERROR(IF(Gerar_Upload!G716<44,REPT(0,44-LEN(Gerar_Upload!G716))&Gerar_Upload!G716,Gerar_Upload!G716),\"erro\")","v":"00000000000000000000000000000000000000000000"}]
[{"$f":"IFERROR(LEFT(Gerar_Upload!A717,120),\"erro\")","v":""},{"$f":"IFERROR(SUBSTITUTE(SUBSTITUTE(SUBSTITUTE(Gerar_Upload!B717,\".\",\"\"),\"-\",\"\"),\"/\",\"\"),\"erro\")","v":""},{"$f":"IFERROR(Gerar_Upload!C717,\"erro\")","v":0},{"$f":"IFERROR(Gerar_Upload!D717,\"erro\")","v":0},{"$f":"IFERROR(DATE(YEAR(Gerar_Upload!E717),MONTH(Gerar_Upload!E717),DAY(Gerar_Upload!E717)),\"erro\")","v":"00:00:00"},{"$f":"IFERROR(Gerar_Upload!F717,\"erro\")","v":0},{"$f":"IFERROR(IF(Gerar_Upload!G717<44,REPT(0,44-LEN(Gerar_Upload!G717))&Gerar_Upload!G717,Gerar_Upload!G717),\"erro\")","v":"00000000000000000000000000000000000000000000"}]
[{"$f":"IFERROR(LEFT(Gerar_Upload!A718,120),\"erro\")","v":""},{"$f":"IFERROR(SUBSTITUTE(SUBSTITUTE(SUBSTITUTE(Gerar_Upload!B718,\".\",\"\"),\"-\",\"\"),\"/\",\"\"),\"erro\")","v":""},{"$f":"IFERROR(Gerar_Upload!C718,\"erro\")","v":0},{"$f":"IFERROR(Gerar_Upload!D718,\"erro\")","v":0},{"$f":"IFERROR(DATE(YEAR(Gerar_Upload!E718),MONTH(Gerar_Upload!E718),DAY(Gerar_Upload!E718)),\"erro\")","v":"00:00:00"},{"$f":"IFERROR(Gerar_Upload!F718,\"erro\")","v":0},{"$f":"IFERROR(IF(Gerar_Upload!G718<44,REPT(0,44-LEN(Gerar_Upload!G718))&Gerar_Upload!G718,Gerar_Upload!G718),\"erro\")","v":"00000000000000000000000000000000000000000000"}]
[{"$f":"IFERROR(LEFT(Gerar_Upload!A719,120),\"erro\")","v":""},{"$f":"IFERROR(SUBSTITUTE(SUBSTITUTE(SUBSTITUTE(Gerar_Upload!B719,\".\",\"\"),\"-\",\"\"),\"/\",\"\"),\"erro\")","v":""},{"$f":"IFERROR(Gerar_Upload!C719,\"erro\")","v":0},{"$f":"IFERROR(Gerar_Upload!D719,\"erro\")","v":0},{"$f":"IFERROR(DATE(YEAR(Gerar_Upload!E719),MONTH(Gerar_Upload!E719),DAY(Gerar_Upload!E719)),\"erro\")","v":"00:00:00"},{"$f":"IFERROR(Gerar_Upload!F719,\"erro\")","v":0},{"$f":"IFERROR(IF(Gerar_Upload!G719<44,REPT(0,44-LEN(Gerar_Upload!G719))&Gerar_Upload!G719,Gerar_Upload!G719),\"erro\")","v":"00000000000000000000000000000000000000000000"}]
[{"$f":"IFERROR(LEFT(Gerar_Upload!A720,120),\"erro\")","v":""},{"$f":"IFERROR(SUBSTITUTE(SUBSTITUTE(SUBSTITUTE(Gerar_Upload!B720,\".\",\"\"),\"-\",\"\"),\"/\",\"\"),\"erro\")","v":""},{"$f":"IFERROR(Gerar_Upload!C720,\"erro\")","v":0},{"$f":"IFERROR(Gerar_Upload!D720,\"erro\")","v":0},{"$f":"IFERROR(DATE(YEAR(Gerar_Upload!E720),MONTH(Gerar_Upload!E720),DAY(Gerar_Upload!E720)),\"erro\")","v":"00:00:00"},{"$f":"IFERROR(Gerar_Upload!F720,\"erro\")","v":0},{"$f":"IFERROR(IF(Gerar_Upload!G720<44,REPT(0,44-LEN(Gerar_Upload!G720))&Gerar_Upload!G720,Gerar_Upload!G720),\"erro\")","v":"00000000000000000000000000000000000000000000"}]
[{"$f":"IFERROR(LEFT(Gerar_Upload!A721,120),\"erro\")","v":""},{"$f":"IFERROR(SUBSTITUTE(SUBSTITUTE(SUBSTITUTE(Gerar_Upload!B721,\".\",\"\"),\"-\",\"\"),\"/\",\"\"),\"erro\")","v":""},{"$f":"IFERROR(Gerar_Upload!C721,\"erro\")","v":0},{"$f":"IFERROR(Gerar_Upload!D721,\"erro\")","v":0},{"$f":"IFERROR(DATE(YEAR(Gerar_Upload!E721),MONTH(Gerar_Upload!E721),DAY(Gerar_Upload!E721)),\"erro\")","v":"00:00:00"},{"$f":"IFERROR(Gerar_Upload!F721,\"erro\")","v":0},{"$f":"IFERROR(IF(Gerar_Upload!G721<44,REPT(0,44-LEN(Gerar_Upload!G721))&Gerar_Upload!G721,Gerar_Upload!G721),\"erro\")","v":"00000000000000000000000000000000000000000000"}]
[{"$f":"IFERROR(LEFT(Gerar_Upload!A722,120),\"erro\")","v":""},{"$f":"IFERROR(SUBSTITUTE(SUBSTITUTE(SUBSTITUTE(Gerar_Upload!B722,\".\",\"\"),\"-\",\"\"),\"/\",\"\"),\"erro\")","v":""},{"$f":"IFERROR(Gerar_Upload!C722,\"erro\")","v":0},{"$f":"IFERROR(Gerar_Upload!D722,\"erro\")","v":0},{"$f":"IFERROR(DATE(YEAR(Gerar_Upload!E722),MONTH(Gerar_Upload!E722),DAY(Gerar_Upload!E722)),\"erro\")","v":"00:00:00"},{"$f":"IFERROR(Gerar_Upload!F722,\"erro\")","v":0},{"$f":"IFERROR(IF(Gerar_Upload!G722<44,REPT(0,44-LEN(Gerar_Upload!G722))&Gerar_Upload!G722,Gerar_Upload!G722),\"erro\")","v":"00000000000000000000000000000000000000000000"}]
[{"$f":"IFERROR(LEFT(Gerar_Upload!A723,120),\"erro\")","v":""},{"$f":"IFERROR(SUBSTITUTE(SUBSTITUTE(SUBSTITUTE(Gerar_Upload!B723,\".\",\"\"),\"-\",\"\"),\"/\",\"\"),\"erro\")","v":""},{"$f":"IFERROR(Gerar_Upload!C723,\"erro\")","v":0},{"$f":"IFERROR(Gerar_Upload!D723,\"erro\")","v":0},{"$f":"IFERROR(DATE(YEAR(Gerar_Upload!E723),MONTH(Gerar_Upload!E723),DAY(Gerar_Upload!E723)),\"erro\")","v":"00:00:00"},{"$f":"IFERROR(Gerar_Upload!F723,\"erro\")","v":0},{"$f":"IFERROR(IF(Gerar_Upload!G723<44,REPT(0,44-LEN(Gerar_Upload!G723))&Gerar_Upload!G723,Gerar_Upload!G723),\"erro\")","v":"00000000000000000000000000000000000000000000"}]
[{"$f":"IFERROR(LEFT(Gerar_Upload!A724,120),\"erro\")","v":""},{"$f":"IFERROR(SUBSTITUTE(SUBSTITUTE(SUBSTITUTE(Gerar_Upload!B724,\".\",\"\"),\"-\",\"\"),\"/\",\"\"),\"erro\")","v":""},{"$f":"IFERROR(Gerar_Upload!C724,\"erro\")","v":0},{"$f":"IFERROR(Gerar_Upload!D724,\"erro\")","v":0},{"$f":"IFERROR(DATE(YEAR(Gerar_Upload!E724),MONTH(Gerar_Upload!E724),DAY(Gerar_Upload!E724)),\"erro\")","v":"00:00:00"},{"$f":"IFERROR(Gerar_Upload!F724,\"erro\")","v":0},{"$f":"IFERROR(IF(Gerar_Upload!G724<44,REPT(0,44-LEN(Gerar_Upload!G724))&Gerar_Upload!G724,Gerar_Upload!G724),\"erro\")","v":"00000000000000000000000000000000000000000000"}]
[{"$f":"IFERROR(LEFT(Gerar_Upload!A725,120),\"erro\")","v":""},{"$f":"IFERROR(SUBSTITUTE(SUBSTITUTE(SUBSTITUTE(Gerar_Upload!B725,\".\",\"\"),\"-\",\"\"),\"/\",\"\"),\"erro\")","v":""},{"$f":"IFERROR(Gerar_Upload!C725,\"erro\")","v":0},{"$f":"IFERROR(Gerar_Upload!D725,\"erro\")","v":0},{"$f":"IFERROR(DATE(YEAR(Gerar_Upload!E725),MONTH(Gerar_Upload!E725),DAY(Gerar_Upload!E725)),\"erro\")","v":"00:00:00"},{"$f":"IFERROR(Gerar_Upload!F725,\"erro\")","v":0},{"$f":"IFERROR(IF(Gerar_Upload!G725<44,REPT(0,44-LEN(Gerar_Upload!G725))&Gerar_Upload!G725,Gerar_Upload!G725),\"erro\")","v":"00000000000000000000000000000000000000000000"}]
[{"$f":"IFERROR(LEFT(Gerar_Upload!A726,120),\"erro\")","v":""},{"$f":"IFERROR(SUBSTITUTE(SUBSTITUTE(SUBSTITUTE(Gerar_Upload!B726,\".\",\"\"),\"-\",\"\"),\"/\",\"\"),\"erro\")","v":""},{"$f":"IFERROR(Gerar_Upload!C726,\"erro\")","v":0},{"$f":"IFERROR(Gerar_Upload!D726,\"erro\")","v":0},{"$f":"IFERROR(DATE(YEAR(Gerar_Upload!E726),MONTH(Gerar_Upload!E726),DAY(Gerar_Upload!E726)),\"erro\")","v":"00:00:00"},{"$f":"IFERROR(Gerar_Upload!F726,\"erro\")","v":0},{"$f":"IFERROR(IF(Gerar_Upload!G726<44,REPT(0,44-LEN(Gerar_Upload!G726))&Gerar_Upload!G726,Gerar_Upload!G726),\"erro\")","v":"00000000000000000000000000000000000000000000"}]
[{"$f":"IFERROR(LEFT(Gerar_Upload!A727,120),\"erro\")","v":""},{"$f":"IFERROR(SUBSTITUTE(SUBSTITUTE(SUBSTITUTE(Gerar_Upload!B727,\".\",\"\"),\"-\",\"\"),\"/\",\"\"),\"erro\")","v":""},{"$f":"IFERROR(Gerar_Upload!C727,\"erro\")","v":0},{"$f":"IFERROR(Gerar_Upload!D727,\"erro\")","v":0},{"$f":"IFERROR(DATE(YEAR(Gerar_Upload!E727),MONTH(Gerar_Upload!E727),DAY(Gerar_Upload!E727)),\"erro\")","v":"00:00:00"},{"$f":"IFERROR(Gerar_Upload!F727,\"erro\")","v":0},{"$f":"IFERROR(IF(Gerar_Upload!G727<44,REPT(0,44-LEN(Gerar_Upload!G727))&Gerar_Upload!G727,Gerar_Upload!G727),\"erro\")","v":"00000000000000000000000000000000000000000000"}]
[{"$f":"IFERROR(LEFT(Gerar_Upload!A728,120),\"erro\")","v":""},{"$f":"IFERROR(SUBSTITUTE(SUBSTITUTE(SUBSTITUTE(Gerar_Upload!B728,\".\",\"\"),\"-\",\"\"),\"/\",\"\"),\"erro\")","v":""},{"$f":"IFERROR(Gerar_Upload!C728,\"erro\")","v":0},{"$f":"IFERROR(Gerar_Upload!D728,\"erro\")","v":0},{"$f":"IFERROR(DATE(YEAR(Gerar_Upload!E728),MONTH(Gerar_Upload!E728),DAY(Gerar_Upload!E728)),\"erro\")","v":"00:00:00"},{"$f":"IFERROR(Gerar_Upload!F728,\"erro\")","v":0},{"$f":"IFERROR(IF(Gerar_Upload!G728<44,REPT(0,44-LEN(Gerar_Upload!G728))&Gerar_Upload!G728,Gerar_Upload!G728),\"erro\")","v":"00000000000000000000000000000000000000000000"}]
[{"$f":"IFERROR(LEFT(Gerar_Upload!A729,120),\"erro\")","v":""},{"$f":"IFERROR(SUBSTITUTE(SUBSTITUTE(SUBSTITUTE(Gerar_Upload!B729,\".\",\"\"),\"-\",\"\"),\"/\",\"\"),\"erro\")","v":""},{"$f":"IFERROR(Gerar_Upload!C729,\"erro\")","v":0},{"$f":"IFERROR(Gerar_Upload!D729,\"erro\")","v":0},{"$f":"IFERROR(DATE(YEAR(Gerar_Upload!E729),MONTH(Gerar_Upload!E729),DAY(Gerar_Upload!E729)),\"erro\")","v":"00:00:00"},{"$f":"IFERROR(Gerar_Upload!F729,\"erro\")","v":0},{"$f":"IFERROR(IF(Gerar_Upload!G729<44,REPT(0,44-LEN(Gerar_Upload!G729))&Gerar_Upload!G729,Gerar_Upload!G729),\"erro\")","v":"00000000000000000000000000000000000000000000"}]
[{"$f":"IFERROR(LEFT(Gerar_Upload!A730,120),\"erro\")","v":""},{"$f":"IFERROR(SUBSTITUTE(SUBSTITUTE(SUBSTITUTE(Gerar_Upload!B730,\".\",\"\"),\"-\",\"\"),\"/\",\"\"),\"erro\")","v":""},{"$f":"IFERROR(Gerar_Upload!C730,\"erro\")","v":0},{"$f":"IFERROR(Gerar_Upload!D730,\"erro\")","v":0},{"$f":"IFERROR(DATE(YEAR(Gerar_Upload!E730),MONTH(Gerar_Upload!E730),DAY(Gerar_Upload!E730)),\"erro\")","v":"00:00:00"},{"$f":"IFERROR(Gerar_Upload!F730,\"erro\")","v":0},{"$f":"IFERROR(IF(Gerar_Upload!G730<44,REPT(0,44-LEN(Gerar_Upload!G730))&Gerar_Upload!G730,Gerar_Upload!G730),\"erro\")","v":"00000000000000000000000000000000000000000000"}]
[{"$f":"IFERROR(LEFT(Gerar_Upload!A731,120),\"erro\")","v":""},{"$f":"IFERROR(SUBSTITUTE(SUBSTITUTE(SUBSTITUTE(Gerar_Upload!B731,\".\",\"\"),\"-\",\"\"),\"/\",\"\"),\"erro\")","v":""},{"$f":"IFERROR(Gerar_Upload!C731,\"erro\")","v":0},{"$f":"IFERROR(Gerar_Upload!D731,\"erro\")","v":0},{"$f":"IFERROR(DATE(YEAR(Gerar_Upload!E731),MONTH(Gerar_Upload!E731),DAY(Gerar_Upload!E731)),\"erro\")","v":"00:00:00"},{"$f":"IFERROR(Gerar_Upload!F731,\"erro\")","v":0},{"$f":"IFERROR(IF(Gerar_Upload!G731<44,REPT(0,44-LEN(Gerar_Upload!G731))&Gerar_Upload!G731,Gerar_Upload!G731),\"erro\")","v":"00000000000000000000000000000000000000000000"}]
[{"$f":"IFERROR(LEFT(Gerar_Upload!A732,120),\"erro\")","v":""},{"$f":"IFERROR(SUBSTITUTE(SUBSTITUTE(SUBSTITUTE(Gerar_Upload!B732,\".\",\"\"),\"-\",\"\"),\"/\",\"\"),\"erro\")","v":""},{"$f":"IFERROR(Gerar_Upload!C732,\"erro\")","v":0},{"$f":"IFERROR(Gerar_Upload!D732,\"erro\")","v":0},{"$f":"IFERROR(DATE(YEAR(Gerar_Upload!E732),MONTH(Gerar_Upload!E732),DAY(Gerar_Upload!E732)),\"erro\")","v":"00:00:00"},{"$f":"IFERROR(Gerar_Upload!F732,\"erro\")","v":0},{"$f":"IFERROR(IF(Gerar_Upload!G732<44,REPT(0,44-LEN(Gerar_Upload!G732))&Gerar_Upload!G732,Gerar_Upload!G732),\"erro\")","v":"00000000000000000000000000000000000000000000"}]
[{"$f":"IFERROR(LEFT(Gerar_Upload!A733,120),\"erro\")","v":""},{"$f":"IFERROR(SUBSTITUTE(SUBSTITUTE(SUBSTITUTE(Gerar_Upload!B733,\".\",\"\"),\"-\",\"\"),\"/\",\"\"),\"erro\")","v":""},{"$f":"IFERROR(Gerar_Upload!C733,\"erro\")","v":0},{"$f":"IFERROR(Gerar_Upload!D733,\"erro\")","v":0},{"$f":"IFERROR(DATE(YEAR(Gerar_Upload!E733),MONTH(Gerar_Upload!E733),DAY(Gerar_Upload!E733)),\"erro\")","v":"00:00:00"},{"$f":"IFERROR(Gerar_Upload!F733,\"erro\")","v":0},{"$f":"IFERROR(IF(Gerar_Upload!G733<44,REPT(0,44-LEN(Gerar_Upload!G733))&Gerar_Upload!G733,Gerar_Upload!G733),\"erro\")","v":"00000000000000000000000000000000000000000000"}]
[{"$f":"IFERROR(LEFT(Gerar_Upload!A734,120),\"erro\")","v":""},{"$f":"IFERROR(SUBSTITUTE(SUBSTITUTE(SUBSTITUTE(Gerar_Upload!B734,\".\",\"\"),\"-\",\"\"),\"/\",\"\"),\"erro\")","v":""},{"$f":"IFERROR(Gerar_Upload!C734,\"erro\")","v":0},{"$f":"IFERROR(Gerar_Upload!D734,\"erro\")","v":0},{"$f":"IFERROR(DATE(YEAR(Gerar_Upload!E734),MONTH(Gerar_Upload!E734),DAY(Gerar_Upload!E734)),\"erro\")","v":"00:00:00"},{"$f":"IFERROR(Gerar_Upload!F734,\"erro\")","v":0},{"$f":"IFERROR(IF(Gerar_Upload!G734<44,REPT(0,44-LEN(Gerar_Upload!G734))&Gerar_Upload!G734,Gerar_Upload!G734),\"erro\")","v":"00000000000000000000000000000000000000000000"}]
[{"$f":"IFERROR(LEFT(Gerar_Upload!A735,120),\"erro\")","v":""},{"$f":"IFERROR(SUBSTITUTE(SUBSTITUTE(SUBSTITUTE(Gerar_Upload!B735,\".\",\"\"),\"-\",\"\"),\"/\",\"\"),\"erro\")","v":""},{"$f":"IFERROR(Gerar_Upload!C735,\"erro\")","v":0},{"$f":"IFERROR(Gerar_Upload!D735,\"erro\")","v":0},{"$f":"IFERROR(DATE(YEAR(Gerar_Upload!E735),MONTH(Gerar_Upload!E735),DAY(Gerar_Upload!E735)),\"erro\")","v":"00:00:00"},{"$f":"IFERROR(Gerar_Upload!F735,\"erro\")","v":0},{"$f":"IFERROR(IF(Gerar_Upload!G735<44,REPT(0,44-LEN(Gerar_Upload!G735))&Gerar_Upload!G735,Gerar_Upload!G735),\"erro\")","v":"00000000000000000000000000000000000000000000"}]
[{"$f":"IFERROR(LEFT(Gerar_Upload!A736,120),\"erro\")","v":""},{"$f":"IFERROR(SUBSTITUTE(SUBSTITUTE(SUBSTITUTE(Gerar_Upload!B736,\".\",\"\"),\"-\",\"\"),\"/\",\"\"),\"erro\")","v":""},{"$f":"IFERROR(Gerar_Upload!C736,\"erro\")","v":0},{"$f":"IFERROR(Gerar_Upload!D736,\"erro\")","v":0},{"$f":"IFERROR(DATE(YEAR(Gerar_Upload!E736),MONTH(Gerar_Upload!E736),DAY(Gerar_Upload!E736)),\"erro\")","v":"00:00:00"},{"$f":"IFERROR(Gerar_Upload!F736,\"erro\")","v":0},{"$f":"IFERROR(IF(Gerar_Upload!G736<44,REPT(0,44-LEN(Gerar_Upload!G736))&Gerar_Upload!G736,Gerar_Upload!G736),\"erro\")","v":"00000000000000000000000000000000000000000000"}]
[{"$f":"IFERROR(LEFT(Gerar_Upload!A737,120),\"erro\")","v":""},{"$f":"IFERROR(SUBSTITUTE(SUBSTITUTE(SUBSTITUTE(Gerar_Upload!B737,\".\",\"\"),\"-\",\"\"),\"/\",\"\"),\"erro\")","v":""},{"$f":"IFERROR(Gerar_Upload!C737,\"erro\")","v":0},{"$f":"IFERROR(Gerar_Upload!D737,\"erro\")","v":0},{"$f":"IFERROR(DATE(YEAR(Gerar_Upload!E737),MONTH(Gerar_Upload!E737),DAY(Gerar_Upload!E737)),\"erro\")","v":"00:00:00"},{"$f":"IFERROR(Gerar_Upload!F737,\"erro\")","v":0},{"$f":"IFERROR(IF(Gerar_Upload!G737<44,REPT(0,44-LEN(Gerar_Upload!G737))&Gerar_Upload!G737,Gerar_Upload!G737),\"erro\")","v":"00000000000000000000000000000000000000000000"}]
[{"$f":"IFERROR(LEFT(Gerar_Upload!A738,120),\"erro\")","v":""},{"$f":"IFERROR(SUBSTITUTE(SUBSTITUTE(SUBSTITUTE(Gerar_Upload!B738,\".\",\"\"),\"-\",\"\"),\"/\",\"\"),\"erro\")","v":""},{"$f":"IFERROR(Gerar_Upload!C738,\"erro\")","v":0},{"$f":"IFERROR(Gerar_Upload!D738,\"erro\")","v":0},{"$f":"IFERROR(DATE(YEAR(Gerar_Upload!E738),MONTH(Gerar_Upload!E738),DAY(Gerar_Upload!E738)),\"erro\")","v":"00:00:00"},{"$f":"IFERROR(Gerar_Upload!F738,\"erro\")","v":0},{"$f":"IFERROR(IF(Gerar_Upload!G738<44,REPT(0,44-LEN(Gerar_Upload!G738))&Gerar_Upload!G738,Gerar_Upload!G738),\"erro\")","v":"00000000000000000000000000000000000000000000"}]
[{"$f":"IFERROR(LEFT(Gerar_Upload!A739,120),\"erro\")","v":""},{"$f":"IFERROR(SUBSTITUTE(SUBSTITUTE(SUBSTITUTE(Gerar_Upload!B739,\".\",\"\"),\"-\",\"\"),\"/\",\"\"),\"erro\")","v":""},{"$f":"IFERROR(Gerar_Upload!C739,\"erro\")","v":0},{"$f":"IFERROR(Gerar_Upload!D739,\"erro\")","v":0},{"$f":"IFERROR(DATE(YEAR(Gerar_Upload!E739),MONTH(Gerar_Upload!E739),DAY(Gerar_Upload!E739)),\"erro\")","v":"00:00:00"},{"$f":"IFERROR(Gerar_Upload!F739,\"erro\")","v":0},{"$f":"IFERROR(IF(Gerar_Upload!G739<44,REPT(0,44-LEN(Gerar_Upload!G739))&Gerar_Upload!G739,Gerar_Upload!G739),\"erro\")","v":"00000000000000000000000000000000000000000000"}]
[{"$f":"IFERROR(LEFT(Gerar_Upload!A740,120),\"erro\")","v":""},{"$f":"IFERROR(SUBSTITUTE(SUBSTITUTE(SUBSTITUTE(Gerar_Upload!B740,\".\",\"\"),\"-\",\"\"),\"/\",\"\"),\"erro\")","v":""},{"$f":"IFERROR(Gerar_Upload!C740,\"erro\")","v":0},{"$f":"IFERROR(Gerar_Upload!D740,\"erro\")","v":0},{"$f":"IFERROR(DATE(YEAR(Gerar_Upload!E740),MONTH(Gerar_Upload!E740),DAY(Gerar_Upload!E740)),\"erro\")","v":"00:00:00"},{"$f":"IFERROR(Gerar_Upload!F740,\"erro\")","v":0},{"$f":"IFERROR(IF(Gerar_Upload!G740<44,REPT(0,44-LEN(Gerar_Upload!G740))&Gerar_Upload!G740,Gerar_Upload!G740),\"erro\")","v":"00000000000000000000000000000000000000000000"}]
[{"$f":"IFERROR(LEFT(Gerar_Upload!A741,120),\"erro\")","v":""},{"$f":"IFERROR(SUBSTITUTE(SUBSTITUTE(SUBSTITUTE(Gerar_Upload!B741,\".\",\"\"),\"-\",\"\"),\"/\",\"\"),\"erro\")","v":""},{"$f":"IFERROR(Gerar_Upload!C741,\"erro\")","v":0},{"$f":"IFERROR(Gerar_Upload!D741,\"erro\")","v":0},{"$f":"IFERROR(DATE(YEAR(Gerar_Upload!E741),MONTH(Gerar_Upload!E741),DAY(Gerar_Upload!E741)),\"erro\")","v":"00:00:00"},{"$f":"IFERROR(Gerar_Upload!F741,\"erro\")","v":0},{"$f":"IFERROR(IF(Gerar_Upload!G741<44,REPT(0,44-LEN(Gerar_Upload!G741))&Gerar_Upload!G741,Gerar_Upload!G741),\"erro\")","v":"00000000000000000000000000000000000000000000"}]
[{"$f":"IFERROR(LEFT(Gerar_Upload!A742,120),\"erro\")","v":""},{"$f":"IFERROR(SUBSTITUTE(SUBSTITUTE(SUBSTITUTE(Gerar_Upload!B742,\".\",\"\"),\"-\",\"\"),\"/\",\"\"),\"erro\")","v":""},{"$f":"IFERROR(Gerar_Upload!C742,\"erro\")","v":0},{"$f":"IFERROR(Gerar_Upload!D742,\"erro\")","v":0},{"$f":"IFERROR(DATE(YEAR(Gerar_Upload!E742),MONTH(Gerar_Upload!E742),DAY(Gerar_Upload!E742)),\"erro\")","v":"00:00:00"},{"$f":"IFERROR(Gerar_Upload!F742,\"erro\")","v":0},{"$f":"IFERROR(IF(Gerar_Upload!G742<44,REPT(0,44-LEN(Gerar_Upload!G742))&Gerar_Upload!G742,Gerar_Upload!G742),\"erro\")","v":"00000000000000000000000000000000000000000000"}]
[{"$f":"IFERROR(LEFT(Gerar_Upload!A743,120),\"erro\")","v":""},{"$f":"IFERROR(SUBSTITUTE(SUBSTITUTE(SUBSTITUTE(Gerar_Upload!B743,\".\",\"\"),\"-\",\"\"),\"/\",\"\"),\"erro\")","v":""},{"$f":"IFERROR(Gerar_Upload!C743,\"erro\")","v":0},{"$f":"IFERROR(Gerar_Upload!D743,\"erro\")","v":0},{"$f":"IFERROR(DATE(YEAR(Gerar_Upload!E743),MONTH(Gerar_Upload!E743),DAY(Gerar_Upload!E743)),\"erro\")","v":"00:00:00"},{"$f":"IFERROR(Gerar_Upload!F743,\"erro\")","v":0},{"$f":"IFERROR(IF(Gerar_Upload!G743<44,REPT(0,44-LEN(Gerar_Upload!G743))&Gerar_Upload!G743,Gerar_Upload!G743),\"erro\")","v":"00000000000000000000000000000000000000000000"}]
[{"$f":"IFERROR(LEFT(Gerar_Upload!A744,120),\"erro\")","v":""},{"$f":"IFERROR(SUBSTITUTE(SUBSTITUTE(SUBSTITUTE(Gerar_Upload!B744,\".\",\"\"),\"-\",\"\"),\"/\",\"\"),\"erro\")","v":""},{"$f":"IFERROR(Gerar_Upload!C744,\"erro\")","v":0},{"$f":"IFERROR(Gerar_Upload!D744,\"erro\")","v":0},{"$f":"IFERROR(DATE(YEAR(Gerar_Upload!E744),MONTH(Gerar_Upload!E744),DAY(Gerar_Upload!E744)),\"erro\")","v":"00:00:00"},{"$f":"IFERROR(Gerar_Upload!F744,\"erro\")","v":0},{"$f":"IFERROR(IF(Gerar_Upload!G744<44,REPT(0,44-LEN(Gerar_Upload!G744))&Gerar_Upload!G744,Gerar_Upload!G744),\"erro\")","v":"00000000000000000000000000000000000000000000"}]
[{"$f":"IFERROR(LEFT(Gerar_Upload!A745,120),\"erro\")","v":""},{"$f":"IFERROR(SUBSTITUTE(SUBSTITUTE(SUBSTITUTE(Gerar_Upload!B745,\".\",\"\"),\"-\",\"\"),\"/\",\"\"),\"erro\")","v":""},{"$f":"IFERROR(Gerar_Upload!C745,\"erro\")","v":0},{"$f":"IFERROR(Gerar_Upload!D745,\"erro\")","v":0},{"$f":"IFERROR(DATE(YEAR(Gerar_Upload!E745),MONTH(Gerar_Upload!E745),DAY(Gerar_Upload!E745)),\"erro\")","v":"00:00:00"},{"$f":"IFERROR(Gerar_Upload!F745,\"erro\")","v":0},{"$f":"IFERROR(IF(Gerar_Upload!G745<44,REPT(0,44-LEN(Gerar_Upload!G745))&Gerar_Upload!G745,Gerar_Upload!G745),\"erro\")","v":"00000000000000000000000000000000000000000000"}]
[{"$f":"IFERROR(LEFT(Gerar_Upload!A746,120),\"erro\")","v":""},{"$f":"IFERROR(SUBSTITUTE(SUBSTITUTE(SUBSTITUTE(Gerar_Upload!B746,\".\",\"\"),\"-\",\"\"),\"/\",\"\"),\"erro\")","v":""},{"$f":"IFERROR(Gerar_Upload!C746,\"erro\")","v":0},{"$f":"IFERROR(Gerar_Upload!D746,\"erro\")","v":0},{"$f":"IFERROR(DATE(YEAR(Gerar_Upload!E746),MONTH(Gerar_Upload!E746),DAY(Gerar_Upload!E746)),\"erro\")","v":"00:00:00"},{"$f":"IFERROR(Gerar_Upload!F746,\"erro\")","v":0},{"$f":"IFERROR(IF(Gerar_Upload!G746<44,REPT(0,44-LEN(Gerar_Upload!G746))&Gerar_Upload!G746,Gerar_Upload!G746),\"erro\")","v":"00000000000000000000000000000000000000000000"}]
[{"$f":"IFERROR(LEFT(Gerar_Upload!A747,120),\"erro\")","v":""},{"$f":"IFERROR(SUBSTITUTE(SUBSTITUTE(SUBSTITUTE(Gerar_Upload!B747,\".\",\"\"),\"-\",\"\"),\"/\",\"\"),\"erro\")","v":""},{"$f":"IFERROR(Gerar_Upload!C747,\"erro\")","v":0},{"$f":"IFERROR(Gerar_Upload!D747,\"erro\")","v":0},{"$f":"IFERROR(DATE(YEAR(Gerar_Upload!E747),MONTH(Gerar_Upload!E747),DAY(Gerar_Upload!E747)),\"erro\")","v":"00:00:00"},{"$f":"IFERROR(Gerar_Upload!F747,\"erro\")","v":0},{"$f":"IFERROR(IF(Gerar_Upload!G747<44,REPT(0,44-LEN(Gerar_Upload!G747))&Gerar_Upload!G747,Gerar_Upload!G747),\"erro\")","v":"00000000000000000000000000000000000000000000"}]
[{"$f":"IFERROR(LEFT(Gerar_Upload!A748,120),\"erro\")","v":""},{"$f":"IFERROR(SUBSTITUTE(SUBSTITUTE(SUBSTITUTE(Gerar_Upload!B748,\".\",\"\"),\"-\",\"\"),\"/\",\"\"),\"erro\")","v":""},{"$f":"IFERROR(Gerar_Upload!C748,\"erro\")","v":0},{"$f":"IFERROR(Gerar_Upload!D748,\"erro\")","v":0},{"$f":"IFERROR(DATE(YEAR(Gerar_Upload!E748),MONTH(Gerar_Upload!E748),DAY(Gerar_Upload!E748)),\"erro\")","v":"00:00:00"},{"$f":"IFERROR(Gerar_Upload!F748,\"erro\")","v":0},{"$f":"IFERROR(IF(Gerar_Upload!G748<44,REPT(0,44-LEN(Gerar_Upload!G748))&Gerar_Upload!G748,Gerar_Upload!G748),\"erro\")","v":"00000000000000000000000000000000000000000000"}]
[{"$f":"IFERROR(LEFT(Gerar_Upload!A749,120),\"erro\")","v":""},{"$f":"IFERROR(SUBSTITUTE(SUBSTITUTE(SUBSTITUTE(Gerar_Upload!B749,\".\",\"\"),\"-\",\"\"),\"/\",\"\"),\"erro\")","v":""},{"$f":"IFERROR(Gerar_Upload!C749,\"erro\")","v":0},{"$f":"IFERROR(Gerar_Upload!D749,\"erro\")","v":0},{"$f":"IFERROR(DATE(YEAR(Gerar_Upload!E749),MONTH(Gerar_Upload!E749),DAY(Gerar_Upload!E749)),\"erro\")","v":"00:00:00"},{"$f":"IFERROR(Gerar_Upload!F749,\"erro\")","v":0},{"$f":"IFERROR(IF(Gerar_Upload!G749<44,REPT(0,44-LEN(Gerar_Upload!G749))&Gerar_Upload!G749,Gerar_Upload!G749),\"erro\")","v":"00000000000000000000000000000000000000000000"}]
[{"$f":"IFERROR(LEFT(Gerar_Upload!A750,120),\"erro\")","v":""},{"$f":"IFERROR(SUBSTITUTE(SUBSTITUTE(SUBSTITUTE(Gerar_Upload!B750,\".\",\"\"),\"-\",\"\"),\"/\",\"\"),\"erro\")","v":""},{"$f":"IFERROR(Gerar_Upload!C750,\"erro\")","v":0},{"$f":"IFERROR(Gerar_Upload!D750,\"erro\")","v":0},{"$f":"IFERROR(DATE(YEAR(Gerar_Upload!E750),MONTH(Gerar_Upload!E750),DAY(Gerar_Upload!E750)),\"erro\")","v":"00:00:00"},{"$f":"IFERROR(Gerar_Upload!F750,\"erro\")","v":0},{"$f":"IFERROR(IF(Gerar_Upload!G750<44,REPT(0,44-LEN(Gerar_Upload!G750))&Gerar_Upload!G750,Gerar_Upload!G750),\"erro\")","v":"00000000000000000000000000000000000000000000"}]
[{"$f":"IFERROR(LEFT(Gerar_Upload!A751,120),\"erro\")","v":""},{"$f":"IFERROR(SUBSTITUTE(SUBSTITUTE(SUBSTITUTE(Gerar_Upload!B751,\".\",\"\"),\"-\",\"\"),\"/\",\"\"),\"erro\")","v":""},{"$f":"IFERROR(Gerar_Upload!C751,\"erro\")","v":0},{"$f":"IFERROR(Gerar_Upload!D751,\"erro\")","v":0},{"$f":"IFERROR(DATE(YEAR(Gerar_Upload!E751),MONTH(Gerar_Upload!E751),DAY(Gerar_Upload!E751)),\"erro\")","v":"00:00:00"},{"$f":"IFERROR(Gerar_Upload!F751,\"erro\")","v":0},{"$f":"IFERROR(IF(Gerar_Upload!G751<44,REPT(0,44-LEN(Gerar_Upload!G751))&Gerar_Upload!G751,Gerar_Upload!G751),\"erro\")","v":"00000000000000000000000000000000000000000000"}]
[{"$f":"IFERROR(LEFT(Gerar_Upload!A752,120),\"erro\")","v":""},{"$f":"IFERROR(SUBSTITUTE(SUBSTITUTE(SUBSTITUTE(Gerar_Upload!B752,\".\",\"\"),\"-\",\"\"),\"/\",\"\"),\"erro\")","v":""},{"$f":"IFERROR(Gerar_Upload!C752,\"erro\")","v":0},{"$f":"IFERROR(Gerar_Upload!D752,\"erro\")","v":0},{"$f":"IFERROR(DATE(YEAR(Gerar_Upload!E752),MONTH(Gerar_Upload!E752),DAY(Gerar_Upload!E752)),\"erro\")","v":"00:00:00"},{"$f":"IFERROR(Gerar_Upload!F752,\"erro\")","v":0},{"$f":"IFERROR(IF(Gerar_Upload!G752<44,REPT(0,44-LEN(Gerar_Upload!G752))&Gerar_Upload!G752,Gerar_Upload!G752),\"erro\")","v":"00000000000000000000000000000000000000000000"}]
[{"$f":"IFERROR(LEFT(Gerar_Upload!A753,120),\"erro\")","v":""},{"$f":"IFERROR(SUBSTITUTE(SUBSTITUTE(SUBSTITUTE(Gerar_Upload!B753,\".\",\"\"),\"-\",\"\"),\"/\",\"\"),\"erro\")","v":""},{"$f":"IFERROR(Gerar_Upload!C753,\"erro\")","v":0},{"$f":"IFERROR(Gerar_Upload!D753,\"erro\")","v":0},{"$f":"IFERROR(DATE(YEAR(Gerar_Upload!E753),MONTH(Gerar_Upload!E753),DAY(Gerar_Upload!E753)),\"erro\")","v":"00:00:00"},{"$f":"IFERROR(Gerar_Upload!F753,\"erro\")","v":0},{"$f":"IFERROR(IF(Gerar_Upload!G753<44,REPT(0,44-LEN(Gerar_Upload!G753))&Gerar_Upload!G753,Gerar_Upload!G753),\"erro\")","v":"00000000000000000000000000000000000000000000"}]
[{"$f":"IFERROR(LEFT(Gerar_Upload!A754,120),\"erro\")","v":""},{"$f":"IFERROR(SUBSTITUTE(SUBSTITUTE(SUBSTITUTE(Gerar_Upload!B754,\".\",\"\"),\"-\",\"\"),\"/\",\"\"),\"erro\")","v":""},{"$f":"IFERROR(Gerar_Upload!C754,\"erro\")","v":0},{"$f":"IFERROR(Gerar_Upload!D754,\"erro\")","v":0},{"$f":"IFERROR(DATE(YEAR(Gerar_Upload!E754),MONTH(Gerar_Upload!E754),DAY(Gerar_Upload!E754)),\"erro\")","v":"00:00:00"},{"$f":"IFERROR(Gerar_Upload!F754,\"erro\")","v":0},{"$f":"IFERROR(IF(Gerar_Upload!G754<44,REPT(0,44-LEN(Gerar_Upload!G754))&Gerar_Upload!G754,Gerar_Upload!G754),\"erro\")","v":"00000000000000000000000000000000000000000000"}]
[{"$f":"IFERROR(LEFT(Gerar_Upload!A755,120),\"erro\")","v":""},{"$f":"IFERROR(SUBSTITUTE(SUBSTITUTE(SUBSTITUTE(Gerar_Upload!B755,\".\",\"\"),\"-\",\"\"),\"/\",\"\"),\"erro\")","v":""},{"$f":"IFERROR(Gerar_Upload!C755,\"erro\")","v":0},{"$f":"IFERROR(Gerar_Upload!D755,\"erro\")","v":0},{"$f":"IFERROR(DATE(YEAR(Gerar_Upload!E755),MONTH(Gerar_Upload!E755),DAY(Gerar_Upload!E755)),\"erro\")","v":"00:00:00"},{"$f":"IFERROR(Gerar_Upload!F755,\"erro\")","v":0},{"$f":"IFERROR(IF(Gerar_Upload!G755<44,REPT(0,44-LEN(Gerar_Upload!G755))&Gerar_Upload!G755,Gerar_Upload!G755),\"erro\")","v":"00000000000000000000000000000000000000000000"}]
[{"$f":"IFERROR(LEFT(Gerar_Upload!A756,120),\"erro\")","v":""},{"$f":"IFERROR(SUBSTITUTE(SUBSTITUTE(SUBSTITUTE(Gerar_Upload!B756,\".\",\"\"),\"-\",\"\"),\"/\",\"\"),\"erro\")","v":""},{"$f":"IFERROR(Gerar_Upload!C756,\"erro\")","v":0},{"$f":"IFERROR(Gerar_Upload!D756,\"erro\")","v":0},{"$f":"IFERROR(DATE(YEAR(Gerar_Upload!E756),MONTH(Gerar_Upload!E756),DAY(Gerar_Upload!E756)),\"erro\")","v":"00:00:00"},{"$f":"IFERROR(Gerar_Upload!F756,\"erro\")","v":0},{"$f":"IFERROR(IF(Gerar_Upload!G756<44,REPT(0,44-LEN(Gerar_Upload!G756))&Gerar_Upload!G756,Gerar_Upload!G756),\"erro\")","v":"00000000000000000000000000000000000000000000"}]
[{"$f":"IFERROR(LEFT(Gerar_Upload!A757,120),\"erro\")","v":""},{"$f":"IFERROR(SUBSTITUTE(SUBSTITUTE(SUBSTITUTE(Gerar_Upload!B757,\".\",\"\"),\"-\",\"\"),\"/\",\"\"),\"erro\")","v":""},{"$f":"IFERROR(Gerar_Upload!C757,\"erro\")","v":0},{"$f":"IFERROR(Gerar_Upload!D757,\"erro\")","v":0},{"$f":"IFERROR(DATE(YEAR(Gerar_Upload!E757),MONTH(Gerar_Upload!E757),DAY(Gerar_Upload!E757)),\"erro\")","v":"00:00:00"},{"$f":"IFERROR(Gerar_Upload!F757,\"erro\")","v":0},{"$f":"IFERROR(IF(Gerar_Upload!G757<44,REPT(0,44-LEN(Gerar_Upload!G757))&Gerar_Upload!G757,Gerar_Upload!G757),\"erro\")","v":"00000000000000000000000000000000000000000000"}]
[{"$f":"IFERROR(LEFT(Gerar_Upload!A758,120),\"erro\")","v":""},{"$f":"IFERROR(SUBSTITUTE(SUBSTITUTE(SUBSTITUTE(Gerar_Upload!B758,\".\",\"\"),\"-\",\"\"),\"/\",\"\"),\"erro\")","v":""},{"$f":"IFERROR(Gerar_Upload!C758,\"erro\")","v":0},{"$f":"IFERROR(Gerar_Upload!D758,\"erro\")","v":0},{"$f":"IFERROR(DATE(YEAR(Gerar_Upload!E758),MONTH(Gerar_Upload!E758),DAY(Gerar_Upload!E758)),\"erro\")","v":"00:00:00"},{"$f":"IFERROR(Gerar_Upload!F758,\"erro\")","v":0},{"$f":"IFERROR(IF(Gerar_Upload!G758<44,REPT(0,44-LEN(Gerar_Upload!G758))&Gerar_Upload!G758,Gerar_Upload!G758),\"erro\")","v":"00000000000000000000000000000000000000000000"}]
[{"$f":"IFERROR(LEFT(Gerar_Upload!A759,120),\"erro\")","v":""},{"$f":"IFERROR(SUBSTITUTE(SUBSTITUTE(SUBSTITUTE(Gerar_Upload!B759,\".\",\"\"),\"-\",\"\"),\"/\",\"\"),\"erro\")","v":""},{"$f":"IFERROR(Gerar_Upload!C759,\"erro\")","v":0},{"$f":"IFERROR(Gerar_Upload!D759,\"erro\")","v":0},{"$f":"IFERROR(DATE(YEAR(Gerar_Upload!E759),MONTH(Gerar_Upload!E759),DAY(Gerar_Upload!E759)),\"erro\")","v":"00:00:00"},{"$f":"IFERROR(Gerar_Upload!F759,\"erro\")","v":0},{"$f":"IFERROR(IF(Gerar_Upload!G759<44,REPT(0,44-LEN(Gerar_Upload!G759))&Gerar_Upload!G759,Gerar_Upload!G759),\"erro\")","v":"00000000000000000000000000000000000000000000"}]
[{"$f":"IFERROR(LEFT(Gerar_Upload!A760,120),\"erro\")","v":""},{"$f":"IFERROR(SUBSTITUTE(SUBSTITUTE(SUBSTITUTE(Gerar_Upload!B760,\".\",\"\"),\"-\",\"\"),\"/\",\"\"),\"erro\")","v":""},{"$f":"IFERROR(Gerar_Upload!C760,\"erro\")","v":0},{"$f":"IFERROR(Gerar_Upload!D760,\"erro\")","v":0},{"$f":"IFERROR(DATE(YEAR(Gerar_Upload!E760),MONTH(Gerar_Upload!E760),DAY(Gerar_Upload!E760)),\"erro\")","v":"00:00:00"},{"$f":"IFERROR(Gerar_Upload!F760,\"erro\")","v":0},{"$f":"IFERROR(IF(Gerar_Upload!G760<44,REPT(0,44-LEN(Gerar_Upload!G760))&Gerar_Upload!G760,Gerar_Upload!G760),\"erro\")","v":"00000000000000000000000000000000000000000000"}]
[{"$f":"IFERROR(LEFT(Gerar_Upload!A761,120),\"erro\")","v":""},{"$f":"IFERROR(SUBSTITUTE(SUBSTITUTE(SUBSTITUTE(Gerar_Upload!B761,\".\",\"\"),\"-\",\"\"),\"/\",\"\"),\"erro\")","v":""},{"$f":"IFERROR(Gerar_Upload!C761,\"erro\")","v":0},{"$f":"IFERROR(Gerar_Upload!D761,\"erro\")","v":0},{"$f":"IFERROR(DATE(YEAR(Gerar_Upload!E761),MONTH(Gerar_Upload!E761),DAY(Gerar_Upload!E761)),\"erro\")","v":"00:00:00"},{"$f":"IFERROR(Gerar_Upload!F761,\"erro\")","v":0},{"$f":"IFERROR(IF(Gerar_Upload!G761<44,REPT(0,44-LEN(Gerar_Upload!G761))&Gerar_Upload!G761,Gerar_Upload!G761),\"erro\")","v":"00000000000000000000000000000000000000000000"}]
[{"$f":"IFERROR(LEFT(Gerar_Upload!A762,120),\"erro\")","v":""},{"$f":"IFERROR(SUBSTITUTE(SUBSTITUTE(SUBSTITUTE(Gerar_Upload!B762,\".\",\"\"),\"-\",\"\"),\"/\",\"\"),\"erro\")","v":""},{"$f":"IFERROR(Gerar_Upload!C762,\"erro\")","v":0},{"$f":"IFERROR(Gerar_Upload!D762,\"erro\")","v":0},{"$f":"IFERROR(DATE(YEAR(Gerar_Upload!E762),MONTH(Gerar_Upload!E762),DAY(Gerar_Upload!E762)),\"erro\")","v":"00:00:00"},{"$f":"IFERROR(Gerar_Upload!F762,\"erro\")","v":0},{"$f":"IFERROR(IF(Gerar_Upload!G762<44,REPT(0,44-LEN(Gerar_Upload!G762))&Gerar_Upload!G762,Gerar_Upload!G762),\"erro\")","v":"00000000000000000000000000000000000000000000"}]
[{"$f":"IFERROR(LEFT(Gerar_Upload!A763,120),\"erro\")","v":""},{"$f":"IFERROR(SUBSTITUTE(SUBSTITUTE(SUBSTITUTE(Gerar_Upload!B763,\".\",\"\"),\"-\",\"\"),\"/\",\"\"),\"erro\")","v":""},{"$f":"IFERROR(Gerar_Upload!C763,\"erro\")","v":0},{"$f":"IFERROR(Gerar_Upload!D763,\"erro\")","v":0},{"$f":"IFERROR(DATE(YEAR(Gerar_Upload!E763),MONTH(Gerar_Upload!E763),DAY(Gerar_Upload!E763)),\"erro\")","v":"00:00:00"},{"$f":"IFERROR(Gerar_Upload!F763,\"erro\")","v":0},{"$f":"IFERROR(IF(Gerar_Upload!G763<44,REPT(0,44-LEN(Gerar_Upload!G763))&Gerar_Upload!G763,Gerar_Upload!G763),\"erro\")","v":"00000000000000000000000000000000000000000000"}]
[{"$f":"IFERROR(LEFT(Gerar_Upload!A764,120),\"erro\")","v":""},{"$f":"IFERROR(SUBSTITUTE(SUBSTITUTE(SUBSTITUTE(Gerar_Upload!B764,\".\",\"\"),\"-\",\"\"),\"/\",\"\"),\"erro\")","v":""},{"$f":"IFERROR(Gerar_Upload!C764,\"erro\")","v":0},{"$f":"IFERROR(Gerar_Upload!D764,\"erro\")","v":0},{"$f":"IFERROR(DATE(YEAR(Gerar_Upload!E764),MONTH(Gerar_Upload!E764),DAY(Gerar_Upload!E764)),\"erro\")","v":"00:00:00"},{"$f":"IFERROR(Gerar_Upload!F764,\"erro\")","v":0},{"$f":"IFERROR(IF(Gerar_Upload!G764<44,REPT(0,44-LEN(Gerar_Upload!G764))&Gerar_Upload!G764,Gerar_Upload!G764),\"erro\")","v":"00000000000000000000000000000000000000000000"}]
[{"$f":"IFERROR(LEFT(Gerar_Upload!A765,120),\"erro\")","v":""},{"$f":"IFERROR(SUBSTITUTE(SUBSTITUTE(SUBSTITUTE(Gerar_Upload!B765,\".\",\"\"),\"-\",\"\"),\"/\",\"\"),\"erro\")","v":""},{"$f":"IFERROR(Gerar_Upload!C765,\"erro\")","v":0},{"$f":"IFERROR(Gerar_Upload!D765,\"erro\")","v":0},{"$f":"IFERROR(DATE(YEAR(Gerar_Upload!E765),MONTH(Gerar_Upload!E765),DAY(Gerar_Upload!E765)),\"erro\")","v":"00:00:00"},{"$f":"IFERROR(Gerar_Upload!F765,\"erro\")","v":0},{"$f":"IFERROR(IF(Gerar_Upload!G765<44,REPT(0,44-LEN(Gerar_Upload!G765))&Gerar_Upload!G765,Gerar_Upload!G765),\"erro\")","v":"00000000000000000000000000000000000000000000"}]
[{"$f":"IFERROR(LEFT(Gerar_Upload!A766,120),\"erro\")","v":""},{"$f":"IFERROR(SUBSTITUTE(SUBSTITUTE(SUBSTITUTE(Gerar_Upload!B766,\".\",\"\"),\"-\",\"\"),\"/\",\"\"),\"erro\")","v":""},{"$f":"IFERROR(Gerar_Upload!C766,\"erro\")","v":0},{"$f":"IFERROR(Gerar_Upload!D766,\"erro\")","v":0},{"$f":"IFERROR(DATE(YEAR(Gerar_Upload!E766),MONTH(Gerar_Upload!E766),DAY(Gerar_Upload!E766)),\"erro\")","v":"00:00:00"},{"$f":"IFERROR(Gerar_Upload!F766,\"erro\")","v":0},{"$f":"IFERROR(IF(Gerar_Upload!G766<44,REPT(0,44-LEN(Gerar_Upload!G766))&Gerar_Upload!G766,Gerar_Upload!G766),\"erro\")","v":"00000000000000000000000000000000000000000000"}]
[{"$f":"IFERROR(LEFT(Gerar_Upload!A767,120),\"erro\")","v":""},{"$f":"IFERROR(SUBSTITUTE(SUBSTITUTE(SUBSTITUTE(Gerar_Upload!B767,\".\",\"\"),\"-\",\"\"),\"/\",\"\"),\"erro\")","v":""},{"$f":"IFERROR(Gerar_Upload!C767,\"erro\")","v":0},{"$f":"IFERROR(Gerar_Upload!D767,\"erro\")","v":0},{"$f":"IFERROR(DATE(YEAR(Gerar_Upload!E767),MONTH(Gerar_Upload!E767),DAY(Gerar_Upload!E767)),\"erro\")","v":"00:00:00"},{"$f":"IFERROR(Gerar_Upload!F767,\"erro\")","v":0},{"$f":"IFERROR(IF(Gerar_Upload!G767<44,REPT(0,44-LEN(Gerar_Upload!G767))&Gerar_Upload!G767,Gerar_Upload!G767),\"erro\")","v":"00000000000000000000000000000000000000000000"}]
[{"$f":"IFERROR(LEFT(Gerar_Upload!A768,120),\"erro\")","v":""},{"$f":"IFERROR(SUBSTITUTE(SUBSTITUTE(SUBSTITUTE(Gerar_Upload!B768,\".\",\"\"),\"-\",\"\"),\"/\",\"\"),\"erro\")","v":""},{"$f":"IFERROR(Gerar_Upload!C768,\"erro\")","v":0},{"$f":"IFERROR(Gerar_Upload!D768,\"erro\")","v":0},{"$f":"IFERROR(DATE(YEAR(Gerar_Upload!E768),MONTH(Gerar_Upload!E768),DAY(Gerar_Upload!E768)),\"erro\")","v":"00:00:00"},{"$f":"IFERROR(Gerar_Upload!F768,\"erro\")","v":0},{"$f":"IFERROR(IF(Gerar_Upload!G768<44,REPT(0,44-LEN(Gerar_Upload!G768))&Gerar_Upload!G768,Gerar_Upload!G768),\"erro\")","v":"00000000000000000000000000000000000000000000"}]
[{"$f":"IFERROR(LEFT(Gerar_Upload!A769,120),\"erro\")","v":""},{"$f":"IFERROR(SUBSTITUTE(SUBSTITUTE(SUBSTITUTE(Gerar_Upload!B769,\".\",\"\"),\"-\",\"\"),\"/\",\"\"),\"erro\")","v":""},{"$f":"IFERROR(Gerar_Upload!C769,\"erro\")","v":0},{"$f":"IFERROR(Gerar_Upload!D769,\"erro\")","v":0},{"$f":"IFERROR(DATE(YEAR(Gerar_Upload!E769),MONTH(Gerar_Upload!E769),DAY(Gerar_Upload!E769)),\"erro\")","v":"00:00:00"},{"$f":"IFERROR(Gerar_Upload!F769,\"erro\")","v":0},{"$f":"IFERROR(IF(Gerar_Upload!G769<44,REPT(0,44-LEN(Gerar_Upload!G769))&Gerar_Upload!G769,Gerar_Upload!G769),\"erro\")","v":"00000000000000000000000000000000000000000000"}]
[{"$f":"IFERROR(LEFT(Gerar_Upload!A770,120),\"erro\")","v":""},{"$f":"IFERROR(SUBSTITUTE(SUBSTITUTE(SUBSTITUTE(Gerar_Upload!B770,\".\",\"\"),\"-\",\"\"),\"/\",\"\"),\"erro\")","v":""},{"$f":"IFERROR(Gerar_Upload!C770,\"erro\")","v":0},{"$f":"IFERROR(Gerar_Upload!D770,\"erro\")","v":0},{"$f":"IFERROR(DATE(YEAR(Gerar_Upload!E770),MONTH(Gerar_Upload!E770),DAY(Gerar_Upload!E770)),\"erro\")","v":"00:00:00"},{"$f":"IFERROR(Gerar_Upload!F770,\"erro\")","v":0},{"$f":"IFERROR(IF(Gerar_Upload!G770<44,REPT(0,44-LEN(Gerar_Upload!G770))&Gerar_Upload!G770,Gerar_Upload!G770),\"erro\")","v":"00000000000000000000000000000000000000000000"}]
[{"$f":"IFERROR(LEFT(Gerar_Upload!A771,120),\"erro\")","v":""},{"$f":"IFERROR(SUBSTITUTE(SUBSTITUTE(SUBSTITUTE(Gerar_Upload!B771,\".\",\"\"),\"-\",\"\"),\"/\",\"\"),\"erro\")","v":""},{"$f":"IFERROR(Gerar_Upload!C771,\"erro\")","v":0},{"$f":"IFERROR(Gerar_Upload!D771,\"erro\")","v":0},{"$f":"IFERROR(DATE(YEAR(Gerar_Upload!E771),MONTH(Gerar_Upload!E771),DAY(Gerar_Upload!E771)),\"erro\")","v":"00:00:00"},{"$f":"IFERROR(Gerar_Upload!F771,\"erro\")","v":0},{"$f":"IFERROR(IF(Gerar_Upload!G771<44,REPT(0,44-LEN(Gerar_Upload!G771))&Gerar_Upload!G771,Gerar_Upload!G771),\"erro\")","v":"00000000000000000000000000000000000000000000"}]
[{"$f":"IFERROR(LEFT(Gerar_Upload!A772,120),\"erro\")","v":""},{"$f":"IFERROR(SUBSTITUTE(SUBSTITUTE(SUBSTITUTE(Gerar_Upload!B772,\".\",\"\"),\"-\",\"\"),\"/\",\"\"),\"erro\")","v":""},{"$f":"IFERROR(Gerar_Upload!C772,\"erro\")","v":0},{"$f":"IFERROR(Gerar_Upload!D772,\"erro\")","v":0},{"$f":"IFERROR(DATE(YEAR(Gerar_Upload!E772),MONTH(Gerar_Upload!E772),DAY(Gerar_Upload!E772)),\"erro\")","v":"00:00:00"},{"$f":"IFERROR(Gerar_Upload!F772,\"erro\")","v":0},{"$f":"IFERROR(IF(Gerar_Upload!G772<44,REPT(0,44-LEN(Gerar_Upload!G772))&Gerar_Upload!G772,Gerar_Upload!G772),\"erro\")","v":"00000000000000000000000000000000000000000000"}]
[{"$f":"IFERROR(LEFT(Gerar_Upload!A773,120),\"erro\")","v":""},{"$f":"IFERROR(SUBSTITUTE(SUBSTITUTE(SUBSTITUTE(Gerar_Upload!B773,\".\",\"\"),\"-\",\"\"),\"/\",\"\"),\"erro\")","v":""},{"$f":"IFERROR(Gerar_Upload!C773,\"erro\")","v":0},{"$f":"IFERROR(Gerar_Upload!D773,\"erro\")","v":0},{"$f":"IFERROR(DATE(YEAR(Gerar_Upload!E773),MONTH(Gerar_Upload!E773),DAY(Gerar_Upload!E773)),\"erro\")","v":"00:00:00"},{"$f":"IFERROR(Gerar_Upload!F773,\"erro\")","v":0},{"$f":"IFERROR(IF(Gerar_Upload!G773<44,REPT(0,44-LEN(Gerar_Upload!G773))&Gerar_Upload!G773,Gerar_Upload!G773),\"erro\")","v":"00000000000000000000000000000000000000000000"}]
[{"$f":"IFERROR(LEFT(Gerar_Upload!A774,120),\"erro\")","v":""},{"$f":"IFERROR(SUBSTITUTE(SUBSTITUTE(SUBSTITUTE(Gerar_Upload!B774,\".\",\"\"),\"-\",\"\"),\"/\",\"\"),\"erro\")","v":""},{"$f":"IFERROR(Gerar_Upload!C774,\"erro\")","v":0},{"$f":"IFERROR(Gerar_Upload!D774,\"erro\")","v":0},{"$f":"IFERROR(DATE(YEAR(Gerar_Upload!E774),MONTH(Gerar_Upload!E774),DAY(Gerar_Upload!E774)),\"erro\")","v":"00:00:00"},{"$f":"IFERROR(Gerar_Upload!F774,\"erro\")","v":0},{"$f":"IFERROR(IF(Gerar_Upload!G774<44,REPT(0,44-LEN(Gerar_Upload!G774))&Gerar_Upload!G774,Gerar_Upload!G774),\"erro\")","v":"00000000000000000000000000000000000000000000"}]
[{"$f":"IFERROR(LEFT(Gerar_Upload!A775,120),\"erro\")","v":""},{"$f":"IFERROR(SUBSTITUTE(SUBSTITUTE(SUBSTITUTE(Gerar_Upload!B775,\".\",\"\"),\"-\",\"\"),\"/\",\"\"),\"erro\")","v":""},{"$f":"IFERROR(Gerar_Upload!C775,\"erro\")","v":0},{"$f":"IFERROR(Gerar_Upload!D775,\"erro\")","v":0},{"$f":"IFERROR(DATE(YEAR(Gerar_Upload!E775),MONTH(Gerar_Upload!E775),DAY(Gerar_Upload!E775)),\"erro\")","v":"00:00:00"},{"$f":"IFERROR(Gerar_Upload!F775,\"erro\")","v":0},{"$f":"IFERROR(IF(Gerar_Upload!G775<44,REPT(0,44-LEN(Gerar_Upload!G775))&Gerar_Upload!G775,Gerar_Upload!G775),\"erro\")","v":"00000000000000000000000000000000000000000000"}]
[{"$f":"IFERROR(LEFT(Gerar_Upload!A776,120),\"erro\")","v":""},{"$f":"IFERROR(SUBSTITUTE(SUBSTITUTE(SUBSTITUTE(Gerar_Upload!B776,\".\",\"\"),\"-\",\"\"),\"/\",\"\"),\"erro\")","v":""},{"$f":"IFERROR(Gerar_Upload!C776,\"erro\")","v":0},{"$f":"IFERROR(Gerar_Upload!D776,\"erro\")","v":0},{"$f":"IFERROR(DATE(YEAR(Gerar_Upload!E776),MONTH(Gerar_Upload!E776),DAY(Gerar_Upload!E776)),\"erro\")","v":"00:00:00"},{"$f":"IFERROR(Gerar_Upload!F776,\"erro\")","v":0},{"$f":"IFERROR(IF(Gerar_Upload!G776<44,REPT(0,44-LEN(Gerar_Upload!G776))&Gerar_Upload!G776,Gerar_Upload!G776),\"erro\")","v":"00000000000000000000000000000000000000000000"}]
[{"$f":"IFERROR(LEFT(Gerar_Upload!A777,120),\"erro\")","v":""},{"$f":"IFERROR(SUBSTITUTE(SUBSTITUTE(SUBSTITUTE(Gerar_Upload!B777,\".\",\"\"),\"-\",\"\"),\"/\",\"\"),\"erro\")","v":""},{"$f":"IFERROR(Gerar_Upload!C777,\"erro\")","v":0},{"$f":"IFERROR(Gerar_Upload!D777,\"erro\")","v":0},{"$f":"IFERROR(DATE(YEAR(Gerar_Upload!E777),MONTH(Gerar_Upload!E777),DAY(Gerar_Upload!E777)),\"erro\")","v":"00:00:00"},{"$f":"IFERROR(Gerar_Upload!F777,\"erro\")","v":0},{"$f":"IFERROR(IF(Gerar_Upload!G777<44,REPT(0,44-LEN(Gerar_Upload!G777))&Gerar_Upload!G777,Gerar_Upload!G777),\"erro\")","v":"00000000000000000000000000000000000000000000"}]
[{"$f":"IFERROR(LEFT(Gerar_Upload!A778,120),\"erro\")","v":""},{"$f":"IFERROR(SUBSTITUTE(SUBSTITUTE(SUBSTITUTE(Gerar_Upload!B778,\".\",\"\"),\"-\",\"\"),\"/\",\"\"),\"erro\")","v":""},{"$f":"IFERROR(Gerar_Upload!C778,\"erro\")","v":0},{"$f":"IFERROR(Gerar_Upload!D778,\"erro\")","v":0},{"$f":"IFERROR(DATE(YEAR(Gerar_Upload!E778),MONTH(Gerar_Upload!E778),DAY(Gerar_Upload!E778)),\"erro\")","v":"00:00:00"},{"$f":"IFERROR(Gerar_Upload!F778,\"erro\")","v":0},{"$f":"IFERROR(IF(Gerar_Upload!G778<44,REPT(0,44-LEN(Gerar_Upload!G778))&Gerar_Upload!G778,Gerar_Upload!G778),\"erro\")","v":"00000000000000000000000000000000000000000000"}]
[{"$f":"IFERROR(LEFT(Gerar_Upload!A779,120),\"erro\")","v":""},{"$f":"IFERROR(SUBSTITUTE(SUBSTITUTE(SUBSTITUTE(Gerar_Upload!B779,\".\",\"\"),\"-\",\"\"),\"/\",\"\"),\"erro\")","v":""},{"$f":"IFERROR(Gerar_Upload!C779,\"erro\")","v":0},{"$f":"IFERROR(Gerar_Upload!D779,\"erro\")","v":0},{"$f":"IFERROR(DATE(YEAR(Gerar_Upload!E779),MONTH(Gerar_Upload!E779),DAY(Gerar_Upload!E779)),\"erro\")","v":"00:00:00"},{"$f":"IFERROR(Gerar_Upload!F779,\"erro\")","v":0},{"$f":"IFERROR(IF(Gerar_Upload!G779<44,REPT(0,44-LEN(Gerar_Upload!G779))&Gerar_Upload!G779,Gerar_Upload!G779),\"erro\")","v":"00000000000000000000000000000000000000000000"}]
[{"$f":"IFERROR(LEFT(Gerar_Upload!A780,120),\"erro\")","v":""},{"$f":"IFERROR(SUBSTITUTE(SUBSTITUTE(SUBSTITUTE(Gerar_Upload!B780,\".\",\"\"),\"-\",\"\"),\"/\",\"\"),\"erro\")","v":""},{"$f":"IFERROR(Gerar_Upload!C780,\"erro\")","v":0},{"$f":"IFERROR(Gerar_Upload!D780,\"erro\")","v":0},{"$f":"IFERROR(DATE(YEAR(Gerar_Upload!E780),MONTH(Gerar_Upload!E780),DAY(Gerar_Upload!E780)),\"erro\")","v":"00:00:00"},{"$f":"IFERROR(Gerar_Upload!F780,\"erro\")","v":0},{"$f":"IFERROR(IF(Gerar_Upload!G780<44,REPT(0,44-LEN(Gerar_Upload!G780))&Gerar_Upload!G780,Gerar_Upload!G780),\"erro\")","v":"00000000000000000000000000000000000000000000"}]
[{"$f":"IFERROR(LEFT(Gerar_Upload!A781,120),\"erro\")","v":""},{"$f":"IFERROR(SUBSTITUTE(SUBSTITUTE(SUBSTITUTE(Gerar_Upload!B781,\".\",\"\"),\"-\",\"\"),\"/\",\"\"),\"erro\")","v":""},{"$f":"IFERROR(Gerar_Upload!C781,\"erro\")","v":0},{"$f":"IFERROR(Gerar_Upload!D781,\"erro\")","v":0},{"$f":"IFERROR(DATE(YEAR(Gerar_Upload!E781),MONTH(Gerar_Upload!E781),DAY(Gerar_Upload!E781)),\"erro\")","v":"00:00:00"},{"$f":"IFERROR(Gerar_Upload!F781,\"erro\")","v":0},{"$f":"IFERROR(IF(Gerar_Upload!G781<44,REPT(0,44-LEN(Gerar_Upload!G781))&Gerar_Upload!G781,Gerar_Upload!G781),\"erro\")","v":"00000000000000000000000000000000000000000000"}]
[{"$f":"IFERROR(LEFT(Gerar_Upload!A782,120),\"erro\")","v":""},{"$f":"IFERROR(SUBSTITUTE(SUBSTITUTE(SUBSTITUTE(Gerar_Upload!B782,\".\",\"\"),\"-\",\"\"),\"/\",\"\"),\"erro\")","v":""},{"$f":"IFERROR(Gerar_Upload!C782,\"erro\")","v":0},{"$f":"IFERROR(Gerar_Upload!D782,\"erro\")","v":0},{"$f":"IFERROR(DATE(YEAR(Gerar_Upload!E782),MONTH(Gerar_Upload!E782),DAY(Gerar_Upload!E782)),\"erro\")","v":"00:00:00"},{"$f":"IFERROR(Gerar_Upload!F782,\"erro\")","v":0},{"$f":"IFERROR(IF(Gerar_Upload!G782<44,REPT(0,44-LEN(Gerar_Upload!G782))&Gerar_Upload!G782,Gerar_Upload!G782),\"erro\")","v":"00000000000000000000000000000000000000000000"}]
[{"$f":"IFERROR(LEFT(Gerar_Upload!A783,120),\"erro\")","v":""},{"$f":"IFERROR(SUBSTITUTE(SUBSTITUTE(SUBSTITUTE(Gerar_Upload!B783,\".\",\"\"),\"-\",\"\"),\"/\",\"\"),\"erro\")","v":""},{"$f":"IFERROR(Gerar_Upload!C783,\"erro\")","v":0},{"$f":"IFERROR(Gerar_Upload!D783,\"erro\")","v":0},{"$f":"IFERROR(DATE(YEAR(Gerar_Upload!E783),MONTH(Gerar_Upload!E783),DAY(Gerar_Upload!E783)),\"erro\")","v":"00:00:00"},{"$f":"IFERROR(Gerar_Upload!F783,\"erro\")","v":0},{"$f":"IFERROR(IF(Gerar_Upload!G783<44,REPT(0,44-LEN(Gerar_Upload!G783))&Gerar_Upload!G783,Gerar_Upload!G783),\"erro\")","v":"00000000000000000000000000000000000000000000"}]
[{"$f":"IFERROR(LEFT(Gerar_Upload!A784,120),\"erro\")","v":""},{"$f":"IFERROR(SUBSTITUTE(SUBSTITUTE(SUBSTITUTE(Gerar_Upload!B784,\".\",\"\"),\"-\",\"\"),\"/\",\"\"),\"erro\")","v":""},{"$f":"IFERROR(Gerar_Upload!C784,\"erro\")","v":0},{"$f":"IFERROR(Gerar_Upload!D784,\"erro\")","v":0},{"$f":"IFERROR(DATE(YEAR(Gerar_Upload!E784),MONTH(Gerar_Upload!E784),DAY(Gerar_Upload!E784)),\"erro\")","v":"00:00:00"},{"$f":"IFERROR(Gerar_Upload!F784,\"erro\")","v":0},{"$f":"IFERROR(IF(Gerar_Upload!G784<44,REPT(0,44-LEN(Gerar_Upload!G784))&Gerar_Upload!G784,Gerar_Upload!G784),\"erro\")","v":"00000000000000000000000000000000000000000000"}]
[{"$f":"IFERROR(LEFT(Gerar_Upload!A785,120),\"erro\")","v":""},{"$f":"IFERROR(SUBSTITUTE(SUBSTITUTE(SUBSTITUTE(Gerar_Upload!B785,\".\",\"\"),\"-\",\"\"),\"/\",\"\"),\"erro\")","v":""},{"$f":"IFERROR(Gerar_Upload!C785,\"erro\")","v":0},{"$f":"IFERROR(Gerar_Upload!D785,\"erro\")","v":0},{"$f":"IFERROR(DATE(YEAR(Gerar_Upload!E785),MONTH(Gerar_Upload!E785),DAY(Gerar_Upload!E785)),\"erro\")","v":"00:00:00"},{"$f":"IFERROR(Gerar_Upload!F785,\"erro\")","v":0},{"$f":"IFERROR(IF(Gerar_Upload!G785<44,REPT(0,44-LEN(Gerar_Upload!G785))&Gerar_Upload!G785,Gerar_Upload!G785),\"erro\")","v":"00000000000000000000000000000000000000000000"}]
[{"$f":"IFERROR(LEFT(Gerar_Upload!A786,120),\"erro\")","v":""},{"$f":"IFERROR(SUBSTITUTE(SUBSTITUTE(SUBSTITUTE(Gerar_Upload!B786,\".\",\"\"),\"-\",\"\"),\"/\",\"\"),\"erro\")","v":""},{"$f":"IFERROR(Gerar_Upload!C786,\"erro\")","v":0},{"$f":"IFERROR(Gerar_Upload!D786,\"erro\")","v":0},{"$f":"IFERROR(DATE(YEAR(Gerar_Upload!E786),MONTH(Gerar_Upload!E786),DAY(Gerar_Upload!E786)),\"erro\")","v":"00:00:00"},{"$f":"IFERROR(Gerar_Upload!F786,\"erro\")","v":0},{"$f":"IFERROR(IF(Gerar_Upload!G786<44,REPT(0,44-LEN(Gerar_Upload!G786))&Gerar_Upload!G786,Gerar_Upload!G786),\"erro\")","v":"00000000000000000000000000000000000000000000"}]
[{"$f":"IFERROR(LEFT(Gerar_Upload!A787,120),\"erro\")","v":""},{"$f":"IFERROR(SUBSTITUTE(SUBSTITUTE(SUBSTITUTE(Gerar_Upload!B787,\".\",\"\"),\"-\",\"\"),\"/\",\"\"),\"erro\")","v":""},{"$f":"IFERROR(Gerar_Upload!C787,\"erro\")","v":0},{"$f":"IFERROR(Gerar_Upload!D787,\"erro\")","v":0},{"$f":"IFERROR(DATE(YEAR(Gerar_Upload!E787),MONTH(Gerar_Upload!E787),DAY(Gerar_Upload!E787)),\"erro\")","v":"00:00:00"},{"$f":"IFERROR(Gerar_Upload!F787,\"erro\")","v":0},{"$f":"IFERROR(IF(Gerar_Upload!G787<44,REPT(0,44-LEN(Gerar_Upload!G787))&Gerar_Upload!G787,Gerar_Upload!G787),\"erro\")","v":"00000000000000000000000000000000000000000000"}]
[{"$f":"IFERROR(LEFT(Gerar_Upload!A788,120),\"erro\")","v":""},{"$f":"IFERROR(SUBSTITUTE(SUBSTITUTE(SUBSTITUTE(Gerar_Upload!B788,\".\",\"\"),\"-\",\"\"),\"/\",\"\"),\"erro\")","v":""},{"$f":"IFERROR(Gerar_Upload!C788,\"erro\")","v":0},{"$f":"IFERROR(Gerar_Upload!D788,\"erro\")","v":0},{"$f":"IFERROR(DATE(YEAR(Gerar_Upload!E788),MONTH(Gerar_Upload!E788),DAY(Gerar_Upload!E788)),\"erro\")","v":"00:00:00"},{"$f":"IFERROR(Gerar_Upload!F788,\"erro\")","v":0},{"$f":"IFERROR(IF(Gerar_Upload!G788<44,REPT(0,44-LEN(Gerar_Upload!G788))&Gerar_Upload!G788,Gerar_Upload!G788),\"erro\")","v":"00000000000000000000000000000000000000000000"}]
[{"$f":"IFERROR(LEFT(Gerar_Upload!A789,120),\"erro\")","v":""},{"$f":"IFERROR(SUBSTITUTE(SUBSTITUTE(SUBSTITUTE(Gerar_Upload!B789,\".\",\"\"),\"-\",\"\"),\"/\",\"\"),\"erro\")","v":""},{"$f":"IFERROR(Gerar_Upload!C789,\"erro\")","v":0},{"$f":"IFERROR(Gerar_Upload!D789,\"erro\")","v":0},{"$f":"IFERROR(DATE(YEAR(Gerar_Upload!E789),MONTH(Gerar_Upload!E789),DAY(Gerar_Upload!E789)),\"erro\")","v":"00:00:00"},{"$f":"IFERROR(Gerar_Upload!F789,\"erro\")","v":0},{"$f":"IFERROR(IF(Gerar_Upload!G789<44,REPT(0,44-LEN(Gerar_Upload!G789))&Gerar_Upload!G789,Gerar_Upload!G789),\"erro\")","v":"00000000000000000000000000000000000000000000"}]
[{"$f":"IFERROR(LEFT(Gerar_Upload!A790,120),\"erro\")","v":""},{"$f":"IFERROR(SUBSTITUTE(SUBSTITUTE(SUBSTITUTE(Gerar_Upload!B790,\".\",\"\"),\"-\",\"\"),\"/\",\"\"),\"erro\")","v":""},{"$f":"IFERROR(Gerar_Upload!C790,\"erro\")","v":0},{"$f":"IFERROR(Gerar_Upload!D790,\"erro\")","v":0},{"$f":"IFERROR(DATE(YEAR(Gerar_Upload!E790),MONTH(Gerar_Upload!E790),DAY(Gerar_Upload!E790)),\"erro\")","v":"00:00:00"},{"$f":"IFERROR(Gerar_Upload!F790,\"erro\")","v":0},{"$f":"IFERROR(IF(Gerar_Upload!G790<44,REPT(0,44-LEN(Gerar_Upload!G790))&Gerar_Upload!G790,Gerar_Upload!G790),\"erro\")","v":"00000000000000000000000000000000000000000000"}]
[{"$f":"IFERROR(LEFT(Gerar_Upload!A791,120),\"erro\")","v":""},{"$f":"IFERROR(SUBSTITUTE(SUBSTITUTE(SUBSTITUTE(Gerar_Upload!B791,\".\",\"\"),\"-\",\"\"),\"/\",\"\"),\"erro\")","v":""},{"$f":"IFERROR(Gerar_Upload!C791,\"erro\")","v":0},{"$f":"IFERROR(Gerar_Upload!D791,\"erro\")","v":0},{"$f":"IFERROR(DATE(YEAR(Gerar_Upload!E791),MONTH(Gerar_Upload!E791),DAY(Gerar_Upload!E791)),\"erro\")","v":"00:00:00"},{"$f":"IFERROR(Gerar_Upload!F791,\"erro\")","v":0},{"$f":"IFERROR(IF(Gerar_Upload!G791<44,REPT(0,44-LEN(Gerar_Upload!G791))&Gerar_Upload!G791,Gerar_Upload!G791),\"erro\")","v":"00000000000000000000000000000000000000000000"}]
[{"$f":"IFERROR(LEFT(Gerar_Upload!A792,120),\"erro\")","v":""},{"$f":"IFERROR(SUBSTITUTE(SUBSTITUTE(SUBSTITUTE(Gerar_Upload!B792,\".\",\"\"),\"-\",\"\"),\"/\",\"\"),\"erro\")","v":""},{"$f":"IFERROR(Gerar_Upload!C792,\"erro\")","v":0},{"$f":"IFERROR(Gerar_Upload!D792,\"erro\")","v":0},{"$f":"IFERROR(DATE(YEAR(Gerar_Upload!E792),MONTH(Gerar_Upload!E792),DAY(Gerar_Upload!E792)),\"erro\")","v":"00:00:00"},{"$f":"IFERROR(Gerar_Upload!F792,\"erro\")","v":0},{"$f":"IFERROR(IF(Gerar_Upload!G792<44,REPT(0,44-LEN(Gerar_Upload!G792))&Gerar_Upload!G792,Gerar_Upload!G792),\"erro\")","v":"00000000000000000000000000000000000000000000"}]
[{"$f":"IFERROR(LEFT(Gerar_Upload!A793,120),\"erro\")","v":""},{"$f":"IFERROR(SUBSTITUTE(SUBSTITUTE(SUBSTITUTE(Gerar_Upload!B793,\".\",\"\"),\"-\",\"\"),\"/\",\"\"),\"erro\")","v":""},{"$f":"IFERROR(Gerar_Upload!C793,\"erro\")","v":0},{"$f":"IFERROR(Gerar_Upload!D793,\"erro\")","v":0},{"$f":"IFERROR(DATE(YEAR(Gerar_Upload!E793),MONTH(Gerar_Upload!E793),DAY(Gerar_Upload!E793)),\"erro\")","v":"00:00:00"},{"$f":"IFERROR(Gerar_Upload!F793,\"erro\")","v":0},{"$f":"IFERROR(IF(Gerar_Upload!G793<44,REPT(0,44-LEN(Gerar_Upload!G793))&Gerar_Upload!G793,Gerar_Upload!G793),\"erro\")","v":"00000000000000000000000000000000000000000000"}]
[{"$f":"IFERROR(LEFT(Gerar_Upload!A794,120),\"erro\")","v":""},{"$f":"IFERROR(SUBSTITUTE(SUBSTITUTE(SUBSTITUTE(Gerar_Upload!B794,\".\",\"\"),\"-\",\"\"),\"/\",\"\"),\"erro\")","v":""},{"$f":"IFERROR(Gerar_Upload!C794,\"erro\")","v":0},{"$f":"IFERROR(Gerar_Upload!D794,\"erro\")","v":0},{"$f":"IFERROR(DATE(YEAR(Gerar_Upload!E794),MONTH(Gerar_Upload!E794),DAY(Gerar_Upload!E794)),\"erro\")","v":"00:00:00"},{"$f":"IFERROR(Gerar_Upload!F794,\"erro\")","v":0},{"$f":"IFERROR(IF(Gerar_Upload!G794<44,REPT(0,44-LEN(Gerar_Upload!G794))&Gerar_Upload!G794,Gerar_Upload!G794),\"erro\")","v":"00000000000000000000000000000000000000000000"}]
[{"$f":"IFERROR(LEFT(Gerar_Upload!A795,120),\"erro\")","v":""},{"$f":"IFERROR(SUBSTITUTE(SUBSTITUTE(SUBSTITUTE(Gerar_Upload!B795,\".\",\"\"),\"-\",\"\"),\"/\",\"\"),\"erro\")","v":""},{"$f":"IFERROR(Gerar_Upload!C795,\"erro\")","v":0},{"$f":"IFERROR(Gerar_Upload!D795,\"erro\")","v":0},{"$f":"IFERROR(DATE(YEAR(Gerar_Upload!E795),MONTH(Gerar_Upload!E795),DAY(Gerar_Upload!E795)),\"erro\")","v":"00:00:00"},{"$f":"IFERROR(Gerar_Upload!F795,\"erro\")","v":0},{"$f":"IFERROR(IF(Gerar_Upload!G795<44,REPT(0,44-LEN(Gerar_Upload!G795))&Gerar_Upload!G795,Gerar_Upload!G795),\"erro\")","v":"00000000000000000000000000000000000000000000"}]
[{"$f":"IFERROR(LEFT(Gerar_Upload!A796,120),\"erro\")","v":""},{"$f":"IFERROR(SUBSTITUTE(SUBSTITUTE(SUBSTITUTE(Gerar_Upload!B796,\".\",\"\"),\"-\",\"\"),\"/\",\"\"),\"erro\")","v":""},{"$f":"IFERROR(Gerar_Upload!C796,\"erro\")","v":0},{"$f":"IFERROR(Gerar_Upload!D796,\"erro\")","v":0},{"$f":"IFERROR(DATE(YEAR(Gerar_Upload!E796),MONTH(Gerar_Upload!E796),DAY(Gerar_Upload!E796)),\"erro\")","v":"00:00:00"},{"$f":"IFERROR(Gerar_Upload!F796,\"erro\")","v":0},{"$f":"IFERROR(IF(Gerar_Upload!G796<44,REPT(0,44-LEN(Gerar_Upload!G796))&Gerar_Upload!G796,Gerar_Upload!G796),\"erro\")","v":"00000000000000000000000000000000000000000000"}]
[{"$f":"IFERROR(LEFT(Gerar_Upload!A797,120),\"erro\")","v":""},{"$f":"IFERROR(SUBSTITUTE(SUBSTITUTE(SUBSTITUTE(Gerar_Upload!B797,\".\",\"\"),\"-\",\"\"),\"/\",\"\"),\"erro\")","v":""},{"$f":"IFERROR(Gerar_Upload!C797,\"erro\")","v":0},{"$f":"IFERROR(Gerar_Upload!D797,\"erro\")","v":0},{"$f":"IFERROR(DATE(YEAR(Gerar_Upload!E797),MONTH(Gerar_Upload!E797),DAY(Gerar_Upload!E797)),\"erro\")","v":"00:00:00"},{"$f":"IFERROR(Gerar_Upload!F797,\"erro\")","v":0},{"$f":"IFERROR(IF(Gerar_Upload!G797<44,REPT(0,44-LEN(Gerar_Upload!G797))&Gerar_Upload!G797,Gerar_Upload!G797),\"erro\")","v":"00000000000000000000000000000000000000000000"}]
[{"$f":"IFERROR(LEFT(Gerar_Upload!A798,120),\"erro\")","v":""},{"$f":"IFERROR(SUBSTITUTE(SUBSTITUTE(SUBSTITUTE(Gerar_Upload!B798,\".\",\"\"),\"-\",\"\"),\"/\",\"\"),\"erro\")","v":""},{"$f":"IFERROR(Gerar_Upload!C798,\"erro\")","v":0},{"$f":"IFERROR(Gerar_Upload!D798,\"erro\")","v":0},{"$f":"IFERROR(DATE(YEAR(Gerar_Upload!E798),MONTH(Gerar_Upload!E798),DAY(Gerar_Upload!E798)),\"erro\")","v":"00:00:00"},{"$f":"IFERROR(Gerar_Upload!F798,\"erro\")","v":0},{"$f":"IFERROR(IF(Gerar_Upload!G798<44,REPT(0,44-LEN(Gerar_Upload!G798))&Gerar_Upload!G798,Gerar_Upload!G798),\"erro\")","v":"00000000000000000000000000000000000000000000"}]
[{"$f":"IFERROR(LEFT(Gerar_Upload!A799,120),\"erro\")","v":""},{"$f":"IFERROR(SUBSTITUTE(SUBSTITUTE(SUBSTITUTE(Gerar_Upload!B799,\".\",\"\"),\"-\",\"\"),\"/\",\"\"),\"erro\")","v":""},{"$f":"IFERROR(Gerar_Upload!C799,\"erro\")","v":0},{"$f":"IFERROR(Gerar_Upload!D799,\"erro\")","v":0},{"$f":"IFERROR(DATE(YEAR(Gerar_Upload!E799),MONTH(Gerar_Upload!E799),DAY(Gerar_Upload!E799)),\"erro\")","v":"00:00:00"},{"$f":"IFERROR(Gerar_Upload!F799,\"erro\")","v":0},{"$f":"IFERROR(IF(Gerar_Upload!G799<44,REPT(0,44-LEN(Gerar_Upload!G799))&Gerar_Upload!G799,Gerar_Upload!G799),\"erro\")","v":"00000000000000000000000000000000000000000000"}]
[{"$f":"IFERROR(LEFT(Gerar_Upload!A800,120),\"erro\")","v":""},{"$f":"IFERROR(SUBSTITUTE(SUBSTITUTE(SUBSTITUTE(Gerar_Upload!B800,\".\",\"\"),\"-\",\"\"),\"/\",\"\"),\"erro\")","v":""},{"$f":"IFERROR(Gerar_Upload!C800,\"erro\")","v":0},{"$f":"IFERROR(Gerar_Upload!D800,\"erro\")","v":0},{"$f":"IFERROR(DATE(YEAR(Gerar_Upload!E800),MONTH(Gerar_Upload!E800),DAY(Gerar_Upload!E800)),\"erro\")","v":"00:00:00"},{"$f":"IFERROR(Gerar_Upload!F800,\"erro\")","v":0},{"$f":"IFERROR(IF(Gerar_Upload!G800<44,REPT(0,44-LEN(Gerar_Upload!G800))&Gerar_Upload!G800,Gerar_Upload!G800),\"erro\")","v":"00000000000000000000000000000000000000000000"}]
[{"$f":"IFERROR(LEFT(Gerar_Upload!A801,120),\"erro\")","v":""},{"$f":"IFERROR(SUBSTITUTE(SUBSTITUTE(SUBSTITUTE(Gerar_Upload!B801,\".\",\"\"),\"-\",\"\"),\"/\",\"\"),\"erro\")","v":""},{"$f":"IFERROR(Gerar_Upload!C801,\"erro\")","v":0},{"$f":"IFERROR(Gerar_Upload!D801,\"erro\")","v":0},{"$f":"IFERROR(DATE(YEAR(Gerar_Upload!E801),MONTH(Gerar_Upload!E801),DAY(Gerar_Upload!E801)),\"erro\")","v":"00:00:00"},{"$f":"IFERROR(Gerar_Upload!F801,\"erro\")","v":0},{"$f":"IFERROR(IF(Gerar_Upload!G801<44,REPT(0,44-LEN(Gerar_Upload!G801))&Gerar_Upload!G801,Gerar_Upload!G801),\"erro\")","v":"00000000000000000000000000000000000000000000"}]
[{"$f":"IFERROR(LEFT(Gerar_Upload!A802,120),\"erro\")","v":""},{"$f":"IFERROR(SUBSTITUTE(SUBSTITUTE(SUBSTITUTE(Gerar_Upload!B802,\".\",\"\"),\"-\",\"\"),\"/\",\"\"),\"erro\")","v":""},{"$f":"IFERROR(Gerar_Upload!C802,\"erro\")","v":0},{"$f":"IFERROR(Gerar_Upload!D802,\"erro\")","v":0},{"$f":"IFERROR(DATE(YEAR(Gerar_Upload!E802),MONTH(Gerar_Upload!E802),DAY(Gerar_Upload!E802)),\"erro\")","v":"00:00:00"},{"$f":"IFERROR(Gerar_Upload!F802,\"erro\")","v":0},{"$f":"IFERROR(IF(Gerar_Upload!G802<44,REPT(0,44-LEN(Gerar_Upload!G802))&Gerar_Upload!G802,Gerar_Upload!G802),\"erro\")","v":"00000000000000000000000000000000000000000000"}]
[{"$f":"IFERROR(LEFT(Gerar_Upload!A803,120),\"erro\")","v":""},{"$f":"IFERROR(SUBSTITUTE(SUBSTITUTE(SUBSTITUTE(Gerar_Upload!B803,\".\",\"\"),\"-\",\"\"),\"/\",\"\"),\"erro\")","v":""},{"$f":"IFERROR(Gerar_Upload!C803,\"erro\")","v":0},{"$f":"IFERROR(Gerar_Upload!D803,\"erro\")","v":0},{"$f":"IFERROR(DATE(YEAR(Gerar_Upload!E803),MONTH(Gerar_Upload!E803),DAY(Gerar_Upload!E803)),\"erro\")","v":"00:00:00"},{"$f":"IFERROR(Gerar_Upload!F803,\"erro\")","v":0},{"$f":"IFERROR(IF(Gerar_Upload!G803<44,REPT(0,44-LEN(Gerar_Upload!G803))&Gerar_Upload!G803,Gerar_Upload!G803),\"erro\")","v":"00000000000000000000000000000000000000000000"}]
[{"$f":"IFERROR(LEFT(Gerar_Upload!A804,120),\"erro\")","v":""},{"$f":"IFERROR(SUBSTITUTE(SUBSTITUTE(SUBSTITUTE(Gerar_Upload!B804,\".\",\"\"),\"-\",\"\"),\"/\",\"\"),\"erro\")","v":""},{"$f":"IFERROR(Gerar_Upload!C804,\"erro\")","v":0},{"$f":"IFERROR(Gerar_Upload!D804,\"erro\")","v":0},{"$f":"IFERROR(DATE(YEAR(Gerar_Upload!E804),MONTH(Gerar_Upload!E804),DAY(Gerar_Upload!E804)),\"erro\")","v":"00:00:00"},{"$f":"IFERROR(Gerar_Upload!F804,\"erro\")","v":0},{"$f":"IFERROR(IF(Gerar_Upload!G804<44,REPT(0,44-LEN(Gerar_Upload!G804))&Gerar_Upload!G804,Gerar_Upload!G804),\"erro\")","v":"00000000000000000000000000000000000000000000"}]
[{"$f":"IFERROR(LEFT(Gerar_Upload!A805,120),\"erro\")","v":""},{"$f":"IFERROR(SUBSTITUTE(SUBSTITUTE(SUBSTITUTE(Gerar_Upload!B805,\".\",\"\"),\"-\",\"\"),\"/\",\"\"),\"erro\")","v":""},{"$f":"IFERROR(Gerar_Upload!C805,\"erro\")","v":0},{"$f":"IFERROR(Gerar_Upload!D805,\"erro\")","v":0},{"$f":"IFERROR(DATE(YEAR(Gerar_Upload!E805),MONTH(Gerar_Upload!E805),DAY(Gerar_Upload!E805)),\"erro\")","v":"00:00:00"},{"$f":"IFERROR(Gerar_Upload!F805,\"erro\")","v":0},{"$f":"IFERROR(IF(Gerar_Upload!G805<44,REPT(0,44-LEN(Gerar_Upload!G805))&Gerar_Upload!G805,Gerar_Upload!G805),\"erro\")","v":"00000000000000000000000000000000000000000000"}]
[{"$f":"IFERROR(LEFT(Gerar_Upload!A806,120),\"erro\")","v":""},{"$f":"IFERROR(SUBSTITUTE(SUBSTITUTE(SUBSTITUTE(Gerar_Upload!B806,\".\",\"\"),\"-\",\"\"),\"/\",\"\"),\"erro\")","v":""},{"$f":"IFERROR(Gerar_Upload!C806,\"erro\")","v":0},{"$f":"IFERROR(Gerar_Upload!D806,\"erro\")","v":0},{"$f":"IFERROR(DATE(YEAR(Gerar_Upload!E806),MONTH(Gerar_Upload!E806),DAY(Gerar_Upload!E806)),\"erro\")","v":"00:00:00"},{"$f":"IFERROR(Gerar_Upload!F806,\"erro\")","v":0},{"$f":"IFERROR(IF(Gerar_Upload!G806<44,REPT(0,44-LEN(Gerar_Upload!G806))&Gerar_Upload!G806,Gerar_Upload!G806),\"erro\")","v":"00000000000000000000000000000000000000000000"}]
[{"$f":"IFERROR(LEFT(Gerar_Upload!A807,120),\"erro\")","v":""},{"$f":"IFERROR(SUBSTITUTE(SUBSTITUTE(SUBSTITUTE(Gerar_Upload!B807,\".\",\"\"),\"-\",\"\"),\"/\",\"\"),\"erro\")","v":""},{"$f":"IFERROR(Gerar_Upload!C807,\"erro\")","v":0},{"$f":"IFERROR(Gerar_Upload!D807,\"erro\")","v":0},{"$f":"IFERROR(DATE(YEAR(Gerar_Upload!E807),MONTH(Gerar_Upload!E807),DAY(Gerar_Upload!E807)),\"erro\")","v":"00:00:00"},{"$f":"IFERROR(Gerar_Upload!F807,\"erro\")","v":0},{"$f":"IFERROR(IF(Gerar_Upload!G807<44,REPT(0,44-LEN(Gerar_Upload!G807))&Gerar_Upload!G807,Gerar_Upload!G807),\"erro\")","v":"00000000000000000000000000000000000000000000"}]
[{"$f":"IFERROR(LEFT(Gerar_Upload!A808,120),\"erro\")","v":""},{"$f":"IFERROR(SUBSTITUTE(SUBSTITUTE(SUBSTITUTE(Gerar_Upload!B808,\".\",\"\"),\"-\",\"\"),\"/\",\"\"),\"erro\")","v":""},{"$f":"IFERROR(Gerar_Upload!C808,\"erro\")","v":0},{"$f":"IFERROR(Gerar_Upload!D808,\"erro\")","v":0},{"$f":"IFERROR(DATE(YEAR(Gerar_Upload!E808),MONTH(Gerar_Upload!E808),DAY(Gerar_Upload!E808)),\"erro\")","v":"00:00:00"},{"$f":"IFERROR(Gerar_Upload!F808,\"erro\")","v":0},{"$f":"IFERROR(IF(Gerar_Upload!G808<44,REPT(0,44-LEN(Gerar_Upload!G808))&Gerar_Upload!G808,Gerar_Upload!G808),\"erro\")","v":"00000000000000000000000000000000000000000000"}]
[{"$f":"IFERROR(LEFT(Gerar_Upload!A809,120),\"erro\")","v":""},{"$f":"IFERROR(SUBSTITUTE(SUBSTITUTE(SUBSTITUTE(Gerar_Upload!B809,\".\",\"\"),\"-\",\"\"),\"/\",\"\"),\"erro\")","v":""},{"$f":"IFERROR(Gerar_Upload!C809,\"erro\")","v":0},{"$f":"IFERROR(Gerar_Upload!D809,\"erro\")","v":0},{"$f":"IFERROR(DATE(YEAR(Gerar_Upload!E809),MONTH(Gerar_Upload!E809),DAY(Gerar_Upload!E809)),\"erro\")","v":"00:00:00"},{"$f":"IFERROR(Gerar_Upload!F809,\"erro\")","v":0},{"$f":"IFERROR(IF(Gerar_Upload!G809<44,REPT(0,44-LEN(Gerar_Upload!G809))&Gerar_Upload!G809,Gerar_Upload!G809),\"erro\")","v":"00000000000000000000000000000000000000000000"}]
[{"$f":"IFERROR(LEFT(Gerar_Upload!A810,120),\"erro\")","v":""},{"$f":"IFERROR(SUBSTITUTE(SUBSTITUTE(SUBSTITUTE(Gerar_Upload!B810,\".\",\"\"),\"-\",\"\"),\"/\",\"\"),\"erro\")","v":""},{"$f":"IFERROR(Gerar_Upload!C810,\"erro\")","v":0},{"$f":"IFERROR(Gerar_Upload!D810,\"erro\")","v":0},{"$f":"IFERROR(DATE(YEAR(Gerar_Upload!E810),MONTH(Gerar_Upload!E810),DAY(Gerar_Upload!E810)),\"erro\")","v":"00:00:00"},{"$f":"IFERROR(Gerar_Upload!F810,\"erro\")","v":0},{"$f":"IFERROR(IF(Gerar_Upload!G810<44,REPT(0,44-LEN(Gerar_Upload!G810))&Gerar_Upload!G810,Gerar_Upload!G810),\"erro\")","v":"00000000000000000000000000000000000000000000"}]
[{"$f":"IFERROR(LEFT(Gerar_Upload!A811,120),\"erro\")","v":""},{"$f":"IFERROR(SUBSTITUTE(SUBSTITUTE(SUBSTITUTE(Gerar_Upload!B811,\".\",\"\"),\"-\",\"\"),\"/\",\"\"),\"erro\")","v":""},{"$f":"IFERROR(Gerar_Upload!C811,\"erro\")","v":0},{"$f":"IFERROR(Gerar_Upload!D811,\"erro\")","v":0},{"$f":"IFERROR(DATE(YEAR(Gerar_Upload!E811),MONTH(Gerar_Upload!E811),DAY(Gerar_Upload!E811)),\"erro\")","v":"00:00:00"},{"$f":"IFERROR(Gerar_Upload!F811,\"erro\")","v":0},{"$f":"IFERROR(IF(Gerar_Upload!G811<44,REPT(0,44-LEN(Gerar_Upload!G811))&Gerar_Upload!G811,Gerar_Upload!G811),\"erro\")","v":"00000000000000000000000000000000000000000000"}]
[{"$f":"IFERROR(LEFT(Gerar_Upload!A812,120),\"erro\")","v":""},{"$f":"IFERROR(SUBSTITUTE(SUBSTITUTE(SUBSTITUTE(Gerar_Upload!B812,\".\",\"\"),\"-\",\"\"),\"/\",\"\"),\"erro\")","v":""},{"$f":"IFERROR(Gerar_Upload!C812,\"erro\")","v":0},{"$f":"IFERROR(Gerar_Upload!D812,\"erro\")","v":0},{"$f":"IFERROR(DATE(YEAR(Gerar_Upload!E812),MONTH(Gerar_Upload!E812),DAY(Gerar_Upload!E812)),\"erro\")","v":"00:00:00"},{"$f":"IFERROR(Gerar_Upload!F812,\"erro\")","v":0},{"$f":"IFERROR(IF(Gerar_Upload!G812<44,REPT(0,44-LEN(Gerar_Upload!G812))&Gerar_Upload!G812,Gerar_Upload!G812),\"erro\")","v":"00000000000000000000000000000000000000000000"}]
[{"$f":"IFERROR(LEFT(Gerar_Upload!A813,120),\"erro\")","v":""},{"$f":"IFERROR(SUBSTITUTE(SUBSTITUTE(SUBSTITUTE(Gerar_Upload!B813,\".\",\"\"),\"-\",\"\"),\"/\",\"\"),\"erro\")","v":""},{"$f":"IFERROR(Gerar_Upload!C813,\"erro\")","v":0},{"$f":"IFERROR(Gerar_Upload!D813,\"erro\")","v":0},{"$f":"IFERROR(DATE(YEAR(Gerar_Upload!E813),MONTH(Gerar_Upload!E813),DAY(Gerar_Upload!E813)),\"erro\")","v":"00:00:00"},{"$f":"IFERROR(Gerar_Upload!F813,\"erro\")","v":0},{"$f":"IFERROR(IF(Gerar_Upload!G813<44,REPT(0,44-LEN(Gerar_Upload!G813))&Gerar_Upload!G813,Gerar_Upload!G813),\"erro\")","v":"00000000000000000000000000000000000000000000"}]
[{"$f":"IFERROR(LEFT(Gerar_Upload!A814,120),\"erro\")","v":""},{"$f":"IFERROR(SUBSTITUTE(SUBSTITUTE(SUBSTITUTE(Gerar_Upload!B814,\".\",\"\"),\"-\",\"\"),\"/\",\"\"),\"erro\")","v":""},{"$f":"IFERROR(Gerar_Upload!C814,\"erro\")","v":0},{"$f":"IFERROR(Gerar_Upload!D814,\"erro\")","v":0},{"$f":"IFERROR(DATE(YEAR(Gerar_Upload!E814),MONTH(Gerar_Upload!E814),DAY(Gerar_Upload!E814)),\"erro\")","v":"00:00:00"},{"$f":"IFERROR(Gerar_Upload!F814,\"erro\")","v":0},{"$f":"IFERROR(IF(Gerar_Upload!G814<44,REPT(0,44-LEN(Gerar_Upload!G814))&Gerar_Upload!G814,Gerar_Upload!G814),\"erro\")","v":"00000000000000000000000000000000000000000000"}]
[{"$f":"IFERROR(LEFT(Gerar_Upload!A815,120),\"erro\")","v":""},{"$f":"IFERROR(SUBSTITUTE(SUBSTITUTE(SUBSTITUTE(Gerar_Upload!B815,\".\",\"\"),\"-\",\"\"),\"/\",\"\"),\"erro\")","v":""},{"$f":"IFERROR(Gerar_Upload!C815,\"erro\")","v":0},{"$f":"IFERROR(Gerar_Upload!D815,\"erro\")","v":0},{"$f":"IFERROR(DATE(YEAR(Gerar_Upload!E815),MONTH(Gerar_Upload!E815),DAY(Gerar_Upload!E815)),\"erro\")","v":"00:00:00"},{"$f":"IFERROR(Gerar_Upload!F815,\"erro\")","v":0},{"$f":"IFERROR(IF(Gerar_Upload!G815<44,REPT(0,44-LEN(Gerar_Upload!G815))&Gerar_Upload!G815,Gerar_Upload!G815),\"erro\")","v":"00000000000000000000000000000000000000000000"}]
[{"$f":"IFERROR(LEFT(Gerar_Upload!A816,120),\"erro\")","v":""},{"$f":"IFERROR(SUBSTITUTE(SUBSTITUTE(SUBSTITUTE(Gerar_Upload!B816,\".\",\"\"),\"-\",\"\"),\"/\",\"\"),\"erro\")","v":""},{"$f":"IFERROR(Gerar_Upload!C816,\"erro\")","v":0},{"$f":"IFERROR(Gerar_Upload!D816,\"erro\")","v":0},{"$f":"IFERROR(DATE(YEAR(Gerar_Upload!E816),MONTH(Gerar_Upload!E816),DAY(Gerar_Upload!E816)),\"erro\")","v":"00:00:00"},{"$f":"IFERROR(Gerar_Upload!F816,\"erro\")","v":0},{"$f":"IFERROR(IF(Gerar_Upload!G816<44,REPT(0,44-LEN(Gerar_Upload!G816))&Gerar_Upload!G816,Gerar_Upload!G816),\"erro\")","v":"00000000000000000000000000000000000000000000"}]
[{"$f":"IFERROR(LEFT(Gerar_Upload!A817,120),\"erro\")","v":""},{"$f":"IFERROR(SUBSTITUTE(SUBSTITUTE(SUBSTITUTE(Gerar_Upload!B817,\".\",\"\"),\"-\",\"\"),\"/\",\"\"),\"erro\")","v":""},{"$f":"IFERROR(Gerar_Upload!C817,\"erro\")","v":0},{"$f":"IFERROR(Gerar_Upload!D817,\"erro\")","v":0},{"$f":"IFERROR(DATE(YEAR(Gerar_Upload!E817),MONTH(Gerar_Upload!E817),DAY(Gerar_Upload!E817)),\"erro\")","v":"00:00:00"},{"$f":"IFERROR(Gerar_Upload!F817,\"erro\")","v":0},{"$f":"IFERROR(IF(Gerar_Upload!G817<44,REPT(0,44-LEN(Gerar_Upload!G817))&Gerar_Upload!G817,Gerar_Upload!G817),\"erro\")","v":"00000000000000000000000000000000000000000000"}]
[{"$f":"IFERROR(LEFT(Gerar_Upload!A818,120),\"erro\")","v":""},{"$f":"IFERROR(SUBSTITUTE(SUBSTITUTE(SUBSTITUTE(Gerar_Upload!B818,\".\",\"\"),\"-\",\"\"),\"/\",\"\"),\"erro\")","v":""},{"$f":"IFERROR(Gerar_Upload!C818,\"erro\")","v":0},{"$f":"IFERROR(Gerar_Upload!D818,\"erro\")","v":0},{"$f":"IFERROR(DATE(YEAR(Gerar_Upload!E818),MONTH(Gerar_Upload!E818),DAY(Gerar_Upload!E818)),\"erro\")","v":"00:00:00"},{"$f":"IFERROR(Gerar_Upload!F818,\"erro\")","v":0},{"$f":"IFERROR(IF(Gerar_Upload!G818<44,REPT(0,44-LEN(Gerar_Upload!G818))&Gerar_Upload!G818,Gerar_Upload!G818),\"erro\")","v":"00000000000000000000000000000000000000000000"}]
[{"$f":"IFERROR(LEFT(Gerar_Upload!A819,120),\"erro\")","v":""},{"$f":"IFERROR(SUBSTITUTE(SUBSTITUTE(SUBSTITUTE(Gerar_Upload!B819,\".\",\"\"),\"-\",\"\"),\"/\",\"\"),\"erro\")","v":""},{"$f":"IFERROR(Gerar_Upload!C819,\"erro\")","v":0},{"$f":"IFERROR(Gerar_Upload!D819,\"erro\")","v":0},{"$f":"IFERROR(DATE(YEAR(Gerar_Upload!E819),MONTH(Gerar_Upload!E819),DAY(Gerar_Upload!E819)),\"erro\")","v":"00:00:00"},{"$f":"IFERROR(Gerar_Upload!F819,\"erro\")","v":0},{"$f":"IFERROR(IF(Gerar_Upload!G819<44,REPT(0,44-LEN(Gerar_Upload!G819))&Gerar_Upload!G819,Gerar_Upload!G819),\"erro\")","v":"00000000000000000000000000000000000000000000"}]
[{"$f":"IFERROR(LEFT(Gerar_Upload!A820,120),\"erro\")","v":""},{"$f":"IFERROR(SUBSTITUTE(SUBSTITUTE(SUBSTITUTE(Gerar_Upload!B820,\".\",\"\"),\"-\",\"\"),\"/\",\"\"),\"erro\")","v":""},{"$f":"IFERROR(Gerar_Upload!C820,\"erro\")","v":0},{"$f":"IFERROR(Gerar_Upload!D820,\"erro\")","v":0},{"$f":"IFERROR(DATE(YEAR(Gerar_Upload!E820),MONTH(Gerar_Upload!E820),DAY(Gerar_Upload!E820)),\"erro\")","v":"00:00:00"},{"$f":"IFERROR(Gerar_Upload!F820,\"erro\")","v":0},{"$f":"IFERROR(IF(Gerar_Upload!G820<44,REPT(0,44-LEN(Gerar_Upload!G820))&Gerar_Upload!G820,Gerar_Upload!G820),\"erro\")","v":"00000000000000000000000000000000000000000000"}]
[{"$f":"IFERROR(LEFT(Gerar_Upload!A821,120),\"erro\")","v":""},{"$f":"IFERROR(SUBSTITUTE(SUBSTITUTE(SUBSTITUTE(Gerar_Upload!B821,\".\",\"\"),\"-\",\"\"),\"/\",\"\"),\"erro\")","v":""},{"$f":"IFERROR(Gerar_Upload!C821,\"erro\")","v":0},{"$f":"IFERROR(Gerar_Upload!D821,\"erro\")","v":0},{"$f":"IFERROR(DATE(YEAR(Gerar_Upload!E821),MONTH(Gerar_Upload!E821),DAY(Gerar_Upload!E821)),\"erro\")","v":"00:00:00"},{"$f":"IFERROR(Gerar_Upload!F821,\"erro\")","v":0},{"$f":"IFERROR(IF(Gerar_Upload!G821<44,REPT(0,44-LEN(Gerar_Upload!G821))&Gerar_Upload!G821,Gerar_Upload!G821),\"erro\")","v":"00000000000000000000000000000000000000000000"}]
[{"$f":"IFERROR(LEFT(Gerar_Upload!A822,120),\"erro\")","v":""},{"$f":"IFERROR(SUBSTITUTE(SUBSTITUTE(SUBSTITUTE(Gerar_Upload!B822,\".\",\"\"),\"-\",\"\"),\"/\",\"\"),\"erro\")","v":""},{"$f":"IFERROR(Gerar_Upload!C822,\"erro\")","v":0},{"$f":"IFERROR(Gerar_Upload!D822,\"erro\")","v":0},{"$f":"IFERROR(DATE(YEAR(Gerar_Upload!E822),MONTH(Gerar_Upload!E822),DAY(Gerar_Upload!E822)),\"erro\")","v":"00:00:00"},{"$f":"IFERROR(Gerar_Upload!F822,\"erro\")","v":0},{"$f":"IFERROR(IF(Gerar_Upload!G822<44,REPT(0,44-LEN(Gerar_Upload!G822))&Gerar_Upload!G822,Gerar_Upload!G822),\"erro\")","v":"00000000000000000000000000000000000000000000"}]
[{"$f":"IFERROR(LEFT(Gerar_Upload!A823,120),\"erro\")","v":""},{"$f":"IFERROR(SUBSTITUTE(SUBSTITUTE(SUBSTITUTE(Gerar_Upload!B823,\".\",\"\"),\"-\",\"\"),\"/\",\"\"),\"erro\")","v":""},{"$f":"IFERROR(Gerar_Upload!C823,\"erro\")","v":0},{"$f":"IFERROR(Gerar_Upload!D823,\"erro\")","v":0},{"$f":"IFERROR(DATE(YEAR(Gerar_Upload!E823),MONTH(Gerar_Upload!E823),DAY(Gerar_Upload!E823)),\"erro\")","v":"00:00:00"},{"$f":"IFERROR(Gerar_Upload!F823,\"erro\")","v":0},{"$f":"IFERROR(IF(Gerar_Upload!G823<44,REPT(0,44-LEN(Gerar_Upload!G823))&Gerar_Upload!G823,Gerar_Upload!G823),\"erro\")","v":"00000000000000000000000000000000000000000000"}]
[{"$f":"IFERROR(LEFT(Gerar_Upload!A824,120),\"erro\")","v":""},{"$f":"IFERROR(SUBSTITUTE(SUBSTITUTE(SUBSTITUTE(Gerar_Upload!B824,\".\",\"\"),\"-\",\"\"),\"/\",\"\"),\"erro\")","v":""},{"$f":"IFERROR(Gerar_Upload!C824,\"erro\")","v":0},{"$f":"IFERROR(Gerar_Upload!D824,\"erro\")","v":0},{"$f":"IFERROR(DATE(YEAR(Gerar_Upload!E824),MONTH(Gerar_Upload!E824),DAY(Gerar_Upload!E824)),\"erro\")","v":"00:00:00"},{"$f":"IFERROR(Gerar_Upload!F824,\"erro\")","v":0},{"$f":"IFERROR(IF(Gerar_Upload!G824<44,REPT(0,44-LEN(Gerar_Upload!G824))&Gerar_Upload!G824,Gerar_Upload!G824),\"erro\")","v":"00000000000000000000000000000000000000000000"}]
[{"$f":"IFERROR(LEFT(Gerar_Upload!A825,120),\"erro\")","v":""},{"$f":"IFERROR(SUBSTITUTE(SUBSTITUTE(SUBSTITUTE(Gerar_Upload!B825,\".\",\"\"),\"-\",\"\"),\"/\",\"\"),\"erro\")","v":""},{"$f":"IFERROR(Gerar_Upload!C825,\"erro\")","v":0},{"$f":"IFERROR(Gerar_Upload!D825,\"erro\")","v":0},{"$f":"IFERROR(DATE(YEAR(Gerar_Upload!E825),MONTH(Gerar_Upload!E825),DAY(Gerar_Upload!E825)),\"erro\")","v":"00:00:00"},{"$f":"IFERROR(Gerar_Upload!F825,\"erro\")","v":0},{"$f":"IFERROR(IF(Gerar_Upload!G825<44,REPT(0,44-LEN(Gerar_Upload!G825))&Gerar_Upload!G825,Gerar_Upload!G825),\"erro\")","v":"00000000000000000000000000000000000000000000"}]
[{"$f":"IFERROR(LEFT(Gerar_Upload!A826,120),\"erro\")","v":""},{"$f":"IFERROR(SUBSTITUTE(SUBSTITUTE(SUBSTITUTE(Gerar_Upload!B826,\".\",\"\"),\"-\",\"\"),\"/\",\"\"),\"erro\")","v":""},{"$f":"IFERROR(Gerar_Upload!C826,\"erro\")","v":0},{"$f":"IFERROR(Gerar_Upload!D826,\"erro\")","v":0},{"$f":"IFERROR(DATE(YEAR(Gerar_Upload!E826),MONTH(Gerar_Upload!E826),DAY(Gerar_Upload!E826)),\"erro\")","v":"00:00:00"},{"$f":"IFERROR(Gerar_Upload!F826,\"erro\")","v":0},{"$f":"IFERROR(IF(Gerar_Upload!G826<44,REPT(0,44-LEN(Gerar_Upload!G826))&Gerar_Upload!G826,Gerar_Upload!G826),\"erro\")","v":"00000000000000000000000000000000000000000000"}]
[{"$f":"IFERROR(LEFT(Gerar_Upload!A827,120),\"erro\")","v":""},{"$f":"IFERROR(SUBSTITUTE(SUBSTITUTE(SUBSTITUTE(Gerar_Upload!B827,\".\",\"\"),\"-\",\"\"),\"/\",\"\"),\"erro\")","v":""},{"$f":"IFERROR(Gerar_Upload!C827,\"erro\")","v":0},{"$f":"IFERROR(Gerar_Upload!D827,\"erro\")","v":0},{"$f":"IFERROR(DATE(YEAR(Gerar_Upload!E827),MONTH(Gerar_Upload!E827),DAY(Gerar_Upload!E827)),\"erro\")","v":"00:00:00"},{"$f":"IFERROR(Gerar_Upload!F827,\"erro\")","v":0},{"$f":"IFERROR(IF(Gerar_Upload!G827<44,REPT(0,44-LEN(Gerar_Upload!G827))&Gerar_Upload!G827,Gerar_Upload!G827),\"erro\")","v":"00000000000000000000000000000000000000000000"}]
[{"$f":"IFERROR(LEFT(Gerar_Upload!A828,120),\"erro\")","v":""},{"$f":"IFERROR(SUBSTITUTE(SUBSTITUTE(SUBSTITUTE(Gerar_Upload!B828,\".\",\"\"),\"-\",\"\"),\"/\",\"\"),\"erro\")","v":""},{"$f":"IFERROR(Gerar_Upload!C828,\"erro\")","v":0},{"$f":"IFERROR(Gerar_Upload!D828,\"erro\")","v":0},{"$f":"IFERROR(DATE(YEAR(Gerar_Upload!E828),MONTH(Gerar_Upload!E828),DAY(Gerar_Upload!E828)),\"erro\")","v":"00:00:00"},{"$f":"IFERROR(Gerar_Upload!F828,\"erro\")","v":0},{"$f":"IFERROR(IF(Gerar_Upload!G828<44,REPT(0,44-LEN(Gerar_Upload!G828))&Gerar_Upload!G828,Gerar_Upload!G828),\"erro\")","v":"00000000000000000000000000000000000000000000"}]
[{"$f":"IFERROR(LEFT(Gerar_Upload!A829,120),\"erro\")","v":""},{"$f":"IFERROR(SUBSTITUTE(SUBSTITUTE(SUBSTITUTE(Gerar_Upload!B829,\".\",\"\"),\"-\",\"\"),\"/\",\"\"),\"erro\")","v":""},{"$f":"IFERROR(Gerar_Upload!C829,\"erro\")","v":0},{"$f":"IFERROR(Gerar_Upload!D829,\"erro\")","v":0},{"$f":"IFERROR(DATE(YEAR(Gerar_Upload!E829),MONTH(Gerar_Upload!E829),DAY(Gerar_Upload!E829)),\"erro\")","v":"00:00:00"},{"$f":"IFERROR(Gerar_Upload!F829,\"erro\")","v":0},{"$f":"IFERROR(IF(Gerar_Upload!G829<44,REPT(0,44-LEN(Gerar_Upload!G829))&Gerar_Upload!G829,Gerar_Upload!G829),\"erro\")","v":"00000000000000000000000000000000000000000000"}]
[{"$f":"IFERROR(LEFT(Gerar_Upload!A830,120),\"erro\")","v":""},{"$f":"IFERROR(SUBSTITUTE(SUBSTITUTE(SUBSTITUTE(Gerar_Upload!B830,\".\",\"\"),\"-\",\"\"),\"/\",\"\"),\"erro\")","v":""},{"$f":"IFERROR(Gerar_Upload!C830,\"erro\")","v":0},{"$f":"IFERROR(Gerar_Upload!D830,\"erro\")","v":0},{"$f":"IFERROR(DATE(YEAR(Gerar_Upload!E830),MONTH(Gerar_Upload!E830),DAY(Gerar_Upload!E830)),\"erro\")","v":"00:00:00"},{"$f":"IFERROR(Gerar_Upload!F830,\"erro\")","v":0},{"$f":"IFERROR(IF(Gerar_Upload!G830<44,REPT(0,44-LEN(Gerar_Upload!G830))&Gerar_Upload!G830,Gerar_Upload!G830),\"erro\")","v":"00000000000000000000000000000000000000000000"}]
[{"$f":"IFERROR(LEFT(Gerar_Upload!A831,120),\"erro\")","v":""},{"$f":"IFERROR(SUBSTITUTE(SUBSTITUTE(SUBSTITUTE(Gerar_Upload!B831,\".\",\"\"),\"-\",\"\"),\"/\",\"\"),\"erro\")","v":""},{"$f":"IFERROR(Gerar_Upload!C831,\"erro\")","v":0},{"$f":"IFERROR(Gerar_Upload!D831,\"erro\")","v":0},{"$f":"IFERROR(DATE(YEAR(Gerar_Upload!E831),MONTH(Gerar_Upload!E831),DAY(Gerar_Upload!E831)),\"erro\")","v":"00:00:00"},{"$f":"IFERROR(Gerar_Upload!F831,\"erro\")","v":0},{"$f":"IFERROR(IF(Gerar_Upload!G831<44,REPT(0,44-LEN(Gerar_Upload!G831))&Gerar_Upload!G831,Gerar_Upload!G831),\"erro\")","v":"00000000000000000000000000000000000000000000"}]
[{"$f":"IFERROR(LEFT(Gerar_Upload!A832,120),\"erro\")","v":""},{"$f":"IFERROR(SUBSTITUTE(SUBSTITUTE(SUBSTITUTE(Gerar_Upload!B832,\".\",\"\"),\"-\",\"\"),\"/\",\"\"),\"erro\")","v":""},{"$f":"IFERROR(Gerar_Upload!C832,\"erro\")","v":0},{"$f":"IFERROR(Gerar_Upload!D832,\"erro\")","v":0},{"$f":"IFERROR(DATE(YEAR(Gerar_Upload!E832),MONTH(Gerar_Upload!E832),DAY(Gerar_Upload!E832)),\"erro\")","v":"00:00:00"},{"$f":"IFERROR(Gerar_Upload!F832,\"erro\")","v":0},{"$f":"IFERROR(IF(Gerar_Upload!G832<44,REPT(0,44-LEN(Gerar_Upload!G832))&Gerar_Upload!G832,Gerar_Upload!G832),\"erro\")","v":"00000000000000000000000000000000000000000000"}]
[{"$f":"IFERROR(LEFT(Gerar_Upload!A833,120),\"erro\")","v":""},{"$f":"IFERROR(SUBSTITUTE(SUBSTITUTE(SUBSTITUTE(Gerar_Upload!B833,\".\",\"\"),\"-\",\"\"),\"/\",\"\"),\"erro\")","v":""},{"$f":"IFERROR(Gerar_Upload!C833,\"erro\")","v":0},{"$f":"IFERROR(Gerar_Upload!D833,\"erro\")","v":0},{"$f":"IFERROR(DATE(YEAR(Gerar_Upload!E833),MONTH(Gerar_Upload!E833),DAY(Gerar_Upload!E833)),\"erro\")","v":"00:00:00"},{"$f":"IFERROR(Gerar_Upload!F833,\"erro\")","v":0},{"$f":"IFERROR(IF(Gerar_Upload!G833<44,REPT(0,44-LEN(Gerar_Upload!G833))&Gerar_Upload!G833,Gerar_Upload!G833),\"erro\")","v":"00000000000000000000000000000000000000000000"}]
[{"$f":"IFERROR(LEFT(Gerar_Upload!A834,120),\"erro\")","v":""},{"$f":"IFERROR(SUBSTITUTE(SUBSTITUTE(SUBSTITUTE(Gerar_Upload!B834,\".\",\"\"),\"-\",\"\"),\"/\",\"\"),\"erro\")","v":""},{"$f":"IFERROR(Gerar_Upload!C834,\"erro\")","v":0},{"$f":"IFERROR(Gerar_Upload!D834,\"erro\")","v":0},{"$f":"IFERROR(DATE(YEAR(Gerar_Upload!E834),MONTH(Gerar_Upload!E834),DAY(Gerar_Upload!E834)),\"erro\")","v":"00:00:00"},{"$f":"IFERROR(Gerar_Upload!F834,\"erro\")","v":0},{"$f":"IFERROR(IF(Gerar_Upload!G834<44,REPT(0,44-LEN(Gerar_Upload!G834))&Gerar_Upload!G834,Gerar_Upload!G834),\"erro\")","v":"00000000000000000000000000000000000000000000"}]
[{"$f":"IFERROR(LEFT(Gerar_Upload!A835,120),\"erro\")","v":""},{"$f":"IFERROR(SUBSTITUTE(SUBSTITUTE(SUBSTITUTE(Gerar_Upload!B835,\".\",\"\"),\"-\",\"\"),\"/\",\"\"),\"erro\")","v":""},{"$f":"IFERROR(Gerar_Upload!C835,\"erro\")","v":0},{"$f":"IFERROR(Gerar_Upload!D835,\"erro\")","v":0},{"$f":"IFERROR(DATE(YEAR(Gerar_Upload!E835),MONTH(Gerar_Upload!E835),DAY(Gerar_Upload!E835)),\"erro\")","v":"00:00:00"},{"$f":"IFERROR(Gerar_Upload!F835,\"erro\")","v":0},{"$f":"IFERROR(IF(Gerar_Upload!G835<44,REPT(0,44-LEN(Gerar_Upload!G835))&Gerar_Upload!G835,Gerar_Upload!G835),\"erro\")","v":"00000000000000000000000000000000000000000000"}]
[{"$f":"IFERROR(LEFT(Gerar_Upload!A836,120),\"erro\")","v":""},{"$f":"IFERROR(SUBSTITUTE(SUBSTITUTE(SUBSTITUTE(Gerar_Upload!B836,\".\",\"\"),\"-\",\"\"),\"/\",\"\"),\"erro\")","v":""},{"$f":"IFERROR(Gerar_Upload!C836,\"erro\")","v":0},{"$f":"IFERROR(Gerar_Upload!D836,\"erro\")","v":0},{"$f":"IFERROR(DATE(YEAR(Gerar_Upload!E836),MONTH(Gerar_Upload!E836),DAY(Gerar_Upload!E836)),\"erro\")","v":"00:00:00"},{"$f":"IFERROR(Gerar_Upload!F836,\"erro\")","v":0},{"$f":"IFERROR(IF(Gerar_Upload!G836<44,REPT(0,44-LEN(Gerar_Upload!G836))&Gerar_Upload!G836,Gerar_Upload!G836),\"erro\")","v":"00000000000000000000000000000000000000000000"}]
[{"$f":"IFERROR(LEFT(Gerar_Upload!A837,120),\"erro\")","v":""},{"$f":"IFERROR(SUBSTITUTE(SUBSTITUTE(SUBSTITUTE(Gerar_Upload!B837,\".\",\"\"),\"-\",\"\"),\"/\",\"\"),\"erro\")","v":""},{"$f":"IFERROR(Gerar_Upload!C837,\"erro\")","v":0},{"$f":"IFERROR(Gerar_Upload!D837,\"erro\")","v":0},{"$f":"IFERROR(DATE(YEAR(Gerar_Upload!E837),MONTH(Gerar_Upload!E837),DAY(Gerar_Upload!E837)),\"erro\")","v":"00:00:00"},{"$f":"IFERROR(Gerar_Upload!F837,\"erro\")","v":0},{"$f":"IFERROR(IF(Gerar_Upload!G837<44,REPT(0,44-LEN(Gerar_Upload!G837))&Gerar_Upload!G837,Gerar_Upload!G837),\"erro\")","v":"00000000000000000000000000000000000000000000"}]
[{"$f":"IFERROR(LEFT(Gerar_Upload!A838,120),\"erro\")","v":""},{"$f":"IFERROR(SUBSTITUTE(SUBSTITUTE(SUBSTITUTE(Gerar_Upload!B838,\".\",\"\"),\"-\",\"\"),\"/\",\"\"),\"erro\")","v":""},{"$f":"IFERROR(Gerar_Upload!C838,\"erro\")","v":0},{"$f":"IFERROR(Gerar_Upload!D838,\"erro\")","v":0},{"$f":"IFERROR(DATE(YEAR(Gerar_Upload!E838),MONTH(Gerar_Upload!E838),DAY(Gerar_Upload!E838)),\"erro\")","v":"00:00:00"},{"$f":"IFERROR(Gerar_Upload!F838,\"erro\")","v":0},{"$f":"IFERROR(IF(Gerar_Upload!G838<44,REPT(0,44-LEN(Gerar_Upload!G838))&Gerar_Upload!G838,Gerar_Upload!G838),\"erro\")","v":"00000000000000000000000000000000000000000000"}]
[{"$f":"IFERROR(LEFT(Gerar_Upload!A839,120),\"erro\")","v":""},{"$f":"IFERROR(SUBSTITUTE(SUBSTITUTE(SUBSTITUTE(Gerar_Upload!B839,\".\",\"\"),\"-\",\"\"),\"/\",\"\"),\"erro\")","v":""},{"$f":"IFERROR(Gerar_Upload!C839,\"erro\")","v":0},{"$f":"IFERROR(Gerar_Upload!D839,\"erro\")","v":0},{"$f":"IFERROR(DATE(YEAR(Gerar_Upload!E839),MONTH(Gerar_Upload!E839),DAY(Gerar_Upload!E839)),\"erro\")","v":"00:00:00"},{"$f":"IFERROR(Gerar_Upload!F839,\"erro\")","v":0},{"$f":"IFERROR(IF(Gerar_Upload!G839<44,REPT(0,44-LEN(Gerar_Upload!G839))&Gerar_Upload!G839,Gerar_Upload!G839),\"erro\")","v":"00000000000000000000000000000000000000000000"}]
[{"$f":"IFERROR(LEFT(Gerar_Upload!A840,120),\"erro\")","v":""},{"$f":"IFERROR(SUBSTITUTE(SUBSTITUTE(SUBSTITUTE(Gerar_Upload!B840,\".\",\"\"),\"-\",\"\"),\"/\",\"\"),\"erro\")","v":""},{"$f":"IFERROR(Gerar_Upload!C840,\"erro\")","v":0},{"$f":"IFERROR(Gerar_Upload!D840,\"erro\")","v":0},{"$f":"IFERROR(DATE(YEAR(Gerar_Upload!E840),MONTH(Gerar_Upload!E840),DAY(Gerar_Upload!E840)),\"erro\")","v":"00:00:00"},{"$f":"IFERROR(Gerar_Upload!F840,\"erro\")","v":0},{"$f":"IFERROR(IF(Gerar_Upload!G840<44,REPT(0,44-LEN(Gerar_Upload!G840))&Gerar_Upload!G840,Gerar_Upload!G840),\"erro\")","v":"00000000000000000000000000000000000000000000"}]
[{"$f":"IFERROR(LEFT(Gerar_Upload!A841,120),\"erro\")","v":""},{"$f":"IFERROR(SUBSTITUTE(SUBSTITUTE(SUBSTITUTE(Gerar_Upload!B841,\".\",\"\"),\"-\",\"\"),\"/\",\"\"),\"erro\")","v":""},{"$f":"IFERROR(Gerar_Upload!C841,\"erro\")","v":0},{"$f":"IFERROR(Gerar_Upload!D841,\"erro\")","v":0},{"$f":"IFERROR(DATE(YEAR(Gerar_Upload!E841),MONTH(Gerar_Upload!E841),DAY(Gerar_Upload!E841)),\"erro\")","v":"00:00:00"},{"$f":"IFERROR(Gerar_Upload!F841,\"erro\")","v":0},{"$f":"IFERROR(IF(Gerar_Upload!G841<44,REPT(0,44-LEN(Gerar_Upload!G841))&Gerar_Upload!G841,Gerar_Upload!G841),\"erro\")","v":"00000000000000000000000000000000000000000000"}]
[{"$f":"IFERROR(LEFT(Gerar_Upload!A842,120),\"erro\")","v":""},{"$f":"IFERROR(SUBSTITUTE(SUBSTITUTE(SUBSTITUTE(Gerar_Upload!B842,\".\",\"\"),\"-\",\"\"),\"/\",\"\"),\"erro\")","v":""},{"$f":"IFERROR(Gerar_Upload!C842,\"erro\")","v":0},{"$f":"IFERROR(Gerar_Upload!D842,\"erro\")","v":0},{"$f":"IFERROR(DATE(YEAR(Gerar_Upload!E842),MONTH(Gerar_Upload!E842),DAY(Gerar_Upload!E842)),\"erro\")","v":"00:00:00"},{"$f":"IFERROR(Gerar_Upload!F842,\"erro\")","v":0},{"$f":"IFERROR(IF(Gerar_Upload!G842<44,REPT(0,44-LEN(Gerar_Upload!G842))&Gerar_Upload!G842,Gerar_Upload!G842),\"erro\")","v":"00000000000000000000000000000000000000000000"}]
[{"$f":"IFERROR(LEFT(Gerar_Upload!A843,120),\"erro\")","v":""},{"$f":"IFERROR(SUBSTITUTE(SUBSTITUTE(SUBSTITUTE(Gerar_Upload!B843,\".\",\"\"),\"-\",\"\"),\"/\",\"\"),\"erro\")","v":""},{"$f":"IFERROR(Gerar_Upload!C843,\"erro\")","v":0},{"$f":"IFERROR(Gerar_Upload!D843,\"erro\")","v":0},{"$f":"IFERROR(DATE(YEAR(Gerar_Upload!E843),MONTH(Gerar_Upload!E843),DAY(Gerar_Upload!E843)),\"erro\")","v":"00:00:00"},{"$f":"IFERROR(Gerar_Upload!F843,\"erro\")","v":0},{"$f":"IFERROR(IF(Gerar_Upload!G843<44,REPT(0,44-LEN(Gerar_Upload!G843))&Gerar_Upload!G843,Gerar_Upload!G843),\"erro\")","v":"00000000000000000000000000000000000000000000"}]
[{"$f":"IFERROR(LEFT(Gerar_Upload!A844,120),\"erro\")","v":""},{"$f":"IFERROR(SUBSTITUTE(SUBSTITUTE(SUBSTITUTE(Gerar_Upload!B844,\".\",\"\"),\"-\",\"\"),\"/\",\"\"),\"erro\")","v":""},{"$f":"IFERROR(Gerar_Upload!C844,\"erro\")","v":0},{"$f":"IFERROR(Gerar_Upload!D844,\"erro\")","v":0},{"$f":"IFERROR(DATE(YEAR(Gerar_Upload!E844),MONTH(Gerar_Upload!E844),DAY(Gerar_Upload!E844)),\"erro\")","v":"00:00:00"},{"$f":"IFERROR(Gerar_Upload!F844,\"erro\")","v":0},{"$f":"IFERROR(IF(Gerar_Upload!G844<44,REPT(0,44-LEN(Gerar_Upload!G844))&Gerar_Upload!G844,Gerar_Upload!G844),\"erro\")","v":"00000000000000000000000000000000000000000000"}]
[{"$f":"IFERROR(LEFT(Gerar_Upload!A845,120),\"erro\")","v":""},{"$f":"IFERROR(SUBSTITUTE(SUBSTITUTE(SUBSTITUTE(Gerar_Upload!B845,\".\",\"\"),\"-\",\"\"),\"/\",\"\"),\"erro\")","v":""},{"$f":"IFERROR(Gerar_Upload!C845,\"erro\")","v":0},{"$f":"IFERROR(Gerar_Upload!D845,\"erro\")","v":0},{"$f":"IFERROR(DATE(YEAR(Gerar_Upload!E845),MONTH(Gerar_Upload!E845),DAY(Gerar_Upload!E845)),\"erro\")","v":"00:00:00"},{"$f":"IFERROR(Gerar_Upload!F845,\"erro\")","v":0},{"$f":"IFERROR(IF(Gerar_Upload!G845<44,REPT(0,44-LEN(Gerar_Upload!G845))&Gerar_Upload!G845,Gerar_Upload!G845),\"erro\")","v":"00000000000000000000000000000000000000000000"}]
[{"$f":"IFERROR(LEFT(Gerar_Upload!A846,120),\"erro\")","v":""},{"$f":"IFERROR(SUBSTITUTE(SUBSTITUTE(SUBSTITUTE(Gerar_Upload!B846,\".\",\"\"),\"-\",\"\"),\"/\",\"\"),\"erro\")","v":""},{"$f":"IFERROR(Gerar_Upload!C846,\"erro\")","v":0},{"$f":"IFERROR(Gerar_Upload!D846,\"erro\")","v":0},{"$f":"IFERROR(DATE(YEAR(Gerar_Upload!E846),MONTH(Gerar_Upload!E846),DAY(Gerar_Upload!E846)),\"erro\")","v":"00:00:00"},{"$f":"IFERROR(Gerar_Upload!F846,\"erro\")","v":0},{"$f":"IFERROR(IF(Gerar_Upload!G846<44,REPT(0,44-LEN(Gerar_Upload!G846))&Gerar_Upload!G846,Gerar_Upload!G846),\"erro\")","v":"00000000000000000000000000000000000000000000"}]
[{"$f":"IFERROR(LEFT(Gerar_Upload!A847,120),\"erro\")","v":""},{"$f":"IFERROR(SUBSTITUTE(SUBSTITUTE(SUBSTITUTE(Gerar_Upload!B847,\".\",\"\"),\"-\",\"\"),\"/\",\"\"),\"erro\")","v":""},{"$f":"IFERROR(Gerar_Upload!C847,\"erro\")","v":0},{"$f":"IFERROR(Gerar_Upload!D847,\"erro\")","v":0},{"$f":"IFERROR(DATE(YEAR(Gerar_Upload!E847),MONTH(Gerar_Upload!E847),DAY(Gerar_Upload!E847)),\"erro\")","v":"00:00:00"},{"$f":"IFERROR(Gerar_Upload!F847,\"erro\")","v":0},{"$f":"IFERROR(IF(Gerar_Upload!G847<44,REPT(0,44-LEN(Gerar_Upload!G847))&Gerar_Upload!G847,Gerar_Upload!G847),\"erro\")","v":"00000000000000000000000000000000000000000000"}]
[{"$f":"IFERROR(LEFT(Gerar_Upload!A848,120),\"erro\")","v":""},{"$f":"IFERROR(SUBSTITUTE(SUBSTITUTE(SUBSTITUTE(Gerar_Upload!B848,\".\",\"\"),\"-\",\"\"),\"/\",\"\"),\"erro\")","v":""},{"$f":"IFERROR(Gerar_Upload!C848,\"erro\")","v":0},{"$f":"IFERROR(Gerar_Upload!D848,\"erro\")","v":0},{"$f":"IFERROR(DATE(YEAR(Gerar_Upload!E848),MONTH(Gerar_Upload!E848),DAY(Gerar_Upload!E848)),\"erro\")","v":"00:00:00"},{"$f":"IFERROR(Gerar_Upload!F848,\"erro\")","v":0},{"$f":"IFERROR(IF(Gerar_Upload!G848<44,REPT(0,44-LEN(Gerar_Upload!G848))&Gerar_Upload!G848,Gerar_Upload!G848),\"erro\")","v":"00000000000000000000000000000000000000000000"}]
[{"$f":"IFERROR(LEFT(Gerar_Upload!A849,120),\"erro\")","v":""},{"$f":"IFERROR(SUBSTITUTE(SUBSTITUTE(SUBSTITUTE(Gerar_Upload!B849,\".\",\"\"),\"-\",\"\"),\"/\",\"\"),\"erro\")","v":""},{"$f":"IFERROR(Gerar_Upload!C849,\"erro\")","v":0},{"$f":"IFERROR(Gerar_Upload!D849,\"erro\")","v":0},{"$f":"IFERROR(DATE(YEAR(Gerar_Upload!E849),MONTH(Gerar_Upload!E849),DAY(Gerar_Upload!E849)),\"erro\")","v":"00:00:00"},{"$f":"IFERROR(Gerar_Upload!F849,\"erro\")","v":0},{"$f":"IFERROR(IF(Gerar_Upload!G849<44,REPT(0,44-LEN(Gerar_Upload!G849))&Gerar_Upload!G849,Gerar_Upload!G849),\"erro\")","v":"00000000000000000000000000000000000000000000"}]
[{"$f":"IFERROR(LEFT(Gerar_Upload!A850,120),\"erro\")","v":""},{"$f":"IFERROR(SUBSTITUTE(SUBSTITUTE(SUBSTITUTE(Gerar_Upload!B850,\".\",\"\"),\"-\",\"\"),\"/\",\"\"),\"erro\")","v":""},{"$f":"IFERROR(Gerar_Upload!C850,\"erro\")","v":0},{"$f":"IFERROR(Gerar_Upload!D850,\"erro\")","v":0},{"$f":"IFERROR(DATE(YEAR(Gerar_Upload!E850),MONTH(Gerar_Upload!E850),DAY(Gerar_Upload!E850)),\"erro\")","v":"00:00:00"},{"$f":"IFERROR(Gerar_Upload!F850,\"erro\")","v":0},{"$f":"IFERROR(IF(Gerar_Upload!G850<44,REPT(0,44-LEN(Gerar_Upload!G850))&Gerar_Upload!G850,Gerar_Upload!G850),\"erro\")","v":"00000000000000000000000000000000000000000000"}]
[{"$f":"IFERROR(LEFT(Gerar_Upload!A851,120),\"erro\")","v":""},{"$f":"IFERROR(SUBSTITUTE(SUBSTITUTE(SUBSTITUTE(Gerar_Upload!B851,\".\",\"\"),\"-\",\"\"),\"/\",\"\"),\"erro\")","v":""},{"$f":"IFERROR(Gerar_Upload!C851,\"erro\")","v":0},{"$f":"IFERROR(Gerar_Upload!D851,\"erro\")","v":0},{"$f":"IFERROR(DATE(YEAR(Gerar_Upload!E851),MONTH(Gerar_Upload!E851),DAY(Gerar_Upload!E851)),\"erro\")","v":"00:00:00"},{"$f":"IFERROR(Gerar_Upload!F851,\"erro\")","v":0},{"$f":"IFERROR(IF(Gerar_Upload!G851<44,REPT(0,44-LEN(Gerar_Upload!G851))&Gerar_Upload!G851,Gerar_Upload!G851),\"erro\")","v":"00000000000000000000000000000000000000000000"}]
[{"$f":"IFERROR(LEFT(Gerar_Upload!A852,120),\"erro\")","v":""},{"$f":"IFERROR(SUBSTITUTE(SUBSTITUTE(SUBSTITUTE(Gerar_Upload!B852,\".\",\"\"),\"-\",\"\"),\"/\",\"\"),\"erro\")","v":""},{"$f":"IFERROR(Gerar_Upload!C852,\"erro\")","v":0},{"$f":"IFERROR(Gerar_Upload!D852,\"erro\")","v":0},{"$f":"IFERROR(DATE(YEAR(Gerar_Upload!E852),MONTH(Gerar_Upload!E852),DAY(Gerar_Upload!E852)),\"erro\")","v":"00:00:00"},{"$f":"IFERROR(Gerar_Upload!F852,\"erro\")","v":0},{"$f":"IFERROR(IF(Gerar_Upload!G852<44,REPT(0,44-LEN(Gerar_Upload!G852))&Gerar_Upload!G852,Gerar_Upload!G852),\"erro\")","v":"00000000000000000000000000000000000000000000"}]
[{"$f":"IFERROR(LEFT(Gerar_Upload!A853,120),\"erro\")","v":""},{"$f":"IFERROR(SUBSTITUTE(SUBSTITUTE(SUBSTITUTE(Gerar_Upload!B853,\".\",\"\"),\"-\",\"\"),\"/\",\"\"),\"erro\")","v":""},{"$f":"IFERROR(Gerar_Upload!C853,\"erro\")","v":0},{"$f":"IFERROR(Gerar_Upload!D853,\"erro\")","v":0},{"$f":"IFERROR(DATE(YEAR(Gerar_Upload!E853),MONTH(Gerar_Upload!E853),DAY(Gerar_Upload!E853)),\"erro\")","v":"00:00:00"},{"$f":"IFERROR(Gerar_Upload!F853,\"erro\")","v":0},{"$f":"IFERROR(IF(Gerar_Upload!G853<44,REPT(0,44-LEN(Gerar_Upload!G853))&Gerar_Upload!G853,Gerar_Upload!G853),\"erro\")","v":"00000000000000000000000000000000000000000000"}]
[{"$f":"IFERROR(LEFT(Gerar_Upload!A854,120),\"erro\")","v":""},{"$f":"IFERROR(SUBSTITUTE(SUBSTITUTE(SUBSTITUTE(Gerar_Upload!B854,\".\",\"\"),\"-\",\"\"),\"/\",\"\"),\"erro\")","v":""},{"$f":"IFERROR(Gerar_Upload!C854,\"erro\")","v":0},{"$f":"IFERROR(Gerar_Upload!D854,\"erro\")","v":0},{"$f":"IFERROR(DATE(YEAR(Gerar_Upload!E854),MONTH(Gerar_Upload!E854),DAY(Gerar_Upload!E854)),\"erro\")","v":"00:00:00"},{"$f":"IFERROR(Gerar_Upload!F854,\"erro\")","v":0},{"$f":"IFERROR(IF(Gerar_Upload!G854<44,REPT(0,44-LEN(Gerar_Upload!G854))&Gerar_Upload!G854,Gerar_Upload!G854),\"erro\")","v":"00000000000000000000000000000000000000000000"}]
[{"$f":"IFERROR(LEFT(Gerar_Upload!A855,120),\"erro\")","v":""},{"$f":"IFERROR(SUBSTITUTE(SUBSTITUTE(SUBSTITUTE(Gerar_Upload!B855,\".\",\"\"),\"-\",\"\"),\"/\",\"\"),\"erro\")","v":""},{"$f":"IFERROR(Gerar_Upload!C855,\"erro\")","v":0},{"$f":"IFERROR(Gerar_Upload!D855,\"erro\")","v":0},{"$f":"IFERROR(DATE(YEAR(Gerar_Upload!E855),MONTH(Gerar_Upload!E855),DAY(Gerar_Upload!E855)),\"erro\")","v":"00:00:00"},{"$f":"IFERROR(Gerar_Upload!F855,\"erro\")","v":0},{"$f":"IFERROR(IF(Gerar_Upload!G855<44,REPT(0,44-LEN(Gerar_Upload!G855))&Gerar_Upload!G855,Gerar_Upload!G855),\"erro\")","v":"00000000000000000000000000000000000000000000"}]
[{"$f":"IFERROR(LEFT(Gerar_Upload!A856,120),\"erro\")","v":""},{"$f":"IFERROR(SUBSTITUTE(SUBSTITUTE(SUBSTITUTE(Gerar_Upload!B856,\".\",\"\"),\"-\",\"\"),\"/\",\"\"),\"erro\")","v":""},{"$f":"IFERROR(Gerar_Upload!C856,\"erro\")","v":0},{"$f":"IFERROR(Gerar_Upload!D856,\"erro\")","v":0},{"$f":"IFERROR(DATE(YEAR(Gerar_Upload!E856),MONTH(Gerar_Upload!E856),DAY(Gerar_Upload!E856)),\"erro\")","v":"00:00:00"},{"$f":"IFERROR(Gerar_Upload!F856,\"erro\")","v":0},{"$f":"IFERROR(IF(Gerar_Upload!G856<44,REPT(0,44-LEN(Gerar_Upload!G856))&Gerar_Upload!G856,Gerar_Upload!G856),\"erro\")","v":"00000000000000000000000000000000000000000000"}]
[{"$f":"IFERROR(LEFT(Gerar_Upload!A857,120),\"erro\")","v":""},{"$f":"IFERROR(SUBSTITUTE(SUBSTITUTE(SUBSTITUTE(Gerar_Upload!B857,\".\",\"\"),\"-\",\"\"),\"/\",\"\"),\"erro\")","v":""},{"$f":"IFERROR(Gerar_Upload!C857,\"erro\")","v":0},{"$f":"IFERROR(Gerar_Upload!D857,\"erro\")","v":0},{"$f":"IFERROR(DATE(YEAR(Gerar_Upload!E857),MONTH(Gerar_Upload!E857),DAY(Gerar_Upload!E857)),\"erro\")","v":"00:00:00"},{"$f":"IFERROR(Gerar_Upload!F857,\"erro\")","v":0},{"$f":"IFERROR(IF(Gerar_Upload!G857<44,REPT(0,44-LEN(Gerar_Upload!G857))&Gerar_Upload!G857,Gerar_Upload!G857),\"erro\")","v":"00000000000000000000000000000000000000000000"}]
[{"$f":"IFERROR(LEFT(Gerar_Upload!A858,120),\"erro\")","v":""},{"$f":"IFERROR(SUBSTITUTE(SUBSTITUTE(SUBSTITUTE(Gerar_Upload!B858,\".\",\"\"),\"-\",\"\"),\"/\",\"\"),\"erro\")","v":""},{"$f":"IFERROR(Gerar_Upload!C858,\"erro\")","v":0},{"$f":"IFERROR(Gerar_Upload!D858,\"erro\")","v":0},{"$f":"IFERROR(DATE(YEAR(Gerar_Upload!E858),MONTH(Gerar_Upload!E858),DAY(Gerar_Upload!E858)),\"erro\")","v":"00:00:00"},{"$f":"IFERROR(Gerar_Upload!F858,\"erro\")","v":0},{"$f":"IFERROR(IF(Gerar_Upload!G858<44,REPT(0,44-LEN(Gerar_Upload!G858))&Gerar_Upload!G858,Gerar_Upload!G858),\"erro\")","v":"00000000000000000000000000000000000000000000"}]
[{"$f":"IFERROR(LEFT(Gerar_Upload!A859,120),\"erro\")","v":""},{"$f":"IFERROR(SUBSTITUTE(SUBSTITUTE(SUBSTITUTE(Gerar_Upload!B859,\".\",\"\"),\"-\",\"\"),\"/\",\"\"),\"erro\")","v":""},{"$f":"IFERROR(Gerar_Upload!C859,\"erro\")","v":0},{"$f":"IFERROR(Gerar_Upload!D859,\"erro\")","v":0},{"$f":"IFERROR(DATE(YEAR(Gerar_Upload!E859),MONTH(Gerar_Upload!E859),DAY(Gerar_Upload!E859)),\"erro\")","v":"00:00:00"},{"$f":"IFERROR(Gerar_Upload!F859,\"erro\")","v":0},{"$f":"IFERROR(IF(Gerar_Upload!G859<44,REPT(0,44-LEN(Gerar_Upload!G859))&Gerar_Upload!G859,Gerar_Upload!G859),\"erro\")","v":"00000000000000000000000000000000000000000000"}]
[{"$f":"IFERROR(LEFT(Gerar_Upload!A860,120),\"erro\")","v":""},{"$f":"IFERROR(SUBSTITUTE(SUBSTITUTE(SUBSTITUTE(Gerar_Upload!B860,\".\",\"\"),\"-\",\"\"),\"/\",\"\"),\"erro\")","v":""},{"$f":"IFERROR(Gerar_Upload!C860,\"erro\")","v":0},{"$f":"IFERROR(Gerar_Upload!D860,\"erro\")","v":0},{"$f":"IFERROR(DATE(YEAR(Gerar_Upload!E860),MONTH(Gerar_Upload!E860),DAY(Gerar_Upload!E860)),\"erro\")","v":"00:00:00"},{"$f":"IFERROR(Gerar_Upload!F860,\"erro\")","v":0},{"$f":"IFERROR(IF(Gerar_Upload!G860<44,REPT(0,44-LEN(Gerar_Upload!G860))&Gerar_Upload!G860,Gerar_Upload!G860),\"erro\")","v":"00000000000000000000000000000000000000000000"}]
[{"$f":"IFERROR(LEFT(Gerar_Upload!A861,120),\"erro\")","v":""},{"$f":"IFERROR(SUBSTITUTE(SUBSTITUTE(SUBSTITUTE(Gerar_Upload!B861,\".\",\"\"),\"-\",\"\"),\"/\",\"\"),\"erro\")","v":""},{"$f":"IFERROR(Gerar_Upload!C861,\"erro\")","v":0},{"$f":"IFERROR(Gerar_Upload!D861,\"erro\")","v":0},{"$f":"IFERROR(DATE(YEAR(Gerar_Upload!E861),MONTH(Gerar_Upload!E861),DAY(Gerar_Upload!E861)),\"erro\")","v":"00:00:00"},{"$f":"IFERROR(Gerar_Upload!F861,\"erro\")","v":0},{"$f":"IFERROR(IF(Gerar_Upload!G861<44,REPT(0,44-LEN(Gerar_Upload!G861))&Gerar_Upload!G861,Gerar_Upload!G861),\"erro\")","v":"00000000000000000000000000000000000000000000"}]
[{"$f":"IFERROR(LEFT(Gerar_Upload!A862,120),\"erro\")","v":""},{"$f":"IFERROR(SUBSTITUTE(SUBSTITUTE(SUBSTITUTE(Gerar_Upload!B862,\".\",\"\"),\"-\",\"\"),\"/\",\"\"),\"erro\")","v":""},{"$f":"IFERROR(Gerar_Upload!C862,\"erro\")","v":0},{"$f":"IFERROR(Gerar_Upload!D862,\"erro\")","v":0},{"$f":"IFERROR(DATE(YEAR(Gerar_Upload!E862),MONTH(Gerar_Upload!E862),DAY(Gerar_Upload!E862)),\"erro\")","v":"00:00:00"},{"$f":"IFERROR(Gerar_Upload!F862,\"erro\")","v":0},{"$f":"IFERROR(IF(Gerar_Upload!G862<44,REPT(0,44-LEN(Gerar_Upload!G862))&Gerar_Upload!G862,Gerar_Upload!G862),\"erro\")","v":"00000000000000000000000000000000000000000000"}]
[{"$f":"IFERROR(LEFT(Gerar_Upload!A863,120),\"erro\")","v":""},{"$f":"IFERROR(SUBSTITUTE(SUBSTITUTE(SUBSTITUTE(Gerar_Upload!B863,\".\",\"\"),\"-\",\"\"),\"/\",\"\"),\"erro\")","v":""},{"$f":"IFERROR(Gerar_Upload!C863,\"erro\")","v":0},{"$f":"IFERROR(Gerar_Upload!D863,\"erro\")","v":0},{"$f":"IFERROR(DATE(YEAR(Gerar_Upload!E863),MONTH(Gerar_Upload!E863),DAY(Gerar_Upload!E863)),\"erro\")","v":"00:00:00"},{"$f":"IFERROR(Gerar_Upload!F863,\"erro\")","v":0},{"$f":"IFERROR(IF(Gerar_Upload!G863<44,REPT(0,44-LEN(Gerar_Upload!G863))&Gerar_Upload!G863,Gerar_Upload!G863),\"erro\")","v":"00000000000000000000000000000000000000000000"}]
[{"$f":"IFERROR(LEFT(Gerar_Upload!A864,120),\"erro\")","v":""},{"$f":"IFERROR(SUBSTITUTE(SUBSTITUTE(SUBSTITUTE(Gerar_Upload!B864,\".\",\"\"),\"-\",\"\"),\"/\",\"\"),\"erro\")","v":""},{"$f":"IFERROR(Gerar_Upload!C864,\"erro\")","v":0},{"$f":"IFERROR(Gerar_Upload!D864,\"erro\")","v":0},{"$f":"IFERROR(DATE(YEAR(Gerar_Upload!E864),MONTH(Gerar_Upload!E864),DAY(Gerar_Upload!E864)),\"erro\")","v":"00:00:00"},{"$f":"IFERROR(Gerar_Upload!F864,\"erro\")","v":0},{"$f":"IFERROR(IF(Gerar_Upload!G864<44,REPT(0,44-LEN(Gerar_Upload!G864))&Gerar_Upload!G864,Gerar_Upload!G864),\"erro\")","v":"00000000000000000000000000000000000000000000"}]
[{"$f":"IFERROR(LEFT(Gerar_Upload!A865,120),\"erro\")","v":""},{"$f":"IFERROR(SUBSTITUTE(SUBSTITUTE(SUBSTITUTE(Gerar_Upload!B865,\".\",\"\"),\"-\",\"\"),\"/\",\"\"),\"erro\")","v":""},{"$f":"IFERROR(Gerar_Upload!C865,\"erro\")","v":0},{"$f":"IFERROR(Gerar_Upload!D865,\"erro\")","v":0},{"$f":"IFERROR(DATE(YEAR(Gerar_Upload!E865),MONTH(Gerar_Upload!E865),DAY(Gerar_Upload!E865)),\"erro\")","v":"00:00:00"},{"$f":"IFERROR(Gerar_Upload!F865,\"erro\")","v":0},{"$f":"IFERROR(IF(Gerar_Upload!G865<44,REPT(0,44-LEN(Gerar_Upload!G865))&Gerar_Upload!G865,Gerar_Upload!G865),\"erro\")","v":"00000000000000000000000000000000000000000000"}]
[{"$f":"IFERROR(LEFT(Gerar_Upload!A866,120),\"erro\")","v":""},{"$f":"IFERROR(SUBSTITUTE(SUBSTITUTE(SUBSTITUTE(Gerar_Upload!B866,\".\",\"\"),\"-\",\"\"),\"/\",\"\"),\"erro\")","v":""},{"$f":"IFERROR(Gerar_Upload!C866,\"erro\")","v":0},{"$f":"IFERROR(Gerar_Upload!D866,\"erro\")","v":0},{"$f":"IFERROR(DATE(YEAR(Gerar_Upload!E866),MONTH(Gerar_Upload!E866),DAY(Gerar_Upload!E866)),\"erro\")","v":"00:00:00"},{"$f":"IFERROR(Gerar_Upload!F866,\"erro\")","v":0},{"$f":"IFERROR(IF(Gerar_Upload!G866<44,REPT(0,44-LEN(Gerar_Upload!G866))&Gerar_Upload!G866,Gerar_Upload!G866),\"erro\")","v":"00000000000000000000000000000000000000000000"}]
[{"$f":"IFERROR(LEFT(Gerar_Upload!A867,120),\"erro\")","v":""},{"$f":"IFERROR(SUBSTITUTE(SUBSTITUTE(SUBSTITUTE(Gerar_Upload!B867,\".\",\"\"),\"-\",\"\"),\"/\",\"\"),\"erro\")","v":""},{"$f":"IFERROR(Gerar_Upload!C867,\"erro\")","v":0},{"$f":"IFERROR(Gerar_Upload!D867,\"erro\")","v":0},{"$f":"IFERROR(DATE(YEAR(Gerar_Upload!E867),MONTH(Gerar_Upload!E867),DAY(Gerar_Upload!E867)),\"erro\")","v":"00:00:00"},{"$f":"IFERROR(Gerar_Upload!F867,\"erro\")","v":0},{"$f":"IFERROR(IF(Gerar_Upload!G867<44,REPT(0,44-LEN(Gerar_Upload!G867))&Gerar_Upload!G867,Gerar_Upload!G867),\"erro\")","v":"00000000000000000000000000000000000000000000"}]
[{"$f":"IFERROR(LEFT(Gerar_Upload!A868,120),\"erro\")","v":""},{"$f":"IFERROR(SUBSTITUTE(SUBSTITUTE(SUBSTITUTE(Gerar_Upload!B868,\".\",\"\"),\"-\",\"\"),\"/\",\"\"),\"erro\")","v":""},{"$f":"IFERROR(Gerar_Upload!C868,\"erro\")","v":0},{"$f":"IFERROR(Gerar_Upload!D868,\"erro\")","v":0},{"$f":"IFERROR(DATE(YEAR(Gerar_Upload!E868),MONTH(Gerar_Upload!E868),DAY(Gerar_Upload!E868)),\"erro\")","v":"00:00:00"},{"$f":"IFERROR(Gerar_Upload!F868,\"erro\")","v":0},{"$f":"IFERROR(IF(Gerar_Upload!G868<44,REPT(0,44-LEN(Gerar_Upload!G868))&Gerar_Upload!G868,Gerar_Upload!G868),\"erro\")","v":"00000000000000000000000000000000000000000000"}]
[{"$f":"IFERROR(LEFT(Gerar_Upload!A869,120),\"erro\")","v":""},{"$f":"IFERROR(SUBSTITUTE(SUBSTITUTE(SUBSTITUTE(Gerar_Upload!B869,\".\",\"\"),\"-\",\"\"),\"/\",\"\"),\"erro\")","v":""},{"$f":"IFERROR(Gerar_Upload!C869,\"erro\")","v":0},{"$f":"IFERROR(Gerar_Upload!D869,\"erro\")","v":0},{"$f":"IFERROR(DATE(YEAR(Gerar_Upload!E869),MONTH(Gerar_Upload!E869),DAY(Gerar_Upload!E869)),\"erro\")","v":"00:00:00"},{"$f":"IFERROR(Gerar_Upload!F869,\"erro\")","v":0},{"$f":"IFERROR(IF(Gerar_Upload!G869<44,REPT(0,44-LEN(Gerar_Upload!G869))&Gerar_Upload!G869,Gerar_Upload!G869),\"erro\")","v":"00000000000000000000000000000000000000000000"}]
[{"$f":"IFERROR(LEFT(Gerar_Upload!A870,120),\"erro\")","v":""},{"$f":"IFERROR(SUBSTITUTE(SUBSTITUTE(SUBSTITUTE(Gerar_Upload!B870,\".\",\"\"),\"-\",\"\"),\"/\",\"\"),\"erro\")","v":""},{"$f":"IFERROR(Gerar_Upload!C870,\"erro\")","v":0},{"$f":"IFERROR(Gerar_Upload!D870,\"erro\")","v":0},{"$f":"IFERROR(DATE(YEAR(Gerar_Upload!E870),MONTH(Gerar_Upload!E870),DAY(Gerar_Upload!E870)),\"erro\")","v":"00:00:00"},{"$f":"IFERROR(Gerar_Upload!F870,\"erro\")","v":0},{"$f":"IFERROR(IF(Gerar_Upload!G870<44,REPT(0,44-LEN(Gerar_Upload!G870))&Gerar_Upload!G870,Gerar_Upload!G870),\"erro\")","v":"00000000000000000000000000000000000000000000"}]
[{"$f":"IFERROR(LEFT(Gerar_Upload!A871,120),\"erro\")","v":""},{"$f":"IFERROR(SUBSTITUTE(SUBSTITUTE(SUBSTITUTE(Gerar_Upload!B871,\".\",\"\"),\"-\",\"\"),\"/\",\"\"),\"erro\")","v":""},{"$f":"IFERROR(Gerar_Upload!C871,\"erro\")","v":0},{"$f":"IFERROR(Gerar_Upload!D871,\"erro\")","v":0},{"$f":"IFERROR(DATE(YEAR(Gerar_Upload!E871),MONTH(Gerar_Upload!E871),DAY(Gerar_Upload!E871)),\"erro\")","v":"00:00:00"},{"$f":"IFERROR(Gerar_Upload!F871,\"erro\")","v":0},{"$f":"IFERROR(IF(Gerar_Upload!G871<44,REPT(0,44-LEN(Gerar_Upload!G871))&Gerar_Upload!G871,Gerar_Upload!G871),\"erro\")","v":"00000000000000000000000000000000000000000000"}]
[{"$f":"IFERROR(LEFT(Gerar_Upload!A872,120),\"erro\")","v":""},{"$f":"IFERROR(SUBSTITUTE(SUBSTITUTE(SUBSTITUTE(Gerar_Upload!B872,\".\",\"\"),\"-\",\"\"),\"/\",\"\"),\"erro\")","v":""},{"$f":"IFERROR(Gerar_Upload!C872,\"erro\")","v":0},{"$f":"IFERROR(Gerar_Upload!D872,\"erro\")","v":0},{"$f":"IFERROR(DATE(YEAR(Gerar_Upload!E872),MONTH(Gerar_Upload!E872),DAY(Gerar_Upload!E872)),\"erro\")","v":"00:00:00"},{"$f":"IFERROR(Gerar_Upload!F872,\"erro\")","v":0},{"$f":"IFERROR(IF(Gerar_Upload!G872<44,REPT(0,44-LEN(Gerar_Upload!G872))&Gerar_Upload!G872,Gerar_Upload!G872),\"erro\")","v":"00000000000000000000000000000000000000000000"}]
[{"$f":"IFERROR(LEFT(Gerar_Upload!A873,120),\"erro\")","v":""},{"$f":"IFERROR(SUBSTITUTE(SUBSTITUTE(SUBSTITUTE(Gerar_Upload!B873,\".\",\"\"),\"-\",\"\"),\"/\",\"\"),\"erro\")","v":""},{"$f":"IFERROR(Gerar_Upload!C873,\"erro\")","v":0},{"$f":"IFERROR(Gerar_Upload!D873,\"erro\")","v":0},{"$f":"IFERROR(DATE(YEAR(Gerar_Upload!E873),MONTH(Gerar_Upload!E873),DAY(Gerar_Upload!E873)),\"erro\")","v":"00:00:00"},{"$f":"IFERROR(Gerar_Upload!F873,\"erro\")","v":0},{"$f":"IFERROR(IF(Gerar_Upload!G873<44,REPT(0,44-LEN(Gerar_Upload!G873))&Gerar_Upload!G873,Gerar_Upload!G873),\"erro\")","v":"00000000000000000000000000000000000000000000"}]
[{"$f":"IFERROR(LEFT(Gerar_Upload!A874,120),\"erro\")","v":""},{"$f":"IFERROR(SUBSTITUTE(SUBSTITUTE(SUBSTITUTE(Gerar_Upload!B874,\".\",\"\"),\"-\",\"\"),\"/\",\"\"),\"erro\")","v":""},{"$f":"IFERROR(Gerar_Upload!C874,\"erro\")","v":0},{"$f":"IFERROR(Gerar_Upload!D874,\"erro\")","v":0},{"$f":"IFERROR(DATE(YEAR(Gerar_Upload!E874),MONTH(Gerar_Upload!E874),DAY(Gerar_Upload!E874)),\"erro\")","v":"00:00:00"},{"$f":"IFERROR(Gerar_Upload!F874,\"erro\")","v":0},{"$f":"IFERROR(IF(Gerar_Upload!G874<44,REPT(0,44-LEN(Gerar_Upload!G874))&Gerar_Upload!G874,Gerar_Upload!G874),\"erro\")","v":"00000000000000000000000000000000000000000000"}]
[{"$f":"IFERROR(LEFT(Gerar_Upload!A875,120),\"erro\")","v":""},{"$f":"IFERROR(SUBSTITUTE(SUBSTITUTE(SUBSTITUTE(Gerar_Upload!B875,\".\",\"\"),\"-\",\"\"),\"/\",\"\"),\"erro\")","v":""},{"$f":"IFERROR(Gerar_Upload!C875,\"erro\")","v":0},{"$f":"IFERROR(Gerar_Upload!D875,\"erro\")","v":0},{"$f":"IFERROR(DATE(YEAR(Gerar_Upload!E875),MONTH(Gerar_Upload!E875),DAY(Gerar_Upload!E875)),\"erro\")","v":"00:00:00"},{"$f":"IFERROR(Gerar_Upload!F875,\"erro\")","v":0},{"$f":"IFERROR(IF(Gerar_Upload!G875<44,REPT(0,44-LEN(Gerar_Upload!G875))&Gerar_Upload!G875,Gerar_Upload!G875),\"erro\")","v":"00000000000000000000000000000000000000000000"}]
[{"$f":"IFERROR(LEFT(Gerar_Upload!A876,120),\"erro\")","v":""},{"$f":"IFERROR(SUBSTITUTE(SUBSTITUTE(SUBSTITUTE(Gerar_Upload!B876,\".\",\"\"),\"-\",\"\"),\"/\",\"\"),\"erro\")","v":""},{"$f":"IFERROR(Gerar_Upload!C876,\"erro\")","v":0},{"$f":"IFERROR(Gerar_Upload!D876,\"erro\")","v":0},{"$f":"IFERROR(DATE(YEAR(Gerar_Upload!E876),MONTH(Gerar_Upload!E876),DAY(Gerar_Upload!E876)),\"erro\")","v":"00:00:00"},{"$f":"IFERROR(Gerar_Upload!F876,\"erro\")","v":0},{"$f":"IFERROR(IF(Gerar_Upload!G876<44,REPT(0,44-LEN(Gerar_Upload!G876))&Gerar_Upload!G876,Gerar_Upload!G876),\"erro\")","v":"00000000000000000000000000000000000000000000"}]
[{"$f":"IFERROR(LEFT(Gerar_Upload!A877,120),\"erro\")","v":""},{"$f":"IFERROR(SUBSTITUTE(SUBSTITUTE(SUBSTITUTE(Gerar_Upload!B877,\".\",\"\"),\"-\",\"\"),\"/\",\"\"),\"erro\")","v":""},{"$f":"IFERROR(Gerar_Upload!C877,\"erro\")","v":0},{"$f":"IFERROR(Gerar_Upload!D877,\"erro\")","v":0},{"$f":"IFERROR(DATE(YEAR(Gerar_Upload!E877),MONTH(Gerar_Upload!E877),DAY(Gerar_Upload!E877)),\"erro\")","v":"00:00:00"},{"$f":"IFERROR(Gerar_Upload!F877,\"erro\")","v":0},{"$f":"IFERROR(IF(Gerar_Upload!G877<44,REPT(0,44-LEN(Gerar_Upload!G877))&Gerar_Upload!G877,Gerar_Upload!G877),\"erro\")","v":"00000000000000000000000000000000000000000000"}]
[{"$f":"IFERROR(LEFT(Gerar_Upload!A878,120),\"erro\")","v":""},{"$f":"IFERROR(SUBSTITUTE(SUBSTITUTE(SUBSTITUTE(Gerar_Upload!B878,\".\",\"\"),\"-\",\"\"),\"/\",\"\"),\"erro\")","v":""},{"$f":"IFERROR(Gerar_Upload!C878,\"erro\")","v":0},{"$f":"IFERROR(Gerar_Upload!D878,\"erro\")","v":0},{"$f":"IFERROR(DATE(YEAR(Gerar_Upload!E878),MONTH(Gerar_Upload!E878),DAY(Gerar_Upload!E878)),\"erro\")","v":"00:00:00"},{"$f":"IFERROR(Gerar_Upload!F878,\"erro\")","v":0},{"$f":"IFERROR(IF(Gerar_Upload!G878<44,REPT(0,44-LEN(Gerar_Upload!G878))&Gerar_Upload!G878,Gerar_Upload!G878),\"erro\")","v":"00000000000000000000000000000000000000000000"}]
[{"$f":"IFERROR(LEFT(Gerar_Upload!A879,120),\"erro\")","v":""},{"$f":"IFERROR(SUBSTITUTE(SUBSTITUTE(SUBSTITUTE(Gerar_Upload!B879,\".\",\"\"),\"-\",\"\"),\"/\",\"\"),\"erro\")","v":""},{"$f":"IFERROR(Gerar_Upload!C879,\"erro\")","v":0},{"$f":"IFERROR(Gerar_Upload!D879,\"erro\")","v":0},{"$f":"IFERROR(DATE(YEAR(Gerar_Upload!E879),MONTH(Gerar_Upload!E879),DAY(Gerar_Upload!E879)),\"erro\")","v":"00:00:00"},{"$f":"IFERROR(Gerar_Upload!F879,\"erro\")","v":0},{"$f":"IFERROR(IF(Gerar_Upload!G879<44,REPT(0,44-LEN(Gerar_Upload!G879))&Gerar_Upload!G879,Gerar_Upload!G879),\"erro\")","v":"00000000000000000000000000000000000000000000"}]
[{"$f":"IFERROR(LEFT(Gerar_Upload!A880,120),\"erro\")","v":""},{"$f":"IFERROR(SUBSTITUTE(SUBSTITUTE(SUBSTITUTE(Gerar_Upload!B880,\".\",\"\"),\"-\",\"\"),\"/\",\"\"),\"erro\")","v":""},{"$f":"IFERROR(Gerar_Upload!C880,\"erro\")","v":0},{"$f":"IFERROR(Gerar_Upload!D880,\"erro\")","v":0},{"$f":"IFERROR(DATE(YEAR(Gerar_Upload!E880),MONTH(Gerar_Upload!E880),DAY(Gerar_Upload!E880)),\"erro\")","v":"00:00:00"},{"$f":"IFERROR(Gerar_Upload!F880,\"erro\")","v":0},{"$f":"IFERROR(IF(Gerar_Upload!G880<44,REPT(0,44-LEN(Gerar_Upload!G880))&Gerar_Upload!G880,Gerar_Upload!G880),\"erro\")","v":"00000000000000000000000000000000000000000000"}]
[{"$f":"IFERROR(LEFT(Gerar_Upload!A881,120),\"erro\")","v":""},{"$f":"IFERROR(SUBSTITUTE(SUBSTITUTE(SUBSTITUTE(Gerar_Upload!B881,\".\",\"\"),\"-\",\"\"),\"/\",\"\"),\"erro\")","v":""},{"$f":"IFERROR(Gerar_Upload!C881,\"erro\")","v":0},{"$f":"IFERROR(Gerar_Upload!D881,\"erro\")","v":0},{"$f":"IFERROR(DATE(YEAR(Gerar_Upload!E881),MONTH(Gerar_Upload!E881),DAY(Gerar_Upload!E881)),\"erro\")","v":"00:00:00"},{"$f":"IFERROR(Gerar_Upload!F881,\"erro\")","v":0},{"$f":"IFERROR(IF(Gerar_Upload!G881<44,REPT(0,44-LEN(Gerar_Upload!G881))&Gerar_Upload!G881,Gerar_Upload!G881),\"erro\")","v":"00000000000000000000000000000000000000000000"}]
[{"$f":"IFERROR(LEFT(Gerar_Upload!A882,120),\"erro\")","v":""},{"$f":"IFERROR(SUBSTITUTE(SUBSTITUTE(SUBSTITUTE(Gerar_Upload!B882,\".\",\"\"),\"-\",\"\"),\"/\",\"\"),\"erro\")","v":""},{"$f":"IFERROR(Gerar_Upload!C882,\"erro\")","v":0},{"$f":"IFERROR(Gerar_Upload!D882,\"erro\")","v":0},{"$f":"IFERROR(DATE(YEAR(Gerar_Upload!E882),MONTH(Gerar_Upload!E882),DAY(Gerar_Upload!E882)),\"erro\")","v":"00:00:00"},{"$f":"IFERROR(Gerar_Upload!F882,\"erro\")","v":0},{"$f":"IFERROR(IF(Gerar_Upload!G882<44,REPT(0,44-LEN(Gerar_Upload!G882))&Gerar_Upload!G882,Gerar_Upload!G882),\"erro\")","v":"00000000000000000000000000000000000000000000"}]
[{"$f":"IFERROR(LEFT(Gerar_Upload!A883,120),\"erro\")","v":""},{"$f":"IFERROR(SUBSTITUTE(SUBSTITUTE(SUBSTITUTE(Gerar_Upload!B883,\".\",\"\"),\"-\",\"\"),\"/\",\"\"),\"erro\")","v":""},{"$f":"IFERROR(Gerar_Upload!C883,\"erro\")","v":0},{"$f":"IFERROR(Gerar_Upload!D883,\"erro\")","v":0},{"$f":"IFERROR(DATE(YEAR(Gerar_Upload!E883),MONTH(Gerar_Upload!E883),DAY(Gerar_Upload!E883)),\"erro\")","v":"00:00:00"},{"$f":"IFERROR(Gerar_Upload!F883,\"erro\")","v":0},{"$f":"IFERROR(IF(Gerar_Upload!G883<44,REPT(0,44-LEN(Gerar_Upload!G883))&Gerar_Upload!G883,Gerar_Upload!G883),\"erro\")","v":"00000000000000000000000000000000000000000000"}]
[{"$f":"IFERROR(LEFT(Gerar_Upload!A884,120),\"erro\")","v":""},{"$f":"IFERROR(SUBSTITUTE(SUBSTITUTE(SUBSTITUTE(Gerar_Upload!B884,\".\",\"\"),\"-\",\"\"),\"/\",\"\"),\"erro\")","v":""},{"$f":"IFERROR(Gerar_Upload!C884,\"erro\")","v":0},{"$f":"IFERROR(Gerar_Upload!D884,\"erro\")","v":0},{"$f":"IFERROR(DATE(YEAR(Gerar_Upload!E884),MONTH(Gerar_Upload!E884),DAY(Gerar_Upload!E884)),\"erro\")","v":"00:00:00"},{"$f":"IFERROR(Gerar_Upload!F884,\"erro\")","v":0},{"$f":"IFERROR(IF(Gerar_Upload!G884<44,REPT(0,44-LEN(Gerar_Upload!G884))&Gerar_Upload!G884,Gerar_Upload!G884),\"erro\")","v":"00000000000000000000000000000000000000000000"}]
[{"$f":"IFERROR(LEFT(Gerar_Upload!A885,120),\"erro\")","v":""},{"$f":"IFERROR(SUBSTITUTE(SUBSTITUTE(SUBSTITUTE(Gerar_Upload!B885,\".\",\"\"),\"-\",\"\"),\"/\",\"\"),\"erro\")","v":""},{"$f":"IFERROR(Gerar_Upload!C885,\"erro\")","v":0},{"$f":"IFERROR(Gerar_Upload!D885,\"erro\")","v":0},{"$f":"IFERROR(DATE(YEAR(Gerar_Upload!E885),MONTH(Gerar_Upload!E885),DAY(Gerar_Upload!E885)),\"erro\")","v":"00:00:00"},{"$f":"IFERROR(Gerar_Upload!F885,\"erro\")","v":0},{"$f":"IFERROR(IF(Gerar_Upload!G885<44,REPT(0,44-LEN(Gerar_Upload!G885))&Gerar_Upload!G885,Gerar_Upload!G885),\"erro\")","v":"00000000000000000000000000000000000000000000"}]
[{"$f":"IFERROR(LEFT(Gerar_Upload!A886,120),\"erro\")","v":""},{"$f":"IFERROR(SUBSTITUTE(SUBSTITUTE(SUBSTITUTE(Gerar_Upload!B886,\".\",\"\"),\"-\",\"\"),\"/\",\"\"),\"erro\")","v":""},{"$f":"IFERROR(Gerar_Upload!C886,\"erro\")","v":0},{"$f":"IFERROR(Gerar_Upload!D886,\"erro\")","v":0},{"$f":"IFERROR(DATE(YEAR(Gerar_Upload!E886),MONTH(Gerar_Upload!E886),DAY(Gerar_Upload!E886)),\"erro\")","v":"00:00:00"},{"$f":"IFERROR(Gerar_Upload!F886,\"erro\")","v":0},{"$f":"IFERROR(IF(Gerar_Upload!G886<44,REPT(0,44-LEN(Gerar_Upload!G886))&Gerar_Upload!G886,Gerar_Upload!G886),\"erro\")","v":"00000000000000000000000000000000000000000000"}]
[{"$f":"IFERROR(LEFT(Gerar_Upload!A887,120),\"erro\")","v":""},{"$f":"IFERROR(SUBSTITUTE(SUBSTITUTE(SUBSTITUTE(Gerar_Upload!B887,\".\",\"\"),\"-\",\"\"),\"/\",\"\"),\"erro\")","v":""},{"$f":"IFERROR(Gerar_Upload!C887,\"erro\")","v":0},{"$f":"IFERROR(Gerar_Upload!D887,\"erro\")","v":0},{"$f":"IFERROR(DATE(YEAR(Gerar_Upload!E887),MONTH(Gerar_Upload!E887),DAY(Gerar_Upload!E887)),\"erro\")","v":"00:00:00"},{"$f":"IFERROR(Gerar_Upload!F887,\"erro\")","v":0},{"$f":"IFERROR(IF(Gerar_Upload!G887<44,REPT(0,44-LEN(Gerar_Upload!G887))&Gerar_Upload!G887,Gerar_Upload!G887),\"erro\")","v":"00000000000000000000000000000000000000000000"}]
[{"$f":"IFERROR(LEFT(Gerar_Upload!A888,120),\"erro\")","v":""},{"$f":"IFERROR(SUBSTITUTE(SUBSTITUTE(SUBSTITUTE(Gerar_Upload!B888,\".\",\"\"),\"-\",\"\"),\"/\",\"\"),\"erro\")","v":""},{"$f":"IFERROR(Gerar_Upload!C888,\"erro\")","v":0},{"$f":"IFERROR(Gerar_Upload!D888,\"erro\")","v":0},{"$f":"IFERROR(DATE(YEAR(Gerar_Upload!E888),MONTH(Gerar_Upload!E888),DAY(Gerar_Upload!E888)),\"erro\")","v":"00:00:00"},{"$f":"IFERROR(Gerar_Upload!F888,\"erro\")","v":0},{"$f":"IFERROR(IF(Gerar_Upload!G888<44,REPT(0,44-LEN(Gerar_Upload!G888))&Gerar_Upload!G888,Gerar_Upload!G888),\"erro\")","v":"00000000000000000000000000000000000000000000"}]
[{"$f":"IFERROR(LEFT(Gerar_Upload!A889,120),\"erro\")","v":""},{"$f":"IFERROR(SUBSTITUTE(SUBSTITUTE(SUBSTITUTE(Gerar_Upload!B889,\".\",\"\"),\"-\",\"\"),\"/\",\"\"),\"erro\")","v":""},{"$f":"IFERROR(Gerar_Upload!C889,\"erro\")","v":0},{"$f":"IFERROR(Gerar_Upload!D889,\"erro\")","v":0},{"$f":"IFERROR(DATE(YEAR(Gerar_Upload!E889),MONTH(Gerar_Upload!E889),DAY(Gerar_Upload!E889)),\"erro\")","v":"00:00:00"},{"$f":"IFERROR(Gerar_Upload!F889,\"erro\")","v":0},{"$f":"IFERROR(IF(Gerar_Upload!G889<44,REPT(0,44-LEN(Gerar_Upload!G889))&Gerar_Upload!G889,Gerar_Upload!G889),\"erro\")","v":"00000000000000000000000000000000000000000000"}]
[{"$f":"IFERROR(LEFT(Gerar_Upload!A890,120),\"erro\")","v":""},{"$f":"IFERROR(SUBSTITUTE(SUBSTITUTE(SUBSTITUTE(Gerar_Upload!B890,\".\",\"\"),\"-\",\"\"),\"/\",\"\"),\"erro\")","v":""},{"$f":"IFERROR(Gerar_Upload!C890,\"erro\")","v":0},{"$f":"IFERROR(Gerar_Upload!D890,\"erro\")","v":0},{"$f":"IFERROR(DATE(YEAR(Gerar_Upload!E890),MONTH(Gerar_Upload!E890),DAY(Gerar_Upload!E890)),\"erro\")","v":"00:00:00"},{"$f":"IFERROR(Gerar_Upload!F890,\"erro\")","v":0},{"$f":"IFERROR(IF(Gerar_Upload!G890<44,REPT(0,44-LEN(Gerar_Upload!G890))&Gerar_Upload!G890,Gerar_Upload!G890),\"erro\")","v":"00000000000000000000000000000000000000000000"}]
[{"$f":"IFERROR(LEFT(Gerar_Upload!A891,120),\"erro\")","v":""},{"$f":"IFERROR(SUBSTITUTE(SUBSTITUTE(SUBSTITUTE(Gerar_Upload!B891,\".\",\"\"),\"-\",\"\"),\"/\",\"\"),\"erro\")","v":""},{"$f":"IFERROR(Gerar_Upload!C891,\"erro\")","v":0},{"$f":"IFERROR(Gerar_Upload!D891,\"erro\")","v":0},{"$f":"IFERROR(DATE(YEAR(Gerar_Upload!E891),MONTH(Gerar_Upload!E891),DAY(Gerar_Upload!E891)),\"erro\")","v":"00:00:00"},{"$f":"IFERROR(Gerar_Upload!F891,\"erro\")","v":0},{"$f":"IFERROR(IF(Gerar_Upload!G891<44,REPT(0,44-LEN(Gerar_Upload!G891))&Gerar_Upload!G891,Gerar_Upload!G891),\"erro\")","v":"00000000000000000000000000000000000000000000"}]
[{"$f":"IFERROR(LEFT(Gerar_Upload!A892,120),\"erro\")","v":""},{"$f":"IFERROR(SUBSTITUTE(SUBSTITUTE(SUBSTITUTE(Gerar_Upload!B892,\".\",\"\"),\"-\",\"\"),\"/\",\"\"),\"erro\")","v":""},{"$f":"IFERROR(Gerar_Upload!C892,\"erro\")","v":0},{"$f":"IFERROR(Gerar_Upload!D892,\"erro\")","v":0},{"$f":"IFERROR(DATE(YEAR(Gerar_Upload!E892),MONTH(Gerar_Upload!E892),DAY(Gerar_Upload!E892)),\"erro\")","v":"00:00:00"},{"$f":"IFERROR(Gerar_Upload!F892,\"erro\")","v":0},{"$f":"IFERROR(IF(Gerar_Upload!G892<44,REPT(0,44-LEN(Gerar_Upload!G892))&Gerar_Upload!G892,Gerar_Upload!G892),\"erro\")","v":"00000000000000000000000000000000000000000000"}]
[{"$f":"IFERROR(LEFT(Gerar_Upload!A893,120),\"erro\")","v":""},{"$f":"IFERROR(SUBSTITUTE(SUBSTITUTE(SUBSTITUTE(Gerar_Upload!B893,\".\",\"\"),\"-\",\"\"),\"/\",\"\"),\"erro\")","v":""},{"$f":"IFERROR(Gerar_Upload!C893,\"erro\")","v":0},{"$f":"IFERROR(Gerar_Upload!D893,\"erro\")","v":0},{"$f":"IFERROR(DATE(YEAR(Gerar_Upload!E893),MONTH(Gerar_Upload!E893),DAY(Gerar_Upload!E893)),\"erro\")","v":"00:00:00"},{"$f":"IFERROR(Gerar_Upload!F893,\"erro\")","v":0},{"$f":"IFERROR(IF(Gerar_Upload!G893<44,REPT(0,44-LEN(Gerar_Upload!G893))&Gerar_Upload!G893,Gerar_Upload!G893),\"erro\")","v":"00000000000000000000000000000000000000000000"}]
[{"$f":"IFERROR(LEFT(Gerar_Upload!A894,120),\"erro\")","v":""},{"$f":"IFERROR(SUBSTITUTE(SUBSTITUTE(SUBSTITUTE(Gerar_Upload!B894,\".\",\"\"),\"-\",\"\"),\"/\",\"\"),\"erro\")","v":""},{"$f":"IFERROR(Gerar_Upload!C894,\"erro\")","v":0},{"$f":"IFERROR(Gerar_Upload!D894,\"erro\")","v":0},{"$f":"IFERROR(DATE(YEAR(Gerar_Upload!E894),MONTH(Gerar_Upload!E894),DAY(Gerar_Upload!E894)),\"erro\")","v":"00:00:00"},{"$f":"IFERROR(Gerar_Upload!F894,\"erro\")","v":0},{"$f":"IFERROR(IF(Gerar_Upload!G894<44,REPT(0,44-LEN(Gerar_Upload!G894))&Gerar_Upload!G894,Gerar_Upload!G894),\"erro\")","v":"00000000000000000000000000000000000000000000"}]
[{"$f":"IFERROR(LEFT(Gerar_Upload!A895,120),\"erro\")","v":""},{"$f":"IFERROR(SUBSTITUTE(SUBSTITUTE(SUBSTITUTE(Gerar_Upload!B895,\".\",\"\"),\"-\",\"\"),\"/\",\"\"),\"erro\")","v":""},{"$f":"IFERROR(Gerar_Upload!C895,\"erro\")","v":0},{"$f":"IFERROR(Gerar_Upload!D895,\"erro\")","v":0},{"$f":"IFERROR(DATE(YEAR(Gerar_Upload!E895),MONTH(Gerar_Upload!E895),DAY(Gerar_Upload!E895)),\"erro\")","v":"00:00:00"},{"$f":"IFERROR(Gerar_Upload!F895,\"erro\")","v":0},{"$f":"IFERROR(IF(Gerar_Upload!G895<44,REPT(0,44-LEN(Gerar_Upload!G895))&Gerar_Upload!G895,Gerar_Upload!G895),\"erro\")","v":"00000000000000000000000000000000000000000000"}]
[{"$f":"IFERROR(LEFT(Gerar_Upload!A896,120),\"erro\")","v":""},{"$f":"IFERROR(SUBSTITUTE(SUBSTITUTE(SUBSTITUTE(Gerar_Upload!B896,\".\",\"\"),\"-\",\"\"),\"/\",\"\"),\"erro\")","v":""},{"$f":"IFERROR(Gerar_Upload!C896,\"erro\")","v":0},{"$f":"IFERROR(Gerar_Upload!D896,\"erro\")","v":0},{"$f":"IFERROR(DATE(YEAR(Gerar_Upload!E896),MONTH(Gerar_Upload!E896),DAY(Gerar_Upload!E896)),\"erro\")","v":"00:00:00"},{"$f":"IFERROR(Gerar_Upload!F896,\"erro\")","v":0},{"$f":"IFERROR(IF(Gerar_Upload!G896<44,REPT(0,44-LEN(Gerar_Upload!G896))&Gerar_Upload!G896,Gerar_Upload!G896),\"erro\")","v":"00000000000000000000000000000000000000000000"}]
[{"$f":"IFERROR(LEFT(Gerar_Upload!A897,120),\"erro\")","v":""},{"$f":"IFERROR(SUBSTITUTE(SUBSTITUTE(SUBSTITUTE(Gerar_Upload!B897,\".\",\"\"),\"-\",\"\"),\"/\",\"\"),\"erro\")","v":""},{"$f":"IFERROR(Gerar_Upload!C897,\"erro\")","v":0},{"$f":"IFERROR(Gerar_Upload!D897,\"erro\")","v":0},{"$f":"IFERROR(DATE(YEAR(Gerar_Upload!E897),MONTH(Gerar_Upload!E897),DAY(Gerar_Upload!E897)),\"erro\")","v":"00:00:00"},{"$f":"IFERROR(Gerar_Upload!F897,\"erro\")","v":0},{"$f":"IFERROR(IF(Gerar_Upload!G897<44,REPT(0,44-LEN(Gerar_Upload!G897))&Gerar_Upload!G897,Gerar_Upload!G897),\"erro\")","v":"00000000000000000000000000000000000000000000"}]
[{"$f":"IFERROR(LEFT(Gerar_Upload!A898,120),\"erro\")","v":""},{"$f":"IFERROR(SUBSTITUTE(SUBSTITUTE(SUBSTITUTE(Gerar_Upload!B898,\".\",\"\"),\"-\",\"\"),\"/\",\"\"),\"erro\")","v":""},{"$f":"IFERROR(Gerar_Upload!C898,\"erro\")","v":0},{"$f":"IFERROR(Gerar_Upload!D898,\"erro\")","v":0},{"$f":"IFERROR(DATE(YEAR(Gerar_Upload!E898),MONTH(Gerar_Upload!E898),DAY(Gerar_Upload!E898)),\"erro\")","v":"00:00:00"},{"$f":"IFERROR(Gerar_Upload!F898,\"erro\")","v":0},{"$f":"IFERROR(IF(Gerar_Upload!G898<44,REPT(0,44-LEN(Gerar_Upload!G898))&Gerar_Upload!G898,Gerar_Upload!G898),\"erro\")","v":"00000000000000000000000000000000000000000000"}]
[{"$f":"IFERROR(LEFT(Gerar_Upload!A899,120),\"erro\")","v":""},{"$f":"IFERROR(SUBSTITUTE(SUBSTITUTE(SUBSTITUTE(Gerar_Upload!B899,\".\",\"\"),\"-\",\"\"),\"/\",\"\"),\"erro\")","v":""},{"$f":"IFERROR(Gerar_Upload!C899,\"erro\")","v":0},{"$f":"IFERROR(Gerar_Upload!D899,\"erro\")","v":0},{"$f":"IFERROR(DATE(YEAR(Gerar_Upload!E899),MONTH(Gerar_Upload!E899),DAY(Gerar_Upload!E899)),\"erro\")","v":"00:00:00"},{"$f":"IFERROR(Gerar_Upload!F899,\"erro\")","v":0},{"$f":"IFERROR(IF(Gerar_Upload!G899<44,REPT(0,44-LEN(Gerar_Upload!G899))&Gerar_Upload!G899,Gerar_Upload!G899),\"erro\")","v":"00000000000000000000000000000000000000000000"}]
[{"$f":"IFERROR(LEFT(Gerar_Upload!A900,120),\"erro\")","v":""},{"$f":"IFERROR(SUBSTITUTE(SUBSTITUTE(SUBSTITUTE(Gerar_Upload!B900,\".\",\"\"),\"-\",\"\"),\"/\",\"\"),\"erro\")","v":""},{"$f":"IFERROR(Gerar_Upload!C900,\"erro\")","v":0},{"$f":"IFERROR(Gerar_Upload!D900,\"erro\")","v":0},{"$f":"IFERROR(DATE(YEAR(Gerar_Upload!E900),MONTH(Gerar_Upload!E900),DAY(Gerar_Upload!E900)),\"erro\")","v":"00:00:00"},{"$f":"IFERROR(Gerar_Upload!F900,\"erro\")","v":0},{"$f":"IFERROR(IF(Gerar_Upload!G900<44,REPT(0,44-LEN(Gerar_Upload!G900))&Gerar_Upload!G900,Gerar_Upload!G900),\"erro\")","v":"00000000000000000000000000000000000000000000"}]
[{"$f":"IFERROR(LEFT(Gerar_Upload!A901,120),\"erro\")","v":""},{"$f":"IFERROR(SUBSTITUTE(SUBSTITUTE(SUBSTITUTE(Gerar_Upload!B901,\".\",\"\"),\"-\",\"\"),\"/\",\"\"),\"erro\")","v":""},{"$f":"IFERROR(Gerar_Upload!C901,\"erro\")","v":0},{"$f":"IFERROR(Gerar_Upload!D901,\"erro\")","v":0},{"$f":"IFERROR(DATE(YEAR(Gerar_Upload!E901),MONTH(Gerar_Upload!E901),DAY(Gerar_Upload!E901)),\"erro\")","v":"00:00:00"},{"$f":"IFERROR(Gerar_Upload!F901,\"erro\")","v":0},{"$f":"IFERROR(IF(Gerar_Upload!G901<44,REPT(0,44-LEN(Gerar_Upload!G901))&Gerar_Upload!G901,Gerar_Upload!G901),\"erro\")","v":"00000000000000000000000000000000000000000000"}]
[{"$f":"IFERROR(LEFT(Gerar_Upload!A902,120),\"erro\")","v":""},{"$f":"IFERROR(SUBSTITUTE(SUBSTITUTE(SUBSTITUTE(Gerar_Upload!B902,\".\",\"\"),\"-\",\"\"),\"/\",\"\"),\"erro\")","v":""},{"$f":"IFERROR(Gerar_Upload!C902,\"erro\")","v":0},{"$f":"IFERROR(Gerar_Upload!D902,\"erro\")","v":0},{"$f":"IFERROR(DATE(YEAR(Gerar_Upload!E902),MONTH(Gerar_Upload!E902),DAY(Gerar_Upload!E902)),\"erro\")","v":"00:00:00"},{"$f":"IFERROR(Gerar_Upload!F902,\"erro\")","v":0},{"$f":"IFERROR(IF(Gerar_Upload!G902<44,REPT(0,44-LEN(Gerar_Upload!G902))&Gerar_Upload!G902,Gerar_Upload!G902),\"erro\")","v":"00000000000000000000000000000000000000000000"}]
[{"$f":"IFERROR(LEFT(Gerar_Upload!A903,120),\"erro\")","v":""},{"$f":"IFERROR(SUBSTITUTE(SUBSTITUTE(SUBSTITUTE(Gerar_Upload!B903,\".\",\"\"),\"-\",\"\"),\"/\",\"\"),\"erro\")","v":""},{"$f":"IFERROR(Gerar_Upload!C903,\"erro\")","v":0},{"$f":"IFERROR(Gerar_Upload!D903,\"erro\")","v":0},{"$f":"IFERROR(DATE(YEAR(Gerar_Upload!E903),MONTH(Gerar_Upload!E903),DAY(Gerar_Upload!E903)),\"erro\")","v":"00:00:00"},{"$f":"IFERROR(Gerar_Upload!F903,\"erro\")","v":0},{"$f":"IFERROR(IF(Gerar_Upload!G903<44,REPT(0,44-LEN(Gerar_Upload!G903))&Gerar_Upload!G903,Gerar_Upload!G903),\"erro\")","v":"00000000000000000000000000000000000000000000"}]
[{"$f":"IFERROR(LEFT(Gerar_Upload!A904,120),\"erro\")","v":""},{"$f":"IFERROR(SUBSTITUTE(SUBSTITUTE(SUBSTITUTE(Gerar_Upload!B904,\".\",\"\"),\"-\",\"\"),\"/\",\"\"),\"erro\")","v":""},{"$f":"IFERROR(Gerar_Upload!C904,\"erro\")","v":0},{"$f":"IFERROR(Gerar_Upload!D904,\"erro\")","v":0},{"$f":"IFERROR(DATE(YEAR(Gerar_Upload!E904),MONTH(Gerar_Upload!E904),DAY(Gerar_Upload!E904)),\"erro\")","v":"00:00:00"},{"$f":"IFERROR(Gerar_Upload!F904,\"erro\")","v":0},{"$f":"IFERROR(IF(Gerar_Upload!G904<44,REPT(0,44-LEN(Gerar_Upload!G904))&Gerar_Upload!G904,Gerar_Upload!G904),\"erro\")","v":"00000000000000000000000000000000000000000000"}]
[{"$f":"IFERROR(LEFT(Gerar_Upload!A905,120),\"erro\")","v":""},{"$f":"IFERROR(SUBSTITUTE(SUBSTITUTE(SUBSTITUTE(Gerar_Upload!B905,\".\",\"\"),\"-\",\"\"),\"/\",\"\"),\"erro\")","v":""},{"$f":"IFERROR(Gerar_Upload!C905,\"erro\")","v":0},{"$f":"IFERROR(Gerar_Upload!D905,\"erro\")","v":0},{"$f":"IFERROR(DATE(YEAR(Gerar_Upload!E905),MONTH(Gerar_Upload!E905),DAY(Gerar_Upload!E905)),\"erro\")","v":"00:00:00"},{"$f":"IFERROR(Gerar_Upload!F905,\"erro\")","v":0},{"$f":"IFERROR(IF(Gerar_Upload!G905<44,REPT(0,44-LEN(Gerar_Upload!G905))&Gerar_Upload!G905,Gerar_Upload!G905),\"erro\")","v":"00000000000000000000000000000000000000000000"}]
[{"$f":"IFERROR(LEFT(Gerar_Upload!A906,120),\"erro\")","v":""},{"$f":"IFERROR(SUBSTITUTE(SUBSTITUTE(SUBSTITUTE(Gerar_Upload!B906,\".\",\"\"),\"-\",\"\"),\"/\",\"\"),\"erro\")","v":""},{"$f":"IFERROR(Gerar_Upload!C906,\"erro\")","v":0},{"$f":"IFERROR(Gerar_Upload!D906,\"erro\")","v":0},{"$f":"IFERROR(DATE(YEAR(Gerar_Upload!E906),MONTH(Gerar_Upload!E906),DAY(Gerar_Upload!E906)),\"erro\")","v":"00:00:00"},{"$f":"IFERROR(Gerar_Upload!F906,\"erro\")","v":0},{"$f":"IFERROR(IF(Gerar_Upload!G906<44,REPT(0,44-LEN(Gerar_Upload!G906))&Gerar_Upload!G906,Gerar_Upload!G906),\"erro\")","v":"00000000000000000000000000000000000000000000"}]
[{"$f":"IFERROR(LEFT(Gerar_Upload!A907,120),\"erro\")","v":""},{"$f":"IFERROR(SUBSTITUTE(SUBSTITUTE(SUBSTITUTE(Gerar_Upload!B907,\".\",\"\"),\"-\",\"\"),\"/\",\"\"),\"erro\")","v":""},{"$f":"IFERROR(Gerar_Upload!C907,\"erro\")","v":0},{"$f":"IFERROR(Gerar_Upload!D907,\"erro\")","v":0},{"$f":"IFERROR(DATE(YEAR(Gerar_Upload!E907),MONTH(Gerar_Upload!E907),DAY(Gerar_Upload!E907)),\"erro\")","v":"00:00:00"},{"$f":"IFERROR(Gerar_Upload!F907,\"erro\")","v":0},{"$f":"IFERROR(IF(Gerar_Upload!G907<44,REPT(0,44-LEN(Gerar_Upload!G907))&Gerar_Upload!G907,Gerar_Upload!G907),\"erro\")","v":"00000000000000000000000000000000000000000000"}]
[{"$f":"IFERROR(LEFT(Gerar_Upload!A908,120),\"erro\")","v":""},{"$f":"IFERROR(SUBSTITUTE(SUBSTITUTE(SUBSTITUTE(Gerar_Upload!B908,\".\",\"\"),\"-\",\"\"),\"/\",\"\"),\"erro\")","v":""},{"$f":"IFERROR(Gerar_Upload!C908,\"erro\")","v":0},{"$f":"IFERROR(Gerar_Upload!D908,\"erro\")","v":0},{"$f":"IFERROR(DATE(YEAR(Gerar_Upload!E908),MONTH(Gerar_Upload!E908),DAY(Gerar_Upload!E908)),\"erro\")","v":"00:00:00"},{"$f":"IFERROR(Gerar_Upload!F908,\"erro\")","v":0},{"$f":"IFERROR(IF(Gerar_Upload!G908<44,REPT(0,44-LEN(Gerar_Upload!G908))&Gerar_Upload!G908,Gerar_Upload!G908),\"erro\")","v":"00000000000000000000000000000000000000000000"}]
[{"$f":"IFERROR(LEFT(Gerar_Upload!A909,120),\"erro\")","v":""},{"$f":"IFERROR(SUBSTITUTE(SUBSTITUTE(SUBSTITUTE(Gerar_Upload!B909,\".\",\"\"),\"-\",\"\"),\"/\",\"\"),\"erro\")","v":""},{"$f":"IFERROR(Gerar_Upload!C909,\"erro\")","v":0},{"$f":"IFERROR(Gerar_Upload!D909,\"erro\")","v":0},{"$f":"IFERROR(DATE(YEAR(Gerar_Upload!E909),MONTH(Gerar_Upload!E909),DAY(Gerar_Upload!E909)),\"erro\")","v":"00:00:00"},{"$f":"IFERROR(Gerar_Upload!F909,\"erro\")","v":0},{"$f":"IFERROR(IF(Gerar_Upload!G909<44,REPT(0,44-LEN(Gerar_Upload!G909))&Gerar_Upload!G909,Gerar_Upload!G909),\"erro\")","v":"00000000000000000000000000000000000000000000"}]
[{"$f":"IFERROR(LEFT(Gerar_Upload!A910,120),\"erro\")","v":""},{"$f":"IFERROR(SUBSTITUTE(SUBSTITUTE(SUBSTITUTE(Gerar_Upload!B910,\".\",\"\"),\"-\",\"\"),\"/\",\"\"),\"erro\")","v":""},{"$f":"IFERROR(Gerar_Upload!C910,\"erro\")","v":0},{"$f":"IFERROR(Gerar_Upload!D910,\"erro\")","v":0},{"$f":"IFERROR(DATE(YEAR(Gerar_Upload!E910),MONTH(Gerar_Upload!E910),DAY(Gerar_Upload!E910)),\"erro\")","v":"00:00:00"},{"$f":"IFERROR(Gerar_Upload!F910,\"erro\")","v":0},{"$f":"IFERROR(IF(Gerar_Upload!G910<44,REPT(0,44-LEN(Gerar_Upload!G910))&Gerar_Upload!G910,Gerar_Upload!G910),\"erro\")","v":"00000000000000000000000000000000000000000000"}]
[{"$f":"IFERROR(LEFT(Gerar_Upload!A911,120),\"erro\")","v":""},{"$f":"IFERROR(SUBSTITUTE(SUBSTITUTE(SUBSTITUTE(Gerar_Upload!B911,\".\",\"\"),\"-\",\"\"),\"/\",\"\"),\"erro\")","v":""},{"$f":"IFERROR(Gerar_Upload!C911,\"erro\")","v":0},{"$f":"IFERROR(Gerar_Upload!D911,\"erro\")","v":0},{"$f":"IFERROR(DATE(YEAR(Gerar_Upload!E911),MONTH(Gerar_Upload!E911),DAY(Gerar_Upload!E911)),\"erro\")","v":"00:00:00"},{"$f":"IFERROR(Gerar_Upload!F911,\"erro\")","v":0},{"$f":"IFERROR(IF(Gerar_Upload!G911<44,REPT(0,44-LEN(Gerar_Upload!G911))&Gerar_Upload!G911,Gerar_Upload!G911),\"erro\")","v":"00000000000000000000000000000000000000000000"}]
[{"$f":"IFERROR(LEFT(Gerar_Upload!A912,120),\"erro\")","v":""},{"$f":"IFERROR(SUBSTITUTE(SUBSTITUTE(SUBSTITUTE(Gerar_Upload!B912,\".\",\"\"),\"-\",\"\"),\"/\",\"\"),\"erro\")","v":""},{"$f":"IFERROR(Gerar_Upload!C912,\"erro\")","v":0},{"$f":"IFERROR(Gerar_Upload!D912,\"erro\")","v":0},{"$f":"IFERROR(DATE(YEAR(Gerar_Upload!E912),MONTH(Gerar_Upload!E912),DAY(Gerar_Upload!E912)),\"erro\")","v":"00:00:00"},{"$f":"IFERROR(Gerar_Upload!F912,\"erro\")","v":0},{"$f":"IFERROR(IF(Gerar_Upload!G912<44,REPT(0,44-LEN(Gerar_Upload!G912))&Gerar_Upload!G912,Gerar_Upload!G912),\"erro\")","v":"00000000000000000000000000000000000000000000"}]
[{"$f":"IFERROR(LEFT(Gerar_Upload!A913,120),\"erro\")","v":""},{"$f":"IFERROR(SUBSTITUTE(SUBSTITUTE(SUBSTITUTE(Gerar_Upload!B913,\".\",\"\"),\"-\",\"\"),\"/\",\"\"),\"erro\")","v":""},{"$f":"IFERROR(Gerar_Upload!C913,\"erro\")","v":0},{"$f":"IFERROR(Gerar_Upload!D913,\"erro\")","v":0},{"$f":"IFERROR(DATE(YEAR(Gerar_Upload!E913),MONTH(Gerar_Upload!E913),DAY(Gerar_Upload!E913)),\"erro\")","v":"00:00:00"},{"$f":"IFERROR(Gerar_Upload!F913,\"erro\")","v":0},{"$f":"IFERROR(IF(Gerar_Upload!G913<44,REPT(0,44-LEN(Gerar_Upload!G913))&Gerar_Upload!G913,Gerar_Upload!G913),\"erro\")","v":"00000000000000000000000000000000000000000000"}]
[{"$f":"IFERROR(LEFT(Gerar_Upload!A914,120),\"erro\")","v":""},{"$f":"IFERROR(SUBSTITUTE(SUBSTITUTE(SUBSTITUTE(Gerar_Upload!B914,\".\",\"\"),\"-\",\"\"),\"/\",\"\"),\"erro\")","v":""},{"$f":"IFERROR(Gerar_Upload!C914,\"erro\")","v":0},{"$f":"IFERROR(Gerar_Upload!D914,\"erro\")","v":0},{"$f":"IFERROR(DATE(YEAR(Gerar_Upload!E914),MONTH(Gerar_Upload!E914),DAY(Gerar_Upload!E914)),\"erro\")","v":"00:00:00"},{"$f":"IFERROR(Gerar_Upload!F914,\"erro\")","v":0},{"$f":"IFERROR(IF(Gerar_Upload!G914<44,REPT(0,44-LEN(Gerar_Upload!G914))&Gerar_Upload!G914,Gerar_Upload!G914),\"erro\")","v":"00000000000000000000000000000000000000000000"}]
[{"$f":"IFERROR(LEFT(Gerar_Upload!A915,120),\"erro\")","v":""},{"$f":"IFERROR(SUBSTITUTE(SUBSTITUTE(SUBSTITUTE(Gerar_Upload!B915,\".\",\"\"),\"-\",\"\"),\"/\",\"\"),\"erro\")","v":""},{"$f":"IFERROR(Gerar_Upload!C915,\"erro\")","v":0},{"$f":"IFERROR(Gerar_Upload!D915,\"erro\")","v":0},{"$f":"IFERROR(DATE(YEAR(Gerar_Upload!E915),MONTH(Gerar_Upload!E915),DAY(Gerar_Upload!E915)),\"erro\")","v":"00:00:00"},{"$f":"IFERROR(Gerar_Upload!F915,\"erro\")","v":0},{"$f":"IFERROR(IF(Gerar_Upload!G915<44,REPT(0,44-LEN(Gerar_Upload!G915))&Gerar_Upload!G915,Gerar_Upload!G915),\"erro\")","v":"00000000000000000000000000000000000000000000"}]
[{"$f":"IFERROR(LEFT(Gerar_Upload!A916,120),\"erro\")","v":""},{"$f":"IFERROR(SUBSTITUTE(SUBSTITUTE(SUBSTITUTE(Gerar_Upload!B916,\".\",\"\"),\"-\",\"\"),\"/\",\"\"),\"erro\")","v":""},{"$f":"IFERROR(Gerar_Upload!C916,\"erro\")","v":0},{"$f":"IFERROR(Gerar_Upload!D916,\"erro\")","v":0},{"$f":"IFERROR(DATE(YEAR(Gerar_Upload!E916),MONTH(Gerar_Upload!E916),DAY(Gerar_Upload!E916)),\"erro\")","v":"00:00:00"},{"$f":"IFERROR(Gerar_Upload!F916,\"erro\")","v":0},{"$f":"IFERROR(IF(Gerar_Upload!G916<44,REPT(0,44-LEN(Gerar_Upload!G916))&Gerar_Upload!G916,Gerar_Upload!G916),\"erro\")","v":"00000000000000000000000000000000000000000000"}]
[{"$f":"IFERROR(LEFT(Gerar_Upload!A917,120),\"erro\")","v":""},{"$f":"IFERROR(SUBSTITUTE(SUBSTITUTE(SUBSTITUTE(Gerar_Upload!B917,\".\",\"\"),\"-\",\"\"),\"/\",\"\"),\"erro\")","v":""},{"$f":"IFERROR(Gerar_Upload!C917,\"erro\")","v":0},{"$f":"IFERROR(Gerar_Upload!D917,\"erro\")","v":0},{"$f":"IFERROR(DATE(YEAR(Gerar_Upload!E917),MONTH(Gerar_Upload!E917),DAY(Gerar_Upload!E917)),\"erro\")","v":"00:00:00"},{"$f":"IFERROR(Gerar_Upload!F917,\"erro\")","v":0},{"$f":"IFERROR(IF(Gerar_Upload!G917<44,REPT(0,44-LEN(Gerar_Upload!G917))&Gerar_Upload!G917,Gerar_Upload!G917),\"erro\")","v":"00000000000000000000000000000000000000000000"}]
[{"$f":"IFERROR(LEFT(Gerar_Upload!A918,120),\"erro\")","v":""},{"$f":"IFERROR(SUBSTITUTE(SUBSTITUTE(SUBSTITUTE(Gerar_Upload!B918,\".\",\"\"),\"-\",\"\"),\"/\",\"\"),\"erro\")","v":""},{"$f":"IFERROR(Gerar_Upload!C918,\"erro\")","v":0},{"$f":"IFERROR(Gerar_Upload!D918,\"erro\")","v":0},{"$f":"IFERROR(DATE(YEAR(Gerar_Upload!E918),MONTH(Gerar_Upload!E918),DAY(Gerar_Upload!E918)),\"erro\")","v":"00:00:00"},{"$f":"IFERROR(Gerar_Upload!F918,\"erro\")","v":0},{"$f":"IFERROR(IF(Gerar_Upload!G918<44,REPT(0,44-LEN(Gerar_Upload!G918))&Gerar_Upload!G918,Gerar_Upload!G918),\"erro\")","v":"00000000000000000000000000000000000000000000"}]
[{"$f":"IFERROR(LEFT(Gerar_Upload!A919,120),\"erro\")","v":""},{"$f":"IFERROR(SUBSTITUTE(SUBSTITUTE(SUBSTITUTE(Gerar_Upload!B919,\".\",\"\"),\"-\",\"\"),\"/\",\"\"),\"erro\")","v":""},{"$f":"IFERROR(Gerar_Upload!C919,\"erro\")","v":0},{"$f":"IFERROR(Gerar_Upload!D919,\"erro\")","v":0},{"$f":"IFERROR(DATE(YEAR(Gerar_Upload!E919),MONTH(Gerar_Upload!E919),DAY(Gerar_Upload!E919)),\"erro\")","v":"00:00:00"},{"$f":"IFERROR(Gerar_Upload!F919,\"erro\")","v":0},{"$f":"IFERROR(IF(Gerar_Upload!G919<44,REPT(0,44-LEN(Gerar_Upload!G919))&Gerar_Upload!G919,Gerar_Upload!G919),\"erro\")","v":"00000000000000000000000000000000000000000000"}]
[{"$f":"IFERROR(LEFT(Gerar_Upload!A920,120),\"erro\")","v":""},{"$f":"IFERROR(SUBSTITUTE(SUBSTITUTE(SUBSTITUTE(Gerar_Upload!B920,\".\",\"\"),\"-\",\"\"),\"/\",\"\"),\"erro\")","v":""},{"$f":"IFERROR(Gerar_Upload!C920,\"erro\")","v":0},{"$f":"IFERROR(Gerar_Upload!D920,\"erro\")","v":0},{"$f":"IFERROR(DATE(YEAR(Gerar_Upload!E920),MONTH(Gerar_Upload!E920),DAY(Gerar_Upload!E920)),\"erro\")","v":"00:00:00"},{"$f":"IFERROR(Gerar_Upload!F920,\"erro\")","v":0},{"$f":"IFERROR(IF(Gerar_Upload!G920<44,REPT(0,44-LEN(Gerar_Upload!G920))&Gerar_Upload!G920,Gerar_Upload!G920),\"erro\")","v":"00000000000000000000000000000000000000000000"}]
[{"$f":"IFERROR(LEFT(Gerar_Upload!A921,120),\"erro\")","v":""},{"$f":"IFERROR(SUBSTITUTE(SUBSTITUTE(SUBSTITUTE(Gerar_Upload!B921,\".\",\"\"),\"-\",\"\"),\"/\",\"\"),\"erro\")","v":""},{"$f":"IFERROR(Gerar_Upload!C921,\"erro\")","v":0},{"$f":"IFERROR(Gerar_Upload!D921,\"erro\")","v":0},{"$f":"IFERROR(DATE(YEAR(Gerar_Upload!E921),MONTH(Gerar_Upload!E921),DAY(Gerar_Upload!E921)),\"erro\")","v":"00:00:00"},{"$f":"IFERROR(Gerar_Upload!F921,\"erro\")","v":0},{"$f":"IFERROR(IF(Gerar_Upload!G921<44,REPT(0,44-LEN(Gerar_Upload!G921))&Gerar_Upload!G921,Gerar_Upload!G921),\"erro\")","v":"00000000000000000000000000000000000000000000"}]
[{"$f":"IFERROR(LEFT(Gerar_Upload!A922,120),\"erro\")","v":""},{"$f":"IFERROR(SUBSTITUTE(SUBSTITUTE(SUBSTITUTE(Gerar_Upload!B922,\".\",\"\"),\"-\",\"\"),\"/\",\"\"),\"erro\")","v":""},{"$f":"IFERROR(Gerar_Upload!C922,\"erro\")","v":0},{"$f":"IFERROR(Gerar_Upload!D922,\"erro\")","v":0},{"$f":"IFERROR(DATE(YEAR(Gerar_Upload!E922),MONTH(Gerar_Upload!E922),DAY(Gerar_Upload!E922)),\"erro\")","v":"00:00:00"},{"$f":"IFERROR(Gerar_Upload!F922,\"erro\")","v":0},{"$f":"IFERROR(IF(Gerar_Upload!G922<44,REPT(0,44-LEN(Gerar_Upload!G922))&Gerar_Upload!G922,Gerar_Upload!G922),\"erro\")","v":"00000000000000000000000000000000000000000000"}]
[{"$f":"IFERROR(LEFT(Gerar_Upload!A923,120),\"erro\")","v":""},{"$f":"IFERROR(SUBSTITUTE(SUBSTITUTE(SUBSTITUTE(Gerar_Upload!B923,\".\",\"\"),\"-\",\"\"),\"/\",\"\"),\"erro\")","v":""},{"$f":"IFERROR(Gerar_Upload!C923,\"erro\")","v":0},{"$f":"IFERROR(Gerar_Upload!D923,\"erro\")","v":0},{"$f":"IFERROR(DATE(YEAR(Gerar_Upload!E923),MONTH(Gerar_Upload!E923),DAY(Gerar_Upload!E923)),\"erro\")","v":"00:00:00"},{"$f":"IFERROR(Gerar_Upload!F923,\"erro\")","v":0},{"$f":"IFERROR(IF(Gerar_Upload!G923<44,REPT(0,44-LEN(Gerar_Upload!G923))&Gerar_Upload!G923,Gerar_Upload!G923),\"erro\")","v":"00000000000000000000000000000000000000000000"}]
[{"$f":"IFERROR(LEFT(Gerar_Upload!A924,120),\"erro\")","v":""},{"$f":"IFERROR(SUBSTITUTE(SUBSTITUTE(SUBSTITUTE(Gerar_Upload!B924,\".\",\"\"),\"-\",\"\"),\"/\",\"\"),\"erro\")","v":""},{"$f":"IFERROR(Gerar_Upload!C924,\"erro\")","v":0},{"$f":"IFERROR(Gerar_Upload!D924,\"erro\")","v":0},{"$f":"IFERROR(DATE(YEAR(Gerar_Upload!E924),MONTH(Gerar_Upload!E924),DAY(Gerar_Upload!E924)),\"erro\")","v":"00:00:00"},{"$f":"IFERROR(Gerar_Upload!F924,\"erro\")","v":0},{"$f":"IFERROR(IF(Gerar_Upload!G924<44,REPT(0,44-LEN(Gerar_Upload!G924))&Gerar_Upload!G924,Gerar_Upload!G924),\"erro\")","v":"00000000000000000000000000000000000000000000"}]
[{"$f":"IFERROR(LEFT(Gerar_Upload!A925,120),\"erro\")","v":""},{"$f":"IFERROR(SUBSTITUTE(SUBSTITUTE(SUBSTITUTE(Gerar_Upload!B925,\".\",\"\"),\"-\",\"\"),\"/\",\"\"),\"erro\")","v":""},{"$f":"IFERROR(Gerar_Upload!C925,\"erro\")","v":0},{"$f":"IFERROR(Gerar_Upload!D925,\"erro\")","v":0},{"$f":"IFERROR(DATE(YEAR(Gerar_Upload!E925),MONTH(Gerar_Upload!E925),DAY(Gerar_Upload!E925)),\"erro\")","v":"00:00:00"},{"$f":"IFERROR(Gerar_Upload!F925,\"erro\")","v":0},{"$f":"IFERROR(IF(Gerar_Upload!G925<44,REPT(0,44-LEN(Gerar_Upload!G925))&Gerar_Upload!G925,Gerar_Upload!G925),\"erro\")","v":"00000000000000000000000000000000000000000000"}]
[{"$f":"IFERROR(LEFT(Gerar_Upload!A926,120),\"erro\")","v":""},{"$f":"IFERROR(SUBSTITUTE(SUBSTITUTE(SUBSTITUTE(Gerar_Upload!B926,\".\",\"\"),\"-\",\"\"),\"/\",\"\"),\"erro\")","v":""},{"$f":"IFERROR(Gerar_Upload!C926,\"erro\")","v":0},{"$f":"IFERROR(Gerar_Upload!D926,\"erro\")","v":0},{"$f":"IFERROR(DATE(YEAR(Gerar_Upload!E926),MONTH(Gerar_Upload!E926),DAY(Gerar_Upload!E926)),\"erro\")","v":"00:00:00"},{"$f":"IFERROR(Gerar_Upload!F926,\"erro\")","v":0},{"$f":"IFERROR(IF(Gerar_Upload!G926<44,REPT(0,44-LEN(Gerar_Upload!G926))&Gerar_Upload!G926,Gerar_Upload!G926),\"erro\")","v":"00000000000000000000000000000000000000000000"}]
[{"$f":"IFERROR(LEFT(Gerar_Upload!A927,120),\"erro\")","v":""},{"$f":"IFERROR(SUBSTITUTE(SUBSTITUTE(SUBSTITUTE(Gerar_Upload!B927,\".\",\"\"),\"-\",\"\"),\"/\",\"\"),\"erro\")","v":""},{"$f":"IFERROR(Gerar_Upload!C927,\"erro\")","v":0},{"$f":"IFERROR(Gerar_Upload!D927,\"erro\")","v":0},{"$f":"IFERROR(DATE(YEAR(Gerar_Upload!E927),MONTH(Gerar_Upload!E927),DAY(Gerar_Upload!E927)),\"erro\")","v":"00:00:00"},{"$f":"IFERROR(Gerar_Upload!F927,\"erro\")","v":0},{"$f":"IFERROR(IF(Gerar_Upload!G927<44,REPT(0,44-LEN(Gerar_Upload!G927))&Gerar_Upload!G927,Gerar_Upload!G927),\"erro\")","v":"00000000000000000000000000000000000000000000"}]
[{"$f":"IFERROR(LEFT(Gerar_Upload!A928,120),\"erro\")","v":""},{"$f":"IFERROR(SUBSTITUTE(SUBSTITUTE(SUBSTITUTE(Gerar_Upload!B928,\".\",\"\"),\"-\",\"\"),\"/\",\"\"),\"erro\")","v":""},{"$f":"IFERROR(Gerar_Upload!C928,\"erro\")","v":0},{"$f":"IFERROR(Gerar_Upload!D928,\"erro\")","v":0},{"$f":"IFERROR(DATE(YEAR(Gerar_Upload!E928),MONTH(Gerar_Upload!E928),DAY(Gerar_Upload!E928)),\"erro\")","v":"00:00:00"},{"$f":"IFERROR(Gerar_Upload!F928,\"erro\")","v":0},{"$f":"IFERROR(IF(Gerar_Upload!G928<44,REPT(0,44-LEN(Gerar_Upload!G928))&Gerar_Upload!G928,Gerar_Upload!G928),\"erro\")","v":"00000000000000000000000000000000000000000000"}]
[{"$f":"IFERROR(LEFT(Gerar_Upload!A929,120),\"erro\")","v":""},{"$f":"IFERROR(SUBSTITUTE(SUBSTITUTE(SUBSTITUTE(Gerar_Upload!B929,\".\",\"\"),\"-\",\"\"),\"/\",\"\"),\"erro\")","v":""},{"$f":"IFERROR(Gerar_Upload!C929,\"erro\")","v":0},{"$f":"IFERROR(Gerar_Upload!D929,\"erro\")","v":0},{"$f":"IFERROR(DATE(YEAR(Gerar_Upload!E929),MONTH(Gerar_Upload!E929),DAY(Gerar_Upload!E929)),\"erro\")","v":"00:00:00"},{"$f":"IFERROR(Gerar_Upload!F929,\"erro\")","v":0},{"$f":"IFERROR(IF(Gerar_Upload!G929<44,REPT(0,44-LEN(Gerar_Upload!G929))&Gerar_Upload!G929,Gerar_Upload!G929),\"erro\")","v":"00000000000000000000000000000000000000000000"}]
[{"$f":"IFERROR(LEFT(Gerar_Upload!A930,120),\"erro\")","v":""},{"$f":"IFERROR(SUBSTITUTE(SUBSTITUTE(SUBSTITUTE(Gerar_Upload!B930,\".\",\"\"),\"-\",\"\"),\"/\",\"\"),\"erro\")","v":""},{"$f":"IFERROR(Gerar_Upload!C930,\"erro\")","v":0},{"$f":"IFERROR(Gerar_Upload!D930,\"erro\")","v":0},{"$f":"IFERROR(DATE(YEAR(Gerar_Upload!E930),MONTH(Gerar_Upload!E930),DAY(Gerar_Upload!E930)),\"erro\")","v":"00:00:00"},{"$f":"IFERROR(Gerar_Upload!F930,\"erro\")","v":0},{"$f":"IFERROR(IF(Gerar_Upload!G930<44,REPT(0,44-LEN(Gerar_Upload!G930))&Gerar_Upload!G930,Gerar_Upload!G930),\"erro\")","v":"00000000000000000000000000000000000000000000"}]
[{"$f":"IFERROR(LEFT(Gerar_Upload!A931,120),\"erro\")","v":""},{"$f":"IFERROR(SUBSTITUTE(SUBSTITUTE(SUBSTITUTE(Gerar_Upload!B931,\".\",\"\"),\"-\",\"\"),\"/\",\"\"),\"erro\")","v":""},{"$f":"IFERROR(Gerar_Upload!C931,\"erro\")","v":0},{"$f":"IFERROR(Gerar_Upload!D931,\"erro\")","v":0},{"$f":"IFERROR(DATE(YEAR(Gerar_Upload!E931),MONTH(Gerar_Upload!E931),DAY(Gerar_Upload!E931)),\"erro\")","v":"00:00:00"},{"$f":"IFERROR(Gerar_Upload!F931,\"erro\")","v":0},{"$f":"IFERROR(IF(Gerar_Upload!G931<44,REPT(0,44-LEN(Gerar_Upload!G931))&Gerar_Upload!G931,Gerar_Upload!G931),\"erro\")","v":"00000000000000000000000000000000000000000000"}]
[{"$f":"IFERROR(LEFT(Gerar_Upload!A932,120),\"erro\")","v":""},{"$f":"IFERROR(SUBSTITUTE(SUBSTITUTE(SUBSTITUTE(Gerar_Upload!B932,\".\",\"\"),\"-\",\"\"),\"/\",\"\"),\"erro\")","v":""},{"$f":"IFERROR(Gerar_Upload!C932,\"erro\")","v":0},{"$f":"IFERROR(Gerar_Upload!D932,\"erro\")","v":0},{"$f":"IFERROR(DATE(YEAR(Gerar_Upload!E932),MONTH(Gerar_Upload!E932),DAY(Gerar_Upload!E932)),\"erro\")","v":"00:00:00"},{"$f":"IFERROR(Gerar_Upload!F932,\"erro\")","v":0},{"$f":"IFERROR(IF(Gerar_Upload!G932<44,REPT(0,44-LEN(Gerar_Upload!G932))&Gerar_Upload!G932,Gerar_Upload!G932),\"erro\")","v":"00000000000000000000000000000000000000000000"}]
[{"$f":"IFERROR(LEFT(Gerar_Upload!A933,120),\"erro\")","v":""},{"$f":"IFERROR(SUBSTITUTE(SUBSTITUTE(SUBSTITUTE(Gerar_Upload!B933,\".\",\"\"),\"-\",\"\"),\"/\",\"\"),\"erro\")","v":""},{"$f":"IFERROR(Gerar_Upload!C933,\"erro\")","v":0},{"$f":"IFERROR(Gerar_Upload!D933,\"erro\")","v":0},{"$f":"IFERROR(DATE(YEAR(Gerar_Upload!E933),MONTH(Gerar_Upload!E933),DAY(Gerar_Upload!E933)),\"erro\")","v":"00:00:00"},{"$f":"IFERROR(Gerar_Upload!F933,\"erro\")","v":0},{"$f":"IFERROR(IF(Gerar_Upload!G933<44,REPT(0,44-LEN(Gerar_Upload!G933))&Gerar_Upload!G933,Gerar_Upload!G933),\"erro\")","v":"00000000000000000000000000000000000000000000"}]
[{"$f":"IFERROR(LEFT(Gerar_Upload!A934,120),\"erro\")","v":""},{"$f":"IFERROR(SUBSTITUTE(SUBSTITUTE(SUBSTITUTE(Gerar_Upload!B934,\".\",\"\"),\"-\",\"\"),\"/\",\"\"),\"erro\")","v":""},{"$f":"IFERROR(Gerar_Upload!C934,\"erro\")","v":0},{"$f":"IFERROR(Gerar_Upload!D934,\"erro\")","v":0},{"$f":"IFERROR(DATE(YEAR(Gerar_Upload!E934),MONTH(Gerar_Upload!E934),DAY(Gerar_Upload!E934)),\"erro\")","v":"00:00:00"},{"$f":"IFERROR(Gerar_Upload!F934,\"erro\")","v":0},{"$f":"IFERROR(IF(Gerar_Upload!G934<44,REPT(0,44-LEN(Gerar_Upload!G934))&Gerar_Upload!G934,Gerar_Upload!G934),\"erro\")","v":"00000000000000000000000000000000000000000000"}]
[{"$f":"IFERROR(LEFT(Gerar_Upload!A935,120),\"erro\")","v":""},{"$f":"IFERROR(SUBSTITUTE(SUBSTITUTE(SUBSTITUTE(Gerar_Upload!B935,\".\",\"\"),\"-\",\"\"),\"/\",\"\"),\"erro\")","v":""},{"$f":"IFERROR(Gerar_Upload!C935,\"erro\")","v":0},{"$f":"IFERROR(Gerar_Upload!D935,\"erro\")","v":0},{"$f":"IFERROR(DATE(YEAR(Gerar_Upload!E935),MONTH(Gerar_Upload!E935),DAY(Gerar_Upload!E935)),\"erro\")","v":"00:00:00"},{"$f":"IFERROR(Gerar_Upload!F935,\"erro\")","v":0},{"$f":"IFERROR(IF(Gerar_Upload!G935<44,REPT(0,44-LEN(Gerar_Upload!G935))&Gerar_Upload!G935,Gerar_Upload!G935),\"erro\")","v":"00000000000000000000000000000000000000000000"}]
[{"$f":"IFERROR(LEFT(Gerar_Upload!A936,120),\"erro\")","v":""},{"$f":"IFERROR(SUBSTITUTE(SUBSTITUTE(SUBSTITUTE(Gerar_Upload!B936,\".\",\"\"),\"-\",\"\"),\"/\",\"\"),\"erro\")","v":""},{"$f":"IFERROR(Gerar_Upload!C936,\"erro\")","v":0},{"$f":"IFERROR(Gerar_Upload!D936,\"erro\")","v":0},{"$f":"IFERROR(DATE(YEAR(Gerar_Upload!E936),MONTH(Gerar_Upload!E936),DAY(Gerar_Upload!E936)),\"erro\")","v":"00:00:00"},{"$f":"IFERROR(Gerar_Upload!F936,\"erro\")","v":0},{"$f":"IFERROR(IF(Gerar_Upload!G936<44,REPT(0,44-LEN(Gerar_Upload!G936))&Gerar_Upload!G936,Gerar_Upload!G936),\"erro\")","v":"00000000000000000000000000000000000000000000"}]
[{"$f":"IFERROR(LEFT(Gerar_Upload!A937,120),\"erro\")","v":""},{"$f":"IFERROR(SUBSTITUTE(SUBSTITUTE(SUBSTITUTE(Gerar_Upload!B937,\".\",\"\"),\"-\",\"\"),\"/\",\"\"),\"erro\")","v":""},{"$f":"IFERROR(Gerar_Upload!C937,\"erro\")","v":0},{"$f":"IFERROR(Gerar_Upload!D937,\"erro\")","v":0},{"$f":"IFERROR(DATE(YEAR(Gerar_Upload!E937),MONTH(Gerar_Upload!E937),DAY(Gerar_Upload!E937)),\"erro\")","v":"00:00:00"},{"$f":"IFERROR(Gerar_Upload!F937,\"erro\")","v":0},{"$f":"IFERROR(IF(Gerar_Upload!G937<44,REPT(0,44-LEN(Gerar_Upload!G937))&Gerar_Upload!G937,Gerar_Upload!G937),\"erro\")","v":"00000000000000000000000000000000000000000000"}]
[{"$f":"IFERROR(LEFT(Gerar_Upload!A938,120),\"erro\")","v":""},{"$f":"IFERROR(SUBSTITUTE(SUBSTITUTE(SUBSTITUTE(Gerar_Upload!B938,\".\",\"\"),\"-\",\"\"),\"/\",\"\"),\"erro\")","v":""},{"$f":"IFERROR(Gerar_Upload!C938,\"erro\")","v":0},{"$f":"IFERROR(Gerar_Upload!D938,\"erro\")","v":0},{"$f":"IFERROR(DATE(YEAR(Gerar_Upload!E938),MONTH(Gerar_Upload!E938),DAY(Gerar_Upload!E938)),\"erro\")","v":"00:00:00"},{"$f":"IFERROR(Gerar_Upload!F938,\"erro\")","v":0},{"$f":"IFERROR(IF(Gerar_Upload!G938<44,REPT(0,44-LEN(Gerar_Upload!G938))&Gerar_Upload!G938,Gerar_Upload!G938),\"erro\")","v":"00000000000000000000000000000000000000000000"}]
[{"$f":"IFERROR(LEFT(Gerar_Upload!A939,120),\"erro\")","v":""},{"$f":"IFERROR(SUBSTITUTE(SUBSTITUTE(SUBSTITUTE(Gerar_Upload!B939,\".\",\"\"),\"-\",\"\"),\"/\",\"\"),\"erro\")","v":""},{"$f":"IFERROR(Gerar_Upload!C939,\"erro\")","v":0},{"$f":"IFERROR(Gerar_Upload!D939,\"erro\")","v":0},{"$f":"IFERROR(DATE(YEAR(Gerar_Upload!E939),MONTH(Gerar_Upload!E939),DAY(Gerar_Upload!E939)),\"erro\")","v":"00:00:00"},{"$f":"IFERROR(Gerar_Upload!F939,\"erro\")","v":0},{"$f":"IFERROR(IF(Gerar_Upload!G939<44,REPT(0,44-LEN(Gerar_Upload!G939))&Gerar_Upload!G939,Gerar_Upload!G939),\"erro\")","v":"00000000000000000000000000000000000000000000"}]
[{"$f":"IFERROR(LEFT(Gerar_Upload!A940,120),\"erro\")","v":""},{"$f":"IFERROR(SUBSTITUTE(SUBSTITUTE(SUBSTITUTE(Gerar_Upload!B940,\".\",\"\"),\"-\",\"\"),\"/\",\"\"),\"erro\")","v":""},{"$f":"IFERROR(Gerar_Upload!C940,\"erro\")","v":0},{"$f":"IFERROR(Gerar_Upload!D940,\"erro\")","v":0},{"$f":"IFERROR(DATE(YEAR(Gerar_Upload!E940),MONTH(Gerar_Upload!E940),DAY(Gerar_Upload!E940)),\"erro\")","v":"00:00:00"},{"$f":"IFERROR(Gerar_Upload!F940,\"erro\")","v":0},{"$f":"IFERROR(IF(Gerar_Upload!G940<44,REPT(0,44-LEN(Gerar_Upload!G940))&Gerar_Upload!G940,Gerar_Upload!G940),\"erro\")","v":"00000000000000000000000000000000000000000000"}]
[{"$f":"IFERROR(LEFT(Gerar_Upload!A941,120),\"erro\")","v":""},{"$f":"IFERROR(SUBSTITUTE(SUBSTITUTE(SUBSTITUTE(Gerar_Upload!B941,\".\",\"\"),\"-\",\"\"),\"/\",\"\"),\"erro\")","v":""},{"$f":"IFERROR(Gerar_Upload!C941,\"erro\")","v":0},{"$f":"IFERROR(Gerar_Upload!D941,\"erro\")","v":0},{"$f":"IFERROR(DATE(YEAR(Gerar_Upload!E941),MONTH(Gerar_Upload!E941),DAY(Gerar_Upload!E941)),\"erro\")","v":"00:00:00"},{"$f":"IFERROR(Gerar_Upload!F941,\"erro\")","v":0},{"$f":"IFERROR(IF(Gerar_Upload!G941<44,REPT(0,44-LEN(Gerar_Upload!G941))&Gerar_Upload!G941,Gerar_Upload!G941),\"erro\")","v":"00000000000000000000000000000000000000000000"}]
[{"$f":"IFERROR(LEFT(Gerar_Upload!A942,120),\"erro\")","v":""},{"$f":"IFERROR(SUBSTITUTE(SUBSTITUTE(SUBSTITUTE(Gerar_Upload!B942,\".\",\"\"),\"-\",\"\"),\"/\",\"\"),\"erro\")","v":""},{"$f":"IFERROR(Gerar_Upload!C942,\"erro\")","v":0},{"$f":"IFERROR(Gerar_Upload!D942,\"erro\")","v":0},{"$f":"IFERROR(DATE(YEAR(Gerar_Upload!E942),MONTH(Gerar_Upload!E942),DAY(Gerar_Upload!E942)),\"erro\")","v":"00:00:00"},{"$f":"IFERROR(Gerar_Upload!F942,\"erro\")","v":0},{"$f":"IFERROR(IF(Gerar_Upload!G942<44,REPT(0,44-LEN(Gerar_Upload!G942))&Gerar_Upload!G942,Gerar_Upload!G942),\"erro\")","v":"00000000000000000000000000000000000000000000"}]
[{"$f":"IFERROR(LEFT(Gerar_Upload!A943,120),\"erro\")","v":""},{"$f":"IFERROR(SUBSTITUTE(SUBSTITUTE(SUBSTITUTE(Gerar_Upload!B943,\".\",\"\"),\"-\",\"\"),\"/\",\"\"),\"erro\")","v":""},{"$f":"IFERROR(Gerar_Upload!C943,\"erro\")","v":0},{"$f":"IFERROR(Gerar_Upload!D943,\"erro\")","v":0},{"$f":"IFERROR(DATE(YEAR(Gerar_Upload!E943),MONTH(Gerar_Upload!E943),DAY(Gerar_Upload!E943)),\"erro\")","v":"00:00:00"},{"$f":"IFERROR(Gerar_Upload!F943,\"erro\")","v":0},{"$f":"IFERROR(IF(Gerar_Upload!G943<44,REPT(0,44-LEN(Gerar_Upload!G943))&Gerar_Upload!G943,Gerar_Upload!G943),\"erro\")","v":"00000000000000000000000000000000000000000000"}]
[{"$f":"IFERROR(LEFT(Gerar_Upload!A944,120),\"erro\")","v":""},{"$f":"IFERROR(SUBSTITUTE(SUBSTITUTE(SUBSTITUTE(Gerar_Upload!B944,\".\",\"\"),\"-\",\"\"),\"/\",\"\"),\"erro\")","v":""},{"$f":"IFERROR(Gerar_Upload!C944,\"erro\")","v":0},{"$f":"IFERROR(Gerar_Upload!D944,\"erro\")","v":0},{"$f":"IFERROR(DATE(YEAR(Gerar_Upload!E944),MONTH(Gerar_Upload!E944),DAY(Gerar_Upload!E944)),\"erro\")","v":"00:00:00"},{"$f":"IFERROR(Gerar_Upload!F944,\"erro\")","v":0},{"$f":"IFERROR(IF(Gerar_Upload!G944<44,REPT(0,44-LEN(Gerar_Upload!G944))&Gerar_Upload!G944,Gerar_Upload!G944),\"erro\")","v":"00000000000000000000000000000000000000000000"}]
[{"$f":"IFERROR(LEFT(Gerar_Upload!A945,120),\"erro\")","v":""},{"$f":"IFERROR(SUBSTITUTE(SUBSTITUTE(SUBSTITUTE(Gerar_Upload!B945,\".\",\"\"),\"-\",\"\"),\"/\",\"\"),\"erro\")","v":""},{"$f":"IFERROR(Gerar_Upload!C945,\"erro\")","v":0},{"$f":"IFERROR(Gerar_Upload!D945,\"erro\")","v":0},{"$f":"IFERROR(DATE(YEAR(Gerar_Upload!E945),MONTH(Gerar_Upload!E945),DAY(Gerar_Upload!E945)),\"erro\")","v":"00:00:00"},{"$f":"IFERROR(Gerar_Upload!F945,\"erro\")","v":0},{"$f":"IFERROR(IF(Gerar_Upload!G945<44,REPT(0,44-LEN(Gerar_Upload!G945))&Gerar_Upload!G945,Gerar_Upload!G945),\"erro\")","v":"00000000000000000000000000000000000000000000"}]
[{"$f":"IFERROR(LEFT(Gerar_Upload!A946,120),\"erro\")","v":""},{"$f":"IFERROR(SUBSTITUTE(SUBSTITUTE(SUBSTITUTE(Gerar_Upload!B946,\".\",\"\"),\"-\",\"\"),\"/\",\"\"),\"erro\")","v":""},{"$f":"IFERROR(Gerar_Upload!C946,\"erro\")","v":0},{"$f":"IFERROR(Gerar_Upload!D946,\"erro\")","v":0},{"$f":"IFERROR(DATE(YEAR(Gerar_Upload!E946),MONTH(Gerar_Upload!E946),DAY(Gerar_Upload!E946)),\"erro\")","v":"00:00:00"},{"$f":"IFERROR(Gerar_Upload!F946,\"erro\")","v":0},{"$f":"IFERROR(IF(Gerar_Upload!G946<44,REPT(0,44-LEN(Gerar_Upload!G946))&Gerar_Upload!G946,Gerar_Upload!G946),\"erro\")","v":"00000000000000000000000000000000000000000000"}]
[{"$f":"IFERROR(LEFT(Gerar_Upload!A947,120),\"erro\")","v":""},{"$f":"IFERROR(SUBSTITUTE(SUBSTITUTE(SUBSTITUTE(Gerar_Upload!B947,\".\",\"\"),\"-\",\"\"),\"/\",\"\"),\"erro\")","v":""},{"$f":"IFERROR(Gerar_Upload!C947,\"erro\")","v":0},{"$f":"IFERROR(Gerar_Upload!D947,\"erro\")","v":0},{"$f":"IFERROR(DATE(YEAR(Gerar_Upload!E947),MONTH(Gerar_Upload!E947),DAY(Gerar_Upload!E947)),\"erro\")","v":"00:00:00"},{"$f":"IFERROR(Gerar_Upload!F947,\"erro\")","v":0},{"$f":"IFERROR(IF(Gerar_Upload!G947<44,REPT(0,44-LEN(Gerar_Upload!G947))&Gerar_Upload!G947,Gerar_Upload!G947),\"erro\")","v":"00000000000000000000000000000000000000000000"}]
[{"$f":"IFERROR(LEFT(Gerar_Upload!A948,120),\"erro\")","v":""},{"$f":"IFERROR(SUBSTITUTE(SUBSTITUTE(SUBSTITUTE(Gerar_Upload!B948,\".\",\"\"),\"-\",\"\"),\"/\",\"\"),\"erro\")","v":""},{"$f":"IFERROR(Gerar_Upload!C948,\"erro\")","v":0},{"$f":"IFERROR(Gerar_Upload!D948,\"erro\")","v":0},{"$f":"IFERROR(DATE(YEAR(Gerar_Upload!E948),MONTH(Gerar_Upload!E948),DAY(Gerar_Upload!E948)),\"erro\")","v":"00:00:00"},{"$f":"IFERROR(Gerar_Upload!F948,\"erro\")","v":0},{"$f":"IFERROR(IF(Gerar_Upload!G948<44,REPT(0,44-LEN(Gerar_Upload!G948))&Gerar_Upload!G948,Gerar_Upload!G948),\"erro\")","v":"00000000000000000000000000000000000000000000"}]
[{"$f":"IFERROR(LEFT(Gerar_Upload!A949,120),\"erro\")","v":""},{"$f":"IFERROR(SUBSTITUTE(SUBSTITUTE(SUBSTITUTE(Gerar_Upload!B949,\".\",\"\"),\"-\",\"\"),\"/\",\"\"),\"erro\")","v":""},{"$f":"IFERROR(Gerar_Upload!C949,\"erro\")","v":0},{"$f":"IFERROR(Gerar_Upload!D949,\"erro\")","v":0},{"$f":"IFERROR(DATE(YEAR(Gerar_Upload!E949),MONTH(Gerar_Upload!E949),DAY(Gerar_Upload!E949)),\"erro\")","v":"00:00:00"},{"$f":"IFERROR(Gerar_Upload!F949,\"erro\")","v":0},{"$f":"IFERROR(IF(Gerar_Upload!G949<44,REPT(0,44-LEN(Gerar_Upload!G949))&Gerar_Upload!G949,Gerar_Upload!G949),\"erro\")","v":"00000000000000000000000000000000000000000000"}]
[{"$f":"IFERROR(LEFT(Gerar_Upload!A950,120),\"erro\")","v":""},{"$f":"IFERROR(SUBSTITUTE(SUBSTITUTE(SUBSTITUTE(Gerar_Upload!B950,\".\",\"\"),\"-\",\"\"),\"/\",\"\"),\"erro\")","v":""},{"$f":"IFERROR(Gerar_Upload!C950,\"erro\")","v":0},{"$f":"IFERROR(Gerar_Upload!D950,\"erro\")","v":0},{"$f":"IFERROR(DATE(YEAR(Gerar_Upload!E950),MONTH(Gerar_Upload!E950),DAY(Gerar_Upload!E950)),\"erro\")","v":"00:00:00"},{"$f":"IFERROR(Gerar_Upload!F950,\"erro\")","v":0},{"$f":"IFERROR(IF(Gerar_Upload!G950<44,REPT(0,44-LEN(Gerar_Upload!G950))&Gerar_Upload!G950,Gerar_Upload!G950),\"erro\")","v":"00000000000000000000000000000000000000000000"}]
[{"$f":"IFERROR(LEFT(Gerar_Upload!A951,120),\"erro\")","v":""},{"$f":"IFERROR(SUBSTITUTE(SUBSTITUTE(SUBSTITUTE(Gerar_Upload!B951,\".\",\"\"),\"-\",\"\"),\"/\",\"\"),\"erro\")","v":""},{"$f":"IFERROR(Gerar_Upload!C951,\"erro\")","v":0},{"$f":"IFERROR(Gerar_Upload!D951,\"erro\")","v":0},{"$f":"IFERROR(DATE(YEAR(Gerar_Upload!E951),MONTH(Gerar_Upload!E951),DAY(Gerar_Upload!E951)),\"erro\")","v":"00:00:00"},{"$f":"IFERROR(Gerar_Upload!F951,\"erro\")","v":0},{"$f":"IFERROR(IF(Gerar_Upload!G951<44,REPT(0,44-LEN(Gerar_Upload!G951))&Gerar_Upload!G951,Gerar_Upload!G951),\"erro\")","v":"00000000000000000000000000000000000000000000"}]
[{"$f":"IFERROR(LEFT(Gerar_Upload!A952,120),\"erro\")","v":""},{"$f":"IFERROR(SUBSTITUTE(SUBSTITUTE(SUBSTITUTE(Gerar_Upload!B952,\".\",\"\"),\"-\",\"\"),\"/\",\"\"),\"erro\")","v":""},{"$f":"IFERROR(Gerar_Upload!C952,\"erro\")","v":0},{"$f":"IFERROR(Gerar_Upload!D952,\"erro\")","v":0},{"$f":"IFERROR(DATE(YEAR(Gerar_Upload!E952),MONTH(Gerar_Upload!E952),DAY(Gerar_Upload!E952)),\"erro\")","v":"00:00:00"},{"$f":"IFERROR(Gerar_Upload!F952,\"erro\")","v":0},{"$f":"IFERROR(IF(Gerar_Upload!G952<44,REPT(0,44-LEN(Gerar_Upload!G952))&Gerar_Upload!G952,Gerar_Upload!G952),\"erro\")","v":"00000000000000000000000000000000000000000000"}]
[{"$f":"IFERROR(LEFT(Gerar_Upload!A953,120),\"erro\")","v":""},{"$f":"IFERROR(SUBSTITUTE(SUBSTITUTE(SUBSTITUTE(Gerar_Upload!B953,\".\",\"\"),\"-\",\"\"),\"/\",\"\"),\"erro\")","v":""},{"$f":"IFERROR(Gerar_Upload!C953,\"erro\")","v":0},{"$f":"IFERROR(Gerar_Upload!D953,\"erro\")","v":0},{"$f":"IFERROR(DATE(YEAR(Gerar_Upload!E953),MONTH(Gerar_Upload!E953),DAY(Gerar_Upload!E953)),\"erro\")","v":"00:00:00"},{"$f":"IFERROR(Gerar_Upload!F953,\"erro\")","v":0},{"$f":"IFERROR(IF(Gerar_Upload!G953<44,REPT(0,44-LEN(Gerar_Upload!G953))&Gerar_Upload!G953,Gerar_Upload!G953),\"erro\")","v":"00000000000000000000000000000000000000000000"}]
[{"$f":"IFERROR(LEFT(Gerar_Upload!A954,120),\"erro\")","v":""},{"$f":"IFERROR(SUBSTITUTE(SUBSTITUTE(SUBSTITUTE(Gerar_Upload!B954,\".\",\"\"),\"-\",\"\"),\"/\",\"\"),\"erro\")","v":""},{"$f":"IFERROR(Gerar_Upload!C954,\"erro\")","v":0},{"$f":"IFERROR(Gerar_Upload!D954,\"erro\")","v":0},{"$f":"IFERROR(DATE(YEAR(Gerar_Upload!E954),MONTH(Gerar_Upload!E954),DAY(Gerar_Upload!E954)),\"erro\")","v":"00:00:00"},{"$f":"IFERROR(Gerar_Upload!F954,\"erro\")","v":0},{"$f":"IFERROR(IF(Gerar_Upload!G954<44,REPT(0,44-LEN(Gerar_Upload!G954))&Gerar_Upload!G954,Gerar_Upload!G954),\"erro\")","v":"00000000000000000000000000000000000000000000"}]
[{"$f":"IFERROR(LEFT(Gerar_Upload!A955,120),\"erro\")","v":""},{"$f":"IFERROR(SUBSTITUTE(SUBSTITUTE(SUBSTITUTE(Gerar_Upload!B955,\".\",\"\"),\"-\",\"\"),\"/\",\"\"),\"erro\")","v":""},{"$f":"IFERROR(Gerar_Upload!C955,\"erro\")","v":0},{"$f":"IFERROR(Gerar_Upload!D955,\"erro\")","v":0},{"$f":"IFERROR(DATE(YEAR(Gerar_Upload!E955),MONTH(Gerar_Upload!E955),DAY(Gerar_Upload!E955)),\"erro\")","v":"00:00:00"},{"$f":"IFERROR(Gerar_Upload!F955,\"erro\")","v":0},{"$f":"IFERROR(IF(Gerar_Upload!G955<44,REPT(0,44-LEN(Gerar_Upload!G955))&Gerar_Upload!G955,Gerar_Upload!G955),\"erro\")","v":"00000000000000000000000000000000000000000000"}]
[{"$f":"IFERROR(LEFT(Gerar_Upload!A956,120),\"erro\")","v":""},{"$f":"IFERROR(SUBSTITUTE(SUBSTITUTE(SUBSTITUTE(Gerar_Upload!B956,\".\",\"\"),\"-\",\"\"),\"/\",\"\"),\"erro\")","v":""},{"$f":"IFERROR(Gerar_Upload!C956,\"erro\")","v":0},{"$f":"IFERROR(Gerar_Upload!D956,\"erro\")","v":0},{"$f":"IFERROR(DATE(YEAR(Gerar_Upload!E956),MONTH(Gerar_Upload!E956),DAY(Gerar_Upload!E956)),\"erro\")","v":"00:00:00"},{"$f":"IFERROR(Gerar_Upload!F956,\"erro\")","v":0},{"$f":"IFERROR(IF(Gerar_Upload!G956<44,REPT(0,44-LEN(Gerar_Upload!G956))&Gerar_Upload!G956,Gerar_Upload!G956),\"erro\")","v":"00000000000000000000000000000000000000000000"}]
[{"$f":"IFERROR(LEFT(Gerar_Upload!A957,120),\"erro\")","v":""},{"$f":"IFERROR(SUBSTITUTE(SUBSTITUTE(SUBSTITUTE(Gerar_Upload!B957,\".\",\"\"),\"-\",\"\"),\"/\",\"\"),\"erro\")","v":""},{"$f":"IFERROR(Gerar_Upload!C957,\"erro\")","v":0},{"$f":"IFERROR(Gerar_Upload!D957,\"erro\")","v":0},{"$f":"IFERROR(DATE(YEAR(Gerar_Upload!E957),MONTH(Gerar_Upload!E957),DAY(Gerar_Upload!E957)),\"erro\")","v":"00:00:00"},{"$f":"IFERROR(Gerar_Upload!F957,\"erro\")","v":0},{"$f":"IFERROR(IF(Gerar_Upload!G957<44,REPT(0,44-LEN(Gerar_Upload!G957))&Gerar_Upload!G957,Gerar_Upload!G957),\"erro\")","v":"00000000000000000000000000000000000000000000"}]
[{"$f":"IFERROR(LEFT(Gerar_Upload!A958,120),\"erro\")","v":""},{"$f":"IFERROR(SUBSTITUTE(SUBSTITUTE(SUBSTITUTE(Gerar_Upload!B958,\".\",\"\"),\"-\",\"\"),\"/\",\"\"),\"erro\")","v":""},{"$f":"IFERROR(Gerar_Upload!C958,\"erro\")","v":0},{"$f":"IFERROR(Gerar_Upload!D958,\"erro\")","v":0},{"$f":"IFERROR(DATE(YEAR(Gerar_Upload!E958),MONTH(Gerar_Upload!E958),DAY(Gerar_Upload!E958)),\"erro\")","v":"00:00:00"},{"$f":"IFERROR(Gerar_Upload!F958,\"erro\")","v":0},{"$f":"IFERROR(IF(Gerar_Upload!G958<44,REPT(0,44-LEN(Gerar_Upload!G958))&Gerar_Upload!G958,Gerar_Upload!G958),\"erro\")","v":"00000000000000000000000000000000000000000000"}]
[{"$f":"IFERROR(LEFT(Gerar_Upload!A959,120),\"erro\")","v":""},{"$f":"IFERROR(SUBSTITUTE(SUBSTITUTE(SUBSTITUTE(Gerar_Upload!B959,\".\",\"\"),\"-\",\"\"),\"/\",\"\"),\"erro\")","v":""},{"$f":"IFERROR(Gerar_Upload!C959,\"erro\")","v":0},{"$f":"IFERROR(Gerar_Upload!D959,\"erro\")","v":0},{"$f":"IFERROR(DATE(YEAR(Gerar_Upload!E959),MONTH(Gerar_Upload!E959),DAY(Gerar_Upload!E959)),\"erro\")","v":"00:00:00"},{"$f":"IFERROR(Gerar_Upload!F959,\"erro\")","v":0},{"$f":"IFERROR(IF(Gerar_Upload!G959<44,REPT(0,44-LEN(Gerar_Upload!G959))&Gerar_Upload!G959,Gerar_Upload!G959),\"erro\")","v":"00000000000000000000000000000000000000000000"}]
[{"$f":"IFERROR(LEFT(Gerar_Upload!A960,120),\"erro\")","v":""},{"$f":"IFERROR(SUBSTITUTE(SUBSTITUTE(SUBSTITUTE(Gerar_Upload!B960,\".\",\"\"),\"-\",\"\"),\"/\",\"\"),\"erro\")","v":""},{"$f":"IFERROR(Gerar_Upload!C960,\"erro\")","v":0},{"$f":"IFERROR(Gerar_Upload!D960,\"erro\")","v":0},{"$f":"IFERROR(DATE(YEAR(Gerar_Upload!E960),MONTH(Gerar_Upload!E960),DAY(Gerar_Upload!E960)),\"erro\")","v":"00:00:00"},{"$f":"IFERROR(Gerar_Upload!F960,\"erro\")","v":0},{"$f":"IFERROR(IF(Gerar_Upload!G960<44,REPT(0,44-LEN(Gerar_Upload!G960))&Gerar_Upload!G960,Gerar_Upload!G960),\"erro\")","v":"00000000000000000000000000000000000000000000"}]
[{"$f":"IFERROR(LEFT(Gerar_Upload!A961,120),\"erro\")","v":""},{"$f":"IFERROR(SUBSTITUTE(SUBSTITUTE(SUBSTITUTE(Gerar_Upload!B961,\".\",\"\"),\"-\",\"\"),\"/\",\"\"),\"erro\")","v":""},{"$f":"IFERROR(Gerar_Upload!C961,\"erro\")","v":0},{"$f":"IFERROR(Gerar_Upload!D961,\"erro\")","v":0},{"$f":"IFERROR(DATE(YEAR(Gerar_Upload!E961),MONTH(Gerar_Upload!E961),DAY(Gerar_Upload!E961)),\"erro\")","v":"00:00:00"},{"$f":"IFERROR(Gerar_Upload!F961,\"erro\")","v":0},{"$f":"IFERROR(IF(Gerar_Upload!G961<44,REPT(0,44-LEN(Gerar_Upload!G961))&Gerar_Upload!G961,Gerar_Upload!G961),\"erro\")","v":"00000000000000000000000000000000000000000000"}]
[{"$f":"IFERROR(LEFT(Gerar_Upload!A962,120),\"erro\")","v":""},{"$f":"IFERROR(SUBSTITUTE(SUBSTITUTE(SUBSTITUTE(Gerar_Upload!B962,\".\",\"\"),\"-\",\"\"),\"/\",\"\"),\"erro\")","v":""},{"$f":"IFERROR(Gerar_Upload!C962,\"erro\")","v":0},{"$f":"IFERROR(Gerar_Upload!D962,\"erro\")","v":0},{"$f":"IFERROR(DATE(YEAR(Gerar_Upload!E962),MONTH(Gerar_Upload!E962),DAY(Gerar_Upload!E962)),\"erro\")","v":"00:00:00"},{"$f":"IFERROR(Gerar_Upload!F962,\"erro\")","v":0},{"$f":"IFERROR(IF(Gerar_Upload!G962<44,REPT(0,44-LEN(Gerar_Upload!G962))&Gerar_Upload!G962,Gerar_Upload!G962),\"erro\")","v":"00000000000000000000000000000000000000000000"}]
[{"$f":"IFERROR(LEFT(Gerar_Upload!A963,120),\"erro\")","v":""},{"$f":"IFERROR(SUBSTITUTE(SUBSTITUTE(SUBSTITUTE(Gerar_Upload!B963,\".\",\"\"),\"-\",\"\"),\"/\",\"\"),\"erro\")","v":""},{"$f":"IFERROR(Gerar_Upload!C963,\"erro\")","v":0},{"$f":"IFERROR(Gerar_Upload!D963,\"erro\")","v":0},{"$f":"IFERROR(DATE(YEAR(Gerar_Upload!E963),MONTH(Gerar_Upload!E963),DAY(Gerar_Upload!E963)),\"erro\")","v":"00:00:00"},{"$f":"IFERROR(Gerar_Upload!F963,\"erro\")","v":0},{"$f":"IFERROR(IF(Gerar_Upload!G963<44,REPT(0,44-LEN(Gerar_Upload!G963))&Gerar_Upload!G963,Gerar_Upload!G963),\"erro\")","v":"00000000000000000000000000000000000000000000"}]
[{"$f":"IFERROR(LEFT(Gerar_Upload!A964,120),\"erro\")","v":""},{"$f":"IFERROR(SUBSTITUTE(SUBSTITUTE(SUBSTITUTE(Gerar_Upload!B964,\".\",\"\"),\"-\",\"\"),\"/\",\"\"),\"erro\")","v":""},{"$f":"IFERROR(Gerar_Upload!C964,\"erro\")","v":0},{"$f":"IFERROR(Gerar_Upload!D964,\"erro\")","v":0},{"$f":"IFERROR(DATE(YEAR(Gerar_Upload!E964),MONTH(Gerar_Upload!E964),DAY(Gerar_Upload!E964)),\"erro\")","v":"00:00:00"},{"$f":"IFERROR(Gerar_Upload!F964,\"erro\")","v":0},{"$f":"IFERROR(IF(Gerar_Upload!G964<44,REPT(0,44-LEN(Gerar_Upload!G964))&Gerar_Upload!G964,Gerar_Upload!G964),\"erro\")","v":"00000000000000000000000000000000000000000000"}]
[{"$f":"IFERROR(LEFT(Gerar_Upload!A965,120),\"erro\")","v":""},{"$f":"IFERROR(SUBSTITUTE(SUBSTITUTE(SUBSTITUTE(Gerar_Upload!B965,\".\",\"\"),\"-\",\"\"),\"/\",\"\"),\"erro\")","v":""},{"$f":"IFERROR(Gerar_Upload!C965,\"erro\")","v":0},{"$f":"IFERROR(Gerar_Upload!D965,\"erro\")","v":0},{"$f":"IFERROR(DATE(YEAR(Gerar_Upload!E965),MONTH(Gerar_Upload!E965),DAY(Gerar_Upload!E965)),\"erro\")","v":"00:00:00"},{"$f":"IFERROR(Gerar_Upload!F965,\"erro\")","v":0},{"$f":"IFERROR(IF(Gerar_Upload!G965<44,REPT(0,44-LEN(Gerar_Upload!G965))&Gerar_Upload!G965,Gerar_Upload!G965),\"erro\")","v":"00000000000000000000000000000000000000000000"}]
[{"$f":"IFERROR(LEFT(Gerar_Upload!A966,120),\"erro\")","v":""},{"$f":"IFERROR(SUBSTITUTE(SUBSTITUTE(SUBSTITUTE(Gerar_Upload!B966,\".\",\"\"),\"-\",\"\"),\"/\",\"\"),\"erro\")","v":""},{"$f":"IFERROR(Gerar_Upload!C966,\"erro\")","v":0},{"$f":"IFERROR(Gerar_Upload!D966,\"erro\")","v":0},{"$f":"IFERROR(DATE(YEAR(Gerar_Upload!E966),MONTH(Gerar_Upload!E966),DAY(Gerar_Upload!E966)),\"erro\")","v":"00:00:00"},{"$f":"IFERROR(Gerar_Upload!F966,\"erro\")","v":0},{"$f":"IFERROR(IF(Gerar_Upload!G966<44,REPT(0,44-LEN(Gerar_Upload!G966))&Gerar_Upload!G966,Gerar_Upload!G966),\"erro\")","v":"00000000000000000000000000000000000000000000"}]
[{"$f":"IFERROR(LEFT(Gerar_Upload!A967,120),\"erro\")","v":""},{"$f":"IFERROR(SUBSTITUTE(SUBSTITUTE(SUBSTITUTE(Gerar_Upload!B967,\".\",\"\"),\"-\",\"\"),\"/\",\"\"),\"erro\")","v":""},{"$f":"IFERROR(Gerar_Upload!C967,\"erro\")","v":0},{"$f":"IFERROR(Gerar_Upload!D967,\"erro\")","v":0},{"$f":"IFERROR(DATE(YEAR(Gerar_Upload!E967),MONTH(Gerar_Upload!E967),DAY(Gerar_Upload!E967)),\"erro\")","v":"00:00:00"},{"$f":"IFERROR(Gerar_Upload!F967,\"erro\")","v":0},{"$f":"IFERROR(IF(Gerar_Upload!G967<44,REPT(0,44-LEN(Gerar_Upload!G967))&Gerar_Upload!G967,Gerar_Upload!G967),\"erro\")","v":"00000000000000000000000000000000000000000000"}]
[{"$f":"IFERROR(LEFT(Gerar_Upload!A968,120),\"erro\")","v":""},{"$f":"IFERROR(SUBSTITUTE(SUBSTITUTE(SUBSTITUTE(Gerar_Upload!B968,\".\",\"\"),\"-\",\"\"),\"/\",\"\"),\"erro\")","v":""},{"$f":"IFERROR(Gerar_Upload!C968,\"erro\")","v":0},{"$f":"IFERROR(Gerar_Upload!D968,\"erro\")","v":0},{"$f":"IFERROR(DATE(YEAR(Gerar_Upload!E968),MONTH(Gerar_Upload!E968),DAY(Gerar_Upload!E968)),\"erro\")","v":"00:00:00"},{"$f":"IFERROR(Gerar_Upload!F968,\"erro\")","v":0},{"$f":"IFERROR(IF(Gerar_Upload!G968<44,REPT(0,44-LEN(Gerar_Upload!G968))&Gerar_Upload!G968,Gerar_Upload!G968),\"erro\")","v":"00000000000000000000000000000000000000000000"}]
[{"$f":"IFERROR(LEFT(Gerar_Upload!A969,120),\"erro\")","v":""},{"$f":"IFERROR(SUBSTITUTE(SUBSTITUTE(SUBSTITUTE(Gerar_Upload!B969,\".\",\"\"),\"-\",\"\"),\"/\",\"\"),\"erro\")","v":""},{"$f":"IFERROR(Gerar_Upload!C969,\"erro\")","v":0},{"$f":"IFERROR(Gerar_Upload!D969,\"erro\")","v":0},{"$f":"IFERROR(DATE(YEAR(Gerar_Upload!E969),MONTH(Gerar_Upload!E969),DAY(Gerar_Upload!E969)),\"erro\")","v":"00:00:00"},{"$f":"IFERROR(Gerar_Upload!F969,\"erro\")","v":0},{"$f":"IFERROR(IF(Gerar_Upload!G969<44,REPT(0,44-LEN(Gerar_Upload!G969))&Gerar_Upload!G969,Gerar_Upload!G969),\"erro\")","v":"00000000000000000000000000000000000000000000"}]
[{"$f":"IFERROR(LEFT(Gerar_Upload!A970,120),\"erro\")","v":""},{"$f":"IFERROR(SUBSTITUTE(SUBSTITUTE(SUBSTITUTE(Gerar_Upload!B970,\".\",\"\"),\"-\",\"\"),\"/\",\"\"),\"erro\")","v":""},{"$f":"IFERROR(Gerar_Upload!C970,\"erro\")","v":0},{"$f":"IFERROR(Gerar_Upload!D970,\"erro\")","v":0},{"$f":"IFERROR(DATE(YEAR(Gerar_Upload!E970),MONTH(Gerar_Upload!E970),DAY(Gerar_Upload!E970)),\"erro\")","v":"00:00:00"},{"$f":"IFERROR(Gerar_Upload!F970,\"erro\")","v":0},{"$f":"IFERROR(IF(Gerar_Upload!G970<44,REPT(0,44-LEN(Gerar_Upload!G970))&Gerar_Upload!G970,Gerar_Upload!G970),\"erro\")","v":"00000000000000000000000000000000000000000000"}]
[{"$f":"IFERROR(LEFT(Gerar_Upload!A971,120),\"erro\")","v":""},{"$f":"IFERROR(SUBSTITUTE(SUBSTITUTE(SUBSTITUTE(Gerar_Upload!B971,\".\",\"\"),\"-\",\"\"),\"/\",\"\"),\"erro\")","v":""},{"$f":"IFERROR(Gerar_Upload!C971,\"erro\")","v":0},{"$f":"IFERROR(Gerar_Upload!D971,\"erro\")","v":0},{"$f":"IFERROR(DATE(YEAR(Gerar_Upload!E971),MONTH(Gerar_Upload!E971),DAY(Gerar_Upload!E971)),\"erro\")","v":"00:00:00"},{"$f":"IFERROR(Gerar_Upload!F971,\"erro\")","v":0},{"$f":"IFERROR(IF(Gerar_Upload!G971<44,REPT(0,44-LEN(Gerar_Upload!G971))&Gerar_Upload!G971,Gerar_Upload!G971),\"erro\")","v":"00000000000000000000000000000000000000000000"}]
[{"$f":"IFERROR(LEFT(Gerar_Upload!A972,120),\"erro\")","v":""},{"$f":"IFERROR(SUBSTITUTE(SUBSTITUTE(SUBSTITUTE(Gerar_Upload!B972,\".\",\"\"),\"-\",\"\"),\"/\",\"\"),\"erro\")","v":""},{"$f":"IFERROR(Gerar_Upload!C972,\"erro\")","v":0},{"$f":"IFERROR(Gerar_Upload!D972,\"erro\")","v":0},{"$f":"IFERROR(DATE(YEAR(Gerar_Upload!E972),MONTH(Gerar_Upload!E972),DAY(Gerar_Upload!E972)),\"erro\")","v":"00:00:00"},{"$f":"IFERROR(Gerar_Upload!F972,\"erro\")","v":0},{"$f":"IFERROR(IF(Gerar_Upload!G972<44,REPT(0,44-LEN(Gerar_Upload!G972))&Gerar_Upload!G972,Gerar_Upload!G972),\"erro\")","v":"00000000000000000000000000000000000000000000"}]
[{"$f":"IFERROR(LEFT(Gerar_Upload!A973,120),\"erro\")","v":""},{"$f":"IFERROR(SUBSTITUTE(SUBSTITUTE(SUBSTITUTE(Gerar_Upload!B973,\".\",\"\"),\"-\",\"\"),\"/\",\"\"),\"erro\")","v":""},{"$f":"IFERROR(Gerar_Upload!C973,\"erro\")","v":0},{"$f":"IFERROR(Gerar_Upload!D973,\"erro\")","v":0},{"$f":"IFERROR(DATE(YEAR(Gerar_Upload!E973),MONTH(Gerar_Upload!E973),DAY(Gerar_Upload!E973)),\"erro\")","v":"00:00:00"},{"$f":"IFERROR(Gerar_Upload!F973,\"erro\")","v":0},{"$f":"IFERROR(IF(Gerar_Upload!G973<44,REPT(0,44-LEN(Gerar_Upload!G973))&Gerar_Upload!G973,Gerar_Upload!G973),\"erro\")","v":"00000000000000000000000000000000000000000000"}]
[{"$f":"IFERROR(LEFT(Gerar_Upload!A974,120),\"erro\")","v":""},{"$f":"IFERROR(SUBSTITUTE(SUBSTITUTE(SUBSTITUTE(Gerar_Upload!B974,\".\",\"\"),\"-\",\"\"),\"/\",\"\"),\"erro\")","v":""},{"$f":"IFERROR(Gerar_Upload!C974,\"erro\")","v":0},{"$f":"IFERROR(Gerar_Upload!D974,\"erro\")","v":0},{"$f":"IFERROR(DATE(YEAR(Gerar_Upload!E974),MONTH(Gerar_Upload!E974),DAY(Gerar_Upload!E974)),\"erro\")","v":"00:00:00"},{"$f":"IFERROR(Gerar_Upload!F974,\"erro\")","v":0},{"$f":"IFERROR(IF(Gerar_Upload!G974<44,REPT(0,44-LEN(Gerar_Upload!G974))&Gerar_Upload!G974,Gerar_Upload!G974),\"erro\")","v":"00000000000000000000000000000000000000000000"}]
[{"$f":"IFERROR(LEFT(Gerar_Upload!A975,120),\"erro\")","v":""},{"$f":"IFERROR(SUBSTITUTE(SUBSTITUTE(SUBSTITUTE(Gerar_Upload!B975,\".\",\"\"),\"-\",\"\"),\"/\",\"\"),\"erro\")","v":""},{"$f":"IFERROR(Gerar_Upload!C975,\"erro\")","v":0},{"$f":"IFERROR(Gerar_Upload!D975,\"erro\")","v":0},{"$f":"IFERROR(DATE(YEAR(Gerar_Upload!E975),MONTH(Gerar_Upload!E975),DAY(Gerar_Upload!E975)),\"erro\")","v":"00:00:00"},{"$f":"IFERROR(Gerar_Upload!F975,\"erro\")","v":0},{"$f":"IFERROR(IF(Gerar_Upload!G975<44,REPT(0,44-LEN(Gerar_Upload!G975))&Gerar_Upload!G975,Gerar_Upload!G975),\"erro\")","v":"00000000000000000000000000000000000000000000"}]
[{"$f":"IFERROR(LEFT(Gerar_Upload!A976,120),\"erro\")","v":""},{"$f":"IFERROR(SUBSTITUTE(SUBSTITUTE(SUBSTITUTE(Gerar_Upload!B976,\".\",\"\"),\"-\",\"\"),\"/\",\"\"),\"erro\")","v":""},{"$f":"IFERROR(Gerar_Upload!C976,\"erro\")","v":0},{"$f":"IFERROR(Gerar_Upload!D976,\"erro\")","v":0},{"$f":"IFERROR(DATE(YEAR(Gerar_Upload!E976),MONTH(Gerar_Upload!E976),DAY(Gerar_Upload!E976)),\"erro\")","v":"00:00:00"},{"$f":"IFERROR(Gerar_Upload!F976,\"erro\")","v":0},{"$f":"IFERROR(IF(Gerar_Upload!G976<44,REPT(0,44-LEN(Gerar_Upload!G976))&Gerar_Upload!G976,Gerar_Upload!G976),\"erro\")","v":"00000000000000000000000000000000000000000000"}]
[{"$f":"IFERROR(LEFT(Gerar_Upload!A977,120),\"erro\")","v":""},{"$f":"IFERROR(SUBSTITUTE(SUBSTITUTE(SUBSTITUTE(Gerar_Upload!B977,\".\",\"\"),\"-\",\"\"),\"/\",\"\"),\"erro\")","v":""},{"$f":"IFERROR(Gerar_Upload!C977,\"erro\")","v":0},{"$f":"IFERROR(Gerar_Upload!D977,\"erro\")","v":0},{"$f":"IFERROR(DATE(YEAR(Gerar_Upload!E977),MONTH(Gerar_Upload!E977),DAY(Gerar_Upload!E977)),\"erro\")","v":"00:00:00"},{"$f":"IFERROR(Gerar_Upload!F977,\"erro\")","v":0},{"$f":"IFERROR(IF(Gerar_Upload!G977<44,REPT(0,44-LEN(Gerar_Upload!G977))&Gerar_Upload!G977,Gerar_Upload!G977),\"erro\")","v":"00000000000000000000000000000000000000000000"}]
[{"$f":"IFERROR(LEFT(Gerar_Upload!A978,120),\"erro\")","v":""},{"$f":"IFERROR(SUBSTITUTE(SUBSTITUTE(SUBSTITUTE(Gerar_Upload!B978,\".\",\"\"),\"-\",\"\"),\"/\",\"\"),\"erro\")","v":""},{"$f":"IFERROR(Gerar_Upload!C978,\"erro\")","v":0},{"$f":"IFERROR(Gerar_Upload!D978,\"erro\")","v":0},{"$f":"IFERROR(DATE(YEAR(Gerar_Upload!E978),MONTH(Gerar_Upload!E978),DAY(Gerar_Upload!E978)),\"erro\")","v":"00:00:00"},{"$f":"IFERROR(Gerar_Upload!F978,\"erro\")","v":0},{"$f":"IFERROR(IF(Gerar_Upload!G978<44,REPT(0,44-LEN(Gerar_Upload!G978))&Gerar_Upload!G978,Gerar_Upload!G978),\"erro\")","v":"00000000000000000000000000000000000000000000"}]
[{"$f":"IFERROR(LEFT(Gerar_Upload!A979,120),\"erro\")","v":""},{"$f":"IFERROR(SUBSTITUTE(SUBSTITUTE(SUBSTITUTE(Gerar_Upload!B979,\".\",\"\"),\"-\",\"\"),\"/\",\"\"),\"erro\")","v":""},{"$f":"IFERROR(Gerar_Upload!C979,\"erro\")","v":0},{"$f":"IFERROR(Gerar_Upload!D979,\"erro\")","v":0},{"$f":"IFERROR(DATE(YEAR(Gerar_Upload!E979),MONTH(Gerar_Upload!E979),DAY(Gerar_Upload!E979)),\"erro\")","v":"00:00:00"},{"$f":"IFERROR(Gerar_Upload!F979,\"erro\")","v":0},{"$f":"IFERROR(IF(Gerar_Upload!G979<44,REPT(0,44-LEN(Gerar_Upload!G979))&Gerar_Upload!G979,Gerar_Upload!G979),\"erro\")","v":"00000000000000000000000000000000000000000000"}]
[{"$f":"IFERROR(LEFT(Gerar_Upload!A980,120),\"erro\")","v":""},{"$f":"IFERROR(SUBSTITUTE(SUBSTITUTE(SUBSTITUTE(Gerar_Upload!B980,\".\",\"\"),\"-\",\"\"),\"/\",\"\"),\"erro\")","v":""},{"$f":"IFERROR(Gerar_Upload!C980,\"erro\")","v":0},{"$f":"IFERROR(Gerar_Upload!D980,\"erro\")","v":0},{"$f":"IFERROR(DATE(YEAR(Gerar_Upload!E980),MONTH(Gerar_Upload!E980),DAY(Gerar_Upload!E980)),\"erro\")","v":"00:00:00"},{"$f":"IFERROR(Gerar_Upload!F980,\"erro\")","v":0},{"$f":"IFERROR(IF(Gerar_Upload!G980<44,REPT(0,44-LEN(Gerar_Upload!G980))&Gerar_Upload!G980,Gerar_Upload!G980),\"erro\")","v":"00000000000000000000000000000000000000000000"}]
[{"$f":"IFERROR(LEFT(Gerar_Upload!A981,120),\"erro\")","v":""},{"$f":"IFERROR(SUBSTITUTE(SUBSTITUTE(SUBSTITUTE(Gerar_Upload!B981,\".\",\"\"),\"-\",\"\"),\"/\",\"\"),\"erro\")","v":""},{"$f":"IFERROR(Gerar_Upload!C981,\"erro\")","v":0},{"$f":"IFERROR(Gerar_Upload!D981,\"erro\")","v":0},{"$f":"IFERROR(DATE(YEAR(Gerar_Upload!E981),MONTH(Gerar_Upload!E981),DAY(Gerar_Upload!E981)),\"erro\")","v":"00:00:00"},{"$f":"IFERROR(Gerar_Upload!F981,\"erro\")","v":0},{"$f":"IFERROR(IF(Gerar_Upload!G981<44,REPT(0,44-LEN(Gerar_Upload!G981))&Gerar_Upload!G981,Gerar_Upload!G981),\"erro\")","v":"00000000000000000000000000000000000000000000"}]
[{"$f":"IFERROR(LEFT(Gerar_Upload!A982,120),\"erro\")","v":""},{"$f":"IFERROR(SUBSTITUTE(SUBSTITUTE(SUBSTITUTE(Gerar_Upload!B982,\".\",\"\"),\"-\",\"\"),\"/\",\"\"),\"erro\")","v":""},{"$f":"IFERROR(Gerar_Upload!C982,\"erro\")","v":0},{"$f":"IFERROR(Gerar_Upload!D982,\"erro\")","v":0},{"$f":"IFERROR(DATE(YEAR(Gerar_Upload!E982),MONTH(Gerar_Upload!E982),DAY(Gerar_Upload!E982)),\"erro\")","v":"00:00:00"},{"$f":"IFERROR(Gerar_Upload!F982,\"erro\")","v":0},{"$f":"IFERROR(IF(Gerar_Upload!G982<44,REPT(0,44-LEN(Gerar_Upload!G982))&Gerar_Upload!G982,Gerar_Upload!G982),\"erro\")","v":"00000000000000000000000000000000000000000000"}]
[{"$f":"IFERROR(LEFT(Gerar_Upload!A983,120),\"erro\")","v":""},{"$f":"IFERROR(SUBSTITUTE(SUBSTITUTE(SUBSTITUTE(Gerar_Upload!B983,\".\",\"\"),\"-\",\"\"),\"/\",\"\"),\"erro\")","v":""},{"$f":"IFERROR(Gerar_Upload!C983,\"erro\")","v":0},{"$f":"IFERROR(Gerar_Upload!D983,\"erro\")","v":0},{"$f":"IFERROR(DATE(YEAR(Gerar_Upload!E983),MONTH(Gerar_Upload!E983),DAY(Gerar_Upload!E983)),\"erro\")","v":"00:00:00"},{"$f":"IFERROR(Gerar_Upload!F983,\"erro\")","v":0},{"$f":"IFERROR(IF(Gerar_Upload!G983<44,REPT(0,44-LEN(Gerar_Upload!G983))&Gerar_Upload!G983,Gerar_Upload!G983),\"erro\")","v":"00000000000000000000000000000000000000000000"}]
[{"$f":"IFERROR(LEFT(Gerar_Upload!A984,120),\"erro\")","v":""},{"$f":"IFERROR(SUBSTITUTE(SUBSTITUTE(SUBSTITUTE(Gerar_Upload!B984,\".\",\"\"),\"-\",\"\"),\"/\",\"\"),\"erro\")","v":""},{"$f":"IFERROR(Gerar_Upload!C984,\"erro\")","v":0},{"$f":"IFERROR(Gerar_Upload!D984,\"erro\")","v":0},{"$f":"IFERROR(DATE(YEAR(Gerar_Upload!E984),MONTH(Gerar_Upload!E984),DAY(Gerar_Upload!E984)),\"erro\")","v":"00:00:00"},{"$f":"IFERROR(Gerar_Upload!F984,\"erro\")","v":0},{"$f":"IFERROR(IF(Gerar_Upload!G984<44,REPT(0,44-LEN(Gerar_Upload!G984))&Gerar_Upload!G984,Gerar_Upload!G984),\"erro\")","v":"00000000000000000000000000000000000000000000"}]
[{"$f":"IFERROR(LEFT(Gerar_Upload!A985,120),\"erro\")","v":""},{"$f":"IFERROR(SUBSTITUTE(SUBSTITUTE(SUBSTITUTE(Gerar_Upload!B985,\".\",\"\"),\"-\",\"\"),\"/\",\"\"),\"erro\")","v":""},{"$f":"IFERROR(Gerar_Upload!C985,\"erro\")","v":0},{"$f":"IFERROR(Gerar_Upload!D985,\"erro\")","v":0},{"$f":"IFERROR(DATE(YEAR(Gerar_Upload!E985),MONTH(Gerar_Upload!E985),DAY(Gerar_Upload!E985)),\"erro\")","v":"00:00:00"},{"$f":"IFERROR(Gerar_Upload!F985,\"erro\")","v":0},{"$f":"IFERROR(IF(Gerar_Upload!G985<44,REPT(0,44-LEN(Gerar_Upload!G985))&Gerar_Upload!G985,Gerar_Upload!G985),\"erro\")","v":"00000000000000000000000000000000000000000000"}]
[{"$f":"IFERROR(LEFT(Gerar_Upload!A986,120),\"erro\")","v":""},{"$f":"IFERROR(SUBSTITUTE(SUBSTITUTE(SUBSTITUTE(Gerar_Upload!B986,\".\",\"\"),\"-\",\"\"),\"/\",\"\"),\"erro\")","v":""},{"$f":"IFERROR(Gerar_Upload!C986,\"erro\")","v":0},{"$f":"IFERROR(Gerar_Upload!D986,\"erro\")","v":0},{"$f":"IFERROR(DATE(YEAR(Gerar_Upload!E986),MONTH(Gerar_Upload!E986),DAY(Gerar_Upload!E986)),\"erro\")","v":"00:00:00"},{"$f":"IFERROR(Gerar_Upload!F986,\"erro\")","v":0},{"$f":"IFERROR(IF(Gerar_Upload!G986<44,REPT(0,44-LEN(Gerar_Upload!G986))&Gerar_Upload!G986,Gerar_Upload!G986),\"erro\")","v":"00000000000000000000000000000000000000000000"}]
[{"$f":"IFERROR(LEFT(Gerar_Upload!A987,120),\"erro\")","v":""},{"$f":"IFERROR(SUBSTITUTE(SUBSTITUTE(SUBSTITUTE(Gerar_Upload!B987,\".\",\"\"),\"-\",\"\"),\"/\",\"\"),\"erro\")","v":""},{"$f":"IFERROR(Gerar_Upload!C987,\"erro\")","v":0},{"$f":"IFERROR(Gerar_Upload!D987,\"erro\")","v":0},{"$f":"IFERROR(DATE(YEAR(Gerar_Upload!E987),MONTH(Gerar_Upload!E987),DAY(Gerar_Upload!E987)),\"erro\")","v":"00:00:00"},{"$f":"IFERROR(Gerar_Upload!F987,\"erro\")","v":0},{"$f":"IFERROR(IF(Gerar_Upload!G987<44,REPT(0,44-LEN(Gerar_Upload!G987))&Gerar_Upload!G987,Gerar_Upload!G987),\"erro\")","v":"00000000000000000000000000000000000000000000"}]
[{"$f":"IFERROR(LEFT(Gerar_Upload!A988,120),\"erro\")","v":""},{"$f":"IFERROR(SUBSTITUTE(SUBSTITUTE(SUBSTITUTE(Gerar_Upload!B988,\".\",\"\"),\"-\",\"\"),\"/\",\"\"),\"erro\")","v":""},{"$f":"IFERROR(Gerar_Upload!C988,\"erro\")","v":0},{"$f":"IFERROR(Gerar_Upload!D988,\"erro\")","v":0},{"$f":"IFERROR(DATE(YEAR(Gerar_Upload!E988),MONTH(Gerar_Upload!E988),DAY(Gerar_Upload!E988)),\"erro\")","v":"00:00:00"},{"$f":"IFERROR(Gerar_Upload!F988,\"erro\")","v":0},{"$f":"IFERROR(IF(Gerar_Upload!G988<44,REPT(0,44-LEN(Gerar_Upload!G988))&Gerar_Upload!G988,Gerar_Upload!G988),\"erro\")","v":"00000000000000000000000000000000000000000000"}]
[{"$f":"IFERROR(LEFT(Gerar_Upload!A989,120),\"erro\")","v":""},{"$f":"IFERROR(SUBSTITUTE(SUBSTITUTE(SUBSTITUTE(Gerar_Upload!B989,\".\",\"\"),\"-\",\"\"),\"/\",\"\"),\"erro\")","v":""},{"$f":"IFERROR(Gerar_Upload!C989,\"erro\")","v":0},{"$f":"IFERROR(Gerar_Upload!D989,\"erro\")","v":0},{"$f":"IFERROR(DATE(YEAR(Gerar_Upload!E989),MONTH(Gerar_Upload!E989),DAY(Gerar_Upload!E989)),\"erro\")","v":"00:00:00"},{"$f":"IFERROR(Gerar_Upload!F989,\"erro\")","v":0},{"$f":"IFERROR(IF(Gerar_Upload!G989<44,REPT(0,44-LEN(Gerar_Upload!G989))&Gerar_Upload!G989,Gerar_Upload!G989),\"erro\")","v":"00000000000000000000000000000000000000000000"}]
[{"$f":"IFERROR(LEFT(Gerar_Upload!A990,120),\"erro\")","v":""},{"$f":"IFERROR(SUBSTITUTE(SUBSTITUTE(SUBSTITUTE(Gerar_Upload!B990,\".\",\"\"),\"-\",\"\"),\"/\",\"\"),\"erro\")","v":""},{"$f":"IFERROR(Gerar_Upload!C990,\"erro\")","v":0},{"$f":"IFERROR(Gerar_Upload!D990,\"erro\")","v":0},{"$f":"IFERROR(DATE(YEAR(Gerar_Upload!E990),MONTH(Gerar_Upload!E990),DAY(Gerar_Upload!E990)),\"erro\")","v":"00:00:00"},{"$f":"IFERROR(Gerar_Upload!F990,\"erro\")","v":0},{"$f":"IFERROR(IF(Gerar_Upload!G990<44,REPT(0,44-LEN(Gerar_Upload!G990))&Gerar_Upload!G990,Gerar_Upload!G990),\"erro\")","v":"00000000000000000000000000000000000000000000"}]
[{"$f":"IFERROR(LEFT(Gerar_Upload!A991,120),\"erro\")","v":""},{"$f":"IFERROR(SUBSTITUTE(SUBSTITUTE(SUBSTITUTE(Gerar_Upload!B991,\".\",\"\"),\"-\",\"\"),\"/\",\"\"),\"erro\")","v":""},{"$f":"IFERROR(Gerar_Upload!C991,\"erro\")","v":0},{"$f":"IFERROR(Gerar_Upload!D991,\"erro\")","v":0},{"$f":"IFERROR(DATE(YEAR(Gerar_Upload!E991),MONTH(Gerar_Upload!E991),DAY(Gerar_Upload!E991)),\"erro\")","v":"00:00:00"},{"$f":"IFERROR(Gerar_Upload!F991,\"erro\")","v":0},{"$f":"IFERROR(IF(Gerar_Upload!G991<44,REPT(0,44-LEN(Gerar_Upload!G991))&Gerar_Upload!G991,Gerar_Upload!G991),\"erro\")","v":"00000000000000000000000000000000000000000000"}]
[{"$f":"IFERROR(LEFT(Gerar_Upload!A992,120),\"erro\")","v":""},{"$f":"IFERROR(SUBSTITUTE(SUBSTITUTE(SUBSTITUTE(Gerar_Upload!B992,\".\",\"\"),\"-\",\"\"),\"/\",\"\"),\"erro\")","v":""},{"$f":"IFERROR(Gerar_Upload!C992,\"erro\")","v":0},{"$f":"IFERROR(Gerar_Upload!D992,\"erro\")","v":0},{"$f":"IFERROR(DATE(YEAR(Gerar_Upload!E992),MONTH(Gerar_Upload!E992),DAY(Gerar_Upload!E992)),\"erro\")","v":"00:00:00"},{"$f":"IFERROR(Gerar_Upload!F992,\"erro\")","v":0},{"$f":"IFERROR(IF(Gerar_Upload!G992<44,REPT(0,44-LEN(Gerar_Upload!G992))&Gerar_Upload!G992,Gerar_Upload!G992),\"erro\")","v":"00000000000000000000000000000000000000000000"}]
[{"$f":"IFERROR(LEFT(Gerar_Upload!A993,120),\"erro\")","v":""},{"$f":"IFERROR(SUBSTITUTE(SUBSTITUTE(SUBSTITUTE(Gerar_Upload!B993,\".\",\"\"),\"-\",\"\"),\"/\",\"\"),\"erro\")","v":""},{"$f":"IFERROR(Gerar_Upload!C993,\"erro\")","v":0},{"$f":"IFERROR(Gerar_Upload!D993,\"erro\")","v":0},{"$f":"IFERROR(DATE(YEAR(Gerar_Upload!E993),MONTH(Gerar_Upload!E993),DAY(Gerar_Upload!E993)),\"erro\")","v":"00:00:00"},{"$f":"IFERROR(Gerar_Upload!F993,\"erro\")","v":0},{"$f":"IFERROR(IF(Gerar_Upload!G993<44,REPT(0,44-LEN(Gerar_Upload!G993))&Gerar_Upload!G993,Gerar_Upload!G993),\"erro\")","v":"00000000000000000000000000000000000000000000"}]
[{"$f":"IFERROR(LEFT(Gerar_Upload!A994,120),\"erro\")","v":""},{"$f":"IFERROR(SUBSTITUTE(SUBSTITUTE(SUBSTITUTE(Gerar_Upload!B994,\".\",\"\"),\"-\",\"\"),\"/\",\"\"),\"erro\")","v":""},{"$f":"IFERROR(Gerar_Upload!C994,\"erro\")","v":0},{"$f":"IFERROR(Gerar_Upload!D994,\"erro\")","v":0},{"$f":"IFERROR(DATE(YEAR(Gerar_Upload!E994),MONTH(Gerar_Upload!E994),DAY(Gerar_Upload!E994)),\"erro\")","v":"00:00:00"},{"$f":"IFERROR(Gerar_Upload!F994,\"erro\")","v":0},{"$f":"IFERROR(IF(Gerar_Upload!G994<44,REPT(0,44-LEN(Gerar_Upload!G994))&Gerar_Upload!G994,Gerar_Upload!G994),\"erro\")","v":"00000000000000000000000000000000000000000000"}]
[{"$f":"IFERROR(LEFT(Gerar_Upload!A995,120),\"erro\")","v":""},{"$f":"IFERROR(SUBSTITUTE(SUBSTITUTE(SUBSTITUTE(Gerar_Upload!B995,\".\",\"\"),\"-\",\"\"),\"/\",\"\"),\"erro\")","v":""},{"$f":"IFERROR(Gerar_Upload!C995,\"erro\")","v":0},{"$f":"IFERROR(Gerar_Upload!D995,\"erro\")","v":0},{"$f":"IFERROR(DATE(YEAR(Gerar_Upload!E995),MONTH(Gerar_Upload!E995),DAY(Gerar_Upload!E995)),\"erro\")","v":"00:00:00"},{"$f":"IFERROR(Gerar_Upload!F995,\"erro\")","v":0},{"$f":"IFERROR(IF(Gerar_Upload!G995<44,REPT(0,44-LEN(Gerar_Upload!G995))&Gerar_Upload!G995,Gerar_Upload!G995),\"erro\")","v":"00000000000000000000000000000000000000000000"}]
[{"$f":"IFERROR(LEFT(Gerar_Upload!A996,120),\"erro\")","v":""},{"$f":"IFERROR(SUBSTITUTE(SUBSTITUTE(SUBSTITUTE(Gerar_Upload!B996,\".\",\"\"),\"-\",\"\"),\"/\",\"\"),\"erro\")","v":""},{"$f":"IFERROR(Gerar_Upload!C996,\"erro\")","v":0},{"$f":"IFERROR(Gerar_Upload!D996,\"erro\")","v":0},{"$f":"IFERROR(DATE(YEAR(Gerar_Upload!E996),MONTH(Gerar_Upload!E996),DAY(Gerar_Upload!E996)),\"erro\")","v":"00:00:00"},{"$f":"IFERROR(Gerar_Upload!F996,\"erro\")","v":0},{"$f":"IFERROR(IF(Gerar_Upload!G996<44,REPT(0,44-LEN(Gerar_Upload!G996))&Gerar_Upload!G996,Gerar_Upload!G996),\"erro\")","v":"00000000000000000000000000000000000000000000"}]
[{"$f":"IFERROR(LEFT(Gerar_Upload!A997,120),\"erro\")","v":""},{"$f":"IFERROR(SUBSTITUTE(SUBSTITUTE(SUBSTITUTE(Gerar_Upload!B997,\".\",\"\"),\"-\",\"\"),\"/\",\"\"),\"erro\")","v":""},{"$f":"IFERROR(Gerar_Upload!C997,\"erro\")","v":0},{"$f":"IFERROR(Gerar_Upload!D997,\"erro\")","v":0},{"$f":"IFERROR(DATE(YEAR(Gerar_Upload!E997),MONTH(Gerar_Upload!E997),DAY(Gerar_Upload!E997)),\"erro\")","v":"00:00:00"},{"$f":"IFERROR(Gerar_Upload!F997,\"erro\")","v":0},{"$f":"IFERROR(IF(Gerar_Upload!G997<44,REPT(0,44-LEN(Gerar_Upload!G997))&Gerar_Upload!G997,Gerar_Upload!G997),\"erro\")","v":"00000000000000000000000000000000000000000000"}]
[{"$f":"IFERROR(LEFT(Gerar_Upload!A998,120),\"erro\")","v":""},{"$f":"IFERROR(SUBSTITUTE(SUBSTITUTE(SUBSTITUTE(Gerar_Upload!B998,\".\",\"\"),\"-\",\"\"),\"/\",\"\"),\"erro\")","v":""},{"$f":"IFERROR(Gerar_Upload!C998,\"erro\")","v":0},{"$f":"IFERROR(Gerar_Upload!D998,\"erro\")","v":0},{"$f":"IFERROR(DATE(YEAR(Gerar_Upload!E998),MONTH(Gerar_Upload!E998),DAY(Gerar_Upload!E998)),\"erro\")","v":"00:00:00"},{"$f":"IFERROR(Gerar_Upload!F998,\"erro\")","v":0},{"$f":"IFERROR(IF(Gerar_Upload!G998<44,REPT(0,44-LEN(Gerar_Upload!G998))&Gerar_Upload!G998,Gerar_Upload!G998),\"erro\")","v":"00000000000000000000000000000000000000000000"}]
[{"$f":"IFERROR(LEFT(Gerar_Upload!A999,120),\"erro\")","v":""},{"$f":"IFERROR(SUBSTITUTE(SUBSTITUTE(SUBSTITUTE(Gerar_Upload!B999,\".\",\"\"),\"-\",\"\"),\"/\",\"\"),\"erro\")","v":""},{"$f":"IFERROR(Gerar_Upload!C999,\"erro\")","v":0},{"$f":"IFERROR(Gerar_Upload!D999,\"erro\")","v":0},{"$f":"IFERROR(DATE(YEAR(Gerar_Upload!E999),MONTH(Gerar_Upload!E999),DAY(Gerar_Upload!E999)),\"erro\")","v":"00:00:00"},{"$f":"IFERROR(Gerar_Upload!F999,\"erro\")","v":0},{"$f":"IFERROR(IF(Gerar_Upload!G999<44,REPT(0,44-LEN(Gerar_Upload!G999))&Gerar_Upload!G999,Gerar_Upload!G999),\"erro\")","v":"00000000000000000000000000000000000000000000"}]
[{"$f":"IFERROR(LEFT(Gerar_Upload!A1000,120),\"erro\")","v":""},{"$f":"IFERROR(SUBSTITUTE(SUBSTITUTE(SUBSTITUTE(Gerar_Upload!B1000,\".\",\"\"),\"-\",\"\"),\"/\",\"\"),\"erro\")","v":""},{"$f":"IFERROR(Gerar_Upload!C1000,\"erro\")","v":0},{"$f":"IFERROR(Gerar_Upload!D1000,\"erro\")","v":0},{"$f":"IFERROR(DATE(YEAR(Gerar_Upload!E1000),MONTH(Gerar_Upload!E1000),DAY(Gerar_Upload!E1000)),\"erro\")","v":"00:00:00"},{"$f":"IFERROR(Gerar_Upload!F1000,\"erro\")","v":0},{"$f":"IFERROR(IF(Gerar_Upload!G1000<44,REPT(0,44-LEN(Gerar_Upload!G1000))&Gerar_Upload!G1000,Gerar_Upload!G1000),\"erro\")","v":"00000000000000000000000000000000000000000000"}]
[{"$f":"IFERROR(LEFT(Gerar_Upload!A1001,120),\"erro\")","v":""},{"$f":"IFERROR(SUBSTITUTE(SUBSTITUTE(SUBSTITUTE(Gerar_Upload!B1001,\".\",\"\"),\"-\",\"\"),\"/\",\"\"),\"erro\")","v":""},{"$f":"IFERROR(Gerar_Upload!C1001,\"erro\")","v":0},{"$f":"IFERROR(Gerar_Upload!D1001,\"erro\")","v":0},{"$f":"IFERROR(DATE(YEAR(Gerar_Upload!E1001),MONTH(Gerar_Upload!E1001),DAY(Gerar_Upload!E1001)),\"erro\")","v":"00:00:00"},{"$f":"IFERROR(Gerar_Upload!F1001,\"erro\")","v":0},{"$f":"IFERROR(IF(Gerar_Upload!G1001<44,REPT(0,44-LEN(Gerar_Upload!G1001))&Gerar_Upload!G1001,Gerar_Upload!G1001),\"erro\")","v":"00000000000000000000000000000000000000000000"}]
[{"$f":"IFERROR(LEFT(Gerar_Upload!A1002,120),\"erro\")","v":""},{"$f":"IFERROR(SUBSTITUTE(SUBSTITUTE(SUBSTITUTE(Gerar_Upload!B1002,\".\",\"\"),\"-\",\"\"),\"/\",\"\"),\"erro\")","v":""},{"$f":"IFERROR(Gerar_Upload!C1002,\"erro\")","v":0},{"$f":"IFERROR(Gerar_Upload!D1002,\"erro\")","v":0},{"$f":"IFERROR(DATE(YEAR(Gerar_Upload!E1002),MONTH(Gerar_Upload!E1002),DAY(Gerar_Upload!E1002)),\"erro\")","v":"00:00:00"},{"$f":"IFERROR(Gerar_Upload!F1002,\"erro\")","v":0},{"$f":"IFERROR(IF(Gerar_Upload!G1002<44,REPT(0,44-LEN(Gerar_Upload!G1002))&Gerar_Upload!G1002,Gerar_Upload!G1002),\"erro\")","v":"00000000000000000000000000000000000000000000"}]
[{"$f":"IFERROR(LEFT(Gerar_Upload!A1003,120),\"erro\")","v":""},{"$f":"IFERROR(SUBSTITUTE(SUBSTITUTE(SUBSTITUTE(Gerar_Upload!B1003,\".\",\"\"),\"-\",\"\"),\"/\",\"\"),\"erro\")","v":""},{"$f":"IFERROR(Gerar_Upload!C1003,\"erro\")","v":0},{"$f":"IFERROR(Gerar_Upload!D1003,\"erro\")","v":0},{"$f":"IFERROR(DATE(YEAR(Gerar_Upload!E1003),MONTH(Gerar_Upload!E1003),DAY(Gerar_Upload!E1003)),\"erro\")","v":"00:00:00"},{"$f":"IFERROR(Gerar_Upload!F1003,\"erro\")","v":0},{"$f":"IFERROR(IF(Gerar_Upload!G1003<44,REPT(0,44-LEN(Gerar_Upload!G1003))&Gerar_Upload!G1003,Gerar_Upload!G1003),\"erro\")","v":"00000000000000000000000000000000000000000000"}]
[{"$f":"IFERROR(LEFT(Gerar_Upload!A1004,120),\"erro\")","v":""},{"$f":"IFERROR(SUBSTITUTE(SUBSTITUTE(SUBSTITUTE(Gerar_Upload!B1004,\".\",\"\"),\"-\",\"\"),\"/\",\"\"),\"erro\")","v":""},{"$f":"IFERROR(Gerar_Upload!C1004,\"erro\")","v":0},{"$f":"IFERROR(Gerar_Upload!D1004,\"erro\")","v":0},{"$f":"IFERROR(DATE(YEAR(Gerar_Upload!E1004),MONTH(Gerar_Upload!E1004),DAY(Gerar_Upload!E1004)),\"erro\")","v":"00:00:00"},{"$f":"IFERROR(Gerar_Upload!F1004,\"erro\")","v":0},{"$f":"IFERROR(IF(Gerar_Upload!G1004<44,REPT(0,44-LEN(Gerar_Upload!G1004))&Gerar_Upload!G1004,Gerar_Upload!G1004),\"erro\")","v":"00000000000000000000000000000000000000000000"}]
[{"$f":"IFERROR(LEFT(Gerar_Upload!A1005,120),\"erro\")","v":""},{"$f":"IFERROR(SUBSTITUTE(SUBSTITUTE(SUBSTITUTE(Gerar_Upload!B1005,\".\",\"\"),\"-\",\"\"),\"/\",\"\"),\"erro\")","v":""},{"$f":"IFERROR(Gerar_Upload!C1005,\"erro\")","v":0},{"$f":"IFERROR(Gerar_Upload!D1005,\"erro\")","v":0},{"$f":"IFERROR(DATE(YEAR(Gerar_Upload!E1005),MONTH(Gerar_Upload!E1005),DAY(Gerar_Upload!E1005)),\"erro\")","v":"00:00:00"},{"$f":"IFERROR(Gerar_Upload!F1005,\"erro\")","v":0},{"$f":"IFERROR(IF(Gerar_Upload!G1005<44,REPT(0,44-LEN(Gerar_Upload!G1005))&Gerar_Upload!G1005,Gerar_Upload!G1005),\"erro\")","v":"00000000000000000000000000000000000000000000"}]
[{"$f":"IFERROR(LEFT(Gerar_Upload!A1006,120),\"erro\")","v":""},{"$f":"IFERROR(SUBSTITUTE(SUBSTITUTE(SUBSTITUTE(Gerar_Upload!B1006,\".\",\"\"),\"-\",\"\"),\"/\",\"\"),\"erro\")","v":""},{"$f":"IFERROR(Gerar_Upload!C1006,\"erro\")","v":0},{"$f":"IFERROR(Gerar_Upload!D1006,\"erro\")","v":0},{"$f":"IFERROR(DATE(YEAR(Gerar_Upload!E1006),MONTH(Gerar_Upload!E1006),DAY(Gerar_Upload!E1006)),\"erro\")","v":"00:00:00"},{"$f":"IFERROR(Gerar_Upload!F1006,\"erro\")","v":0},{"$f":"IFERROR(IF(Gerar_Upload!G1006<44,REPT(0,44-LEN(Gerar_Upload!G1006))&Gerar_Upload!G1006,Gerar_Upload!G1006),\"erro\")","v":"00000000000000000000000000000000000000000000"}]
[{"$f":"IFERROR(LEFT(Gerar_Upload!A1007,120),\"erro\")","v":""},{"$f":"IFERROR(SUBSTITUTE(SUBSTITUTE(SUBSTITUTE(Gerar_Upload!B1007,\".\",\"\"),\"-\",\"\"),\"/\",\"\"),\"erro\")","v":""},{"$f":"IFERROR(Gerar_Upload!C1007,\"erro\")","v":0},{"$f":"IFERROR(Gerar_Upload!D1007,\"erro\")","v":0},{"$f":"IFERROR(DATE(YEAR(Gerar_Upload!E1007),MONTH(Gerar_Upload!E1007),DAY(Gerar_Upload!E1007)),\"erro\")","v":"00:00:00"},{"$f":"IFERROR(Gerar_Upload!F1007,\"erro\")","v":0},{"$f":"IFERROR(IF(Gerar_Upload!G1007<44,REPT(0,44-LEN(Gerar_Upload!G1007))&Gerar_Upload!G1007,Gerar_Upload!G1007),\"erro\")","v":"00000000000000000000000000000000000000000000"}]
[{"$f":"IFERROR(LEFT(Gerar_Upload!A1008,120),\"erro\")","v":""},{"$f":"IFERROR(SUBSTITUTE(SUBSTITUTE(SUBSTITUTE(Gerar_Upload!B1008,\".\",\"\"),\"-\",\"\"),\"/\",\"\"),\"erro\")","v":""},{"$f":"IFERROR(Gerar_Upload!C1008,\"erro\")","v":0},{"$f":"IFERROR(Gerar_Upload!D1008,\"erro\")","v":0},{"$f":"IFERROR(DATE(YEAR(Gerar_Upload!E1008),MONTH(Gerar_Upload!E1008),DAY(Gerar_Upload!E1008)),\"erro\")","v":"00:00:00"},{"$f":"IFERROR(Gerar_Upload!F1008,\"erro\")","v":0},{"$f":"IFERROR(IF(Gerar_Upload!G1008<44,REPT(0,44-LEN(Gerar_Upload!G1008))&Gerar_Upload!G1008,Gerar_Upload!G1008),\"erro\")","v":"00000000000000000000000000000000000000000000"}]
[{"$f":"IFERROR(LEFT(Gerar_Upload!A1009,120),\"erro\")","v":""},{"$f":"IFERROR(SUBSTITUTE(SUBSTITUTE(SUBSTITUTE(Gerar_Upload!B1009,\".\",\"\"),\"-\",\"\"),\"/\",\"\"),\"erro\")","v":""},{"$f":"IFERROR(Gerar_Upload!C1009,\"erro\")","v":0},{"$f":"IFERROR(Gerar_Upload!D1009,\"erro\")","v":0},{"$f":"IFERROR(DATE(YEAR(Gerar_Upload!E1009),MONTH(Gerar_Upload!E1009),DAY(Gerar_Upload!E1009)),\"erro\")","v":"00:00:00"},{"$f":"IFERROR(Gerar_Upload!F1009,\"erro\")","v":0},{"$f":"IFERROR(IF(Gerar_Upload!G1009<44,REPT(0,44-LEN(Gerar_Upload!G1009))&Gerar_Upload!G1009,Gerar_Upload!G1009),\"erro\")","v":"00000000000000000000000000000000000000000000"}]
[{"$f":"IFERROR(LEFT(Gerar_Upload!A1010,120),\"erro\")","v":""},{"$f":"IFERROR(SUBSTITUTE(SUBSTITUTE(SUBSTITUTE(Gerar_Upload!B1010,\".\",\"\"),\"-\",\"\"),\"/\",\"\"),\"erro\")","v":""},{"$f":"IFERROR(Gerar_Upload!C1010,\"erro\")","v":0},{"$f":"IFERROR(Gerar_Upload!D1010,\"erro\")","v":0},{"$f":"IFERROR(DATE(YEAR(Gerar_Upload!E1010),MONTH(Gerar_Upload!E1010),DAY(Gerar_Upload!E1010)),\"erro\")","v":"00:00:00"},{"$f":"IFERROR(Gerar_Upload!F1010,\"erro\")","v":0},{"$f":"IFERROR(IF(Gerar_Upload!G1010<44,REPT(0,44-LEN(Gerar_Upload!G1010))&Gerar_Upload!G1010,Gerar_Upload!G1010),\"erro\")","v":"00000000000000000000000000000000000000000000"}]
[{"$f":"IFERROR(LEFT(Gerar_Upload!A1011,120),\"erro\")","v":""},{"$f":"IFERROR(SUBSTITUTE(SUBSTITUTE(SUBSTITUTE(Gerar_Upload!B1011,\".\",\"\"),\"-\",\"\"),\"/\",\"\"),\"erro\")","v":""},{"$f":"IFERROR(Gerar_Upload!C1011,\"erro\")","v":0},{"$f":"IFERROR(Gerar_Upload!D1011,\"erro\")","v":0},{"$f":"IFERROR(DATE(YEAR(Gerar_Upload!E1011),MONTH(Gerar_Upload!E1011),DAY(Gerar_Upload!E1011)),\"erro\")","v":"00:00:00"},{"$f":"IFERROR(Gerar_Upload!F1011,\"erro\")","v":0},{"$f":"IFERROR(IF(Gerar_Upload!G1011<44,REPT(0,44-LEN(Gerar_Upload!G1011))&Gerar_Upload!G1011,Gerar_Upload!G1011),\"erro\")","v":"00000000000000000000000000000000000000000000"}]
[{"$f":"IFERROR(LEFT(Gerar_Upload!A1012,120),\"erro\")","v":""},{"$f":"IFERROR(SUBSTITUTE(SUBSTITUTE(SUBSTITUTE(Gerar_Upload!B1012,\".\",\"\"),\"-\",\"\"),\"/\",\"\"),\"erro\")","v":""},{"$f":"IFERROR(Gerar_Upload!C1012,\"erro\")","v":0},{"$f":"IFERROR(Gerar_Upload!D1012,\"erro\")","v":0},{"$f":"IFERROR(DATE(YEAR(Gerar_Upload!E1012),MONTH(Gerar_Upload!E1012),DAY(Gerar_Upload!E1012)),\"erro\")","v":"00:00:00"},{"$f":"IFERROR(Gerar_Upload!F1012,\"erro\")","v":0},{"$f":"IFERROR(IF(Gerar_Upload!G1012<44,REPT(0,44-LEN(Gerar_Upload!G1012))&Gerar_Upload!G1012,Gerar_Upload!G1012),\"erro\")","v":"00000000000000000000000000000000000000000000"}]
[{"$f":"IFERROR(LEFT(Gerar_Upload!A1013,120),\"erro\")","v":""},{"$f":"IFERROR(SUBSTITUTE(SUBSTITUTE(SUBSTITUTE(Gerar_Upload!B1013,\".\",\"\"),\"-\",\"\"),\"/\",\"\"),\"erro\")","v":""},{"$f":"IFERROR(Gerar_Upload!C1013,\"erro\")","v":0},{"$f":"IFERROR(Gerar_Upload!D1013,\"erro\")","v":0},{"$f":"IFERROR(DATE(YEAR(Gerar_Upload!E1013),MONTH(Gerar_Upload!E1013),DAY(Gerar_Upload!E1013)),\"erro\")","v":"00:00:00"},{"$f":"IFERROR(Gerar_Upload!F1013,\"erro\")","v":0},{"$f":"IFERROR(IF(Gerar_Upload!G1013<44,REPT(0,44-LEN(Gerar_Upload!G1013))&Gerar_Upload!G1013,Gerar_Upload!G1013),\"erro\")","v":"00000000000000000000000000000000000000000000"}]
[{"$f":"IFERROR(LEFT(Gerar_Upload!A1014,120),\"erro\")","v":""},{"$f":"IFERROR(SUBSTITUTE(SUBSTITUTE(SUBSTITUTE(Gerar_Upload!B1014,\".\",\"\"),\"-\",\"\"),\"/\",\"\"),\"erro\")","v":""},{"$f":"IFERROR(Gerar_Upload!C1014,\"erro\")","v":0},{"$f":"IFERROR(Gerar_Upload!D1014,\"erro\")","v":0},{"$f":"IFERROR(DATE(YEAR(Gerar_Upload!E1014),MONTH(Gerar_Upload!E1014),DAY(Gerar_Upload!E1014)),\"erro\")","v":"00:00:00"},{"$f":"IFERROR(Gerar_Upload!F1014,\"erro\")","v":0},{"$f":"IFERROR(IF(Gerar_Upload!G1014<44,REPT(0,44-LEN(Gerar_Upload!G1014))&Gerar_Upload!G1014,Gerar_Upload!G1014),\"erro\")","v":"00000000000000000000000000000000000000000000"}]
[{"$f":"IFERROR(LEFT(Gerar_Upload!A1015,120),\"erro\")","v":""},{"$f":"IFERROR(SUBSTITUTE(SUBSTITUTE(SUBSTITUTE(Gerar_Upload!B1015,\".\",\"\"),\"-\",\"\"),\"/\",\"\"),\"erro\")","v":""},{"$f":"IFERROR(Gerar_Upload!C1015,\"erro\")","v":0},{"$f":"IFERROR(Gerar_Upload!D1015,\"erro\")","v":0},{"$f":"IFERROR(DATE(YEAR(Gerar_Upload!E1015),MONTH(Gerar_Upload!E1015),DAY(Gerar_Upload!E1015)),\"erro\")","v":"00:00:00"},{"$f":"IFERROR(Gerar_Upload!F1015,\"erro\")","v":0},{"$f":"IFERROR(IF(Gerar_Upload!G1015<44,REPT(0,44-LEN(Gerar_Upload!G1015))&Gerar_Upload!G1015,Gerar_Upload!G1015),\"erro\")","v":"00000000000000000000000000000000000000000000"}]
[{"$f":"IFERROR(LEFT(Gerar_Upload!A1016,120),\"erro\")","v":""},{"$f":"IFERROR(SUBSTITUTE(SUBSTITUTE(SUBSTITUTE(Gerar_Upload!B1016,\".\",\"\"),\"-\",\"\"),\"/\",\"\"),\"erro\")","v":""},{"$f":"IFERROR(Gerar_Upload!C1016,\"erro\")","v":0},{"$f":"IFERROR(Gerar_Upload!D1016,\"erro\")","v":0},{"$f":"IFERROR(DATE(YEAR(Gerar_Upload!E1016),MONTH(Gerar_Upload!E1016),DAY(Gerar_Upload!E1016)),\"erro\")","v":"00:00:00"},{"$f":"IFERROR(Gerar_Upload!F1016,\"erro\")","v":0},{"$f":"IFERROR(IF(Gerar_Upload!G1016<44,REPT(0,44-LEN(Gerar_Upload!G1016))&Gerar_Upload!G1016,Gerar_Upload!G1016),\"erro\")","v":"00000000000000000000000000000000000000000000"}]
[{"$f":"IFERROR(LEFT(Gerar_Upload!A1017,120),\"erro\")","v":""},{"$f":"IFERROR(SUBSTITUTE(SUBSTITUTE(SUBSTITUTE(Gerar_Upload!B1017,\".\",\"\"),\"-\",\"\"),\"/\",\"\"),\"erro\")","v":""},{"$f":"IFERROR(Gerar_Upload!C1017,\"erro\")","v":0},{"$f":"IFERROR(Gerar_Upload!D1017,\"erro\")","v":0},{"$f":"IFERROR(DATE(YEAR(Gerar_Upload!E1017),MONTH(Gerar_Upload!E1017),DAY(Gerar_Upload!E1017)),\"erro\")","v":"00:00:00"},{"$f":"IFERROR(Gerar_Upload!F1017,\"erro\")","v":0},{"$f":"IFERROR(IF(Gerar_Upload!G1017<44,REPT(0,44-LEN(Gerar_Upload!G1017))&Gerar_Upload!G1017,Gerar_Upload!G1017),\"erro\")","v":"00000000000000000000000000000000000000000000"}]
[{"$f":"IFERROR(LEFT(Gerar_Upload!A1018,120),\"erro\")","v":""},{"$f":"IFERROR(SUBSTITUTE(SUBSTITUTE(SUBSTITUTE(Gerar_Upload!B1018,\".\",\"\"),\"-\",\"\"),\"/\",\"\"),\"erro\")","v":""},{"$f":"IFERROR(Gerar_Upload!C1018,\"erro\")","v":0},{"$f":"IFERROR(Gerar_Upload!D1018,\"erro\")","v":0},{"$f":"IFERROR(DATE(YEAR(Gerar_Upload!E1018),MONTH(Gerar_Upload!E1018),DAY(Gerar_Upload!E1018)),\"erro\")","v":"00:00:00"},{"$f":"IFERROR(Gerar_Upload!F1018,\"erro\")","v":0},{"$f":"IFERROR(IF(Gerar_Upload!G1018<44,REPT(0,44-LEN(Gerar_Upload!G1018))&Gerar_Upload!G1018,Gerar_Upload!G1018),\"erro\")","v":"00000000000000000000000000000000000000000000"}]
[{"$f":"IFERROR(LEFT(Gerar_Upload!A1019,120),\"erro\")","v":""},{"$f":"IFERROR(SUBSTITUTE(SUBSTITUTE(SUBSTITUTE(Gerar_Upload!B1019,\".\",\"\"),\"-\",\"\"),\"/\",\"\"),\"erro\")","v":""},{"$f":"IFERROR(Gerar_Upload!C1019,\"erro\")","v":0},{"$f":"IFERROR(Gerar_Upload!D1019,\"erro\")","v":0},{"$f":"IFERROR(DATE(YEAR(Gerar_Upload!E1019),MONTH(Gerar_Upload!E1019),DAY(Gerar_Upload!E1019)),\"erro\")","v":"00:00:00"},{"$f":"IFERROR(Gerar_Upload!F1019,\"erro\")","v":0},{"$f":"IFERROR(IF(Gerar_Upload!G1019<44,REPT(0,44-LEN(Gerar_Upload!G1019))&Gerar_Upload!G1019,Gerar_Upload!G1019),\"erro\")","v":"00000000000000000000000000000000000000000000"}]
[{"$f":"IFERROR(LEFT(Gerar_Upload!A1020,120),\"erro\")","v":""},{"$f":"IFERROR(SUBSTITUTE(SUBSTITUTE(SUBSTITUTE(Gerar_Upload!B1020,\".\",\"\"),\"-\",\"\"),\"/\",\"\"),\"erro\")","v":""},{"$f":"IFERROR(Gerar_Upload!C1020,\"erro\")","v":0},{"$f":"IFERROR(Gerar_Upload!D1020,\"erro\")","v":0},{"$f":"IFERROR(DATE(YEAR(Gerar_Upload!E1020),MONTH(Gerar_Upload!E1020),DAY(Gerar_Upload!E1020)),\"erro\")","v":"00:00:00"},{"$f":"IFERROR(Gerar_Upload!F1020,\"erro\")","v":0},{"$f":"IFERROR(IF(Gerar_Upload!G1020<44,REPT(0,44-LEN(Gerar_Upload!G1020))&Gerar_Upload!G1020,Gerar_Upload!G1020),\"erro\")","v":"00000000000000000000000000000000000000000000"}]
[{"$f":"IFERROR(LEFT(Gerar_Upload!A1021,120),\"erro\")","v":""},{"$f":"IFERROR(SUBSTITUTE(SUBSTITUTE(SUBSTITUTE(Gerar_Upload!B1021,\".\",\"\"),\"-\",\"\"),\"/\",\"\"),\"erro\")","v":""},{"$f":"IFERROR(Gerar_Upload!C1021,\"erro\")","v":0},{"$f":"IFERROR(Gerar_Upload!D1021,\"erro\")","v":0},{"$f":"IFERROR(DATE(YEAR(Gerar_Upload!E1021),MONTH(Gerar_Upload!E1021),DAY(Gerar_Upload!E1021)),\"erro\")","v":"00:00:00"},{"$f":"IFERROR(Gerar_Upload!F1021,\"erro\")","v":0},{"$f":"IFERROR(IF(Gerar_Upload!G1021<44,REPT(0,44-LEN(Gerar_Upload!G1021))&Gerar_Upload!G1021,Gerar_Upload!G1021),\"erro\")","v":"00000000000000000000000000000000000000000000"}]
[{"$f":"IFERROR(LEFT(Gerar_Upload!A1022,120),\"erro\")","v":""},{"$f":"IFERROR(SUBSTITUTE(SUBSTITUTE(SUBSTITUTE(Gerar_Upload!B1022,\".\",\"\"),\"-\",\"\"),\"/\",\"\"),\"erro\")","v":""},{"$f":"IFERROR(Gerar_Upload!C1022,\"erro\")","v":0},{"$f":"IFERROR(Gerar_Upload!D1022,\"erro\")","v":0},{"$f":"IFERROR(DATE(YEAR(Gerar_Upload!E1022),MONTH(Gerar_Upload!E1022),DAY(Gerar_Upload!E1022)),\"erro\")","v":"00:00:00"},{"$f":"IFERROR(Gerar_Upload!F1022,\"erro\")","v":0},{"$f":"IFERROR(IF(Gerar_Upload!G1022<44,REPT(0,44-LEN(Gerar_Upload!G1022))&Gerar_Upload!G1022,Gerar_Upload!G1022),\"erro\")","v":"00000000000000000000000000000000000000000000"}]
[{"$f":"IFERROR(LEFT(Gerar_Upload!A1023,120),\"erro\")","v":""},{"$f":"IFERROR(SUBSTITUTE(SUBSTITUTE(SUBSTITUTE(Gerar_Upload!B1023,\".\",\"\"),\"-\",\"\"),\"/\",\"\"),\"erro\")","v":""},{"$f":"IFERROR(Gerar_Upload!C1023,\"erro\")","v":0},{"$f":"IFERROR(Gerar_Upload!D1023,\"erro\")","v":0},{"$f":"IFERROR(DATE(YEAR(Gerar_Upload!E1023),MONTH(Gerar_Upload!E1023),DAY(Gerar_Upload!E1023)),\"erro\")","v":"00:00:00"},{"$f":"IFERROR(Gerar_Upload!F1023,\"erro\")","v":0},{"$f":"IFERROR(IF(Gerar_Upload!G1023<44,REPT(0,44-LEN(Gerar_Upload!G1023))&Gerar_Upload!G1023,Gerar_Upload!G1023),\"erro\")","v":"00000000000000000000000000000000000000000000"}]
[{"$f":"IFERROR(LEFT(Gerar_Upload!A1024,120),\"erro\")","v":""},{"$f":"IFERROR(SUBSTITUTE(SUBSTITUTE(SUBSTITUTE(Gerar_Upload!B1024,\".\",\"\"),\"-\",\"\"),\"/\",\"\"),\"erro\")","v":""},{"$f":"IFERROR(Gerar_Upload!C1024,\"erro\")","v":0},{"$f":"IFERROR(Gerar_Upload!D1024,\"erro\")","v":0},{"$f":"IFERROR(DATE(YEAR(Gerar_Upload!E1024),MONTH(Gerar_Upload!E1024),DAY(Gerar_Upload!E1024)),\"erro\")","v":"00:00:00"},{"$f":"IFERROR(Gerar_Upload!F1024,\"erro\")","v":0},{"$f":"IFERROR(IF(Gerar_Upload!G1024<44,REPT(0,44-LEN(Gerar_Upload!G1024))&Gerar_Upload!G1024,Gerar_Upload!G1024),\"erro\")","v":"00000000000000000000000000000000000000000000"}]
[{"$f":"IFERROR(LEFT(Gerar_Upload!A1025,120),\"erro\")","v":""},{"$f":"IFERROR(SUBSTITUTE(SUBSTITUTE(SUBSTITUTE(Gerar_Upload!B1025,\".\",\"\"),\"-\",\"\"),\"/\",\"\"),\"erro\")","v":""},{"$f":"IFERROR(Gerar_Upload!C1025,\"erro\")","v":0},{"$f":"IFERROR(Gerar_Upload!D1025,\"erro\")","v":0},{"$f":"IFERROR(DATE(YEAR(Gerar_Upload!E1025),MONTH(Gerar_Upload!E1025),DAY(Gerar_Upload!E1025)),\"erro\")","v":"00:00:00"},{"$f":"IFERROR(Gerar_Upload!F1025,\"erro\")","v":0},{"$f":"IFERROR(IF(Gerar_Upload!G1025<44,REPT(0,44-LEN(Gerar_Upload!G1025))&Gerar_Upload!G1025,Gerar_Upload!G1025),\"erro\")","v":"00000000000000000000000000000000000000000000"}]
[{"$f":"IFERROR(LEFT(Gerar_Upload!A1026,120),\"erro\")","v":""},{"$f":"IFERROR(SUBSTITUTE(SUBSTITUTE(SUBSTITUTE(Gerar_Upload!B1026,\".\",\"\"),\"-\",\"\"),\"/\",\"\"),\"erro\")","v":""},{"$f":"IFERROR(Gerar_Upload!C1026,\"erro\")","v":0},{"$f":"IFERROR(Gerar_Upload!D1026,\"erro\")","v":0},{"$f":"IFERROR(DATE(YEAR(Gerar_Upload!E1026),MONTH(Gerar_Upload!E1026),DAY(Gerar_Upload!E1026)),\"erro\")","v":"00:00:00"},{"$f":"IFERROR(Gerar_Upload!F1026,\"erro\")","v":0},{"$f":"IFERROR(IF(Gerar_Upload!G1026<44,REPT(0,44-LEN(Gerar_Upload!G1026))&Gerar_Upload!G1026,Gerar_Upload!G1026),\"erro\")","v":"00000000000000000000000000000000000000000000"}]
[{"$f":"IFERROR(LEFT(Gerar_Upload!A1027,120),\"erro\")","v":""},{"$f":"IFERROR(SUBSTITUTE(SUBSTITUTE(SUBSTITUTE(Gerar_Upload!B1027,\".\",\"\"),\"-\",\"\"),\"/\",\"\"),\"erro\")","v":""},{"$f":"IFERROR(Gerar_Upload!C1027,\"erro\")","v":0},{"$f":"IFERROR(Gerar_Upload!D1027,\"erro\")","v":0},{"$f":"IFERROR(DATE(YEAR(Gerar_Upload!E1027),MONTH(Gerar_Upload!E1027),DAY(Gerar_Upload!E1027)),\"erro\")","v":"00:00:00"},{"$f":"IFERROR(Gerar_Upload!F1027,\"erro\")","v":0},{"$f":"IFERROR(IF(Gerar_Upload!G1027<44,REPT(0,44-LEN(Gerar_Upload!G1027))&Gerar_Upload!G1027,Gerar_Upload!G1027),\"erro\")","v":"00000000000000000000000000000000000000000000"}]
[{"$f":"IFERROR(LEFT(Gerar_Upload!A1028,120),\"erro\")","v":""},{"$f":"IFERROR(SUBSTITUTE(SUBSTITUTE(SUBSTITUTE(Gerar_Upload!B1028,\".\",\"\"),\"-\",\"\"),\"/\",\"\"),\"erro\")","v":""},{"$f":"IFERROR(Gerar_Upload!C1028,\"erro\")","v":0},{"$f":"IFERROR(Gerar_Upload!D1028,\"erro\")","v":0},{"$f":"IFERROR(DATE(YEAR(Gerar_Upload!E1028),MONTH(Gerar_Upload!E1028),DAY(Gerar_Upload!E1028)),\"erro\")","v":"00:00:00"},{"$f":"IFERROR(Gerar_Upload!F1028,\"erro\")","v":0},{"$f":"IFERROR(IF(Gerar_Upload!G1028<44,REPT(0,44-LEN(Gerar_Upload!G1028))&Gerar_Upload!G1028,Gerar_Upload!G1028),\"erro\")","v":"00000000000000000000000000000000000000000000"}]
[{"$f":"IFERROR(LEFT(Gerar_Upload!A1029,120),\"erro\")","v":""},{"$f":"IFERROR(SUBSTITUTE(SUBSTITUTE(SUBSTITUTE(Gerar_Upload!B1029,\".\",\"\"),\"-\",\"\"),\"/\",\"\"),\"erro\")","v":""},{"$f":"IFERROR(Gerar_Upload!C1029,\"erro\")","v":0},{"$f":"IFERROR(Gerar_Upload!D1029,\"erro\")","v":0},{"$f":"IFERROR(DATE(YEAR(Gerar_Upload!E1029),MONTH(Gerar_Upload!E1029),DAY(Gerar_Upload!E1029)),\"erro\")","v":"00:00:00"},{"$f":"IFERROR(Gerar_Upload!F1029,\"erro\")","v":0},{"$f":"IFERROR(IF(Gerar_Upload!G1029<44,REPT(0,44-LEN(Gerar_Upload!G1029))&Gerar_Upload!G1029,Gerar_Upload!G1029),\"erro\")","v":"00000000000000000000000000000000000000000000"}]
[{"$f":"IFERROR(LEFT(Gerar_Upload!A1030,120),\"erro\")","v":""},{"$f":"IFERROR(SUBSTITUTE(SUBSTITUTE(SUBSTITUTE(Gerar_Upload!B1030,\".\",\"\"),\"-\",\"\"),\"/\",\"\"),\"erro\")","v":""},{"$f":"IFERROR(Gerar_Upload!C1030,\"erro\")","v":0},{"$f":"IFERROR(Gerar_Upload!D1030,\"erro\")","v":0},{"$f":"IFERROR(DATE(YEAR(Gerar_Upload!E1030),MONTH(Gerar_Upload!E1030),DAY(Gerar_Upload!E1030)),\"erro\")","v":"00:00:00"},{"$f":"IFERROR(Gerar_Upload!F1030,\"erro\")","v":0},{"$f":"IFERROR(IF(Gerar_Upload!G1030<44,REPT(0,44-LEN(Gerar_Upload!G1030))&Gerar_Upload!G1030,Gerar_Upload!G1030),\"erro\")","v":"00000000000000000000000000000000000000000000"}]
[{"$f":"IFERROR(LEFT(Gerar_Upload!A1031,120),\"erro\")","v":""},{"$f":"IFERROR(SUBSTITUTE(SUBSTITUTE(SUBSTITUTE(Gerar_Upload!B1031,\".\",\"\"),\"-\",\"\"),\"/\",\"\"),\"erro\")","v":""},{"$f":"IFERROR(Gerar_Upload!C1031,\"erro\")","v":0},{"$f":"IFERROR(Gerar_Upload!D1031,\"erro\")","v":0},{"$f":"IFERROR(DATE(YEAR(Gerar_Upload!E1031),MONTH(Gerar_Upload!E1031),DAY(Gerar_Upload!E1031)),\"erro\")","v":"00:00:00"},{"$f":"IFERROR(Gerar_Upload!F1031,\"erro\")","v":0},{"$f":"IFERROR(IF(Gerar_Upload!G1031<44,REPT(0,44-LEN(Gerar_Upload!G1031))&Gerar_Upload!G1031,Gerar_Upload!G1031),\"erro\")","v":"00000000000000000000000000000000000000000000"}]
[{"$f":"IFERROR(LEFT(Gerar_Upload!A1032,120),\"erro\")","v":""},{"$f":"IFERROR(SUBSTITUTE(SUBSTITUTE(SUBSTITUTE(Gerar_Upload!B1032,\".\",\"\"),\"-\",\"\"),\"/\",\"\"),\"erro\")","v":""},{"$f":"IFERROR(Gerar_Upload!C1032,\"erro\")","v":0},{"$f":"IFERROR(Gerar_Upload!D1032,\"erro\")","v":0},{"$f":"IFERROR(DATE(YEAR(Gerar_Upload!E1032),MONTH(Gerar_Upload!E1032),DAY(Gerar_Upload!E1032)),\"erro\")","v":"00:00:00"},{"$f":"IFERROR(Gerar_Upload!F1032,\"erro\")","v":0},{"$f":"IFERROR(IF(Gerar_Upload!G1032<44,REPT(0,44-LEN(Gerar_Upload!G1032))&Gerar_Upload!G1032,Gerar_Upload!G1032),\"erro\")","v":"00000000000000000000000000000000000000000000"}]
[{"$f":"IFERROR(LEFT(Gerar_Upload!A1033,120),\"erro\")","v":""},{"$f":"IFERROR(SUBSTITUTE(SUBSTITUTE(SUBSTITUTE(Gerar_Upload!B1033,\".\",\"\"),\"-\",\"\"),\"/\",\"\"),\"erro\")","v":""},{"$f":"IFERROR(Gerar_Upload!C1033,\"erro\")","v":0},{"$f":"IFERROR(Gerar_Upload!D1033,\"erro\")","v":0},{"$f":"IFERROR(DATE(YEAR(Gerar_Upload!E1033),MONTH(Gerar_Upload!E1033),DAY(Gerar_Upload!E1033)),\"erro\")","v":"00:00:00"},{"$f":"IFERROR(Gerar_Upload!F1033,\"erro\")","v":0},{"$f":"IFERROR(IF(Gerar_Upload!G1033<44,REPT(0,44-LEN(Gerar_Upload!G1033))&Gerar_Upload!G1033,Gerar_Upload!G1033),\"erro\")","v":"00000000000000000000000000000000000000000000"}]
[{"$f":"IFERROR(LEFT(Gerar_Upload!A1034,120),\"erro\")","v":""},{"$f":"IFERROR(SUBSTITUTE(SUBSTITUTE(SUBSTITUTE(Gerar_Upload!B1034,\".\",\"\"),\"-\",\"\"),\"/\",\"\"),\"erro\")","v":""},{"$f":"IFERROR(Gerar_Upload!C1034,\"erro\")","v":0},{"$f":"IFERROR(Gerar_Upload!D1034,\"erro\")","v":0},{"$f":"IFERROR(DATE(YEAR(Gerar_Upload!E1034),MONTH(Gerar_Upload!E1034),DAY(Gerar_Upload!E1034)),\"erro\")","v":"00:00:00"},{"$f":"IFERROR(Gerar_Upload!F1034,\"erro\")","v":0},{"$f":"IFERROR(IF(Gerar_Upload!G1034<44,REPT(0,44-LEN(Gerar_Upload!G1034))&Gerar_Upload!G1034,Gerar_Upload!G1034),\"erro\")","v":"00000000000000000000000000000000000000000000"}]
[{"$f":"IFERROR(LEFT(Gerar_Upload!A1035,120),\"erro\")","v":""},{"$f":"IFERROR(SUBSTITUTE(SUBSTITUTE(SUBSTITUTE(Gerar_Upload!B1035,\".\",\"\"),\"-\",\"\"),\"/\",\"\"),\"erro\")","v":""},{"$f":"IFERROR(Gerar_Upload!C1035,\"erro\")","v":0},{"$f":"IFERROR(Gerar_Upload!D1035,\"erro\")","v":0},{"$f":"IFERROR(DATE(YEAR(Gerar_Upload!E1035),MONTH(Gerar_Upload!E1035),DAY(Gerar_Upload!E1035)),\"erro\")","v":"00:00:00"},{"$f":"IFERROR(Gerar_Upload!F1035,\"erro\")","v":0},{"$f":"IFERROR(IF(Gerar_Upload!G1035<44,REPT(0,44-LEN(Gerar_Upload!G1035))&Gerar_Upload!G1035,Gerar_Upload!G1035),\"erro\")","v":"00000000000000000000000000000000000000000000"}]
[{"$f":"IFERROR(LEFT(Gerar_Upload!A1036,120),\"erro\")","v":""},{"$f":"IFERROR(SUBSTITUTE(SUBSTITUTE(SUBSTITUTE(Gerar_Upload!B1036,\".\",\"\"),\"-\",\"\"),\"/\",\"\"),\"erro\")","v":""},{"$f":"IFERROR(Gerar_Upload!C1036,\"erro\")","v":0},{"$f":"IFERROR(Gerar_Upload!D1036,\"erro\")","v":0},{"$f":"IFERROR(DATE(YEAR(Gerar_Upload!E1036),MONTH(Gerar_Upload!E1036),DAY(Gerar_Upload!E1036)),\"erro\")","v":"00:00:00"},{"$f":"IFERROR(Gerar_Upload!F1036,\"erro\")","v":0},{"$f":"IFERROR(IF(Gerar_Upload!G1036<44,REPT(0,44-LEN(Gerar_Upload!G1036))&Gerar_Upload!G1036,Gerar_Upload!G1036),\"erro\")","v":"00000000000000000000000000000000000000000000"}]
[{"$f":"IFERROR(LEFT(Gerar_Upload!A1037,120),\"erro\")","v":""},{"$f":"IFERROR(SUBSTITUTE(SUBSTITUTE(SUBSTITUTE(Gerar_Upload!B1037,\".\",\"\"),\"-\",\"\"),\"/\",\"\"),\"erro\")","v":""},{"$f":"IFERROR(Gerar_Upload!C1037,\"erro\")","v":0},{"$f":"IFERROR(Gerar_Upload!D1037,\"erro\")","v":0},{"$f":"IFERROR(DATE(YEAR(Gerar_Upload!E1037),MONTH(Gerar_Upload!E1037),DAY(Gerar_Upload!E1037)),\"erro\")","v":"00:00:00"},{"$f":"IFERROR(Gerar_Upload!F1037,\"erro\")","v":0},{"$f":"IFERROR(IF(Gerar_Upload!G1037<44,REPT(0,44-LEN(Gerar_Upload!G1037))&Gerar_Upload!G1037,Gerar_Upload!G1037),\"erro\")","v":"00000000000000000000000000000000000000000000"}]
[{"$f":"IFERROR(LEFT(Gerar_Upload!A1038,120),\"erro\")","v":""},{"$f":"IFERROR(SUBSTITUTE(SUBSTITUTE(SUBSTITUTE(Gerar_Upload!B1038,\".\",\"\"),\"-\",\"\"),\"/\",\"\"),\"erro\")","v":""},{"$f":"IFERROR(Gerar_Upload!C1038,\"erro\")","v":0},{"$f":"IFERROR(Gerar_Upload!D1038,\"erro\")","v":0},{"$f":"IFERROR(DATE(YEAR(Gerar_Upload!E1038),MONTH(Gerar_Upload!E1038),DAY(Gerar_Upload!E1038)),\"erro\")","v":"00:00:00"},{"$f":"IFERROR(Gerar_Upload!F1038,\"erro\")","v":0},{"$f":"IFERROR(IF(Gerar_Upload!G1038<44,REPT(0,44-LEN(Gerar_Upload!G1038))&Gerar_Upload!G1038,Gerar_Upload!G1038),\"erro\")","v":"00000000000000000000000000000000000000000000"}]
[{"$f":"IFERROR(LEFT(Gerar_Upload!A1039,120),\"erro\")","v":""},{"$f":"IFERROR(SUBSTITUTE(SUBSTITUTE(SUBSTITUTE(Gerar_Upload!B1039,\".\",\"\"),\"-\",\"\"),\"/\",\"\"),\"erro\")","v":""},{"$f":"IFERROR(Gerar_Upload!C1039,\"erro\")","v":0},{"$f":"IFERROR(Gerar_Upload!D1039,\"erro\")","v":0},{"$f":"IFERROR(DATE(YEAR(Gerar_Upload!E1039),MONTH(Gerar_Upload!E1039),DAY(Gerar_Upload!E1039)),\"erro\")","v":"00:00:00"},{"$f":"IFERROR(Gerar_Upload!F1039,\"erro\")","v":0},{"$f":"IFERROR(IF(Gerar_Upload!G1039<44,REPT(0,44-LEN(Gerar_Upload!G1039))&Gerar_Upload!G1039,Gerar_Upload!G1039),\"erro\")","v":"00000000000000000000000000000000000000000000"}]
[{"$f":"IFERROR(LEFT(Gerar_Upload!A1040,120),\"erro\")","v":""},{"$f":"IFERROR(SUBSTITUTE(SUBSTITUTE(SUBSTITUTE(Gerar_Upload!B1040,\".\",\"\"),\"-\",\"\"),\"/\",\"\"),\"erro\")","v":""},{"$f":"IFERROR(Gerar_Upload!C1040,\"erro\")","v":0},{"$f":"IFERROR(Gerar_Upload!D1040,\"erro\")","v":0},{"$f":"IFERROR(DATE(YEAR(Gerar_Upload!E1040),MONTH(Gerar_Upload!E1040),DAY(Gerar_Upload!E1040)),\"erro\")","v":"00:00:00"},{"$f":"IFERROR(Gerar_Upload!F1040,\"erro\")","v":0},{"$f":"IFERROR(IF(Gerar_Upload!G1040<44,REPT(0,44-LEN(Gerar_Upload!G1040))&Gerar_Upload!G1040,Gerar_Upload!G1040),\"erro\")","v":"00000000000000000000000000000000000000000000"}]
[{"$f":"IFERROR(LEFT(Gerar_Upload!A1041,120),\"erro\")","v":""},{"$f":"IFERROR(SUBSTITUTE(SUBSTITUTE(SUBSTITUTE(Gerar_Upload!B1041,\".\",\"\"),\"-\",\"\"),\"/\",\"\"),\"erro\")","v":""},{"$f":"IFERROR(Gerar_Upload!C1041,\"erro\")","v":0},{"$f":"IFERROR(Gerar_Upload!D1041,\"erro\")","v":0},{"$f":"IFERROR(DATE(YEAR(Gerar_Upload!E1041),MONTH(Gerar_Upload!E1041),DAY(Gerar_Upload!E1041)),\"erro\")","v":"00:00:00"},{"$f":"IFERROR(Gerar_Upload!F1041,\"erro\")","v":0},{"$f":"IFERROR(IF(Gerar_Upload!G1041<44,REPT(0,44-LEN(Gerar_Upload!G1041))&Gerar_Upload!G1041,Gerar_Upload!G1041),\"erro\")","v":"00000000000000000000000000000000000000000000"}]
[{"$f":"IFERROR(LEFT(Gerar_Upload!A1042,120),\"erro\")","v":""},{"$f":"IFERROR(SUBSTITUTE(SUBSTITUTE(SUBSTITUTE(Gerar_Upload!B1042,\".\",\"\"),\"-\",\"\"),\"/\",\"\"),\"erro\")","v":""},{"$f":"IFERROR(Gerar_Upload!C1042,\"erro\")","v":0},{"$f":"IFERROR(Gerar_Upload!D1042,\"erro\")","v":0},{"$f":"IFERROR(DATE(YEAR(Gerar_Upload!E1042),MONTH(Gerar_Upload!E1042),DAY(Gerar_Upload!E1042)),\"erro\")","v":"00:00:00"},{"$f":"IFERROR(Gerar_Upload!F1042,\"erro\")","v":0},{"$f":"IFERROR(IF(Gerar_Upload!G1042<44,REPT(0,44-LEN(Gerar_Upload!G1042))&Gerar_Upload!G1042,Gerar_Upload!G1042),\"erro\")","v":"00000000000000000000000000000000000000000000"}]
[{"$f":"IFERROR(LEFT(Gerar_Upload!A1043,120),\"erro\")","v":""},{"$f":"IFERROR(SUBSTITUTE(SUBSTITUTE(SUBSTITUTE(Gerar_Upload!B1043,\".\",\"\"),\"-\",\"\"),\"/\",\"\"),\"erro\")","v":""},{"$f":"IFERROR(Gerar_Upload!C1043,\"erro\")","v":0},{"$f":"IFERROR(Gerar_Upload!D1043,\"erro\")","v":0},{"$f":"IFERROR(DATE(YEAR(Gerar_Upload!E1043),MONTH(Gerar_Upload!E1043),DAY(Gerar_Upload!E1043)),\"erro\")","v":"00:00:00"},{"$f":"IFERROR(Gerar_Upload!F1043,\"erro\")","v":0},{"$f":"IFERROR(IF(Gerar_Upload!G1043<44,REPT(0,44-LEN(Gerar_Upload!G1043))&Gerar_Upload!G1043,Gerar_Upload!G1043),\"erro\")","v":"00000000000000000000000000000000000000000000"}]
[{"$f":"IFERROR(LEFT(Gerar_Upload!A1044,120),\"erro\")","v":""},{"$f":"IFERROR(SUBSTITUTE(SUBSTITUTE(SUBSTITUTE(Gerar_Upload!B1044,\".\",\"\"),\"-\",\"\"),\"/\",\"\"),\"erro\")","v":""},{"$f":"IFERROR(Gerar_Upload!C1044,\"erro\")","v":0},{"$f":"IFERROR(Gerar_Upload!D1044,\"erro\")","v":0},{"$f":"IFERROR(DATE(YEAR(Gerar_Upload!E1044),MONTH(Gerar_Upload!E1044),DAY(Gerar_Upload!E1044)),\"erro\")","v":"00:00:00"},{"$f":"IFERROR(Gerar_Upload!F1044,\"erro\")","v":0},{"$f":"IFERROR(IF(Gerar_Upload!G1044<44,REPT(0,44-LEN(Gerar_Upload!G1044))&Gerar_Upload!G1044,Gerar_Upload!G1044),\"erro\")","v":"00000000000000000000000000000000000000000000"}]
[{"$f":"IFERROR(LEFT(Gerar_Upload!A1045,120),\"erro\")","v":""},{"$f":"IFERROR(SUBSTITUTE(SUBSTITUTE(SUBSTITUTE(Gerar_Upload!B1045,\".\",\"\"),\"-\",\"\"),\"/\",\"\"),\"erro\")","v":""},{"$f":"IFERROR(Gerar_Upload!C1045,\"erro\")","v":0},{"$f":"IFERROR(Gerar_Upload!D1045,\"erro\")","v":0},{"$f":"IFERROR(DATE(YEAR(Gerar_Upload!E1045),MONTH(Gerar_Upload!E1045),DAY(Gerar_Upload!E1045)),\"erro\")","v":"00:00:00"},{"$f":"IFERROR(Gerar_Upload!F1045,\"erro\")","v":0},{"$f":"IFERROR(IF(Gerar_Upload!G1045<44,REPT(0,44-LEN(Gerar_Upload!G1045))&Gerar_Upload!G1045,Gerar_Upload!G1045),\"erro\")","v":"00000000000000000000000000000000000000000000"}]
[{"$f":"IFERROR(LEFT(Gerar_Upload!A1046,120),\"erro\")","v":""},{"$f":"IFERROR(SUBSTITUTE(SUBSTITUTE(SUBSTITUTE(Gerar_Upload!B1046,\".\",\"\"),\"-\",\"\"),\"/\",\"\"),\"erro\")","v":""},{"$f":"IFERROR(Gerar_Upload!C1046,\"erro\")","v":0},{"$f":"IFERROR(Gerar_Upload!D1046,\"erro\")","v":0},{"$f":"IFERROR(DATE(YEAR(Gerar_Upload!E1046),MONTH(Gerar_Upload!E1046),DAY(Gerar_Upload!E1046)),\"erro\")","v":"00:00:00"},{"$f":"IFERROR(Gerar_Upload!F1046,\"erro\")","v":0},{"$f":"IFERROR(IF(Gerar_Upload!G1046<44,REPT(0,44-LEN(Gerar_Upload!G1046))&Gerar_Upload!G1046,Gerar_Upload!G1046),\"erro\")","v":"00000000000000000000000000000000000000000000"}]
[{"$f":"IFERROR(LEFT(Gerar_Upload!A1047,120),\"erro\")","v":""},{"$f":"IFERROR(SUBSTITUTE(SUBSTITUTE(SUBSTITUTE(Gerar_Upload!B1047,\".\",\"\"),\"-\",\"\"),\"/\",\"\"),\"erro\")","v":""},{"$f":"IFERROR(Gerar_Upload!C1047,\"erro\")","v":0},{"$f":"IFERROR(Gerar_Upload!D1047,\"erro\")","v":0},{"$f":"IFERROR(DATE(YEAR(Gerar_Upload!E1047),MONTH(Gerar_Upload!E1047),DAY(Gerar_Upload!E1047)),\"erro\")","v":"00:00:00"},{"$f":"IFERROR(Gerar_Upload!F1047,\"erro\")","v":0},{"$f":"IFERROR(IF(Gerar_Upload!G1047<44,REPT(0,44-LEN(Gerar_Upload!G1047))&Gerar_Upload!G1047,Gerar_Upload!G1047),\"erro\")","v":"00000000000000000000000000000000000000000000"}]
[{"$f":"IFERROR(LEFT(Gerar_Upload!A1048,120),\"erro\")","v":""},{"$f":"IFERROR(SUBSTITUTE(SUBSTITUTE(SUBSTITUTE(Gerar_Upload!B1048,\".\",\"\"),\"-\",\"\"),\"/\",\"\"),\"erro\")","v":""},{"$f":"IFERROR(Gerar_Upload!C1048,\"erro\")","v":0},{"$f":"IFERROR(Gerar_Upload!D1048,\"erro\")","v":0},{"$f":"IFERROR(DATE(YEAR(Gerar_Upload!E1048),MONTH(Gerar_Upload!E1048),DAY(Gerar_Upload!E1048)),\"erro\")","v":"00:00:00"},{"$f":"IFERROR(Gerar_Upload!F1048,\"erro\")","v":0},{"$f":"IFERROR(IF(Gerar_Upload!G1048<44,REPT(0,44-LEN(Gerar_Upload!G1048))&Gerar_Upload!G1048,Gerar_Upload!G1048),\"erro\")","v":"00000000000000000000000000000000000000000000"}]
[{"$f":"IFERROR(LEFT(Gerar_Upload!A1049,120),\"erro\")","v":""},{"$f":"IFERROR(SUBSTITUTE(SUBSTITUTE(SUBSTITUTE(Gerar_Upload!B1049,\".\",\"\"),\"-\",\"\"),\"/\",\"\"),\"erro\")","v":""},{"$f":"IFERROR(Gerar_Upload!C1049,\"erro\")","v":0},{"$f":"IFERROR(Gerar_Upload!D1049,\"erro\")","v":0},{"$f":"IFERROR(DATE(YEAR(Gerar_Upload!E1049),MONTH(Gerar_Upload!E1049),DAY(Gerar_Upload!E1049)),\"erro\")","v":"00:00:00"},{"$f":"IFERROR(Gerar_Upload!F1049,\"erro\")","v":0},{"$f":"IFERROR(IF(Gerar_Upload!G1049<44,REPT(0,44-LEN(Gerar_Upload!G1049))&Gerar_Upload!G1049,Gerar_Upload!G1049),\"erro\")","v":"00000000000000000000000000000000000000000000"}]
[{"$f":"IFERROR(LEFT(Gerar_Upload!A1050,120),\"erro\")","v":""},{"$f":"IFERROR(SUBSTITUTE(SUBSTITUTE(SUBSTITUTE(Gerar_Upload!B1050,\".\",\"\"),\"-\",\"\"),\"/\",\"\"),\"erro\")","v":""},{"$f":"IFERROR(Gerar_Upload!C1050,\"erro\")","v":0},{"$f":"IFERROR(Gerar_Upload!D1050,\"erro\")","v":0},{"$f":"IFERROR(DATE(YEAR(Gerar_Upload!E1050),MONTH(Gerar_Upload!E1050),DAY(Gerar_Upload!E1050)),\"erro\")","v":"00:00:00"},{"$f":"IFERROR(Gerar_Upload!F1050,\"erro\")","v":0},{"$f":"IFERROR(IF(Gerar_Upload!G1050<44,REPT(0,44-LEN(Gerar_Upload!G1050))&Gerar_Upload!G1050,Gerar_Upload!G1050),\"erro\")","v":"00000000000000000000000000000000000000000000"}]
[{"$f":"IFERROR(LEFT(Gerar_Upload!A1051,120),\"erro\")","v":""},{"$f":"IFERROR(SUBSTITUTE(SUBSTITUTE(SUBSTITUTE(Gerar_Upload!B1051,\".\",\"\"),\"-\",\"\"),\"/\",\"\"),\"erro\")","v":""},{"$f":"IFERROR(Gerar_Upload!C1051,\"erro\")","v":0},{"$f":"IFERROR(Gerar_Upload!D1051,\"erro\")","v":0},{"$f":"IFERROR(DATE(YEAR(Gerar_Upload!E1051),MONTH(Gerar_Upload!E1051),DAY(Gerar_Upload!E1051)),\"erro\")","v":"00:00:00"},{"$f":"IFERROR(Gerar_Upload!F1051,\"erro\")","v":0},{"$f":"IFERROR(IF(Gerar_Upload!G1051<44,REPT(0,44-LEN(Gerar_Upload!G1051))&Gerar_Upload!G1051,Gerar_Upload!G1051),\"erro\")","v":"00000000000000000000000000000000000000000000"}]
[{"$f":"IFERROR(LEFT(Gerar_Upload!A1052,120),\"erro\")","v":""},{"$f":"IFERROR(SUBSTITUTE(SUBSTITUTE(SUBSTITUTE(Gerar_Upload!B1052,\".\",\"\"),\"-\",\"\"),\"/\",\"\"),\"erro\")","v":""},{"$f":"IFERROR(Gerar_Upload!C1052,\"erro\")","v":0},{"$f":"IFERROR(Gerar_Upload!D1052,\"erro\")","v":0},{"$f":"IFERROR(DATE(YEAR(Gerar_Upload!E1052),MONTH(Gerar_Upload!E1052),DAY(Gerar_Upload!E1052)),\"erro\")","v":"00:00:00"},{"$f":"IFERROR(Gerar_Upload!F1052,\"erro\")","v":0},{"$f":"IFERROR(IF(Gerar_Upload!G1052<44,REPT(0,44-LEN(Gerar_Upload!G1052))&Gerar_Upload!G1052,Gerar_Upload!G1052),\"erro\")","v":"00000000000000000000000000000000000000000000"}]
[{"$f":"IFERROR(LEFT(Gerar_Upload!A1053,120),\"erro\")","v":""},{"$f":"IFERROR(SUBSTITUTE(SUBSTITUTE(SUBSTITUTE(Gerar_Upload!B1053,\".\",\"\"),\"-\",\"\"),\"/\",\"\"),\"erro\")","v":""},{"$f":"IFERROR(Gerar_Upload!C1053,\"erro\")","v":0},{"$f":"IFERROR(Gerar_Upload!D1053,\"erro\")","v":0},{"$f":"IFERROR(DATE(YEAR(Gerar_Upload!E1053),MONTH(Gerar_Upload!E1053),DAY(Gerar_Upload!E1053)),\"erro\")","v":"00:00:00"},{"$f":"IFERROR(Gerar_Upload!F1053,\"erro\")","v":0},{"$f":"IFERROR(IF(Gerar_Upload!G1053<44,REPT(0,44-LEN(Gerar_Upload!G1053))&Gerar_Upload!G1053,Gerar_Upload!G1053),\"erro\")","v":"00000000000000000000000000000000000000000000"}]
[{"$f":"IFERROR(LEFT(Gerar_Upload!A1054,120),\"erro\")","v":""},{"$f":"IFERROR(SUBSTITUTE(SUBSTITUTE(SUBSTITUTE(Gerar_Upload!B1054,\".\",\"\"),\"-\",\"\"),\"/\",\"\"),\"erro\")","v":""},{"$f":"IFERROR(Gerar_Upload!C1054,\"erro\")","v":0},{"$f":"IFERROR(Gerar_Upload!D1054,\"erro\")","v":0},{"$f":"IFERROR(DATE(YEAR(Gerar_Upload!E1054),MONTH(Gerar_Upload!E1054),DAY(Gerar_Upload!E1054)),\"erro\")","v":"00:00:00"},{"$f":"IFERROR(Gerar_Upload!F1054,\"erro\")","v":0},{"$f":"IFERROR(IF(Gerar_Upload!G1054<44,REPT(0,44-LEN(Gerar_Upload!G1054))&Gerar_Upload!G1054,Gerar_Upload!G1054),\"erro\")","v":"00000000000000000000000000000000000000000000"}]
[{"$f":"IFERROR(LEFT(Gerar_Upload!A1055,120),\"erro\")","v":""},{"$f":"IFERROR(SUBSTITUTE(SUBSTITUTE(SUBSTITUTE(Gerar_Upload!B1055,\".\",\"\"),\"-\",\"\"),\"/\",\"\"),\"erro\")","v":""},{"$f":"IFERROR(Gerar_Upload!C1055,\"erro\")","v":0},{"$f":"IFERROR(Gerar_Upload!D1055,\"erro\")","v":0},{"$f":"IFERROR(DATE(YEAR(Gerar_Upload!E1055),MONTH(Gerar_Upload!E1055),DAY(Gerar_Upload!E1055)),\"erro\")","v":"00:00:00"},{"$f":"IFERROR(Gerar_Upload!F1055,\"erro\")","v":0},{"$f":"IFERROR(IF(Gerar_Upload!G1055<44,REPT(0,44-LEN(Gerar_Upload!G1055))&Gerar_Upload!G1055,Gerar_Upload!G1055),\"erro\")","v":"00000000000000000000000000000000000000000000"}]
[{"$f":"IFERROR(LEFT(Gerar_Upload!A1056,120),\"erro\")","v":""},{"$f":"IFERROR(SUBSTITUTE(SUBSTITUTE(SUBSTITUTE(Gerar_Upload!B1056,\".\",\"\"),\"-\",\"\"),\"/\",\"\"),\"erro\")","v":""},{"$f":"IFERROR(Gerar_Upload!C1056,\"erro\")","v":0},{"$f":"IFERROR(Gerar_Upload!D1056,\"erro\")","v":0},{"$f":"IFERROR(DATE(YEAR(Gerar_Upload!E1056),MONTH(Gerar_Upload!E1056),DAY(Gerar_Upload!E1056)),\"erro\")","v":"00:00:00"},{"$f":"IFERROR(Gerar_Upload!F1056,\"erro\")","v":0},{"$f":"IFERROR(IF(Gerar_Upload!G1056<44,REPT(0,44-LEN(Gerar_Upload!G1056))&Gerar_Upload!G1056,Gerar_Upload!G1056),\"erro\")","v":"00000000000000000000000000000000000000000000"}]
[{"$f":"IFERROR(LEFT(Gerar_Upload!A1057,120),\"erro\")","v":""},{"$f":"IFERROR(SUBSTITUTE(SUBSTITUTE(SUBSTITUTE(Gerar_Upload!B1057,\".\",\"\"),\"-\",\"\"),\"/\",\"\"),\"erro\")","v":""},{"$f":"IFERROR(Gerar_Upload!C1057,\"erro\")","v":0},{"$f":"IFERROR(Gerar_Upload!D1057,\"erro\")","v":0},{"$f":"IFERROR(DATE(YEAR(Gerar_Upload!E1057),MONTH(Gerar_Upload!E1057),DAY(Gerar_Upload!E1057)),\"erro\")","v":"00:00:00"},{"$f":"IFERROR(Gerar_Upload!F1057,\"erro\")","v":0},{"$f":"IFERROR(IF(Gerar_Upload!G1057<44,REPT(0,44-LEN(Gerar_Upload!G1057))&Gerar_Upload!G1057,Gerar_Upload!G1057),\"erro\")","v":"00000000000000000000000000000000000000000000"}]
[{"$f":"IFERROR(LEFT(Gerar_Upload!A1058,120),\"erro\")","v":""},{"$f":"IFERROR(SUBSTITUTE(SUBSTITUTE(SUBSTITUTE(Gerar_Upload!B1058,\".\",\"\"),\"-\",\"\"),\"/\",\"\"),\"erro\")","v":""},{"$f":"IFERROR(Gerar_Upload!C1058,\"erro\")","v":0},{"$f":"IFERROR(Gerar_Upload!D1058,\"erro\")","v":0},{"$f":"IFERROR(DATE(YEAR(Gerar_Upload!E1058),MONTH(Gerar_Upload!E1058),DAY(Gerar_Upload!E1058)),\"erro\")","v":"00:00:00"},{"$f":"IFERROR(Gerar_Upload!F1058,\"erro\")","v":0},{"$f":"IFERROR(IF(Gerar_Upload!G1058<44,REPT(0,44-LEN(Gerar_Upload!G1058))&Gerar_Upload!G1058,Gerar_Upload!G1058),\"erro\")","v":"00000000000000000000000000000000000000000000"}]
[{"$f":"IFERROR(LEFT(Gerar_Upload!A1059,120),\"erro\")","v":""},{"$f":"IFERROR(SUBSTITUTE(SUBSTITUTE(SUBSTITUTE(Gerar_Upload!B1059,\".\",\"\"),\"-\",\"\"),\"/\",\"\"),\"erro\")","v":""},{"$f":"IFERROR(Gerar_Upload!C1059,\"erro\")","v":0},{"$f":"IFERROR(Gerar_Upload!D1059,\"erro\")","v":0},{"$f":"IFERROR(DATE(YEAR(Gerar_Upload!E1059),MONTH(Gerar_Upload!E1059),DAY(Gerar_Upload!E1059)),\"erro\")","v":"00:00:00"},{"$f":"IFERROR(Gerar_Upload!F1059,\"erro\")","v":0},{"$f":"IFERROR(IF(Gerar_Upload!G1059<44,REPT(0,44-LEN(Gerar_Upload!G1059))&Gerar_Upload!G1059,Gerar_Upload!G1059),\"erro\")","v":"00000000000000000000000000000000000000000000"}]
[{"$f":"IFERROR(LEFT(Gerar_Upload!A1060,120),\"erro\")","v":""},{"$f":"IFERROR(SUBSTITUTE(SUBSTITUTE(SUBSTITUTE(Gerar_Upload!B1060,\".\",\"\"),\"-\",\"\"),\"/\",\"\"),\"erro\")","v":""},{"$f":"IFERROR(Gerar_Upload!C1060,\"erro\")","v":0},{"$f":"IFERROR(Gerar_Upload!D1060,\"erro\")","v":0},{"$f":"IFERROR(DATE(YEAR(Gerar_Upload!E1060),MONTH(Gerar_Upload!E1060),DAY(Gerar_Upload!E1060)),\"erro\")","v":"00:00:00"},{"$f":"IFERROR(Gerar_Upload!F1060,\"erro\")","v":0},{"$f":"IFERROR(IF(Gerar_Upload!G1060<44,REPT(0,44-LEN(Gerar_Upload!G1060))&Gerar_Upload!G1060,Gerar_Upload!G1060),\"erro\")","v":"00000000000000000000000000000000000000000000"}]
[{"$f":"IFERROR(LEFT(Gerar_Upload!A1061,120),\"erro\")","v":""},{"$f":"IFERROR(SUBSTITUTE(SUBSTITUTE(SUBSTITUTE(Gerar_Upload!B1061,\".\",\"\"),\"-\",\"\"),\"/\",\"\"),\"erro\")","v":""},{"$f":"IFERROR(Gerar_Upload!C1061,\"erro\")","v":0},{"$f":"IFERROR(Gerar_Upload!D1061,\"erro\")","v":0},{"$f":"IFERROR(DATE(YEAR(Gerar_Upload!E1061),MONTH(Gerar_Upload!E1061),DAY(Gerar_Upload!E1061)),\"erro\")","v":"00:00:00"},{"$f":"IFERROR(Gerar_Upload!F1061,\"erro\")","v":0},{"$f":"IFERROR(IF(Gerar_Upload!G1061<44,REPT(0,44-LEN(Gerar_Upload!G1061))&Gerar_Upload!G1061,Gerar_Upload!G1061),\"erro\")","v":"00000000000000000000000000000000000000000000"}]
[{"$f":"IFERROR(LEFT(Gerar_Upload!A1062,120),\"erro\")","v":""},{"$f":"IFERROR(SUBSTITUTE(SUBSTITUTE(SUBSTITUTE(Gerar_Upload!B1062,\".\",\"\"),\"-\",\"\"),\"/\",\"\"),\"erro\")","v":""},{"$f":"IFERROR(Gerar_Upload!C1062,\"erro\")","v":0},{"$f":"IFERROR(Gerar_Upload!D1062,\"erro\")","v":0},{"$f":"IFERROR(DATE(YEAR(Gerar_Upload!E1062),MONTH(Gerar_Upload!E1062),DAY(Gerar_Upload!E1062)),\"erro\")","v":"00:00:00"},{"$f":"IFERROR(Gerar_Upload!F1062,\"erro\")","v":0},{"$f":"IFERROR(IF(Gerar_Upload!G1062<44,REPT(0,44-LEN(Gerar_Upload!G1062))&Gerar_Upload!G1062,Gerar_Upload!G1062),\"erro\")","v":"00000000000000000000000000000000000000000000"}]
[{"$f":"IFERROR(LEFT(Gerar_Upload!A1063,120),\"erro\")","v":""},{"$f":"IFERROR(SUBSTITUTE(SUBSTITUTE(SUBSTITUTE(Gerar_Upload!B1063,\".\",\"\"),\"-\",\"\"),\"/\",\"\"),\"erro\")","v":""},{"$f":"IFERROR(Gerar_Upload!C1063,\"erro\")","v":0},{"$f":"IFERROR(Gerar_Upload!D1063,\"erro\")","v":0},{"$f":"IFERROR(DATE(YEAR(Gerar_Upload!E1063),MONTH(Gerar_Upload!E1063),DAY(Gerar_Upload!E1063)),\"erro\")","v":"00:00:00"},{"$f":"IFERROR(Gerar_Upload!F1063,\"erro\")","v":0},{"$f":"IFERROR(IF(Gerar_Upload!G1063<44,REPT(0,44-LEN(Gerar_Upload!G1063))&Gerar_Upload!G1063,Gerar_Upload!G1063),\"erro\")","v":"00000000000000000000000000000000000000000000"}]
[{"$f":"IFERROR(LEFT(Gerar_Upload!A1064,120),\"erro\")","v":""},{"$f":"IFERROR(SUBSTITUTE(SUBSTITUTE(SUBSTITUTE(Gerar_Upload!B1064,\".\",\"\"),\"-\",\"\"),\"/\",\"\"),\"erro\")","v":""},{"$f":"IFERROR(Gerar_Upload!C1064,\"erro\")","v":0},{"$f":"IFERROR(Gerar_Upload!D1064,\"erro\")","v":0},{"$f":"IFERROR(DATE(YEAR(Gerar_Upload!E1064),MONTH(Gerar_Upload!E1064),DAY(Gerar_Upload!E1064)),\"erro\")","v":"00:00:00"},{"$f":"IFERROR(Gerar_Upload!F1064,\"erro\")","v":0},{"$f":"IFERROR(IF(Gerar_Upload!G1064<44,REPT(0,44-LEN(Gerar_Upload!G1064))&Gerar_Upload!G1064,Gerar_Upload!G1064),\"erro\")","v":"00000000000000000000000000000000000000000000"}]
[{"$f":"IFERROR(LEFT(Gerar_Upload!A1065,120),\"erro\")","v":""},{"$f":"IFERROR(SUBSTITUTE(SUBSTITUTE(SUBSTITUTE(Gerar_Upload!B1065,\".\",\"\"),\"-\",\"\"),\"/\",\"\"),\"erro\")","v":""},{"$f":"IFERROR(Gerar_Upload!C1065,\"erro\")","v":0},{"$f":"IFERROR(Gerar_Upload!D1065,\"erro\")","v":0},{"$f":"IFERROR(DATE(YEAR(Gerar_Upload!E1065),MONTH(Gerar_Upload!E1065),DAY(Gerar_Upload!E1065)),\"erro\")","v":"00:00:00"},{"$f":"IFERROR(Gerar_Upload!F1065,\"erro\")","v":0},{"$f":"IFERROR(IF(Gerar_Upload!G1065<44,REPT(0,44-LEN(Gerar_Upload!G1065))&Gerar_Upload!G1065,Gerar_Upload!G1065),\"erro\")","v":"00000000000000000000000000000000000000000000"}]
[{"$f":"IFERROR(LEFT(Gerar_Upload!A1066,120),\"erro\")","v":""},{"$f":"IFERROR(SUBSTITUTE(SUBSTITUTE(SUBSTITUTE(Gerar_Upload!B1066,\".\",\"\"),\"-\",\"\"),\"/\",\"\"),\"erro\")","v":""},{"$f":"IFERROR(Gerar_Upload!C1066,\"erro\")","v":0},{"$f":"IFERROR(Gerar_Upload!D1066,\"erro\")","v":0},{"$f":"IFERROR(DATE(YEAR(Gerar_Upload!E1066),MONTH(Gerar_Upload!E1066),DAY(Gerar_Upload!E1066)),\"erro\")","v":"00:00:00"},{"$f":"IFERROR(Gerar_Upload!F1066,\"erro\")","v":0},{"$f":"IFERROR(IF(Gerar_Upload!G1066<44,REPT(0,44-LEN(Gerar_Upload!G1066))&Gerar_Upload!G1066,Gerar_Upload!G1066),\"erro\")","v":"00000000000000000000000000000000000000000000"}]
[{"$f":"IFERROR(LEFT(Gerar_Upload!A1067,120),\"erro\")","v":""},{"$f":"IFERROR(SUBSTITUTE(SUBSTITUTE(SUBSTITUTE(Gerar_Upload!B1067,\".\",\"\"),\"-\",\"\"),\"/\",\"\"),\"erro\")","v":""},{"$f":"IFERROR(Gerar_Upload!C1067,\"erro\")","v":0},{"$f":"IFERROR(Gerar_Upload!D1067,\"erro\")","v":0},{"$f":"IFERROR(DATE(YEAR(Gerar_Upload!E1067),MONTH(Gerar_Upload!E1067),DAY(Gerar_Upload!E1067)),\"erro\")","v":"00:00:00"},{"$f":"IFERROR(Gerar_Upload!F1067,\"erro\")","v":0},{"$f":"IFERROR(IF(Gerar_Upload!G1067<44,REPT(0,44-LEN(Gerar_Upload!G1067))&Gerar_Upload!G1067,Gerar_Upload!G1067),\"erro\")","v":"00000000000000000000000000000000000000000000"}]
[{"$f":"IFERROR(LEFT(Gerar_Upload!A1068,120),\"erro\")","v":""},{"$f":"IFERROR(SUBSTITUTE(SUBSTITUTE(SUBSTITUTE(Gerar_Upload!B1068,\".\",\"\"),\"-\",\"\"),\"/\",\"\"),\"erro\")","v":""},{"$f":"IFERROR(Gerar_Upload!C1068,\"erro\")","v":0},{"$f":"IFERROR(Gerar_Upload!D1068,\"erro\")","v":0},{"$f":"IFERROR(DATE(YEAR(Gerar_Upload!E1068),MONTH(Gerar_Upload!E1068),DAY(Gerar_Upload!E1068)),\"erro\")","v":"00:00:00"},{"$f":"IFERROR(Gerar_Upload!F1068,\"erro\")","v":0},{"$f":"IFERROR(IF(Gerar_Upload!G1068<44,REPT(0,44-LEN(Gerar_Upload!G1068))&Gerar_Upload!G1068,Gerar_Upload!G1068),\"erro\")","v":"00000000000000000000000000000000000000000000"}]
[{"$f":"IFERROR(LEFT(Gerar_Upload!A1069,120),\"erro\")","v":""},{"$f":"IFERROR(SUBSTITUTE(SUBSTITUTE(SUBSTITUTE(Gerar_Upload!B1069,\".\",\"\"),\"-\",\"\"),\"/\",\"\"),\"erro\")","v":""},{"$f":"IFERROR(Gerar_Upload!C1069,\"erro\")","v":0},{"$f":"IFERROR(Gerar_Upload!D1069,\"erro\")","v":0},{"$f":"IFERROR(DATE(YEAR(Gerar_Upload!E1069),MONTH(Gerar_Upload!E1069),DAY(Gerar_Upload!E1069)),\"erro\")","v":"00:00:00"},{"$f":"IFERROR(Gerar_Upload!F1069,\"erro\")","v":0},{"$f":"IFERROR(IF(Gerar_Upload!G1069<44,REPT(0,44-LEN(Gerar_Upload!G1069))&Gerar_Upload!G1069,Gerar_Upload!G1069),\"erro\")","v":"00000000000000000000000000000000000000000000"}]
[{"$f":"IFERROR(LEFT(Gerar_Upload!A1070,120),\"erro\")","v":""},{"$f":"IFERROR(SUBSTITUTE(SUBSTITUTE(SUBSTITUTE(Gerar_Upload!B1070,\".\",\"\"),\"-\",\"\"),\"/\",\"\"),\"erro\")","v":""},{"$f":"IFERROR(Gerar_Upload!C1070,\"erro\")","v":0},{"$f":"IFERROR(Gerar_Upload!D1070,\"erro\")","v":0},{"$f":"IFERROR(DATE(YEAR(Gerar_Upload!E1070),MONTH(Gerar_Upload!E1070),DAY(Gerar_Upload!E1070)),\"erro\")","v":"00:00:00"},{"$f":"IFERROR(Gerar_Upload!F1070,\"erro\")","v":0},{"$f":"IFERROR(IF(Gerar_Upload!G1070<44,REPT(0,44-LEN(Gerar_Upload!G1070))&Gerar_Upload!G1070,Gerar_Upload!G1070),\"erro\")","v":"00000000000000000000000000000000000000000000"}]
[{"$f":"IFERROR(LEFT(Gerar_Upload!A1071,120),\"erro\")","v":""},{"$f":"IFERROR(SUBSTITUTE(SUBSTITUTE(SUBSTITUTE(Gerar_Upload!B1071,\".\",\"\"),\"-\",\"\"),\"/\",\"\"),\"erro\")","v":""},{"$f":"IFERROR(Gerar_Upload!C1071,\"erro\")","v":0},{"$f":"IFERROR(Gerar_Upload!D1071,\"erro\")","v":0},{"$f":"IFERROR(DATE(YEAR(Gerar_Upload!E1071),MONTH(Gerar_Upload!E1071),DAY(Gerar_Upload!E1071)),\"erro\")","v":"00:00:00"},{"$f":"IFERROR(Gerar_Upload!F1071,\"erro\")","v":0},{"$f":"IFERROR(IF(Gerar_Upload!G1071<44,REPT(0,44-LEN(Gerar_Upload!G1071))&Gerar_Upload!G1071,Gerar_Upload!G1071),\"erro\")","v":"00000000000000000000000000000000000000000000"}]
[{"$f":"IFERROR(LEFT(Gerar_Upload!A1072,120),\"erro\")","v":""},{"$f":"IFERROR(SUBSTITUTE(SUBSTITUTE(SUBSTITUTE(Gerar_Upload!B1072,\".\",\"\"),\"-\",\"\"),\"/\",\"\"),\"erro\")","v":""},{"$f":"IFERROR(Gerar_Upload!C1072,\"erro\")","v":0},{"$f":"IFERROR(Gerar_Upload!D1072,\"erro\")","v":0},{"$f":"IFERROR(DATE(YEAR(Gerar_Upload!E1072),MONTH(Gerar_Upload!E1072),DAY(Gerar_Upload!E1072)),\"erro\")","v":"00:00:00"},{"$f":"IFERROR(Gerar_Upload!F1072,\"erro\")","v":0},{"$f":"IFERROR(IF(Gerar_Upload!G1072<44,REPT(0,44-LEN(Gerar_Upload!G1072))&Gerar_Upload!G1072,Gerar_Upload!G1072),\"erro\")","v":"00000000000000000000000000000000000000000000"}]
[{"$f":"IFERROR(LEFT(Gerar_Upload!A1073,120),\"erro\")","v":""},{"$f":"IFERROR(SUBSTITUTE(SUBSTITUTE(SUBSTITUTE(Gerar_Upload!B1073,\".\",\"\"),\"-\",\"\"),\"/\",\"\"),\"erro\")","v":""},{"$f":"IFERROR(Gerar_Upload!C1073,\"erro\")","v":0},{"$f":"IFERROR(Gerar_Upload!D1073,\"erro\")","v":0},{"$f":"IFERROR(DATE(YEAR(Gerar_Upload!E1073),MONTH(Gerar_Upload!E1073),DAY(Gerar_Upload!E1073)),\"erro\")","v":"00:00:00"},{"$f":"IFERROR(Gerar_Upload!F1073,\"erro\")","v":0},{"$f":"IFERROR(IF(Gerar_Upload!G1073<44,REPT(0,44-LEN(Gerar_Upload!G1073))&Gerar_Upload!G1073,Gerar_Upload!G1073),\"erro\")","v":"00000000000000000000000000000000000000000000"}]
[{"$f":"IFERROR(LEFT(Gerar_Upload!A1074,120),\"erro\")","v":""},{"$f":"IFERROR(SUBSTITUTE(SUBSTITUTE(SUBSTITUTE(Gerar_Upload!B1074,\".\",\"\"),\"-\",\"\"),\"/\",\"\"),\"erro\")","v":""},{"$f":"IFERROR(Gerar_Upload!C1074,\"erro\")","v":0},{"$f":"IFERROR(Gerar_Upload!D1074,\"erro\")","v":0},{"$f":"IFERROR(DATE(YEAR(Gerar_Upload!E1074),MONTH(Gerar_Upload!E1074),DAY(Gerar_Upload!E1074)),\"erro\")","v":"00:00:00"},{"$f":"IFERROR(Gerar_Upload!F1074,\"erro\")","v":0},{"$f":"IFERROR(IF(Gerar_Upload!G1074<44,REPT(0,44-LEN(Gerar_Upload!G1074))&Gerar_Upload!G1074,Gerar_Upload!G1074),\"erro\")","v":"00000000000000000000000000000000000000000000"}]
[{"$f":"IFERROR(LEFT(Gerar_Upload!A1075,120),\"erro\")","v":""},{"$f":"IFERROR(SUBSTITUTE(SUBSTITUTE(SUBSTITUTE(Gerar_Upload!B1075,\".\",\"\"),\"-\",\"\"),\"/\",\"\"),\"erro\")","v":""},{"$f":"IFERROR(Gerar_Upload!C1075,\"erro\")","v":0},{"$f":"IFERROR(Gerar_Upload!D1075,\"erro\")","v":0},{"$f":"IFERROR(DATE(YEAR(Gerar_Upload!E1075),MONTH(Gerar_Upload!E1075),DAY(Gerar_Upload!E1075)),\"erro\")","v":"00:00:00"},{"$f":"IFERROR(Gerar_Upload!F1075,\"erro\")","v":0},{"$f":"IFERROR(IF(Gerar_Upload!G1075<44,REPT(0,44-LEN(Gerar_Upload!G1075))&Gerar_Upload!G1075,Gerar_Upload!G1075),\"erro\")","v":"00000000000000000000000000000000000000000000"}]
[{"$f":"IFERROR(LEFT(Gerar_Upload!A1076,120),\"erro\")","v":""},{"$f":"IFERROR(SUBSTITUTE(SUBSTITUTE(SUBSTITUTE(Gerar_Upload!B1076,\".\",\"\"),\"-\",\"\"),\"/\",\"\"),\"erro\")","v":""},{"$f":"IFERROR(Gerar_Upload!C1076,\"erro\")","v":0},{"$f":"IFERROR(Gerar_Upload!D1076,\"erro\")","v":0},{"$f":"IFERROR(DATE(YEAR(Gerar_Upload!E1076),MONTH(Gerar_Upload!E1076),DAY(Gerar_Upload!E1076)),\"erro\")","v":"00:00:00"},{"$f":"IFERROR(Gerar_Upload!F1076,\"erro\")","v":0},{"$f":"IFERROR(IF(Gerar_Upload!G1076<44,REPT(0,44-LEN(Gerar_Upload!G1076))&Gerar_Upload!G1076,Gerar_Upload!G1076),\"erro\")","v":"00000000000000000000000000000000000000000000"}]
[{"$f":"IFERROR(LEFT(Gerar_Upload!A1077,120),\"erro\")","v":""},{"$f":"IFERROR(SUBSTITUTE(SUBSTITUTE(SUBSTITUTE(Gerar_Upload!B1077,\".\",\"\"),\"-\",\"\"),\"/\",\"\"),\"erro\")","v":""},{"$f":"IFERROR(Gerar_Upload!C1077,\"erro\")","v":0},{"$f":"IFERROR(Gerar_Upload!D1077,\"erro\")","v":0},{"$f":"IFERROR(DATE(YEAR(Gerar_Upload!E1077),MONTH(Gerar_Upload!E1077),DAY(Gerar_Upload!E1077)),\"erro\")","v":"00:00:00"},{"$f":"IFERROR(Gerar_Upload!F1077,\"erro\")","v":0},{"$f":"IFERROR(IF(Gerar_Upload!G1077<44,REPT(0,44-LEN(Gerar_Upload!G1077))&Gerar_Upload!G1077,Gerar_Upload!G1077),\"erro\")","v":"00000000000000000000000000000000000000000000"}]
[{"$f":"IFERROR(LEFT(Gerar_Upload!A1078,120),\"erro\")","v":""},{"$f":"IFERROR(SUBSTITUTE(SUBSTITUTE(SUBSTITUTE(Gerar_Upload!B1078,\".\",\"\"),\"-\",\"\"),\"/\",\"\"),\"erro\")","v":""},{"$f":"IFERROR(Gerar_Upload!C1078,\"erro\")","v":0},{"$f":"IFERROR(Gerar_Upload!D1078,\"erro\")","v":0},{"$f":"IFERROR(DATE(YEAR(Gerar_Upload!E1078),MONTH(Gerar_Upload!E1078),DAY(Gerar_Upload!E1078)),\"erro\")","v":"00:00:00"},{"$f":"IFERROR(Gerar_Upload!F1078,\"erro\")","v":0},{"$f":"IFERROR(IF(Gerar_Upload!G1078<44,REPT(0,44-LEN(Gerar_Upload!G1078))&Gerar_Upload!G1078,Gerar_Upload!G1078),\"erro\")","v":"00000000000000000000000000000000000000000000"}]
[{"$f":"IFERROR(LEFT(Gerar_Upload!A1079,120),\"erro\")","v":""},{"$f":"IFERROR(SUBSTITUTE(SUBSTITUTE(SUBSTITUTE(Gerar_Upload!B1079,\".\",\"\"),\"-\",\"\"),\"/\",\"\"),\"erro\")","v":""},{"$f":"IFERROR(Gerar_Upload!C1079,\"erro\")","v":0},{"$f":"IFERROR(Gerar_Upload!D1079,\"erro\")","v":0},{"$f":"IFERROR(DATE(YEAR(Gerar_Upload!E1079),MONTH(Gerar_Upload!E1079),DAY(Gerar_Upload!E1079)),\"erro\")","v":"00:00:00"},{"$f":"IFERROR(Gerar_Upload!F1079,\"erro\")","v":0},{"$f":"IFERROR(IF(Gerar_Upload!G1079<44,REPT(0,44-LEN(Gerar_Upload!G1079))&Gerar_Upload!G1079,Gerar_Upload!G1079),\"erro\")","v":"00000000000000000000000000000000000000000000"}]
[{"$f":"IFERROR(LEFT(Gerar_Upload!A1080,120),\"erro\")","v":""},{"$f":"IFERROR(SUBSTITUTE(SUBSTITUTE(SUBSTITUTE(Gerar_Upload!B1080,\".\",\"\"),\"-\",\"\"),\"/\",\"\"),\"erro\")","v":""},{"$f":"IFERROR(Gerar_Upload!C1080,\"erro\")","v":0},{"$f":"IFERROR(Gerar_Upload!D1080,\"erro\")","v":0},{"$f":"IFERROR(DATE(YEAR(Gerar_Upload!E1080),MONTH(Gerar_Upload!E1080),DAY(Gerar_Upload!E1080)),\"erro\")","v":"00:00:00"},{"$f":"IFERROR(Gerar_Upload!F1080,\"erro\")","v":0},{"$f":"IFERROR(IF(Gerar_Upload!G1080<44,REPT(0,44-LEN(Gerar_Upload!G1080))&Gerar_Upload!G1080,Gerar_Upload!G1080),\"erro\")","v":"00000000000000000000000000000000000000000000"}]
[{"$f":"IFERROR(LEFT(Gerar_Upload!A1081,120),\"erro\")","v":""},{"$f":"IFERROR(SUBSTITUTE(SUBSTITUTE(SUBSTITUTE(Gerar_Upload!B1081,\".\",\"\"),\"-\",\"\"),\"/\",\"\"),\"erro\")","v":""},{"$f":"IFERROR(Gerar_Upload!C1081,\"erro\")","v":0},{"$f":"IFERROR(Gerar_Upload!D1081,\"erro\")","v":0},{"$f":"IFERROR(DATE(YEAR(Gerar_Upload!E1081),MONTH(Gerar_Upload!E1081),DAY(Gerar_Upload!E1081)),\"erro\")","v":"00:00:00"},{"$f":"IFERROR(Gerar_Upload!F1081,\"erro\")","v":0},{"$f":"IFERROR(IF(Gerar_Upload!G1081<44,REPT(0,44-LEN(Gerar_Upload!G1081))&Gerar_Upload!G1081,Gerar_Upload!G1081),\"erro\")","v":"00000000000000000000000000000000000000000000"}]
[{"$f":"IFERROR(LEFT(Gerar_Upload!A1082,120),\"erro\")","v":""},{"$f":"IFERROR(SUBSTITUTE(SUBSTITUTE(SUBSTITUTE(Gerar_Upload!B1082,\".\",\"\"),\"-\",\"\"),\"/\",\"\"),\"erro\")","v":""},{"$f":"IFERROR(Gerar_Upload!C1082,\"erro\")","v":0},{"$f":"IFERROR(Gerar_Upload!D1082,\"erro\")","v":0},{"$f":"IFERROR(DATE(YEAR(Gerar_Upload!E1082),MONTH(Gerar_Upload!E1082),DAY(Gerar_Upload!E1082)),\"erro\")","v":"00:00:00"},{"$f":"IFERROR(Gerar_Upload!F1082,\"erro\")","v":0},{"$f":"IFERROR(IF(Gerar_Upload!G1082<44,REPT(0,44-LEN(Gerar_Upload!G1082))&Gerar_Upload!G1082,Gerar_Upload!G1082),\"erro\")","v":"00000000000000000000000000000000000000000000"}]
[{"$f":"IFERROR(LEFT(Gerar_Upload!A1083,120),\"erro\")","v":""},{"$f":"IFERROR(SUBSTITUTE(SUBSTITUTE(SUBSTITUTE(Gerar_Upload!B1083,\".\",\"\"),\"-\",\"\"),\"/\",\"\"),\"erro\")","v":""},{"$f":"IFERROR(Gerar_Upload!C1083,\"erro\")","v":0},{"$f":"IFERROR(Gerar_Upload!D1083,\"erro\")","v":0},{"$f":"IFERROR(DATE(YEAR(Gerar_Upload!E1083),MONTH(Gerar_Upload!E1083),DAY(Gerar_Upload!E1083)),\"erro\")","v":"00:00:00"},{"$f":"IFERROR(Gerar_Upload!F1083,\"erro\")","v":0},{"$f":"IFERROR(IF(Gerar_Upload!G1083<44,REPT(0,44-LEN(Gerar_Upload!G1083))&Gerar_Upload!G1083,Gerar_Upload!G1083),\"erro\")","v":"00000000000000000000000000000000000000000000"}]
[{"$f":"IFERROR(LEFT(Gerar_Upload!A1084,120),\"erro\")","v":""},{"$f":"IFERROR(SUBSTITUTE(SUBSTITUTE(SUBSTITUTE(Gerar_Upload!B1084,\".\",\"\"),\"-\",\"\"),\"/\",\"\"),\"erro\")","v":""},{"$f":"IFERROR(Gerar_Upload!C1084,\"erro\")","v":0},{"$f":"IFERROR(Gerar_Upload!D1084,\"erro\")","v":0},{"$f":"IFERROR(DATE(YEAR(Gerar_Upload!E1084),MONTH(Gerar_Upload!E1084),DAY(Gerar_Upload!E1084)),\"erro\")","v":"00:00:00"},{"$f":"IFERROR(Gerar_Upload!F1084,\"erro\")","v":0},{"$f":"IFERROR(IF(Gerar_Upload!G1084<44,REPT(0,44-LEN(Gerar_Upload!G1084))&Gerar_Upload!G1084,Gerar_Upload!G1084),\"erro\")","v":"00000000000000000000000000000000000000000000"}]
[{"$f":"IFERROR(LEFT(Gerar_Upload!A1085,120),\"erro\")","v":""},{"$f":"IFERROR(SUBSTITUTE(SUBSTITUTE(SUBSTITUTE(Gerar_Upload!B1085,\".\",\"\"),\"-\",\"\"),\"/\",\"\"),\"erro\")","v":""},{"$f":"IFERROR(Gerar_Upload!C1085,\"erro\")","v":0},{"$f":"IFERROR(Gerar_Upload!D1085,\"erro\")","v":0},{"$f":"IFERROR(DATE(YEAR(Gerar_Upload!E1085),MONTH(Gerar_Upload!E1085),DAY(Gerar_Upload!E1085)),\"erro\")","v":"00:00:00"},{"$f":"IFERROR(Gerar_Upload!F1085,\"erro\")","v":0},{"$f":"IFERROR(IF(Gerar_Upload!G1085<44,REPT(0,44-LEN(Gerar_Upload!G1085))&Gerar_Upload!G1085,Gerar_Upload!G1085),\"erro\")","v":"00000000000000000000000000000000000000000000"}]
[{"$f":"IFERROR(LEFT(Gerar_Upload!A1086,120),\"erro\")","v":""},{"$f":"IFERROR(SUBSTITUTE(SUBSTITUTE(SUBSTITUTE(Gerar_Upload!B1086,\".\",\"\"),\"-\",\"\"),\"/\",\"\"),\"erro\")","v":""},{"$f":"IFERROR(Gerar_Upload!C1086,\"erro\")","v":0},{"$f":"IFERROR(Gerar_Upload!D1086,\"erro\")","v":0},{"$f":"IFERROR(DATE(YEAR(Gerar_Upload!E1086),MONTH(Gerar_Upload!E1086),DAY(Gerar_Upload!E1086)),\"erro\")","v":"00:00:00"},{"$f":"IFERROR(Gerar_Upload!F1086,\"erro\")","v":0},{"$f":"IFERROR(IF(Gerar_Upload!G1086<44,REPT(0,44-LEN(Gerar_Upload!G1086))&Gerar_Upload!G1086,Gerar_Upload!G1086),\"erro\")","v":"00000000000000000000000000000000000000000000"}]
[{"$f":"IFERROR(LEFT(Gerar_Upload!A1087,120),\"erro\")","v":""},{"$f":"IFERROR(SUBSTITUTE(SUBSTITUTE(SUBSTITUTE(Gerar_Upload!B1087,\".\",\"\"),\"-\",\"\"),\"/\",\"\"),\"erro\")","v":""},{"$f":"IFERROR(Gerar_Upload!C1087,\"erro\")","v":0},{"$f":"IFERROR(Gerar_Upload!D1087,\"erro\")","v":0},{"$f":"IFERROR(DATE(YEAR(Gerar_Upload!E1087),MONTH(Gerar_Upload!E1087),DAY(Gerar_Upload!E1087)),\"erro\")","v":"00:00:00"},{"$f":"IFERROR(Gerar_Upload!F1087,\"erro\")","v":0},{"$f":"IFERROR(IF(Gerar_Upload!G1087<44,REPT(0,44-LEN(Gerar_Upload!G1087))&Gerar_Upload!G1087,Gerar_Upload!G1087),\"erro\")","v":"00000000000000000000000000000000000000000000"}]
[{"$f":"IFERROR(LEFT(Gerar_Upload!A1088,120),\"erro\")","v":""},{"$f":"IFERROR(SUBSTITUTE(SUBSTITUTE(SUBSTITUTE(Gerar_Upload!B1088,\".\",\"\"),\"-\",\"\"),\"/\",\"\"),\"erro\")","v":""},{"$f":"IFERROR(Gerar_Upload!C1088,\"erro\")","v":0},{"$f":"IFERROR(Gerar_Upload!D1088,\"erro\")","v":0},{"$f":"IFERROR(DATE(YEAR(Gerar_Upload!E1088),MONTH(Gerar_Upload!E1088),DAY(Gerar_Upload!E1088)),\"erro\")","v":"00:00:00"},{"$f":"IFERROR(Gerar_Upload!F1088,\"erro\")","v":0},{"$f":"IFERROR(IF(Gerar_Upload!G1088<44,REPT(0,44-LEN(Gerar_Upload!G1088))&Gerar_Upload!G1088,Gerar_Upload!G1088),\"erro\")","v":"00000000000000000000000000000000000000000000"}]
[{"$f":"IFERROR(LEFT(Gerar_Upload!A1089,120),\"erro\")","v":""},{"$f":"IFERROR(SUBSTITUTE(SUBSTITUTE(SUBSTITUTE(Gerar_Upload!B1089,\".\",\"\"),\"-\",\"\"),\"/\",\"\"),\"erro\")","v":""},{"$f":"IFERROR(Gerar_Upload!C1089,\"erro\")","v":0},{"$f":"IFERROR(Gerar_Upload!D1089,\"erro\")","v":0},{"$f":"IFERROR(DATE(YEAR(Gerar_Upload!E1089),MONTH(Gerar_Upload!E1089),DAY(Gerar_Upload!E1089)),\"erro\")","v":"00:00:00"},{"$f":"IFERROR(Gerar_Upload!F1089,\"erro\")","v":0},{"$f":"IFERROR(IF(Gerar_Upload!G1089<44,REPT(0,44-LEN(Gerar_Upload!G1089))&Gerar_Upload!G1089,Gerar_Upload!G1089),\"erro\")","v":"00000000000000000000000000000000000000000000"}]
[{"$f":"IFERROR(LEFT(Gerar_Upload!A1090,120),\"erro\")","v":""},{"$f":"IFERROR(SUBSTITUTE(SUBSTITUTE(SUBSTITUTE(Gerar_Upload!B1090,\".\",\"\"),\"-\",\"\"),\"/\",\"\"),\"erro\")","v":""},{"$f":"IFERROR(Gerar_Upload!C1090,\"erro\")","v":0},{"$f":"IFERROR(Gerar_Upload!D1090,\"erro\")","v":0},{"$f":"IFERROR(DATE(YEAR(Gerar_Upload!E1090),MONTH(Gerar_Upload!E1090),DAY(Gerar_Upload!E1090)),\"erro\")","v":"00:00:00"},{"$f":"IFERROR(Gerar_Upload!F1090,\"erro\")","v":0},{"$f":"IFERROR(IF(Gerar_Upload!G1090<44,REPT(0,44-LEN(Gerar_Upload!G1090))&Gerar_Upload!G1090,Gerar_Upload!G1090),\"erro\")","v":"00000000000000000000000000000000000000000000"}]
[{"$f":"IFERROR(LEFT(Gerar_Upload!A1091,120),\"erro\")","v":""},{"$f":"IFERROR(SUBSTITUTE(SUBSTITUTE(SUBSTITUTE(Gerar_Upload!B1091,\".\",\"\"),\"-\",\"\"),\"/\",\"\"),\"erro\")","v":""},{"$f":"IFERROR(Gerar_Upload!C1091,\"erro\")","v":0},{"$f":"IFERROR(Gerar_Upload!D1091,\"erro\")","v":0},{"$f":"IFERROR(DATE(YEAR(Gerar_Upload!E1091),MONTH(Gerar_Upload!E1091),DAY(Gerar_Upload!E1091)),\"erro\")","v":"00:00:00"},{"$f":"IFERROR(Gerar_Upload!F1091,\"erro\")","v":0},{"$f":"IFERROR(IF(Gerar_Upload!G1091<44,REPT(0,44-LEN(Gerar_Upload!G1091))&Gerar_Upload!G1091,Gerar_Upload!G1091),\"erro\")","v":"00000000000000000000000000000000000000000000"}]
[{"$f":"IFERROR(LEFT(Gerar_Upload!A1092,120),\"erro\")","v":""},{"$f":"IFERROR(SUBSTITUTE(SUBSTITUTE(SUBSTITUTE(Gerar_Upload!B1092,\".\",\"\"),\"-\",\"\"),\"/\",\"\"),\"erro\")","v":""},{"$f":"IFERROR(Gerar_Upload!C1092,\"erro\")","v":0},{"$f":"IFERROR(Gerar_Upload!D1092,\"erro\")","v":0},{"$f":"IFERROR(DATE(YEAR(Gerar_Upload!E1092),MONTH(Gerar_Upload!E1092),DAY(Gerar_Upload!E1092)),\"erro\")","v":"00:00:00"},{"$f":"IFERROR(Gerar_Upload!F1092,\"erro\")","v":0},{"$f":"IFERROR(IF(Gerar_Upload!G1092<44,REPT(0,44-LEN(Gerar_Upload!G1092))&Gerar_Upload!G1092,Gerar_Upload!G1092),\"erro\")","v":"00000000000000000000000000000000000000000000"}]
[{"$f":"IFERROR(LEFT(Gerar_Upload!A1093,120),\"erro\")","v":""},{"$f":"IFERROR(SUBSTITUTE(SUBSTITUTE(SUBSTITUTE(Gerar_Upload!B1093,\".\",\"\"),\"-\",\"\"),\"/\",\"\"),\"erro\")","v":""},{"$f":"IFERROR(Gerar_Upload!C1093,\"erro\")","v":0},{"$f":"IFERROR(Gerar_Upload!D1093,\"erro\")","v":0},{"$f":"IFERROR(DATE(YEAR(Gerar_Upload!E1093),MONTH(Gerar_Upload!E1093),DAY(Gerar_Upload!E1093)),\"erro\")","v":"00:00:00"},{"$f":"IFERROR(Gerar_Upload!F1093,\"erro\")","v":0},{"$f":"IFERROR(IF(Gerar_Upload!G1093<44,REPT(0,44-LEN(Gerar_Upload!G1093))&Gerar_Upload!G1093,Gerar_Upload!G1093),\"erro\")","v":"00000000000000000000000000000000000000000000"}]
[{"$f":"IFERROR(LEFT(Gerar_Upload!A1094,120),\"erro\")","v":""},{"$f":"IFERROR(SUBSTITUTE(SUBSTITUTE(SUBSTITUTE(Gerar_Upload!B1094,\".\",\"\"),\"-\",\"\"),\"/\",\"\"),\"erro\")","v":""},{"$f":"IFERROR(Gerar_Upload!C1094,\"erro\")","v":0},{"$f":"IFERROR(Gerar_Upload!D1094,\"erro\")","v":0},{"$f":"IFERROR(DATE(YEAR(Gerar_Upload!E1094),MONTH(Gerar_Upload!E1094),DAY(Gerar_Upload!E1094)),\"erro\")","v":"00:00:00"},{"$f":"IFERROR(Gerar_Upload!F1094,\"erro\")","v":0},{"$f":"IFERROR(IF(Gerar_Upload!G1094<44,REPT(0,44-LEN(Gerar_Upload!G1094))&Gerar_Upload!G1094,Gerar_Upload!G1094),\"erro\")","v":"00000000000000000000000000000000000000000000"}]
[{"$f":"IFERROR(LEFT(Gerar_Upload!A1095,120),\"erro\")","v":""},{"$f":"IFERROR(SUBSTITUTE(SUBSTITUTE(SUBSTITUTE(Gerar_Upload!B1095,\".\",\"\"),\"-\",\"\"),\"/\",\"\"),\"erro\")","v":""},{"$f":"IFERROR(Gerar_Upload!C1095,\"erro\")","v":0},{"$f":"IFERROR(Gerar_Upload!D1095,\"erro\")","v":0},{"$f":"IFERROR(DATE(YEAR(Gerar_Upload!E1095),MONTH(Gerar_Upload!E1095),DAY(Gerar_Upload!E1095)),\"erro\")","v":"00:00:00"},{"$f":"IFERROR(Gerar_Upload!F1095,\"erro\")","v":0},{"$f":"IFERROR(IF(Gerar_Upload!G1095<44,REPT(0,44-LEN(Gerar_Upload!G1095))&Gerar_Upload!G1095,Gerar_Upload!G1095),\"erro\")","v":"00000000000000000000000000000000000000000000"}]
[{"$f":"IFERROR(LEFT(Gerar_Upload!A1096,120),\"erro\")","v":""},{"$f":"IFERROR(SUBSTITUTE(SUBSTITUTE(SUBSTITUTE(Gerar_Upload!B1096,\".\",\"\"),\"-\",\"\"),\"/\",\"\"),\"erro\")","v":""},{"$f":"IFERROR(Gerar_Upload!C1096,\"erro\")","v":0},{"$f":"IFERROR(Gerar_Upload!D1096,\"erro\")","v":0},{"$f":"IFERROR(DATE(YEAR(Gerar_Upload!E1096),MONTH(Gerar_Upload!E1096),DAY(Gerar_Upload!E1096)),\"erro\")","v":"00:00:00"},{"$f":"IFERROR(Gerar_Upload!F1096,\"erro\")","v":0},{"$f":"IFERROR(IF(Gerar_Upload!G1096<44,REPT(0,44-LEN(Gerar_Upload!G1096))&Gerar_Upload!G1096,Gerar_Upload!G1096),\"erro\")","v":"00000000000000000000000000000000000000000000"}]
[{"$f":"IFERROR(LEFT(Gerar_Upload!A1097,120),\"erro\")","v":""},{"$f":"IFERROR(SUBSTITUTE(SUBSTITUTE(SUBSTITUTE(Gerar_Upload!B1097,\".\",\"\"),\"-\",\"\"),\"/\",\"\"),\"erro\")","v":""},{"$f":"IFERROR(Gerar_Upload!C1097,\"erro\")","v":0},{"$f":"IFERROR(Gerar_Upload!D1097,\"erro\")","v":0},{"$f":"IFERROR(DATE(YEAR(Gerar_Upload!E1097),MONTH(Gerar_Upload!E1097),DAY(Gerar_Upload!E1097)),\"erro\")","v":"00:00:00"},{"$f":"IFERROR(Gerar_Upload!F1097,\"erro\")","v":0},{"$f":"IFERROR(IF(Gerar_Upload!G1097<44,REPT(0,44-LEN(Gerar_Upload!G1097))&Gerar_Upload!G1097,Gerar_Upload!G1097),\"erro\")","v":"00000000000000000000000000000000000000000000"}]
[{"$f":"IFERROR(LEFT(Gerar_Upload!A1098,120),\"erro\")","v":""},{"$f":"IFERROR(SUBSTITUTE(SUBSTITUTE(SUBSTITUTE(Gerar_Upload!B1098,\".\",\"\"),\"-\",\"\"),\"/\",\"\"),\"erro\")","v":""},{"$f":"IFERROR(Gerar_Upload!C1098,\"erro\")","v":0},{"$f":"IFERROR(Gerar_Upload!D1098,\"erro\")","v":0},{"$f":"IFERROR(DATE(YEAR(Gerar_Upload!E1098),MONTH(Gerar_Upload!E1098),DAY(Gerar_Upload!E1098)),\"erro\")","v":"00:00:00"},{"$f":"IFERROR(Gerar_Upload!F1098,\"erro\")","v":0},{"$f":"IFERROR(IF(Gerar_Upload!G1098<44,REPT(0,44-LEN(Gerar_Upload!G1098))&Gerar_Upload!G1098,Gerar_Upload!G1098),\"erro\")","v":"00000000000000000000000000000000000000000000"}]
[{"$f":"IFERROR(LEFT(Gerar_Upload!A1099,120),\"erro\")","v":""},{"$f":"IFERROR(SUBSTITUTE(SUBSTITUTE(SUBSTITUTE(Gerar_Upload!B1099,\".\",\"\"),\"-\",\"\"),\"/\",\"\"),\"erro\")","v":""},{"$f":"IFERROR(Gerar_Upload!C1099,\"erro\")","v":0},{"$f":"IFERROR(Gerar_Upload!D1099,\"erro\")","v":0},{"$f":"IFERROR(DATE(YEAR(Gerar_Upload!E1099),MONTH(Gerar_Upload!E1099),DAY(Gerar_Upload!E1099)),\"erro\")","v":"00:00:00"},{"$f":"IFERROR(Gerar_Upload!F1099,\"erro\")","v":0},{"$f":"IFERROR(IF(Gerar_Upload!G1099<44,REPT(0,44-LEN(Gerar_Upload!G1099))&Gerar_Upload!G1099,Gerar_Upload!G1099),\"erro\")","v":"00000000000000000000000000000000000000000000"}]
[{"$f":"IFERROR(LEFT(Gerar_Upload!A1100,120),\"erro\")","v":""},{"$f":"IFERROR(SUBSTITUTE(SUBSTITUTE(SUBSTITUTE(Gerar_Upload!B1100,\".\",\"\"),\"-\",\"\"),\"/\",\"\"),\"erro\")","v":""},{"$f":"IFERROR(Gerar_Upload!C1100,\"erro\")","v":0},{"$f":"IFERROR(Gerar_Upload!D1100,\"erro\")","v":0},{"$f":"IFERROR(DATE(YEAR(Gerar_Upload!E1100),MONTH(Gerar_Upload!E1100),DAY(Gerar_Upload!E1100)),\"erro\")","v":"00:00:00"},{"$f":"IFERROR(Gerar_Upload!F1100,\"erro\")","v":0},{"$f":"IFERROR(IF(Gerar_Upload!G1100<44,REPT(0,44-LEN(Gerar_Upload!G1100))&Gerar_Upload!G1100,Gerar_Upload!G1100),\"erro\")","v":"00000000000000000000000000000000000000000000"}]
[{"$f":"IFERROR(LEFT(Gerar_Upload!A1101,120),\"erro\")","v":""},{"$f":"IFERROR(SUBSTITUTE(SUBSTITUTE(SUBSTITUTE(Gerar_Upload!B1101,\".\",\"\"),\"-\",\"\"),\"/\",\"\"),\"erro\")","v":""},{"$f":"IFERROR(Gerar_Upload!C1101,\"erro\")","v":0},{"$f":"IFERROR(Gerar_Upload!D1101,\"erro\")","v":0},{"$f":"IFERROR(DATE(YEAR(Gerar_Upload!E1101),MONTH(Gerar_Upload!E1101),DAY(Gerar_Upload!E1101)),\"erro\")","v":"00:00:00"},{"$f":"IFERROR(Gerar_Upload!F1101,\"erro\")","v":0},{"$f":"IFERROR(IF(Gerar_Upload!G1101<44,REPT(0,44-LEN(Gerar_Upload!G1101))&Gerar_Upload!G1101,Gerar_Upload!G1101),\"erro\")","v":"00000000000000000000000000000000000000000000"}]
[{"$f":"IFERROR(LEFT(Gerar_Upload!A1102,120),\"erro\")","v":""},{"$f":"IFERROR(SUBSTITUTE(SUBSTITUTE(SUBSTITUTE(Gerar_Upload!B1102,\".\",\"\"),\"-\",\"\"),\"/\",\"\"),\"erro\")","v":""},{"$f":"IFERROR(Gerar_Upload!C1102,\"erro\")","v":0},{"$f":"IFERROR(Gerar_Upload!D1102,\"erro\")","v":0},{"$f":"IFERROR(DATE(YEAR(Gerar_Upload!E1102),MONTH(Gerar_Upload!E1102),DAY(Gerar_Upload!E1102)),\"erro\")","v":"00:00:00"},{"$f":"IFERROR(Gerar_Upload!F1102,\"erro\")","v":0},{"$f":"IFERROR(IF(Gerar_Upload!G1102<44,REPT(0,44-LEN(Gerar_Upload!G1102))&Gerar_Upload!G1102,Gerar_Upload!G1102),\"erro\")","v":"00000000000000000000000000000000000000000000"}]
[{"$f":"IFERROR(LEFT(Gerar_Upload!A1103,120),\"erro\")","v":""},{"$f":"IFERROR(SUBSTITUTE(SUBSTITUTE(SUBSTITUTE(Gerar_Upload!B1103,\".\",\"\"),\"-\",\"\"),\"/\",\"\"),\"erro\")","v":""},{"$f":"IFERROR(Gerar_Upload!C1103,\"erro\")","v":0},{"$f":"IFERROR(Gerar_Upload!D1103,\"erro\")","v":0},{"$f":"IFERROR(DATE(YEAR(Gerar_Upload!E1103),MONTH(Gerar_Upload!E1103),DAY(Gerar_Upload!E1103)),\"erro\")","v":"00:00:00"},{"$f":"IFERROR(Gerar_Upload!F1103,\"erro\")","v":0},{"$f":"IFERROR(IF(Gerar_Upload!G1103<44,REPT(0,44-LEN(Gerar_Upload!G1103))&Gerar_Upload!G1103,Gerar_Upload!G1103),\"erro\")","v":"00000000000000000000000000000000000000000000"}]
[{"$f":"IFERROR(LEFT(Gerar_Upload!A1104,120),\"erro\")","v":""},{"$f":"IFERROR(SUBSTITUTE(SUBSTITUTE(SUBSTITUTE(Gerar_Upload!B1104,\".\",\"\"),\"-\",\"\"),\"/\",\"\"),\"erro\")","v":""},{"$f":"IFERROR(Gerar_Upload!C1104,\"erro\")","v":0},{"$f":"IFERROR(Gerar_Upload!D1104,\"erro\")","v":0},{"$f":"IFERROR(DATE(YEAR(Gerar_Upload!E1104),MONTH(Gerar_Upload!E1104),DAY(Gerar_Upload!E1104)),\"erro\")","v":"00:00:00"},{"$f":"IFERROR(Gerar_Upload!F1104,\"erro\")","v":0},{"$f":"IFERROR(IF(Gerar_Upload!G1104<44,REPT(0,44-LEN(Gerar_Upload!G1104))&Gerar_Upload!G1104,Gerar_Upload!G1104),\"erro\")","v":"00000000000000000000000000000000000000000000"}]
[{"$f":"IFERROR(LEFT(Gerar_Upload!A1105,120),\"erro\")","v":""},{"$f":"IFERROR(SUBSTITUTE(SUBSTITUTE(SUBSTITUTE(Gerar_Upload!B1105,\".\",\"\"),\"-\",\"\"),\"/\",\"\"),\"erro\")","v":""},{"$f":"IFERROR(Gerar_Upload!C1105,\"erro\")","v":0},{"$f":"IFERROR(Gerar_Upload!D1105,\"erro\")","v":0},{"$f":"IFERROR(DATE(YEAR(Gerar_Upload!E1105),MONTH(Gerar_Upload!E1105),DAY(Gerar_Upload!E1105)),\"erro\")","v":"00:00:00"},{"$f":"IFERROR(Gerar_Upload!F1105,\"erro\")","v":0},{"$f":"IFERROR(IF(Gerar_Upload!G1105<44,REPT(0,44-LEN(Gerar_Upload!G1105))&Gerar_Upload!G1105,Gerar_Upload!G1105),\"erro\")","v":"00000000000000000000000000000000000000000000"}]
[{"$f":"IFERROR(LEFT(Gerar_Upload!A1106,120),\"erro\")","v":""},{"$f":"IFERROR(SUBSTITUTE(SUBSTITUTE(SUBSTITUTE(Gerar_Upload!B1106,\".\",\"\"),\"-\",\"\"),\"/\",\"\"),\"erro\")","v":""},{"$f":"IFERROR(Gerar_Upload!C1106,\"erro\")","v":0},{"$f":"IFERROR(Gerar_Upload!D1106,\"erro\")","v":0},{"$f":"IFERROR(DATE(YEAR(Gerar_Upload!E1106),MONTH(Gerar_Upload!E1106),DAY(Gerar_Upload!E1106)),\"erro\")","v":"00:00:00"},{"$f":"IFERROR(Gerar_Upload!F1106,\"erro\")","v":0},{"$f":"IFERROR(IF(Gerar_Upload!G1106<44,REPT(0,44-LEN(Gerar_Upload!G1106))&Gerar_Upload!G1106,Gerar_Upload!G1106),\"erro\")","v":"00000000000000000000000000000000000000000000"}]
[{"$f":"IFERROR(LEFT(Gerar_Upload!A1107,120),\"erro\")","v":""},{"$f":"IFERROR(SUBSTITUTE(SUBSTITUTE(SUBSTITUTE(Gerar_Upload!B1107,\".\",\"\"),\"-\",\"\"),\"/\",\"\"),\"erro\")","v":""},{"$f":"IFERROR(Gerar_Upload!C1107,\"erro\")","v":0},{"$f":"IFERROR(Gerar_Upload!D1107,\"erro\")","v":0},{"$f":"IFERROR(DATE(YEAR(Gerar_Upload!E1107),MONTH(Gerar_Upload!E1107),DAY(Gerar_Upload!E1107)),\"erro\")","v":"00:00:00"},{"$f":"IFERROR(Gerar_Upload!F1107,\"erro\")","v":0},{"$f":"IFERROR(IF(Gerar_Upload!G1107<44,REPT(0,44-LEN(Gerar_Upload!G1107))&Gerar_Upload!G1107,Gerar_Upload!G1107),\"erro\")","v":"00000000000000000000000000000000000000000000"}]
[{"$f":"IFERROR(LEFT(Gerar_Upload!A1108,120),\"erro\")","v":""},{"$f":"IFERROR(SUBSTITUTE(SUBSTITUTE(SUBSTITUTE(Gerar_Upload!B1108,\".\",\"\"),\"-\",\"\"),\"/\",\"\"),\"erro\")","v":""},{"$f":"IFERROR(Gerar_Upload!C1108,\"erro\")","v":0},{"$f":"IFERROR(Gerar_Upload!D1108,\"erro\")","v":0},{"$f":"IFERROR(DATE(YEAR(Gerar_Upload!E1108),MONTH(Gerar_Upload!E1108),DAY(Gerar_Upload!E1108)),\"erro\")","v":"00:00:00"},{"$f":"IFERROR(Gerar_Upload!F1108,\"erro\")","v":0},{"$f":"IFERROR(IF(Gerar_Upload!G1108<44,REPT(0,44-LEN(Gerar_Upload!G1108))&Gerar_Upload!G1108,Gerar_Upload!G1108),\"erro\")","v":"00000000000000000000000000000000000000000000"}]
[{"$f":"IFERROR(LEFT(Gerar_Upload!A1109,120),\"erro\")","v":""},{"$f":"IFERROR(SUBSTITUTE(SUBSTITUTE(SUBSTITUTE(Gerar_Upload!B1109,\".\",\"\"),\"-\",\"\"),\"/\",\"\"),\"erro\")","v":""},{"$f":"IFERROR(Gerar_Upload!C1109,\"erro\")","v":0},{"$f":"IFERROR(Gerar_Upload!D1109,\"erro\")","v":0},{"$f":"IFERROR(DATE(YEAR(Gerar_Upload!E1109),MONTH(Gerar_Upload!E1109),DAY(Gerar_Upload!E1109)),\"erro\")","v":"00:00:00"},{"$f":"IFERROR(Gerar_Upload!F1109,\"erro\")","v":0},{"$f":"IFERROR(IF(Gerar_Upload!G1109<44,REPT(0,44-LEN(Gerar_Upload!G1109))&Gerar_Upload!G1109,Gerar_Upload!G1109),\"erro\")","v":"00000000000000000000000000000000000000000000"}]
[{"$f":"IFERROR(LEFT(Gerar_Upload!A1110,120),\"erro\")","v":""},{"$f":"IFERROR(SUBSTITUTE(SUBSTITUTE(SUBSTITUTE(Gerar_Upload!B1110,\".\",\"\"),\"-\",\"\"),\"/\",\"\"),\"erro\")","v":""},{"$f":"IFERROR(Gerar_Upload!C1110,\"erro\")","v":0},{"$f":"IFERROR(Gerar_Upload!D1110,\"erro\")","v":0},{"$f":"IFERROR(DATE(YEAR(Gerar_Upload!E1110),MONTH(Gerar_Upload!E1110),DAY(Gerar_Upload!E1110)),\"erro\")","v":"00:00:00"},{"$f":"IFERROR(Gerar_Upload!F1110,\"erro\")","v":0},{"$f":"IFERROR(IF(Gerar_Upload!G1110<44,REPT(0,44-LEN(Gerar_Upload!G1110))&Gerar_Upload!G1110,Gerar_Upload!G1110),\"erro\")","v":"00000000000000000000000000000000000000000000"}]
[{"$f":"IFERROR(LEFT(Gerar_Upload!A1111,120),\"erro\")","v":""},{"$f":"IFERROR(SUBSTITUTE(SUBSTITUTE(SUBSTITUTE(Gerar_Upload!B1111,\".\",\"\"),\"-\",\"\"),\"/\",\"\"),\"erro\")","v":""},{"$f":"IFERROR(Gerar_Upload!C1111,\"erro\")","v":0},{"$f":"IFERROR(Gerar_Upload!D1111,\"erro\")","v":0},{"$f":"IFERROR(DATE(YEAR(Gerar_Upload!E1111),MONTH(Gerar_Upload!E1111),DAY(Gerar_Upload!E1111)),\"erro\")","v":"00:00:00"},{"$f":"IFERROR(Gerar_Upload!F1111,\"erro\")","v":0},{"$f":"IFERROR(IF(Gerar_Upload!G1111<44,REPT(0,44-LEN(Gerar_Upload!G1111))&Gerar_Upload!G1111,Gerar_Upload!G1111),\"erro\")","v":"00000000000000000000000000000000000000000000"}]
[{"$f":"IFERROR(LEFT(Gerar_Upload!A1112,120),\"erro\")","v":""},{"$f":"IFERROR(SUBSTITUTE(SUBSTITUTE(SUBSTITUTE(Gerar_Upload!B1112,\".\",\"\"),\"-\",\"\"),\"/\",\"\"),\"erro\")","v":""},{"$f":"IFERROR(Gerar_Upload!C1112,\"erro\")","v":0},{"$f":"IFERROR(Gerar_Upload!D1112,\"erro\")","v":0},{"$f":"IFERROR(DATE(YEAR(Gerar_Upload!E1112),MONTH(Gerar_Upload!E1112),DAY(Gerar_Upload!E1112)),\"erro\")","v":"00:00:00"},{"$f":"IFERROR(Gerar_Upload!F1112,\"erro\")","v":0},{"$f":"IFERROR(IF(Gerar_Upload!G1112<44,REPT(0,44-LEN(Gerar_Upload!G1112))&Gerar_Upload!G1112,Gerar_Upload!G1112),\"erro\")","v":"00000000000000000000000000000000000000000000"}]
[{"$f":"IFERROR(LEFT(Gerar_Upload!A1113,120),\"erro\")","v":""},{"$f":"IFERROR(SUBSTITUTE(SUBSTITUTE(SUBSTITUTE(Gerar_Upload!B1113,\".\",\"\"),\"-\",\"\"),\"/\",\"\"),\"erro\")","v":""},{"$f":"IFERROR(Gerar_Upload!C1113,\"erro\")","v":0},{"$f":"IFERROR(Gerar_Upload!D1113,\"erro\")","v":0},{"$f":"IFERROR(DATE(YEAR(Gerar_Upload!E1113),MONTH(Gerar_Upload!E1113),DAY(Gerar_Upload!E1113)),\"erro\")","v":"00:00:00"},{"$f":"IFERROR(Gerar_Upload!F1113,\"erro\")","v":0},{"$f":"IFERROR(IF(Gerar_Upload!G1113<44,REPT(0,44-LEN(Gerar_Upload!G1113))&Gerar_Upload!G1113,Gerar_Upload!G1113),\"erro\")","v":"00000000000000000000000000000000000000000000"}]
[{"$f":"IFERROR(LEFT(Gerar_Upload!A1114,120),\"erro\")","v":""},{"$f":"IFERROR(SUBSTITUTE(SUBSTITUTE(SUBSTITUTE(Gerar_Upload!B1114,\".\",\"\"),\"-\",\"\"),\"/\",\"\"),\"erro\")","v":""},{"$f":"IFERROR(Gerar_Upload!C1114,\"erro\")","v":0},{"$f":"IFERROR(Gerar_Upload!D1114,\"erro\")","v":0},{"$f":"IFERROR(DATE(YEAR(Gerar_Upload!E1114),MONTH(Gerar_Upload!E1114),DAY(Gerar_Upload!E1114)),\"erro\")","v":"00:00:00"},{"$f":"IFERROR(Gerar_Upload!F1114,\"erro\")","v":0},{"$f":"IFERROR(IF(Gerar_Upload!G1114<44,REPT(0,44-LEN(Gerar_Upload!G1114))&Gerar_Upload!G1114,Gerar_Upload!G1114),\"erro\")","v":"00000000000000000000000000000000000000000000"}]
[{"$f":"IFERROR(LEFT(Gerar_Upload!A1115,120),\"erro\")","v":""},{"$f":"IFERROR(SUBSTITUTE(SUBSTITUTE(SUBSTITUTE(Gerar_Upload!B1115,\".\",\"\"),\"-\",\"\"),\"/\",\"\"),\"erro\")","v":""},{"$f":"IFERROR(Gerar_Upload!C1115,\"erro\")","v":0},{"$f":"IFERROR(Gerar_Upload!D1115,\"erro\")","v":0},{"$f":"IFERROR(DATE(YEAR(Gerar_Upload!E1115),MONTH(Gerar_Upload!E1115),DAY(Gerar_Upload!E1115)),\"erro\")","v":"00:00:00"},{"$f":"IFERROR(Gerar_Upload!F1115,\"erro\")","v":0},{"$f":"IFERROR(IF(Gerar_Upload!G1115<44,REPT(0,44-LEN(Gerar_Upload!G1115))&Gerar_Upload!G1115,Gerar_Upload!G1115),\"erro\")","v":"00000000000000000000000000000000000000000000"}]
[{"$f":"IFERROR(LEFT(Gerar_Upload!A1116,120),\"erro\")","v":""},{"$f":"IFERROR(SUBSTITUTE(SUBSTITUTE(SUBSTITUTE(Gerar_Upload!B1116,\".\",\"\"),\"-\",\"\"),\"/\",\"\"),\"erro\")","v":""},{"$f":"IFERROR(Gerar_Upload!C1116,\"erro\")","v":0},{"$f":"IFERROR(Gerar_Upload!D1116,\"erro\")","v":0},{"$f":"IFERROR(DATE(YEAR(Gerar_Upload!E1116),MONTH(Gerar_Upload!E1116),DAY(Gerar_Upload!E1116)),\"erro\")","v":"00:00:00"},{"$f":"IFERROR(Gerar_Upload!F1116,\"erro\")","v":0},{"$f":"IFERROR(IF(Gerar_Upload!G1116<44,REPT(0,44-LEN(Gerar_Upload!G1116))&Gerar_Upload!G1116,Gerar_Upload!G1116),\"erro\")","v":"00000000000000000000000000000000000000000000"}]
[{"$f":"IFERROR(LEFT(Gerar_Upload!A1117,120),\"erro\")","v":""},{"$f":"IFERROR(SUBSTITUTE(SUBSTITUTE(SUBSTITUTE(Gerar_Upload!B1117,\".\",\"\"),\"-\",\"\"),\"/\",\"\"),\"erro\")","v":""},{"$f":"IFERROR(Gerar_Upload!C1117,\"erro\")","v":0},{"$f":"IFERROR(Gerar_Upload!D1117,\"erro\")","v":0},{"$f":"IFERROR(DATE(YEAR(Gerar_Upload!E1117),MONTH(Gerar_Upload!E1117),DAY(Gerar_Upload!E1117)),\"erro\")","v":"00:00:00"},{"$f":"IFERROR(Gerar_Upload!F1117,\"erro\")","v":0},{"$f":"IFERROR(IF(Gerar_Upload!G1117<44,REPT(0,44-LEN(Gerar_Upload!G1117))&Gerar_Upload!G1117,Gerar_Upload!G1117),\"erro\")","v":"00000000000000000000000000000000000000000000"}]
[{"$f":"IFERROR(LEFT(Gerar_Upload!A1118,120),\"erro\")","v":""},{"$f":"IFERROR(SUBSTITUTE(SUBSTITUTE(SUBSTITUTE(Gerar_Upload!B1118,\".\",\"\"),\"-\",\"\"),\"/\",\"\"),\"erro\")","v":""},{"$f":"IFERROR(Gerar_Upload!C1118,\"erro\")","v":0},{"$f":"IFERROR(Gerar_Upload!D1118,\"erro\")","v":0},{"$f":"IFERROR(DATE(YEAR(Gerar_Upload!E1118),MONTH(Gerar_Upload!E1118),DAY(Gerar_Upload!E1118)),\"erro\")","v":"00:00:00"},{"$f":"IFERROR(Gerar_Upload!F1118,\"erro\")","v":0},{"$f":"IFERROR(IF(Gerar_Upload!G1118<44,REPT(0,44-LEN(Gerar_Upload!G1118))&Gerar_Upload!G1118,Gerar_Upload!G1118),\"erro\")","v":"00000000000000000000000000000000000000000000"}]
[{"$f":"IFERROR(LEFT(Gerar_Upload!A1119,120),\"erro\")","v":""},{"$f":"IFERROR(SUBSTITUTE(SUBSTITUTE(SUBSTITUTE(Gerar_Upload!B1119,\".\",\"\"),\"-\",\"\"),\"/\",\"\"),\"erro\")","v":""},{"$f":"IFERROR(Gerar_Upload!C1119,\"erro\")","v":0},{"$f":"IFERROR(Gerar_Upload!D1119,\"erro\")","v":0},{"$f":"IFERROR(DATE(YEAR(Gerar_Upload!E1119),MONTH(Gerar_Upload!E1119),DAY(Gerar_Upload!E1119)),\"erro\")","v":"00:00:00"},{"$f":"IFERROR(Gerar_Upload!F1119,\"erro\")","v":0},{"$f":"IFERROR(IF(Gerar_Upload!G1119<44,REPT(0,44-LEN(Gerar_Upload!G1119))&Gerar_Upload!G1119,Gerar_Upload!G1119),\"erro\")","v":"00000000000000000000000000000000000000000000"}]
[{"$f":"IFERROR(LEFT(Gerar_Upload!A1120,120),\"erro\")","v":""},{"$f":"IFERROR(SUBSTITUTE(SUBSTITUTE(SUBSTITUTE(Gerar_Upload!B1120,\".\",\"\"),\"-\",\"\"),\"/\",\"\"),\"erro\")","v":""},{"$f":"IFERROR(Gerar_Upload!C1120,\"erro\")","v":0},{"$f":"IFERROR(Gerar_Upload!D1120,\"erro\")","v":0},{"$f":"IFERROR(DATE(YEAR(Gerar_Upload!E1120),MONTH(Gerar_Upload!E1120),DAY(Gerar_Upload!E1120)),\"erro\")","v":"00:00:00"},{"$f":"IFERROR(Gerar_Upload!F1120,\"erro\")","v":0},{"$f":"IFERROR(IF(Gerar_Upload!G1120<44,REPT(0,44-LEN(Gerar_Upload!G1120))&Gerar_Upload!G1120,Gerar_Upload!G1120),\"erro\")","v":"00000000000000000000000000000000000000000000"}]
[{"$f":"IFERROR(LEFT(Gerar_Upload!A1121,120),\"erro\")","v":""},{"$f":"IFERROR(SUBSTITUTE(SUBSTITUTE(SUBSTITUTE(Gerar_Upload!B1121,\".\",\"\"),\"-\",\"\"),\"/\",\"\"),\"erro\")","v":""},{"$f":"IFERROR(Gerar_Upload!C1121,\"erro\")","v":0},{"$f":"IFERROR(Gerar_Upload!D1121,\"erro\")","v":0},{"$f":"IFERROR(DATE(YEAR(Gerar_Upload!E1121),MONTH(Gerar_Upload!E1121),DAY(Gerar_Upload!E1121)),\"erro\")","v":"00:00:00"},{"$f":"IFERROR(Gerar_Upload!F1121,\"erro\")","v":0},{"$f":"IFERROR(IF(Gerar_Upload!G1121<44,REPT(0,44-LEN(Gerar_Upload!G1121))&Gerar_Upload!G1121,Gerar_Upload!G1121),\"erro\")","v":"00000000000000000000000000000000000000000000"}]
[{"$f":"IFERROR(LEFT(Gerar_Upload!A1122,120),\"erro\")","v":""},{"$f":"IFERROR(SUBSTITUTE(SUBSTITUTE(SUBSTITUTE(Gerar_Upload!B1122,\".\",\"\"),\"-\",\"\"),\"/\",\"\"),\"erro\")","v":""},{"$f":"IFERROR(Gerar_Upload!C1122,\"erro\")","v":0},{"$f":"IFERROR(Gerar_Upload!D1122,\"erro\")","v":0},{"$f":"IFERROR(DATE(YEAR(Gerar_Upload!E1122),MONTH(Gerar_Upload!E1122),DAY(Gerar_Upload!E1122)),\"erro\")","v":"00:00:00"},{"$f":"IFERROR(Gerar_Upload!F1122,\"erro\")","v":0},{"$f":"IFERROR(IF(Gerar_Upload!G1122<44,REPT(0,44-LEN(Gerar_Upload!G1122))&Gerar_Upload!G1122,Gerar_Upload!G1122),\"erro\")","v":"00000000000000000000000000000000000000000000"}]
[{"$f":"IFERROR(LEFT(Gerar_Upload!A1123,120),\"erro\")","v":""},{"$f":"IFERROR(SUBSTITUTE(SUBSTITUTE(SUBSTITUTE(Gerar_Upload!B1123,\".\",\"\"),\"-\",\"\"),\"/\",\"\"),\"erro\")","v":""},{"$f":"IFERROR(Gerar_Upload!C1123,\"erro\")","v":0},{"$f":"IFERROR(Gerar_Upload!D1123,\"erro\")","v":0},{"$f":"IFERROR(DATE(YEAR(Gerar_Upload!E1123),MONTH(Gerar_Upload!E1123),DAY(Gerar_Upload!E1123)),\"erro\")","v":"00:00:00"},{"$f":"IFERROR(Gerar_Upload!F1123,\"erro\")","v":0},{"$f":"IFERROR(IF(Gerar_Upload!G1123<44,REPT(0,44-LEN(Gerar_Upload!G1123))&Gerar_Upload!G1123,Gerar_Upload!G1123),\"erro\")","v":"00000000000000000000000000000000000000000000"}]
[{"$f":"IFERROR(LEFT(Gerar_Upload!A1124,120),\"erro\")","v":""},{"$f":"IFERROR(SUBSTITUTE(SUBSTITUTE(SUBSTITUTE(Gerar_Upload!B1124,\".\",\"\"),\"-\",\"\"),\"/\",\"\"),\"erro\")","v":""},{"$f":"IFERROR(Gerar_Upload!C1124,\"erro\")","v":0},{"$f":"IFERROR(Gerar_Upload!D1124,\"erro\")","v":0},{"$f":"IFERROR(DATE(YEAR(Gerar_Upload!E1124),MONTH(Gerar_Upload!E1124),DAY(Gerar_Upload!E1124)),\"erro\")","v":"00:00:00"},{"$f":"IFERROR(Gerar_Upload!F1124,\"erro\")","v":0},{"$f":"IFERROR(IF(Gerar_Upload!G1124<44,REPT(0,44-LEN(Gerar_Upload!G1124))&Gerar_Upload!G1124,Gerar_Upload!G1124),\"erro\")","v":"00000000000000000000000000000000000000000000"}]
[{"$f":"IFERROR(LEFT(Gerar_Upload!A1125,120),\"erro\")","v":""},{"$f":"IFERROR(SUBSTITUTE(SUBSTITUTE(SUBSTITUTE(Gerar_Upload!B1125,\".\",\"\"),\"-\",\"\"),\"/\",\"\"),\"erro\")","v":""},{"$f":"IFERROR(Gerar_Upload!C1125,\"erro\")","v":0},{"$f":"IFERROR(Gerar_Upload!D1125,\"erro\")","v":0},{"$f":"IFERROR(DATE(YEAR(Gerar_Upload!E1125),MONTH(Gerar_Upload!E1125),DAY(Gerar_Upload!E1125)),\"erro\")","v":"00:00:00"},{"$f":"IFERROR(Gerar_Upload!F1125,\"erro\")","v":0},{"$f":"IFERROR(IF(Gerar_Upload!G1125<44,REPT(0,44-LEN(Gerar_Upload!G1125))&Gerar_Upload!G1125,Gerar_Upload!G1125),\"erro\")","v":"00000000000000000000000000000000000000000000"}]
[{"$f":"IFERROR(LEFT(Gerar_Upload!A1126,120),\"erro\")","v":""},{"$f":"IFERROR(SUBSTITUTE(SUBSTITUTE(SUBSTITUTE(Gerar_Upload!B1126,\".\",\"\"),\"-\",\"\"),\"/\",\"\"),\"erro\")","v":""},{"$f":"IFERROR(Gerar_Upload!C1126,\"erro\")","v":0},{"$f":"IFERROR(Gerar_Upload!D1126,\"erro\")","v":0},{"$f":"IFERROR(DATE(YEAR(Gerar_Upload!E1126),MONTH(Gerar_Upload!E1126),DAY(Gerar_Upload!E1126)),\"erro\")","v":"00:00:00"},{"$f":"IFERROR(Gerar_Upload!F1126,\"erro\")","v":0},{"$f":"IFERROR(IF(Gerar_Upload!G1126<44,REPT(0,44-LEN(Gerar_Upload!G1126))&Gerar_Upload!G1126,Gerar_Upload!G1126),\"erro\")","v":"00000000000000000000000000000000000000000000"}]
[{"$f":"IFERROR(LEFT(Gerar_Upload!A1127,120),\"erro\")","v":""},{"$f":"IFERROR(SUBSTITUTE(SUBSTITUTE(SUBSTITUTE(Gerar_Upload!B1127,\".\",\"\"),\"-\",\"\"),\"/\",\"\"),\"erro\")","v":""},{"$f":"IFERROR(Gerar_Upload!C1127,\"erro\")","v":0},{"$f":"IFERROR(Gerar_Upload!D1127,\"erro\")","v":0},{"$f":"IFERROR(DATE(YEAR(Gerar_Upload!E1127),MONTH(Gerar_Upload!E1127),DAY(Gerar_Upload!E1127)),\"erro\")","v":"00:00:00"},{"$f":"IFERROR(Gerar_Upload!F1127,\"erro\")","v":0},{"$f":"IFERROR(IF(Gerar_Upload!G1127<44,REPT(0,44-LEN(Gerar_Upload!G1127))&Gerar_Upload!G1127,Gerar_Upload!G1127),\"erro\")","v":"00000000000000000000000000000000000000000000"}]
[{"$f":"IFERROR(LEFT(Gerar_Upload!A1128,120),\"erro\")","v":""},{"$f":"IFERROR(SUBSTITUTE(SUBSTITUTE(SUBSTITUTE(Gerar_Upload!B1128,\".\",\"\"),\"-\",\"\"),\"/\",\"\"),\"erro\")","v":""},{"$f":"IFERROR(Gerar_Upload!C1128,\"erro\")","v":0},{"$f":"IFERROR(Gerar_Upload!D1128,\"erro\")","v":0},{"$f":"IFERROR(DATE(YEAR(Gerar_Upload!E1128),MONTH(Gerar_Upload!E1128),DAY(Gerar_Upload!E1128)),\"erro\")","v":"00:00:00"},{"$f":"IFERROR(Gerar_Upload!F1128,\"erro\")","v":0},{"$f":"IFERROR(IF(Gerar_Upload!G1128<44,REPT(0,44-LEN(Gerar_Upload!G1128))&Gerar_Upload!G1128,Gerar_Upload!G1128),\"erro\")","v":"00000000000000000000000000000000000000000000"}]
[{"$f":"IFERROR(LEFT(Gerar_Upload!A1129,120),\"erro\")","v":""},{"$f":"IFERROR(SUBSTITUTE(SUBSTITUTE(SUBSTITUTE(Gerar_Upload!B1129,\".\",\"\"),\"-\",\"\"),\"/\",\"\"),\"erro\")","v":""},{"$f":"IFERROR(Gerar_Upload!C1129,\"erro\")","v":0},{"$f":"IFERROR(Gerar_Upload!D1129,\"erro\")","v":0},{"$f":"IFERROR(DATE(YEAR(Gerar_Upload!E1129),MONTH(Gerar_Upload!E1129),DAY(Gerar_Upload!E1129)),\"erro\")","v":"00:00:00"},{"$f":"IFERROR(Gerar_Upload!F1129,\"erro\")","v":0},{"$f":"IFERROR(IF(Gerar_Upload!G1129<44,REPT(0,44-LEN(Gerar_Upload!G1129))&Gerar_Upload!G1129,Gerar_Upload!G1129),\"erro\")","v":"00000000000000000000000000000000000000000000"}]
[{"$f":"IFERROR(LEFT(Gerar_Upload!A1130,120),\"erro\")","v":""},{"$f":"IFERROR(SUBSTITUTE(SUBSTITUTE(SUBSTITUTE(Gerar_Upload!B1130,\".\",\"\"),\"-\",\"\"),\"/\",\"\"),\"erro\")","v":""},{"$f":"IFERROR(Gerar_Upload!C1130,\"erro\")","v":0},{"$f":"IFERROR(Gerar_Upload!D1130,\"erro\")","v":0},{"$f":"IFERROR(DATE(YEAR(Gerar_Upload!E1130),MONTH(Gerar_Upload!E1130),DAY(Gerar_Upload!E1130)),\"erro\")","v":"00:00:00"},{"$f":"IFERROR(Gerar_Upload!F1130,\"erro\")","v":0},{"$f":"IFERROR(IF(Gerar_Upload!G1130<44,REPT(0,44-LEN(Gerar_Upload!G1130))&Gerar_Upload!G1130,Gerar_Upload!G1130),\"erro\")","v":"00000000000000000000000000000000000000000000"}]
[{"$f":"IFERROR(LEFT(Gerar_Upload!A1131,120),\"erro\")","v":""},{"$f":"IFERROR(SUBSTITUTE(SUBSTITUTE(SUBSTITUTE(Gerar_Upload!B1131,\".\",\"\"),\"-\",\"\"),\"/\",\"\"),\"erro\")","v":""},{"$f":"IFERROR(Gerar_Upload!C1131,\"erro\")","v":0},{"$f":"IFERROR(Gerar_Upload!D1131,\"erro\")","v":0},{"$f":"IFERROR(DATE(YEAR(Gerar_Upload!E1131),MONTH(Gerar_Upload!E1131),DAY(Gerar_Upload!E1131)),\"erro\")","v":"00:00:00"},{"$f":"IFERROR(Gerar_Upload!F1131,\"erro\")","v":0},{"$f":"IFERROR(IF(Gerar_Upload!G1131<44,REPT(0,44-LEN(Gerar_Upload!G1131))&Gerar_Upload!G1131,Gerar_Upload!G1131),\"erro\")","v":"00000000000000000000000000000000000000000000"}]
[{"$f":"IFERROR(LEFT(Gerar_Upload!A1132,120),\"erro\")","v":""},{"$f":"IFERROR(SUBSTITUTE(SUBSTITUTE(SUBSTITUTE(Gerar_Upload!B1132,\".\",\"\"),\"-\",\"\"),\"/\",\"\"),\"erro\")","v":""},{"$f":"IFERROR(Gerar_Upload!C1132,\"erro\")","v":0},{"$f":"IFERROR(Gerar_Upload!D1132,\"erro\")","v":0},{"$f":"IFERROR(DATE(YEAR(Gerar_Upload!E1132),MONTH(Gerar_Upload!E1132),DAY(Gerar_Upload!E1132)),\"erro\")","v":"00:00:00"},{"$f":"IFERROR(Gerar_Upload!F1132,\"erro\")","v":0},{"$f":"IFERROR(IF(Gerar_Upload!G1132<44,REPT(0,44-LEN(Gerar_Upload!G1132))&Gerar_Upload!G1132,Gerar_Upload!G1132),\"erro\")","v":"00000000000000000000000000000000000000000000"}]
[{"$f":"IFERROR(LEFT(Gerar_Upload!A1133,120),\"erro\")","v":""},{"$f":"IFERROR(SUBSTITUTE(SUBSTITUTE(SUBSTITUTE(Gerar_Upload!B1133,\".\",\"\"),\"-\",\"\"),\"/\",\"\"),\"erro\")","v":""},{"$f":"IFERROR(Gerar_Upload!C1133,\"erro\")","v":0},{"$f":"IFERROR(Gerar_Upload!D1133,\"erro\")","v":0},{"$f":"IFERROR(DATE(YEAR(Gerar_Upload!E1133),MONTH(Gerar_Upload!E1133),DAY(Gerar_Upload!E1133)),\"erro\")","v":"00:00:00"},{"$f":"IFERROR(Gerar_Upload!F1133,\"erro\")","v":0},{"$f":"IFERROR(IF(Gerar_Upload!G1133<44,REPT(0,44-LEN(Gerar_Upload!G1133))&Gerar_Upload!G1133,Gerar_Upload!G1133),\"erro\")","v":"00000000000000000000000000000000000000000000"}]
[{"$f":"IFERROR(LEFT(Gerar_Upload!A1134,120),\"erro\")","v":""},{"$f":"IFERROR(SUBSTITUTE(SUBSTITUTE(SUBSTITUTE(Gerar_Upload!B1134,\".\",\"\"),\"-\",\"\"),\"/\",\"\"),\"erro\")","v":""},{"$f":"IFERROR(Gerar_Upload!C1134,\"erro\")","v":0},{"$f":"IFERROR(Gerar_Upload!D1134,\"erro\")","v":0},{"$f":"IFERROR(DATE(YEAR(Gerar_Upload!E1134),MONTH(Gerar_Upload!E1134),DAY(Gerar_Upload!E1134)),\"erro\")","v":"00:00:00"},{"$f":"IFERROR(Gerar_Upload!F1134,\"erro\")","v":0},{"$f":"IFERROR(IF(Gerar_Upload!G1134<44,REPT(0,44-LEN(Gerar_Upload!G1134))&Gerar_Upload!G1134,Gerar_Upload!G1134),\"erro\")","v":"00000000000000000000000000000000000000000000"}]
[{"$f":"IFERROR(LEFT(Gerar_Upload!A1135,120),\"erro\")","v":""},{"$f":"IFERROR(SUBSTITUTE(SUBSTITUTE(SUBSTITUTE(Gerar_Upload!B1135,\".\",\"\"),\"-\",\"\"),\"/\",\"\"),\"erro\")","v":""},{"$f":"IFERROR(Gerar_Upload!C1135,\"erro\")","v":0},{"$f":"IFERROR(Gerar_Upload!D1135,\"erro\")","v":0},{"$f":"IFERROR(DATE(YEAR(Gerar_Upload!E1135),MONTH(Gerar_Upload!E1135),DAY(Gerar_Upload!E1135)),\"erro\")","v":"00:00:00"},{"$f":"IFERROR(Gerar_Upload!F1135,\"erro\")","v":0},{"$f":"IFERROR(IF(Gerar_Upload!G1135<44,REPT(0,44-LEN(Gerar_Upload!G1135))&Gerar_Upload!G1135,Gerar_Upload!G1135),\"erro\")","v":"00000000000000000000000000000000000000000000"}]
[{"$f":"IFERROR(LEFT(Gerar_Upload!A1136,120),\"erro\")","v":""},{"$f":"IFERROR(SUBSTITUTE(SUBSTITUTE(SUBSTITUTE(Gerar_Upload!B1136,\".\",\"\"),\"-\",\"\"),\"/\",\"\"),\"erro\")","v":""},{"$f":"IFERROR(Gerar_Upload!C1136,\"erro\")","v":0},{"$f":"IFERROR(Gerar_Upload!D1136,\"erro\")","v":0},{"$f":"IFERROR(DATE(YEAR(Gerar_Upload!E1136),MONTH(Gerar_Upload!E1136),DAY(Gerar_Upload!E1136)),\"erro\")","v":"00:00:00"},{"$f":"IFERROR(Gerar_Upload!F1136,\"erro\")","v":0},{"$f":"IFERROR(IF(Gerar_Upload!G1136<44,REPT(0,44-LEN(Gerar_Upload!G1136))&Gerar_Upload!G1136,Gerar_Upload!G1136),\"erro\")","v":"00000000000000000000000000000000000000000000"}]
[{"$f":"IFERROR(LEFT(Gerar_Upload!A1137,120),\"erro\")","v":""},{"$f":"IFERROR(SUBSTITUTE(SUBSTITUTE(SUBSTITUTE(Gerar_Upload!B1137,\".\",\"\"),\"-\",\"\"),\"/\",\"\"),\"erro\")","v":""},{"$f":"IFERROR(Gerar_Upload!C1137,\"erro\")","v":0},{"$f":"IFERROR(Gerar_Upload!D1137,\"erro\")","v":0},{"$f":"IFERROR(DATE(YEAR(Gerar_Upload!E1137),MONTH(Gerar_Upload!E1137),DAY(Gerar_Upload!E1137)),\"erro\")","v":"00:00:00"},{"$f":"IFERROR(Gerar_Upload!F1137,\"erro\")","v":0},{"$f":"IFERROR(IF(Gerar_Upload!G1137<44,REPT(0,44-LEN(Gerar_Upload!G1137))&Gerar_Upload!G1137,Gerar_Upload!G1137),\"erro\")","v":"00000000000000000000000000000000000000000000"}]
[{"$f":"IFERROR(LEFT(Gerar_Upload!A1138,120),\"erro\")","v":""},{"$f":"IFERROR(SUBSTITUTE(SUBSTITUTE(SUBSTITUTE(Gerar_Upload!B1138,\".\",\"\"),\"-\",\"\"),\"/\",\"\"),\"erro\")","v":""},{"$f":"IFERROR(Gerar_Upload!C1138,\"erro\")","v":0},{"$f":"IFERROR(Gerar_Upload!D1138,\"erro\")","v":0},{"$f":"IFERROR(DATE(YEAR(Gerar_Upload!E1138),MONTH(Gerar_Upload!E1138),DAY(Gerar_Upload!E1138)),\"erro\")","v":"00:00:00"},{"$f":"IFERROR(Gerar_Upload!F1138,\"erro\")","v":0},{"$f":"IFERROR(IF(Gerar_Upload!G1138<44,REPT(0,44-LEN(Gerar_Upload!G1138))&Gerar_Upload!G1138,Gerar_Upload!G1138),\"erro\")","v":"00000000000000000000000000000000000000000000"}]
[{"$f":"IFERROR(LEFT(Gerar_Upload!A1139,120),\"erro\")","v":""},{"$f":"IFERROR(SUBSTITUTE(SUBSTITUTE(SUBSTITUTE(Gerar_Upload!B1139,\".\",\"\"),\"-\",\"\"),\"/\",\"\"),\"erro\")","v":""},{"$f":"IFERROR(Gerar_Upload!C1139,\"erro\")","v":0},{"$f":"IFERROR(Gerar_Upload!D1139,\"erro\")","v":0},{"$f":"IFERROR(DATE(YEAR(Gerar_Upload!E1139),MONTH(Gerar_Upload!E1139),DAY(Gerar_Upload!E1139)),\"erro\")","v":"00:00:00"},{"$f":"IFERROR(Gerar_Upload!F1139,\"erro\")","v":0},{"$f":"IFERROR(IF(Gerar_Upload!G1139<44,REPT(0,44-LEN(Gerar_Upload!G1139))&Gerar_Upload!G1139,Gerar_Upload!G1139),\"erro\")","v":"00000000000000000000000000000000000000000000"}]
[{"$f":"IFERROR(LEFT(Gerar_Upload!A1140,120),\"erro\")","v":""},{"$f":"IFERROR(SUBSTITUTE(SUBSTITUTE(SUBSTITUTE(Gerar_Upload!B1140,\".\",\"\"),\"-\",\"\"),\"/\",\"\"),\"erro\")","v":""},{"$f":"IFERROR(Gerar_Upload!C1140,\"erro\")","v":0},{"$f":"IFERROR(Gerar_Upload!D1140,\"erro\")","v":0},{"$f":"IFERROR(DATE(YEAR(Gerar_Upload!E1140),MONTH(Gerar_Upload!E1140),DAY(Gerar_Upload!E1140)),\"erro\")","v":"00:00:00"},{"$f":"IFERROR(Gerar_Upload!F1140,\"erro\")","v":0},{"$f":"IFERROR(IF(Gerar_Upload!G1140<44,REPT(0,44-LEN(Gerar_Upload!G1140))&Gerar_Upload!G1140,Gerar_Upload!G1140),\"erro\")","v":"00000000000000000000000000000000000000000000"}]
[{"$f":"IFERROR(LEFT(Gerar_Upload!A1141,120),\"erro\")","v":""},{"$f":"IFERROR(SUBSTITUTE(SUBSTITUTE(SUBSTITUTE(Gerar_Upload!B1141,\".\",\"\"),\"-\",\"\"),\"/\",\"\"),\"erro\")","v":""},{"$f":"IFERROR(Gerar_Upload!C1141,\"erro\")","v":0},{"$f":"IFERROR(Gerar_Upload!D1141,\"erro\")","v":0},{"$f":"IFERROR(DATE(YEAR(Gerar_Upload!E1141),MONTH(Gerar_Upload!E1141),DAY(Gerar_Upload!E1141)),\"erro\")","v":"00:00:00"},{"$f":"IFERROR(Gerar_Upload!F1141,\"erro\")","v":0},{"$f":"IFERROR(IF(Gerar_Upload!G1141<44,REPT(0,44-LEN(Gerar_Upload!G1141))&Gerar_Upload!G1141,Gerar_Upload!G1141),\"erro\")","v":"00000000000000000000000000000000000000000000"}]
[{"$f":"IFERROR(LEFT(Gerar_Upload!A1142,120),\"erro\")","v":""},{"$f":"IFERROR(SUBSTITUTE(SUBSTITUTE(SUBSTITUTE(Gerar_Upload!B1142,\".\",\"\"),\"-\",\"\"),\"/\",\"\"),\"erro\")","v":""},{"$f":"IFERROR(Gerar_Upload!C1142,\"erro\")","v":0},{"$f":"IFERROR(Gerar_Upload!D1142,\"erro\")","v":0},{"$f":"IFERROR(DATE(YEAR(Gerar_Upload!E1142),MONTH(Gerar_Upload!E1142),DAY(Gerar_Upload!E1142)),\"erro\")","v":"00:00:00"},{"$f":"IFERROR(Gerar_Upload!F1142,\"erro\")","v":0},{"$f":"IFERROR(IF(Gerar_Upload!G1142<44,REPT(0,44-LEN(Gerar_Upload!G1142))&Gerar_Upload!G1142,Gerar_Upload!G1142),\"erro\")","v":"00000000000000000000000000000000000000000000"}]
[{"$f":"IFERROR(LEFT(Gerar_Upload!A1143,120),\"erro\")","v":""},{"$f":"IFERROR(SUBSTITUTE(SUBSTITUTE(SUBSTITUTE(Gerar_Upload!B1143,\".\",\"\"),\"-\",\"\"),\"/\",\"\"),\"erro\")","v":""},{"$f":"IFERROR(Gerar_Upload!C1143,\"erro\")","v":0},{"$f":"IFERROR(Gerar_Upload!D1143,\"erro\")","v":0},{"$f":"IFERROR(DATE(YEAR(Gerar_Upload!E1143),MONTH(Gerar_Upload!E1143),DAY(Gerar_Upload!E1143)),\"erro\")","v":"00:00:00"},{"$f":"IFERROR(Gerar_Upload!F1143,\"erro\")","v":0},{"$f":"IFERROR(IF(Gerar_Upload!G1143<44,REPT(0,44-LEN(Gerar_Upload!G1143))&Gerar_Upload!G1143,Gerar_Upload!G1143),\"erro\")","v":"00000000000000000000000000000000000000000000"}]
[{"$f":"IFERROR(LEFT(Gerar_Upload!A1144,120),\"erro\")","v":""},{"$f":"IFERROR(SUBSTITUTE(SUBSTITUTE(SUBSTITUTE(Gerar_Upload!B1144,\".\",\"\"),\"-\",\"\"),\"/\",\"\"),\"erro\")","v":""},{"$f":"IFERROR(Gerar_Upload!C1144,\"erro\")","v":0},{"$f":"IFERROR(Gerar_Upload!D1144,\"erro\")","v":0},{"$f":"IFERROR(DATE(YEAR(Gerar_Upload!E1144),MONTH(Gerar_Upload!E1144),DAY(Gerar_Upload!E1144)),\"erro\")","v":"00:00:00"},{"$f":"IFERROR(Gerar_Upload!F1144,\"erro\")","v":0},{"$f":"IFERROR(IF(Gerar_Upload!G1144<44,REPT(0,44-LEN(Gerar_Upload!G1144))&Gerar_Upload!G1144,Gerar_Upload!G1144),\"erro\")","v":"00000000000000000000000000000000000000000000"}]
[{"$f":"IFERROR(LEFT(Gerar_Upload!A1145,120),\"erro\")","v":""},{"$f":"IFERROR(SUBSTITUTE(SUBSTITUTE(SUBSTITUTE(Gerar_Upload!B1145,\".\",\"\"),\"-\",\"\"),\"/\",\"\"),\"erro\")","v":""},{"$f":"IFERROR(Gerar_Upload!C1145,\"erro\")","v":0},{"$f":"IFERROR(Gerar_Upload!D1145,\"erro\")","v":0},{"$f":"IFERROR(DATE(YEAR(Gerar_Upload!E1145),MONTH(Gerar_Upload!E1145),DAY(Gerar_Upload!E1145)),\"erro\")","v":"00:00:00"},{"$f":"IFERROR(Gerar_Upload!F1145,\"erro\")","v":0},{"$f":"IFERROR(IF(Gerar_Upload!G1145<44,REPT(0,44-LEN(Gerar_Upload!G1145))&Gerar_Upload!G1145,Gerar_Upload!G1145),\"erro\")","v":"00000000000000000000000000000000000000000000"}]
[{"$f":"IFERROR(LEFT(Gerar_Upload!A1146,120),\"erro\")","v":""},{"$f":"IFERROR(SUBSTITUTE(SUBSTITUTE(SUBSTITUTE(Gerar_Upload!B1146,\".\",\"\"),\"-\",\"\"),\"/\",\"\"),\"erro\")","v":""},{"$f":"IFERROR(Gerar_Upload!C1146,\"erro\")","v":0},{"$f":"IFERROR(Gerar_Upload!D1146,\"erro\")","v":0},{"$f":"IFERROR(DATE(YEAR(Gerar_Upload!E1146),MONTH(Gerar_Upload!E1146),DAY(Gerar_Upload!E1146)),\"erro\")","v":"00:00:00"},{"$f":"IFERROR(Gerar_Upload!F1146,\"erro\")","v":0},{"$f":"IFERROR(IF(Gerar_Upload!G1146<44,REPT(0,44-LEN(Gerar_Upload!G1146))&Gerar_Upload!G1146,Gerar_Upload!G1146),\"erro\")","v":"00000000000000000000000000000000000000000000"}]
[{"$f":"IFERROR(LEFT(Gerar_Upload!A1147,120),\"erro\")","v":""},{"$f":"IFERROR(SUBSTITUTE(SUBSTITUTE(SUBSTITUTE(Gerar_Upload!B1147,\".\",\"\"),\"-\",\"\"),\"/\",\"\"),\"erro\")","v":""},{"$f":"IFERROR(Gerar_Upload!C1147,\"erro\")","v":0},{"$f":"IFERROR(Gerar_Upload!D1147,\"erro\")","v":0},{"$f":"IFERROR(DATE(YEAR(Gerar_Upload!E1147),MONTH(Gerar_Upload!E1147),DAY(Gerar_Upload!E1147)),\"erro\")","v":"00:00:00"},{"$f":"IFERROR(Gerar_Upload!F1147,\"erro\")","v":0},{"$f":"IFERROR(IF(Gerar_Upload!G1147<44,REPT(0,44-LEN(Gerar_Upload!G1147))&Gerar_Upload!G1147,Gerar_Upload!G1147),\"erro\")","v":"00000000000000000000000000000000000000000000"}]
[{"$f":"IFERROR(LEFT(Gerar_Upload!A1148,120),\"erro\")","v":""},{"$f":"IFERROR(SUBSTITUTE(SUBSTITUTE(SUBSTITUTE(Gerar_Upload!B1148,\".\",\"\"),\"-\",\"\"),\"/\",\"\"),\"erro\")","v":""},{"$f":"IFERROR(Gerar_Upload!C1148,\"erro\")","v":0},{"$f":"IFERROR(Gerar_Upload!D1148,\"erro\")","v":0},{"$f":"IFERROR(DATE(YEAR(Gerar_Upload!E1148),MONTH(Gerar_Upload!E1148),DAY(Gerar_Upload!E1148)),\"erro\")","v":"00:00:00"},{"$f":"IFERROR(Gerar_Upload!F1148,\"erro\")","v":0},{"$f":"IFERROR(IF(Gerar_Upload!G1148<44,REPT(0,44-LEN(Gerar_Upload!G1148))&Gerar_Upload!G1148,Gerar_Upload!G1148),\"erro\")","v":"00000000000000000000000000000000000000000000"}]
[{"$f":"IFERROR(LEFT(Gerar_Upload!A1149,120),\"erro\")","v":""},{"$f":"IFERROR(SUBSTITUTE(SUBSTITUTE(SUBSTITUTE(Gerar_Upload!B1149,\".\",\"\"),\"-\",\"\"),\"/\",\"\"),\"erro\")","v":""},{"$f":"IFERROR(Gerar_Upload!C1149,\"erro\")","v":0},{"$f":"IFERROR(Gerar_Upload!D1149,\"erro\")","v":0},{"$f":"IFERROR(DATE(YEAR(Gerar_Upload!E1149),MONTH(Gerar_Upload!E1149),DAY(Gerar_Upload!E1149)),\"erro\")","v":"00:00:00"},{"$f":"IFERROR(Gerar_Upload!F1149,\"erro\")","v":0},{"$f":"IFERROR(IF(Gerar_Upload!G1149<44,REPT(0,44-LEN(Gerar_Upload!G1149))&Gerar_Upload!G1149,Gerar_Upload!G1149),\"erro\")","v":"00000000000000000000000000000000000000000000"}]
[{"$f":"IFERROR(LEFT(Gerar_Upload!A1150,120),\"erro\")","v":""},{"$f":"IFERROR(SUBSTITUTE(SUBSTITUTE(SUBSTITUTE(Gerar_Upload!B1150,\".\",\"\"),\"-\",\"\"),\"/\",\"\"),\"erro\")","v":""},{"$f":"IFERROR(Gerar_Upload!C1150,\"erro\")","v":0},{"$f":"IFERROR(Gerar_Upload!D1150,\"erro\")","v":0},{"$f":"IFERROR(DATE(YEAR(Gerar_Upload!E1150),MONTH(Gerar_Upload!E1150),DAY(Gerar_Upload!E1150)),\"erro\")","v":"00:00:00"},{"$f":"IFERROR(Gerar_Upload!F1150,\"erro\")","v":0},{"$f":"IFERROR(IF(Gerar_Upload!G1150<44,REPT(0,44-LEN(Gerar_Upload!G1150))&Gerar_Upload!G1150,Gerar_Upload!G1150),\"erro\")","v":"00000000000000000000000000000000000000000000"}]
[{"$f":"IFERROR(LEFT(Gerar_Upload!A1151,120),\"erro\")","v":""},{"$f":"IFERROR(SUBSTITUTE(SUBSTITUTE(SUBSTITUTE(Gerar_Upload!B1151,\".\",\"\"),\"-\",\"\"),\"/\",\"\"),\"erro\")","v":""},{"$f":"IFERROR(Gerar_Upload!C1151,\"erro\")","v":0},{"$f":"IFERROR(Gerar_Upload!D1151,\"erro\")","v":0},{"$f":"IFERROR(DATE(YEAR(Gerar_Upload!E1151),MONTH(Gerar_Upload!E1151),DAY(Gerar_Upload!E1151)),\"erro\")","v":"00:00:00"},{"$f":"IFERROR(Gerar_Upload!F1151,\"erro\")","v":0},{"$f":"IFERROR(IF(Gerar_Upload!G1151<44,REPT(0,44-LEN(Gerar_Upload!G1151))&Gerar_Upload!G1151,Gerar_Upload!G1151),\"erro\")","v":"00000000000000000000000000000000000000000000"}]
[{"$f":"IFERROR(LEFT(Gerar_Upload!A1152,120),\"erro\")","v":""},{"$f":"IFERROR(SUBSTITUTE(SUBSTITUTE(SUBSTITUTE(Gerar_Upload!B1152,\".\",\"\"),\"-\",\"\"),\"/\",\"\"),\"erro\")","v":""},{"$f":"IFERROR(Gerar_Upload!C1152,\"erro\")","v":0},{"$f":"IFERROR(Gerar_Upload!D1152,\"erro\")","v":0},{"$f":"IFERROR(DATE(YEAR(Gerar_Upload!E1152),MONTH(Gerar_Upload!E1152),DAY(Gerar_Upload!E1152)),\"erro\")","v":"00:00:00"},{"$f":"IFERROR(Gerar_Upload!F1152,\"erro\")","v":0},{"$f":"IFERROR(IF(Gerar_Upload!G1152<44,REPT(0,44-LEN(Gerar_Upload!G1152))&Gerar_Upload!G1152,Gerar_Upload!G1152),\"erro\")","v":"00000000000000000000000000000000000000000000"}]
[{"$f":"IFERROR(LEFT(Gerar_Upload!A1153,120),\"erro\")","v":""},{"$f":"IFERROR(SUBSTITUTE(SUBSTITUTE(SUBSTITUTE(Gerar_Upload!B1153,\".\",\"\"),\"-\",\"\"),\"/\",\"\"),\"erro\")","v":""},{"$f":"IFERROR(Gerar_Upload!C1153,\"erro\")","v":0},{"$f":"IFERROR(Gerar_Upload!D1153,\"erro\")","v":0},{"$f":"IFERROR(DATE(YEAR(Gerar_Upload!E1153),MONTH(Gerar_Upload!E1153),DAY(Gerar_Upload!E1153)),\"erro\")","v":"00:00:00"},{"$f":"IFERROR(Gerar_Upload!F1153,\"erro\")","v":0},{"$f":"IFERROR(IF(Gerar_Upload!G1153<44,REPT(0,44-LEN(Gerar_Upload!G1153))&Gerar_Upload!G1153,Gerar_Upload!G1153),\"erro\")","v":"00000000000000000000000000000000000000000000"}]
[{"$f":"IFERROR(LEFT(Gerar_Upload!A1154,120),\"erro\")","v":""},{"$f":"IFERROR(SUBSTITUTE(SUBSTITUTE(SUBSTITUTE(Gerar_Upload!B1154,\".\",\"\"),\"-\",\"\"),\"/\",\"\"),\"erro\")","v":""},{"$f":"IFERROR(Gerar_Upload!C1154,\"erro\")","v":0},{"$f":"IFERROR(Gerar_Upload!D1154,\"erro\")","v":0},{"$f":"IFERROR(DATE(YEAR(Gerar_Upload!E1154),MONTH(Gerar_Upload!E1154),DAY(Gerar_Upload!E1154)),\"erro\")","v":"00:00:00"},{"$f":"IFERROR(Gerar_Upload!F1154,\"erro\")","v":0},{"$f":"IFERROR(IF(Gerar_Upload!G1154<44,REPT(0,44-LEN(Gerar_Upload!G1154))&Gerar_Upload!G1154,Gerar_Upload!G1154),\"erro\")","v":"00000000000000000000000000000000000000000000"}]
[{"$f":"IFERROR(LEFT(Gerar_Upload!A1155,120),\"erro\")","v":""},{"$f":"IFERROR(SUBSTITUTE(SUBSTITUTE(SUBSTITUTE(Gerar_Upload!B1155,\".\",\"\"),\"-\",\"\"),\"/\",\"\"),\"erro\")","v":""},{"$f":"IFERROR(Gerar_Upload!C1155,\"erro\")","v":0},{"$f":"IFERROR(Gerar_Upload!D1155,\"erro\")","v":0},{"$f":"IFERROR(DATE(YEAR(Gerar_Upload!E1155),MONTH(Gerar_Upload!E1155),DAY(Gerar_Upload!E1155)),\"erro\")","v":"00:00:00"},{"$f":"IFERROR(Gerar_Upload!F1155,\"erro\")","v":0},{"$f":"IFERROR(IF(Gerar_Upload!G1155<44,REPT(0,44-LEN(Gerar_Upload!G1155))&Gerar_Upload!G1155,Gerar_Upload!G1155),\"erro\")","v":"00000000000000000000000000000000000000000000"}]
[{"$f":"IFERROR(LEFT(Gerar_Upload!A1156,120),\"erro\")","v":""},{"$f":"IFERROR(SUBSTITUTE(SUBSTITUTE(SUBSTITUTE(Gerar_Upload!B1156,\".\",\"\"),\"-\",\"\"),\"/\",\"\"),\"erro\")","v":""},{"$f":"IFERROR(Gerar_Upload!C1156,\"erro\")","v":0},{"$f":"IFERROR(Gerar_Upload!D1156,\"erro\")","v":0},{"$f":"IFERROR(DATE(YEAR(Gerar_Upload!E1156),MONTH(Gerar_Upload!E1156),DAY(Gerar_Upload!E1156)),\"erro\")","v":"00:00:00"},{"$f":"IFERROR(Gerar_Upload!F1156,\"erro\")","v":0},{"$f":"IFERROR(IF(Gerar_Upload!G1156<44,REPT(0,44-LEN(Gerar_Upload!G1156))&Gerar_Upload!G1156,Gerar_Upload!G1156),\"erro\")","v":"00000000000000000000000000000000000000000000"}]
[{"$f":"IFERROR(LEFT(Gerar_Upload!A1157,120),\"erro\")","v":""},{"$f":"IFERROR(SUBSTITUTE(SUBSTITUTE(SUBSTITUTE(Gerar_Upload!B1157,\".\",\"\"),\"-\",\"\"),\"/\",\"\"),\"erro\")","v":""},{"$f":"IFERROR(Gerar_Upload!C1157,\"erro\")","v":0},{"$f":"IFERROR(Gerar_Upload!D1157,\"erro\")","v":0},{"$f":"IFERROR(DATE(YEAR(Gerar_Upload!E1157),MONTH(Gerar_Upload!E1157),DAY(Gerar_Upload!E1157)),\"erro\")","v":"00:00:00"},{"$f":"IFERROR(Gerar_Upload!F1157,\"erro\")","v":0},{"$f":"IFERROR(IF(Gerar_Upload!G1157<44,REPT(0,44-LEN(Gerar_Upload!G1157))&Gerar_Upload!G1157,Gerar_Upload!G1157),\"erro\")","v":"00000000000000000000000000000000000000000000"}]
[{"$f":"IFERROR(LEFT(Gerar_Upload!A1158,120),\"erro\")","v":""},{"$f":"IFERROR(SUBSTITUTE(SUBSTITUTE(SUBSTITUTE(Gerar_Upload!B1158,\".\",\"\"),\"-\",\"\"),\"/\",\"\"),\"erro\")","v":""},{"$f":"IFERROR(Gerar_Upload!C1158,\"erro\")","v":0},{"$f":"IFERROR(Gerar_Upload!D1158,\"erro\")","v":0},{"$f":"IFERROR(DATE(YEAR(Gerar_Upload!E1158),MONTH(Gerar_Upload!E1158),DAY(Gerar_Upload!E1158)),\"erro\")","v":"00:00:00"},{"$f":"IFERROR(Gerar_Upload!F1158,\"erro\")","v":0},{"$f":"IFERROR(IF(Gerar_Upload!G1158<44,REPT(0,44-LEN(Gerar_Upload!G1158))&Gerar_Upload!G1158,Gerar_Upload!G1158),\"erro\")","v":"00000000000000000000000000000000000000000000"}]
[{"$f":"IFERROR(LEFT(Gerar_Upload!A1159,120),\"erro\")","v":""},{"$f":"IFERROR(SUBSTITUTE(SUBSTITUTE(SUBSTITUTE(Gerar_Upload!B1159,\".\",\"\"),\"-\",\"\"),\"/\",\"\"),\"erro\")","v":""},{"$f":"IFERROR(Gerar_Upload!C1159,\"erro\")","v":0},{"$f":"IFERROR(Gerar_Upload!D1159,\"erro\")","v":0},{"$f":"IFERROR(DATE(YEAR(Gerar_Upload!E1159),MONTH(Gerar_Upload!E1159),DAY(Gerar_Upload!E1159)),\"erro\")","v":"00:00:00"},{"$f":"IFERROR(Gerar_Upload!F1159,\"erro\")","v":0},{"$f":"IFERROR(IF(Gerar_Upload!G1159<44,REPT(0,44-LEN(Gerar_Upload!G1159))&Gerar_Upload!G1159,Gerar_Upload!G1159),\"erro\")","v":"00000000000000000000000000000000000000000000"}]
[{"$f":"IFERROR(LEFT(Gerar_Upload!A1160,120),\"erro\")","v":""},{"$f":"IFERROR(SUBSTITUTE(SUBSTITUTE(SUBSTITUTE(Gerar_Upload!B1160,\".\",\"\"),\"-\",\"\"),\"/\",\"\"),\"erro\")","v":""},{"$f":"IFERROR(Gerar_Upload!C1160,\"erro\")","v":0},{"$f":"IFERROR(Gerar_Upload!D1160,\"erro\")","v":0},{"$f":"IFERROR(DATE(YEAR(Gerar_Upload!E1160),MONTH(Gerar_Upload!E1160),DAY(Gerar_Upload!E1160)),\"erro\")","v":"00:00:00"},{"$f":"IFERROR(Gerar_Upload!F1160,\"erro\")","v":0},{"$f":"IFERROR(IF(Gerar_Upload!G1160<44,REPT(0,44-LEN(Gerar_Upload!G1160))&Gerar_Upload!G1160,Gerar_Upload!G1160),\"erro\")","v":"00000000000000000000000000000000000000000000"}]
[{"$f":"IFERROR(LEFT(Gerar_Upload!A1161,120),\"erro\")","v":""},{"$f":"IFERROR(SUBSTITUTE(SUBSTITUTE(SUBSTITUTE(Gerar_Upload!B1161,\".\",\"\"),\"-\",\"\"),\"/\",\"\"),\"erro\")","v":""},{"$f":"IFERROR(Gerar_Upload!C1161,\"erro\")","v":0},{"$f":"IFERROR(Gerar_Upload!D1161,\"erro\")","v":0},{"$f":"IFERROR(DATE(YEAR(Gerar_Upload!E1161),MONTH(Gerar_Upload!E1161),DAY(Gerar_Upload!E1161)),\"erro\")","v":"00:00:00"},{"$f":"IFERROR(Gerar_Upload!F1161,\"erro\")","v":0},{"$f":"IFERROR(IF(Gerar_Upload!G1161<44,REPT(0,44-LEN(Gerar_Upload!G1161))&Gerar_Upload!G1161,Gerar_Upload!G1161),\"erro\")","v":"00000000000000000000000000000000000000000000"}]
[{"$f":"IFERROR(LEFT(Gerar_Upload!A1162,120),\"erro\")","v":""},{"$f":"IFERROR(SUBSTITUTE(SUBSTITUTE(SUBSTITUTE(Gerar_Upload!B1162,\".\",\"\"),\"-\",\"\"),\"/\",\"\"),\"erro\")","v":""},{"$f":"IFERROR(Gerar_Upload!C1162,\"erro\")","v":0},{"$f":"IFERROR(Gerar_Upload!D1162,\"erro\")","v":0},{"$f":"IFERROR(DATE(YEAR(Gerar_Upload!E1162),MONTH(Gerar_Upload!E1162),DAY(Gerar_Upload!E1162)),\"erro\")","v":"00:00:00"},{"$f":"IFERROR(Gerar_Upload!F1162,\"erro\")","v":0},{"$f":"IFERROR(IF(Gerar_Upload!G1162<44,REPT(0,44-LEN(Gerar_Upload!G1162))&Gerar_Upload!G1162,Gerar_Upload!G1162),\"erro\")","v":"00000000000000000000000000000000000000000000"}]
[{"$f":"IFERROR(LEFT(Gerar_Upload!A1163,120),\"erro\")","v":""},{"$f":"IFERROR(SUBSTITUTE(SUBSTITUTE(SUBSTITUTE(Gerar_Upload!B1163,\".\",\"\"),\"-\",\"\"),\"/\",\"\"),\"erro\")","v":""},{"$f":"IFERROR(Gerar_Upload!C1163,\"erro\")","v":0},{"$f":"IFERROR(Gerar_Upload!D1163,\"erro\")","v":0},{"$f":"IFERROR(DATE(YEAR(Gerar_Upload!E1163),MONTH(Gerar_Upload!E1163),DAY(Gerar_Upload!E1163)),\"erro\")","v":"00:00:00"},{"$f":"IFERROR(Gerar_Upload!F1163,\"erro\")","v":0},{"$f":"IFERROR(IF(Gerar_Upload!G1163<44,REPT(0,44-LEN(Gerar_Upload!G1163))&Gerar_Upload!G1163,Gerar_Upload!G1163),\"erro\")","v":"00000000000000000000000000000000000000000000"}]
[{"$f":"IFERROR(LEFT(Gerar_Upload!A1164,120),\"erro\")","v":""},{"$f":"IFERROR(SUBSTITUTE(SUBSTITUTE(SUBSTITUTE(Gerar_Upload!B1164,\".\",\"\"),\"-\",\"\"),\"/\",\"\"),\"erro\")","v":""},{"$f":"IFERROR(Gerar_Upload!C1164,\"erro\")","v":0},{"$f":"IFERROR(Gerar_Upload!D1164,\"erro\")","v":0},{"$f":"IFERROR(DATE(YEAR(Gerar_Upload!E1164),MONTH(Gerar_Upload!E1164),DAY(Gerar_Upload!E1164)),\"erro\")","v":"00:00:00"},{"$f":"IFERROR(Gerar_Upload!F1164,\"erro\")","v":0},{"$f":"IFERROR(IF(Gerar_Upload!G1164<44,REPT(0,44-LEN(Gerar_Upload!G1164))&Gerar_Upload!G1164,Gerar_Upload!G1164),\"erro\")","v":"00000000000000000000000000000000000000000000"}]
[{"$f":"IFERROR(LEFT(Gerar_Upload!A1165,120),\"erro\")","v":""},{"$f":"IFERROR(SUBSTITUTE(SUBSTITUTE(SUBSTITUTE(Gerar_Upload!B1165,\".\",\"\"),\"-\",\"\"),\"/\",\"\"),\"erro\")","v":""},{"$f":"IFERROR(Gerar_Upload!C1165,\"erro\")","v":0},{"$f":"IFERROR(Gerar_Upload!D1165,\"erro\")","v":0},{"$f":"IFERROR(DATE(YEAR(Gerar_Upload!E1165),MONTH(Gerar_Upload!E1165),DAY(Gerar_Upload!E1165)),\"erro\")","v":"00:00:00"},{"$f":"IFERROR(Gerar_Upload!F1165,\"erro\")","v":0},{"$f":"IFERROR(IF(Gerar_Upload!G1165<44,REPT(0,44-LEN(Gerar_Upload!G1165))&Gerar_Upload!G1165,Gerar_Upload!G1165),\"erro\")","v":"00000000000000000000000000000000000000000000"}]
[{"$f":"IFERROR(LEFT(Gerar_Upload!A1166,120),\"erro\")","v":""},{"$f":"IFERROR(SUBSTITUTE(SUBSTITUTE(SUBSTITUTE(Gerar_Upload!B1166,\".\",\"\"),\"-\",\"\"),\"/\",\"\"),\"erro\")","v":""},{"$f":"IFERROR(Gerar_Upload!C1166,\"erro\")","v":0},{"$f":"IFERROR(Gerar_Upload!D1166,\"erro\")","v":0},{"$f":"IFERROR(DATE(YEAR(Gerar_Upload!E1166),MONTH(Gerar_Upload!E1166),DAY(Gerar_Upload!E1166)),\"erro\")","v":"00:00:00"},{"$f":"IFERROR(Gerar_Upload!F1166,\"erro\")","v":0},{"$f":"IFERROR(IF(Gerar_Upload!G1166<44,REPT(0,44-LEN(Gerar_Upload!G1166))&Gerar_Upload!G1166,Gerar_Upload!G1166),\"erro\")","v":"00000000000000000000000000000000000000000000"}]
[{"$f":"IFERROR(LEFT(Gerar_Upload!A1167,120),\"erro\")","v":""},{"$f":"IFERROR(SUBSTITUTE(SUBSTITUTE(SUBSTITUTE(Gerar_Upload!B1167,\".\",\"\"),\"-\",\"\"),\"/\",\"\"),\"erro\")","v":""},{"$f":"IFERROR(Gerar_Upload!C1167,\"erro\")","v":0},{"$f":"IFERROR(Gerar_Upload!D1167,\"erro\")","v":0},{"$f":"IFERROR(DATE(YEAR(Gerar_Upload!E1167),MONTH(Gerar_Upload!E1167),DAY(Gerar_Upload!E1167)),\"erro\")","v":"00:00:00"},{"$f":"IFERROR(Gerar_Upload!F1167,\"erro\")","v":0},{"$f":"IFERROR(IF(Gerar_Upload!G1167<44,REPT(0,44-LEN(Gerar_Upload!G1167))&Gerar_Upload!G1167,Gerar_Upload!G1167),\"erro\")","v":"00000000000000000000000000000000000000000000"}]
[{"$f":"IFERROR(LEFT(Gerar_Upload!A1168,120),\"erro\")","v":""},{"$f":"IFERROR(SUBSTITUTE(SUBSTITUTE(SUBSTITUTE(Gerar_Upload!B1168,\".\",\"\"),\"-\",\"\"),\"/\",\"\"),\"erro\")","v":""},{"$f":"IFERROR(Gerar_Upload!C1168,\"erro\")","v":0},{"$f":"IFERROR(Gerar_Upload!D1168,\"erro\")","v":0},{"$f":"IFERROR(DATE(YEAR(Gerar_Upload!E1168),MONTH(Gerar_Upload!E1168),DAY(Gerar_Upload!E1168)),\"erro\")","v":"00:00:00"},{"$f":"IFERROR(Gerar_Upload!F1168,\"erro\")","v":0},{"$f":"IFERROR(IF(Gerar_Upload!G1168<44,REPT(0,44-LEN(Gerar_Upload!G1168))&Gerar_Upload!G1168,Gerar_Upload!G1168),\"erro\")","v":"00000000000000000000000000000000000000000000"}]
[{"$f":"IFERROR(LEFT(Gerar_Upload!A1169,120),\"erro\")","v":""},{"$f":"IFERROR(SUBSTITUTE(SUBSTITUTE(SUBSTITUTE(Gerar_Upload!B1169,\".\",\"\"),\"-\",\"\"),\"/\",\"\"),\"erro\")","v":""},{"$f":"IFERROR(Gerar_Upload!C1169,\"erro\")","v":0},{"$f":"IFERROR(Gerar_Upload!D1169,\"erro\")","v":0},{"$f":"IFERROR(DATE(YEAR(Gerar_Upload!E1169),MONTH(Gerar_Upload!E1169),DAY(Gerar_Upload!E1169)),\"erro\")","v":"00:00:00"},{"$f":"IFERROR(Gerar_Upload!F1169,\"erro\")","v":0},{"$f":"IFERROR(IF(Gerar_Upload!G1169<44,REPT(0,44-LEN(Gerar_Upload!G1169))&Gerar_Upload!G1169,Gerar_Upload!G1169),\"erro\")","v":"00000000000000000000000000000000000000000000"}]
[{"$f":"IFERROR(LEFT(Gerar_Upload!A1170,120),\"erro\")","v":""},{"$f":"IFERROR(SUBSTITUTE(SUBSTITUTE(SUBSTITUTE(Gerar_Upload!B1170,\".\",\"\"),\"-\",\"\"),\"/\",\"\"),\"erro\")","v":""},{"$f":"IFERROR(Gerar_Upload!C1170,\"erro\")","v":0},{"$f":"IFERROR(Gerar_Upload!D1170,\"erro\")","v":0},{"$f":"IFERROR(DATE(YEAR(Gerar_Upload!E1170),MONTH(Gerar_Upload!E1170),DAY(Gerar_Upload!E1170)),\"erro\")","v":"00:00:00"},{"$f":"IFERROR(Gerar_Upload!F1170,\"erro\")","v":0},{"$f":"IFERROR(IF(Gerar_Upload!G1170<44,REPT(0,44-LEN(Gerar_Upload!G1170))&Gerar_Upload!G1170,Gerar_Upload!G1170),\"erro\")","v":"00000000000000000000000000000000000000000000"}]
[{"$f":"IFERROR(LEFT(Gerar_Upload!A1171,120),\"erro\")","v":""},{"$f":"IFERROR(SUBSTITUTE(SUBSTITUTE(SUBSTITUTE(Gerar_Upload!B1171,\".\",\"\"),\"-\",\"\"),\"/\",\"\"),\"erro\")","v":""},{"$f":"IFERROR(Gerar_Upload!C1171,\"erro\")","v":0},{"$f":"IFERROR(Gerar_Upload!D1171,\"erro\")","v":0},{"$f":"IFERROR(DATE(YEAR(Gerar_Upload!E1171),MONTH(Gerar_Upload!E1171),DAY(Gerar_Upload!E1171)),\"erro\")","v":"00:00:00"},{"$f":"IFERROR(Gerar_Upload!F1171,\"erro\")","v":0},{"$f":"IFERROR(IF(Gerar_Upload!G1171<44,REPT(0,44-LEN(Gerar_Upload!G1171))&Gerar_Upload!G1171,Gerar_Upload!G1171),\"erro\")","v":"00000000000000000000000000000000000000000000"}]
[{"$f":"IFERROR(LEFT(Gerar_Upload!A1172,120),\"erro\")","v":""},{"$f":"IFERROR(SUBSTITUTE(SUBSTITUTE(SUBSTITUTE(Gerar_Upload!B1172,\".\",\"\"),\"-\",\"\"),\"/\",\"\"),\"erro\")","v":""},{"$f":"IFERROR(Gerar_Upload!C1172,\"erro\")","v":0},{"$f":"IFERROR(Gerar_Upload!D1172,\"erro\")","v":0},{"$f":"IFERROR(DATE(YEAR(Gerar_Upload!E1172),MONTH(Gerar_Upload!E1172),DAY(Gerar_Upload!E1172)),\"erro\")","v":"00:00:00"},{"$f":"IFERROR(Gerar_Upload!F1172,\"erro\")","v":0},{"$f":"IFERROR(IF(Gerar_Upload!G1172<44,REPT(0,44-LEN(Gerar_Upload!G1172))&Gerar_Upload!G1172,Gerar_Upload!G1172),\"erro\")","v":"00000000000000000000000000000000000000000000"}]
[{"$f":"IFERROR(LEFT(Gerar_Upload!A1173,120),\"erro\")","v":""},{"$f":"IFERROR(SUBSTITUTE(SUBSTITUTE(SUBSTITUTE(Gerar_Upload!B1173,\".\",\"\"),\"-\",\"\"),\"/\",\"\"),\"erro\")","v":""},{"$f":"IFERROR(Gerar_Upload!C1173,\"erro\")","v":0},{"$f":"IFERROR(Gerar_Upload!D1173,\"erro\")","v":0},{"$f":"IFERROR(DATE(YEAR(Gerar_Upload!E1173),MONTH(Gerar_Upload!E1173),DAY(Gerar_Upload!E1173)),\"erro\")","v":"00:00:00"},{"$f":"IFERROR(Gerar_Upload!F1173,\"erro\")","v":0},{"$f":"IFERROR(IF(Gerar_Upload!G1173<44,REPT(0,44-LEN(Gerar_Upload!G1173))&Gerar_Upload!G1173,Gerar_Upload!G1173),\"erro\")","v":"00000000000000000000000000000000000000000000"}]
[{"$f":"IFERROR(LEFT(Gerar_Upload!A1174,120),\"erro\")","v":""},{"$f":"IFERROR(SUBSTITUTE(SUBSTITUTE(SUBSTITUTE(Gerar_Upload!B1174,\".\",\"\"),\"-\",\"\"),\"/\",\"\"),\"erro\")","v":""},{"$f":"IFERROR(Gerar_Upload!C1174,\"erro\")","v":0},{"$f":"IFERROR(Gerar_Upload!D1174,\"erro\")","v":0},{"$f":"IFERROR(DATE(YEAR(Gerar_Upload!E1174),MONTH(Gerar_Upload!E1174),DAY(Gerar_Upload!E1174)),\"erro\")","v":"00:00:00"},{"$f":"IFERROR(Gerar_Upload!F1174,\"erro\")","v":0},{"$f":"IFERROR(IF(Gerar_Upload!G1174<44,REPT(0,44-LEN(Gerar_Upload!G1174))&Gerar_Upload!G1174,Gerar_Upload!G1174),\"erro\")","v":"00000000000000000000000000000000000000000000"}]
[{"$f":"IFERROR(LEFT(Gerar_Upload!A1175,120),\"erro\")","v":""},{"$f":"IFERROR(SUBSTITUTE(SUBSTITUTE(SUBSTITUTE(Gerar_Upload!B1175,\".\",\"\"),\"-\",\"\"),\"/\",\"\"),\"erro\")","v":""},{"$f":"IFERROR(Gerar_Upload!C1175,\"erro\")","v":0},{"$f":"IFERROR(Gerar_Upload!D1175,\"erro\")","v":0},{"$f":"IFERROR(DATE(YEAR(Gerar_Upload!E1175),MONTH(Gerar_Upload!E1175),DAY(Gerar_Upload!E1175)),\"erro\")","v":"00:00:00"},{"$f":"IFERROR(Gerar_Upload!F1175,\"erro\")","v":0},{"$f":"IFERROR(IF(Gerar_Upload!G1175<44,REPT(0,44-LEN(Gerar_Upload!G1175))&Gerar_Upload!G1175,Gerar_Upload!G1175),\"erro\")","v":"00000000000000000000000000000000000000000000"}]
[{"$f":"IFERROR(LEFT(Gerar_Upload!A1176,120),\"erro\")","v":""},{"$f":"IFERROR(SUBSTITUTE(SUBSTITUTE(SUBSTITUTE(Gerar_Upload!B1176,\".\",\"\"),\"-\",\"\"),\"/\",\"\"),\"erro\")","v":""},{"$f":"IFERROR(Gerar_Upload!C1176,\"erro\")","v":0},{"$f":"IFERROR(Gerar_Upload!D1176,\"erro\")","v":0},{"$f":"IFERROR(DATE(YEAR(Gerar_Upload!E1176),MONTH(Gerar_Upload!E1176),DAY(Gerar_Upload!E1176)),\"erro\")","v":"00:00:00"},{"$f":"IFERROR(Gerar_Upload!F1176,\"erro\")","v":0},{"$f":"IFERROR(IF(Gerar_Upload!G1176<44,REPT(0,44-LEN(Gerar_Upload!G1176))&Gerar_Upload!G1176,Gerar_Upload!G1176),\"erro\")","v":"00000000000000000000000000000000000000000000"}]
[{"$f":"IFERROR(LEFT(Gerar_Upload!A1177,120),\"erro\")","v":""},{"$f":"IFERROR(SUBSTITUTE(SUBSTITUTE(SUBSTITUTE(Gerar_Upload!B1177,\".\",\"\"),\"-\",\"\"),\"/\",\"\"),\"erro\")","v":""},{"$f":"IFERROR(Gerar_Upload!C1177,\"erro\")","v":0},{"$f":"IFERROR(Gerar_Upload!D1177,\"erro\")","v":0},{"$f":"IFERROR(DATE(YEAR(Gerar_Upload!E1177),MONTH(Gerar_Upload!E1177),DAY(Gerar_Upload!E1177)),\"erro\")","v":"00:00:00"},{"$f":"IFERROR(Gerar_Upload!F1177,\"erro\")","v":0},{"$f":"IFERROR(IF(Gerar_Upload!G1177<44,REPT(0,44-LEN(Gerar_Upload!G1177))&Gerar_Upload!G1177,Gerar_Upload!G1177),\"erro\")","v":"00000000000000000000000000000000000000000000"}]
[{"$f":"IFERROR(LEFT(Gerar_Upload!A1178,120),\"erro\")","v":""},{"$f":"IFERROR(SUBSTITUTE(SUBSTITUTE(SUBSTITUTE(Gerar_Upload!B1178,\".\",\"\"),\"-\",\"\"),\"/\",\"\"),\"erro\")","v":""},{"$f":"IFERROR(Gerar_Upload!C1178,\"erro\")","v":0},{"$f":"IFERROR(Gerar_Upload!D1178,\"erro\")","v":0},{"$f":"IFERROR(DATE(YEAR(Gerar_Upload!E1178),MONTH(Gerar_Upload!E1178),DAY(Gerar_Upload!E1178)),\"erro\")","v":"00:00:00"},{"$f":"IFERROR(Gerar_Upload!F1178,\"erro\")","v":0},{"$f":"IFERROR(IF(Gerar_Upload!G1178<44,REPT(0,44-LEN(Gerar_Upload!G1178))&Gerar_Upload!G1178,Gerar_Upload!G1178),\"erro\")","v":"00000000000000000000000000000000000000000000"}]
[{"$f":"IFERROR(LEFT(Gerar_Upload!A1179,120),\"erro\")","v":""},{"$f":"IFERROR(SUBSTITUTE(SUBSTITUTE(SUBSTITUTE(Gerar_Upload!B1179,\".\",\"\"),\"-\",\"\"),\"/\",\"\"),\"erro\")","v":""},{"$f":"IFERROR(Gerar_Upload!C1179,\"erro\")","v":0},{"$f":"IFERROR(Gerar_Upload!D1179,\"erro\")","v":0},{"$f":"IFERROR(DATE(YEAR(Gerar_Upload!E1179),MONTH(Gerar_Upload!E1179),DAY(Gerar_Upload!E1179)),\"erro\")","v":"00:00:00"},{"$f":"IFERROR(Gerar_Upload!F1179,\"erro\")","v":0},{"$f":"IFERROR(IF(Gerar_Upload!G1179<44,REPT(0,44-LEN(Gerar_Upload!G1179))&Gerar_Upload!G1179,Gerar_Upload!G1179),\"erro\")","v":"00000000000000000000000000000000000000000000"}]
[{"$f":"IFERROR(LEFT(Gerar_Upload!A1180,120),\"erro\")","v":""},{"$f":"IFERROR(SUBSTITUTE(SUBSTITUTE(SUBSTITUTE(Gerar_Upload!B1180,\".\",\"\"),\"-\",\"\"),\"/\",\"\"),\"erro\")","v":""},{"$f":"IFERROR(Gerar_Upload!C1180,\"erro\")","v":0},{"$f":"IFERROR(Gerar_Upload!D1180,\"erro\")","v":0},{"$f":"IFERROR(DATE(YEAR(Gerar_Upload!E1180),MONTH(Gerar_Upload!E1180),DAY(Gerar_Upload!E1180)),\"erro\")","v":"00:00:00"},{"$f":"IFERROR(Gerar_Upload!F1180,\"erro\")","v":0},{"$f":"IFERROR(IF(Gerar_Upload!G1180<44,REPT(0,44-LEN(Gerar_Upload!G1180))&Gerar_Upload!G1180,Gerar_Upload!G1180),\"erro\")","v":"00000000000000000000000000000000000000000000"}]
[{"$f":"IFERROR(LEFT(Gerar_Upload!A1181,120),\"erro\")","v":""},{"$f":"IFERROR(SUBSTITUTE(SUBSTITUTE(SUBSTITUTE(Gerar_Upload!B1181,\".\",\"\"),\"-\",\"\"),\"/\",\"\"),\"erro\")","v":""},{"$f":"IFERROR(Gerar_Upload!C1181,\"erro\")","v":0},{"$f":"IFERROR(Gerar_Upload!D1181,\"erro\")","v":0},{"$f":"IFERROR(DATE(YEAR(Gerar_Upload!E1181),MONTH(Gerar_Upload!E1181),DAY(Gerar_Upload!E1181)),\"erro\")","v":"00:00:00"},{"$f":"IFERROR(Gerar_Upload!F1181,\"erro\")","v":0},{"$f":"IFERROR(IF(Gerar_Upload!G1181<44,REPT(0,44-LEN(Gerar_Upload!G1181))&Gerar_Upload!G1181,Gerar_Upload!G1181),\"erro\")","v":"00000000000000000000000000000000000000000000"}]
[{"$f":"IFERROR(LEFT(Gerar_Upload!A1182,120),\"erro\")","v":""},{"$f":"IFERROR(SUBSTITUTE(SUBSTITUTE(SUBSTITUTE(Gerar_Upload!B1182,\".\",\"\"),\"-\",\"\"),\"/\",\"\"),\"erro\")","v":""},{"$f":"IFERROR(Gerar_Upload!C1182,\"erro\")","v":0},{"$f":"IFERROR(Gerar_Upload!D1182,\"erro\")","v":0},{"$f":"IFERROR(DATE(YEAR(Gerar_Upload!E1182),MONTH(Gerar_Upload!E1182),DAY(Gerar_Upload!E1182)),\"erro\")","v":"00:00:00"},{"$f":"IFERROR(Gerar_Upload!F1182,\"erro\")","v":0},{"$f":"IFERROR(IF(Gerar_Upload!G1182<44,REPT(0,44-LEN(Gerar_Upload!G1182))&Gerar_Upload!G1182,Gerar_Upload!G1182),\"erro\")","v":"00000000000000000000000000000000000000000000"}]
[{"$f":"IFERROR(LEFT(Gerar_Upload!A1183,120),\"erro\")","v":""},{"$f":"IFERROR(SUBSTITUTE(SUBSTITUTE(SUBSTITUTE(Gerar_Upload!B1183,\".\",\"\"),\"-\",\"\"),\"/\",\"\"),\"erro\")","v":""},{"$f":"IFERROR(Gerar_Upload!C1183,\"erro\")","v":0},{"$f":"IFERROR(Gerar_Upload!D1183,\"erro\")","v":0},{"$f":"IFERROR(DATE(YEAR(Gerar_Upload!E1183),MONTH(Gerar_Upload!E1183),DAY(Gerar_Upload!E1183)),\"erro\")","v":"00:00:00"},{"$f":"IFERROR(Gerar_Upload!F1183,\"erro\")","v":0},{"$f":"IFERROR(IF(Gerar_Upload!G1183<44,REPT(0,44-LEN(Gerar_Upload!G1183))&Gerar_Upload!G1183,Gerar_Upload!G1183),\"erro\")","v":"00000000000000000000000000000000000000000000"}]
[{"$f":"IFERROR(LEFT(Gerar_Upload!A1184,120),\"erro\")","v":""},{"$f":"IFERROR(SUBSTITUTE(SUBSTITUTE(SUBSTITUTE(Gerar_Upload!B1184,\".\",\"\"),\"-\",\"\"),\"/\",\"\"),\"erro\")","v":""},{"$f":"IFERROR(Gerar_Upload!C1184,\"erro\")","v":0},{"$f":"IFERROR(Gerar_Upload!D1184,\"erro\")","v":0},{"$f":"IFERROR(DATE(YEAR(Gerar_Upload!E1184),MONTH(Gerar_Upload!E1184),DAY(Gerar_Upload!E1184)),\"erro\")","v":"00:00:00"},{"$f":"IFERROR(Gerar_Upload!F1184,\"erro\")","v":0},{"$f":"IFERROR(IF(Gerar_Upload!G1184<44,REPT(0,44-LEN(Gerar_Upload!G1184))&Gerar_Upload!G1184,Gerar_Upload!G1184),\"erro\")","v":"00000000000000000000000000000000000000000000"}]
[{"$f":"IFERROR(LEFT(Gerar_Upload!A1185,120),\"erro\")","v":""},{"$f":"IFERROR(SUBSTITUTE(SUBSTITUTE(SUBSTITUTE(Gerar_Upload!B1185,\".\",\"\"),\"-\",\"\"),\"/\",\"\"),\"erro\")","v":""},{"$f":"IFERROR(Gerar_Upload!C1185,\"erro\")","v":0},{"$f":"IFERROR(Gerar_Upload!D1185,\"erro\")","v":0},{"$f":"IFERROR(DATE(YEAR(Gerar_Upload!E1185),MONTH(Gerar_Upload!E1185),DAY(Gerar_Upload!E1185)),\"erro\")","v":"00:00:00"},{"$f":"IFERROR(Gerar_Upload!F1185,\"erro\")","v":0},{"$f":"IFERROR(IF(Gerar_Upload!G1185<44,REPT(0,44-LEN(Gerar_Upload!G1185))&Gerar_Upload!G1185,Gerar_Upload!G1185),\"erro\")","v":"00000000000000000000000000000000000000000000"}]
[{"$f":"IFERROR(LEFT(Gerar_Upload!A1186,120),\"erro\")","v":""},{"$f":"IFERROR(SUBSTITUTE(SUBSTITUTE(SUBSTITUTE(Gerar_Upload!B1186,\".\",\"\"),\"-\",\"\"),\"/\",\"\"),\"erro\")","v":""},{"$f":"IFERROR(Gerar_Upload!C1186,\"erro\")","v":0},{"$f":"IFERROR(Gerar_Upload!D1186,\"erro\")","v":0},{"$f":"IFERROR(DATE(YEAR(Gerar_Upload!E1186),MONTH(Gerar_Upload!E1186),DAY(Gerar_Upload!E1186)),\"erro\")","v":"00:00:00"},{"$f":"IFERROR(Gerar_Upload!F1186,\"erro\")","v":0},{"$f":"IFERROR(IF(Gerar_Upload!G1186<44,REPT(0,44-LEN(Gerar_Upload!G1186))&Gerar_Upload!G1186,Gerar_Upload!G1186),\"erro\")","v":"00000000000000000000000000000000000000000000"}]
[{"$f":"IFERROR(LEFT(Gerar_Upload!A1187,120),\"erro\")","v":""},{"$f":"IFERROR(SUBSTITUTE(SUBSTITUTE(SUBSTITUTE(Gerar_Upload!B1187,\".\",\"\"),\"-\",\"\"),\"/\",\"\"),\"erro\")","v":""},{"$f":"IFERROR(Gerar_Upload!C1187,\"erro\")","v":0},{"$f":"IFERROR(Gerar_Upload!D1187,\"erro\")","v":0},{"$f":"IFERROR(DATE(YEAR(Gerar_Upload!E1187),MONTH(Gerar_Upload!E1187),DAY(Gerar_Upload!E1187)),\"erro\")","v":"00:00:00"},{"$f":"IFERROR(Gerar_Upload!F1187,\"erro\")","v":0},{"$f":"IFERROR(IF(Gerar_Upload!G1187<44,REPT(0,44-LEN(Gerar_Upload!G1187))&Gerar_Upload!G1187,Gerar_Upload!G1187),\"erro\")","v":"00000000000000000000000000000000000000000000"}]
[{"$f":"IFERROR(LEFT(Gerar_Upload!A1188,120),\"erro\")","v":""},{"$f":"IFERROR(SUBSTITUTE(SUBSTITUTE(SUBSTITUTE(Gerar_Upload!B1188,\".\",\"\"),\"-\",\"\"),\"/\",\"\"),\"erro\")","v":""},{"$f":"IFERROR(Gerar_Upload!C1188,\"erro\")","v":0},{"$f":"IFERROR(Gerar_Upload!D1188,\"erro\")","v":0},{"$f":"IFERROR(DATE(YEAR(Gerar_Upload!E1188),MONTH(Gerar_Upload!E1188),DAY(Gerar_Upload!E1188)),\"erro\")","v":"00:00:00"},{"$f":"IFERROR(Gerar_Upload!F1188,\"erro\")","v":0},{"$f":"IFERROR(IF(Gerar_Upload!G1188<44,REPT(0,44-LEN(Gerar_Upload!G1188))&Gerar_Upload!G1188,Gerar_Upload!G1188),\"erro\")","v":"00000000000000000000000000000000000000000000"}]
[{"$f":"IFERROR(LEFT(Gerar_Upload!A1189,120),\"erro\")","v":""},{"$f":"IFERROR(SUBSTITUTE(SUBSTITUTE(SUBSTITUTE(Gerar_Upload!B1189,\".\",\"\"),\"-\",\"\"),\"/\",\"\"),\"erro\")","v":""},{"$f":"IFERROR(Gerar_Upload!C1189,\"erro\")","v":0},{"$f":"IFERROR(Gerar_Upload!D1189,\"erro\")","v":0},{"$f":"IFERROR(DATE(YEAR(Gerar_Upload!E1189),MONTH(Gerar_Upload!E1189),DAY(Gerar_Upload!E1189)),\"erro\")","v":"00:00:00"},{"$f":"IFERROR(Gerar_Upload!F1189,\"erro\")","v":0},{"$f":"IFERROR(IF(Gerar_Upload!G1189<44,REPT(0,44-LEN(Gerar_Upload!G1189))&Gerar_Upload!G1189,Gerar_Upload!G1189),\"erro\")","v":"00000000000000000000000000000000000000000000"}]
[{"$f":"IFERROR(LEFT(Gerar_Upload!A1190,120),\"erro\")","v":""},{"$f":"IFERROR(SUBSTITUTE(SUBSTITUTE(SUBSTITUTE(Gerar_Upload!B1190,\".\",\"\"),\"-\",\"\"),\"/\",\"\"),\"erro\")","v":""},{"$f":"IFERROR(Gerar_Upload!C1190,\"erro\")","v":0},{"$f":"IFERROR(Gerar_Upload!D1190,\"erro\")","v":0},{"$f":"IFERROR(DATE(YEAR(Gerar_Upload!E1190),MONTH(Gerar_Upload!E1190),DAY(Gerar_Upload!E1190)),\"erro\")","v":"00:00:00"},{"$f":"IFERROR(Gerar_Upload!F1190,\"erro\")","v":0},{"$f":"IFERROR(IF(Gerar_Upload!G1190<44,REPT(0,44-LEN(Gerar_Upload!G1190))&Gerar_Upload!G1190,Gerar_Upload!G1190),\"erro\")","v":"00000000000000000000000000000000000000000000"}]
[{"$f":"IFERROR(LEFT(Gerar_Upload!A1191,120),\"erro\")","v":""},{"$f":"IFERROR(SUBSTITUTE(SUBSTITUTE(SUBSTITUTE(Gerar_Upload!B1191,\".\",\"\"),\"-\",\"\"),\"/\",\"\"),\"erro\")","v":""},{"$f":"IFERROR(Gerar_Upload!C1191,\"erro\")","v":0},{"$f":"IFERROR(Gerar_Upload!D1191,\"erro\")","v":0},{"$f":"IFERROR(DATE(YEAR(Gerar_Upload!E1191),MONTH(Gerar_Upload!E1191),DAY(Gerar_Upload!E1191)),\"erro\")","v":"00:00:00"},{"$f":"IFERROR(Gerar_Upload!F1191,\"erro\")","v":0},{"$f":"IFERROR(IF(Gerar_Upload!G1191<44,REPT(0,44-LEN(Gerar_Upload!G1191))&Gerar_Upload!G1191,Gerar_Upload!G1191),\"erro\")","v":"00000000000000000000000000000000000000000000"}]
[{"$f":"IFERROR(LEFT(Gerar_Upload!A1192,120),\"erro\")","v":""},{"$f":"IFERROR(SUBSTITUTE(SUBSTITUTE(SUBSTITUTE(Gerar_Upload!B1192,\".\",\"\"),\"-\",\"\"),\"/\",\"\"),\"erro\")","v":""},{"$f":"IFERROR(Gerar_Upload!C1192,\"erro\")","v":0},{"$f":"IFERROR(Gerar_Upload!D1192,\"erro\")","v":0},{"$f":"IFERROR(DATE(YEAR(Gerar_Upload!E1192),MONTH(Gerar_Upload!E1192),DAY(Gerar_Upload!E1192)),\"erro\")","v":"00:00:00"},{"$f":"IFERROR(Gerar_Upload!F1192,\"erro\")","v":0},{"$f":"IFERROR(IF(Gerar_Upload!G1192<44,REPT(0,44-LEN(Gerar_Upload!G1192))&Gerar_Upload!G1192,Gerar_Upload!G1192),\"erro\")","v":"00000000000000000000000000000000000000000000"}]
[{"$f":"IFERROR(LEFT(Gerar_Upload!A1193,120),\"erro\")","v":""},{"$f":"IFERROR(SUBSTITUTE(SUBSTITUTE(SUBSTITUTE(Gerar_Upload!B1193,\".\",\"\"),\"-\",\"\"),\"/\",\"\"),\"erro\")","v":""},{"$f":"IFERROR(Gerar_Upload!C1193,\"erro\")","v":0},{"$f":"IFERROR(Gerar_Upload!D1193,\"erro\")","v":0},{"$f":"IFERROR(DATE(YEAR(Gerar_Upload!E1193),MONTH(Gerar_Upload!E1193),DAY(Gerar_Upload!E1193)),\"erro\")","v":"00:00:00"},{"$f":"IFERROR(Gerar_Upload!F1193,\"erro\")","v":0},{"$f":"IFERROR(IF(Gerar_Upload!G1193<44,REPT(0,44-LEN(Gerar_Upload!G1193))&Gerar_Upload!G1193,Gerar_Upload!G1193),\"erro\")","v":"00000000000000000000000000000000000000000000"}]
[{"$f":"IFERROR(LEFT(Gerar_Upload!A1194,120),\"erro\")","v":""},{"$f":"IFERROR(SUBSTITUTE(SUBSTITUTE(SUBSTITUTE(Gerar_Upload!B1194,\".\",\"\"),\"-\",\"\"),\"/\",\"\"),\"erro\")","v":""},{"$f":"IFERROR(Gerar_Upload!C1194,\"erro\")","v":0},{"$f":"IFERROR(Gerar_Upload!D1194,\"erro\")","v":0},{"$f":"IFERROR(DATE(YEAR(Gerar_Upload!E1194),MONTH(Gerar_Upload!E1194),DAY(Gerar_Upload!E1194)),\"erro\")","v":"00:00:00"},{"$f":"IFERROR(Gerar_Upload!F1194,\"erro\")","v":0},{"$f":"IFERROR(IF(Gerar_Upload!G1194<44,REPT(0,44-LEN(Gerar_Upload!G1194))&Gerar_Upload!G1194,Gerar_Upload!G1194),\"erro\")","v":"00000000000000000000000000000000000000000000"}]
[{"$f":"IFERROR(LEFT(Gerar_Upload!A1195,120),\"erro\")","v":""},{"$f":"IFERROR(SUBSTITUTE(SUBSTITUTE(SUBSTITUTE(Gerar_Upload!B1195,\".\",\"\"),\"-\",\"\"),\"/\",\"\"),\"erro\")","v":""},{"$f":"IFERROR(Gerar_Upload!C1195,\"erro\")","v":0},{"$f":"IFERROR(Gerar_Upload!D1195,\"erro\")","v":0},{"$f":"IFERROR(DATE(YEAR(Gerar_Upload!E1195),MONTH(Gerar_Upload!E1195),DAY(Gerar_Upload!E1195)),\"erro\")","v":"00:00:00"},{"$f":"IFERROR(Gerar_Upload!F1195,\"erro\")","v":0},{"$f":"IFERROR(IF(Gerar_Upload!G1195<44,REPT(0,44-LEN(Gerar_Upload!G1195))&Gerar_Upload!G1195,Gerar_Upload!G1195),\"erro\")","v":"00000000000000000000000000000000000000000000"}]
[{"$f":"IFERROR(LEFT(Gerar_Upload!A1196,120),\"erro\")","v":""},{"$f":"IFERROR(SUBSTITUTE(SUBSTITUTE(SUBSTITUTE(Gerar_Upload!B1196,\".\",\"\"),\"-\",\"\"),\"/\",\"\"),\"erro\")","v":""},{"$f":"IFERROR(Gerar_Upload!C1196,\"erro\")","v":0},{"$f":"IFERROR(Gerar_Upload!D1196,\"erro\")","v":0},{"$f":"IFERROR(DATE(YEAR(Gerar_Upload!E1196),MONTH(Gerar_Upload!E1196),DAY(Gerar_Upload!E1196)),\"erro\")","v":"00:00:00"},{"$f":"IFERROR(Gerar_Upload!F1196,\"erro\")","v":0},{"$f":"IFERROR(IF(Gerar_Upload!G1196<44,REPT(0,44-LEN(Gerar_Upload!G1196))&Gerar_Upload!G1196,Gerar_Upload!G1196),\"erro\")","v":"00000000000000000000000000000000000000000000"}]
[{"$f":"IFERROR(LEFT(Gerar_Upload!A1197,120),\"erro\")","v":""},{"$f":"IFERROR(SUBSTITUTE(SUBSTITUTE(SUBSTITUTE(Gerar_Upload!B1197,\".\",\"\"),\"-\",\"\"),\"/\",\"\"),\"erro\")","v":""},{"$f":"IFERROR(Gerar_Upload!C1197,\"erro\")","v":0},{"$f":"IFERROR(Gerar_Upload!D1197,\"erro\")","v":0},{"$f":"IFERROR(DATE(YEAR(Gerar_Upload!E1197),MONTH(Gerar_Upload!E1197),DAY(Gerar_Upload!E1197)),\"erro\")","v":"00:00:00"},{"$f":"IFERROR(Gerar_Upload!F1197,\"erro\")","v":0},{"$f":"IFERROR(IF(Gerar_Upload!G1197<44,REPT(0,44-LEN(Gerar_Upload!G1197))&Gerar_Upload!G1197,Gerar_Upload!G1197),\"erro\")","v":"00000000000000000000000000000000000000000000"}]
[{"$f":"IFERROR(LEFT(Gerar_Upload!A1198,120),\"erro\")","v":""},{"$f":"IFERROR(SUBSTITUTE(SUBSTITUTE(SUBSTITUTE(Gerar_Upload!B1198,\".\",\"\"),\"-\",\"\"),\"/\",\"\"),\"erro\")","v":""},{"$f":"IFERROR(Gerar_Upload!C1198,\"erro\")","v":0},{"$f":"IFERROR(Gerar_Upload!D1198,\"erro\")","v":0},{"$f":"IFERROR(DATE(YEAR(Gerar_Upload!E1198),MONTH(Gerar_Upload!E1198),DAY(Gerar_Upload!E1198)),\"erro\")","v":"00:00:00"},{"$f":"IFERROR(Gerar_Upload!F1198,\"erro\")","v":0},{"$f":"IFERROR(IF(Gerar_Upload!G1198<44,REPT(0,44-LEN(Gerar_Upload!G1198))&Gerar_Upload!G1198,Gerar_Upload!G1198),\"erro\")","v":"00000000000000000000000000000000000000000000"}]
[{"$f":"IFERROR(LEFT(Gerar_Upload!A1199,120),\"erro\")","v":""},{"$f":"IFERROR(SUBSTITUTE(SUBSTITUTE(SUBSTITUTE(Gerar_Upload!B1199,\".\",\"\"),\"-\",\"\"),\"/\",\"\"),\"erro\")","v":""},{"$f":"IFERROR(Gerar_Upload!C1199,\"erro\")","v":0},{"$f":"IFERROR(Gerar_Upload!D1199,\"erro\")","v":0},{"$f":"IFERROR(DATE(YEAR(Gerar_Upload!E1199),MONTH(Gerar_Upload!E1199),DAY(Gerar_Upload!E1199)),\"erro\")","v":"00:00:00"},{"$f":"IFERROR(Gerar_Upload!F1199,\"erro\")","v":0},{"$f":"IFERROR(IF(Gerar_Upload!G1199<44,REPT(0,44-LEN(Gerar_Upload!G1199))&Gerar_Upload!G1199,Gerar_Upload!G1199),\"erro\")","v":"00000000000000000000000000000000000000000000"}]
[{"$f":"IFERROR(LEFT(Gerar_Upload!A1200,120),\"erro\")","v":""},{"$f":"IFERROR(SUBSTITUTE(SUBSTITUTE(SUBSTITUTE(Gerar_Upload!B1200,\".\",\"\"),\"-\",\"\"),\"/\",\"\"),\"erro\")","v":""},{"$f":"IFERROR(Gerar_Upload!C1200,\"erro\")","v":0},{"$f":"IFERROR(Gerar_Upload!D1200,\"erro\")","v":0},{"$f":"IFERROR(DATE(YEAR(Gerar_Upload!E1200),MONTH(Gerar_Upload!E1200),DAY(Gerar_Upload!E1200)),\"erro\")","v":"00:00:00"},{"$f":"IFERROR(Gerar_Upload!F1200,\"erro\")","v":0},{"$f":"IFERROR(IF(Gerar_Upload!G1200<44,REPT(0,44-LEN(Gerar_Upload!G1200))&Gerar_Upload!G1200,Gerar_Upload!G1200),\"erro\")","v":"00000000000000000000000000000000000000000000"}]
[{"$f":"IFERROR(LEFT(Gerar_Upload!A1201,120),\"erro\")","v":""},{"$f":"IFERROR(SUBSTITUTE(SUBSTITUTE(SUBSTITUTE(Gerar_Upload!B1201,\".\",\"\"),\"-\",\"\"),\"/\",\"\"),\"erro\")","v":""},{"$f":"IFERROR(Gerar_Upload!C1201,\"erro\")","v":0},{"$f":"IFERROR(Gerar_Upload!D1201,\"erro\")","v":0},{"$f":"IFERROR(DATE(YEAR(Gerar_Upload!E1201),MONTH(Gerar_Upload!E1201),DAY(Gerar_Upload!E1201)),\"erro\")","v":"00:00:00"},{"$f":"IFERROR(Gerar_Upload!F1201,\"erro\")","v":0},{"$f":"IFERROR(IF(Gerar_Upload!G1201<44,REPT(0,44-LEN(Gerar_Upload!G1201))&Gerar_Upload!G1201,Gerar_Upload!G1201),\"erro\")","v":"00000000000000000000000000000000000000000000"}]
[{"$f":"IFERROR(LEFT(Gerar_Upload!A1202,120),\"erro\")","v":""},{"$f":"IFERROR(SUBSTITUTE(SUBSTITUTE(SUBSTITUTE(Gerar_Upload!B1202,\".\",\"\"),\"-\",\"\"),\"/\",\"\"),\"erro\")","v":""},{"$f":"IFERROR(Gerar_Upload!C1202,\"erro\")","v":0},{"$f":"IFERROR(Gerar_Upload!D1202,\"erro\")","v":0},{"$f":"IFERROR(DATE(YEAR(Gerar_Upload!E1202),MONTH(Gerar_Upload!E1202),DAY(Gerar_Upload!E1202)),\"erro\")","v":"00:00:00"},{"$f":"IFERROR(Gerar_Upload!F1202,\"erro\")","v":0},{"$f":"IFERROR(IF(Gerar_Upload!G1202<44,REPT(0,44-LEN(Gerar_Upload!G1202))&Gerar_Upload!G1202,Gerar_Upload!G1202),\"erro\")","v":"00000000000000000000000000000000000000000000"}]
[{"$f":"IFERROR(LEFT(Gerar_Upload!A1203,120),\"erro\")","v":""},{"$f":"IFERROR(SUBSTITUTE(SUBSTITUTE(SUBSTITUTE(Gerar_Upload!B1203,\".\",\"\"),\"-\",\"\"),\"/\",\"\"),\"erro\")","v":""},{"$f":"IFERROR(Gerar_Upload!C1203,\"erro\")","v":0},{"$f":"IFERROR(Gerar_Upload!D1203,\"erro\")","v":0},{"$f":"IFERROR(DATE(YEAR(Gerar_Upload!E1203),MONTH(Gerar_Upload!E1203),DAY(Gerar_Upload!E1203)),\"erro\")","v":"00:00:00"},{"$f":"IFERROR(Gerar_Upload!F1203,\"erro\")","v":0},{"$f":"IFERROR(IF(Gerar_Upload!G1203<44,REPT(0,44-LEN(Gerar_Upload!G1203))&Gerar_Upload!G1203,Gerar_Upload!G1203),\"erro\")","v":"00000000000000000000000000000000000000000000"}]
[{"$f":"IFERROR(LEFT(Gerar_Upload!A1204,120),\"erro\")","v":""},{"$f":"IFERROR(SUBSTITUTE(SUBSTITUTE(SUBSTITUTE(Gerar_Upload!B1204,\".\",\"\"),\"-\",\"\"),\"/\",\"\"),\"erro\")","v":""},{"$f":"IFERROR(Gerar_Upload!C1204,\"erro\")","v":0},{"$f":"IFERROR(Gerar_Upload!D1204,\"erro\")","v":0},{"$f":"IFERROR(DATE(YEAR(Gerar_Upload!E1204),MONTH(Gerar_Upload!E1204),DAY(Gerar_Upload!E1204)),\"erro\")","v":"00:00:00"},{"$f":"IFERROR(Gerar_Upload!F1204,\"erro\")","v":0},{"$f":"IFERROR(IF(Gerar_Upload!G1204<44,REPT(0,44-LEN(Gerar_Upload!G1204))&Gerar_Upload!G1204,Gerar_Upload!G1204),\"erro\")","v":"00000000000000000000000000000000000000000000"}]
[{"$f":"IFERROR(LEFT(Gerar_Upload!A1205,120),\"erro\")","v":""},{"$f":"IFERROR(SUBSTITUTE(SUBSTITUTE(SUBSTITUTE(Gerar_Upload!B1205,\".\",\"\"),\"-\",\"\"),\"/\",\"\"),\"erro\")","v":""},{"$f":"IFERROR(Gerar_Upload!C1205,\"erro\")","v":0},{"$f":"IFERROR(Gerar_Upload!D1205,\"erro\")","v":0},{"$f":"IFERROR(DATE(YEAR(Gerar_Upload!E1205),MONTH(Gerar_Upload!E1205),DAY(Gerar_Upload!E1205)),\"erro\")","v":"00:00:00"},{"$f":"IFERROR(Gerar_Upload!F1205,\"erro\")","v":0},{"$f":"IFERROR(IF(Gerar_Upload!G1205<44,REPT(0,44-LEN(Gerar_Upload!G1205))&Gerar_Upload!G1205,Gerar_Upload!G1205),\"erro\")","v":"00000000000000000000000000000000000000000000"}]
[{"$f":"IFERROR(LEFT(Gerar_Upload!A1206,120),\"erro\")","v":""},{"$f":"IFERROR(SUBSTITUTE(SUBSTITUTE(SUBSTITUTE(Gerar_Upload!B1206,\".\",\"\"),\"-\",\"\"),\"/\",\"\"),\"erro\")","v":""},{"$f":"IFERROR(Gerar_Upload!C1206,\"erro\")","v":0},{"$f":"IFERROR(Gerar_Upload!D1206,\"erro\")","v":0},{"$f":"IFERROR(DATE(YEAR(Gerar_Upload!E1206),MONTH(Gerar_Upload!E1206),DAY(Gerar_Upload!E1206)),\"erro\")","v":"00:00:00"},{"$f":"IFERROR(Gerar_Upload!F1206,\"erro\")","v":0},{"$f":"IFERROR(IF(Gerar_Upload!G1206<44,REPT(0,44-LEN(Gerar_Upload!G1206))&Gerar_Upload!G1206,Gerar_Upload!G1206),\"erro\")","v":"00000000000000000000000000000000000000000000"}]
[{"$f":"IFERROR(LEFT(Gerar_Upload!A1207,120),\"erro\")","v":""},{"$f":"IFERROR(SUBSTITUTE(SUBSTITUTE(SUBSTITUTE(Gerar_Upload!B1207,\".\",\"\"),\"-\",\"\"),\"/\",\"\"),\"erro\")","v":""},{"$f":"IFERROR(Gerar_Upload!C1207,\"erro\")","v":0},{"$f":"IFERROR(Gerar_Upload!D1207,\"erro\")","v":0},{"$f":"IFERROR(DATE(YEAR(Gerar_Upload!E1207),MONTH(Gerar_Upload!E1207),DAY(Gerar_Upload!E1207)),\"erro\")","v":"00:00:00"},{"$f":"IFERROR(Gerar_Upload!F1207,\"erro\")","v":0},{"$f":"IFERROR(IF(Gerar_Upload!G1207<44,REPT(0,44-LEN(Gerar_Upload!G1207))&Gerar_Upload!G1207,Gerar_Upload!G1207),\"erro\")","v":"00000000000000000000000000000000000000000000"}]
[{"$f":"IFERROR(LEFT(Gerar_Upload!A1208,120),\"erro\")","v":""},{"$f":"IFERROR(SUBSTITUTE(SUBSTITUTE(SUBSTITUTE(Gerar_Upload!B1208,\".\",\"\"),\"-\",\"\"),\"/\",\"\"),\"erro\")","v":""},{"$f":"IFERROR(Gerar_Upload!C1208,\"erro\")","v":0},{"$f":"IFERROR(Gerar_Upload!D1208,\"erro\")","v":0},{"$f":"IFERROR(DATE(YEAR(Gerar_Upload!E1208),MONTH(Gerar_Upload!E1208),DAY(Gerar_Upload!E1208)),\"erro\")","v":"00:00:00"},{"$f":"IFERROR(Gerar_Upload!F1208,\"erro\")","v":0},{"$f":"IFERROR(IF(Gerar_Upload!G1208<44,REPT(0,44-LEN(Gerar_Upload!G1208))&Gerar_Upload!G1208,Gerar_Upload!G1208),\"erro\")","v":"00000000000000000000000000000000000000000000"}]
[{"$f":"IFERROR(LEFT(Gerar_Upload!A1209,120),\"erro\")","v":""},{"$f":"IFERROR(SUBSTITUTE(SUBSTITUTE(SUBSTITUTE(Gerar_Upload!B1209,\".\",\"\"),\"-\",\"\"),\"/\",\"\"),\"erro\")","v":""},{"$f":"IFERROR(Gerar_Upload!C1209,\"erro\")","v":0},{"$f":"IFERROR(Gerar_Upload!D1209,\"erro\")","v":0},{"$f":"IFERROR(DATE(YEAR(Gerar_Upload!E1209),MONTH(Gerar_Upload!E1209),DAY(Gerar_Upload!E1209)),\"erro\")","v":"00:00:00"},{"$f":"IFERROR(Gerar_Upload!F1209,\"erro\")","v":0},{"$f":"IFERROR(IF(Gerar_Upload!G1209<44,REPT(0,44-LEN(Gerar_Upload!G1209))&Gerar_Upload!G1209,Gerar_Upload!G1209),\"erro\")","v":"00000000000000000000000000000000000000000000"}]
[{"$f":"IFERROR(LEFT(Gerar_Upload!A1210,120),\"erro\")","v":""},{"$f":"IFERROR(SUBSTITUTE(SUBSTITUTE(SUBSTITUTE(Gerar_Upload!B1210,\".\",\"\"),\"-\",\"\"),\"/\",\"\"),\"erro\")","v":""},{"$f":"IFERROR(Gerar_Upload!C1210,\"erro\")","v":0},{"$f":"IFERROR(Gerar_Upload!D1210,\"erro\")","v":0},{"$f":"IFERROR(DATE(YEAR(Gerar_Upload!E1210),MONTH(Gerar_Upload!E1210),DAY(Gerar_Upload!E1210)),\"erro\")","v":"00:00:00"},{"$f":"IFERROR(Gerar_Upload!F1210,\"erro\")","v":0},{"$f":"IFERROR(IF(Gerar_Upload!G1210<44,REPT(0,44-LEN(Gerar_Upload!G1210))&Gerar_Upload!G1210,Gerar_Upload!G1210),\"erro\")","v":"00000000000000000000000000000000000000000000"}]
[{"$f":"IFERROR(LEFT(Gerar_Upload!A1211,120),\"erro\")","v":""},{"$f":"IFERROR(SUBSTITUTE(SUBSTITUTE(SUBSTITUTE(Gerar_Upload!B1211,\".\",\"\"),\"-\",\"\"),\"/\",\"\"),\"erro\")","v":""},{"$f":"IFERROR(Gerar_Upload!C1211,\"erro\")","v":0},{"$f":"IFERROR(Gerar_Upload!D1211,\"erro\")","v":0},{"$f":"IFERROR(DATE(YEAR(Gerar_Upload!E1211),MONTH(Gerar_Upload!E1211),DAY(Gerar_Upload!E1211)),\"erro\")","v":"00:00:00"},{"$f":"IFERROR(Gerar_Upload!F1211,\"erro\")","v":0},{"$f":"IFERROR(IF(Gerar_Upload!G1211<44,REPT(0,44-LEN(Gerar_Upload!G1211))&Gerar_Upload!G1211,Gerar_Upload!G1211),\"erro\")","v":"00000000000000000000000000000000000000000000"}]
[{"$f":"IFERROR(LEFT(Gerar_Upload!A1212,120),\"erro\")","v":""},{"$f":"IFERROR(SUBSTITUTE(SUBSTITUTE(SUBSTITUTE(Gerar_Upload!B1212,\".\",\"\"),\"-\",\"\"),\"/\",\"\"),\"erro\")","v":""},{"$f":"IFERROR(Gerar_Upload!C1212,\"erro\")","v":0},{"$f":"IFERROR(Gerar_Upload!D1212,\"erro\")","v":0},{"$f":"IFERROR(DATE(YEAR(Gerar_Upload!E1212),MONTH(Gerar_Upload!E1212),DAY(Gerar_Upload!E1212)),\"erro\")","v":"00:00:00"},{"$f":"IFERROR(Gerar_Upload!F1212,\"erro\")","v":0},{"$f":"IFERROR(IF(Gerar_Upload!G1212<44,REPT(0,44-LEN(Gerar_Upload!G1212))&Gerar_Upload!G1212,Gerar_Upload!G1212),\"erro\")","v":"00000000000000000000000000000000000000000000"}]
[{"$f":"IFERROR(LEFT(Gerar_Upload!A1213,120),\"erro\")","v":""},{"$f":"IFERROR(SUBSTITUTE(SUBSTITUTE(SUBSTITUTE(Gerar_Upload!B1213,\".\",\"\"),\"-\",\"\"),\"/\",\"\"),\"erro\")","v":""},{"$f":"IFERROR(Gerar_Upload!C1213,\"erro\")","v":0},{"$f":"IFERROR(Gerar_Upload!D1213,\"erro\")","v":0},{"$f":"IFERROR(DATE(YEAR(Gerar_Upload!E1213),MONTH(Gerar_Upload!E1213),DAY(Gerar_Upload!E1213)),\"erro\")","v":"00:00:00"},{"$f":"IFERROR(Gerar_Upload!F1213,\"erro\")","v":0},{"$f":"IFERROR(IF(Gerar_Upload!G1213<44,REPT(0,44-LEN(Gerar_Upload!G1213))&Gerar_Upload!G1213,Gerar_Upload!G1213),\"erro\")","v":"00000000000000000000000000000000000000000000"}]
[{"$f":"IFERROR(LEFT(Gerar_Upload!A1214,120),\"erro\")","v":""},{"$f":"IFERROR(SUBSTITUTE(SUBSTITUTE(SUBSTITUTE(Gerar_Upload!B1214,\".\",\"\"),\"-\",\"\"),\"/\",\"\"),\"erro\")","v":""},{"$f":"IFERROR(Gerar_Upload!C1214,\"erro\")","v":0},{"$f":"IFERROR(Gerar_Upload!D1214,\"erro\")","v":0},{"$f":"IFERROR(DATE(YEAR(Gerar_Upload!E1214),MONTH(Gerar_Upload!E1214),DAY(Gerar_Upload!E1214)),\"erro\")","v":"00:00:00"},{"$f":"IFERROR(Gerar_Upload!F1214,\"erro\")","v":0},{"$f":"IFERROR(IF(Gerar_Upload!G1214<44,REPT(0,44-LEN(Gerar_Upload!G1214))&Gerar_Upload!G1214,Gerar_Upload!G1214),\"erro\")","v":"00000000000000000000000000000000000000000000"}]
[{"$f":"IFERROR(LEFT(Gerar_Upload!A1215,120),\"erro\")","v":""},{"$f":"IFERROR(SUBSTITUTE(SUBSTITUTE(SUBSTITUTE(Gerar_Upload!B1215,\".\",\"\"),\"-\",\"\"),\"/\",\"\"),\"erro\")","v":""},{"$f":"IFERROR(Gerar_Upload!C1215,\"erro\")","v":0},{"$f":"IFERROR(Gerar_Upload!D1215,\"erro\")","v":0},{"$f":"IFERROR(DATE(YEAR(Gerar_Upload!E1215),MONTH(Gerar_Upload!E1215),DAY(Gerar_Upload!E1215)),\"erro\")","v":"00:00:00"},{"$f":"IFERROR(Gerar_Upload!F1215,\"erro\")","v":0},{"$f":"IFERROR(IF(Gerar_Upload!G1215<44,REPT(0,44-LEN(Gerar_Upload!G1215))&Gerar_Upload!G1215,Gerar_Upload!G1215),\"erro\")","v":"00000000000000000000000000000000000000000000"}]
[{"$f":"IFERROR(LEFT(Gerar_Upload!A1216,120),\"erro\")","v":""},{"$f":"IFERROR(SUBSTITUTE(SUBSTITUTE(SUBSTITUTE(Gerar_Upload!B1216,\".\",\"\"),\"-\",\"\"),\"/\",\"\"),\"erro\")","v":""},{"$f":"IFERROR(Gerar_Upload!C1216,\"erro\")","v":0},{"$f":"IFERROR(Gerar_Upload!D1216,\"erro\")","v":0},{"$f":"IFERROR(DATE(YEAR(Gerar_Upload!E1216),MONTH(Gerar_Upload!E1216),DAY(Gerar_Upload!E1216)),\"erro\")","v":"00:00:00"},{"$f":"IFERROR(Gerar_Upload!F1216,\"erro\")","v":0},{"$f":"IFERROR(IF(Gerar_Upload!G1216<44,REPT(0,44-LEN(Gerar_Upload!G1216))&Gerar_Upload!G1216,Gerar_Upload!G1216),\"erro\")","v":"00000000000000000000000000000000000000000000"}]
[{"$f":"IFERROR(LEFT(Gerar_Upload!A1217,120),\"erro\")","v":""},{"$f":"IFERROR(SUBSTITUTE(SUBSTITUTE(SUBSTITUTE(Gerar_Upload!B1217,\".\",\"\"),\"-\",\"\"),\"/\",\"\"),\"erro\")","v":""},{"$f":"IFERROR(Gerar_Upload!C1217,\"erro\")","v":0},{"$f":"IFERROR(Gerar_Upload!D1217,\"erro\")","v":0},{"$f":"IFERROR(DATE(YEAR(Gerar_Upload!E1217),MONTH(Gerar_Upload!E1217),DAY(Gerar_Upload!E1217)),\"erro\")","v":"00:00:00"},{"$f":"IFERROR(Gerar_Upload!F1217,\"erro\")","v":0},{"$f":"IFERROR(IF(Gerar_Upload!G1217<44,REPT(0,44-LEN(Gerar_Upload!G1217))&Gerar_Upload!G1217,Gerar_Upload!G1217),\"erro\")","v":"00000000000000000000000000000000000000000000"}]
[{"$f":"IFERROR(LEFT(Gerar_Upload!A1218,120),\"erro\")","v":""},{"$f":"IFERROR(SUBSTITUTE(SUBSTITUTE(SUBSTITUTE(Gerar_Upload!B1218,\".\",\"\"),\"-\",\"\"),\"/\",\"\"),\"erro\")","v":""},{"$f":"IFERROR(Gerar_Upload!C1218,\"erro\")","v":0},{"$f":"IFERROR(Gerar_Upload!D1218,\"erro\")","v":0},{"$f":"IFERROR(DATE(YEAR(Gerar_Upload!E1218),MONTH(Gerar_Upload!E1218),DAY(Gerar_Upload!E1218)),\"erro\")","v":"00:00:00"},{"$f":"IFERROR(Gerar_Upload!F1218,\"erro\")","v":0},{"$f":"IFERROR(IF(Gerar_Upload!G1218<44,REPT(0,44-LEN(Gerar_Upload!G1218))&Gerar_Upload!G1218,Gerar_Upload!G1218),\"erro\")","v":"00000000000000000000000000000000000000000000"}]
[{"$f":"IFERROR(LEFT(Gerar_Upload!A1219,120),\"erro\")","v":""},{"$f":"IFERROR(SUBSTITUTE(SUBSTITUTE(SUBSTITUTE(Gerar_Upload!B1219,\".\",\"\"),\"-\",\"\"),\"/\",\"\"),\"erro\")","v":""},{"$f":"IFERROR(Gerar_Upload!C1219,\"erro\")","v":0},{"$f":"IFERROR(Gerar_Upload!D1219,\"erro\")","v":0},{"$f":"IFERROR(DATE(YEAR(Gerar_Upload!E1219),MONTH(Gerar_Upload!E1219),DAY(Gerar_Upload!E1219)),\"erro\")","v":"00:00:00"},{"$f":"IFERROR(Gerar_Upload!F1219,\"erro\")","v":0},{"$f":"IFERROR(IF(Gerar_Upload!G1219<44,REPT(0,44-LEN(Gerar_Upload!G1219))&Gerar_Upload!G1219,Gerar_Upload!G1219),\"erro\")","v":"00000000000000000000000000000000000000000000"}]
[{"$f":"IFERROR(LEFT(Gerar_Upload!A1220,120),\"erro\")","v":""},{"$f":"IFERROR(SUBSTITUTE(SUBSTITUTE(SUBSTITUTE(Gerar_Upload!B1220,\".\",\"\"),\"-\",\"\"),\"/\",\"\"),\"erro\")","v":""},{"$f":"IFERROR(Gerar_Upload!C1220,\"erro\")","v":0},{"$f":"IFERROR(Gerar_Upload!D1220,\"erro\")","v":0},{"$f":"IFERROR(DATE(YEAR(Gerar_Upload!E1220),MONTH(Gerar_Upload!E1220),DAY(Gerar_Upload!E1220)),\"erro\")","v":"00:00:00"},{"$f":"IFERROR(Gerar_Upload!F1220,\"erro\")","v":0},{"$f":"IFERROR(IF(Gerar_Upload!G1220<44,REPT(0,44-LEN(Gerar_Upload!G1220))&Gerar_Upload!G1220,Gerar_Upload!G1220),\"erro\")","v":"00000000000000000000000000000000000000000000"}]
[{"$f":"IFERROR(LEFT(Gerar_Upload!A1221,120),\"erro\")","v":""},{"$f":"IFERROR(SUBSTITUTE(SUBSTITUTE(SUBSTITUTE(Gerar_Upload!B1221,\".\",\"\"),\"-\",\"\"),\"/\",\"\"),\"erro\")","v":""},{"$f":"IFERROR(Gerar_Upload!C1221,\"erro\")","v":0},{"$f":"IFERROR(Gerar_Upload!D1221,\"erro\")","v":0},{"$f":"IFERROR(DATE(YEAR(Gerar_Upload!E1221),MONTH(Gerar_Upload!E1221),DAY(Gerar_Upload!E1221)),\"erro\")","v":"00:00:00"},{"$f":"IFERROR(Gerar_Upload!F1221,\"erro\")","v":0},{"$f":"IFERROR(IF(Gerar_Upload!G1221<44,REPT(0,44-LEN(Gerar_Upload!G1221))&Gerar_Upload!G1221,Gerar_Upload!G1221),\"erro\")","v":"00000000000000000000000000000000000000000000"}]
[{"$f":"IFERROR(LEFT(Gerar_Upload!A1222,120),\"erro\")","v":""},{"$f":"IFERROR(SUBSTITUTE(SUBSTITUTE(SUBSTITUTE(Gerar_Upload!B1222,\".\",\"\"),\"-\",\"\"),\"/\",\"\"),\"erro\")","v":""},{"$f":"IFERROR(Gerar_Upload!C1222,\"erro\")","v":0},{"$f":"IFERROR(Gerar_Upload!D1222,\"erro\")","v":0},{"$f":"IFERROR(DATE(YEAR(Gerar_Upload!E1222),MONTH(Gerar_Upload!E1222),DAY(Gerar_Upload!E1222)),\"erro\")","v":"00:00:00"},{"$f":"IFERROR(Gerar_Upload!F1222,\"erro\")","v":0},{"$f":"IFERROR(IF(Gerar_Upload!G1222<44,REPT(0,44-LEN(Gerar_Upload!G1222))&Gerar_Upload!G1222,Gerar_Upload!G1222),\"erro\")","v":"00000000000000000000000000000000000000000000"}]
[{"$f":"IFERROR(LEFT(Gerar_Upload!A1223,120),\"erro\")","v":""},{"$f":"IFERROR(SUBSTITUTE(SUBSTITUTE(SUBSTITUTE(Gerar_Upload!B1223,\".\",\"\"),\"-\",\"\"),\"/\",\"\"),\"erro\")","v":""},{"$f":"IFERROR(Gerar_Upload!C1223,\"erro\")","v":0},{"$f":"IFERROR(Gerar_Upload!D1223,\"erro\")","v":0},{"$f":"IFERROR(DATE(YEAR(Gerar_Upload!E1223),MONTH(Gerar_Upload!E1223),DAY(Gerar_Upload!E1223)),\"erro\")","v":"00:00:00"},{"$f":"IFERROR(Gerar_Upload!F1223,\"erro\")","v":0},{"$f":"IFERROR(IF(Gerar_Upload!G1223<44,REPT(0,44-LEN(Gerar_Upload!G1223))&Gerar_Upload!G1223,Gerar_Upload!G1223),\"erro\")","v":"00000000000000000000000000000000000000000000"}]
[{"$f":"IFERROR(LEFT(Gerar_Upload!A1224,120),\"erro\")","v":""},{"$f":"IFERROR(SUBSTITUTE(SUBSTITUTE(SUBSTITUTE(Gerar_Upload!B1224,\".\",\"\"),\"-\",\"\"),\"/\",\"\"),\"erro\")","v":""},{"$f":"IFERROR(Gerar_Upload!C1224,\"erro\")","v":0},{"$f":"IFERROR(Gerar_Upload!D1224,\"erro\")","v":0},{"$f":"IFERROR(DATE(YEAR(Gerar_Upload!E1224),MONTH(Gerar_Upload!E1224),DAY(Gerar_Upload!E1224)),\"erro\")","v":"00:00:00"},{"$f":"IFERROR(Gerar_Upload!F1224,\"erro\")","v":0},{"$f":"IFERROR(IF(Gerar_Upload!G1224<44,REPT(0,44-LEN(Gerar_Upload!G1224))&Gerar_Upload!G1224,Gerar_Upload!G1224),\"erro\")","v":"00000000000000000000000000000000000000000000"}]
[{"$f":"IFERROR(LEFT(Gerar_Upload!A1225,120),\"erro\")","v":""},{"$f":"IFERROR(SUBSTITUTE(SUBSTITUTE(SUBSTITUTE(Gerar_Upload!B1225,\".\",\"\"),\"-\",\"\"),\"/\",\"\"),\"erro\")","v":""},{"$f":"IFERROR(Gerar_Upload!C1225,\"erro\")","v":0},{"$f":"IFERROR(Gerar_Upload!D1225,\"erro\")","v":0},{"$f":"IFERROR(DATE(YEAR(Gerar_Upload!E1225),MONTH(Gerar_Upload!E1225),DAY(Gerar_Upload!E1225)),\"erro\")","v":"00:00:00"},{"$f":"IFERROR(Gerar_Upload!F1225,\"erro\")","v":0},{"$f":"IFERROR(IF(Gerar_Upload!G1225<44,REPT(0,44-LEN(Gerar_Upload!G1225))&Gerar_Upload!G1225,Gerar_Upload!G1225),\"erro\")","v":"00000000000000000000000000000000000000000000"}]
[{"$f":"IFERROR(LEFT(Gerar_Upload!A1226,120),\"erro\")","v":""},{"$f":"IFERROR(SUBSTITUTE(SUBSTITUTE(SUBSTITUTE(Gerar_Upload!B1226,\".\",\"\"),\"-\",\"\"),\"/\",\"\"),\"erro\")","v":""},{"$f":"IFERROR(Gerar_Upload!C1226,\"erro\")","v":0},{"$f":"IFERROR(Gerar_Upload!D1226,\"erro\")","v":0},{"$f":"IFERROR(DATE(YEAR(Gerar_Upload!E1226),MONTH(Gerar_Upload!E1226),DAY(Gerar_Upload!E1226)),\"erro\")","v":"00:00:00"},{"$f":"IFERROR(Gerar_Upload!F1226,\"erro\")","v":0},{"$f":"IFERROR(IF(Gerar_Upload!G1226<44,REPT(0,44-LEN(Gerar_Upload!G1226))&Gerar_Upload!G1226,Gerar_Upload!G1226),\"erro\")","v":"00000000000000000000000000000000000000000000"}]
[{"$f":"IFERROR(LEFT(Gerar_Upload!A1227,120),\"erro\")","v":""},{"$f":"IFERROR(SUBSTITUTE(SUBSTITUTE(SUBSTITUTE(Gerar_Upload!B1227,\".\",\"\"),\"-\",\"\"),\"/\",\"\"),\"erro\")","v":""},{"$f":"IFERROR(Gerar_Upload!C1227,\"erro\")","v":0},{"$f":"IFERROR(Gerar_Upload!D1227,\"erro\")","v":0},{"$f":"IFERROR(DATE(YEAR(Gerar_Upload!E1227),MONTH(Gerar_Upload!E1227),DAY(Gerar_Upload!E1227)),\"erro\")","v":"00:00:00"},{"$f":"IFERROR(Gerar_Upload!F1227,\"erro\")","v":0},{"$f":"IFERROR(IF(Gerar_Upload!G1227<44,REPT(0,44-LEN(Gerar_Upload!G1227))&Gerar_Upload!G1227,Gerar_Upload!G1227),\"erro\")","v":"00000000000000000000000000000000000000000000"}]
[{"$f":"IFERROR(LEFT(Gerar_Upload!A1228,120),\"erro\")","v":""},{"$f":"IFERROR(SUBSTITUTE(SUBSTITUTE(SUBSTITUTE(Gerar_Upload!B1228,\".\",\"\"),\"-\",\"\"),\"/\",\"\"),\"erro\")","v":""},{"$f":"IFERROR(Gerar_Upload!C1228,\"erro\")","v":0},{"$f":"IFERROR(Gerar_Upload!D1228,\"erro\")","v":0},{"$f":"IFERROR(DATE(YEAR(Gerar_Upload!E1228),MONTH(Gerar_Upload!E1228),DAY(Gerar_Upload!E1228)),\"erro\")","v":"00:00:00"},{"$f":"IFERROR(Gerar_Upload!F1228,\"erro\")","v":0},{"$f":"IFERROR(IF(Gerar_Upload!G1228<44,REPT(0,44-LEN(Gerar_Upload!G1228))&Gerar_Upload!G1228,Gerar_Upload!G1228),\"erro\")","v":"00000000000000000000000000000000000000000000"}]
[{"$f":"IFERROR(LEFT(Gerar_Upload!A1229,120),\"erro\")","v":""},{"$f":"IFERROR(SUBSTITUTE(SUBSTITUTE(SUBSTITUTE(Gerar_Upload!B1229,\".\",\"\"),\"-\",\"\"),\"/\",\"\"),\"erro\")","v":""},{"$f":"IFERROR(Gerar_Upload!C1229,\"erro\")","v":0},{"$f":"IFERROR(Gerar_Upload!D1229,\"erro\")","v":0},{"$f":"IFERROR(DATE(YEAR(Gerar_Upload!E1229),MONTH(Gerar_Upload!E1229),DAY(Gerar_Upload!E1229)),\"erro\")","v":"00:00:00"},{"$f":"IFERROR(Gerar_Upload!F1229,\"erro\")","v":0},{"$f":"IFERROR(IF(Gerar_Upload!G1229<44,REPT(0,44-LEN(Gerar_Upload!G1229))&Gerar_Upload!G1229,Gerar_Upload!G1229),\"erro\")","v":"00000000000000000000000000000000000000000000"}]
[{"$f":"IFERROR(LEFT(Gerar_Upload!A1230,120),\"erro\")","v":""},{"$f":"IFERROR(SUBSTITUTE(SUBSTITUTE(SUBSTITUTE(Gerar_Upload!B1230,\".\",\"\"),\"-\",\"\"),\"/\",\"\"),\"erro\")","v":""},{"$f":"IFERROR(Gerar_Upload!C1230,\"erro\")","v":0},{"$f":"IFERROR(Gerar_Upload!D1230,\"erro\")","v":0},{"$f":"IFERROR(DATE(YEAR(Gerar_Upload!E1230),MONTH(Gerar_Upload!E1230),DAY(Gerar_Upload!E1230)),\"erro\")","v":"00:00:00"},{"$f":"IFERROR(Gerar_Upload!F1230,\"erro\")","v":0},{"$f":"IFERROR(IF(Gerar_Upload!G1230<44,REPT(0,44-LEN(Gerar_Upload!G1230))&Gerar_Upload!G1230,Gerar_Upload!G1230),\"erro\")","v":"00000000000000000000000000000000000000000000"}]
[{"$f":"IFERROR(LEFT(Gerar_Upload!A1231,120),\"erro\")","v":""},{"$f":"IFERROR(SUBSTITUTE(SUBSTITUTE(SUBSTITUTE(Gerar_Upload!B1231,\".\",\"\"),\"-\",\"\"),\"/\",\"\"),\"erro\")","v":""},{"$f":"IFERROR(Gerar_Upload!C1231,\"erro\")","v":0},{"$f":"IFERROR(Gerar_Upload!D1231,\"erro\")","v":0},{"$f":"IFERROR(DATE(YEAR(Gerar_Upload!E1231),MONTH(Gerar_Upload!E1231),DAY(Gerar_Upload!E1231)),\"erro\")","v":"00:00:00"},{"$f":"IFERROR(Gerar_Upload!F1231,\"erro\")","v":0},{"$f":"IFERROR(IF(Gerar_Upload!G1231<44,REPT(0,44-LEN(Gerar_Upload!G1231))&Gerar_Upload!G1231,Gerar_Upload!G1231),\"erro\")","v":"00000000000000000000000000000000000000000000"}]
[{"$f":"IFERROR(LEFT(Gerar_Upload!A1232,120),\"erro\")","v":""},{"$f":"IFERROR(SUBSTITUTE(SUBSTITUTE(SUBSTITUTE(Gerar_Upload!B1232,\".\",\"\"),\"-\",\"\"),\"/\",\"\"),\"erro\")","v":""},{"$f":"IFERROR(Gerar_Upload!C1232,\"erro\")","v":0},{"$f":"IFERROR(Gerar_Upload!D1232,\"erro\")","v":0},{"$f":"IFERROR(DATE(YEAR(Gerar_Upload!E1232),MONTH(Gerar_Upload!E1232),DAY(Gerar_Upload!E1232)),\"erro\")","v":"00:00:00"},{"$f":"IFERROR(Gerar_Upload!F1232,\"erro\")","v":0},{"$f":"IFERROR(IF(Gerar_Upload!G1232<44,REPT(0,44-LEN(Gerar_Upload!G1232))&Gerar_Upload!G1232,Gerar_Upload!G1232),\"erro\")","v":"00000000000000000000000000000000000000000000"}]
[{"$f":"IFERROR(LEFT(Gerar_Upload!A1233,120),\"erro\")","v":""},{"$f":"IFERROR(SUBSTITUTE(SUBSTITUTE(SUBSTITUTE(Gerar_Upload!B1233,\".\",\"\"),\"-\",\"\"),\"/\",\"\"),\"erro\")","v":""},{"$f":"IFERROR(Gerar_Upload!C1233,\"erro\")","v":0},{"$f":"IFERROR(Gerar_Upload!D1233,\"erro\")","v":0},{"$f":"IFERROR(DATE(YEAR(Gerar_Upload!E1233),MONTH(Gerar_Upload!E1233),DAY(Gerar_Upload!E1233)),\"erro\")","v":"00:00:00"},{"$f":"IFERROR(Gerar_Upload!F1233,\"erro\")","v":0},{"$f":"IFERROR(IF(Gerar_Upload!G1233<44,REPT(0,44-LEN(Gerar_Upload!G1233))&Gerar_Upload!G1233,Gerar_Upload!G1233),\"erro\")","v":"00000000000000000000000000000000000000000000"}]
[{"$f":"IFERROR(LEFT(Gerar_Upload!A1234,120),\"erro\")","v":""},{"$f":"IFERROR(SUBSTITUTE(SUBSTITUTE(SUBSTITUTE(Gerar_Upload!B1234,\".\",\"\"),\"-\",\"\"),\"/\",\"\"),\"erro\")","v":""},{"$f":"IFERROR(Gerar_Upload!C1234,\"erro\")","v":0},{"$f":"IFERROR(Gerar_Upload!D1234,\"erro\")","v":0},{"$f":"IFERROR(DATE(YEAR(Gerar_Upload!E1234),MONTH(Gerar_Upload!E1234),DAY(Gerar_Upload!E1234)),\"erro\")","v":"00:00:00"},{"$f":"IFERROR(Gerar_Upload!F1234,\"erro\")","v":0},{"$f":"IFERROR(IF(Gerar_Upload!G1234<44,REPT(0,44-LEN(Gerar_Upload!G1234))&Gerar_Upload!G1234,Gerar_Upload!G1234),\"erro\")","v":"00000000000000000000000000000000000000000000"}]
[{"$f":"IFERROR(LEFT(Gerar_Upload!A1235,120),\"erro\")","v":""},{"$f":"IFERROR(SUBSTITUTE(SUBSTITUTE(SUBSTITUTE(Gerar_Upload!B1235,\".\",\"\"),\"-\",\"\"),\"/\",\"\"),\"erro\")","v":""},{"$f":"IFERROR(Gerar_Upload!C1235,\"erro\")","v":0},{"$f":"IFERROR(Gerar_Upload!D1235,\"erro\")","v":0},{"$f":"IFERROR(DATE(YEAR(Gerar_Upload!E1235),MONTH(Gerar_Upload!E1235),DAY(Gerar_Upload!E1235)),\"erro\")","v":"00:00:00"},{"$f":"IFERROR(Gerar_Upload!F1235,\"erro\")","v":0},{"$f":"IFERROR(IF(Gerar_Upload!G1235<44,REPT(0,44-LEN(Gerar_Upload!G1235))&Gerar_Upload!G1235,Gerar_Upload!G1235),\"erro\")","v":"00000000000000000000000000000000000000000000"}]
[{"$f":"IFERROR(LEFT(Gerar_Upload!A1236,120),\"erro\")","v":""},{"$f":"IFERROR(SUBSTITUTE(SUBSTITUTE(SUBSTITUTE(Gerar_Upload!B1236,\".\",\"\"),\"-\",\"\"),\"/\",\"\"),\"erro\")","v":""},{"$f":"IFERROR(Gerar_Upload!C1236,\"erro\")","v":0},{"$f":"IFERROR(Gerar_Upload!D1236,\"erro\")","v":0},{"$f":"IFERROR(DATE(YEAR(Gerar_Upload!E1236),MONTH(Gerar_Upload!E1236),DAY(Gerar_Upload!E1236)),\"erro\")","v":"00:00:00"},{"$f":"IFERROR(Gerar_Upload!F1236,\"erro\")","v":0},{"$f":"IFERROR(IF(Gerar_Upload!G1236<44,REPT(0,44-LEN(Gerar_Upload!G1236))&Gerar_Upload!G1236,Gerar_Upload!G1236),\"erro\")","v":"00000000000000000000000000000000000000000000"}]
[{"$f":"IFERROR(LEFT(Gerar_Upload!A1237,120),\"erro\")","v":""},{"$f":"IFERROR(SUBSTITUTE(SUBSTITUTE(SUBSTITUTE(Gerar_Upload!B1237,\".\",\"\"),\"-\",\"\"),\"/\",\"\"),\"erro\")","v":""},{"$f":"IFERROR(Gerar_Upload!C1237,\"erro\")","v":0},{"$f":"IFERROR(Gerar_Upload!D1237,\"erro\")","v":0},{"$f":"IFERROR(DATE(YEAR(Gerar_Upload!E1237),MONTH(Gerar_Upload!E1237),DAY(Gerar_Upload!E1237)),\"erro\")","v":"00:00:00"},{"$f":"IFERROR(Gerar_Upload!F1237,\"erro\")","v":0},{"$f":"IFERROR(IF(Gerar_Upload!G1237<44,REPT(0,44-LEN(Gerar_Upload!G1237))&Gerar_Upload!G1237,Gerar_Upload!G1237),\"erro\")","v":"00000000000000000000000000000000000000000000"}]
[{"$f":"IFERROR(LEFT(Gerar_Upload!A1238,120),\"erro\")","v":""},{"$f":"IFERROR(SUBSTITUTE(SUBSTITUTE(SUBSTITUTE(Gerar_Upload!B1238,\".\",\"\"),\"-\",\"\"),\"/\",\"\"),\"erro\")","v":""},{"$f":"IFERROR(Gerar_Upload!C1238,\"erro\")","v":0},{"$f":"IFERROR(Gerar_Upload!D1238,\"erro\")","v":0},{"$f":"IFERROR(DATE(YEAR(Gerar_Upload!E1238),MONTH(Gerar_Upload!E1238),DAY(Gerar_Upload!E1238)),\"erro\")","v":"00:00:00"},{"$f":"IFERROR(Gerar_Upload!F1238,\"erro\")","v":0},{"$f":"IFERROR(IF(Gerar_Upload!G1238<44,REPT(0,44-LEN(Gerar_Upload!G1238))&Gerar_Upload!G1238,Gerar_Upload!G1238),\"erro\")","v":"00000000000000000000000000000000000000000000"}]
[{"$f":"IFERROR(LEFT(Gerar_Upload!A1239,120),\"erro\")","v":""},{"$f":"IFERROR(SUBSTITUTE(SUBSTITUTE(SUBSTITUTE(Gerar_Upload!B1239,\".\",\"\"),\"-\",\"\"),\"/\",\"\"),\"erro\")","v":""},{"$f":"IFERROR(Gerar_Upload!C1239,\"erro\")","v":0},{"$f":"IFERROR(Gerar_Upload!D1239,\"erro\")","v":0},{"$f":"IFERROR(DATE(YEAR(Gerar_Upload!E1239),MONTH(Gerar_Upload!E1239),DAY(Gerar_Upload!E1239)),\"erro\")","v":"00:00:00"},{"$f":"IFERROR(Gerar_Upload!F1239,\"erro\")","v":0},{"$f":"IFERROR(IF(Gerar_Upload!G1239<44,REPT(0,44-LEN(Gerar_Upload!G1239))&Gerar_Upload!G1239,Gerar_Upload!G1239),\"erro\")","v":"00000000000000000000000000000000000000000000"}]
[{"$f":"IFERROR(LEFT(Gerar_Upload!A1240,120),\"erro\")","v":""},{"$f":"IFERROR(SUBSTITUTE(SUBSTITUTE(SUBSTITUTE(Gerar_Upload!B1240,\".\",\"\"),\"-\",\"\"),\"/\",\"\"),\"erro\")","v":""},{"$f":"IFERROR(Gerar_Upload!C1240,\"erro\")","v":0},{"$f":"IFERROR(Gerar_Upload!D1240,\"erro\")","v":0},{"$f":"IFERROR(DATE(YEAR(Gerar_Upload!E1240),MONTH(Gerar_Upload!E1240),DAY(Gerar_Upload!E1240)),\"erro\")","v":"00:00:00"},{"$f":"IFERROR(Gerar_Upload!F1240,\"erro\")","v":0},{"$f":"IFERROR(IF(Gerar_Upload!G1240<44,REPT(0,44-LEN(Gerar_Upload!G1240))&Gerar_Upload!G1240,Gerar_Upload!G1240),\"erro\")","v":"00000000000000000000000000000000000000000000"}]
[{"$f":"IFERROR(LEFT(Gerar_Upload!A1241,120),\"erro\")","v":""},{"$f":"IFERROR(SUBSTITUTE(SUBSTITUTE(SUBSTITUTE(Gerar_Upload!B1241,\".\",\"\"),\"-\",\"\"),\"/\",\"\"),\"erro\")","v":""},{"$f":"IFERROR(Gerar_Upload!C1241,\"erro\")","v":0},{"$f":"IFERROR(Gerar_Upload!D1241,\"erro\")","v":0},{"$f":"IFERROR(DATE(YEAR(Gerar_Upload!E1241),MONTH(Gerar_Upload!E1241),DAY(Gerar_Upload!E1241)),\"erro\")","v":"00:00:00"},{"$f":"IFERROR(Gerar_Upload!F1241,\"erro\")","v":0},{"$f":"IFERROR(IF(Gerar_Upload!G1241<44,REPT(0,44-LEN(Gerar_Upload!G1241))&Gerar_Upload!G1241,Gerar_Upload!G1241),\"erro\")","v":"00000000000000000000000000000000000000000000"}]
[{"$f":"IFERROR(LEFT(Gerar_Upload!A1242,120),\"erro\")","v":""},{"$f":"IFERROR(SUBSTITUTE(SUBSTITUTE(SUBSTITUTE(Gerar_Upload!B1242,\".\",\"\"),\"-\",\"\"),\"/\",\"\"),\"erro\")","v":""},{"$f":"IFERROR(Gerar_Upload!C1242,\"erro\")","v":0},{"$f":"IFERROR(Gerar_Upload!D1242,\"erro\")","v":0},{"$f":"IFERROR(DATE(YEAR(Gerar_Upload!E1242),MONTH(Gerar_Upload!E1242),DAY(Gerar_Upload!E1242)),\"erro\")","v":"00:00:00"},{"$f":"IFERROR(Gerar_Upload!F1242,\"erro\")","v":0},{"$f":"IFERROR(IF(Gerar_Upload!G1242<44,REPT(0,44-LEN(Gerar_Upload!G1242))&Gerar_Upload!G1242,Gerar_Upload!G1242),\"erro\")","v":"00000000000000000000000000000000000000000000"}]
[{"$f":"IFERROR(LEFT(Gerar_Upload!A1243,120),\"erro\")","v":""},{"$f":"IFERROR(SUBSTITUTE(SUBSTITUTE(SUBSTITUTE(Gerar_Upload!B1243,\".\",\"\"),\"-\",\"\"),\"/\",\"\"),\"erro\")","v":""},{"$f":"IFERROR(Gerar_Upload!C1243,\"erro\")","v":0},{"$f":"IFERROR(Gerar_Upload!D1243,\"erro\")","v":0},{"$f":"IFERROR(DATE(YEAR(Gerar_Upload!E1243),MONTH(Gerar_Upload!E1243),DAY(Gerar_Upload!E1243)),\"erro\")","v":"00:00:00"},{"$f":"IFERROR(Gerar_Upload!F1243,\"erro\")","v":0},{"$f":"IFERROR(IF(Gerar_Upload!G1243<44,REPT(0,44-LEN(Gerar_Upload!G1243))&Gerar_Upload!G1243,Gerar_Upload!G1243),\"erro\")","v":"00000000000000000000000000000000000000000000"}]
[{"$f":"IFERROR(LEFT(Gerar_Upload!A1244,120),\"erro\")","v":""},{"$f":"IFERROR(SUBSTITUTE(SUBSTITUTE(SUBSTITUTE(Gerar_Upload!B1244,\".\",\"\"),\"-\",\"\"),\"/\",\"\"),\"erro\")","v":""},{"$f":"IFERROR(Gerar_Upload!C1244,\"erro\")","v":0},{"$f":"IFERROR(Gerar_Upload!D1244,\"erro\")","v":0},{"$f":"IFERROR(DATE(YEAR(Gerar_Upload!E1244),MONTH(Gerar_Upload!E1244),DAY(Gerar_Upload!E1244)),\"erro\")","v":"00:00:00"},{"$f":"IFERROR(Gerar_Upload!F1244,\"erro\")","v":0},{"$f":"IFERROR(IF(Gerar_Upload!G1244<44,REPT(0,44-LEN(Gerar_Upload!G1244))&Gerar_Upload!G1244,Gerar_Upload!G1244),\"erro\")","v":"00000000000000000000000000000000000000000000"}]
[{"$f":"IFERROR(LEFT(Gerar_Upload!A1245,120),\"erro\")","v":""},{"$f":"IFERROR(SUBSTITUTE(SUBSTITUTE(SUBSTITUTE(Gerar_Upload!B1245,\".\",\"\"),\"-\",\"\"),\"/\",\"\"),\"erro\")","v":""},{"$f":"IFERROR(Gerar_Upload!C1245,\"erro\")","v":0},{"$f":"IFERROR(Gerar_Upload!D1245,\"erro\")","v":0},{"$f":"IFERROR(DATE(YEAR(Gerar_Upload!E1245),MONTH(Gerar_Upload!E1245),DAY(Gerar_Upload!E1245)),\"erro\")","v":"00:00:00"},{"$f":"IFERROR(Gerar_Upload!F1245,\"erro\")","v":0},{"$f":"IFERROR(IF(Gerar_Upload!G1245<44,REPT(0,44-LEN(Gerar_Upload!G1245))&Gerar_Upload!G1245,Gerar_Upload!G1245),\"erro\")","v":"00000000000000000000000000000000000000000000"}]
[{"$f":"IFERROR(LEFT(Gerar_Upload!A1246,120),\"erro\")","v":""},{"$f":"IFERROR(SUBSTITUTE(SUBSTITUTE(SUBSTITUTE(Gerar_Upload!B1246,\".\",\"\"),\"-\",\"\"),\"/\",\"\"),\"erro\")","v":""},{"$f":"IFERROR(Gerar_Upload!C1246,\"erro\")","v":0},{"$f":"IFERROR(Gerar_Upload!D1246,\"erro\")","v":0},{"$f":"IFERROR(DATE(YEAR(Gerar_Upload!E1246),MONTH(Gerar_Upload!E1246),DAY(Gerar_Upload!E1246)),\"erro\")","v":"00:00:00"},{"$f":"IFERROR(Gerar_Upload!F1246,\"erro\")","v":0},{"$f":"IFERROR(IF(Gerar_Upload!G1246<44,REPT(0,44-LEN(Gerar_Upload!G1246))&Gerar_Upload!G1246,Gerar_Upload!G1246),\"erro\")","v":"00000000000000000000000000000000000000000000"}]
[{"$f":"IFERROR(LEFT(Gerar_Upload!A1247,120),\"erro\")","v":""},{"$f":"IFERROR(SUBSTITUTE(SUBSTITUTE(SUBSTITUTE(Gerar_Upload!B1247,\".\",\"\"),\"-\",\"\"),\"/\",\"\"),\"erro\")","v":""},{"$f":"IFERROR(Gerar_Upload!C1247,\"erro\")","v":0},{"$f":"IFERROR(Gerar_Upload!D1247,\"erro\")","v":0},{"$f":"IFERROR(DATE(YEAR(Gerar_Upload!E1247),MONTH(Gerar_Upload!E1247),DAY(Gerar_Upload!E1247)),\"erro\")","v":"00:00:00"},{"$f":"IFERROR(Gerar_Upload!F1247,\"erro\")","v":0},{"$f":"IFERROR(IF(Gerar_Upload!G1247<44,REPT(0,44-LEN(Gerar_Upload!G1247))&Gerar_Upload!G1247,Gerar_Upload!G1247),\"erro\")","v":"00000000000000000000000000000000000000000000"}]
[{"$f":"IFERROR(LEFT(Gerar_Upload!A1248,120),\"erro\")","v":""},{"$f":"IFERROR(SUBSTITUTE(SUBSTITUTE(SUBSTITUTE(Gerar_Upload!B1248,\".\",\"\"),\"-\",\"\"),\"/\",\"\"),\"erro\")","v":""},{"$f":"IFERROR(Gerar_Upload!C1248,\"erro\")","v":0},{"$f":"IFERROR(Gerar_Upload!D1248,\"erro\")","v":0},{"$f":"IFERROR(DATE(YEAR(Gerar_Upload!E1248),MONTH(Gerar_Upload!E1248),DAY(Gerar_Upload!E1248)),\"erro\")","v":"00:00:00"},{"$f":"IFERROR(Gerar_Upload!F1248,\"erro\")","v":0},{"$f":"IFERROR(IF(Gerar_Upload!G1248<44,REPT(0,44-LEN(Gerar_Upload!G1248))&Gerar_Upload!G1248,Gerar_Upload!G1248),\"erro\")","v":"00000000000000000000000000000000000000000000"}]
[{"$f":"IFERROR(LEFT(Gerar_Upload!A1249,120),\"erro\")","v":""},{"$f":"IFERROR(SUBSTITUTE(SUBSTITUTE(SUBSTITUTE(Gerar_Upload!B1249,\".\",\"\"),\"-\",\"\"),\"/\",\"\"),\"erro\")","v":""},{"$f":"IFERROR(Gerar_Upload!C1249,\"erro\")","v":0},{"$f":"IFERROR(Gerar_Upload!D1249,\"erro\")","v":0},{"$f":"IFERROR(DATE(YEAR(Gerar_Upload!E1249),MONTH(Gerar_Upload!E1249),DAY(Gerar_Upload!E1249)),\"erro\")","v":"00:00:00"},{"$f":"IFERROR(Gerar_Upload!F1249,\"erro\")","v":0},{"$f":"IFERROR(IF(Gerar_Upload!G1249<44,REPT(0,44-LEN(Gerar_Upload!G1249))&Gerar_Upload!G1249,Gerar_Upload!G1249),\"erro\")","v":"00000000000000000000000000000000000000000000"}]
[{"$f":"IFERROR(LEFT(Gerar_Upload!A1250,120),\"erro\")","v":""},{"$f":"IFERROR(SUBSTITUTE(SUBSTITUTE(SUBSTITUTE(Gerar_Upload!B1250,\".\",\"\"),\"-\",\"\"),\"/\",\"\"),\"erro\")","v":""},{"$f":"IFERROR(Gerar_Upload!C1250,\"erro\")","v":0},{"$f":"IFERROR(Gerar_Upload!D1250,\"erro\")","v":0},{"$f":"IFERROR(DATE(YEAR(Gerar_Upload!E1250),MONTH(Gerar_Upload!E1250),DAY(Gerar_Upload!E1250)),\"erro\")","v":"00:00:00"},{"$f":"IFERROR(Gerar_Upload!F1250,\"erro\")","v":0},{"$f":"IFERROR(IF(Gerar_Upload!G1250<44,REPT(0,44-LEN(Gerar_Upload!G1250))&Gerar_Upload!G1250,Gerar_Upload!G1250),\"erro\")","v":"00000000000000000000000000000000000000000000"}]
[{"$f":"IFERROR(LEFT(Gerar_Upload!A1251,120),\"erro\")","v":""},{"$f":"IFERROR(SUBSTITUTE(SUBSTITUTE(SUBSTITUTE(Gerar_Upload!B1251,\".\",\"\"),\"-\",\"\"),\"/\",\"\"),\"erro\")","v":""},{"$f":"IFERROR(Gerar_Upload!C1251,\"erro\")","v":0},{"$f":"IFERROR(Gerar_Upload!D1251,\"erro\")","v":0},{"$f":"IFERROR(DATE(YEAR(Gerar_Upload!E1251),MONTH(Gerar_Upload!E1251),DAY(Gerar_Upload!E1251)),\"erro\")","v":"00:00:00"},{"$f":"IFERROR(Gerar_Upload!F1251,\"erro\")","v":0},{"$f":"IFERROR(IF(Gerar_Upload!G1251<44,REPT(0,44-LEN(Gerar_Upload!G1251))&Gerar_Upload!G1251,Gerar_Upload!G1251),\"erro\")","v":"00000000000000000000000000000000000000000000"}]
[{"$f":"IFERROR(LEFT(Gerar_Upload!A1252,120),\"erro\")","v":""},{"$f":"IFERROR(SUBSTITUTE(SUBSTITUTE(SUBSTITUTE(Gerar_Upload!B1252,\".\",\"\"),\"-\",\"\"),\"/\",\"\"),\"erro\")","v":""},{"$f":"IFERROR(Gerar_Upload!C1252,\"erro\")","v":0},{"$f":"IFERROR(Gerar_Upload!D1252,\"erro\")","v":0},{"$f":"IFERROR(DATE(YEAR(Gerar_Upload!E1252),MONTH(Gerar_Upload!E1252),DAY(Gerar_Upload!E1252)),\"erro\")","v":"00:00:00"},{"$f":"IFERROR(Gerar_Upload!F1252,\"erro\")","v":0},{"$f":"IFERROR(IF(Gerar_Upload!G1252<44,REPT(0,44-LEN(Gerar_Upload!G1252))&Gerar_Upload!G1252,Gerar_Upload!G1252),\"erro\")","v":"00000000000000000000000000000000000000000000"}]
[{"$f":"IFERROR(LEFT(Gerar_Upload!A1253,120),\"erro\")","v":""},{"$f":"IFERROR(SUBSTITUTE(SUBSTITUTE(SUBSTITUTE(Gerar_Upload!B1253,\".\",\"\"),\"-\",\"\"),\"/\",\"\"),\"erro\")","v":""},{"$f":"IFERROR(Gerar_Upload!C1253,\"erro\")","v":0},{"$f":"IFERROR(Gerar_Upload!D1253,\"erro\")","v":0},{"$f":"IFERROR(DATE(YEAR(Gerar_Upload!E1253),MONTH(Gerar_Upload!E1253),DAY(Gerar_Upload!E1253)),\"erro\")","v":"00:00:00"},{"$f":"IFERROR(Gerar_Upload!F1253,\"erro\")","v":0},{"$f":"IFERROR(IF(Gerar_Upload!G1253<44,REPT(0,44-LEN(Gerar_Upload!G1253))&Gerar_Upload!G1253,Gerar_Upload!G1253),\"erro\")","v":"00000000000000000000000000000000000000000000"}]
[{"$f":"IFERROR(LEFT(Gerar_Upload!A1254,120),\"erro\")","v":""},{"$f":"IFERROR(SUBSTITUTE(SUBSTITUTE(SUBSTITUTE(Gerar_Upload!B1254,\".\",\"\"),\"-\",\"\"),\"/\",\"\"),\"erro\")","v":""},{"$f":"IFERROR(Gerar_Upload!C1254,\"erro\")","v":0},{"$f":"IFERROR(Gerar_Upload!D1254,\"erro\")","v":0},{"$f":"IFERROR(DATE(YEAR(Gerar_Upload!E1254),MONTH(Gerar_Upload!E1254),DAY(Gerar_Upload!E1254)),\"erro\")","v":"00:00:00"},{"$f":"IFERROR(Gerar_Upload!F1254,\"erro\")","v":0},{"$f":"IFERROR(IF(Gerar_Upload!G1254<44,REPT(0,44-LEN(Gerar_Upload!G1254))&Gerar_Upload!G1254,Gerar_Upload!G1254),\"erro\")","v":"00000000000000000000000000000000000000000000"}]
[{"$f":"IFERROR(LEFT(Gerar_Upload!A1255,120),\"erro\")","v":""},{"$f":"IFERROR(SUBSTITUTE(SUBSTITUTE(SUBSTITUTE(Gerar_Upload!B1255,\".\",\"\"),\"-\",\"\"),\"/\",\"\"),\"erro\")","v":""},{"$f":"IFERROR(Gerar_Upload!C1255,\"erro\")","v":0},{"$f":"IFERROR(Gerar_Upload!D1255,\"erro\")","v":0},{"$f":"IFERROR(DATE(YEAR(Gerar_Upload!E1255),MONTH(Gerar_Upload!E1255),DAY(Gerar_Upload!E1255)),\"erro\")","v":"00:00:00"},{"$f":"IFERROR(Gerar_Upload!F1255,\"erro\")","v":0},{"$f":"IFERROR(IF(Gerar_Upload!G1255<44,REPT(0,44-LEN(Gerar_Upload!G1255))&Gerar_Upload!G1255,Gerar_Upload!G1255),\"erro\")","v":"00000000000000000000000000000000000000000000"}]
[{"$f":"IFERROR(LEFT(Gerar_Upload!A1256,120),\"erro\")","v":""},{"$f":"IFERROR(SUBSTITUTE(SUBSTITUTE(SUBSTITUTE(Gerar_Upload!B1256,\".\",\"\"),\"-\",\"\"),\"/\",\"\"),\"erro\")","v":""},{"$f":"IFERROR(Gerar_Upload!C1256,\"erro\")","v":0},{"$f":"IFERROR(Gerar_Upload!D1256,\"erro\")","v":0},{"$f":"IFERROR(DATE(YEAR(Gerar_Upload!E1256),MONTH(Gerar_Upload!E1256),DAY(Gerar_Upload!E1256)),\"erro\")","v":"00:00:00"},{"$f":"IFERROR(Gerar_Upload!F1256,\"erro\")","v":0},{"$f":"IFERROR(IF(Gerar_Upload!G1256<44,REPT(0,44-LEN(Gerar_Upload!G1256))&Gerar_Upload!G1256,Gerar_Upload!G1256),\"erro\")","v":"00000000000000000000000000000000000000000000"}]
[{"$f":"IFERROR(LEFT(Gerar_Upload!A1257,120),\"erro\")","v":""},{"$f":"IFERROR(SUBSTITUTE(SUBSTITUTE(SUBSTITUTE(Gerar_Upload!B1257,\".\",\"\"),\"-\",\"\"),\"/\",\"\"),\"erro\")","v":""},{"$f":"IFERROR(Gerar_Upload!C1257,\"erro\")","v":0},{"$f":"IFERROR(Gerar_Upload!D1257,\"erro\")","v":0},{"$f":"IFERROR(DATE(YEAR(Gerar_Upload!E1257),MONTH(Gerar_Upload!E1257),DAY(Gerar_Upload!E1257)),\"erro\")","v":"00:00:00"},{"$f":"IFERROR(Gerar_Upload!F1257,\"erro\")","v":0},{"$f":"IFERROR(IF(Gerar_Upload!G1257<44,REPT(0,44-LEN(Gerar_Upload!G1257))&Gerar_Upload!G1257,Gerar_Upload!G1257),\"erro\")","v":"00000000000000000000000000000000000000000000"}]
[{"$f":"IFERROR(LEFT(Gerar_Upload!A1258,120),\"erro\")","v":""},{"$f":"IFERROR(SUBSTITUTE(SUBSTITUTE(SUBSTITUTE(Gerar_Upload!B1258,\".\",\"\"),\"-\",\"\"),\"/\",\"\"),\"erro\")","v":""},{"$f":"IFERROR(Gerar_Upload!C1258,\"erro\")","v":0},{"$f":"IFERROR(Gerar_Upload!D1258,\"erro\")","v":0},{"$f":"IFERROR(DATE(YEAR(Gerar_Upload!E1258),MONTH(Gerar_Upload!E1258),DAY(Gerar_Upload!E1258)),\"erro\")","v":"00:00:00"},{"$f":"IFERROR(Gerar_Upload!F1258,\"erro\")","v":0},{"$f":"IFERROR(IF(Gerar_Upload!G1258<44,REPT(0,44-LEN(Gerar_Upload!G1258))&Gerar_Upload!G1258,Gerar_Upload!G1258),\"erro\")","v":"00000000000000000000000000000000000000000000"}]
[{"$f":"IFERROR(LEFT(Gerar_Upload!A1259,120),\"erro\")","v":""},{"$f":"IFERROR(SUBSTITUTE(SUBSTITUTE(SUBSTITUTE(Gerar_Upload!B1259,\".\",\"\"),\"-\",\"\"),\"/\",\"\"),\"erro\")","v":""},{"$f":"IFERROR(Gerar_Upload!C1259,\"erro\")","v":0},{"$f":"IFERROR(Gerar_Upload!D1259,\"erro\")","v":0},{"$f":"IFERROR(DATE(YEAR(Gerar_Upload!E1259),MONTH(Gerar_Upload!E1259),DAY(Gerar_Upload!E1259)),\"erro\")","v":"00:00:00"},{"$f":"IFERROR(Gerar_Upload!F1259,\"erro\")","v":0},{"$f":"IFERROR(IF(Gerar_Upload!G1259<44,REPT(0,44-LEN(Gerar_Upload!G1259))&Gerar_Upload!G1259,Gerar_Upload!G1259),\"erro\")","v":"00000000000000000000000000000000000000000000"}]
[{"$f":"IFERROR(LEFT(Gerar_Upload!A1260,120),\"erro\")","v":""},{"$f":"IFERROR(SUBSTITUTE(SUBSTITUTE(SUBSTITUTE(Gerar_Upload!B1260,\".\",\"\"),\"-\",\"\"),\"/\",\"\"),\"erro\")","v":""},{"$f":"IFERROR(Gerar_Upload!C1260,\"erro\")","v":0},{"$f":"IFERROR(Gerar_Upload!D1260,\"erro\")","v":0},{"$f":"IFERROR(DATE(YEAR(Gerar_Upload!E1260),MONTH(Gerar_Upload!E1260),DAY(Gerar_Upload!E1260)),\"erro\")","v":"00:00:00"},{"$f":"IFERROR(Gerar_Upload!F1260,\"erro\")","v":0},{"$f":"IFERROR(IF(Gerar_Upload!G1260<44,REPT(0,44-LEN(Gerar_Upload!G1260))&Gerar_Upload!G1260,Gerar_Upload!G1260),\"erro\")","v":"00000000000000000000000000000000000000000000"}]
[{"$f":"IFERROR(LEFT(Gerar_Upload!A1261,120),\"erro\")","v":""},{"$f":"IFERROR(SUBSTITUTE(SUBSTITUTE(SUBSTITUTE(Gerar_Upload!B1261,\".\",\"\"),\"-\",\"\"),\"/\",\"\"),\"erro\")","v":""},{"$f":"IFERROR(Gerar_Upload!C1261,\"erro\")","v":0},{"$f":"IFERROR(Gerar_Upload!D1261,\"erro\")","v":0},{"$f":"IFERROR(DATE(YEAR(Gerar_Upload!E1261),MONTH(Gerar_Upload!E1261),DAY(Gerar_Upload!E1261)),\"erro\")","v":"00:00:00"},{"$f":"IFERROR(Gerar_Upload!F1261,\"erro\")","v":0},{"$f":"IFERROR(IF(Gerar_Upload!G1261<44,REPT(0,44-LEN(Gerar_Upload!G1261))&Gerar_Upload!G1261,Gerar_Upload!G1261),\"erro\")","v":"00000000000000000000000000000000000000000000"}]
[{"$f":"IFERROR(LEFT(Gerar_Upload!A1262,120),\"erro\")","v":""},{"$f":"IFERROR(SUBSTITUTE(SUBSTITUTE(SUBSTITUTE(Gerar_Upload!B1262,\".\",\"\"),\"-\",\"\"),\"/\",\"\"),\"erro\")","v":""},{"$f":"IFERROR(Gerar_Upload!C1262,\"erro\")","v":0},{"$f":"IFERROR(Gerar_Upload!D1262,\"erro\")","v":0},{"$f":"IFERROR(DATE(YEAR(Gerar_Upload!E1262),MONTH(Gerar_Upload!E1262),DAY(Gerar_Upload!E1262)),\"erro\")","v":"00:00:00"},{"$f":"IFERROR(Gerar_Upload!F1262,\"erro\")","v":0},{"$f":"IFERROR(IF(Gerar_Upload!G1262<44,REPT(0,44-LEN(Gerar_Upload!G1262))&Gerar_Upload!G1262,Gerar_Upload!G1262),\"erro\")","v":"00000000000000000000000000000000000000000000"}]
[{"$f":"IFERROR(LEFT(Gerar_Upload!A1263,120),\"erro\")","v":""},{"$f":"IFERROR(SUBSTITUTE(SUBSTITUTE(SUBSTITUTE(Gerar_Upload!B1263,\".\",\"\"),\"-\",\"\"),\"/\",\"\"),\"erro\")","v":""},{"$f":"IFERROR(Gerar_Upload!C1263,\"erro\")","v":0},{"$f":"IFERROR(Gerar_Upload!D1263,\"erro\")","v":0},{"$f":"IFERROR(DATE(YEAR(Gerar_Upload!E1263),MONTH(Gerar_Upload!E1263),DAY(Gerar_Upload!E1263)),\"erro\")","v":"00:00:00"},{"$f":"IFERROR(Gerar_Upload!F1263,\"erro\")","v":0},{"$f":"IFERROR(IF(Gerar_Upload!G1263<44,REPT(0,44-LEN(Gerar_Upload!G1263))&Gerar_Upload!G1263,Gerar_Upload!G1263),\"erro\")","v":"00000000000000000000000000000000000000000000"}]
[{"$f":"IFERROR(LEFT(Gerar_Upload!A1264,120),\"erro\")","v":""},{"$f":"IFERROR(SUBSTITUTE(SUBSTITUTE(SUBSTITUTE(Gerar_Upload!B1264,\".\",\"\"),\"-\",\"\"),\"/\",\"\"),\"erro\")","v":""},{"$f":"IFERROR(Gerar_Upload!C1264,\"erro\")","v":0},{"$f":"IFERROR(Gerar_Upload!D1264,\"erro\")","v":0},{"$f":"IFERROR(DATE(YEAR(Gerar_Upload!E1264),MONTH(Gerar_Upload!E1264),DAY(Gerar_Upload!E1264)),\"erro\")","v":"00:00:00"},{"$f":"IFERROR(Gerar_Upload!F1264,\"erro\")","v":0},{"$f":"IFERROR(IF(Gerar_Upload!G1264<44,REPT(0,44-LEN(Gerar_Upload!G1264))&Gerar_Upload!G1264,Gerar_Upload!G1264),\"erro\")","v":"00000000000000000000000000000000000000000000"}]
[{"$f":"IFERROR(LEFT(Gerar_Upload!A1265,120),\"erro\")","v":""},{"$f":"IFERROR(SUBSTITUTE(SUBSTITUTE(SUBSTITUTE(Gerar_Upload!B1265,\".\",\"\"),\"-\",\"\"),\"/\",\"\"),\"erro\")","v":""},{"$f":"IFERROR(Gerar_Upload!C1265,\"erro\")","v":0},{"$f":"IFERROR(Gerar_Upload!D1265,\"erro\")","v":0},{"$f":"IFERROR(DATE(YEAR(Gerar_Upload!E1265),MONTH(Gerar_Upload!E1265),DAY(Gerar_Upload!E1265)),\"erro\")","v":"00:00:00"},{"$f":"IFERROR(Gerar_Upload!F1265,\"erro\")","v":0},{"$f":"IFERROR(IF(Gerar_Upload!G1265<44,REPT(0,44-LEN(Gerar_Upload!G1265))&Gerar_Upload!G1265,Gerar_Upload!G1265),\"erro\")","v":"00000000000000000000000000000000000000000000"}]
[{"$f":"IFERROR(LEFT(Gerar_Upload!A1266,120),\"erro\")","v":""},{"$f":"IFERROR(SUBSTITUTE(SUBSTITUTE(SUBSTITUTE(Gerar_Upload!B1266,\".\",\"\"),\"-\",\"\"),\"/\",\"\"),\"erro\")","v":""},{"$f":"IFERROR(Gerar_Upload!C1266,\"erro\")","v":0},{"$f":"IFERROR(Gerar_Upload!D1266,\"erro\")","v":0},{"$f":"IFERROR(DATE(YEAR(Gerar_Upload!E1266),MONTH(Gerar_Upload!E1266),DAY(Gerar_Upload!E1266)),\"erro\")","v":"00:00:00"},{"$f":"IFERROR(Gerar_Upload!F1266,\"erro\")","v":0},{"$f":"IFERROR(IF(Gerar_Upload!G1266<44,REPT(0,44-LEN(Gerar_Upload!G1266))&Gerar_Upload!G1266,Gerar_Upload!G1266),\"erro\")","v":"00000000000000000000000000000000000000000000"}]
[{"$f":"IFERROR(LEFT(Gerar_Upload!A1267,120),\"erro\")","v":""},{"$f":"IFERROR(SUBSTITUTE(SUBSTITUTE(SUBSTITUTE(Gerar_Upload!B1267,\".\",\"\"),\"-\",\"\"),\"/\",\"\"),\"erro\")","v":""},{"$f":"IFERROR(Gerar_Upload!C1267,\"erro\")","v":0},{"$f":"IFERROR(Gerar_Upload!D1267,\"erro\")","v":0},{"$f":"IFERROR(DATE(YEAR(Gerar_Upload!E1267),MONTH(Gerar_Upload!E1267),DAY(Gerar_Upload!E1267)),\"erro\")","v":"00:00:00"},{"$f":"IFERROR(Gerar_Upload!F1267,\"erro\")","v":0},{"$f":"IFERROR(IF(Gerar_Upload!G1267<44,REPT(0,44-LEN(Gerar_Upload!G1267))&Gerar_Upload!G1267,Gerar_Upload!G1267),\"erro\")","v":"00000000000000000000000000000000000000000000"}]
[{"$f":"IFERROR(LEFT(Gerar_Upload!A1268,120),\"erro\")","v":""},{"$f":"IFERROR(SUBSTITUTE(SUBSTITUTE(SUBSTITUTE(Gerar_Upload!B1268,\".\",\"\"),\"-\",\"\"),\"/\",\"\"),\"erro\")","v":""},{"$f":"IFERROR(Gerar_Upload!C1268,\"erro\")","v":0},{"$f":"IFERROR(Gerar_Upload!D1268,\"erro\")","v":0},{"$f":"IFERROR(DATE(YEAR(Gerar_Upload!E1268),MONTH(Gerar_Upload!E1268),DAY(Gerar_Upload!E1268)),\"erro\")","v":"00:00:00"},{"$f":"IFERROR(Gerar_Upload!F1268,\"erro\")","v":0},{"$f":"IFERROR(IF(Gerar_Upload!G1268<44,REPT(0,44-LEN(Gerar_Upload!G1268))&Gerar_Upload!G1268,Gerar_Upload!G1268),\"erro\")","v":"00000000000000000000000000000000000000000000"}]
[{"$f":"IFERROR(LEFT(Gerar_Upload!A1269,120),\"erro\")","v":""},{"$f":"IFERROR(SUBSTITUTE(SUBSTITUTE(SUBSTITUTE(Gerar_Upload!B1269,\".\",\"\"),\"-\",\"\"),\"/\",\"\"),\"erro\")","v":""},{"$f":"IFERROR(Gerar_Upload!C1269,\"erro\")","v":0},{"$f":"IFERROR(Gerar_Upload!D1269,\"erro\")","v":0},{"$f":"IFERROR(DATE(YEAR(Gerar_Upload!E1269),MONTH(Gerar_Upload!E1269),DAY(Gerar_Upload!E1269)),\"erro\")","v":"00:00:00"},{"$f":"IFERROR(Gerar_Upload!F1269,\"erro\")","v":0},{"$f":"IFERROR(IF(Gerar_Upload!G1269<44,REPT(0,44-LEN(Gerar_Upload!G1269))&Gerar_Upload!G1269,Gerar_Upload!G1269),\"erro\")","v":"00000000000000000000000000000000000000000000"}]
[{"$f":"IFERROR(LEFT(Gerar_Upload!A1270,120),\"erro\")","v":""},{"$f":"IFERROR(SUBSTITUTE(SUBSTITUTE(SUBSTITUTE(Gerar_Upload!B1270,\".\",\"\"),\"-\",\"\"),\"/\",\"\"),\"erro\")","v":""},{"$f":"IFERROR(Gerar_Upload!C1270,\"erro\")","v":0},{"$f":"IFERROR(Gerar_Upload!D1270,\"erro\")","v":0},{"$f":"IFERROR(DATE(YEAR(Gerar_Upload!E1270),MONTH(Gerar_Upload!E1270),DAY(Gerar_Upload!E1270)),\"erro\")","v":"00:00:00"},{"$f":"IFERROR(Gerar_Upload!F1270,\"erro\")","v":0},{"$f":"IFERROR(IF(Gerar_Upload!G1270<44,REPT(0,44-LEN(Gerar_Upload!G1270))&Gerar_Upload!G1270,Gerar_Upload!G1270),\"erro\")","v":"00000000000000000000000000000000000000000000"}]
[{"$f":"IFERROR(LEFT(Gerar_Upload!A1271,120),\"erro\")","v":""},{"$f":"IFERROR(SUBSTITUTE(SUBSTITUTE(SUBSTITUTE(Gerar_Upload!B1271,\".\",\"\"),\"-\",\"\"),\"/\",\"\"),\"erro\")","v":""},{"$f":"IFERROR(Gerar_Upload!C1271,\"erro\")","v":0},{"$f":"IFERROR(Gerar_Upload!D1271,\"erro\")","v":0},{"$f":"IFERROR(DATE(YEAR(Gerar_Upload!E1271),MONTH(Gerar_Upload!E1271),DAY(Gerar_Upload!E1271)),\"erro\")","v":"00:00:00"},{"$f":"IFERROR(Gerar_Upload!F1271,\"erro\")","v":0},{"$f":"IFERROR(IF(Gerar_Upload!G1271<44,REPT(0,44-LEN(Gerar_Upload!G1271))&Gerar_Upload!G1271,Gerar_Upload!G1271),\"erro\")","v":"00000000000000000000000000000000000000000000"}]
[{"$f":"IFERROR(LEFT(Gerar_Upload!A1272,120),\"erro\")","v":""},{"$f":"IFERROR(SUBSTITUTE(SUBSTITUTE(SUBSTITUTE(Gerar_Upload!B1272,\".\",\"\"),\"-\",\"\"),\"/\",\"\"),\"erro\")","v":""},{"$f":"IFERROR(Gerar_Upload!C1272,\"erro\")","v":0},{"$f":"IFERROR(Gerar_Upload!D1272,\"erro\")","v":0},{"$f":"IFERROR(DATE(YEAR(Gerar_Upload!E1272),MONTH(Gerar_Upload!E1272),DAY(Gerar_Upload!E1272)),\"erro\")","v":"00:00:00"},{"$f":"IFERROR(Gerar_Upload!F1272,\"erro\")","v":0},{"$f":"IFERROR(IF(Gerar_Upload!G1272<44,REPT(0,44-LEN(Gerar_Upload!G1272))&Gerar_Upload!G1272,Gerar_Upload!G1272),\"erro\")","v":"00000000000000000000000000000000000000000000"}]
[{"$f":"IFERROR(LEFT(Gerar_Upload!A1273,120),\"erro\")","v":""},{"$f":"IFERROR(SUBSTITUTE(SUBSTITUTE(SUBSTITUTE(Gerar_Upload!B1273,\".\",\"\"),\"-\",\"\"),\"/\",\"\"),\"erro\")","v":""},{"$f":"IFERROR(Gerar_Upload!C1273,\"erro\")","v":0},{"$f":"IFERROR(Gerar_Upload!D1273,\"erro\")","v":0},{"$f":"IFERROR(DATE(YEAR(Gerar_Upload!E1273),MONTH(Gerar_Upload!E1273),DAY(Gerar_Upload!E1273)),\"erro\")","v":"00:00:00"},{"$f":"IFERROR(Gerar_Upload!F1273,\"erro\")","v":0},{"$f":"IFERROR(IF(Gerar_Upload!G1273<44,REPT(0,44-LEN(Gerar_Upload!G1273))&Gerar_Upload!G1273,Gerar_Upload!G1273),\"erro\")","v":"00000000000000000000000000000000000000000000"}]
[{"$f":"IFERROR(LEFT(Gerar_Upload!A1274,120),\"erro\")","v":""},{"$f":"IFERROR(SUBSTITUTE(SUBSTITUTE(SUBSTITUTE(Gerar_Upload!B1274,\".\",\"\"),\"-\",\"\"),\"/\",\"\"),\"erro\")","v":""},{"$f":"IFERROR(Gerar_Upload!C1274,\"erro\")","v":0},{"$f":"IFERROR(Gerar_Upload!D1274,\"erro\")","v":0},{"$f":"IFERROR(DATE(YEAR(Gerar_Upload!E1274),MONTH(Gerar_Upload!E1274),DAY(Gerar_Upload!E1274)),\"erro\")","v":"00:00:00"},{"$f":"IFERROR(Gerar_Upload!F1274,\"erro\")","v":0},{"$f":"IFERROR(IF(Gerar_Upload!G1274<44,REPT(0,44-LEN(Gerar_Upload!G1274))&Gerar_Upload!G1274,Gerar_Upload!G1274),\"erro\")","v":"00000000000000000000000000000000000000000000"}]
[{"$f":"IFERROR(LEFT(Gerar_Upload!A1275,120),\"erro\")","v":""},{"$f":"IFERROR(SUBSTITUTE(SUBSTITUTE(SUBSTITUTE(Gerar_Upload!B1275,\".\",\"\"),\"-\",\"\"),\"/\",\"\"),\"erro\")","v":""},{"$f":"IFERROR(Gerar_Upload!C1275,\"erro\")","v":0},{"$f":"IFERROR(Gerar_Upload!D1275,\"erro\")","v":0},{"$f":"IFERROR(DATE(YEAR(Gerar_Upload!E1275),MONTH(Gerar_Upload!E1275),DAY(Gerar_Upload!E1275)),\"erro\")","v":"00:00:00"},{"$f":"IFERROR(Gerar_Upload!F1275,\"erro\")","v":0},{"$f":"IFERROR(IF(Gerar_Upload!G1275<44,REPT(0,44-LEN(Gerar_Upload!G1275))&Gerar_Upload!G1275,Gerar_Upload!G1275),\"erro\")","v":"00000000000000000000000000000000000000000000"}]
[{"$f":"IFERROR(LEFT(Gerar_Upload!A1276,120),\"erro\")","v":""},{"$f":"IFERROR(SUBSTITUTE(SUBSTITUTE(SUBSTITUTE(Gerar_Upload!B1276,\".\",\"\"),\"-\",\"\"),\"/\",\"\"),\"erro\")","v":""},{"$f":"IFERROR(Gerar_Upload!C1276,\"erro\")","v":0},{"$f":"IFERROR(Gerar_Upload!D1276,\"erro\")","v":0},{"$f":"IFERROR(DATE(YEAR(Gerar_Upload!E1276),MONTH(Gerar_Upload!E1276),DAY(Gerar_Upload!E1276)),\"erro\")","v":"00:00:00"},{"$f":"IFERROR(Gerar_Upload!F1276,\"erro\")","v":0},{"$f":"IFERROR(IF(Gerar_Upload!G1276<44,REPT(0,44-LEN(Gerar_Upload!G1276))&Gerar_Upload!G1276,Gerar_Upload!G1276),\"erro\")","v":"00000000000000000000000000000000000000000000"}]
[{"$f":"IFERROR(LEFT(Gerar_Upload!A1277,120),\"erro\")","v":""},{"$f":"IFERROR(SUBSTITUTE(SUBSTITUTE(SUBSTITUTE(Gerar_Upload!B1277,\".\",\"\"),\"-\",\"\"),\"/\",\"\"),\"erro\")","v":""},{"$f":"IFERROR(Gerar_Upload!C1277,\"erro\")","v":0},{"$f":"IFERROR(Gerar_Upload!D1277,\"erro\")","v":0},{"$f":"IFERROR(DATE(YEAR(Gerar_Upload!E1277),MONTH(Gerar_Upload!E1277),DAY(Gerar_Upload!E1277)),\"erro\")","v":"00:00:00"},{"$f":"IFERROR(Gerar_Upload!F1277,\"erro\")","v":0},{"$f":"IFERROR(IF(Gerar_Upload!G1277<44,REPT(0,44-LEN(Gerar_Upload!G1277))&Gerar_Upload!G1277,Gerar_Upload!G1277),\"erro\")","v":"00000000000000000000000000000000000000000000"}]
[{"$f":"IFERROR(LEFT(Gerar_Upload!A1278,120),\"erro\")","v":""},{"$f":"IFERROR(SUBSTITUTE(SUBSTITUTE(SUBSTITUTE(Gerar_Upload!B1278,\".\",\"\"),\"-\",\"\"),\"/\",\"\"),\"erro\")","v":""},{"$f":"IFERROR(Gerar_Upload!C1278,\"erro\")","v":0},{"$f":"IFERROR(Gerar_Upload!D1278,\"erro\")","v":0},{"$f":"IFERROR(DATE(YEAR(Gerar_Upload!E1278),MONTH(Gerar_Upload!E1278),DAY(Gerar_Upload!E1278)),\"erro\")","v":"00:00:00"},{"$f":"IFERROR(Gerar_Upload!F1278,\"erro\")","v":0},{"$f":"IFERROR(IF(Gerar_Upload!G1278<44,REPT(0,44-LEN(Gerar_Upload!G1278))&Gerar_Upload!G1278,Gerar_Upload!G1278),\"erro\")","v":"00000000000000000000000000000000000000000000"}]
[{"$f":"IFERROR(LEFT(Gerar_Upload!A1279,120),\"erro\")","v":""},{"$f":"IFERROR(SUBSTITUTE(SUBSTITUTE(SUBSTITUTE(Gerar_Upload!B1279,\".\",\"\"),\"-\",\"\"),\"/\",\"\"),\"erro\")","v":""},{"$f":"IFERROR(Gerar_Upload!C1279,\"erro\")","v":0},{"$f":"IFERROR(Gerar_Upload!D1279,\"erro\")","v":0},{"$f":"IFERROR(DATE(YEAR(Gerar_Upload!E1279),MONTH(Gerar_Upload!E1279),DAY(Gerar_Upload!E1279)),\"erro\")","v":"00:00:00"},{"$f":"IFERROR(Gerar_Upload!F1279,\"erro\")","v":0},{"$f":"IFERROR(IF(Gerar_Upload!G1279<44,REPT(0,44-LEN(Gerar_Upload!G1279))&Gerar_Upload!G1279,Gerar_Upload!G1279),\"erro\")","v":"00000000000000000000000000000000000000000000"}]
[{"$f":"IFERROR(LEFT(Gerar_Upload!A1280,120),\"erro\")","v":""},{"$f":"IFERROR(SUBSTITUTE(SUBSTITUTE(SUBSTITUTE(Gerar_Upload!B1280,\".\",\"\"),\"-\",\"\"),\"/\",\"\"),\"erro\")","v":""},{"$f":"IFERROR(Gerar_Upload!C1280,\"erro\")","v":0},{"$f":"IFERROR(Gerar_Upload!D1280,\"erro\")","v":0},{"$f":"IFERROR(DATE(YEAR(Gerar_Upload!E1280),MONTH(Gerar_Upload!E1280),DAY(Gerar_Upload!E1280)),\"erro\")","v":"00:00:00"},{"$f":"IFERROR(Gerar_Upload!F1280,\"erro\")","v":0},{"$f":"IFERROR(IF(Gerar_Upload!G1280<44,REPT(0,44-LEN(Gerar_Upload!G1280))&Gerar_Upload!G1280,Gerar_Upload!G1280),\"erro\")","v":"00000000000000000000000000000000000000000000"}]
[{"$f":"IFERROR(LEFT(Gerar_Upload!A1281,120),\"erro\")","v":""},{"$f":"IFERROR(SUBSTITUTE(SUBSTITUTE(SUBSTITUTE(Gerar_Upload!B1281,\".\",\"\"),\"-\",\"\"),\"/\",\"\"),\"erro\")","v":""},{"$f":"IFERROR(Gerar_Upload!C1281,\"erro\")","v":0},{"$f":"IFERROR(Gerar_Upload!D1281,\"erro\")","v":0},{"$f":"IFERROR(DATE(YEAR(Gerar_Upload!E1281),MONTH(Gerar_Upload!E1281),DAY(Gerar_Upload!E1281)),\"erro\")","v":"00:00:00"},{"$f":"IFERROR(Gerar_Upload!F1281,\"erro\")","v":0},{"$f":"IFERROR(IF(Gerar_Upload!G1281<44,REPT(0,44-LEN(Gerar_Upload!G1281))&Gerar_Upload!G1281,Gerar_Upload!G1281),\"erro\")","v":"00000000000000000000000000000000000000000000"}]
[{"$f":"IFERROR(LEFT(Gerar_Upload!A1282,120),\"erro\")","v":""},{"$f":"IFERROR(SUBSTITUTE(SUBSTITUTE(SUBSTITUTE(Gerar_Upload!B1282,\".\",\"\"),\"-\",\"\"),\"/\",\"\"),\"erro\")","v":""},{"$f":"IFERROR(Gerar_Upload!C1282,\"erro\")","v":0},{"$f":"IFERROR(Gerar_Upload!D1282,\"erro\")","v":0},{"$f":"IFERROR(DATE(YEAR(Gerar_Upload!E1282),MONTH(Gerar_Upload!E1282),DAY(Gerar_Upload!E1282)),\"erro\")","v":"00:00:00"},{"$f":"IFERROR(Gerar_Upload!F1282,\"erro\")","v":0},{"$f":"IFERROR(IF(Gerar_Upload!G1282<44,REPT(0,44-LEN(Gerar_Upload!G1282))&Gerar_Upload!G1282,Gerar_Upload!G1282),\"erro\")","v":"00000000000000000000000000000000000000000000"}]
[{"$f":"IFERROR(LEFT(Gerar_Upload!A1283,120),\"erro\")","v":""},{"$f":"IFERROR(SUBSTITUTE(SUBSTITUTE(SUBSTITUTE(Gerar_Upload!B1283,\".\",\"\"),\"-\",\"\"),\"/\",\"\"),\"erro\")","v":""},{"$f":"IFERROR(Gerar_Upload!C1283,\"erro\")","v":0},{"$f":"IFERROR(Gerar_Upload!D1283,\"erro\")","v":0},{"$f":"IFERROR(DATE(YEAR(Gerar_Upload!E1283),MONTH(Gerar_Upload!E1283),DAY(Gerar_Upload!E1283)),\"erro\")","v":"00:00:00"},{"$f":"IFERROR(Gerar_Upload!F1283,\"erro\")","v":0},{"$f":"IFERROR(IF(Gerar_Upload!G1283<44,REPT(0,44-LEN(Gerar_Upload!G1283))&Gerar_Upload!G1283,Gerar_Upload!G1283),\"erro\")","v":"00000000000000000000000000000000000000000000"}]
[{"$f":"IFERROR(LEFT(Gerar_Upload!A1284,120),\"erro\")","v":""},{"$f":"IFERROR(SUBSTITUTE(SUBSTITUTE(SUBSTITUTE(Gerar_Upload!B1284,\".\",\"\"),\"-\",\"\"),\"/\",\"\"),\"erro\")","v":""},{"$f":"IFERROR(Gerar_Upload!C1284,\"erro\")","v":0},{"$f":"IFERROR(Gerar_Upload!D1284,\"erro\")","v":0},{"$f":"IFERROR(DATE(YEAR(Gerar_Upload!E1284),MONTH(Gerar_Upload!E1284),DAY(Gerar_Upload!E1284)),\"erro\")","v":"00:00:00"},{"$f":"IFERROR(Gerar_Upload!F1284,\"erro\")","v":0},{"$f":"IFERROR(IF(Gerar_Upload!G1284<44,REPT(0,44-LEN(Gerar_Upload!G1284))&Gerar_Upload!G1284,Gerar_Upload!G1284),\"erro\")","v":"00000000000000000000000000000000000000000000"}]
[{"$f":"IFERROR(LEFT(Gerar_Upload!A1285,120),\"erro\")","v":""},{"$f":"IFERROR(SUBSTITUTE(SUBSTITUTE(SUBSTITUTE(Gerar_Upload!B1285,\".\",\"\"),\"-\",\"\"),\"/\",\"\"),\"erro\")","v":""},{"$f":"IFERROR(Gerar_Upload!C1285,\"erro\")","v":0},{"$f":"IFERROR(Gerar_Upload!D1285,\"erro\")","v":0},{"$f":"IFERROR(DATE(YEAR(Gerar_Upload!E1285),MONTH(Gerar_Upload!E1285),DAY(Gerar_Upload!E1285)),\"erro\")","v":"00:00:00"},{"$f":"IFERROR(Gerar_Upload!F1285,\"erro\")","v":0},{"$f":"IFERROR(IF(Gerar_Upload!G1285<44,REPT(0,44-LEN(Gerar_Upload!G1285))&Gerar_Upload!G1285,Gerar_Upload!G1285),\"erro\")","v":"00000000000000000000000000000000000000000000"}]
[{"$f":"IFERROR(LEFT(Gerar_Upload!A1286,120),\"erro\")","v":""},{"$f":"IFERROR(SUBSTITUTE(SUBSTITUTE(SUBSTITUTE(Gerar_Upload!B1286,\".\",\"\"),\"-\",\"\"),\"/\",\"\"),\"erro\")","v":""},{"$f":"IFERROR(Gerar_Upload!C1286,\"erro\")","v":0},{"$f":"IFERROR(Gerar_Upload!D1286,\"erro\")","v":0},{"$f":"IFERROR(DATE(YEAR(Gerar_Upload!E1286),MONTH(Gerar_Upload!E1286),DAY(Gerar_Upload!E1286)),\"erro\")","v":"00:00:00"},{"$f":"IFERROR(Gerar_Upload!F1286,\"erro\")","v":0},{"$f":"IFERROR(IF(Gerar_Upload!G1286<44,REPT(0,44-LEN(Gerar_Upload!G1286))&Gerar_Upload!G1286,Gerar_Upload!G1286),\"erro\")","v":"00000000000000000000000000000000000000000000"}]
[{"$f":"IFERROR(LEFT(Gerar_Upload!A1287,120),\"erro\")","v":""},{"$f":"IFERROR(SUBSTITUTE(SUBSTITUTE(SUBSTITUTE(Gerar_Upload!B1287,\".\",\"\"),\"-\",\"\"),\"/\",\"\"),\"erro\")","v":""},{"$f":"IFERROR(Gerar_Upload!C1287,\"erro\")","v":0},{"$f":"IFERROR(Gerar_Upload!D1287,\"erro\")","v":0},{"$f":"IFERROR(DATE(YEAR(Gerar_Upload!E1287),MONTH(Gerar_Upload!E1287),DAY(Gerar_Upload!E1287)),\"erro\")","v":"00:00:00"},{"$f":"IFERROR(Gerar_Upload!F1287,\"erro\")","v":0},{"$f":"IFERROR(IF(Gerar_Upload!G1287<44,REPT(0,44-LEN(Gerar_Upload!G1287))&Gerar_Upload!G1287,Gerar_Upload!G1287),\"erro\")","v":"00000000000000000000000000000000000000000000"}]
[{"$f":"IFERROR(LEFT(Gerar_Upload!A1288,120),\"erro\")","v":""},{"$f":"IFERROR(SUBSTITUTE(SUBSTITUTE(SUBSTITUTE(Gerar_Upload!B1288,\".\",\"\"),\"-\",\"\"),\"/\",\"\"),\"erro\")","v":""},{"$f":"IFERROR(Gerar_Upload!C1288,\"erro\")","v":0},{"$f":"IFERROR(Gerar_Upload!D1288,\"erro\")","v":0},{"$f":"IFERROR(DATE(YEAR(Gerar_Upload!E1288),MONTH(Gerar_Upload!E1288),DAY(Gerar_Upload!E1288)),\"erro\")","v":"00:00:00"},{"$f":"IFERROR(Gerar_Upload!F1288,\"erro\")","v":0},{"$f":"IFERROR(IF(Gerar_Upload!G1288<44,REPT(0,44-LEN(Gerar_Upload!G1288))&Gerar_Upload!G1288,Gerar_Upload!G1288),\"erro\")","v":"00000000000000000000000000000000000000000000"}]
[{"$f":"IFERROR(LEFT(Gerar_Upload!A1289,120),\"erro\")","v":""},{"$f":"IFERROR(SUBSTITUTE(SUBSTITUTE(SUBSTITUTE(Gerar_Upload!B1289,\".\",\"\"),\"-\",\"\"),\"/\",\"\"),\"erro\")","v":""},{"$f":"IFERROR(Gerar_Upload!C1289,\"erro\")","v":0},{"$f":"IFERROR(Gerar_Upload!D1289,\"erro\")","v":0},{"$f":"IFERROR(DATE(YEAR(Gerar_Upload!E1289),MONTH(Gerar_Upload!E1289),DAY(Gerar_Upload!E1289)),\"erro\")","v":"00:00:00"},{"$f":"IFERROR(Gerar_Upload!F1289,\"erro\")","v":0},{"$f":"IFERROR(IF(Gerar_Upload!G1289<44,REPT(0,44-LEN(Gerar_Upload!G1289))&Gerar_Upload!G1289,Gerar_Upload!G1289),\"erro\")","v":"00000000000000000000000000000000000000000000"}]
[{"$f":"IFERROR(LEFT(Gerar_Upload!A1290,120),\"erro\")","v":""},{"$f":"IFERROR(SUBSTITUTE(SUBSTITUTE(SUBSTITUTE(Gerar_Upload!B1290,\".\",\"\"),\"-\",\"\"),\"/\",\"\"),\"erro\")","v":""},{"$f":"IFERROR(Gerar_Upload!C1290,\"erro\")","v":0},{"$f":"IFERROR(Gerar_Upload!D1290,\"erro\")","v":0},{"$f":"IFERROR(DATE(YEAR(Gerar_Upload!E1290),MONTH(Gerar_Upload!E1290),DAY(Gerar_Upload!E1290)),\"erro\")","v":"00:00:00"},{"$f":"IFERROR(Gerar_Upload!F1290,\"erro\")","v":0},{"$f":"IFERROR(IF(Gerar_Upload!G1290<44,REPT(0,44-LEN(Gerar_Upload!G1290))&Gerar_Upload!G1290,Gerar_Upload!G1290),\"erro\")","v":"00000000000000000000000000000000000000000000"}]
[{"$f":"IFERROR(LEFT(Gerar_Upload!A1291,120),\"erro\")","v":""},{"$f":"IFERROR(SUBSTITUTE(SUBSTITUTE(SUBSTITUTE(Gerar_Upload!B1291,\".\",\"\"),\"-\",\"\"),\"/\",\"\"),\"erro\")","v":""},{"$f":"IFERROR(Gerar_Upload!C1291,\"erro\")","v":0},{"$f":"IFERROR(Gerar_Upload!D1291,\"erro\")","v":0},{"$f":"IFERROR(DATE(YEAR(Gerar_Upload!E1291),MONTH(Gerar_Upload!E1291),DAY(Gerar_Upload!E1291)),\"erro\")","v":"00:00:00"},{"$f":"IFERROR(Gerar_Upload!F1291,\"erro\")","v":0},{"$f":"IFERROR(IF(Gerar_Upload!G1291<44,REPT(0,44-LEN(Gerar_Upload!G1291))&Gerar_Upload!G1291,Gerar_Upload!G1291),\"erro\")","v":"00000000000000000000000000000000000000000000"}]
[{"$f":"IFERROR(LEFT(Gerar_Upload!A1292,120),\"erro\")","v":""},{"$f":"IFERROR(SUBSTITUTE(SUBSTITUTE(SUBSTITUTE(Gerar_Upload!B1292,\".\",\"\"),\"-\",\"\"),\"/\",\"\"),\"erro\")","v":""},{"$f":"IFERROR(Gerar_Upload!C1292,\"erro\")","v":0},{"$f":"IFERROR(Gerar_Upload!D1292,\"erro\")","v":0},{"$f":"IFERROR(DATE(YEAR(Gerar_Upload!E1292),MONTH(Gerar_Upload!E1292),DAY(Gerar_Upload!E1292)),\"erro\")","v":"00:00:00"},{"$f":"IFERROR(Gerar_Upload!F1292,\"erro\")","v":0},{"$f":"IFERROR(IF(Gerar_Upload!G1292<44,REPT(0,44-LEN(Gerar_Upload!G1292))&Gerar_Upload!G1292,Gerar_Upload!G1292),\"erro\")","v":"00000000000000000000000000000000000000000000"}]
[{"$f":"IFERROR(LEFT(Gerar_Upload!A1293,120),\"erro\")","v":""},{"$f":"IFERROR(SUBSTITUTE(SUBSTITUTE(SUBSTITUTE(Gerar_Upload!B1293,\".\",\"\"),\"-\",\"\"),\"/\",\"\"),\"erro\")","v":""},{"$f":"IFERROR(Gerar_Upload!C1293,\"erro\")","v":0},{"$f":"IFERROR(Gerar_Upload!D1293,\"erro\")","v":0},{"$f":"IFERROR(DATE(YEAR(Gerar_Upload!E1293),MONTH(Gerar_Upload!E1293),DAY(Gerar_Upload!E1293)),\"erro\")","v":"00:00:00"},{"$f":"IFERROR(Gerar_Upload!F1293,\"erro\")","v":0},{"$f":"IFERROR(IF(Gerar_Upload!G1293<44,REPT(0,44-LEN(Gerar_Upload!G1293))&Gerar_Upload!G1293,Gerar_Upload!G1293),\"erro\")","v":"00000000000000000000000000000000000000000000"}]
[{"$f":"IFERROR(LEFT(Gerar_Upload!A1294,120),\"erro\")","v":""},{"$f":"IFERROR(SUBSTITUTE(SUBSTITUTE(SUBSTITUTE(Gerar_Upload!B1294,\".\",\"\"),\"-\",\"\"),\"/\",\"\"),\"erro\")","v":""},{"$f":"IFERROR(Gerar_Upload!C1294,\"erro\")","v":0},{"$f":"IFERROR(Gerar_Upload!D1294,\"erro\")","v":0},{"$f":"IFERROR(DATE(YEAR(Gerar_Upload!E1294),MONTH(Gerar_Upload!E1294),DAY(Gerar_Upload!E1294)),\"erro\")","v":"00:00:00"},{"$f":"IFERROR(Gerar_Upload!F1294,\"erro\")","v":0},{"$f":"IFERROR(IF(Gerar_Upload!G1294<44,REPT(0,44-LEN(Gerar_Upload!G1294))&Gerar_Upload!G1294,Gerar_Upload!G1294),\"erro\")","v":"00000000000000000000000000000000000000000000"}]
[{"$f":"IFERROR(LEFT(Gerar_Upload!A1295,120),\"erro\")","v":""},{"$f":"IFERROR(SUBSTITUTE(SUBSTITUTE(SUBSTITUTE(Gerar_Upload!B1295,\".\",\"\"),\"-\",\"\"),\"/\",\"\"),\"erro\")","v":""},{"$f":"IFERROR(Gerar_Upload!C1295,\"erro\")","v":0},{"$f":"IFERROR(Gerar_Upload!D1295,\"erro\")","v":0},{"$f":"IFERROR(DATE(YEAR(Gerar_Upload!E1295),MONTH(Gerar_Upload!E1295),DAY(Gerar_Upload!E1295)),\"erro\")","v":"00:00:00"},{"$f":"IFERROR(Gerar_Upload!F1295,\"erro\")","v":0},{"$f":"IFERROR(IF(Gerar_Upload!G1295<44,REPT(0,44-LEN(Gerar_Upload!G1295))&Gerar_Upload!G1295,Gerar_Upload!G1295),\"erro\")","v":"00000000000000000000000000000000000000000000"}]
[{"$f":"IFERROR(LEFT(Gerar_Upload!A1296,120),\"erro\")","v":""},{"$f":"IFERROR(SUBSTITUTE(SUBSTITUTE(SUBSTITUTE(Gerar_Upload!B1296,\".\",\"\"),\"-\",\"\"),\"/\",\"\"),\"erro\")","v":""},{"$f":"IFERROR(Gerar_Upload!C1296,\"erro\")","v":0},{"$f":"IFERROR(Gerar_Upload!D1296,\"erro\")","v":0},{"$f":"IFERROR(DATE(YEAR(Gerar_Upload!E1296),MONTH(Gerar_Upload!E1296),DAY(Gerar_Upload!E1296)),\"erro\")","v":"00:00:00"},{"$f":"IFERROR(Gerar_Upload!F1296,\"erro\")","v":0},{"$f":"IFERROR(IF(Gerar_Upload!G1296<44,REPT(0,44-LEN(Gerar_Upload!G1296))&Gerar_Upload!G1296,Gerar_Upload!G1296),\"erro\")","v":"00000000000000000000000000000000000000000000"}]
[{"$f":"IFERROR(LEFT(Gerar_Upload!A1297,120),\"erro\")","v":""},{"$f":"IFERROR(SUBSTITUTE(SUBSTITUTE(SUBSTITUTE(Gerar_Upload!B1297,\".\",\"\"),\"-\",\"\"),\"/\",\"\"),\"erro\")","v":""},{"$f":"IFERROR(Gerar_Upload!C1297,\"erro\")","v":0},{"$f":"IFERROR(Gerar_Upload!D1297,\"erro\")","v":0},{"$f":"IFERROR(DATE(YEAR(Gerar_Upload!E1297),MONTH(Gerar_Upload!E1297),DAY(Gerar_Upload!E1297)),\"erro\")","v":"00:00:00"},{"$f":"IFERROR(Gerar_Upload!F1297,\"erro\")","v":0},{"$f":"IFERROR(IF(Gerar_Upload!G1297<44,REPT(0,44-LEN(Gerar_Upload!G1297))&Gerar_Upload!G1297,Gerar_Upload!G1297),\"erro\")","v":"00000000000000000000000000000000000000000000"}]
[{"$f":"IFERROR(LEFT(Gerar_Upload!A1298,120),\"erro\")","v":""},{"$f":"IFERROR(SUBSTITUTE(SUBSTITUTE(SUBSTITUTE(Gerar_Upload!B1298,\".\",\"\"),\"-\",\"\"),\"/\",\"\"),\"erro\")","v":""},{"$f":"IFERROR(Gerar_Upload!C1298,\"erro\")","v":0},{"$f":"IFERROR(Gerar_Upload!D1298,\"erro\")","v":0},{"$f":"IFERROR(DATE(YEAR(Gerar_Upload!E1298),MONTH(Gerar_Upload!E1298),DAY(Gerar_Upload!E1298)),\"erro\")","v":"00:00:00"},{"$f":"IFERROR(Gerar_Upload!F1298,\"erro\")","v":0},{"$f":"IFERROR(IF(Gerar_Upload!G1298<44,REPT(0,44-LEN(Gerar_Upload!G1298))&Gerar_Upload!G1298,Gerar_Upload!G1298),\"erro\")","v":"00000000000000000000000000000000000000000000"}]
[{"$f":"IFERROR(LEFT(Gerar_Upload!A1299,120),\"erro\")","v":""},{"$f":"IFERROR(SUBSTITUTE(SUBSTITUTE(SUBSTITUTE(Gerar_Upload!B1299,\".\",\"\"),\"-\",\"\"),\"/\",\"\"),\"erro\")","v":""},{"$f":"IFERROR(Gerar_Upload!C1299,\"erro\")","v":0},{"$f":"IFERROR(Gerar_Upload!D1299,\"erro\")","v":0},{"$f":"IFERROR(DATE(YEAR(Gerar_Upload!E1299),MONTH(Gerar_Upload!E1299),DAY(Gerar_Upload!E1299)),\"erro\")","v":"00:00:00"},{"$f":"IFERROR(Gerar_Upload!F1299,\"erro\")","v":0},{"$f":"IFERROR(IF(Gerar_Upload!G1299<44,REPT(0,44-LEN(Gerar_Upload!G1299))&Gerar_Upload!G1299,Gerar_Upload!G1299),\"erro\")","v":"00000000000000000000000000000000000000000000"}]
[{"$f":"IFERROR(LEFT(Gerar_Upload!A1300,120),\"erro\")","v":""},{"$f":"IFERROR(SUBSTITUTE(SUBSTITUTE(SUBSTITUTE(Gerar_Upload!B1300,\".\",\"\"),\"-\",\"\"),\"/\",\"\"),\"erro\")","v":""},{"$f":"IFERROR(Gerar_Upload!C1300,\"erro\")","v":0},{"$f":"IFERROR(Gerar_Upload!D1300,\"erro\")","v":0},{"$f":"IFERROR(DATE(YEAR(Gerar_Upload!E1300),MONTH(Gerar_Upload!E1300),DAY(Gerar_Upload!E1300)),\"erro\")","v":"00:00:00"},{"$f":"IFERROR(Gerar_Upload!F1300,\"erro\")","v":0},{"$f":"IFERROR(IF(Gerar_Upload!G1300<44,REPT(0,44-LEN(Gerar_Upload!G1300))&Gerar_Upload!G1300,Gerar_Upload!G1300),\"erro\")","v":"00000000000000000000000000000000000000000000"}]
[{"$f":"IFERROR(LEFT(Gerar_Upload!A1301,120),\"erro\")","v":""},{"$f":"IFERROR(SUBSTITUTE(SUBSTITUTE(SUBSTITUTE(Gerar_Upload!B1301,\".\",\"\"),\"-\",\"\"),\"/\",\"\"),\"erro\")","v":""},{"$f":"IFERROR(Gerar_Upload!C1301,\"erro\")","v":0},{"$f":"IFERROR(Gerar_Upload!D1301,\"erro\")","v":0},{"$f":"IFERROR(DATE(YEAR(Gerar_Upload!E1301),MONTH(Gerar_Upload!E1301),DAY(Gerar_Upload!E1301)),\"erro\")","v":"00:00:00"},{"$f":"IFERROR(Gerar_Upload!F1301,\"erro\")","v":0},{"$f":"IFERROR(IF(Gerar_Upload!G1301<44,REPT(0,44-LEN(Gerar_Upload!G1301))&Gerar_Upload!G1301,Gerar_Upload!G1301),\"erro\")","v":"00000000000000000000000000000000000000000000"}]
[{"$f":"IFERROR(LEFT(Gerar_Upload!A1302,120),\"erro\")","v":""},{"$f":"IFERROR(SUBSTITUTE(SUBSTITUTE(SUBSTITUTE(Gerar_Upload!B1302,\".\",\"\"),\"-\",\"\"),\"/\",\"\"),\"erro\")","v":""},{"$f":"IFERROR(Gerar_Upload!C1302,\"erro\")","v":0},{"$f":"IFERROR(Gerar_Upload!D1302,\"erro\")","v":0},{"$f":"IFERROR(DATE(YEAR(Gerar_Upload!E1302),MONTH(Gerar_Upload!E1302),DAY(Gerar_Upload!E1302)),\"erro\")","v":"00:00:00"},{"$f":"IFERROR(Gerar_Upload!F1302,\"erro\")","v":0},{"$f":"IFERROR(IF(Gerar_Upload!G1302<44,REPT(0,44-LEN(Gerar_Upload!G1302))&Gerar_Upload!G1302,Gerar_Upload!G1302),\"erro\")","v":"00000000000000000000000000000000000000000000"}]
[{"$f":"IFERROR(LEFT(Gerar_Upload!A1303,120),\"erro\")","v":""},{"$f":"IFERROR(SUBSTITUTE(SUBSTITUTE(SUBSTITUTE(Gerar_Upload!B1303,\".\",\"\"),\"-\",\"\"),\"/\",\"\"),\"erro\")","v":""},{"$f":"IFERROR(Gerar_Upload!C1303,\"erro\")","v":0},{"$f":"IFERROR(Gerar_Upload!D1303,\"erro\")","v":0},{"$f":"IFERROR(DATE(YEAR(Gerar_Upload!E1303),MONTH(Gerar_Upload!E1303),DAY(Gerar_Upload!E1303)),\"erro\")","v":"00:00:00"},{"$f":"IFERROR(Gerar_Upload!F1303,\"erro\")","v":0},{"$f":"IFERROR(IF(Gerar_Upload!G1303<44,REPT(0,44-LEN(Gerar_Upload!G1303))&Gerar_Upload!G1303,Gerar_Upload!G1303),\"erro\")","v":"00000000000000000000000000000000000000000000"}]
[{"$f":"IFERROR(LEFT(Gerar_Upload!A1304,120),\"erro\")","v":""},{"$f":"IFERROR(SUBSTITUTE(SUBSTITUTE(SUBSTITUTE(Gerar_Upload!B1304,\".\",\"\"),\"-\",\"\"),\"/\",\"\"),\"erro\")","v":""},{"$f":"IFERROR(Gerar_Upload!C1304,\"erro\")","v":0},{"$f":"IFERROR(Gerar_Upload!D1304,\"erro\")","v":0},{"$f":"IFERROR(DATE(YEAR(Gerar_Upload!E1304),MONTH(Gerar_Upload!E1304),DAY(Gerar_Upload!E1304)),\"erro\")","v":"00:00:00"},{"$f":"IFERROR(Gerar_Upload!F1304,\"erro\")","v":0},{"$f":"IFERROR(IF(Gerar_Upload!G1304<44,REPT(0,44-LEN(Gerar_Upload!G1304))&Gerar_Upload!G1304,Gerar_Upload!G1304),\"erro\")","v":"00000000000000000000000000000000000000000000"}]
[{"$f":"IFERROR(LEFT(Gerar_Upload!A1305,120),\"erro\")","v":""},{"$f":"IFERROR(SUBSTITUTE(SUBSTITUTE(SUBSTITUTE(Gerar_Upload!B1305,\".\",\"\"),\"-\",\"\"),\"/\",\"\"),\"erro\")","v":""},{"$f":"IFERROR(Gerar_Upload!C1305,\"erro\")","v":0},{"$f":"IFERROR(Gerar_Upload!D1305,\"erro\")","v":0},{"$f":"IFERROR(DATE(YEAR(Gerar_Upload!E1305),MONTH(Gerar_Upload!E1305),DAY(Gerar_Upload!E1305)),\"erro\")","v":"00:00:00"},{"$f":"IFERROR(Gerar_Upload!F1305,\"erro\")","v":0},{"$f":"IFERROR(IF(Gerar_Upload!G1305<44,REPT(0,44-LEN(Gerar_Upload!G1305))&Gerar_Upload!G1305,Gerar_Upload!G1305),\"erro\")","v":"00000000000000000000000000000000000000000000"}]
[{"$f":"IFERROR(LEFT(Gerar_Upload!A1306,120),\"erro\")","v":""},{"$f":"IFERROR(SUBSTITUTE(SUBSTITUTE(SUBSTITUTE(Gerar_Upload!B1306,\".\",\"\"),\"-\",\"\"),\"/\",\"\"),\"erro\")","v":""},{"$f":"IFERROR(Gerar_Upload!C1306,\"erro\")","v":0},{"$f":"IFERROR(Gerar_Upload!D1306,\"erro\")","v":0},{"$f":"IFERROR(DATE(YEAR(Gerar_Upload!E1306),MONTH(Gerar_Upload!E1306),DAY(Gerar_Upload!E1306)),\"erro\")","v":"00:00:00"},{"$f":"IFERROR(Gerar_Upload!F1306,\"erro\")","v":0},{"$f":"IFERROR(IF(Gerar_Upload!G1306<44,REPT(0,44-LEN(Gerar_Upload!G1306))&Gerar_Upload!G1306,Gerar_Upload!G1306),\"erro\")","v":"00000000000000000000000000000000000000000000"}]
[{"$f":"IFERROR(LEFT(Gerar_Upload!A1307,120),\"erro\")","v":""},{"$f":"IFERROR(SUBSTITUTE(SUBSTITUTE(SUBSTITUTE(Gerar_Upload!B1307,\".\",\"\"),\"-\",\"\"),\"/\",\"\"),\"erro\")","v":""},{"$f":"IFERROR(Gerar_Upload!C1307,\"erro\")","v":0},{"$f":"IFERROR(Gerar_Upload!D1307,\"erro\")","v":0},{"$f":"IFERROR(DATE(YEAR(Gerar_Upload!E1307),MONTH(Gerar_Upload!E1307),DAY(Gerar_Upload!E1307)),\"erro\")","v":"00:00:00"},{"$f":"IFERROR(Gerar_Upload!F1307,\"erro\")","v":0},{"$f":"IFERROR(IF(Gerar_Upload!G1307<44,REPT(0,44-LEN(Gerar_Upload!G1307))&Gerar_Upload!G1307,Gerar_Upload!G1307),\"erro\")","v":"00000000000000000000000000000000000000000000"}]
[{"$f":"IFERROR(LEFT(Gerar_Upload!A1308,120),\"erro\")","v":""},{"$f":"IFERROR(SUBSTITUTE(SUBSTITUTE(SUBSTITUTE(Gerar_Upload!B1308,\".\",\"\"),\"-\",\"\"),\"/\",\"\"),\"erro\")","v":""},{"$f":"IFERROR(Gerar_Upload!C1308,\"erro\")","v":0},{"$f":"IFERROR(Gerar_Upload!D1308,\"erro\")","v":0},{"$f":"IFERROR(DATE(YEAR(Gerar_Upload!E1308),MONTH(Gerar_Upload!E1308),DAY(Gerar_Upload!E1308)),\"erro\")","v":"00:00:00"},{"$f":"IFERROR(Gerar_Upload!F1308,\"erro\")","v":0},{"$f":"IFERROR(IF(Gerar_Upload!G1308<44,REPT(0,44-LEN(Gerar_Upload!G1308))&Gerar_Upload!G1308,Gerar_Upload!G1308),\"erro\")","v":"00000000000000000000000000000000000000000000"}]
[{"$f":"IFERROR(LEFT(Gerar_Upload!A1309,120),\"erro\")","v":""},{"$f":"IFERROR(SUBSTITUTE(SUBSTITUTE(SUBSTITUTE(Gerar_Upload!B1309,\".\",\"\"),\"-\",\"\"),\"/\",\"\"),\"erro\")","v":""},{"$f":"IFERROR(Gerar_Upload!C1309,\"erro\")","v":0},{"$f":"IFERROR(Gerar_Upload!D1309,\"erro\")","v":0},{"$f":"IFERROR(DATE(YEAR(Gerar_Upload!E1309),MONTH(Gerar_Upload!E1309),DAY(Gerar_Upload!E1309)),\"erro\")","v":"00:00:00"},{"$f":"IFERROR(Gerar_Upload!F1309,\"erro\")","v":0},{"$f":"IFERROR(IF(Gerar_Upload!G1309<44,REPT(0,44-LEN(Gerar_Upload!G1309))&Gerar_Upload!G1309,Gerar_Upload!G1309),\"erro\")","v":"00000000000000000000000000000000000000000000"}]
[{"$f":"IFERROR(LEFT(Gerar_Upload!A1310,120),\"erro\")","v":""},{"$f":"IFERROR(SUBSTITUTE(SUBSTITUTE(SUBSTITUTE(Gerar_Upload!B1310,\".\",\"\"),\"-\",\"\"),\"/\",\"\"),\"erro\")","v":""},{"$f":"IFERROR(Gerar_Upload!C1310,\"erro\")","v":0},{"$f":"IFERROR(Gerar_Upload!D1310,\"erro\")","v":0},{"$f":"IFERROR(DATE(YEAR(Gerar_Upload!E1310),MONTH(Gerar_Upload!E1310),DAY(Gerar_Upload!E1310)),\"erro\")","v":"00:00:00"},{"$f":"IFERROR(Gerar_Upload!F1310,\"erro\")","v":0},{"$f":"IFERROR(IF(Gerar_Upload!G1310<44,REPT(0,44-LEN(Gerar_Upload!G1310))&Gerar_Upload!G1310,Gerar_Upload!G1310),\"erro\")","v":"00000000000000000000000000000000000000000000"}]
[{"$f":"IFERROR(LEFT(Gerar_Upload!A1311,120),\"erro\")","v":""},{"$f":"IFERROR(SUBSTITUTE(SUBSTITUTE(SUBSTITUTE(Gerar_Upload!B1311,\".\",\"\"),\"-\",\"\"),\"/\",\"\"),\"erro\")","v":""},{"$f":"IFERROR(Gerar_Upload!C1311,\"erro\")","v":0},{"$f":"IFERROR(Gerar_Upload!D1311,\"erro\")","v":0},{"$f":"IFERROR(DATE(YEAR(Gerar_Upload!E1311),MONTH(Gerar_Upload!E1311),DAY(Gerar_Upload!E1311)),\"erro\")","v":"00:00:00"},{"$f":"IFERROR(Gerar_Upload!F1311,\"erro\")","v":0},{"$f":"IFERROR(IF(Gerar_Upload!G1311<44,REPT(0,44-LEN(Gerar_Upload!G1311))&Gerar_Upload!G1311,Gerar_Upload!G1311),\"erro\")","v":"00000000000000000000000000000000000000000000"}]
[{"$f":"IFERROR(LEFT(Gerar_Upload!A1312,120),\"erro\")","v":""},{"$f":"IFERROR(SUBSTITUTE(SUBSTITUTE(SUBSTITUTE(Gerar_Upload!B1312,\".\",\"\"),\"-\",\"\"),\"/\",\"\"),\"erro\")","v":""},{"$f":"IFERROR(Gerar_Upload!C1312,\"erro\")","v":0},{"$f":"IFERROR(Gerar_Upload!D1312,\"erro\")","v":0},{"$f":"IFERROR(DATE(YEAR(Gerar_Upload!E1312),MONTH(Gerar_Upload!E1312),DAY(Gerar_Upload!E1312)),\"erro\")","v":"00:00:00"},{"$f":"IFERROR(Gerar_Upload!F1312,\"erro\")","v":0},{"$f":"IFERROR(IF(Gerar_Upload!G1312<44,REPT(0,44-LEN(Gerar_Upload!G1312))&Gerar_Upload!G1312,Gerar_Upload!G1312),\"erro\")","v":"00000000000000000000000000000000000000000000"}]
[{"$f":"IFERROR(LEFT(Gerar_Upload!A1313,120),\"erro\")","v":""},{"$f":"IFERROR(SUBSTITUTE(SUBSTITUTE(SUBSTITUTE(Gerar_Upload!B1313,\".\",\"\"),\"-\",\"\"),\"/\",\"\"),\"erro\")","v":""},{"$f":"IFERROR(Gerar_Upload!C1313,\"erro\")","v":0},{"$f":"IFERROR(Gerar_Upload!D1313,\"erro\")","v":0},{"$f":"IFERROR(DATE(YEAR(Gerar_Upload!E1313),MONTH(Gerar_Upload!E1313),DAY(Gerar_Upload!E1313)),\"erro\")","v":"00:00:00"},{"$f":"IFERROR(Gerar_Upload!F1313,\"erro\")","v":0},{"$f":"IFERROR(IF(Gerar_Upload!G1313<44,REPT(0,44-LEN(Gerar_Upload!G1313))&Gerar_Upload!G1313,Gerar_Upload!G1313),\"erro\")","v":"00000000000000000000000000000000000000000000"}]
[{"$f":"IFERROR(LEFT(Gerar_Upload!A1314,120),\"erro\")","v":""},{"$f":"IFERROR(SUBSTITUTE(SUBSTITUTE(SUBSTITUTE(Gerar_Upload!B1314,\".\",\"\"),\"-\",\"\"),\"/\",\"\"),\"erro\")","v":""},{"$f":"IFERROR(Gerar_Upload!C1314,\"erro\")","v":0},{"$f":"IFERROR(Gerar_Upload!D1314,\"erro\")","v":0},{"$f":"IFERROR(DATE(YEAR(Gerar_Upload!E1314),MONTH(Gerar_Upload!E1314),DAY(Gerar_Upload!E1314)),\"erro\")","v":"00:00:00"},{"$f":"IFERROR(Gerar_Upload!F1314,\"erro\")","v":0},{"$f":"IFERROR(IF(Gerar_Upload!G1314<44,REPT(0,44-LEN(Gerar_Upload!G1314))&Gerar_Upload!G1314,Gerar_Upload!G1314),\"erro\")","v":"00000000000000000000000000000000000000000000"}]
[{"$f":"IFERROR(LEFT(Gerar_Upload!A1315,120),\"erro\")","v":""},{"$f":"IFERROR(SUBSTITUTE(SUBSTITUTE(SUBSTITUTE(Gerar_Upload!B1315,\".\",\"\"),\"-\",\"\"),\"/\",\"\"),\"erro\")","v":""},{"$f":"IFERROR(Gerar_Upload!C1315,\"erro\")","v":0},{"$f":"IFERROR(Gerar_Upload!D1315,\"erro\")","v":0},{"$f":"IFERROR(DATE(YEAR(Gerar_Upload!E1315),MONTH(Gerar_Upload!E1315),DAY(Gerar_Upload!E1315)),\"erro\")","v":"00:00:00"},{"$f":"IFERROR(Gerar_Upload!F1315,\"erro\")","v":0},{"$f":"IFERROR(IF(Gerar_Upload!G1315<44,REPT(0,44-LEN(Gerar_Upload!G1315))&Gerar_Upload!G1315,Gerar_Upload!G1315),\"erro\")","v":"00000000000000000000000000000000000000000000"}]
[{"$f":"IFERROR(LEFT(Gerar_Upload!A1316,120),\"erro\")","v":""},{"$f":"IFERROR(SUBSTITUTE(SUBSTITUTE(SUBSTITUTE(Gerar_Upload!B1316,\".\",\"\"),\"-\",\"\"),\"/\",\"\"),\"erro\")","v":""},{"$f":"IFERROR(Gerar_Upload!C1316,\"erro\")","v":0},{"$f":"IFERROR(Gerar_Upload!D1316,\"erro\")","v":0},{"$f":"IFERROR(DATE(YEAR(Gerar_Upload!E1316),MONTH(Gerar_Upload!E1316),DAY(Gerar_Upload!E1316)),\"erro\")","v":"00:00:00"},{"$f":"IFERROR(Gerar_Upload!F1316,\"erro\")","v":0},{"$f":"IFERROR(IF(Gerar_Upload!G1316<44,REPT(0,44-LEN(Gerar_Upload!G1316))&Gerar_Upload!G1316,Gerar_Upload!G1316),\"erro\")","v":"00000000000000000000000000000000000000000000"}]
[{"$f":"IFERROR(LEFT(Gerar_Upload!A1317,120),\"erro\")","v":""},{"$f":"IFERROR(SUBSTITUTE(SUBSTITUTE(SUBSTITUTE(Gerar_Upload!B1317,\".\",\"\"),\"-\",\"\"),\"/\",\"\"),\"erro\")","v":""},{"$f":"IFERROR(Gerar_Upload!C1317,\"erro\")","v":0},{"$f":"IFERROR(Gerar_Upload!D1317,\"erro\")","v":0},{"$f":"IFERROR(DATE(YEAR(Gerar_Upload!E1317),MONTH(Gerar_Upload!E1317),DAY(Gerar_Upload!E1317)),\"erro\")","v":"00:00:00"},{"$f":"IFERROR(Gerar_Upload!F1317,\"erro\")","v":0},{"$f":"IFERROR(IF(Gerar_Upload!G1317<44,REPT(0,44-LEN(Gerar_Upload!G1317))&Gerar_Upload!G1317,Gerar_Upload!G1317),\"erro\")","v":"00000000000000000000000000000000000000000000"}]
[{"$f":"IFERROR(LEFT(Gerar_Upload!A1318,120),\"erro\")","v":""},{"$f":"IFERROR(SUBSTITUTE(SUBSTITUTE(SUBSTITUTE(Gerar_Upload!B1318,\".\",\"\"),\"-\",\"\"),\"/\",\"\"),\"erro\")","v":""},{"$f":"IFERROR(Gerar_Upload!C1318,\"erro\")","v":0},{"$f":"IFERROR(Gerar_Upload!D1318,\"erro\")","v":0},{"$f":"IFERROR(DATE(YEAR(Gerar_Upload!E1318),MONTH(Gerar_Upload!E1318),DAY(Gerar_Upload!E1318)),\"erro\")","v":"00:00:00"},{"$f":"IFERROR(Gerar_Upload!F1318,\"erro\")","v":0},{"$f":"IFERROR(IF(Gerar_Upload!G1318<44,REPT(0,44-LEN(Gerar_Upload!G1318))&Gerar_Upload!G1318,Gerar_Upload!G1318),\"erro\")","v":"00000000000000000000000000000000000000000000"}]
[{"$f":"IFERROR(LEFT(Gerar_Upload!A1319,120),\"erro\")","v":""},{"$f":"IFERROR(SUBSTITUTE(SUBSTITUTE(SUBSTITUTE(Gerar_Upload!B1319,\".\",\"\"),\"-\",\"\"),\"/\",\"\"),\"erro\")","v":""},{"$f":"IFERROR(Gerar_Upload!C1319,\"erro\")","v":0},{"$f":"IFERROR(Gerar_Upload!D1319,\"erro\")","v":0},{"$f":"IFERROR(DATE(YEAR(Gerar_Upload!E1319),MONTH(Gerar_Upload!E1319),DAY(Gerar_Upload!E1319)),\"erro\")","v":"00:00:00"},{"$f":"IFERROR(Gerar_Upload!F1319,\"erro\")","v":0},{"$f":"IFERROR(IF(Gerar_Upload!G1319<44,REPT(0,44-LEN(Gerar_Upload!G1319))&Gerar_Upload!G1319,Gerar_Upload!G1319),\"erro\")","v":"00000000000000000000000000000000000000000000"}]
[{"$f":"IFERROR(LEFT(Gerar_Upload!A1320,120),\"erro\")","v":""},{"$f":"IFERROR(SUBSTITUTE(SUBSTITUTE(SUBSTITUTE(Gerar_Upload!B1320,\".\",\"\"),\"-\",\"\"),\"/\",\"\"),\"erro\")","v":""},{"$f":"IFERROR(Gerar_Upload!C1320,\"erro\")","v":0},{"$f":"IFERROR(Gerar_Upload!D1320,\"erro\")","v":0},{"$f":"IFERROR(DATE(YEAR(Gerar_Upload!E1320),MONTH(Gerar_Upload!E1320),DAY(Gerar_Upload!E1320)),\"erro\")","v":"00:00:00"},{"$f":"IFERROR(Gerar_Upload!F1320,\"erro\")","v":0},{"$f":"IFERROR(IF(Gerar_Upload!G1320<44,REPT(0,44-LEN(Gerar_Upload!G1320))&Gerar_Upload!G1320,Gerar_Upload!G1320),\"erro\")","v":"00000000000000000000000000000000000000000000"}]
[{"$f":"IFERROR(LEFT(Gerar_Upload!A1321,120),\"erro\")","v":""},{"$f":"IFERROR(SUBSTITUTE(SUBSTITUTE(SUBSTITUTE(Gerar_Upload!B1321,\".\",\"\"),\"-\",\"\"),\"/\",\"\"),\"erro\")","v":""},{"$f":"IFERROR(Gerar_Upload!C1321,\"erro\")","v":0},{"$f":"IFERROR(Gerar_Upload!D1321,\"erro\")","v":0},{"$f":"IFERROR(DATE(YEAR(Gerar_Upload!E1321),MONTH(Gerar_Upload!E1321),DAY(Gerar_Upload!E1321)),\"erro\")","v":"00:00:00"},{"$f":"IFERROR(Gerar_Upload!F1321,\"erro\")","v":0},{"$f":"IFERROR(IF(Gerar_Upload!G1321<44,REPT(0,44-LEN(Gerar_Upload!G1321))&Gerar_Upload!G1321,Gerar_Upload!G1321),\"erro\")","v":"00000000000000000000000000000000000000000000"}]
[{"$f":"IFERROR(LEFT(Gerar_Upload!A1322,120),\"erro\")","v":""},{"$f":"IFERROR(SUBSTITUTE(SUBSTITUTE(SUBSTITUTE(Gerar_Upload!B1322,\".\",\"\"),\"-\",\"\"),\"/\",\"\"),\"erro\")","v":""},{"$f":"IFERROR(Gerar_Upload!C1322,\"erro\")","v":0},{"$f":"IFERROR(Gerar_Upload!D1322,\"erro\")","v":0},{"$f":"IFERROR(DATE(YEAR(Gerar_Upload!E1322),MONTH(Gerar_Upload!E1322),DAY(Gerar_Upload!E1322)),\"erro\")","v":"00:00:00"},{"$f":"IFERROR(Gerar_Upload!F1322,\"erro\")","v":0},{"$f":"IFERROR(IF(Gerar_Upload!G1322<44,REPT(0,44-LEN(Gerar_Upload!G1322))&Gerar_Upload!G1322,Gerar_Upload!G1322),\"erro\")","v":"00000000000000000000000000000000000000000000"}]
[{"$f":"IFERROR(LEFT(Gerar_Upload!A1323,120),\"erro\")","v":""},{"$f":"IFERROR(SUBSTITUTE(SUBSTITUTE(SUBSTITUTE(Gerar_Upload!B1323,\".\",\"\"),\"-\",\"\"),\"/\",\"\"),\"erro\")","v":""},{"$f":"IFERROR(Gerar_Upload!C1323,\"erro\")","v":0},{"$f":"IFERROR(Gerar_Upload!D1323,\"erro\")","v":0},{"$f":"IFERROR(DATE(YEAR(Gerar_Upload!E1323),MONTH(Gerar_Upload!E1323),DAY(Gerar_Upload!E1323)),\"erro\")","v":"00:00:00"},{"$f":"IFERROR(Gerar_Upload!F1323,\"erro\")","v":0},{"$f":"IFERROR(IF(Gerar_Upload!G1323<44,REPT(0,44-LEN(Gerar_Upload!G1323))&Gerar_Upload!G1323,Gerar_Upload!G1323),\"erro\")","v":"00000000000000000000000000000000000000000000"}]
[{"$f":"IFERROR(LEFT(Gerar_Upload!A1324,120),\"erro\")","v":""},{"$f":"IFERROR(SUBSTITUTE(SUBSTITUTE(SUBSTITUTE(Gerar_Upload!B1324,\".\",\"\"),\"-\",\"\"),\"/\",\"\"),\"erro\")","v":""},{"$f":"IFERROR(Gerar_Upload!C1324,\"erro\")","v":0},{"$f":"IFERROR(Gerar_Upload!D1324,\"erro\")","v":0},{"$f":"IFERROR(DATE(YEAR(Gerar_Upload!E1324),MONTH(Gerar_Upload!E1324),DAY(Gerar_Upload!E1324)),\"erro\")","v":"00:00:00"},{"$f":"IFERROR(Gerar_Upload!F1324,\"erro\")","v":0},{"$f":"IFERROR(IF(Gerar_Upload!G1324<44,REPT(0,44-LEN(Gerar_Upload!G1324))&Gerar_Upload!G1324,Gerar_Upload!G1324),\"erro\")","v":"00000000000000000000000000000000000000000000"}]
[{"$f":"IFERROR(LEFT(Gerar_Upload!A1325,120),\"erro\")","v":""},{"$f":"IFERROR(SUBSTITUTE(SUBSTITUTE(SUBSTITUTE(Gerar_Upload!B1325,\".\",\"\"),\"-\",\"\"),\"/\",\"\"),\"erro\")","v":""},{"$f":"IFERROR(Gerar_Upload!C1325,\"erro\")","v":0},{"$f":"IFERROR(Gerar_Upload!D1325,\"erro\")","v":0},{"$f":"IFERROR(DATE(YEAR(Gerar_Upload!E1325),MONTH(Gerar_Upload!E1325),DAY(Gerar_Upload!E1325)),\"erro\")","v":"00:00:00"},{"$f":"IFERROR(Gerar_Upload!F1325,\"erro\")","v":0},{"$f":"IFERROR(IF(Gerar_Upload!G1325<44,REPT(0,44-LEN(Gerar_Upload!G1325))&Gerar_Upload!G1325,Gerar_Upload!G1325),\"erro\")","v":"00000000000000000000000000000000000000000000"}]
[{"$f":"IFERROR(LEFT(Gerar_Upload!A1326,120),\"erro\")","v":""},{"$f":"IFERROR(SUBSTITUTE(SUBSTITUTE(SUBSTITUTE(Gerar_Upload!B1326,\".\",\"\"),\"-\",\"\"),\"/\",\"\"),\"erro\")","v":""},{"$f":"IFERROR(Gerar_Upload!C1326,\"erro\")","v":0},{"$f":"IFERROR(Gerar_Upload!D1326,\"erro\")","v":0},{"$f":"IFERROR(DATE(YEAR(Gerar_Upload!E1326),MONTH(Gerar_Upload!E1326),DAY(Gerar_Upload!E1326)),\"erro\")","v":"00:00:00"},{"$f":"IFERROR(Gerar_Upload!F1326,\"erro\")","v":0},{"$f":"IFERROR(IF(Gerar_Upload!G1326<44,REPT(0,44-LEN(Gerar_Upload!G1326))&Gerar_Upload!G1326,Gerar_Upload!G1326),\"erro\")","v":"00000000000000000000000000000000000000000000"}]
[{"$f":"IFERROR(LEFT(Gerar_Upload!A1327,120),\"erro\")","v":""},{"$f":"IFERROR(SUBSTITUTE(SUBSTITUTE(SUBSTITUTE(Gerar_Upload!B1327,\".\",\"\"),\"-\",\"\"),\"/\",\"\"),\"erro\")","v":""},{"$f":"IFERROR(Gerar_Upload!C1327,\"erro\")","v":0},{"$f":"IFERROR(Gerar_Upload!D1327,\"erro\")","v":0},{"$f":"IFERROR(DATE(YEAR(Gerar_Upload!E1327),MONTH(Gerar_Upload!E1327),DAY(Gerar_Upload!E1327)),\"erro\")","v":"00:00:00"},{"$f":"IFERROR(Gerar_Upload!F1327,\"erro\")","v":0},{"$f":"IFERROR(IF(Gerar_Upload!G1327<44,REPT(0,44-LEN(Gerar_Upload!G1327))&Gerar_Upload!G1327,Gerar_Upload!G1327),\"erro\")","v":"00000000000000000000000000000000000000000000"}]
[{"$f":"IFERROR(LEFT(Gerar_Upload!A1328,120),\"erro\")","v":""},{"$f":"IFERROR(SUBSTITUTE(SUBSTITUTE(SUBSTITUTE(Gerar_Upload!B1328,\".\",\"\"),\"-\",\"\"),\"/\",\"\"),\"erro\")","v":""},{"$f":"IFERROR(Gerar_Upload!C1328,\"erro\")","v":0},{"$f":"IFERROR(Gerar_Upload!D1328,\"erro\")","v":0},{"$f":"IFERROR(DATE(YEAR(Gerar_Upload!E1328),MONTH(Gerar_Upload!E1328),DAY(Gerar_Upload!E1328)),\"erro\")","v":"00:00:00"},{"$f":"IFERROR(Gerar_Upload!F1328,\"erro\")","v":0},{"$f":"IFERROR(IF(Gerar_Upload!G1328<44,REPT(0,44-LEN(Gerar_Upload!G1328))&Gerar_Upload!G1328,Gerar_Upload!G1328),\"erro\")","v":"00000000000000000000000000000000000000000000"}]
[{"$f":"IFERROR(LEFT(Gerar_Upload!A1329,120),\"erro\")","v":""},{"$f":"IFERROR(SUBSTITUTE(SUBSTITUTE(SUBSTITUTE(Gerar_Upload!B1329,\".\",\"\"),\"-\",\"\"),\"/\",\"\"),\"erro\")","v":""},{"$f":"IFERROR(Gerar_Upload!C1329,\"erro\")","v":0},{"$f":"IFERROR(Gerar_Upload!D1329,\"erro\")","v":0},{"$f":"IFERROR(DATE(YEAR(Gerar_Upload!E1329),MONTH(Gerar_Upload!E1329),DAY(Gerar_Upload!E1329)),\"erro\")","v":"00:00:00"},{"$f":"IFERROR(Gerar_Upload!F1329,\"erro\")","v":0},{"$f":"IFERROR(IF(Gerar_Upload!G1329<44,REPT(0,44-LEN(Gerar_Upload!G1329))&Gerar_Upload!G1329,Gerar_Upload!G1329),\"erro\")","v":"00000000000000000000000000000000000000000000"}]
[{"$f":"IFERROR(LEFT(Gerar_Upload!A1330,120),\"erro\")","v":""},{"$f":"IFERROR(SUBSTITUTE(SUBSTITUTE(SUBSTITUTE(Gerar_Upload!B1330,\".\",\"\"),\"-\",\"\"),\"/\",\"\"),\"erro\")","v":""},{"$f":"IFERROR(Gerar_Upload!C1330,\"erro\")","v":0},{"$f":"IFERROR(Gerar_Upload!D1330,\"erro\")","v":0},{"$f":"IFERROR(DATE(YEAR(Gerar_Upload!E1330),MONTH(Gerar_Upload!E1330),DAY(Gerar_Upload!E1330)),\"erro\")","v":"00:00:00"},{"$f":"IFERROR(Gerar_Upload!F1330,\"erro\")","v":0},{"$f":"IFERROR(IF(Gerar_Upload!G1330<44,REPT(0,44-LEN(Gerar_Upload!G1330))&Gerar_Upload!G1330,Gerar_Upload!G1330),\"erro\")","v":"00000000000000000000000000000000000000000000"}]
[{"$f":"IFERROR(LEFT(Gerar_Upload!A1331,120),\"erro\")","v":""},{"$f":"IFERROR(SUBSTITUTE(SUBSTITUTE(SUBSTITUTE(Gerar_Upload!B1331,\".\",\"\"),\"-\",\"\"),\"/\",\"\"),\"erro\")","v":""},{"$f":"IFERROR(Gerar_Upload!C1331,\"erro\")","v":0},{"$f":"IFERROR(Gerar_Upload!D1331,\"erro\")","v":0},{"$f":"IFERROR(DATE(YEAR(Gerar_Upload!E1331),MONTH(Gerar_Upload!E1331),DAY(Gerar_Upload!E1331)),\"erro\")","v":"00:00:00"},{"$f":"IFERROR(Gerar_Upload!F1331,\"erro\")","v":0},{"$f":"IFERROR(IF(Gerar_Upload!G1331<44,REPT(0,44-LEN(Gerar_Upload!G1331))&Gerar_Upload!G1331,Gerar_Upload!G1331),\"erro\")","v":"00000000000000000000000000000000000000000000"}]
[{"$f":"IFERROR(LEFT(Gerar_Upload!A1332,120),\"erro\")","v":""},{"$f":"IFERROR(SUBSTITUTE(SUBSTITUTE(SUBSTITUTE(Gerar_Upload!B1332,\".\",\"\"),\"-\",\"\"),\"/\",\"\"),\"erro\")","v":""},{"$f":"IFERROR(Gerar_Upload!C1332,\"erro\")","v":0},{"$f":"IFERROR(Gerar_Upload!D1332,\"erro\")","v":0},{"$f":"IFERROR(DATE(YEAR(Gerar_Upload!E1332),MONTH(Gerar_Upload!E1332),DAY(Gerar_Upload!E1332)),\"erro\")","v":"00:00:00"},{"$f":"IFERROR(Gerar_Upload!F1332,\"erro\")","v":0},{"$f":"IFERROR(IF(Gerar_Upload!G1332<44,REPT(0,44-LEN(Gerar_Upload!G1332))&Gerar_Upload!G1332,Gerar_Upload!G1332),\"erro\")","v":"00000000000000000000000000000000000000000000"}]
[{"$f":"IFERROR(LEFT(Gerar_Upload!A1333,120),\"erro\")","v":""},{"$f":"IFERROR(SUBSTITUTE(SUBSTITUTE(SUBSTITUTE(Gerar_Upload!B1333,\".\",\"\"),\"-\",\"\"),\"/\",\"\"),\"erro\")","v":""},{"$f":"IFERROR(Gerar_Upload!C1333,\"erro\")","v":0},{"$f":"IFERROR(Gerar_Upload!D1333,\"erro\")","v":0},{"$f":"IFERROR(DATE(YEAR(Gerar_Upload!E1333),MONTH(Gerar_Upload!E1333),DAY(Gerar_Upload!E1333)),\"erro\")","v":"00:00:00"},{"$f":"IFERROR(Gerar_Upload!F1333,\"erro\")","v":0},{"$f":"IFERROR(IF(Gerar_Upload!G1333<44,REPT(0,44-LEN(Gerar_Upload!G1333))&Gerar_Upload!G1333,Gerar_Upload!G1333),\"erro\")","v":"00000000000000000000000000000000000000000000"}]
[{"$f":"IFERROR(LEFT(Gerar_Upload!A1334,120),\"erro\")","v":""},{"$f":"IFERROR(SUBSTITUTE(SUBSTITUTE(SUBSTITUTE(Gerar_Upload!B1334,\".\",\"\"),\"-\",\"\"),\"/\",\"\"),\"erro\")","v":""},{"$f":"IFERROR(Gerar_Upload!C1334,\"erro\")","v":0},{"$f":"IFERROR(Gerar_Upload!D1334,\"erro\")","v":0},{"$f":"IFERROR(DATE(YEAR(Gerar_Upload!E1334),MONTH(Gerar_Upload!E1334),DAY(Gerar_Upload!E1334)),\"erro\")","v":"00:00:00"},{"$f":"IFERROR(Gerar_Upload!F1334,\"erro\")","v":0},{"$f":"IFERROR(IF(Gerar_Upload!G1334<44,REPT(0,44-LEN(Gerar_Upload!G1334))&Gerar_Upload!G1334,Gerar_Upload!G1334),\"erro\")","v":"00000000000000000000000000000000000000000000"}]
[{"$f":"IFERROR(LEFT(Gerar_Upload!A1335,120),\"erro\")","v":""},{"$f":"IFERROR(SUBSTITUTE(SUBSTITUTE(SUBSTITUTE(Gerar_Upload!B1335,\".\",\"\"),\"-\",\"\"),\"/\",\"\"),\"erro\")","v":""},{"$f":"IFERROR(Gerar_Upload!C1335,\"erro\")","v":0},{"$f":"IFERROR(Gerar_Upload!D1335,\"erro\")","v":0},{"$f":"IFERROR(DATE(YEAR(Gerar_Upload!E1335),MONTH(Gerar_Upload!E1335),DAY(Gerar_Upload!E1335)),\"erro\")","v":"00:00:00"},{"$f":"IFERROR(Gerar_Upload!F1335,\"erro\")","v":0},{"$f":"IFERROR(IF(Gerar_Upload!G1335<44,REPT(0,44-LEN(Gerar_Upload!G1335))&Gerar_Upload!G1335,Gerar_Upload!G1335),\"erro\")","v":"00000000000000000000000000000000000000000000"}]
[{"$f":"IFERROR(LEFT(Gerar_Upload!A1336,120),\"erro\")","v":""},{"$f":"IFERROR(SUBSTITUTE(SUBSTITUTE(SUBSTITUTE(Gerar_Upload!B1336,\".\",\"\"),\"-\",\"\"),\"/\",\"\"),\"erro\")","v":""},{"$f":"IFERROR(Gerar_Upload!C1336,\"erro\")","v":0},{"$f":"IFERROR(Gerar_Upload!D1336,\"erro\")","v":0},{"$f":"IFERROR(DATE(YEAR(Gerar_Upload!E1336),MONTH(Gerar_Upload!E1336),DAY(Gerar_Upload!E1336)),\"erro\")","v":"00:00:00"},{"$f":"IFERROR(Gerar_Upload!F1336,\"erro\")","v":0},{"$f":"IFERROR(IF(Gerar_Upload!G1336<44,REPT(0,44-LEN(Gerar_Upload!G1336))&Gerar_Upload!G1336,Gerar_Upload!G1336),\"erro\")","v":"00000000000000000000000000000000000000000000"}]
[{"$f":"IFERROR(LEFT(Gerar_Upload!A1337,120),\"erro\")","v":""},{"$f":"IFERROR(SUBSTITUTE(SUBSTITUTE(SUBSTITUTE(Gerar_Upload!B1337,\".\",\"\"),\"-\",\"\"),\"/\",\"\"),\"erro\")","v":""},{"$f":"IFERROR(Gerar_Upload!C1337,\"erro\")","v":0},{"$f":"IFERROR(Gerar_Upload!D1337,\"erro\")","v":0},{"$f":"IFERROR(DATE(YEAR(Gerar_Upload!E1337),MONTH(Gerar_Upload!E1337),DAY(Gerar_Upload!E1337)),\"erro\")","v":"00:00:00"},{"$f":"IFERROR(Gerar_Upload!F1337,\"erro\")","v":0},{"$f":"IFERROR(IF(Gerar_Upload!G1337<44,REPT(0,44-LEN(Gerar_Upload!G1337))&Gerar_Upload!G1337,Gerar_Upload!G1337),\"erro\")","v":"00000000000000000000000000000000000000000000"}]
[{"$f":"IFERROR(LEFT(Gerar_Upload!A1338,120),\"erro\")","v":""},{"$f":"IFERROR(SUBSTITUTE(SUBSTITUTE(SUBSTITUTE(Gerar_Upload!B1338,\".\",\"\"),\"-\",\"\"),\"/\",\"\"),\"erro\")","v":""},{"$f":"IFERROR(Gerar_Upload!C1338,\"erro\")","v":0},{"$f":"IFERROR(Gerar_Upload!D1338,\"erro\")","v":0},{"$f":"IFERROR(DATE(YEAR(Gerar_Upload!E1338),MONTH(Gerar_Upload!E1338),DAY(Gerar_Upload!E1338)),\"erro\")","v":"00:00:00"},{"$f":"IFERROR(Gerar_Upload!F1338,\"erro\")","v":0},{"$f":"IFERROR(IF(Gerar_Upload!G1338<44,REPT(0,44-LEN(Gerar_Upload!G1338))&Gerar_Upload!G1338,Gerar_Upload!G1338),\"erro\")","v":"00000000000000000000000000000000000000000000"}]
[{"$f":"IFERROR(LEFT(Gerar_Upload!A1339,120),\"erro\")","v":""},{"$f":"IFERROR(SUBSTITUTE(SUBSTITUTE(SUBSTITUTE(Gerar_Upload!B1339,\".\",\"\"),\"-\",\"\"),\"/\",\"\"),\"erro\")","v":""},{"$f":"IFERROR(Gerar_Upload!C1339,\"erro\")","v":0},{"$f":"IFERROR(Gerar_Upload!D1339,\"erro\")","v":0},{"$f":"IFERROR(DATE(YEAR(Gerar_Upload!E1339),MONTH(Gerar_Upload!E1339),DAY(Gerar_Upload!E1339)),\"erro\")","v":"00:00:00"},{"$f":"IFERROR(Gerar_Upload!F1339,\"erro\")","v":0},{"$f":"IFERROR(IF(Gerar_Upload!G1339<44,REPT(0,44-LEN(Gerar_Upload!G1339))&Gerar_Upload!G1339,Gerar_Upload!G1339),\"erro\")","v":"00000000000000000000000000000000000000000000"}]
[{"$f":"IFERROR(LEFT(Gerar_Upload!A1340,120),\"erro\")","v":""},{"$f":"IFERROR(SUBSTITUTE(SUBSTITUTE(SUBSTITUTE(Gerar_Upload!B1340,\".\",\"\"),\"-\",\"\"),\"/\",\"\"),\"erro\")","v":""},{"$f":"IFERROR(Gerar_Upload!C1340,\"erro\")","v":0},{"$f":"IFERROR(Gerar_Upload!D1340,\"erro\")","v":0},{"$f":"IFERROR(DATE(YEAR(Gerar_Upload!E1340),MONTH(Gerar_Upload!E1340),DAY(Gerar_Upload!E1340)),\"erro\")","v":"00:00:00"},{"$f":"IFERROR(Gerar_Upload!F1340,\"erro\")","v":0},{"$f":"IFERROR(IF(Gerar_Upload!G1340<44,REPT(0,44-LEN(Gerar_Upload!G1340))&Gerar_Upload!G1340,Gerar_Upload!G1340),\"erro\")","v":"00000000000000000000000000000000000000000000"}]
[{"$f":"IFERROR(LEFT(Gerar_Upload!A1341,120),\"erro\")","v":""},{"$f":"IFERROR(SUBSTITUTE(SUBSTITUTE(SUBSTITUTE(Gerar_Upload!B1341,\".\",\"\"),\"-\",\"\"),\"/\",\"\"),\"erro\")","v":""},{"$f":"IFERROR(Gerar_Upload!C1341,\"erro\")","v":0},{"$f":"IFERROR(Gerar_Upload!D1341,\"erro\")","v":0},{"$f":"IFERROR(DATE(YEAR(Gerar_Upload!E1341),MONTH(Gerar_Upload!E1341),DAY(Gerar_Upload!E1341)),\"erro\")","v":"00:00:00"},{"$f":"IFERROR(Gerar_Upload!F1341,\"erro\")","v":0},{"$f":"IFERROR(IF(Gerar_Upload!G1341<44,REPT(0,44-LEN(Gerar_Upload!G1341))&Gerar_Upload!G1341,Gerar_Upload!G1341),\"erro\")","v":"00000000000000000000000000000000000000000000"}]
[{"$f":"IFERROR(LEFT(Gerar_Upload!A1342,120),\"erro\")","v":""},{"$f":"IFERROR(SUBSTITUTE(SUBSTITUTE(SUBSTITUTE(Gerar_Upload!B1342,\".\",\"\"),\"-\",\"\"),\"/\",\"\"),\"erro\")","v":""},{"$f":"IFERROR(Gerar_Upload!C1342,\"erro\")","v":0},{"$f":"IFERROR(Gerar_Upload!D1342,\"erro\")","v":0},{"$f":"IFERROR(DATE(YEAR(Gerar_Upload!E1342),MONTH(Gerar_Upload!E1342),DAY(Gerar_Upload!E1342)),\"erro\")","v":"00:00:00"},{"$f":"IFERROR(Gerar_Upload!F1342,\"erro\")","v":0},{"$f":"IFERROR(IF(Gerar_Upload!G1342<44,REPT(0,44-LEN(Gerar_Upload!G1342))&Gerar_Upload!G1342,Gerar_Upload!G1342),\"erro\")","v":"00000000000000000000000000000000000000000000"}]
[{"$f":"IFERROR(LEFT(Gerar_Upload!A1343,120),\"erro\")","v":""},{"$f":"IFERROR(SUBSTITUTE(SUBSTITUTE(SUBSTITUTE(Gerar_Upload!B1343,\".\",\"\"),\"-\",\"\"),\"/\",\"\"),\"erro\")","v":""},{"$f":"IFERROR(Gerar_Upload!C1343,\"erro\")","v":0},{"$f":"IFERROR(Gerar_Upload!D1343,\"erro\")","v":0},{"$f":"IFERROR(DATE(YEAR(Gerar_Upload!E1343),MONTH(Gerar_Upload!E1343),DAY(Gerar_Upload!E1343)),\"erro\")","v":"00:00:00"},{"$f":"IFERROR(Gerar_Upload!F1343,\"erro\")","v":0},{"$f":"IFERROR(IF(Gerar_Upload!G1343<44,REPT(0,44-LEN(Gerar_Upload!G1343))&Gerar_Upload!G1343,Gerar_Upload!G1343),\"erro\")","v":"00000000000000000000000000000000000000000000"}]
[{"$f":"IFERROR(LEFT(Gerar_Upload!A1344,120),\"erro\")","v":""},{"$f":"IFERROR(SUBSTITUTE(SUBSTITUTE(SUBSTITUTE(Gerar_Upload!B1344,\".\",\"\"),\"-\",\"\"),\"/\",\"\"),\"erro\")","v":""},{"$f":"IFERROR(Gerar_Upload!C1344,\"erro\")","v":0},{"$f":"IFERROR(Gerar_Upload!D1344,\"erro\")","v":0},{"$f":"IFERROR(DATE(YEAR(Gerar_Upload!E1344),MONTH(Gerar_Upload!E1344),DAY(Gerar_Upload!E1344)),\"erro\")","v":"00:00:00"},{"$f":"IFERROR(Gerar_Upload!F1344,\"erro\")","v":0},{"$f":"IFERROR(IF(Gerar_Upload!G1344<44,REPT(0,44-LEN(Gerar_Upload!G1344))&Gerar_Upload!G1344,Gerar_Upload!G1344),\"erro\")","v":"00000000000000000000000000000000000000000000"}]
[{"$f":"IFERROR(LEFT(Gerar_Upload!A1345,120),\"erro\")","v":""},{"$f":"IFERROR(SUBSTITUTE(SUBSTITUTE(SUBSTITUTE(Gerar_Upload!B1345,\".\",\"\"),\"-\",\"\"),\"/\",\"\"),\"erro\")","v":""},{"$f":"IFERROR(Gerar_Upload!C1345,\"erro\")","v":0},{"$f":"IFERROR(Gerar_Upload!D1345,\"erro\")","v":0},{"$f":"IFERROR(DATE(YEAR(Gerar_Upload!E1345),MONTH(Gerar_Upload!E1345),DAY(Gerar_Upload!E1345)),\"erro\")","v":"00:00:00"},{"$f":"IFERROR(Gerar_Upload!F1345,\"erro\")","v":0},{"$f":"IFERROR(IF(Gerar_Upload!G1345<44,REPT(0,44-LEN(Gerar_Upload!G1345))&Gerar_Upload!G1345,Gerar_Upload!G1345),\"erro\")","v":"00000000000000000000000000000000000000000000"}]
[{"$f":"IFERROR(LEFT(Gerar_Upload!A1346,120),\"erro\")","v":""},{"$f":"IFERROR(SUBSTITUTE(SUBSTITUTE(SUBSTITUTE(Gerar_Upload!B1346,\".\",\"\"),\"-\",\"\"),\"/\",\"\"),\"erro\")","v":""},{"$f":"IFERROR(Gerar_Upload!C1346,\"erro\")","v":0},{"$f":"IFERROR(Gerar_Upload!D1346,\"erro\")","v":0},{"$f":"IFERROR(DATE(YEAR(Gerar_Upload!E1346),MONTH(Gerar_Upload!E1346),DAY(Gerar_Upload!E1346)),\"erro\")","v":"00:00:00"},{"$f":"IFERROR(Gerar_Upload!F1346,\"erro\")","v":0},{"$f":"IFERROR(IF(Gerar_Upload!G1346<44,REPT(0,44-LEN(Gerar_Upload!G1346))&Gerar_Upload!G1346,Gerar_Upload!G1346),\"erro\")","v":"00000000000000000000000000000000000000000000"}]
[{"$f":"IFERROR(LEFT(Gerar_Upload!A1347,120),\"erro\")","v":""},{"$f":"IFERROR(SUBSTITUTE(SUBSTITUTE(SUBSTITUTE(Gerar_Upload!B1347,\".\",\"\"),\"-\",\"\"),\"/\",\"\"),\"erro\")","v":""},{"$f":"IFERROR(Gerar_Upload!C1347,\"erro\")","v":0},{"$f":"IFERROR(Gerar_Upload!D1347,\"erro\")","v":0},{"$f":"IFERROR(DATE(YEAR(Gerar_Upload!E1347),MONTH(Gerar_Upload!E1347),DAY(Gerar_Upload!E1347)),\"erro\")","v":"00:00:00"},{"$f":"IFERROR(Gerar_Upload!F1347,\"erro\")","v":0},{"$f":"IFERROR(IF(Gerar_Upload!G1347<44,REPT(0,44-LEN(Gerar_Upload!G1347))&Gerar_Upload!G1347,Gerar_Upload!G1347),\"erro\")","v":"00000000000000000000000000000000000000000000"}]
[{"$f":"IFERROR(LEFT(Gerar_Upload!A1348,120),\"erro\")","v":""},{"$f":"IFERROR(SUBSTITUTE(SUBSTITUTE(SUBSTITUTE(Gerar_Upload!B1348,\".\",\"\"),\"-\",\"\"),\"/\",\"\"),\"erro\")","v":""},{"$f":"IFERROR(Gerar_Upload!C1348,\"erro\")","v":0},{"$f":"IFERROR(Gerar_Upload!D1348,\"erro\")","v":0},{"$f":"IFERROR(DATE(YEAR(Gerar_Upload!E1348),MONTH(Gerar_Upload!E1348),DAY(Gerar_Upload!E1348)),\"erro\")","v":"00:00:00"},{"$f":"IFERROR(Gerar_Upload!F1348,\"erro\")","v":0},{"$f":"IFERROR(IF(Gerar_Upload!G1348<44,REPT(0,44-LEN(Gerar_Upload!G1348))&Gerar_Upload!G1348,Gerar_Upload!G1348),\"erro\")","v":"00000000000000000000000000000000000000000000"}]
[{"$f":"IFERROR(LEFT(Gerar_Upload!A1349,120),\"erro\")","v":""},{"$f":"IFERROR(SUBSTITUTE(SUBSTITUTE(SUBSTITUTE(Gerar_Upload!B1349,\".\",\"\"),\"-\",\"\"),\"/\",\"\"),\"erro\")","v":""},{"$f":"IFERROR(Gerar_Upload!C1349,\"erro\")","v":0},{"$f":"IFERROR(Gerar_Upload!D1349,\"erro\")","v":0},{"$f":"IFERROR(DATE(YEAR(Gerar_Upload!E1349),MONTH(Gerar_Upload!E1349),DAY(Gerar_Upload!E1349)),\"erro\")","v":"00:00:00"},{"$f":"IFERROR(Gerar_Upload!F1349,\"erro\")","v":0},{"$f":"IFERROR(IF(Gerar_Upload!G1349<44,REPT(0,44-LEN(Gerar_Upload!G1349))&Gerar_Upload!G1349,Gerar_Upload!G1349),\"erro\")","v":"00000000000000000000000000000000000000000000"}]
[{"$f":"IFERROR(LEFT(Gerar_Upload!A1350,120),\"erro\")","v":""},{"$f":"IFERROR(SUBSTITUTE(SUBSTITUTE(SUBSTITUTE(Gerar_Upload!B1350,\".\",\"\"),\"-\",\"\"),\"/\",\"\"),\"erro\")","v":""},{"$f":"IFERROR(Gerar_Upload!C1350,\"erro\")","v":0},{"$f":"IFERROR(Gerar_Upload!D1350,\"erro\")","v":0},{"$f":"IFERROR(DATE(YEAR(Gerar_Upload!E1350),MONTH(Gerar_Upload!E1350),DAY(Gerar_Upload!E1350)),\"erro\")","v":"00:00:00"},{"$f":"IFERROR(Gerar_Upload!F1350,\"erro\")","v":0},{"$f":"IFERROR(IF(Gerar_Upload!G1350<44,REPT(0,44-LEN(Gerar_Upload!G1350))&Gerar_Upload!G1350,Gerar_Upload!G1350),\"erro\")","v":"00000000000000000000000000000000000000000000"}]
[{"$f":"IFERROR(LEFT(Gerar_Upload!A1351,120),\"erro\")","v":""},{"$f":"IFERROR(SUBSTITUTE(SUBSTITUTE(SUBSTITUTE(Gerar_Upload!B1351,\".\",\"\"),\"-\",\"\"),\"/\",\"\"),\"erro\")","v":""},{"$f":"IFERROR(Gerar_Upload!C1351,\"erro\")","v":0},{"$f":"IFERROR(Gerar_Upload!D1351,\"erro\")","v":0},{"$f":"IFERROR(DATE(YEAR(Gerar_Upload!E1351),MONTH(Gerar_Upload!E1351),DAY(Gerar_Upload!E1351)),\"erro\")","v":"00:00:00"},{"$f":"IFERROR(Gerar_Upload!F1351,\"erro\")","v":0},{"$f":"IFERROR(IF(Gerar_Upload!G1351<44,REPT(0,44-LEN(Gerar_Upload!G1351))&Gerar_Upload!G1351,Gerar_Upload!G1351),\"erro\")","v":"00000000000000000000000000000000000000000000"}]
[{"$f":"IFERROR(LEFT(Gerar_Upload!A1352,120),\"erro\")","v":""},{"$f":"IFERROR(SUBSTITUTE(SUBSTITUTE(SUBSTITUTE(Gerar_Upload!B1352,\".\",\"\"),\"-\",\"\"),\"/\",\"\"),\"erro\")","v":""},{"$f":"IFERROR(Gerar_Upload!C1352,\"erro\")","v":0},{"$f":"IFERROR(Gerar_Upload!D1352,\"erro\")","v":0},{"$f":"IFERROR(DATE(YEAR(Gerar_Upload!E1352),MONTH(Gerar_Upload!E1352),DAY(Gerar_Upload!E1352)),\"erro\")","v":"00:00:00"},{"$f":"IFERROR(Gerar_Upload!F1352,\"erro\")","v":0},{"$f":"IFERROR(IF(Gerar_Upload!G1352<44,REPT(0,44-LEN(Gerar_Upload!G1352))&Gerar_Upload!G1352,Gerar_Upload!G1352),\"erro\")","v":"00000000000000000000000000000000000000000000"}]
[{"$f":"IFERROR(LEFT(Gerar_Upload!A1353,120),\"erro\")","v":""},{"$f":"IFERROR(SUBSTITUTE(SUBSTITUTE(SUBSTITUTE(Gerar_Upload!B1353,\".\",\"\"),\"-\",\"\"),\"/\",\"\"),\"erro\")","v":""},{"$f":"IFERROR(Gerar_Upload!C1353,\"erro\")","v":0},{"$f":"IFERROR(Gerar_Upload!D1353,\"erro\")","v":0},{"$f":"IFERROR(DATE(YEAR(Gerar_Upload!E1353),MONTH(Gerar_Upload!E1353),DAY(Gerar_Upload!E1353)),\"erro\")","v":"00:00:00"},{"$f":"IFERROR(Gerar_Upload!F1353,\"erro\")","v":0},{"$f":"IFERROR(IF(Gerar_Upload!G1353<44,REPT(0,44-LEN(Gerar_Upload!G1353))&Gerar_Upload!G1353,Gerar_Upload!G1353),\"erro\")","v":"00000000000000000000000000000000000000000000"}]
[{"$f":"IFERROR(LEFT(Gerar_Upload!A1354,120),\"erro\")","v":""},{"$f":"IFERROR(SUBSTITUTE(SUBSTITUTE(SUBSTITUTE(Gerar_Upload!B1354,\".\",\"\"),\"-\",\"\"),\"/\",\"\"),\"erro\")","v":""},{"$f":"IFERROR(Gerar_Upload!C1354,\"erro\")","v":0},{"$f":"IFERROR(Gerar_Upload!D1354,\"erro\")","v":0},{"$f":"IFERROR(DATE(YEAR(Gerar_Upload!E1354),MONTH(Gerar_Upload!E1354),DAY(Gerar_Upload!E1354)),\"erro\")","v":"00:00:00"},{"$f":"IFERROR(Gerar_Upload!F1354,\"erro\")","v":0},{"$f":"IFERROR(IF(Gerar_Upload!G1354<44,REPT(0,44-LEN(Gerar_Upload!G1354))&Gerar_Upload!G1354,Gerar_Upload!G1354),\"erro\")","v":"00000000000000000000000000000000000000000000"}]
[{"$f":"IFERROR(LEFT(Gerar_Upload!A1355,120),\"erro\")","v":""},{"$f":"IFERROR(SUBSTITUTE(SUBSTITUTE(SUBSTITUTE(Gerar_Upload!B1355,\".\",\"\"),\"-\",\"\"),\"/\",\"\"),\"erro\")","v":""},{"$f":"IFERROR(Gerar_Upload!C1355,\"erro\")","v":0},{"$f":"IFERROR(Gerar_Upload!D1355,\"erro\")","v":0},{"$f":"IFERROR(DATE(YEAR(Gerar_Upload!E1355),MONTH(Gerar_Upload!E1355),DAY(Gerar_Upload!E1355)),\"erro\")","v":"00:00:00"},{"$f":"IFERROR(Gerar_Upload!F1355,\"erro\")","v":0},{"$f":"IFERROR(IF(Gerar_Upload!G1355<44,REPT(0,44-LEN(Gerar_Upload!G1355))&Gerar_Upload!G1355,Gerar_Upload!G1355),\"erro\")","v":"00000000000000000000000000000000000000000000"}]
[{"$f":"IFERROR(LEFT(Gerar_Upload!A1356,120),\"erro\")","v":""},{"$f":"IFERROR(SUBSTITUTE(SUBSTITUTE(SUBSTITUTE(Gerar_Upload!B1356,\".\",\"\"),\"-\",\"\"),\"/\",\"\"),\"erro\")","v":""},{"$f":"IFERROR(Gerar_Upload!C1356,\"erro\")","v":0},{"$f":"IFERROR(Gerar_Upload!D1356,\"erro\")","v":0},{"$f":"IFERROR(DATE(YEAR(Gerar_Upload!E1356),MONTH(Gerar_Upload!E1356),DAY(Gerar_Upload!E1356)),\"erro\")","v":"00:00:00"},{"$f":"IFERROR(Gerar_Upload!F1356,\"erro\")","v":0},{"$f":"IFERROR(IF(Gerar_Upload!G1356<44,REPT(0,44-LEN(Gerar_Upload!G1356))&Gerar_Upload!G1356,Gerar_Upload!G1356),\"erro\")","v":"00000000000000000000000000000000000000000000"}]
[{"$f":"IFERROR(LEFT(Gerar_Upload!A1357,120),\"erro\")","v":""},{"$f":"IFERROR(SUBSTITUTE(SUBSTITUTE(SUBSTITUTE(Gerar_Upload!B1357,\".\",\"\"),\"-\",\"\"),\"/\",\"\"),\"erro\")","v":""},{"$f":"IFERROR(Gerar_Upload!C1357,\"erro\")","v":0},{"$f":"IFERROR(Gerar_Upload!D1357,\"erro\")","v":0},{"$f":"IFERROR(DATE(YEAR(Gerar_Upload!E1357),MONTH(Gerar_Upload!E1357),DAY(Gerar_Upload!E1357)),\"erro\")","v":"00:00:00"},{"$f":"IFERROR(Gerar_Upload!F1357,\"erro\")","v":0},{"$f":"IFERROR(IF(Gerar_Upload!G1357<44,REPT(0,44-LEN(Gerar_Upload!G1357))&Gerar_Upload!G1357,Gerar_Upload!G1357),\"erro\")","v":"00000000000000000000000000000000000000000000"}]
[{"$f":"IFERROR(LEFT(Gerar_Upload!A1358,120),\"erro\")","v":""},{"$f":"IFERROR(SUBSTITUTE(SUBSTITUTE(SUBSTITUTE(Gerar_Upload!B1358,\".\",\"\"),\"-\",\"\"),\"/\",\"\"),\"erro\")","v":""},{"$f":"IFERROR(Gerar_Upload!C1358,\"erro\")","v":0},{"$f":"IFERROR(Gerar_Upload!D1358,\"erro\")","v":0},{"$f":"IFERROR(DATE(YEAR(Gerar_Upload!E1358),MONTH(Gerar_Upload!E1358),DAY(Gerar_Upload!E1358)),\"erro\")","v":"00:00:00"},{"$f":"IFERROR(Gerar_Upload!F1358,\"erro\")","v":0},{"$f":"IFERROR(IF(Gerar_Upload!G1358<44,REPT(0,44-LEN(Gerar_Upload!G1358))&Gerar_Upload!G1358,Gerar_Upload!G1358),\"erro\")","v":"00000000000000000000000000000000000000000000"}]
[{"$f":"IFERROR(LEFT(Gerar_Upload!A1359,120),\"erro\")","v":""},{"$f":"IFERROR(SUBSTITUTE(SUBSTITUTE(SUBSTITUTE(Gerar_Upload!B1359,\".\",\"\"),\"-\",\"\"),\"/\",\"\"),\"erro\")","v":""},{"$f":"IFERROR(Gerar_Upload!C1359,\"erro\")","v":0},{"$f":"IFERROR(Gerar_Upload!D1359,\"erro\")","v":0},{"$f":"IFERROR(DATE(YEAR(Gerar_Upload!E1359),MONTH(Gerar_Upload!E1359),DAY(Gerar_Upload!E1359)),\"erro\")","v":"00:00:00"},{"$f":"IFERROR(Gerar_Upload!F1359,\"erro\")","v":0},{"$f":"IFERROR(IF(Gerar_Upload!G1359<44,REPT(0,44-LEN(Gerar_Upload!G1359))&Gerar_Upload!G1359,Gerar_Upload!G1359),\"erro\")","v":"00000000000000000000000000000000000000000000"}]
[{"$f":"IFERROR(LEFT(Gerar_Upload!A1360,120),\"erro\")","v":""},{"$f":"IFERROR(SUBSTITUTE(SUBSTITUTE(SUBSTITUTE(Gerar_Upload!B1360,\".\",\"\"),\"-\",\"\"),\"/\",\"\"),\"erro\")","v":""},{"$f":"IFERROR(Gerar_Upload!C1360,\"erro\")","v":0},{"$f":"IFERROR(Gerar_Upload!D1360,\"erro\")","v":0},{"$f":"IFERROR(DATE(YEAR(Gerar_Upload!E1360),MONTH(Gerar_Upload!E1360),DAY(Gerar_Upload!E1360)),\"erro\")","v":"00:00:00"},{"$f":"IFERROR(Gerar_Upload!F1360,\"erro\")","v":0},{"$f":"IFERROR(IF(Gerar_Upload!G1360<44,REPT(0,44-LEN(Gerar_Upload!G1360))&Gerar_Upload!G1360,Gerar_Upload!G1360),\"erro\")","v":"00000000000000000000000000000000000000000000"}]
[{"$f":"IFERROR(LEFT(Gerar_Upload!A1361,120),\"erro\")","v":""},{"$f":"IFERROR(SUBSTITUTE(SUBSTITUTE(SUBSTITUTE(Gerar_Upload!B1361,\".\",\"\"),\"-\",\"\"),\"/\",\"\"),\"erro\")","v":""},{"$f":"IFERROR(Gerar_Upload!C1361,\"erro\")","v":0},{"$f":"IFERROR(Gerar_Upload!D1361,\"erro\")","v":0},{"$f":"IFERROR(DATE(YEAR(Gerar_Upload!E1361),MONTH(Gerar_Upload!E1361),DAY(Gerar_Upload!E1361)),\"erro\")","v":"00:00:00"},{"$f":"IFERROR(Gerar_Upload!F1361,\"erro\")","v":0},{"$f":"IFERROR(IF(Gerar_Upload!G1361<44,REPT(0,44-LEN(Gerar_Upload!G1361))&Gerar_Upload!G1361,Gerar_Upload!G1361),\"erro\")","v":"00000000000000000000000000000000000000000000"}]
[{"$f":"IFERROR(LEFT(Gerar_Upload!A1362,120),\"erro\")","v":""},{"$f":"IFERROR(SUBSTITUTE(SUBSTITUTE(SUBSTITUTE(Gerar_Upload!B1362,\".\",\"\"),\"-\",\"\"),\"/\",\"\"),\"erro\")","v":""},{"$f":"IFERROR(Gerar_Upload!C1362,\"erro\")","v":0},{"$f":"IFERROR(Gerar_Upload!D1362,\"erro\")","v":0},{"$f":"IFERROR(DATE(YEAR(Gerar_Upload!E1362),MONTH(Gerar_Upload!E1362),DAY(Gerar_Upload!E1362)),\"erro\")","v":"00:00:00"},{"$f":"IFERROR(Gerar_Upload!F1362,\"erro\")","v":0},{"$f":"IFERROR(IF(Gerar_Upload!G1362<44,REPT(0,44-LEN(Gerar_Upload!G1362))&Gerar_Upload!G1362,Gerar_Upload!G1362),\"erro\")","v":"00000000000000000000000000000000000000000000"}]
[{"$f":"IFERROR(LEFT(Gerar_Upload!A1363,120),\"erro\")","v":""},{"$f":"IFERROR(SUBSTITUTE(SUBSTITUTE(SUBSTITUTE(Gerar_Upload!B1363,\".\",\"\"),\"-\",\"\"),\"/\",\"\"),\"erro\")","v":""},{"$f":"IFERROR(Gerar_Upload!C1363,\"erro\")","v":0},{"$f":"IFERROR(Gerar_Upload!D1363,\"erro\")","v":0},{"$f":"IFERROR(DATE(YEAR(Gerar_Upload!E1363),MONTH(Gerar_Upload!E1363),DAY(Gerar_Upload!E1363)),\"erro\")","v":"00:00:00"},{"$f":"IFERROR(Gerar_Upload!F1363,\"erro\")","v":0},{"$f":"IFERROR(IF(Gerar_Upload!G1363<44,REPT(0,44-LEN(Gerar_Upload!G1363))&Gerar_Upload!G1363,Gerar_Upload!G1363),\"erro\")","v":"00000000000000000000000000000000000000000000"}]
[{"$f":"IFERROR(LEFT(Gerar_Upload!A1364,120),\"erro\")","v":""},{"$f":"IFERROR(SUBSTITUTE(SUBSTITUTE(SUBSTITUTE(Gerar_Upload!B1364,\".\",\"\"),\"-\",\"\"),\"/\",\"\"),\"erro\")","v":""},{"$f":"IFERROR(Gerar_Upload!C1364,\"erro\")","v":0},{"$f":"IFERROR(Gerar_Upload!D1364,\"erro\")","v":0},{"$f":"IFERROR(DATE(YEAR(Gerar_Upload!E1364),MONTH(Gerar_Upload!E1364),DAY(Gerar_Upload!E1364)),\"erro\")","v":"00:00:00"},{"$f":"IFERROR(Gerar_Upload!F1364,\"erro\")","v":0},{"$f":"IFERROR(IF(Gerar_Upload!G1364<44,REPT(0,44-LEN(Gerar_Upload!G1364))&Gerar_Upload!G1364,Gerar_Upload!G1364),\"erro\")","v":"00000000000000000000000000000000000000000000"}]
[{"$f":"IFERROR(LEFT(Gerar_Upload!A1365,120),\"erro\")","v":""},{"$f":"IFERROR(SUBSTITUTE(SUBSTITUTE(SUBSTITUTE(Gerar_Upload!B1365,\".\",\"\"),\"-\",\"\"),\"/\",\"\"),\"erro\")","v":""},{"$f":"IFERROR(Gerar_Upload!C1365,\"erro\")","v":0},{"$f":"IFERROR(Gerar_Upload!D1365,\"erro\")","v":0},{"$f":"IFERROR(DATE(YEAR(Gerar_Upload!E1365),MONTH(Gerar_Upload!E1365),DAY(Gerar_Upload!E1365)),\"erro\")","v":"00:00:00"},{"$f":"IFERROR(Gerar_Upload!F1365,\"erro\")","v":0},{"$f":"IFERROR(IF(Gerar_Upload!G1365<44,REPT(0,44-LEN(Gerar_Upload!G1365))&Gerar_Upload!G1365,Gerar_Upload!G1365),\"erro\")","v":"00000000000000000000000000000000000000000000"}]
[{"$f":"IFERROR(LEFT(Gerar_Upload!A1366,120),\"erro\")","v":""},{"$f":"IFERROR(SUBSTITUTE(SUBSTITUTE(SUBSTITUTE(Gerar_Upload!B1366,\".\",\"\"),\"-\",\"\"),\"/\",\"\"),\"erro\")","v":""},{"$f":"IFERROR(Gerar_Upload!C1366,\"erro\")","v":0},{"$f":"IFERROR(Gerar_Upload!D1366,\"erro\")","v":0},{"$f":"IFERROR(DATE(YEAR(Gerar_Upload!E1366),MONTH(Gerar_Upload!E1366),DAY(Gerar_Upload!E1366)),\"erro\")","v":"00:00:00"},{"$f":"IFERROR(Gerar_Upload!F1366,\"erro\")","v":0},{"$f":"IFERROR(IF(Gerar_Upload!G1366<44,REPT(0,44-LEN(Gerar_Upload!G1366))&Gerar_Upload!G1366,Gerar_Upload!G1366),\"erro\")","v":"00000000000000000000000000000000000000000000"}]
[{"$f":"IFERROR(LEFT(Gerar_Upload!A1367,120),\"erro\")","v":""},{"$f":"IFERROR(SUBSTITUTE(SUBSTITUTE(SUBSTITUTE(Gerar_Upload!B1367,\".\",\"\"),\"-\",\"\"),\"/\",\"\"),\"erro\")","v":""},{"$f":"IFERROR(Gerar_Upload!C1367,\"erro\")","v":0},{"$f":"IFERROR(Gerar_Upload!D1367,\"erro\")","v":0},{"$f":"IFERROR(DATE(YEAR(Gerar_Upload!E1367),MONTH(Gerar_Upload!E1367),DAY(Gerar_Upload!E1367)),\"erro\")","v":"00:00:00"},{"$f":"IFERROR(Gerar_Upload!F1367,\"erro\")","v":0},{"$f":"IFERROR(IF(Gerar_Upload!G1367<44,REPT(0,44-LEN(Gerar_Upload!G1367))&Gerar_Upload!G1367,Gerar_Upload!G1367),\"erro\")","v":"00000000000000000000000000000000000000000000"}]
[{"$f":"IFERROR(LEFT(Gerar_Upload!A1368,120),\"erro\")","v":""},{"$f":"IFERROR(SUBSTITUTE(SUBSTITUTE(SUBSTITUTE(Gerar_Upload!B1368,\".\",\"\"),\"-\",\"\"),\"/\",\"\"),\"erro\")","v":""},{"$f":"IFERROR(Gerar_Upload!C1368,\"erro\")","v":0},{"$f":"IFERROR(Gerar_Upload!D1368,\"erro\")","v":0},{"$f":"IFERROR(DATE(YEAR(Gerar_Upload!E1368),MONTH(Gerar_Upload!E1368),DAY(Gerar_Upload!E1368)),\"erro\")","v":"00:00:00"},{"$f":"IFERROR(Gerar_Upload!F1368,\"erro\")","v":0},{"$f":"IFERROR(IF(Gerar_Upload!G1368<44,REPT(0,44-LEN(Gerar_Upload!G1368))&Gerar_Upload!G1368,Gerar_Upload!G1368),\"erro\")","v":"00000000000000000000000000000000000000000000"}]
[{"$f":"IFERROR(LEFT(Gerar_Upload!A1369,120),\"erro\")","v":""},{"$f":"IFERROR(SUBSTITUTE(SUBSTITUTE(SUBSTITUTE(Gerar_Upload!B1369,\".\",\"\"),\"-\",\"\"),\"/\",\"\"),\"erro\")","v":""},{"$f":"IFERROR(Gerar_Upload!C1369,\"erro\")","v":0},{"$f":"IFERROR(Gerar_Upload!D1369,\"erro\")","v":0},{"$f":"IFERROR(DATE(YEAR(Gerar_Upload!E1369),MONTH(Gerar_Upload!E1369),DAY(Gerar_Upload!E1369)),\"erro\")","v":"00:00:00"},{"$f":"IFERROR(Gerar_Upload!F1369,\"erro\")","v":0},{"$f":"IFERROR(IF(Gerar_Upload!G1369<44,REPT(0,44-LEN(Gerar_Upload!G1369))&Gerar_Upload!G1369,Gerar_Upload!G1369),\"erro\")","v":"00000000000000000000000000000000000000000000"}]
[{"$f":"IFERROR(LEFT(Gerar_Upload!A1370,120),\"erro\")","v":""},{"$f":"IFERROR(SUBSTITUTE(SUBSTITUTE(SUBSTITUTE(Gerar_Upload!B1370,\".\",\"\"),\"-\",\"\"),\"/\",\"\"),\"erro\")","v":""},{"$f":"IFERROR(Gerar_Upload!C1370,\"erro\")","v":0},{"$f":"IFERROR(Gerar_Upload!D1370,\"erro\")","v":0},{"$f":"IFERROR(DATE(YEAR(Gerar_Upload!E1370),MONTH(Gerar_Upload!E1370),DAY(Gerar_Upload!E1370)),\"erro\")","v":"00:00:00"},{"$f":"IFERROR(Gerar_Upload!F1370,\"erro\")","v":0},{"$f":"IFERROR(IF(Gerar_Upload!G1370<44,REPT(0,44-LEN(Gerar_Upload!G1370))&Gerar_Upload!G1370,Gerar_Upload!G1370),\"erro\")","v":"00000000000000000000000000000000000000000000"}]
[{"$f":"IFERROR(LEFT(Gerar_Upload!A1371,120),\"erro\")","v":""},{"$f":"IFERROR(SUBSTITUTE(SUBSTITUTE(SUBSTITUTE(Gerar_Upload!B1371,\".\",\"\"),\"-\",\"\"),\"/\",\"\"),\"erro\")","v":""},{"$f":"IFERROR(Gerar_Upload!C1371,\"erro\")","v":0},{"$f":"IFERROR(Gerar_Upload!D1371,\"erro\")","v":0},{"$f":"IFERROR(DATE(YEAR(Gerar_Upload!E1371),MONTH(Gerar_Upload!E1371),DAY(Gerar_Upload!E1371)),\"erro\")","v":"00:00:00"},{"$f":"IFERROR(Gerar_Upload!F1371,\"erro\")","v":0},{"$f":"IFERROR(IF(Gerar_Upload!G1371<44,REPT(0,44-LEN(Gerar_Upload!G1371))&Gerar_Upload!G1371,Gerar_Upload!G1371),\"erro\")","v":"00000000000000000000000000000000000000000000"}]
[{"$f":"IFERROR(LEFT(Gerar_Upload!A1372,120),\"erro\")","v":""},{"$f":"IFERROR(SUBSTITUTE(SUBSTITUTE(SUBSTITUTE(Gerar_Upload!B1372,\".\",\"\"),\"-\",\"\"),\"/\",\"\"),\"erro\")","v":""},{"$f":"IFERROR(Gerar_Upload!C1372,\"erro\")","v":0},{"$f":"IFERROR(Gerar_Upload!D1372,\"erro\")","v":0},{"$f":"IFERROR(DATE(YEAR(Gerar_Upload!E1372),MONTH(Gerar_Upload!E1372),DAY(Gerar_Upload!E1372)),\"erro\")","v":"00:00:00"},{"$f":"IFERROR(Gerar_Upload!F1372,\"erro\")","v":0},{"$f":"IFERROR(IF(Gerar_Upload!G1372<44,REPT(0,44-LEN(Gerar_Upload!G1372))&Gerar_Upload!G1372,Gerar_Upload!G1372),\"erro\")","v":"00000000000000000000000000000000000000000000"}]
[{"$f":"IFERROR(LEFT(Gerar_Upload!A1373,120),\"erro\")","v":""},{"$f":"IFERROR(SUBSTITUTE(SUBSTITUTE(SUBSTITUTE(Gerar_Upload!B1373,\".\",\"\"),\"-\",\"\"),\"/\",\"\"),\"erro\")","v":""},{"$f":"IFERROR(Gerar_Upload!C1373,\"erro\")","v":0},{"$f":"IFERROR(Gerar_Upload!D1373,\"erro\")","v":0},{"$f":"IFERROR(DATE(YEAR(Gerar_Upload!E1373),MONTH(Gerar_Upload!E1373),DAY(Gerar_Upload!E1373)),\"erro\")","v":"00:00:00"},{"$f":"IFERROR(Gerar_Upload!F1373,\"erro\")","v":0},{"$f":"IFERROR(IF(Gerar_Upload!G1373<44,REPT(0,44-LEN(Gerar_Upload!G1373))&Gerar_Upload!G1373,Gerar_Upload!G1373),\"erro\")","v":"00000000000000000000000000000000000000000000"}]
[{"$f":"IFERROR(LEFT(Gerar_Upload!A1374,120),\"erro\")","v":""},{"$f":"IFERROR(SUBSTITUTE(SUBSTITUTE(SUBSTITUTE(Gerar_Upload!B1374,\".\",\"\"),\"-\",\"\"),\"/\",\"\"),\"erro\")","v":""},{"$f":"IFERROR(Gerar_Upload!C1374,\"erro\")","v":0},{"$f":"IFERROR(Gerar_Upload!D1374,\"erro\")","v":0},{"$f":"IFERROR(DATE(YEAR(Gerar_Upload!E1374),MONTH(Gerar_Upload!E1374),DAY(Gerar_Upload!E1374)),\"erro\")","v":"00:00:00"},{"$f":"IFERROR(Gerar_Upload!F1374,\"erro\")","v":0},{"$f":"IFERROR(IF(Gerar_Upload!G1374<44,REPT(0,44-LEN(Gerar_Upload!G1374))&Gerar_Upload!G1374,Gerar_Upload!G1374),\"erro\")","v":"00000000000000000000000000000000000000000000"}]
[{"$f":"IFERROR(LEFT(Gerar_Upload!A1375,120),\"erro\")","v":""},{"$f":"IFERROR(SUBSTITUTE(SUBSTITUTE(SUBSTITUTE(Gerar_Upload!B1375,\".\",\"\"),\"-\",\"\"),\"/\",\"\"),\"erro\")","v":""},{"$f":"IFERROR(Gerar_Upload!C1375,\"erro\")","v":0},{"$f":"IFERROR(Gerar_Upload!D1375,\"erro\")","v":0},{"$f":"IFERROR(DATE(YEAR(Gerar_Upload!E1375),MONTH(Gerar_Upload!E1375),DAY(Gerar_Upload!E1375)),\"erro\")","v":"00:00:00"},{"$f":"IFERROR(Gerar_Upload!F1375,\"erro\")","v":0},{"$f":"IFERROR(IF(Gerar_Upload!G1375<44,REPT(0,44-LEN(Gerar_Upload!G1375))&Gerar_Upload!G1375,Gerar_Upload!G1375),\"erro\")","v":"00000000000000000000000000000000000000000000"}]
[{"$f":"IFERROR(LEFT(Gerar_Upload!A1376,120),\"erro\")","v":""},{"$f":"IFERROR(SUBSTITUTE(SUBSTITUTE(SUBSTITUTE(Gerar_Upload!B1376,\".\",\"\"),\"-\",\"\"),\"/\",\"\"),\"erro\")","v":""},{"$f":"IFERROR(Gerar_Upload!C1376,\"erro\")","v":0},{"$f":"IFERROR(Gerar_Upload!D1376,\"erro\")","v":0},{"$f":"IFERROR(DATE(YEAR(Gerar_Upload!E1376),MONTH(Gerar_Upload!E1376),DAY(Gerar_Upload!E1376)),\"erro\")","v":"00:00:00"},{"$f":"IFERROR(Gerar_Upload!F1376,\"erro\")","v":0},{"$f":"IFERROR(IF(Gerar_Upload!G1376<44,REPT(0,44-LEN(Gerar_Upload!G1376))&Gerar_Upload!G1376,Gerar_Upload!G1376),\"erro\")","v":"00000000000000000000000000000000000000000000"}]
[{"$f":"IFERROR(LEFT(Gerar_Upload!A1377,120),\"erro\")","v":""},{"$f":"IFERROR(SUBSTITUTE(SUBSTITUTE(SUBSTITUTE(Gerar_Upload!B1377,\".\",\"\"),\"-\",\"\"),\"/\",\"\"),\"erro\")","v":""},{"$f":"IFERROR(Gerar_Upload!C1377,\"erro\")","v":0},{"$f":"IFERROR(Gerar_Upload!D1377,\"erro\")","v":0},{"$f":"IFERROR(DATE(YEAR(Gerar_Upload!E1377),MONTH(Gerar_Upload!E1377),DAY(Gerar_Upload!E1377)),\"erro\")","v":"00:00:00"},{"$f":"IFERROR(Gerar_Upload!F1377,\"erro\")","v":0},{"$f":"IFERROR(IF(Gerar_Upload!G1377<44,REPT(0,44-LEN(Gerar_Upload!G1377))&Gerar_Upload!G1377,Gerar_Upload!G1377),\"erro\")","v":"00000000000000000000000000000000000000000000"}]
[{"$f":"IFERROR(LEFT(Gerar_Upload!A1378,120),\"erro\")","v":""},{"$f":"IFERROR(SUBSTITUTE(SUBSTITUTE(SUBSTITUTE(Gerar_Upload!B1378,\".\",\"\"),\"-\",\"\"),\"/\",\"\"),\"erro\")","v":""},{"$f":"IFERROR(Gerar_Upload!C1378,\"erro\")","v":0},{"$f":"IFERROR(Gerar_Upload!D1378,\"erro\")","v":0},{"$f":"IFERROR(DATE(YEAR(Gerar_Upload!E1378),MONTH(Gerar_Upload!E1378),DAY(Gerar_Upload!E1378)),\"erro\")","v":"00:00:00"},{"$f":"IFERROR(Gerar_Upload!F1378,\"erro\")","v":0},{"$f":"IFERROR(IF(Gerar_Upload!G1378<44,REPT(0,44-LEN(Gerar_Upload!G1378))&Gerar_Upload!G1378,Gerar_Upload!G1378),\"erro\")","v":"00000000000000000000000000000000000000000000"}]
[{"$f":"IFERROR(LEFT(Gerar_Upload!A1379,120),\"erro\")","v":""},{"$f":"IFERROR(SUBSTITUTE(SUBSTITUTE(SUBSTITUTE(Gerar_Upload!B1379,\".\",\"\"),\"-\",\"\"),\"/\",\"\"),\"erro\")","v":""},{"$f":"IFERROR(Gerar_Upload!C1379,\"erro\")","v":0},{"$f":"IFERROR(Gerar_Upload!D1379,\"erro\")","v":0},{"$f":"IFERROR(DATE(YEAR(Gerar_Upload!E1379),MONTH(Gerar_Upload!E1379),DAY(Gerar_Upload!E1379)),\"erro\")","v":"00:00:00"},{"$f":"IFERROR(Gerar_Upload!F1379,\"erro\")","v":0},{"$f":"IFERROR(IF(Gerar_Upload!G1379<44,REPT(0,44-LEN(Gerar_Upload!G1379))&Gerar_Upload!G1379,Gerar_Upload!G1379),\"erro\")","v":"00000000000000000000000000000000000000000000"}]
[{"$f":"IFERROR(LEFT(Gerar_Upload!A1380,120),\"erro\")","v":""},{"$f":"IFERROR(SUBSTITUTE(SUBSTITUTE(SUBSTITUTE(Gerar_Upload!B1380,\".\",\"\"),\"-\",\"\"),\"/\",\"\"),\"erro\")","v":""},{"$f":"IFERROR(Gerar_Upload!C1380,\"erro\")","v":0},{"$f":"IFERROR(Gerar_Upload!D1380,\"erro\")","v":0},{"$f":"IFERROR(DATE(YEAR(Gerar_Upload!E1380),MONTH(Gerar_Upload!E1380),DAY(Gerar_Upload!E1380)),\"erro\")","v":"00:00:00"},{"$f":"IFERROR(Gerar_Upload!F1380,\"erro\")","v":0},{"$f":"IFERROR(IF(Gerar_Upload!G1380<44,REPT(0,44-LEN(Gerar_Upload!G1380))&Gerar_Upload!G1380,Gerar_Upload!G1380),\"erro\")","v":"00000000000000000000000000000000000000000000"}]
[{"$f":"IFERROR(LEFT(Gerar_Upload!A1381,120),\"erro\")","v":""},{"$f":"IFERROR(SUBSTITUTE(SUBSTITUTE(SUBSTITUTE(Gerar_Upload!B1381,\".\",\"\"),\"-\",\"\"),\"/\",\"\"),\"erro\")","v":""},{"$f":"IFERROR(Gerar_Upload!C1381,\"erro\")","v":0},{"$f":"IFERROR(Gerar_Upload!D1381,\"erro\")","v":0},{"$f":"IFERROR(DATE(YEAR(Gerar_Upload!E1381),MONTH(Gerar_Upload!E1381),DAY(Gerar_Upload!E1381)),\"erro\")","v":"00:00:00"},{"$f":"IFERROR(Gerar_Upload!F1381,\"erro\")","v":0},{"$f":"IFERROR(IF(Gerar_Upload!G1381<44,REPT(0,44-LEN(Gerar_Upload!G1381))&Gerar_Upload!G1381,Gerar_Upload!G1381),\"erro\")","v":"00000000000000000000000000000000000000000000"}]
[{"$f":"IFERROR(LEFT(Gerar_Upload!A1382,120),\"erro\")","v":""},{"$f":"IFERROR(SUBSTITUTE(SUBSTITUTE(SUBSTITUTE(Gerar_Upload!B1382,\".\",\"\"),\"-\",\"\"),\"/\",\"\"),\"erro\")","v":""},{"$f":"IFERROR(Gerar_Upload!C1382,\"erro\")","v":0},{"$f":"IFERROR(Gerar_Upload!D1382,\"erro\")","v":0},{"$f":"IFERROR(DATE(YEAR(Gerar_Upload!E1382),MONTH(Gerar_Upload!E1382),DAY(Gerar_Upload!E1382)),\"erro\")","v":"00:00:00"},{"$f":"IFERROR(Gerar_Upload!F1382,\"erro\")","v":0},{"$f":"IFERROR(IF(Gerar_Upload!G1382<44,REPT(0,44-LEN(Gerar_Upload!G1382))&Gerar_Upload!G1382,Gerar_Upload!G1382),\"erro\")","v":"00000000000000000000000000000000000000000000"}]
[{"$f":"IFERROR(LEFT(Gerar_Upload!A1383,120),\"erro\")","v":""},{"$f":"IFERROR(SUBSTITUTE(SUBSTITUTE(SUBSTITUTE(Gerar_Upload!B1383,\".\",\"\"),\"-\",\"\"),\"/\",\"\"),\"erro\")","v":""},{"$f":"IFERROR(Gerar_Upload!C1383,\"erro\")","v":0},{"$f":"IFERROR(Gerar_Upload!D1383,\"erro\")","v":0},{"$f":"IFERROR(DATE(YEAR(Gerar_Upload!E1383),MONTH(Gerar_Upload!E1383),DAY(Gerar_Upload!E1383)),\"erro\")","v":"00:00:00"},{"$f":"IFERROR(Gerar_Upload!F1383,\"erro\")","v":0},{"$f":"IFERROR(IF(Gerar_Upload!G1383<44,REPT(0,44-LEN(Gerar_Upload!G1383))&Gerar_Upload!G1383,Gerar_Upload!G1383),\"erro\")","v":"00000000000000000000000000000000000000000000"}]
[{"$f":"IFERROR(LEFT(Gerar_Upload!A1384,120),\"erro\")","v":""},{"$f":"IFERROR(SUBSTITUTE(SUBSTITUTE(SUBSTITUTE(Gerar_Upload!B1384,\".\",\"\"),\"-\",\"\"),\"/\",\"\"),\"erro\")","v":""},{"$f":"IFERROR(Gerar_Upload!C1384,\"erro\")","v":0},{"$f":"IFERROR(Gerar_Upload!D1384,\"erro\")","v":0},{"$f":"IFERROR(DATE(YEAR(Gerar_Upload!E1384),MONTH(Gerar_Upload!E1384),DAY(Gerar_Upload!E1384)),\"erro\")","v":"00:00:00"},{"$f":"IFERROR(Gerar_Upload!F1384,\"erro\")","v":0},{"$f":"IFERROR(IF(Gerar_Upload!G1384<44,REPT(0,44-LEN(Gerar_Upload!G1384))&Gerar_Upload!G1384,Gerar_Upload!G1384),\"erro\")","v":"00000000000000000000000000000000000000000000"}]
[{"$f":"IFERROR(LEFT(Gerar_Upload!A1385,120),\"erro\")","v":""},{"$f":"IFERROR(SUBSTITUTE(SUBSTITUTE(SUBSTITUTE(Gerar_Upload!B1385,\".\",\"\"),\"-\",\"\"),\"/\",\"\"),\"erro\")","v":""},{"$f":"IFERROR(Gerar_Upload!C1385,\"erro\")","v":0},{"$f":"IFERROR(Gerar_Upload!D1385,\"erro\")","v":0},{"$f":"IFERROR(DATE(YEAR(Gerar_Upload!E1385),MONTH(Gerar_Upload!E1385),DAY(Gerar_Upload!E1385)),\"erro\")","v":"00:00:00"},{"$f":"IFERROR(Gerar_Upload!F1385,\"erro\")","v":0},{"$f":"IFERROR(IF(Gerar_Upload!G1385<44,REPT(0,44-LEN(Gerar_Upload!G1385))&Gerar_Upload!G1385,Gerar_Upload!G1385),\"erro\")","v":"00000000000000000000000000000000000000000000"}]
[{"$f":"IFERROR(LEFT(Gerar_Upload!A1386,120),\"erro\")","v":""},{"$f":"IFERROR(SUBSTITUTE(SUBSTITUTE(SUBSTITUTE(Gerar_Upload!B1386,\".\",\"\"),\"-\",\"\"),\"/\",\"\"),\"erro\")","v":""},{"$f":"IFERROR(Gerar_Upload!C1386,\"erro\")","v":0},{"$f":"IFERROR(Gerar_Upload!D1386,\"erro\")","v":0},{"$f":"IFERROR(DATE(YEAR(Gerar_Upload!E1386),MONTH(Gerar_Upload!E1386),DAY(Gerar_Upload!E1386)),\"erro\")","v":"00:00:00"},{"$f":"IFERROR(Gerar_Upload!F1386,\"erro\")","v":0},{"$f":"IFERROR(IF(Gerar_Upload!G1386<44,REPT(0,44-LEN(Gerar_Upload!G1386))&Gerar_Upload!G1386,Gerar_Upload!G1386),\"erro\")","v":"00000000000000000000000000000000000000000000"}]
[{"$f":"IFERROR(LEFT(Gerar_Upload!A1387,120),\"erro\")","v":""},{"$f":"IFERROR(SUBSTITUTE(SUBSTITUTE(SUBSTITUTE(Gerar_Upload!B1387,\".\",\"\"),\"-\",\"\"),\"/\",\"\"),\"erro\")","v":""},{"$f":"IFERROR(Gerar_Upload!C1387,\"erro\")","v":0},{"$f":"IFERROR(Gerar_Upload!D1387,\"erro\")","v":0},{"$f":"IFERROR(DATE(YEAR(Gerar_Upload!E1387),MONTH(Gerar_Upload!E1387),DAY(Gerar_Upload!E1387)),\"erro\")","v":"00:00:00"},{"$f":"IFERROR(Gerar_Upload!F1387,\"erro\")","v":0},{"$f":"IFERROR(IF(Gerar_Upload!G1387<44,REPT(0,44-LEN(Gerar_Upload!G1387))&Gerar_Upload!G1387,Gerar_Upload!G1387),\"erro\")","v":"00000000000000000000000000000000000000000000"}]
[{"$f":"IFERROR(LEFT(Gerar_Upload!A1388,120),\"erro\")","v":""},{"$f":"IFERROR(SUBSTITUTE(SUBSTITUTE(SUBSTITUTE(Gerar_Upload!B1388,\".\",\"\"),\"-\",\"\"),\"/\",\"\"),\"erro\")","v":""},{"$f":"IFERROR(Gerar_Upload!C1388,\"erro\")","v":0},{"$f":"IFERROR(Gerar_Upload!D1388,\"erro\")","v":0},{"$f":"IFERROR(DATE(YEAR(Gerar_Upload!E1388),MONTH(Gerar_Upload!E1388),DAY(Gerar_Upload!E1388)),\"erro\")","v":"00:00:00"},{"$f":"IFERROR(Gerar_Upload!F1388,\"erro\")","v":0},{"$f":"IFERROR(IF(Gerar_Upload!G1388<44,REPT(0,44-LEN(Gerar_Upload!G1388))&Gerar_Upload!G1388,Gerar_Upload!G1388),\"erro\")","v":"00000000000000000000000000000000000000000000"}]
[{"$f":"IFERROR(LEFT(Gerar_Upload!A1389,120),\"erro\")","v":""},{"$f":"IFERROR(SUBSTITUTE(SUBSTITUTE(SUBSTITUTE(Gerar_Upload!B1389,\".\",\"\"),\"-\",\"\"),\"/\",\"\"),\"erro\")","v":""},{"$f":"IFERROR(Gerar_Upload!C1389,\"erro\")","v":0},{"$f":"IFERROR(Gerar_Upload!D1389,\"erro\")","v":0},{"$f":"IFERROR(DATE(YEAR(Gerar_Upload!E1389),MONTH(Gerar_Upload!E1389),DAY(Gerar_Upload!E1389)),\"erro\")","v":"00:00:00"},{"$f":"IFERROR(Gerar_Upload!F1389,\"erro\")","v":0},{"$f":"IFERROR(IF(Gerar_Upload!G1389<44,REPT(0,44-LEN(Gerar_Upload!G1389))&Gerar_Upload!G1389,Gerar_Upload!G1389),\"erro\")","v":"00000000000000000000000000000000000000000000"}]
[{"$f":"IFERROR(LEFT(Gerar_Upload!A1390,120),\"erro\")","v":""},{"$f":"IFERROR(SUBSTITUTE(SUBSTITUTE(SUBSTITUTE(Gerar_Upload!B1390,\".\",\"\"),\"-\",\"\"),\"/\",\"\"),\"erro\")","v":""},{"$f":"IFERROR(Gerar_Upload!C1390,\"erro\")","v":0},{"$f":"IFERROR(Gerar_Upload!D1390,\"erro\")","v":0},{"$f":"IFERROR(DATE(YEAR(Gerar_Upload!E1390),MONTH(Gerar_Upload!E1390),DAY(Gerar_Upload!E1390)),\"erro\")","v":"00:00:00"},{"$f":"IFERROR(Gerar_Upload!F1390,\"erro\")","v":0},{"$f":"IFERROR(IF(Gerar_Upload!G1390<44,REPT(0,44-LEN(Gerar_Upload!G1390))&Gerar_Upload!G1390,Gerar_Upload!G1390),\"erro\")","v":"00000000000000000000000000000000000000000000"}]
[{"$f":"IFERROR(LEFT(Gerar_Upload!A1391,120),\"erro\")","v":""},{"$f":"IFERROR(SUBSTITUTE(SUBSTITUTE(SUBSTITUTE(Gerar_Upload!B1391,\".\",\"\"),\"-\",\"\"),\"/\",\"\"),\"erro\")","v":""},{"$f":"IFERROR(Gerar_Upload!C1391,\"erro\")","v":0},{"$f":"IFERROR(Gerar_Upload!D1391,\"erro\")","v":0},{"$f":"IFERROR(DATE(YEAR(Gerar_Upload!E1391),MONTH(Gerar_Upload!E1391),DAY(Gerar_Upload!E1391)),\"erro\")","v":"00:00:00"},{"$f":"IFERROR(Gerar_Upload!F1391,\"erro\")","v":0},{"$f":"IFERROR(IF(Gerar_Upload!G1391<44,REPT(0,44-LEN(Gerar_Upload!G1391))&Gerar_Upload!G1391,Gerar_Upload!G1391),\"erro\")","v":"00000000000000000000000000000000000000000000"}]
[{"$f":"IFERROR(LEFT(Gerar_Upload!A1392,120),\"erro\")","v":""},{"$f":"IFERROR(SUBSTITUTE(SUBSTITUTE(SUBSTITUTE(Gerar_Upload!B1392,\".\",\"\"),\"-\",\"\"),\"/\",\"\"),\"erro\")","v":""},{"$f":"IFERROR(Gerar_Upload!C1392,\"erro\")","v":0},{"$f":"IFERROR(Gerar_Upload!D1392,\"erro\")","v":0},{"$f":"IFERROR(DATE(YEAR(Gerar_Upload!E1392),MONTH(Gerar_Upload!E1392),DAY(Gerar_Upload!E1392)),\"erro\")","v":"00:00:00"},{"$f":"IFERROR(Gerar_Upload!F1392,\"erro\")","v":0},{"$f":"IFERROR(IF(Gerar_Upload!G1392<44,REPT(0,44-LEN(Gerar_Upload!G1392))&Gerar_Upload!G1392,Gerar_Upload!G1392),\"erro\")","v":"00000000000000000000000000000000000000000000"}]
[{"$f":"IFERROR(LEFT(Gerar_Upload!A1393,120),\"erro\")","v":""},{"$f":"IFERROR(SUBSTITUTE(SUBSTITUTE(SUBSTITUTE(Gerar_Upload!B1393,\".\",\"\"),\"-\",\"\"),\"/\",\"\"),\"erro\")","v":""},{"$f":"IFERROR(Gerar_Upload!C1393,\"erro\")","v":0},{"$f":"IFERROR(Gerar_Upload!D1393,\"erro\")","v":0},{"$f":"IFERROR(DATE(YEAR(Gerar_Upload!E1393),MONTH(Gerar_Upload!E1393),DAY(Gerar_Upload!E1393)),\"erro\")","v":"00:00:00"},{"$f":"IFERROR(Gerar_Upload!F1393,\"erro\")","v":0},{"$f":"IFERROR(IF(Gerar_Upload!G1393<44,REPT(0,44-LEN(Gerar_Upload!G1393))&Gerar_Upload!G1393,Gerar_Upload!G1393),\"erro\")","v":"00000000000000000000000000000000000000000000"}]
[{"$f":"IFERROR(LEFT(Gerar_Upload!A1394,120),\"erro\")","v":""},{"$f":"IFERROR(SUBSTITUTE(SUBSTITUTE(SUBSTITUTE(Gerar_Upload!B1394,\".\",\"\"),\"-\",\"\"),\"/\",\"\"),\"erro\")","v":""},{"$f":"IFERROR(Gerar_Upload!C1394,\"erro\")","v":0},{"$f":"IFERROR(Gerar_Upload!D1394,\"erro\")","v":0},{"$f":"IFERROR(DATE(YEAR(Gerar_Upload!E1394),MONTH(Gerar_Upload!E1394),DAY(Gerar_Upload!E1394)),\"erro\")","v":"00:00:00"},{"$f":"IFERROR(Gerar_Upload!F1394,\"erro\")","v":0},{"$f":"IFERROR(IF(Gerar_Upload!G1394<44,REPT(0,44-LEN(Gerar_Upload!G1394))&Gerar_Upload!G1394,Gerar_Upload!G1394),\"erro\")","v":"00000000000000000000000000000000000000000000"}]
[{"$f":"IFERROR(LEFT(Gerar_Upload!A1395,120),\"erro\")","v":""},{"$f":"IFERROR(SUBSTITUTE(SUBSTITUTE(SUBSTITUTE(Gerar_Upload!B1395,\".\",\"\"),\"-\",\"\"),\"/\",\"\"),\"erro\")","v":""},{"$f":"IFERROR(Gerar_Upload!C1395,\"erro\")","v":0},{"$f":"IFERROR(Gerar_Upload!D1395,\"erro\")","v":0},{"$f":"IFERROR(DATE(YEAR(Gerar_Upload!E1395),MONTH(Gerar_Upload!E1395),DAY(Gerar_Upload!E1395)),\"erro\")","v":"00:00:00"},{"$f":"IFERROR(Gerar_Upload!F1395,\"erro\")","v":0},{"$f":"IFERROR(IF(Gerar_Upload!G1395<44,REPT(0,44-LEN(Gerar_Upload!G1395))&Gerar_Upload!G1395,Gerar_Upload!G1395),\"erro\")","v":"00000000000000000000000000000000000000000000"}]
[{"$f":"IFERROR(LEFT(Gerar_Upload!A1396,120),\"erro\")","v":""},{"$f":"IFERROR(SUBSTITUTE(SUBSTITUTE(SUBSTITUTE(Gerar_Upload!B1396,\".\",\"\"),\"-\",\"\"),\"/\",\"\"),\"erro\")","v":""},{"$f":"IFERROR(Gerar_Upload!C1396,\"erro\")","v":0},{"$f":"IFERROR(Gerar_Upload!D1396,\"erro\")","v":0},{"$f":"IFERROR(DATE(YEAR(Gerar_Upload!E1396),MONTH(Gerar_Upload!E1396),DAY(Gerar_Upload!E1396)),\"erro\")","v":"00:00:00"},{"$f":"IFERROR(Gerar_Upload!F1396,\"erro\")","v":0},{"$f":"IFERROR(IF(Gerar_Upload!G1396<44,REPT(0,44-LEN(Gerar_Upload!G1396))&Gerar_Upload!G1396,Gerar_Upload!G1396),\"erro\")","v":"00000000000000000000000000000000000000000000"}]
[{"$f":"IFERROR(LEFT(Gerar_Upload!A1397,120),\"erro\")","v":""},{"$f":"IFERROR(SUBSTITUTE(SUBSTITUTE(SUBSTITUTE(Gerar_Upload!B1397,\".\",\"\"),\"-\",\"\"),\"/\",\"\"),\"erro\")","v":""},{"$f":"IFERROR(Gerar_Upload!C1397,\"erro\")","v":0},{"$f":"IFERROR(Gerar_Upload!D1397,\"erro\")","v":0},{"$f":"IFERROR(DATE(YEAR(Gerar_Upload!E1397),MONTH(Gerar_Upload!E1397),DAY(Gerar_Upload!E1397)),\"erro\")","v":"00:00:00"},{"$f":"IFERROR(Gerar_Upload!F1397,\"erro\")","v":0},{"$f":"IFERROR(IF(Gerar_Upload!G1397<44,REPT(0,44-LEN(Gerar_Upload!G1397))&Gerar_Upload!G1397,Gerar_Upload!G1397),\"erro\")","v":"00000000000000000000000000000000000000000000"}]
[{"$f":"IFERROR(LEFT(Gerar_Upload!A1398,120),\"erro\")","v":""},{"$f":"IFERROR(SUBSTITUTE(SUBSTITUTE(SUBSTITUTE(Gerar_Upload!B1398,\".\",\"\"),\"-\",\"\"),\"/\",\"\"),\"erro\")","v":""},{"$f":"IFERROR(Gerar_Upload!C1398,\"erro\")","v":0},{"$f":"IFERROR(Gerar_Upload!D1398,\"erro\")","v":0},{"$f":"IFERROR(DATE(YEAR(Gerar_Upload!E1398),MONTH(Gerar_Upload!E1398),DAY(Gerar_Upload!E1398)),\"erro\")","v":"00:00:00"},{"$f":"IFERROR(Gerar_Upload!F1398,\"erro\")","v":0},{"$f":"IFERROR(IF(Gerar_Upload!G1398<44,REPT(0,44-LEN(Gerar_Upload!G1398))&Gerar_Upload!G1398,Gerar_Upload!G1398),\"erro\")","v":"00000000000000000000000000000000000000000000"}]
[{"$f":"IFERROR(LEFT(Gerar_Upload!A1399,120),\"erro\")","v":""},{"$f":"IFERROR(SUBSTITUTE(SUBSTITUTE(SUBSTITUTE(Gerar_Upload!B1399,\".\",\"\"),\"-\",\"\"),\"/\",\"\"),\"erro\")","v":""},{"$f":"IFERROR(Gerar_Upload!C1399,\"erro\")","v":0},{"$f":"IFERROR(Gerar_Upload!D1399,\"erro\")","v":0},{"$f":"IFERROR(DATE(YEAR(Gerar_Upload!E1399),MONTH(Gerar_Upload!E1399),DAY(Gerar_Upload!E1399)),\"erro\")","v":"00:00:00"},{"$f":"IFERROR(Gerar_Upload!F1399,\"erro\")","v":0},{"$f":"IFERROR(IF(Gerar_Upload!G1399<44,REPT(0,44-LEN(Gerar_Upload!G1399))&Gerar_Upload!G1399,Gerar_Upload!G1399),\"erro\")","v":"00000000000000000000000000000000000000000000"}]
[{"$f":"IFERROR(LEFT(Gerar_Upload!A1400,120),\"erro\")","v":""},{"$f":"IFERROR(SUBSTITUTE(SUBSTITUTE(SUBSTITUTE(Gerar_Upload!B1400,\".\",\"\"),\"-\",\"\"),\"/\",\"\"),\"erro\")","v":""},{"$f":"IFERROR(Gerar_Upload!C1400,\"erro\")","v":0},{"$f":"IFERROR(Gerar_Upload!D1400,\"erro\")","v":0},{"$f":"IFERROR(DATE(YEAR(Gerar_Upload!E1400),MONTH(Gerar_Upload!E1400),DAY(Gerar_Upload!E1400)),\"erro\")","v":"00:00:00"},{"$f":"IFERROR(Gerar_Upload!F1400,\"erro\")","v":0},{"$f":"IFERROR(IF(Gerar_Upload!G1400<44,REPT(0,44-LEN(Gerar_Upload!G1400))&Gerar_Upload!G1400,Gerar_Upload!G1400),\"erro\")","v":"00000000000000000000000000000000000000000000"}]
[{"$f":"IFERROR(LEFT(Gerar_Upload!A1401,120),\"erro\")","v":""},{"$f":"IFERROR(SUBSTITUTE(SUBSTITUTE(SUBSTITUTE(Gerar_Upload!B1401,\".\",\"\"),\"-\",\"\"),\"/\",\"\"),\"erro\")","v":""},{"$f":"IFERROR(Gerar_Upload!C1401,\"erro\")","v":0},{"$f":"IFERROR(Gerar_Upload!D1401,\"erro\")","v":0},{"$f":"IFERROR(DATE(YEAR(Gerar_Upload!E1401),MONTH(Gerar_Upload!E1401),DAY(Gerar_Upload!E1401)),\"erro\")","v":"00:00:00"},{"$f":"IFERROR(Gerar_Upload!F1401,\"erro\")","v":0},{"$f":"IFERROR(IF(Gerar_Upload!G1401<44,REPT(0,44-LEN(Gerar_Upload!G1401))&Gerar_Upload!G1401,Gerar_Upload!G1401),\"erro\")","v":"00000000000000000000000000000000000000000000"}]
[{"$f":"IFERROR(LEFT(Gerar_Upload!A1402,120),\"erro\")","v":""},{"$f":"IFERROR(SUBSTITUTE(SUBSTITUTE(SUBSTITUTE(Gerar_Upload!B1402,\".\",\"\"),\"-\",\"\"),\"/\",\"\"),\"erro\")","v":""},{"$f":"IFERROR(Gerar_Upload!C1402,\"erro\")","v":0},{"$f":"IFERROR(Gerar_Upload!D1402,\"erro\")","v":0},{"$f":"IFERROR(DATE(YEAR(Gerar_Upload!E1402),MONTH(Gerar_Upload!E1402),DAY(Gerar_Upload!E1402)),\"erro\")","v":"00:00:00"},{"$f":"IFERROR(Gerar_Upload!F1402,\"erro\")","v":0},{"$f":"IFERROR(IF(Gerar_Upload!G1402<44,REPT(0,44-LEN(Gerar_Upload!G1402))&Gerar_Upload!G1402,Gerar_Upload!G1402),\"erro\")","v":"00000000000000000000000000000000000000000000"}]
[{"$f":"IFERROR(LEFT(Gerar_Upload!A1403,120),\"erro\")","v":""},{"$f":"IFERROR(SUBSTITUTE(SUBSTITUTE(SUBSTITUTE(Gerar_Upload!B1403,\".\",\"\"),\"-\",\"\"),\"/\",\"\"),\"erro\")","v":""},{"$f":"IFERROR(Gerar_Upload!C1403,\"erro\")","v":0},{"$f":"IFERROR(Gerar_Upload!D1403,\"erro\")","v":0},{"$f":"IFERROR(DATE(YEAR(Gerar_Upload!E1403),MONTH(Gerar_Upload!E1403),DAY(Gerar_Upload!E1403)),\"erro\")","v":"00:00:00"},{"$f":"IFERROR(Gerar_Upload!F1403,\"erro\")","v":0},{"$f":"IFERROR(IF(Gerar_Upload!G1403<44,REPT(0,44-LEN(Gerar_Upload!G1403))&Gerar_Upload!G1403,Gerar_Upload!G1403),\"erro\")","v":"00000000000000000000000000000000000000000000"}]
[{"$f":"IFERROR(LEFT(Gerar_Upload!A1404,120),\"erro\")","v":""},{"$f":"IFERROR(SUBSTITUTE(SUBSTITUTE(SUBSTITUTE(Gerar_Upload!B1404,\".\",\"\"),\"-\",\"\"),\"/\",\"\"),\"erro\")","v":""},{"$f":"IFERROR(Gerar_Upload!C1404,\"erro\")","v":0},{"$f":"IFERROR(Gerar_Upload!D1404,\"erro\")","v":0},{"$f":"IFERROR(DATE(YEAR(Gerar_Upload!E1404),MONTH(Gerar_Upload!E1404),DAY(Gerar_Upload!E1404)),\"erro\")","v":"00:00:00"},{"$f":"IFERROR(Gerar_Upload!F1404,\"erro\")","v":0},{"$f":"IFERROR(IF(Gerar_Upload!G1404<44,REPT(0,44-LEN(Gerar_Upload!G1404))&Gerar_Upload!G1404,Gerar_Upload!G1404),\"erro\")","v":"00000000000000000000000000000000000000000000"}]
[{"$f":"IFERROR(LEFT(Gerar_Upload!A1405,120),\"erro\")","v":""},{"$f":"IFERROR(SUBSTITUTE(SUBSTITUTE(SUBSTITUTE(Gerar_Upload!B1405,\".\",\"\"),\"-\",\"\"),\"/\",\"\"),\"erro\")","v":""},{"$f":"IFERROR(Gerar_Upload!C1405,\"erro\")","v":0},{"$f":"IFERROR(Gerar_Upload!D1405,\"erro\")","v":0},{"$f":"IFERROR(DATE(YEAR(Gerar_Upload!E1405),MONTH(Gerar_Upload!E1405),DAY(Gerar_Upload!E1405)),\"erro\")","v":"00:00:00"},{"$f":"IFERROR(Gerar_Upload!F1405,\"erro\")","v":0},{"$f":"IFERROR(IF(Gerar_Upload!G1405<44,REPT(0,44-LEN(Gerar_Upload!G1405))&Gerar_Upload!G1405,Gerar_Upload!G1405),\"erro\")","v":"00000000000000000000000000000000000000000000"}]
[{"$f":"IFERROR(LEFT(Gerar_Upload!A1406,120),\"erro\")","v":""},{"$f":"IFERROR(SUBSTITUTE(SUBSTITUTE(SUBSTITUTE(Gerar_Upload!B1406,\".\",\"\"),\"-\",\"\"),\"/\",\"\"),\"erro\")","v":""},{"$f":"IFERROR(Gerar_Upload!C1406,\"erro\")","v":0},{"$f":"IFERROR(Gerar_Upload!D1406,\"erro\")","v":0},{"$f":"IFERROR(DATE(YEAR(Gerar_Upload!E1406),MONTH(Gerar_Upload!E1406),DAY(Gerar_Upload!E1406)),\"erro\")","v":"00:00:00"},{"$f":"IFERROR(Gerar_Upload!F1406,\"erro\")","v":0},{"$f":"IFERROR(IF(Gerar_Upload!G1406<44,REPT(0,44-LEN(Gerar_Upload!G1406))&Gerar_Upload!G1406,Gerar_Upload!G1406),\"erro\")","v":"00000000000000000000000000000000000000000000"}]
[{"$f":"IFERROR(LEFT(Gerar_Upload!A1407,120),\"erro\")","v":""},{"$f":"IFERROR(SUBSTITUTE(SUBSTITUTE(SUBSTITUTE(Gerar_Upload!B1407,\".\",\"\"),\"-\",\"\"),\"/\",\"\"),\"erro\")","v":""},{"$f":"IFERROR(Gerar_Upload!C1407,\"erro\")","v":0},{"$f":"IFERROR(Gerar_Upload!D1407,\"erro\")","v":0},{"$f":"IFERROR(DATE(YEAR(Gerar_Upload!E1407),MONTH(Gerar_Upload!E1407),DAY(Gerar_Upload!E1407)),\"erro\")","v":"00:00:00"},{"$f":"IFERROR(Gerar_Upload!F1407,\"erro\")","v":0},{"$f":"IFERROR(IF(Gerar_Upload!G1407<44,REPT(0,44-LEN(Gerar_Upload!G1407))&Gerar_Upload!G1407,Gerar_Upload!G1407),\"erro\")","v":"00000000000000000000000000000000000000000000"}]
[{"$f":"IFERROR(LEFT(Gerar_Upload!A1408,120),\"erro\")","v":""},{"$f":"IFERROR(SUBSTITUTE(SUBSTITUTE(SUBSTITUTE(Gerar_Upload!B1408,\".\",\"\"),\"-\",\"\"),\"/\",\"\"),\"erro\")","v":""},{"$f":"IFERROR(Gerar_Upload!C1408,\"erro\")","v":0},{"$f":"IFERROR(Gerar_Upload!D1408,\"erro\")","v":0},{"$f":"IFERROR(DATE(YEAR(Gerar_Upload!E1408),MONTH(Gerar_Upload!E1408),DAY(Gerar_Upload!E1408)),\"erro\")","v":"00:00:00"},{"$f":"IFERROR(Gerar_Upload!F1408,\"erro\")","v":0},{"$f":"IFERROR(IF(Gerar_Upload!G1408<44,REPT(0,44-LEN(Gerar_Upload!G1408))&Gerar_Upload!G1408,Gerar_Upload!G1408),\"erro\")","v":"00000000000000000000000000000000000000000000"}]
[{"$f":"IFERROR(LEFT(Gerar_Upload!A1409,120),\"erro\")","v":""},{"$f":"IFERROR(SUBSTITUTE(SUBSTITUTE(SUBSTITUTE(Gerar_Upload!B1409,\".\",\"\"),\"-\",\"\"),\"/\",\"\"),\"erro\")","v":""},{"$f":"IFERROR(Gerar_Upload!C1409,\"erro\")","v":0},{"$f":"IFERROR(Gerar_Upload!D1409,\"erro\")","v":0},{"$f":"IFERROR(DATE(YEAR(Gerar_Upload!E1409),MONTH(Gerar_Upload!E1409),DAY(Gerar_Upload!E1409)),\"erro\")","v":"00:00:00"},{"$f":"IFERROR(Gerar_Upload!F1409,\"erro\")","v":0},{"$f":"IFERROR(IF(Gerar_Upload!G1409<44,REPT(0,44-LEN(Gerar_Upload!G1409))&Gerar_Upload!G1409,Gerar_Upload!G1409),\"erro\")","v":"00000000000000000000000000000000000000000000"}]
[{"$f":"IFERROR(LEFT(Gerar_Upload!A1410,120),\"erro\")","v":""},{"$f":"IFERROR(SUBSTITUTE(SUBSTITUTE(SUBSTITUTE(Gerar_Upload!B1410,\".\",\"\"),\"-\",\"\"),\"/\",\"\"),\"erro\")","v":""},{"$f":"IFERROR(Gerar_Upload!C1410,\"erro\")","v":0},{"$f":"IFERROR(Gerar_Upload!D1410,\"erro\")","v":0},{"$f":"IFERROR(DATE(YEAR(Gerar_Upload!E1410),MONTH(Gerar_Upload!E1410),DAY(Gerar_Upload!E1410)),\"erro\")","v":"00:00:00"},{"$f":"IFERROR(Gerar_Upload!F1410,\"erro\")","v":0},{"$f":"IFERROR(IF(Gerar_Upload!G1410<44,REPT(0,44-LEN(Gerar_Upload!G1410))&Gerar_Upload!G1410,Gerar_Upload!G1410),\"erro\")","v":"00000000000000000000000000000000000000000000"}]
[{"$f":"IFERROR(LEFT(Gerar_Upload!A1411,120),\"erro\")","v":""},{"$f":"IFERROR(SUBSTITUTE(SUBSTITUTE(SUBSTITUTE(Gerar_Upload!B1411,\".\",\"\"),\"-\",\"\"),\"/\",\"\"),\"erro\")","v":""},{"$f":"IFERROR(Gerar_Upload!C1411,\"erro\")","v":0},{"$f":"IFERROR(Gerar_Upload!D1411,\"erro\")","v":0},{"$f":"IFERROR(DATE(YEAR(Gerar_Upload!E1411),MONTH(Gerar_Upload!E1411),DAY(Gerar_Upload!E1411)),\"erro\")","v":"00:00:00"},{"$f":"IFERROR(Gerar_Upload!F1411,\"erro\")","v":0},{"$f":"IFERROR(IF(Gerar_Upload!G1411<44,REPT(0,44-LEN(Gerar_Upload!G1411))&Gerar_Upload!G1411,Gerar_Upload!G1411),\"erro\")","v":"00000000000000000000000000000000000000000000"}]
[{"$f":"IFERROR(LEFT(Gerar_Upload!A1412,120),\"erro\")","v":""},{"$f":"IFERROR(SUBSTITUTE(SUBSTITUTE(SUBSTITUTE(Gerar_Upload!B1412,\".\",\"\"),\"-\",\"\"),\"/\",\"\"),\"erro\")","v":""},{"$f":"IFERROR(Gerar_Upload!C1412,\"erro\")","v":0},{"$f":"IFERROR(Gerar_Upload!D1412,\"erro\")","v":0},{"$f":"IFERROR(DATE(YEAR(Gerar_Upload!E1412),MONTH(Gerar_Upload!E1412),DAY(Gerar_Upload!E1412)),\"erro\")","v":"00:00:00"},{"$f":"IFERROR(Gerar_Upload!F1412,\"erro\")","v":0},{"$f":"IFERROR(IF(Gerar_Upload!G1412<44,REPT(0,44-LEN(Gerar_Upload!G1412))&Gerar_Upload!G1412,Gerar_Upload!G1412),\"erro\")","v":"00000000000000000000000000000000000000000000"}]
[{"$f":"IFERROR(LEFT(Gerar_Upload!A1413,120),\"erro\")","v":""},{"$f":"IFERROR(SUBSTITUTE(SUBSTITUTE(SUBSTITUTE(Gerar_Upload!B1413,\".\",\"\"),\"-\",\"\"),\"/\",\"\"),\"erro\")","v":""},{"$f":"IFERROR(Gerar_Upload!C1413,\"erro\")","v":0},{"$f":"IFERROR(Gerar_Upload!D1413,\"erro\")","v":0},{"$f":"IFERROR(DATE(YEAR(Gerar_Upload!E1413),MONTH(Gerar_Upload!E1413),DAY(Gerar_Upload!E1413)),\"erro\")","v":"00:00:00"},{"$f":"IFERROR(Gerar_Upload!F1413,\"erro\")","v":0},{"$f":"IFERROR(IF(Gerar_Upload!G1413<44,REPT(0,44-LEN(Gerar_Upload!G1413))&Gerar_Upload!G1413,Gerar_Upload!G1413),\"erro\")","v":"00000000000000000000000000000000000000000000"}]
[{"$f":"IFERROR(LEFT(Gerar_Upload!A1414,120),\"erro\")","v":""},{"$f":"IFERROR(SUBSTITUTE(SUBSTITUTE(SUBSTITUTE(Gerar_Upload!B1414,\".\",\"\"),\"-\",\"\"),\"/\",\"\"),\"erro\")","v":""},{"$f":"IFERROR(Gerar_Upload!C1414,\"erro\")","v":0},{"$f":"IFERROR(Gerar_Upload!D1414,\"erro\")","v":0},{"$f":"IFERROR(DATE(YEAR(Gerar_Upload!E1414),MONTH(Gerar_Upload!E1414),DAY(Gerar_Upload!E1414)),\"erro\")","v":"00:00:00"},{"$f":"IFERROR(Gerar_Upload!F1414,\"erro\")","v":0},{"$f":"IFERROR(IF(Gerar_Upload!G1414<44,REPT(0,44-LEN(Gerar_Upload!G1414))&Gerar_Upload!G1414,Gerar_Upload!G1414),\"erro\")","v":"00000000000000000000000000000000000000000000"}]
[{"$f":"IFERROR(LEFT(Gerar_Upload!A1415,120),\"erro\")","v":""},{"$f":"IFERROR(SUBSTITUTE(SUBSTITUTE(SUBSTITUTE(Gerar_Upload!B1415,\".\",\"\"),\"-\",\"\"),\"/\",\"\"),\"erro\")","v":""},{"$f":"IFERROR(Gerar_Upload!C1415,\"erro\")","v":0},{"$f":"IFERROR(Gerar_Upload!D1415,\"erro\")","v":0},{"$f":"IFERROR(DATE(YEAR(Gerar_Upload!E1415),MONTH(Gerar_Upload!E1415),DAY(Gerar_Upload!E1415)),\"erro\")","v":"00:00:00"},{"$f":"IFERROR(Gerar_Upload!F1415,\"erro\")","v":0},{"$f":"IFERROR(IF(Gerar_Upload!G1415<44,REPT(0,44-LEN(Gerar_Upload!G1415))&Gerar_Upload!G1415,Gerar_Upload!G1415),\"erro\")","v":"00000000000000000000000000000000000000000000"}]
[{"$f":"IFERROR(LEFT(Gerar_Upload!A1416,120),\"erro\")","v":""},{"$f":"IFERROR(SUBSTITUTE(SUBSTITUTE(SUBSTITUTE(Gerar_Upload!B1416,\".\",\"\"),\"-\",\"\"),\"/\",\"\"),\"erro\")","v":""},{"$f":"IFERROR(Gerar_Upload!C1416,\"erro\")","v":0},{"$f":"IFERROR(Gerar_Upload!D1416,\"erro\")","v":0},{"$f":"IFERROR(DATE(YEAR(Gerar_Upload!E1416),MONTH(Gerar_Upload!E1416),DAY(Gerar_Upload!E1416)),\"erro\")","v":"00:00:00"},{"$f":"IFERROR(Gerar_Upload!F1416,\"erro\")","v":0},{"$f":"IFERROR(IF(Gerar_Upload!G1416<44,REPT(0,44-LEN(Gerar_Upload!G1416))&Gerar_Upload!G1416,Gerar_Upload!G1416),\"erro\")","v":"00000000000000000000000000000000000000000000"}]
[{"$f":"IFERROR(LEFT(Gerar_Upload!A1417,120),\"erro\")","v":""},{"$f":"IFERROR(SUBSTITUTE(SUBSTITUTE(SUBSTITUTE(Gerar_Upload!B1417,\".\",\"\"),\"-\",\"\"),\"/\",\"\"),\"erro\")","v":""},{"$f":"IFERROR(Gerar_Upload!C1417,\"erro\")","v":0},{"$f":"IFERROR(Gerar_Upload!D1417,\"erro\")","v":0},{"$f":"IFERROR(DATE(YEAR(Gerar_Upload!E1417),MONTH(Gerar_Upload!E1417),DAY(Gerar_Upload!E1417)),\"erro\")","v":"00:00:00"},{"$f":"IFERROR(Gerar_Upload!F1417,\"erro\")","v":0},{"$f":"IFERROR(IF(Gerar_Upload!G1417<44,REPT(0,44-LEN(Gerar_Upload!G1417))&Gerar_Upload!G1417,Gerar_Upload!G1417),\"erro\")","v":"00000000000000000000000000000000000000000000"}]
[{"$f":"IFERROR(LEFT(Gerar_Upload!A1418,120),\"erro\")","v":""},{"$f":"IFERROR(SUBSTITUTE(SUBSTITUTE(SUBSTITUTE(Gerar_Upload!B1418,\".\",\"\"),\"-\",\"\"),\"/\",\"\"),\"erro\")","v":""},{"$f":"IFERROR(Gerar_Upload!C1418,\"erro\")","v":0},{"$f":"IFERROR(Gerar_Upload!D1418,\"erro\")","v":0},{"$f":"IFERROR(DATE(YEAR(Gerar_Upload!E1418),MONTH(Gerar_Upload!E1418),DAY(Gerar_Upload!E1418)),\"erro\")","v":"00:00:00"},{"$f":"IFERROR(Gerar_Upload!F1418,\"erro\")","v":0},{"$f":"IFERROR(IF(Gerar_Upload!G1418<44,REPT(0,44-LEN(Gerar_Upload!G1418))&Gerar_Upload!G1418,Gerar_Upload!G1418),\"erro\")","v":"00000000000000000000000000000000000000000000"}]
[{"$f":"IFERROR(LEFT(Gerar_Upload!A1419,120),\"erro\")","v":""},{"$f":"IFERROR(SUBSTITUTE(SUBSTITUTE(SUBSTITUTE(Gerar_Upload!B1419,\".\",\"\"),\"-\",\"\"),\"/\",\"\"),\"erro\")","v":""},{"$f":"IFERROR(Gerar_Upload!C1419,\"erro\")","v":0},{"$f":"IFERROR(Gerar_Upload!D1419,\"erro\")","v":0},{"$f":"IFERROR(DATE(YEAR(Gerar_Upload!E1419),MONTH(Gerar_Upload!E1419),DAY(Gerar_Upload!E1419)),\"erro\")","v":"00:00:00"},{"$f":"IFERROR(Gerar_Upload!F1419,\"erro\")","v":0},{"$f":"IFERROR(IF(Gerar_Upload!G1419<44,REPT(0,44-LEN(Gerar_Upload!G1419))&Gerar_Upload!G1419,Gerar_Upload!G1419),\"erro\")","v":"00000000000000000000000000000000000000000000"}]
[{"$f":"IFERROR(LEFT(Gerar_Upload!A1420,120),\"erro\")","v":""},{"$f":"IFERROR(SUBSTITUTE(SUBSTITUTE(SUBSTITUTE(Gerar_Upload!B1420,\".\",\"\"),\"-\",\"\"),\"/\",\"\"),\"erro\")","v":""},{"$f":"IFERROR(Gerar_Upload!C1420,\"erro\")","v":0},{"$f":"IFERROR(Gerar_Upload!D1420,\"erro\")","v":0},{"$f":"IFERROR(DATE(YEAR(Gerar_Upload!E1420),MONTH(Gerar_Upload!E1420),DAY(Gerar_Upload!E1420)),\"erro\")","v":"00:00:00"},{"$f":"IFERROR(Gerar_Upload!F1420,\"erro\")","v":0},{"$f":"IFERROR(IF(Gerar_Upload!G1420<44,REPT(0,44-LEN(Gerar_Upload!G1420))&Gerar_Upload!G1420,Gerar_Upload!G1420),\"erro\")","v":"00000000000000000000000000000000000000000000"}]
[{"$f":"IFERROR(LEFT(Gerar_Upload!A1421,120),\"erro\")","v":""},{"$f":"IFERROR(SUBSTITUTE(SUBSTITUTE(SUBSTITUTE(Gerar_Upload!B1421,\".\",\"\"),\"-\",\"\"),\"/\",\"\"),\"erro\")","v":""},{"$f":"IFERROR(Gerar_Upload!C1421,\"erro\")","v":0},{"$f":"IFERROR(Gerar_Upload!D1421,\"erro\")","v":0},{"$f":"IFERROR(DATE(YEAR(Gerar_Upload!E1421),MONTH(Gerar_Upload!E1421),DAY(Gerar_Upload!E1421)),\"erro\")","v":"00:00:00"},{"$f":"IFERROR(Gerar_Upload!F1421,\"erro\")","v":0},{"$f":"IFERROR(IF(Gerar_Upload!G1421<44,REPT(0,44-LEN(Gerar_Upload!G1421))&Gerar_Upload!G1421,Gerar_Upload!G1421),\"erro\")","v":"00000000000000000000000000000000000000000000"}]
[{"$f":"IFERROR(LEFT(Gerar_Upload!A1422,120),\"erro\")","v":""},{"$f":"IFERROR(SUBSTITUTE(SUBSTITUTE(SUBSTITUTE(Gerar_Upload!B1422,\".\",\"\"),\"-\",\"\"),\"/\",\"\"),\"erro\")","v":""},{"$f":"IFERROR(Gerar_Upload!C1422,\"erro\")","v":0},{"$f":"IFERROR(Gerar_Upload!D1422,\"erro\")","v":0},{"$f":"IFERROR(DATE(YEAR(Gerar_Upload!E1422),MONTH(Gerar_Upload!E1422),DAY(Gerar_Upload!E1422)),\"erro\")","v":"00:00:00"},{"$f":"IFERROR(Gerar_Upload!F1422,\"erro\")","v":0},{"$f":"IFERROR(IF(Gerar_Upload!G1422<44,REPT(0,44-LEN(Gerar_Upload!G1422))&Gerar_Upload!G1422,Gerar_Upload!G1422),\"erro\")","v":"00000000000000000000000000000000000000000000"}]
[{"$f":"IFERROR(LEFT(Gerar_Upload!A1423,120),\"erro\")","v":""},{"$f":"IFERROR(SUBSTITUTE(SUBSTITUTE(SUBSTITUTE(Gerar_Upload!B1423,\".\",\"\"),\"-\",\"\"),\"/\",\"\"),\"erro\")","v":""},{"$f":"IFERROR(Gerar_Upload!C1423,\"erro\")","v":0},{"$f":"IFERROR(Gerar_Upload!D1423,\"erro\")","v":0},{"$f":"IFERROR(DATE(YEAR(Gerar_Upload!E1423),MONTH(Gerar_Upload!E1423),DAY(Gerar_Upload!E1423)),\"erro\")","v":"00:00:00"},{"$f":"IFERROR(Gerar_Upload!F1423,\"erro\")","v":0},{"$f":"IFERROR(IF(Gerar_Upload!G1423<44,REPT(0,44-LEN(Gerar_Upload!G1423))&Gerar_Upload!G1423,Gerar_Upload!G1423),\"erro\")","v":"00000000000000000000000000000000000000000000"}]
[{"$f":"IFERROR(LEFT(Gerar_Upload!A1424,120),\"erro\")","v":""},{"$f":"IFERROR(SUBSTITUTE(SUBSTITUTE(SUBSTITUTE(Gerar_Upload!B1424,\".\",\"\"),\"-\",\"\"),\"/\",\"\"),\"erro\")","v":""},{"$f":"IFERROR(Gerar_Upload!C1424,\"erro\")","v":0},{"$f":"IFERROR(Gerar_Upload!D1424,\"erro\")","v":0},{"$f":"IFERROR(DATE(YEAR(Gerar_Upload!E1424),MONTH(Gerar_Upload!E1424),DAY(Gerar_Upload!E1424)),\"erro\")","v":"00:00:00"},{"$f":"IFERROR(Gerar_Upload!F1424,\"erro\")","v":0},{"$f":"IFERROR(IF(Gerar_Upload!G1424<44,REPT(0,44-LEN(Gerar_Upload!G1424))&Gerar_Upload!G1424,Gerar_Upload!G1424),\"erro\")","v":"00000000000000000000000000000000000000000000"}]
[{"$f":"IFERROR(LEFT(Gerar_Upload!A1425,120),\"erro\")","v":""},{"$f":"IFERROR(SUBSTITUTE(SUBSTITUTE(SUBSTITUTE(Gerar_Upload!B1425,\".\",\"\"),\"-\",\"\"),\"/\",\"\"),\"erro\")","v":""},{"$f":"IFERROR(Gerar_Upload!C1425,\"erro\")","v":0},{"$f":"IFERROR(Gerar_Upload!D1425,\"erro\")","v":0},{"$f":"IFERROR(DATE(YEAR(Gerar_Upload!E1425),MONTH(Gerar_Upload!E1425),DAY(Gerar_Upload!E1425)),\"erro\")","v":"00:00:00"},{"$f":"IFERROR(Gerar_Upload!F1425,\"erro\")","v":0},{"$f":"IFERROR(IF(Gerar_Upload!G1425<44,REPT(0,44-LEN(Gerar_Upload!G1425))&Gerar_Upload!G1425,Gerar_Upload!G1425),\"erro\")","v":"00000000000000000000000000000000000000000000"}]
[{"$f":"IFERROR(LEFT(Gerar_Upload!A1426,120),\"erro\")","v":""},{"$f":"IFERROR(SUBSTITUTE(SUBSTITUTE(SUBSTITUTE(Gerar_Upload!B1426,\".\",\"\"),\"-\",\"\"),\"/\",\"\"),\"erro\")","v":""},{"$f":"IFERROR(Gerar_Upload!C1426,\"erro\")","v":0},{"$f":"IFERROR(Gerar_Upload!D1426,\"erro\")","v":0},{"$f":"IFERROR(DATE(YEAR(Gerar_Upload!E1426),MONTH(Gerar_Upload!E1426),DAY(Gerar_Upload!E1426)),\"erro\")","v":"00:00:00"},{"$f":"IFERROR(Gerar_Upload!F1426,\"erro\")","v":0},{"$f":"IFERROR(IF(Gerar_Upload!G1426<44,REPT(0,44-LEN(Gerar_Upload!G1426))&Gerar_Upload!G1426,Gerar_Upload!G1426),\"erro\")","v":"00000000000000000000000000000000000000000000"}]
[{"$f":"IFERROR(LEFT(Gerar_Upload!A1427,120),\"erro\")","v":""},{"$f":"IFERROR(SUBSTITUTE(SUBSTITUTE(SUBSTITUTE(Gerar_Upload!B1427,\".\",\"\"),\"-\",\"\"),\"/\",\"\"),\"erro\")","v":""},{"$f":"IFERROR(Gerar_Upload!C1427,\"erro\")","v":0},{"$f":"IFERROR(Gerar_Upload!D1427,\"erro\")","v":0},{"$f":"IFERROR(DATE(YEAR(Gerar_Upload!E1427),MONTH(Gerar_Upload!E1427),DAY(Gerar_Upload!E1427)),\"erro\")","v":"00:00:00"},{"$f":"IFERROR(Gerar_Upload!F1427,\"erro\")","v":0},{"$f":"IFERROR(IF(Gerar_Upload!G1427<44,REPT(0,44-LEN(Gerar_Upload!G1427))&Gerar_Upload!G1427,Gerar_Upload!G1427),\"erro\")","v":"00000000000000000000000000000000000000000000"}]
[{"$f":"IFERROR(LEFT(Gerar_Upload!A1428,120),\"erro\")","v":""},{"$f":"IFERROR(SUBSTITUTE(SUBSTITUTE(SUBSTITUTE(Gerar_Upload!B1428,\".\",\"\"),\"-\",\"\"),\"/\",\"\"),\"erro\")","v":""},{"$f":"IFERROR(Gerar_Upload!C1428,\"erro\")","v":0},{"$f":"IFERROR(Gerar_Upload!D1428,\"erro\")","v":0},{"$f":"IFERROR(DATE(YEAR(Gerar_Upload!E1428),MONTH(Gerar_Upload!E1428),DAY(Gerar_Upload!E1428)),\"erro\")","v":"00:00:00"},{"$f":"IFERROR(Gerar_Upload!F1428,\"erro\")","v":0},{"$f":"IFERROR(IF(Gerar_Upload!G1428<44,REPT(0,44-LEN(Gerar_Upload!G1428))&Gerar_Upload!G1428,Gerar_Upload!G1428),\"erro\")","v":"00000000000000000000000000000000000000000000"}]
[{"$f":"IFERROR(LEFT(Gerar_Upload!A1429,120),\"erro\")","v":""},{"$f":"IFERROR(SUBSTITUTE(SUBSTITUTE(SUBSTITUTE(Gerar_Upload!B1429,\".\",\"\"),\"-\",\"\"),\"/\",\"\"),\"erro\")","v":""},{"$f":"IFERROR(Gerar_Upload!C1429,\"erro\")","v":0},{"$f":"IFERROR(Gerar_Upload!D1429,\"erro\")","v":0},{"$f":"IFERROR(DATE(YEAR(Gerar_Upload!E1429),MONTH(Gerar_Upload!E1429),DAY(Gerar_Upload!E1429)),\"erro\")","v":"00:00:00"},{"$f":"IFERROR(Gerar_Upload!F1429,\"erro\")","v":0},{"$f":"IFERROR(IF(Gerar_Upload!G1429<44,REPT(0,44-LEN(Gerar_Upload!G1429))&Gerar_Upload!G1429,Gerar_Upload!G1429),\"erro\")","v":"00000000000000000000000000000000000000000000"}]
[{"$f":"IFERROR(LEFT(Gerar_Upload!A1430,120),\"erro\")","v":""},{"$f":"IFERROR(SUBSTITUTE(SUBSTITUTE(SUBSTITUTE(Gerar_Upload!B1430,\".\",\"\"),\"-\",\"\"),\"/\",\"\"),\"erro\")","v":""},{"$f":"IFERROR(Gerar_Upload!C1430,\"erro\")","v":0},{"$f":"IFERROR(Gerar_Upload!D1430,\"erro\")","v":0},{"$f":"IFERROR(DATE(YEAR(Gerar_Upload!E1430),MONTH(Gerar_Upload!E1430),DAY(Gerar_Upload!E1430)),\"erro\")","v":"00:00:00"},{"$f":"IFERROR(Gerar_Upload!F1430,\"erro\")","v":0},{"$f":"IFERROR(IF(Gerar_Upload!G1430<44,REPT(0,44-LEN(Gerar_Upload!G1430))&Gerar_Upload!G1430,Gerar_Upload!G1430),\"erro\")","v":"00000000000000000000000000000000000000000000"}]
[{"$f":"IFERROR(LEFT(Gerar_Upload!A1431,120),\"erro\")","v":""},{"$f":"IFERROR(SUBSTITUTE(SUBSTITUTE(SUBSTITUTE(Gerar_Upload!B1431,\".\",\"\"),\"-\",\"\"),\"/\",\"\"),\"erro\")","v":""},{"$f":"IFERROR(Gerar_Upload!C1431,\"erro\")","v":0},{"$f":"IFERROR(Gerar_Upload!D1431,\"erro\")","v":0},{"$f":"IFERROR(DATE(YEAR(Gerar_Upload!E1431),MONTH(Gerar_Upload!E1431),DAY(Gerar_Upload!E1431)),\"erro\")","v":"00:00:00"},{"$f":"IFERROR(Gerar_Upload!F1431,\"erro\")","v":0},{"$f":"IFERROR(IF(Gerar_Upload!G1431<44,REPT(0,44-LEN(Gerar_Upload!G1431))&Gerar_Upload!G1431,Gerar_Upload!G1431),\"erro\")","v":"00000000000000000000000000000000000000000000"}]
[{"$f":"IFERROR(LEFT(Gerar_Upload!A1432,120),\"erro\")","v":""},{"$f":"IFERROR(SUBSTITUTE(SUBSTITUTE(SUBSTITUTE(Gerar_Upload!B1432,\".\",\"\"),\"-\",\"\"),\"/\",\"\"),\"erro\")","v":""},{"$f":"IFERROR(Gerar_Upload!C1432,\"erro\")","v":0},{"$f":"IFERROR(Gerar_Upload!D1432,\"erro\")","v":0},{"$f":"IFERROR(DATE(YEAR(Gerar_Upload!E1432),MONTH(Gerar_Upload!E1432),DAY(Gerar_Upload!E1432)),\"erro\")","v":"00:00:00"},{"$f":"IFERROR(Gerar_Upload!F1432,\"erro\")","v":0},{"$f":"IFERROR(IF(Gerar_Upload!G1432<44,REPT(0,44-LEN(Gerar_Upload!G1432))&Gerar_Upload!G1432,Gerar_Upload!G1432),\"erro\")","v":"00000000000000000000000000000000000000000000"}]
[{"$f":"IFERROR(LEFT(Gerar_Upload!A1433,120),\"erro\")","v":""},{"$f":"IFERROR(SUBSTITUTE(SUBSTITUTE(SUBSTITUTE(Gerar_Upload!B1433,\".\",\"\"),\"-\",\"\"),\"/\",\"\"),\"erro\")","v":""},{"$f":"IFERROR(Gerar_Upload!C1433,\"erro\")","v":0},{"$f":"IFERROR(Gerar_Upload!D1433,\"erro\")","v":0},{"$f":"IFERROR(DATE(YEAR(Gerar_Upload!E1433),MONTH(Gerar_Upload!E1433),DAY(Gerar_Upload!E1433)),\"erro\")","v":"00:00:00"},{"$f":"IFERROR(Gerar_Upload!F1433,\"erro\")","v":0},{"$f":"IFERROR(IF(Gerar_Upload!G1433<44,REPT(0,44-LEN(Gerar_Upload!G1433))&Gerar_Upload!G1433,Gerar_Upload!G1433),\"erro\")","v":"00000000000000000000000000000000000000000000"}]
[{"$f":"IFERROR(LEFT(Gerar_Upload!A1434,120),\"erro\")","v":""},{"$f":"IFERROR(SUBSTITUTE(SUBSTITUTE(SUBSTITUTE(Gerar_Upload!B1434,\".\",\"\"),\"-\",\"\"),\"/\",\"\"),\"erro\")","v":""},{"$f":"IFERROR(Gerar_Upload!C1434,\"erro\")","v":0},{"$f":"IFERROR(Gerar_Upload!D1434,\"erro\")","v":0},{"$f":"IFERROR(DATE(YEAR(Gerar_Upload!E1434),MONTH(Gerar_Upload!E1434),DAY(Gerar_Upload!E1434)),\"erro\")","v":"00:00:00"},{"$f":"IFERROR(Gerar_Upload!F1434,\"erro\")","v":0},{"$f":"IFERROR(IF(Gerar_Upload!G1434<44,REPT(0,44-LEN(Gerar_Upload!G1434))&Gerar_Upload!G1434,Gerar_Upload!G1434),\"erro\")","v":"00000000000000000000000000000000000000000000"}]
[{"$f":"IFERROR(LEFT(Gerar_Upload!A1435,120),\"erro\")","v":""},{"$f":"IFERROR(SUBSTITUTE(SUBSTITUTE(SUBSTITUTE(Gerar_Upload!B1435,\".\",\"\"),\"-\",\"\"),\"/\",\"\"),\"erro\")","v":""},{"$f":"IFERROR(Gerar_Upload!C1435,\"erro\")","v":0},{"$f":"IFERROR(Gerar_Upload!D1435,\"erro\")","v":0},{"$f":"IFERROR(DATE(YEAR(Gerar_Upload!E1435),MONTH(Gerar_Upload!E1435),DAY(Gerar_Upload!E1435)),\"erro\")","v":"00:00:00"},{"$f":"IFERROR(Gerar_Upload!F1435,\"erro\")","v":0},{"$f":"IFERROR(IF(Gerar_Upload!G1435<44,REPT(0,44-LEN(Gerar_Upload!G1435))&Gerar_Upload!G1435,Gerar_Upload!G1435),\"erro\")","v":"00000000000000000000000000000000000000000000"}]
[{"$f":"IFERROR(LEFT(Gerar_Upload!A1436,120),\"erro\")","v":""},{"$f":"IFERROR(SUBSTITUTE(SUBSTITUTE(SUBSTITUTE(Gerar_Upload!B1436,\".\",\"\"),\"-\",\"\"),\"/\",\"\"),\"erro\")","v":""},{"$f":"IFERROR(Gerar_Upload!C1436,\"erro\")","v":0},{"$f":"IFERROR(Gerar_Upload!D1436,\"erro\")","v":0},{"$f":"IFERROR(DATE(YEAR(Gerar_Upload!E1436),MONTH(Gerar_Upload!E1436),DAY(Gerar_Upload!E1436)),\"erro\")","v":"00:00:00"},{"$f":"IFERROR(Gerar_Upload!F1436,\"erro\")","v":0},{"$f":"IFERROR(IF(Gerar_Upload!G1436<44,REPT(0,44-LEN(Gerar_Upload!G1436))&Gerar_Upload!G1436,Gerar_Upload!G1436),\"erro\")","v":"00000000000000000000000000000000000000000000"}]
[{"$f":"IFERROR(LEFT(Gerar_Upload!A1437,120),\"erro\")","v":""},{"$f":"IFERROR(SUBSTITUTE(SUBSTITUTE(SUBSTITUTE(Gerar_Upload!B1437,\".\",\"\"),\"-\",\"\"),\"/\",\"\"),\"erro\")","v":""},{"$f":"IFERROR(Gerar_Upload!C1437,\"erro\")","v":0},{"$f":"IFERROR(Gerar_Upload!D1437,\"erro\")","v":0},{"$f":"IFERROR(DATE(YEAR(Gerar_Upload!E1437),MONTH(Gerar_Upload!E1437),DAY(Gerar_Upload!E1437)),\"erro\")","v":"00:00:00"},{"$f":"IFERROR(Gerar_Upload!F1437,\"erro\")","v":0},{"$f":"IFERROR(IF(Gerar_Upload!G1437<44,REPT(0,44-LEN(Gerar_Upload!G1437))&Gerar_Upload!G1437,Gerar_Upload!G1437),\"erro\")","v":"00000000000000000000000000000000000000000000"}]
[{"$f":"IFERROR(LEFT(Gerar_Upload!A1438,120),\"erro\")","v":""},{"$f":"IFERROR(SUBSTITUTE(SUBSTITUTE(SUBSTITUTE(Gerar_Upload!B1438,\".\",\"\"),\"-\",\"\"),\"/\",\"\"),\"erro\")","v":""},{"$f":"IFERROR(Gerar_Upload!C1438,\"erro\")","v":0},{"$f":"IFERROR(Gerar_Upload!D1438,\"erro\")","v":0},{"$f":"IFERROR(DATE(YEAR(Gerar_Upload!E1438),MONTH(Gerar_Upload!E1438),DAY(Gerar_Upload!E1438)),\"erro\")","v":"00:00:00"},{"$f":"IFERROR(Gerar_Upload!F1438,\"erro\")","v":0},{"$f":"IFERROR(IF(Gerar_Upload!G1438<44,REPT(0,44-LEN(Gerar_Upload!G1438))&Gerar_Upload!G1438,Gerar_Upload!G1438),\"erro\")","v":"00000000000000000000000000000000000000000000"}]
[{"$f":"IFERROR(LEFT(Gerar_Upload!A1439,120),\"erro\")","v":""},{"$f":"IFERROR(SUBSTITUTE(SUBSTITUTE(SUBSTITUTE(Gerar_Upload!B1439,\".\",\"\"),\"-\",\"\"),\"/\",\"\"),\"erro\")","v":""},{"$f":"IFERROR(Gerar_Upload!C1439,\"erro\")","v":0},{"$f":"IFERROR(Gerar_Upload!D1439,\"erro\")","v":0},{"$f":"IFERROR(DATE(YEAR(Gerar_Upload!E1439),MONTH(Gerar_Upload!E1439),DAY(Gerar_Upload!E1439)),\"erro\")","v":"00:00:00"},{"$f":"IFERROR(Gerar_Upload!F1439,\"erro\")","v":0},{"$f":"IFERROR(IF(Gerar_Upload!G1439<44,REPT(0,44-LEN(Gerar_Upload!G1439))&Gerar_Upload!G1439,Gerar_Upload!G1439),\"erro\")","v":"00000000000000000000000000000000000000000000"}]
[{"$f":"IFERROR(LEFT(Gerar_Upload!A1440,120),\"erro\")","v":""},{"$f":"IFERROR(SUBSTITUTE(SUBSTITUTE(SUBSTITUTE(Gerar_Upload!B1440,\".\",\"\"),\"-\",\"\"),\"/\",\"\"),\"erro\")","v":""},{"$f":"IFERROR(Gerar_Upload!C1440,\"erro\")","v":0},{"$f":"IFERROR(Gerar_Upload!D1440,\"erro\")","v":0},{"$f":"IFERROR(DATE(YEAR(Gerar_Upload!E1440),MONTH(Gerar_Upload!E1440),DAY(Gerar_Upload!E1440)),\"erro\")","v":"00:00:00"},{"$f":"IFERROR(Gerar_Upload!F1440,\"erro\")","v":0},{"$f":"IFERROR(IF(Gerar_Upload!G1440<44,REPT(0,44-LEN(Gerar_Upload!G1440))&Gerar_Upload!G1440,Gerar_Upload!G1440),\"erro\")","v":"00000000000000000000000000000000000000000000"}]
[{"$f":"IFERROR(LEFT(Gerar_Upload!A1441,120),\"erro\")","v":""},{"$f":"IFERROR(SUBSTITUTE(SUBSTITUTE(SUBSTITUTE(Gerar_Upload!B1441,\".\",\"\"),\"-\",\"\"),\"/\",\"\"),\"erro\")","v":""},{"$f":"IFERROR(Gerar_Upload!C1441,\"erro\")","v":0},{"$f":"IFERROR(Gerar_Upload!D1441,\"erro\")","v":0},{"$f":"IFERROR(DATE(YEAR(Gerar_Upload!E1441),MONTH(Gerar_Upload!E1441),DAY(Gerar_Upload!E1441)),\"erro\")","v":"00:00:00"},{"$f":"IFERROR(Gerar_Upload!F1441,\"erro\")","v":0},{"$f":"IFERROR(IF(Gerar_Upload!G1441<44,REPT(0,44-LEN(Gerar_Upload!G1441))&Gerar_Upload!G1441,Gerar_Upload!G1441),\"erro\")","v":"00000000000000000000000000000000000000000000"}]
[{"$f":"IFERROR(LEFT(Gerar_Upload!A1442,120),\"erro\")","v":""},{"$f":"IFERROR(SUBSTITUTE(SUBSTITUTE(SUBSTITUTE(Gerar_Upload!B1442,\".\",\"\"),\"-\",\"\"),\"/\",\"\"),\"erro\")","v":""},{"$f":"IFERROR(Gerar_Upload!C1442,\"erro\")","v":0},{"$f":"IFERROR(Gerar_Upload!D1442,\"erro\")","v":0},{"$f":"IFERROR(DATE(YEAR(Gerar_Upload!E1442),MONTH(Gerar_Upload!E1442),DAY(Gerar_Upload!E1442)),\"erro\")","v":"00:00:00"},{"$f":"IFERROR(Gerar_Upload!F1442,\"erro\")","v":0},{"$f":"IFERROR(IF(Gerar_Upload!G1442<44,REPT(0,44-LEN(Gerar_Upload!G1442))&Gerar_Upload!G1442,Gerar_Upload!G1442),\"erro\")","v":"00000000000000000000000000000000000000000000"}]
[{"$f":"IFERROR(LEFT(Gerar_Upload!A1443,120),\"erro\")","v":""},{"$f":"IFERROR(SUBSTITUTE(SUBSTITUTE(SUBSTITUTE(Gerar_Upload!B1443,\".\",\"\"),\"-\",\"\"),\"/\",\"\"),\"erro\")","v":""},{"$f":"IFERROR(Gerar_Upload!C1443,\"erro\")","v":0},{"$f":"IFERROR(Gerar_Upload!D1443,\"erro\")","v":0},{"$f":"IFERROR(DATE(YEAR(Gerar_Upload!E1443),MONTH(Gerar_Upload!E1443),DAY(Gerar_Upload!E1443)),\"erro\")","v":"00:00:00"},{"$f":"IFERROR(Gerar_Upload!F1443,\"erro\")","v":0},{"$f":"IFERROR(IF(Gerar_Upload!G1443<44,REPT(0,44-LEN(Gerar_Upload!G1443))&Gerar_Upload!G1443,Gerar_Upload!G1443),\"erro\")","v":"00000000000000000000000000000000000000000000"}]
[{"$f":"IFERROR(LEFT(Gerar_Upload!A1444,120),\"erro\")","v":""},{"$f":"IFERROR(SUBSTITUTE(SUBSTITUTE(SUBSTITUTE(Gerar_Upload!B1444,\".\",\"\"),\"-\",\"\"),\"/\",\"\"),\"erro\")","v":""},{"$f":"IFERROR(Gerar_Upload!C1444,\"erro\")","v":0},{"$f":"IFERROR(Gerar_Upload!D1444,\"erro\")","v":0},{"$f":"IFERROR(DATE(YEAR(Gerar_Upload!E1444),MONTH(Gerar_Upload!E1444),DAY(Gerar_Upload!E1444)),\"erro\")","v":"00:00:00"},{"$f":"IFERROR(Gerar_Upload!F1444,\"erro\")","v":0},{"$f":"IFERROR(IF(Gerar_Upload!G1444<44,REPT(0,44-LEN(Gerar_Upload!G1444))&Gerar_Upload!G1444,Gerar_Upload!G1444),\"erro\")","v":"00000000000000000000000000000000000000000000"}]
[{"$f":"IFERROR(LEFT(Gerar_Upload!A1445,120),\"erro\")","v":""},{"$f":"IFERROR(SUBSTITUTE(SUBSTITUTE(SUBSTITUTE(Gerar_Upload!B1445,\".\",\"\"),\"-\",\"\"),\"/\",\"\"),\"erro\")","v":""},{"$f":"IFERROR(Gerar_Upload!C1445,\"erro\")","v":0},{"$f":"IFERROR(Gerar_Upload!D1445,\"erro\")","v":0},{"$f":"IFERROR(DATE(YEAR(Gerar_Upload!E1445),MONTH(Gerar_Upload!E1445),DAY(Gerar_Upload!E1445)),\"erro\")","v":"00:00:00"},{"$f":"IFERROR(Gerar_Upload!F1445,\"erro\")","v":0},{"$f":"IFERROR(IF(Gerar_Upload!G1445<44,REPT(0,44-LEN(Gerar_Upload!G1445))&Gerar_Upload!G1445,Gerar_Upload!G1445),\"erro\")","v":"00000000000000000000000000000000000000000000"}]
[{"$f":"IFERROR(LEFT(Gerar_Upload!A1446,120),\"erro\")","v":""},{"$f":"IFERROR(SUBSTITUTE(SUBSTITUTE(SUBSTITUTE(Gerar_Upload!B1446,\".\",\"\"),\"-\",\"\"),\"/\",\"\"),\"erro\")","v":""},{"$f":"IFERROR(Gerar_Upload!C1446,\"erro\")","v":0},{"$f":"IFERROR(Gerar_Upload!D1446,\"erro\")","v":0},{"$f":"IFERROR(DATE(YEAR(Gerar_Upload!E1446),MONTH(Gerar_Upload!E1446),DAY(Gerar_Upload!E1446)),\"erro\")","v":"00:00:00"},{"$f":"IFERROR(Gerar_Upload!F1446,\"erro\")","v":0},{"$f":"IFERROR(IF(Gerar_Upload!G1446<44,REPT(0,44-LEN(Gerar_Upload!G1446))&Gerar_Upload!G1446,Gerar_Upload!G1446),\"erro\")","v":"00000000000000000000000000000000000000000000"}]
[{"$f":"IFERROR(LEFT(Gerar_Upload!A1447,120),\"erro\")","v":""},{"$f":"IFERROR(SUBSTITUTE(SUBSTITUTE(SUBSTITUTE(Gerar_Upload!B1447,\".\",\"\"),\"-\",\"\"),\"/\",\"\"),\"erro\")","v":""},{"$f":"IFERROR(Gerar_Upload!C1447,\"erro\")","v":0},{"$f":"IFERROR(Gerar_Upload!D1447,\"erro\")","v":0},{"$f":"IFERROR(DATE(YEAR(Gerar_Upload!E1447),MONTH(Gerar_Upload!E1447),DAY(Gerar_Upload!E1447)),\"erro\")","v":"00:00:00"},{"$f":"IFERROR(Gerar_Upload!F1447,\"erro\")","v":0},{"$f":"IFERROR(IF(Gerar_Upload!G1447<44,REPT(0,44-LEN(Gerar_Upload!G1447))&Gerar_Upload!G1447,Gerar_Upload!G1447),\"erro\")","v":"00000000000000000000000000000000000000000000"}]
[{"$f":"IFERROR(LEFT(Gerar_Upload!A1448,120),\"erro\")","v":""},{"$f":"IFERROR(SUBSTITUTE(SUBSTITUTE(SUBSTITUTE(Gerar_Upload!B1448,\".\",\"\"),\"-\",\"\"),\"/\",\"\"),\"erro\")","v":""},{"$f":"IFERROR(Gerar_Upload!C1448,\"erro\")","v":0},{"$f":"IFERROR(Gerar_Upload!D1448,\"erro\")","v":0},{"$f":"IFERROR(DATE(YEAR(Gerar_Upload!E1448),MONTH(Gerar_Upload!E1448),DAY(Gerar_Upload!E1448)),\"erro\")","v":"00:00:00"},{"$f":"IFERROR(Gerar_Upload!F1448,\"erro\")","v":0},{"$f":"IFERROR(IF(Gerar_Upload!G1448<44,REPT(0,44-LEN(Gerar_Upload!G1448))&Gerar_Upload!G1448,Gerar_Upload!G1448),\"erro\")","v":"00000000000000000000000000000000000000000000"}]
[{"$f":"IFERROR(LEFT(Gerar_Upload!A1449,120),\"erro\")","v":""},{"$f":"IFERROR(SUBSTITUTE(SUBSTITUTE(SUBSTITUTE(Gerar_Upload!B1449,\".\",\"\"),\"-\",\"\"),\"/\",\"\"),\"erro\")","v":""},{"$f":"IFERROR(Gerar_Upload!C1449,\"erro\")","v":0},{"$f":"IFERROR(Gerar_Upload!D1449,\"erro\")","v":0},{"$f":"IFERROR(DATE(YEAR(Gerar_Upload!E1449),MONTH(Gerar_Upload!E1449),DAY(Gerar_Upload!E1449)),\"erro\")","v":"00:00:00"},{"$f":"IFERROR(Gerar_Upload!F1449,\"erro\")","v":0},{"$f":"IFERROR(IF(Gerar_Upload!G1449<44,REPT(0,44-LEN(Gerar_Upload!G1449))&Gerar_Upload!G1449,Gerar_Upload!G1449),\"erro\")","v":"00000000000000000000000000000000000000000000"}]
[{"$f":"IFERROR(LEFT(Gerar_Upload!A1450,120),\"erro\")","v":""},{"$f":"IFERROR(SUBSTITUTE(SUBSTITUTE(SUBSTITUTE(Gerar_Upload!B1450,\".\",\"\"),\"-\",\"\"),\"/\",\"\"),\"erro\")","v":""},{"$f":"IFERROR(Gerar_Upload!C1450,\"erro\")","v":0},{"$f":"IFERROR(Gerar_Upload!D1450,\"erro\")","v":0},{"$f":"IFERROR(DATE(YEAR(Gerar_Upload!E1450),MONTH(Gerar_Upload!E1450),DAY(Gerar_Upload!E1450)),\"erro\")","v":"00:00:00"},{"$f":"IFERROR(Gerar_Upload!F1450,\"erro\")","v":0},{"$f":"IFERROR(IF(Gerar_Upload!G1450<44,REPT(0,44-LEN(Gerar_Upload!G1450))&Gerar_Upload!G1450,Gerar_Upload!G1450),\"erro\")","v":"00000000000000000000000000000000000000000000"}]
[{"$f":"IFERROR(LEFT(Gerar_Upload!A1451,120),\"erro\")","v":""},{"$f":"IFERROR(SUBSTITUTE(SUBSTITUTE(SUBSTITUTE(Gerar_Upload!B1451,\".\",\"\"),\"-\",\"\"),\"/\",\"\"),\"erro\")","v":""},{"$f":"IFERROR(Gerar_Upload!C1451,\"erro\")","v":0},{"$f":"IFERROR(Gerar_Upload!D1451,\"erro\")","v":0},{"$f":"IFERROR(DATE(YEAR(Gerar_Upload!E1451),MONTH(Gerar_Upload!E1451),DAY(Gerar_Upload!E1451)),\"erro\")","v":"00:00:00"},{"$f":"IFERROR(Gerar_Upload!F1451,\"erro\")","v":0},{"$f":"IFERROR(IF(Gerar_Upload!G1451<44,REPT(0,44-LEN(Gerar_Upload!G1451))&Gerar_Upload!G1451,Gerar_Upload!G1451),\"erro\")","v":"00000000000000000000000000000000000000000000"}]
[{"$f":"IFERROR(LEFT(Gerar_Upload!A1452,120),\"erro\")","v":""},{"$f":"IFERROR(SUBSTITUTE(SUBSTITUTE(SUBSTITUTE(Gerar_Upload!B1452,\".\",\"\"),\"-\",\"\"),\"/\",\"\"),\"erro\")","v":""},{"$f":"IFERROR(Gerar_Upload!C1452,\"erro\")","v":0},{"$f":"IFERROR(Gerar_Upload!D1452,\"erro\")","v":0},{"$f":"IFERROR(DATE(YEAR(Gerar_Upload!E1452),MONTH(Gerar_Upload!E1452),DAY(Gerar_Upload!E1452)),\"erro\")","v":"00:00:00"},{"$f":"IFERROR(Gerar_Upload!F1452,\"erro\")","v":0},{"$f":"IFERROR(IF(Gerar_Upload!G1452<44,REPT(0,44-LEN(Gerar_Upload!G1452))&Gerar_Upload!G1452,Gerar_Upload!G1452),\"erro\")","v":"00000000000000000000000000000000000000000000"}]
[{"$f":"IFERROR(LEFT(Gerar_Upload!A1453,120),\"erro\")","v":""},{"$f":"IFERROR(SUBSTITUTE(SUBSTITUTE(SUBSTITUTE(Gerar_Upload!B1453,\".\",\"\"),\"-\",\"\"),\"/\",\"\"),\"erro\")","v":""},{"$f":"IFERROR(Gerar_Upload!C1453,\"erro\")","v":0},{"$f":"IFERROR(Gerar_Upload!D1453,\"erro\")","v":0},{"$f":"IFERROR(DATE(YEAR(Gerar_Upload!E1453),MONTH(Gerar_Upload!E1453),DAY(Gerar_Upload!E1453)),\"erro\")","v":"00:00:00"},{"$f":"IFERROR(Gerar_Upload!F1453,\"erro\")","v":0},{"$f":"IFERROR(IF(Gerar_Upload!G1453<44,REPT(0,44-LEN(Gerar_Upload!G1453))&Gerar_Upload!G1453,Gerar_Upload!G1453),\"erro\")","v":"00000000000000000000000000000000000000000000"}]
[{"$f":"IFERROR(LEFT(Gerar_Upload!A1454,120),\"erro\")","v":""},{"$f":"IFERROR(SUBSTITUTE(SUBSTITUTE(SUBSTITUTE(Gerar_Upload!B1454,\".\",\"\"),\"-\",\"\"),\"/\",\"\"),\"erro\")","v":""},{"$f":"IFERROR(Gerar_Upload!C1454,\"erro\")","v":0},{"$f":"IFERROR(Gerar_Upload!D1454,\"erro\")","v":0},{"$f":"IFERROR(DATE(YEAR(Gerar_Upload!E1454),MONTH(Gerar_Upload!E1454),DAY(Gerar_Upload!E1454)),\"erro\")","v":"00:00:00"},{"$f":"IFERROR(Gerar_Upload!F1454,\"erro\")","v":0},{"$f":"IFERROR(IF(Gerar_Upload!G1454<44,REPT(0,44-LEN(Gerar_Upload!G1454))&Gerar_Upload!G1454,Gerar_Upload!G1454),\"erro\")","v":"00000000000000000000000000000000000000000000"}]
[{"$f":"IFERROR(LEFT(Gerar_Upload!A1455,120),\"erro\")","v":""},{"$f":"IFERROR(SUBSTITUTE(SUBSTITUTE(SUBSTITUTE(Gerar_Upload!B1455,\".\",\"\"),\"-\",\"\"),\"/\",\"\"),\"erro\")","v":""},{"$f":"IFERROR(Gerar_Upload!C1455,\"erro\")","v":0},{"$f":"IFERROR(Gerar_Upload!D1455,\"erro\")","v":0},{"$f":"IFERROR(DATE(YEAR(Gerar_Upload!E1455),MONTH(Gerar_Upload!E1455),DAY(Gerar_Upload!E1455)),\"erro\")","v":"00:00:00"},{"$f":"IFERROR(Gerar_Upload!F1455,\"erro\")","v":0},{"$f":"IFERROR(IF(Gerar_Upload!G1455<44,REPT(0,44-LEN(Gerar_Upload!G1455))&Gerar_Upload!G1455,Gerar_Upload!G1455),\"erro\")","v":"00000000000000000000000000000000000000000000"}]
[{"$f":"IFERROR(LEFT(Gerar_Upload!A1456,120),\"erro\")","v":""},{"$f":"IFERROR(SUBSTITUTE(SUBSTITUTE(SUBSTITUTE(Gerar_Upload!B1456,\".\",\"\"),\"-\",\"\"),\"/\",\"\"),\"erro\")","v":""},{"$f":"IFERROR(Gerar_Upload!C1456,\"erro\")","v":0},{"$f":"IFERROR(Gerar_Upload!D1456,\"erro\")","v":0},{"$f":"IFERROR(DATE(YEAR(Gerar_Upload!E1456),MONTH(Gerar_Upload!E1456),DAY(Gerar_Upload!E1456)),\"erro\")","v":"00:00:00"},{"$f":"IFERROR(Gerar_Upload!F1456,\"erro\")","v":0},{"$f":"IFERROR(IF(Gerar_Upload!G1456<44,REPT(0,44-LEN(Gerar_Upload!G1456))&Gerar_Upload!G1456,Gerar_Upload!G1456),\"erro\")","v":"00000000000000000000000000000000000000000000"}]
[{"$f":"IFERROR(LEFT(Gerar_Upload!A1457,120),\"erro\")","v":""},{"$f":"IFERROR(SUBSTITUTE(SUBSTITUTE(SUBSTITUTE(Gerar_Upload!B1457,\".\",\"\"),\"-\",\"\"),\"/\",\"\"),\"erro\")","v":""},{"$f":"IFERROR(Gerar_Upload!C1457,\"erro\")","v":0},{"$f":"IFERROR(Gerar_Upload!D1457,\"erro\")","v":0},{"$f":"IFERROR(DATE(YEAR(Gerar_Upload!E1457),MONTH(Gerar_Upload!E1457),DAY(Gerar_Upload!E1457)),\"erro\")","v":"00:00:00"},{"$f":"IFERROR(Gerar_Upload!F1457,\"erro\")","v":0},{"$f":"IFERROR(IF(Gerar_Upload!G1457<44,REPT(0,44-LEN(Gerar_Upload!G1457))&Gerar_Upload!G1457,Gerar_Upload!G1457),\"erro\")","v":"00000000000000000000000000000000000000000000"}]
[{"$f":"IFERROR(LEFT(Gerar_Upload!A1458,120),\"erro\")","v":""},{"$f":"IFERROR(SUBSTITUTE(SUBSTITUTE(SUBSTITUTE(Gerar_Upload!B1458,\".\",\"\"),\"-\",\"\"),\"/\",\"\"),\"erro\")","v":""},{"$f":"IFERROR(Gerar_Upload!C1458,\"erro\")","v":0},{"$f":"IFERROR(Gerar_Upload!D1458,\"erro\")","v":0},{"$f":"IFERROR(DATE(YEAR(Gerar_Upload!E1458),MONTH(Gerar_Upload!E1458),DAY(Gerar_Upload!E1458)),\"erro\")","v":"00:00:00"},{"$f":"IFERROR(Gerar_Upload!F1458,\"erro\")","v":0},{"$f":"IFERROR(IF(Gerar_Upload!G1458<44,REPT(0,44-LEN(Gerar_Upload!G1458))&Gerar_Upload!G1458,Gerar_Upload!G1458),\"erro\")","v":"00000000000000000000000000000000000000000000"}]
[{"$f":"IFERROR(LEFT(Gerar_Upload!A1459,120),\"erro\")","v":""},{"$f":"IFERROR(SUBSTITUTE(SUBSTITUTE(SUBSTITUTE(Gerar_Upload!B1459,\".\",\"\"),\"-\",\"\"),\"/\",\"\"),\"erro\")","v":""},{"$f":"IFERROR(Gerar_Upload!C1459,\"erro\")","v":0},{"$f":"IFERROR(Gerar_Upload!D1459,\"erro\")","v":0},{"$f":"IFERROR(DATE(YEAR(Gerar_Upload!E1459),MONTH(Gerar_Upload!E1459),DAY(Gerar_Upload!E1459)),\"erro\")","v":"00:00:00"},{"$f":"IFERROR(Gerar_Upload!F1459,\"erro\")","v":0},{"$f":"IFERROR(IF(Gerar_Upload!G1459<44,REPT(0,44-LEN(Gerar_Upload!G1459))&Gerar_Upload!G1459,Gerar_Upload!G1459),\"erro\")","v":"00000000000000000000000000000000000000000000"}]
[{"$f":"IFERROR(LEFT(Gerar_Upload!A1460,120),\"erro\")","v":""},{"$f":"IFERROR(SUBSTITUTE(SUBSTITUTE(SUBSTITUTE(Gerar_Upload!B1460,\".\",\"\"),\"-\",\"\"),\"/\",\"\"),\"erro\")","v":""},{"$f":"IFERROR(Gerar_Upload!C1460,\"erro\")","v":0},{"$f":"IFERROR(Gerar_Upload!D1460,\"erro\")","v":0},{"$f":"IFERROR(DATE(YEAR(Gerar_Upload!E1460),MONTH(Gerar_Upload!E1460),DAY(Gerar_Upload!E1460)),\"erro\")","v":"00:00:00"},{"$f":"IFERROR(Gerar_Upload!F1460,\"erro\")","v":0},{"$f":"IFERROR(IF(Gerar_Upload!G1460<44,REPT(0,44-LEN(Gerar_Upload!G1460))&Gerar_Upload!G1460,Gerar_Upload!G1460),\"erro\")","v":"00000000000000000000000000000000000000000000"}]
[{"$f":"IFERROR(LEFT(Gerar_Upload!A1461,120),\"erro\")","v":""},{"$f":"IFERROR(SUBSTITUTE(SUBSTITUTE(SUBSTITUTE(Gerar_Upload!B1461,\".\",\"\"),\"-\",\"\"),\"/\",\"\"),\"erro\")","v":""},{"$f":"IFERROR(Gerar_Upload!C1461,\"erro\")","v":0},{"$f":"IFERROR(Gerar_Upload!D1461,\"erro\")","v":0},{"$f":"IFERROR(DATE(YEAR(Gerar_Upload!E1461),MONTH(Gerar_Upload!E1461),DAY(Gerar_Upload!E1461)),\"erro\")","v":"00:00:00"},{"$f":"IFERROR(Gerar_Upload!F1461,\"erro\")","v":0},{"$f":"IFERROR(IF(Gerar_Upload!G1461<44,REPT(0,44-LEN(Gerar_Upload!G1461))&Gerar_Upload!G1461,Gerar_Upload!G1461),\"erro\")","v":"00000000000000000000000000000000000000000000"}]
[{"$f":"IFERROR(LEFT(Gerar_Upload!A1462,120),\"erro\")","v":""},{"$f":"IFERROR(SUBSTITUTE(SUBSTITUTE(SUBSTITUTE(Gerar_Upload!B1462,\".\",\"\"),\"-\",\"\"),\"/\",\"\"),\"erro\")","v":""},{"$f":"IFERROR(Gerar_Upload!C1462,\"erro\")","v":0},{"$f":"IFERROR(Gerar_Upload!D1462,\"erro\")","v":0},{"$f":"IFERROR(DATE(YEAR(Gerar_Upload!E1462),MONTH(Gerar_Upload!E1462),DAY(Gerar_Upload!E1462)),\"erro\")","v":"00:00:00"},{"$f":"IFERROR(Gerar_Upload!F1462,\"erro\")","v":0},{"$f":"IFERROR(IF(Gerar_Upload!G1462<44,REPT(0,44-LEN(Gerar_Upload!G1462))&Gerar_Upload!G1462,Gerar_Upload!G1462),\"erro\")","v":"00000000000000000000000000000000000000000000"}]
[{"$f":"IFERROR(LEFT(Gerar_Upload!A1463,120),\"erro\")","v":""},{"$f":"IFERROR(SUBSTITUTE(SUBSTITUTE(SUBSTITUTE(Gerar_Upload!B1463,\".\",\"\"),\"-\",\"\"),\"/\",\"\"),\"erro\")","v":""},{"$f":"IFERROR(Gerar_Upload!C1463,\"erro\")","v":0},{"$f":"IFERROR(Gerar_Upload!D1463,\"erro\")","v":0},{"$f":"IFERROR(DATE(YEAR(Gerar_Upload!E1463),MONTH(Gerar_Upload!E1463),DAY(Gerar_Upload!E1463)),\"erro\")","v":"00:00:00"},{"$f":"IFERROR(Gerar_Upload!F1463,\"erro\")","v":0},{"$f":"IFERROR(IF(Gerar_Upload!G1463<44,REPT(0,44-LEN(Gerar_Upload!G1463))&Gerar_Upload!G1463,Gerar_Upload!G1463),\"erro\")","v":"00000000000000000000000000000000000000000000"}]
[{"$f":"IFERROR(LEFT(Gerar_Upload!A1464,120),\"erro\")","v":""},{"$f":"IFERROR(SUBSTITUTE(SUBSTITUTE(SUBSTITUTE(Gerar_Upload!B1464,\".\",\"\"),\"-\",\"\"),\"/\",\"\"),\"erro\")","v":""},{"$f":"IFERROR(Gerar_Upload!C1464,\"erro\")","v":0},{"$f":"IFERROR(Gerar_Upload!D1464,\"erro\")","v":0},{"$f":"IFERROR(DATE(YEAR(Gerar_Upload!E1464),MONTH(Gerar_Upload!E1464),DAY(Gerar_Upload!E1464)),\"erro\")","v":"00:00:00"},{"$f":"IFERROR(Gerar_Upload!F1464,\"erro\")","v":0},{"$f":"IFERROR(IF(Gerar_Upload!G1464<44,REPT(0,44-LEN(Gerar_Upload!G1464))&Gerar_Upload!G1464,Gerar_Upload!G1464),\"erro\")","v":"00000000000000000000000000000000000000000000"}]
[{"$f":"IFERROR(LEFT(Gerar_Upload!A1465,120),\"erro\")","v":""},{"$f":"IFERROR(SUBSTITUTE(SUBSTITUTE(SUBSTITUTE(Gerar_Upload!B1465,\".\",\"\"),\"-\",\"\"),\"/\",\"\"),\"erro\")","v":""},{"$f":"IFERROR(Gerar_Upload!C1465,\"erro\")","v":0},{"$f":"IFERROR(Gerar_Upload!D1465,\"erro\")","v":0},{"$f":"IFERROR(DATE(YEAR(Gerar_Upload!E1465),MONTH(Gerar_Upload!E1465),DAY(Gerar_Upload!E1465)),\"erro\")","v":"00:00:00"},{"$f":"IFERROR(Gerar_Upload!F1465,\"erro\")","v":0},{"$f":"IFERROR(IF(Gerar_Upload!G1465<44,REPT(0,44-LEN(Gerar_Upload!G1465))&Gerar_Upload!G1465,Gerar_Upload!G1465),\"erro\")","v":"00000000000000000000000000000000000000000000"}]
[{"$f":"IFERROR(LEFT(Gerar_Upload!A1466,120),\"erro\")","v":""},{"$f":"IFERROR(SUBSTITUTE(SUBSTITUTE(SUBSTITUTE(Gerar_Upload!B1466,\".\",\"\"),\"-\",\"\"),\"/\",\"\"),\"erro\")","v":""},{"$f":"IFERROR(Gerar_Upload!C1466,\"erro\")","v":0},{"$f":"IFERROR(Gerar_Upload!D1466,\"erro\")","v":0},{"$f":"IFERROR(DATE(YEAR(Gerar_Upload!E1466),MONTH(Gerar_Upload!E1466),DAY(Gerar_Upload!E1466)),\"erro\")","v":"00:00:00"},{"$f":"IFERROR(Gerar_Upload!F1466,\"erro\")","v":0},{"$f":"IFERROR(IF(Gerar_Upload!G1466<44,REPT(0,44-LEN(Gerar_Upload!G1466))&Gerar_Upload!G1466,Gerar_Upload!G1466),\"erro\")","v":"00000000000000000000000000000000000000000000"}]
[{"$f":"IFERROR(LEFT(Gerar_Upload!A1467,120),\"erro\")","v":""},{"$f":"IFERROR(SUBSTITUTE(SUBSTITUTE(SUBSTITUTE(Gerar_Upload!B1467,\".\",\"\"),\"-\",\"\"),\"/\",\"\"),\"erro\")","v":""},{"$f":"IFERROR(Gerar_Upload!C1467,\"erro\")","v":0},{"$f":"IFERROR(Gerar_Upload!D1467,\"erro\")","v":0},{"$f":"IFERROR(DATE(YEAR(Gerar_Upload!E1467),MONTH(Gerar_Upload!E1467),DAY(Gerar_Upload!E1467)),\"erro\")","v":"00:00:00"},{"$f":"IFERROR(Gerar_Upload!F1467,\"erro\")","v":0},{"$f":"IFERROR(IF(Gerar_Upload!G1467<44,REPT(0,44-LEN(Gerar_Upload!G1467))&Gerar_Upload!G1467,Gerar_Upload!G1467),\"erro\")","v":"00000000000000000000000000000000000000000000"}]
[{"$f":"IFERROR(LEFT(Gerar_Upload!A1468,120),\"erro\")","v":""},{"$f":"IFERROR(SUBSTITUTE(SUBSTITUTE(SUBSTITUTE(Gerar_Upload!B1468,\".\",\"\"),\"-\",\"\"),\"/\",\"\"),\"erro\")","v":""},{"$f":"IFERROR(Gerar_Upload!C1468,\"erro\")","v":0},{"$f":"IFERROR(Gerar_Upload!D1468,\"erro\")","v":0},{"$f":"IFERROR(DATE(YEAR(Gerar_Upload!E1468),MONTH(Gerar_Upload!E1468),DAY(Gerar_Upload!E1468)),\"erro\")","v":"00:00:00"},{"$f":"IFERROR(Gerar_Upload!F1468,\"erro\")","v":0},{"$f":"IFERROR(IF(Gerar_Upload!G1468<44,REPT(0,44-LEN(Gerar_Upload!G1468))&Gerar_Upload!G1468,Gerar_Upload!G1468),\"erro\")","v":"00000000000000000000000000000000000000000000"}]
[{"$f":"IFERROR(LEFT(Gerar_Upload!A1469,120),\"erro\")","v":""},{"$f":"IFERROR(SUBSTITUTE(SUBSTITUTE(SUBSTITUTE(Gerar_Upload!B1469,\".\",\"\"),\"-\",\"\"),\"/\",\"\"),\"erro\")","v":""},{"$f":"IFERROR(Gerar_Upload!C1469,\"erro\")","v":0},{"$f":"IFERROR(Gerar_Upload!D1469,\"erro\")","v":0},{"$f":"IFERROR(DATE(YEAR(Gerar_Upload!E1469),MONTH(Gerar_Upload!E1469),DAY(Gerar_Upload!E1469)),\"erro\")","v":"00:00:00"},{"$f":"IFERROR(Gerar_Upload!F1469,\"erro\")","v":0},{"$f":"IFERROR(IF(Gerar_Upload!G1469<44,REPT(0,44-LEN(Gerar_Upload!G1469))&Gerar_Upload!G1469,Gerar_Upload!G1469),\"erro\")","v":"00000000000000000000000000000000000000000000"}]
[{"$f":"IFERROR(LEFT(Gerar_Upload!A1470,120),\"erro\")","v":""},{"$f":"IFERROR(SUBSTITUTE(SUBSTITUTE(SUBSTITUTE(Gerar_Upload!B1470,\".\",\"\"),\"-\",\"\"),\"/\",\"\"),\"erro\")","v":""},{"$f":"IFERROR(Gerar_Upload!C1470,\"erro\")","v":0},{"$f":"IFERROR(Gerar_Upload!D1470,\"erro\")","v":0},{"$f":"IFERROR(DATE(YEAR(Gerar_Upload!E1470),MONTH(Gerar_Upload!E1470),DAY(Gerar_Upload!E1470)),\"erro\")","v":"00:00:00"},{"$f":"IFERROR(Gerar_Upload!F1470,\"erro\")","v":0},{"$f":"IFERROR(IF(Gerar_Upload!G1470<44,REPT(0,44-LEN(Gerar_Upload!G1470))&Gerar_Upload!G1470,Gerar_Upload!G1470),\"erro\")","v":"00000000000000000000000000000000000000000000"}]
[{"$f":"IFERROR(LEFT(Gerar_Upload!A1471,120),\"erro\")","v":""},{"$f":"IFERROR(SUBSTITUTE(SUBSTITUTE(SUBSTITUTE(Gerar_Upload!B1471,\".\",\"\"),\"-\",\"\"),\"/\",\"\"),\"erro\")","v":""},{"$f":"IFERROR(Gerar_Upload!C1471,\"erro\")","v":0},{"$f":"IFERROR(Gerar_Upload!D1471,\"erro\")","v":0},{"$f":"IFERROR(DATE(YEAR(Gerar_Upload!E1471),MONTH(Gerar_Upload!E1471),DAY(Gerar_Upload!E1471)),\"erro\")","v":"00:00:00"},{"$f":"IFERROR(Gerar_Upload!F1471,\"erro\")","v":0},{"$f":"IFERROR(IF(Gerar_Upload!G1471<44,REPT(0,44-LEN(Gerar_Upload!G1471))&Gerar_Upload!G1471,Gerar_Upload!G1471),\"erro\")","v":"00000000000000000000000000000000000000000000"}]
[{"$f":"IFERROR(LEFT(Gerar_Upload!A1472,120),\"erro\")","v":""},{"$f":"IFERROR(SUBSTITUTE(SUBSTITUTE(SUBSTITUTE(Gerar_Upload!B1472,\".\",\"\"),\"-\",\"\"),\"/\",\"\"),\"erro\")","v":""},{"$f":"IFERROR(Gerar_Upload!C1472,\"erro\")","v":0},{"$f":"IFERROR(Gerar_Upload!D1472,\"erro\")","v":0},{"$f":"IFERROR(DATE(YEAR(Gerar_Upload!E1472),MONTH(Gerar_Upload!E1472),DAY(Gerar_Upload!E1472)),\"erro\")","v":"00:00:00"},{"$f":"IFERROR(Gerar_Upload!F1472,\"erro\")","v":0},{"$f":"IFERROR(IF(Gerar_Upload!G1472<44,REPT(0,44-LEN(Gerar_Upload!G1472))&Gerar_Upload!G1472,Gerar_Upload!G1472),\"erro\")","v":"00000000000000000000000000000000000000000000"}]
[{"$f":"IFERROR(LEFT(Gerar_Upload!A1473,120),\"erro\")","v":""},{"$f":"IFERROR(SUBSTITUTE(SUBSTITUTE(SUBSTITUTE(Gerar_Upload!B1473,\".\",\"\"),\"-\",\"\"),\"/\",\"\"),\"erro\")","v":""},{"$f":"IFERROR(Gerar_Upload!C1473,\"erro\")","v":0},{"$f":"IFERROR(Gerar_Upload!D1473,\"erro\")","v":0},{"$f":"IFERROR(DATE(YEAR(Gerar_Upload!E1473),MONTH(Gerar_Upload!E1473),DAY(Gerar_Upload!E1473)),\"erro\")","v":"00:00:00"},{"$f":"IFERROR(Gerar_Upload!F1473,\"erro\")","v":0},{"$f":"IFERROR(IF(Gerar_Upload!G1473<44,REPT(0,44-LEN(Gerar_Upload!G1473))&Gerar_Upload!G1473,Gerar_Upload!G1473),\"erro\")","v":"00000000000000000000000000000000000000000000"}]
[{"$f":"IFERROR(LEFT(Gerar_Upload!A1474,120),\"erro\")","v":""},{"$f":"IFERROR(SUBSTITUTE(SUBSTITUTE(SUBSTITUTE(Gerar_Upload!B1474,\".\",\"\"),\"-\",\"\"),\"/\",\"\"),\"erro\")","v":""},{"$f":"IFERROR(Gerar_Upload!C1474,\"erro\")","v":0},{"$f":"IFERROR(Gerar_Upload!D1474,\"erro\")","v":0},{"$f":"IFERROR(DATE(YEAR(Gerar_Upload!E1474),MONTH(Gerar_Upload!E1474),DAY(Gerar_Upload!E1474)),\"erro\")","v":"00:00:00"},{"$f":"IFERROR(Gerar_Upload!F1474,\"erro\")","v":0},{"$f":"IFERROR(IF(Gerar_Upload!G1474<44,REPT(0,44-LEN(Gerar_Upload!G1474))&Gerar_Upload!G1474,Gerar_Upload!G1474),\"erro\")","v":"00000000000000000000000000000000000000000000"}]
[{"$f":"IFERROR(LEFT(Gerar_Upload!A1475,120),\"erro\")","v":""},{"$f":"IFERROR(SUBSTITUTE(SUBSTITUTE(SUBSTITUTE(Gerar_Upload!B1475,\".\",\"\"),\"-\",\"\"),\"/\",\"\"),\"erro\")","v":""},{"$f":"IFERROR(Gerar_Upload!C1475,\"erro\")","v":0},{"$f":"IFERROR(Gerar_Upload!D1475,\"erro\")","v":0},{"$f":"IFERROR(DATE(YEAR(Gerar_Upload!E1475),MONTH(Gerar_Upload!E1475),DAY(Gerar_Upload!E1475)),\"erro\")","v":"00:00:00"},{"$f":"IFERROR(Gerar_Upload!F1475,\"erro\")","v":0},{"$f":"IFERROR(IF(Gerar_Upload!G1475<44,REPT(0,44-LEN(Gerar_Upload!G1475))&Gerar_Upload!G1475,Gerar_Upload!G1475),\"erro\")","v":"00000000000000000000000000000000000000000000"}]
[{"$f":"IFERROR(LEFT(Gerar_Upload!A1476,120),\"erro\")","v":""},{"$f":"IFERROR(SUBSTITUTE(SUBSTITUTE(SUBSTITUTE(Gerar_Upload!B1476,\".\",\"\"),\"-\",\"\"),\"/\",\"\"),\"erro\")","v":""},{"$f":"IFERROR(Gerar_Upload!C1476,\"erro\")","v":0},{"$f":"IFERROR(Gerar_Upload!D1476,\"erro\")","v":0},{"$f":"IFERROR(DATE(YEAR(Gerar_Upload!E1476),MONTH(Gerar_Upload!E1476),DAY(Gerar_Upload!E1476)),\"erro\")","v":"00:00:00"},{"$f":"IFERROR(Gerar_Upload!F1476,\"erro\")","v":0},{"$f":"IFERROR(IF(Gerar_Upload!G1476<44,REPT(0,44-LEN(Gerar_Upload!G1476))&Gerar_Upload!G1476,Gerar_Upload!G1476),\"erro\")","v":"00000000000000000000000000000000000000000000"}]
[{"$f":"IFERROR(LEFT(Gerar_Upload!A1477,120),\"erro\")","v":""},{"$f":"IFERROR(SUBSTITUTE(SUBSTITUTE(SUBSTITUTE(Gerar_Upload!B1477,\".\",\"\"),\"-\",\"\"),\"/\",\"\"),\"erro\")","v":""},{"$f":"IFERROR(Gerar_Upload!C1477,\"erro\")","v":0},{"$f":"IFERROR(Gerar_Upload!D1477,\"erro\")","v":0},{"$f":"IFERROR(DATE(YEAR(Gerar_Upload!E1477),MONTH(Gerar_Upload!E1477),DAY(Gerar_Upload!E1477)),\"erro\")","v":"00:00:00"},{"$f":"IFERROR(Gerar_Upload!F1477,\"erro\")","v":0},{"$f":"IFERROR(IF(Gerar_Upload!G1477<44,REPT(0,44-LEN(Gerar_Upload!G1477))&Gerar_Upload!G1477,Gerar_Upload!G1477),\"erro\")","v":"00000000000000000000000000000000000000000000"}]
[{"$f":"IFERROR(LEFT(Gerar_Upload!A1478,120),\"erro\")","v":""},{"$f":"IFERROR(SUBSTITUTE(SUBSTITUTE(SUBSTITUTE(Gerar_Upload!B1478,\".\",\"\"),\"-\",\"\"),\"/\",\"\"),\"erro\")","v":""},{"$f":"IFERROR(Gerar_Upload!C1478,\"erro\")","v":0},{"$f":"IFERROR(Gerar_Upload!D1478,\"erro\")","v":0},{"$f":"IFERROR(DATE(YEAR(Gerar_Upload!E1478),MONTH(Gerar_Upload!E1478),DAY(Gerar_Upload!E1478)),\"erro\")","v":"00:00:00"},{"$f":"IFERROR(Gerar_Upload!F1478,\"erro\")","v":0},{"$f":"IFERROR(IF(Gerar_Upload!G1478<44,REPT(0,44-LEN(Gerar_Upload!G1478))&Gerar_Upload!G1478,Gerar_Upload!G1478),\"erro\")","v":"00000000000000000000000000000000000000000000"}]
[{"$f":"IFERROR(LEFT(Gerar_Upload!A1479,120),\"erro\")","v":""},{"$f":"IFERROR(SUBSTITUTE(SUBSTITUTE(SUBSTITUTE(Gerar_Upload!B1479,\".\",\"\"),\"-\",\"\"),\"/\",\"\"),\"erro\")","v":""},{"$f":"IFERROR(Gerar_Upload!C1479,\"erro\")","v":0},{"$f":"IFERROR(Gerar_Upload!D1479,\"erro\")","v":0},{"$f":"IFERROR(DATE(YEAR(Gerar_Upload!E1479),MONTH(Gerar_Upload!E1479),DAY(Gerar_Upload!E1479)),\"erro\")","v":"00:00:00"},{"$f":"IFERROR(Gerar_Upload!F1479,\"erro\")","v":0},{"$f":"IFERROR(IF(Gerar_Upload!G1479<44,REPT(0,44-LEN(Gerar_Upload!G1479))&Gerar_Upload!G1479,Gerar_Upload!G1479),\"erro\")","v":"00000000000000000000000000000000000000000000"}]
[{"$f":"IFERROR(LEFT(Gerar_Upload!A1480,120),\"erro\")","v":""},{"$f":"IFERROR(SUBSTITUTE(SUBSTITUTE(SUBSTITUTE(Gerar_Upload!B1480,\".\",\"\"),\"-\",\"\"),\"/\",\"\"),\"erro\")","v":""},{"$f":"IFERROR(Gerar_Upload!C1480,\"erro\")","v":0},{"$f":"IFERROR(Gerar_Upload!D1480,\"erro\")","v":0},{"$f":"IFERROR(DATE(YEAR(Gerar_Upload!E1480),MONTH(Gerar_Upload!E1480),DAY(Gerar_Upload!E1480)),\"erro\")","v":"00:00:00"},{"$f":"IFERROR(Gerar_Upload!F1480,\"erro\")","v":0},{"$f":"IFERROR(IF(Gerar_Upload!G1480<44,REPT(0,44-LEN(Gerar_Upload!G1480))&Gerar_Upload!G1480,Gerar_Upload!G1480),\"erro\")","v":"00000000000000000000000000000000000000000000"}]
[{"$f":"IFERROR(LEFT(Gerar_Upload!A1481,120),\"erro\")","v":""},{"$f":"IFERROR(SUBSTITUTE(SUBSTITUTE(SUBSTITUTE(Gerar_Upload!B1481,\".\",\"\"),\"-\",\"\"),\"/\",\"\"),\"erro\")","v":""},{"$f":"IFERROR(Gerar_Upload!C1481,\"erro\")","v":0},{"$f":"IFERROR(Gerar_Upload!D1481,\"erro\")","v":0},{"$f":"IFERROR(DATE(YEAR(Gerar_Upload!E1481),MONTH(Gerar_Upload!E1481),DAY(Gerar_Upload!E1481)),\"erro\")","v":"00:00:00"},{"$f":"IFERROR(Gerar_Upload!F1481,\"erro\")","v":0},{"$f":"IFERROR(IF(Gerar_Upload!G1481<44,REPT(0,44-LEN(Gerar_Upload!G1481))&Gerar_Upload!G1481,Gerar_Upload!G1481),\"erro\")","v":"00000000000000000000000000000000000000000000"}]
[{"$f":"IFERROR(LEFT(Gerar_Upload!A1482,120),\"erro\")","v":""},{"$f":"IFERROR(SUBSTITUTE(SUBSTITUTE(SUBSTITUTE(Gerar_Upload!B1482,\".\",\"\"),\"-\",\"\"),\"/\",\"\"),\"erro\")","v":""},{"$f":"IFERROR(Gerar_Upload!C1482,\"erro\")","v":0},{"$f":"IFERROR(Gerar_Upload!D1482,\"erro\")","v":0},{"$f":"IFERROR(DATE(YEAR(Gerar_Upload!E1482),MONTH(Gerar_Upload!E1482),DAY(Gerar_Upload!E1482)),\"erro\")","v":"00:00:00"},{"$f":"IFERROR(Gerar_Upload!F1482,\"erro\")","v":0},{"$f":"IFERROR(IF(Gerar_Upload!G1482<44,REPT(0,44-LEN(Gerar_Upload!G1482))&Gerar_Upload!G1482,Gerar_Upload!G1482),\"erro\")","v":"00000000000000000000000000000000000000000000"}]
[{"$f":"IFERROR(LEFT(Gerar_Upload!A1483,120),\"erro\")","v":""},{"$f":"IFERROR(SUBSTITUTE(SUBSTITUTE(SUBSTITUTE(Gerar_Upload!B1483,\".\",\"\"),\"-\",\"\"),\"/\",\"\"),\"erro\")","v":""},{"$f":"IFERROR(Gerar_Upload!C1483,\"erro\")","v":0},{"$f":"IFERROR(Gerar_Upload!D1483,\"erro\")","v":0},{"$f":"IFERROR(DATE(YEAR(Gerar_Upload!E1483),MONTH(Gerar_Upload!E1483),DAY(Gerar_Upload!E1483)),\"erro\")","v":"00:00:00"},{"$f":"IFERROR(Gerar_Upload!F1483,\"erro\")","v":0},{"$f":"IFERROR(IF(Gerar_Upload!G1483<44,REPT(0,44-LEN(Gerar_Upload!G1483))&Gerar_Upload!G1483,Gerar_Upload!G1483),\"erro\")","v":"00000000000000000000000000000000000000000000"}]
[{"$f":"IFERROR(LEFT(Gerar_Upload!A1484,120),\"erro\")","v":""},{"$f":"IFERROR(SUBSTITUTE(SUBSTITUTE(SUBSTITUTE(Gerar_Upload!B1484,\".\",\"\"),\"-\",\"\"),\"/\",\"\"),\"erro\")","v":""},{"$f":"IFERROR(Gerar_Upload!C1484,\"erro\")","v":0},{"$f":"IFERROR(Gerar_Upload!D1484,\"erro\")","v":0},{"$f":"IFERROR(DATE(YEAR(Gerar_Upload!E1484),MONTH(Gerar_Upload!E1484),DAY(Gerar_Upload!E1484)),\"erro\")","v":"00:00:00"},{"$f":"IFERROR(Gerar_Upload!F1484,\"erro\")","v":0},{"$f":"IFERROR(IF(Gerar_Upload!G1484<44,REPT(0,44-LEN(Gerar_Upload!G1484))&Gerar_Upload!G1484,Gerar_Upload!G1484),\"erro\")","v":"00000000000000000000000000000000000000000000"}]
[{"$f":"IFERROR(LEFT(Gerar_Upload!A1485,120),\"erro\")","v":""},{"$f":"IFERROR(SUBSTITUTE(SUBSTITUTE(SUBSTITUTE(Gerar_Upload!B1485,\".\",\"\"),\"-\",\"\"),\"/\",\"\"),\"erro\")","v":""},{"$f":"IFERROR(Gerar_Upload!C1485,\"erro\")","v":0},{"$f":"IFERROR(Gerar_Upload!D1485,\"erro\")","v":0},{"$f":"IFERROR(DATE(YEAR(Gerar_Upload!E1485),MONTH(Gerar_Upload!E1485),DAY(Gerar_Upload!E1485)),\"erro\")","v":"00:00:00"},{"$f":"IFERROR(Gerar_Upload!F1485,\"erro\")","v":0},{"$f":"IFERROR(IF(Gerar_Upload!G1485<44,REPT(0,44-LEN(Gerar_Upload!G1485))&Gerar_Upload!G1485,Gerar_Upload!G1485),\"erro\")","v":"00000000000000000000000000000000000000000000"}]
[{"$f":"IFERROR(LEFT(Gerar_Upload!A1486,120),\"erro\")","v":""},{"$f":"IFERROR(SUBSTITUTE(SUBSTITUTE(SUBSTITUTE(Gerar_Upload!B1486,\".\",\"\"),\"-\",\"\"),\"/\",\"\"),\"erro\")","v":""},{"$f":"IFERROR(Gerar_Upload!C1486,\"erro\")","v":0},{"$f":"IFERROR(Gerar_Upload!D1486,\"erro\")","v":0},{"$f":"IFERROR(DATE(YEAR(Gerar_Upload!E1486),MONTH(Gerar_Upload!E1486),DAY(Gerar_Upload!E1486)),\"erro\")","v":"00:00:00"},{"$f":"IFERROR(Gerar_Upload!F1486,\"erro\")","v":0},{"$f":"IFERROR(IF(Gerar_Upload!G1486<44,REPT(0,44-LEN(Gerar_Upload!G1486))&Gerar_Upload!G1486,Gerar_Upload!G1486),\"erro\")","v":"00000000000000000000000000000000000000000000"}]
[{"$f":"IFERROR(LEFT(Gerar_Upload!A1487,120),\"erro\")","v":""},{"$f":"IFERROR(SUBSTITUTE(SUBSTITUTE(SUBSTITUTE(Gerar_Upload!B1487,\".\",\"\"),\"-\",\"\"),\"/\",\"\"),\"erro\")","v":""},{"$f":"IFERROR(Gerar_Upload!C1487,\"erro\")","v":0},{"$f":"IFERROR(Gerar_Upload!D1487,\"erro\")","v":0},{"$f":"IFERROR(DATE(YEAR(Gerar_Upload!E1487),MONTH(Gerar_Upload!E1487),DAY(Gerar_Upload!E1487)),\"erro\")","v":"00:00:00"},{"$f":"IFERROR(Gerar_Upload!F1487,\"erro\")","v":0},{"$f":"IFERROR(IF(Gerar_Upload!G1487<44,REPT(0,44-LEN(Gerar_Upload!G1487))&Gerar_Upload!G1487,Gerar_Upload!G1487),\"erro\")","v":"00000000000000000000000000000000000000000000"}]
[{"$f":"IFERROR(LEFT(Gerar_Upload!A1488,120),\"erro\")","v":""},{"$f":"IFERROR(SUBSTITUTE(SUBSTITUTE(SUBSTITUTE(Gerar_Upload!B1488,\".\",\"\"),\"-\",\"\"),\"/\",\"\"),\"erro\")","v":""},{"$f":"IFERROR(Gerar_Upload!C1488,\"erro\")","v":0},{"$f":"IFERROR(Gerar_Upload!D1488,\"erro\")","v":0},{"$f":"IFERROR(DATE(YEAR(Gerar_Upload!E1488),MONTH(Gerar_Upload!E1488),DAY(Gerar_Upload!E1488)),\"erro\")","v":"00:00:00"},{"$f":"IFERROR(Gerar_Upload!F1488,\"erro\")","v":0},{"$f":"IFERROR(IF(Gerar_Upload!G1488<44,REPT(0,44-LEN(Gerar_Upload!G1488))&Gerar_Upload!G1488,Gerar_Upload!G1488),\"erro\")","v":"00000000000000000000000000000000000000000000"}]
[{"$f":"IFERROR(LEFT(Gerar_Upload!A1489,120),\"erro\")","v":""},{"$f":"IFERROR(SUBSTITUTE(SUBSTITUTE(SUBSTITUTE(Gerar_Upload!B1489,\".\",\"\"),\"-\",\"\"),\"/\",\"\"),\"erro\")","v":""},{"$f":"IFERROR(Gerar_Upload!C1489,\"erro\")","v":0},{"$f":"IFERROR(Gerar_Upload!D1489,\"erro\")","v":0},{"$f":"IFERROR(DATE(YEAR(Gerar_Upload!E1489),MONTH(Gerar_Upload!E1489),DAY(Gerar_Upload!E1489)),\"erro\")","v":"00:00:00"},{"$f":"IFERROR(Gerar_Upload!F1489,\"erro\")","v":0},{"$f":"IFERROR(IF(Gerar_Upload!G1489<44,REPT(0,44-LEN(Gerar_Upload!G1489))&Gerar_Upload!G1489,Gerar_Upload!G1489),\"erro\")","v":"00000000000000000000000000000000000000000000"}]
[{"$f":"IFERROR(LEFT(Gerar_Upload!A1490,120),\"erro\")","v":""},{"$f":"IFERROR(SUBSTITUTE(SUBSTITUTE(SUBSTITUTE(Gerar_Upload!B1490,\".\",\"\"),\"-\",\"\"),\"/\",\"\"),\"erro\")","v":""},{"$f":"IFERROR(Gerar_Upload!C1490,\"erro\")","v":0},{"$f":"IFERROR(Gerar_Upload!D1490,\"erro\")","v":0},{"$f":"IFERROR(DATE(YEAR(Gerar_Upload!E1490),MONTH(Gerar_Upload!E1490),DAY(Gerar_Upload!E1490)),\"erro\")","v":"00:00:00"},{"$f":"IFERROR(Gerar_Upload!F1490,\"erro\")","v":0},{"$f":"IFERROR(IF(Gerar_Upload!G1490<44,REPT(0,44-LEN(Gerar_Upload!G1490))&Gerar_Upload!G1490,Gerar_Upload!G1490),\"erro\")","v":"00000000000000000000000000000000000000000000"}]
[{"$f":"IFERROR(LEFT(Gerar_Upload!A1491,120),\"erro\")","v":""},{"$f":"IFERROR(SUBSTITUTE(SUBSTITUTE(SUBSTITUTE(Gerar_Upload!B1491,\".\",\"\"),\"-\",\"\"),\"/\",\"\"),\"erro\")","v":""},{"$f":"IFERROR(Gerar_Upload!C1491,\"erro\")","v":0},{"$f":"IFERROR(Gerar_Upload!D1491,\"erro\")","v":0},{"$f":"IFERROR(DATE(YEAR(Gerar_Upload!E1491),MONTH(Gerar_Upload!E1491),DAY(Gerar_Upload!E1491)),\"erro\")","v":"00:00:00"},{"$f":"IFERROR(Gerar_Upload!F1491,\"erro\")","v":0},{"$f":"IFERROR(IF(Gerar_Upload!G1491<44,REPT(0,44-LEN(Gerar_Upload!G1491))&Gerar_Upload!G1491,Gerar_Upload!G1491),\"erro\")","v":"00000000000000000000000000000000000000000000"}]
[{"$f":"IFERROR(LEFT(Gerar_Upload!A1492,120),\"erro\")","v":""},{"$f":"IFERROR(SUBSTITUTE(SUBSTITUTE(SUBSTITUTE(Gerar_Upload!B1492,\".\",\"\"),\"-\",\"\"),\"/\",\"\"),\"erro\")","v":""},{"$f":"IFERROR(Gerar_Upload!C1492,\"erro\")","v":0},{"$f":"IFERROR(Gerar_Upload!D1492,\"erro\")","v":0},{"$f":"IFERROR(DATE(YEAR(Gerar_Upload!E1492),MONTH(Gerar_Upload!E1492),DAY(Gerar_Upload!E1492)),\"erro\")","v":"00:00:00"},{"$f":"IFERROR(Gerar_Upload!F1492,\"erro\")","v":0},{"$f":"IFERROR(IF(Gerar_Upload!G1492<44,REPT(0,44-LEN(Gerar_Upload!G1492))&Gerar_Upload!G1492,Gerar_Upload!G1492),\"erro\")","v":"00000000000000000000000000000000000000000000"}]
[{"$f":"IFERROR(LEFT(Gerar_Upload!A1493,120),\"erro\")","v":""},{"$f":"IFERROR(SUBSTITUTE(SUBSTITUTE(SUBSTITUTE(Gerar_Upload!B1493,\".\",\"\"),\"-\",\"\"),\"/\",\"\"),\"erro\")","v":""},{"$f":"IFERROR(Gerar_Upload!C1493,\"erro\")","v":0},{"$f":"IFERROR(Gerar_Upload!D1493,\"erro\")","v":0},{"$f":"IFERROR(DATE(YEAR(Gerar_Upload!E1493),MONTH(Gerar_Upload!E1493),DAY(Gerar_Upload!E1493)),\"erro\")","v":"00:00:00"},{"$f":"IFERROR(Gerar_Upload!F1493,\"erro\")","v":0},{"$f":"IFERROR(IF(Gerar_Upload!G1493<44,REPT(0,44-LEN(Gerar_Upload!G1493))&Gerar_Upload!G1493,Gerar_Upload!G1493),\"erro\")","v":"00000000000000000000000000000000000000000000"}]
[{"$f":"IFERROR(LEFT(Gerar_Upload!A1494,120),\"erro\")","v":""},{"$f":"IFERROR(SUBSTITUTE(SUBSTITUTE(SUBSTITUTE(Gerar_Upload!B1494,\".\",\"\"),\"-\",\"\"),\"/\",\"\"),\"erro\")","v":""},{"$f":"IFERROR(Gerar_Upload!C1494,\"erro\")","v":0},{"$f":"IFERROR(Gerar_Upload!D1494,\"erro\")","v":0},{"$f":"IFERROR(DATE(YEAR(Gerar_Upload!E1494),MONTH(Gerar_Upload!E1494),DAY(Gerar_Upload!E1494)),\"erro\")","v":"00:00:00"},{"$f":"IFERROR(Gerar_Upload!F1494,\"erro\")","v":0},{"$f":"IFERROR(IF(Gerar_Upload!G1494<44,REPT(0,44-LEN(Gerar_Upload!G1494))&Gerar_Upload!G1494,Gerar_Upload!G1494),\"erro\")","v":"00000000000000000000000000000000000000000000"}]
[{"$f":"IFERROR(LEFT(Gerar_Upload!A1495,120),\"erro\")","v":""},{"$f":"IFERROR(SUBSTITUTE(SUBSTITUTE(SUBSTITUTE(Gerar_Upload!B1495,\".\",\"\"),\"-\",\"\"),\"/\",\"\"),\"erro\")","v":""},{"$f":"IFERROR(Gerar_Upload!C1495,\"erro\")","v":0},{"$f":"IFERROR(Gerar_Upload!D1495,\"erro\")","v":0},{"$f":"IFERROR(DATE(YEAR(Gerar_Upload!E1495),MONTH(Gerar_Upload!E1495),DAY(Gerar_Upload!E1495)),\"erro\")","v":"00:00:00"},{"$f":"IFERROR(Gerar_Upload!F1495,\"erro\")","v":0},{"$f":"IFERROR(IF(Gerar_Upload!G1495<44,REPT(0,44-LEN(Gerar_Upload!G1495))&Gerar_Upload!G1495,Gerar_Upload!G1495),\"erro\")","v":"00000000000000000000000000000000000000000000"}]
[{"$f":"IFERROR(LEFT(Gerar_Upload!A1496,120),\"erro\")","v":""},{"$f":"IFERROR(SUBSTITUTE(SUBSTITUTE(SUBSTITUTE(Gerar_Upload!B1496,\".\",\"\"),\"-\",\"\"),\"/\",\"\"),\"erro\")","v":""},{"$f":"IFERROR(Gerar_Upload!C1496,\"erro\")","v":0},{"$f":"IFERROR(Gerar_Upload!D1496,\"erro\")","v":0},{"$f":"IFERROR(DATE(YEAR(Gerar_Upload!E1496),MONTH(Gerar_Upload!E1496),DAY(Gerar_Upload!E1496)),\"erro\")","v":"00:00:00"},{"$f":"IFERROR(Gerar_Upload!F1496,\"erro\")","v":0},{"$f":"IFERROR(IF(Gerar_Upload!G1496<44,REPT(0,44-LEN(Gerar_Upload!G1496))&Gerar_Upload!G1496,Gerar_Upload!G1496),\"erro\")","v":"00000000000000000000000000000000000000000000"}]
[{"$f":"IFERROR(LEFT(Gerar_Upload!A1497,120),\"erro\")","v":""},{"$f":"IFERROR(SUBSTITUTE(SUBSTITUTE(SUBSTITUTE(Gerar_Upload!B1497,\".\",\"\"),\"-\",\"\"),\"/\",\"\"),\"erro\")","v":""},{"$f":"IFERROR(Gerar_Upload!C1497,\"erro\")","v":0},{"$f":"IFERROR(Gerar_Upload!D1497,\"erro\")","v":0},{"$f":"IFERROR(DATE(YEAR(Gerar_Upload!E1497),MONTH(Gerar_Upload!E1497),DAY(Gerar_Upload!E1497)),\"erro\")","v":"00:00:00"},{"$f":"IFERROR(Gerar_Upload!F1497,\"erro\")","v":0},{"$f":"IFERROR(IF(Gerar_Upload!G1497<44,REPT(0,44-LEN(Gerar_Upload!G1497))&Gerar_Upload!G1497,Gerar_Upload!G1497),\"erro\")","v":"00000000000000000000000000000000000000000000"}]
[{"$f":"IFERROR(LEFT(Gerar_Upload!A1498,120),\"erro\")","v":""},{"$f":"IFERROR(SUBSTITUTE(SUBSTITUTE(SUBSTITUTE(Gerar_Upload!B1498,\".\",\"\"),\"-\",\"\"),\"/\",\"\"),\"erro\")","v":""},{"$f":"IFERROR(Gerar_Upload!C1498,\"erro\")","v":0},{"$f":"IFERROR(Gerar_Upload!D1498,\"erro\")","v":0},{"$f":"IFERROR(DATE(YEAR(Gerar_Upload!E1498),MONTH(Gerar_Upload!E1498),DAY(Gerar_Upload!E1498)),\"erro\")","v":"00:00:00"},{"$f":"IFERROR(Gerar_Upload!F1498,\"erro\")","v":0},{"$f":"IFERROR(IF(Gerar_Upload!G1498<44,REPT(0,44-LEN(Gerar_Upload!G1498))&Gerar_Upload!G1498,Gerar_Upload!G1498),\"erro\")","v":"00000000000000000000000000000000000000000000"}]
[{"$f":"IFERROR(LEFT(Gerar_Upload!A1499,120),\"erro\")","v":""},{"$f":"IFERROR(SUBSTITUTE(SUBSTITUTE(SUBSTITUTE(Gerar_Upload!B1499,\".\",\"\"),\"-\",\"\"),\"/\",\"\"),\"erro\")","v":""},{"$f":"IFERROR(Gerar_Upload!C1499,\"erro\")","v":0},{"$f":"IFERROR(Gerar_Upload!D1499,\"erro\")","v":0},{"$f":"IFERROR(DATE(YEAR(Gerar_Upload!E1499),MONTH(Gerar_Upload!E1499),DAY(Gerar_Upload!E1499)),\"erro\")","v":"00:00:00"},{"$f":"IFERROR(Gerar_Upload!F1499,\"erro\")","v":0},{"$f":"IFERROR(IF(Gerar_Upload!G1499<44,REPT(0,44-LEN(Gerar_Upload!G1499))&Gerar_Upload!G1499,Gerar_Upload!G1499),\"erro\")","v":"00000000000000000000000000000000000000000000"}]
[{"$f":"IFERROR(LEFT(Gerar_Upload!A1500,120),\"erro\")","v":""},{"$f":"IFERROR(SUBSTITUTE(SUBSTITUTE(SUBSTITUTE(Gerar_Upload!B1500,\".\",\"\"),\"-\",\"\"),\"/\",\"\"),\"erro\")","v":""},{"$f":"IFERROR(Gerar_Upload!C1500,\"erro\")","v":0},{"$f":"IFERROR(Gerar_Upload!D1500,\"erro\")","v":0},{"$f":"IFERROR(DATE(YEAR(Gerar_Upload!E1500),MONTH(Gerar_Upload!E1500),DAY(Gerar_Upload!E1500)),\"erro\")","v":"00:00:00"},{"$f":"IFERROR(Gerar_Upload!F1500,\"erro\")","v":0},{"$f":"IFERROR(IF(Gerar_Upload!G1500<44,REPT(0,44-LEN(Gerar_Upload!G1500))&Gerar_Upload!G1500,Gerar_Upload!G1500),\"erro\")","v":"00000000000000000000000000000000000000000000"}]
[{"$f":"IFERROR(LEFT(Gerar_Upload!A1501,120),\"erro\")","v":""},{"$f":"IFERROR(SUBSTITUTE(SUBSTITUTE(SUBSTITUTE(Gerar_Upload!B1501,\".\",\"\"),\"-\",\"\"),\"/\",\"\"),\"erro\")","v":""},{"$f":"IFERROR(Gerar_Upload!C1501,\"erro\")","v":0},{"$f":"IFERROR(Gerar_Upload!D1501,\"erro\")","v":0},{"$f":"IFERROR(DATE(YEAR(Gerar_Upload!E1501),MONTH(Gerar_Upload!E1501),DAY(Gerar_Upload!E1501)),\"erro\")","v":"00:00:00"},{"$f":"IFERROR(Gerar_Upload!F1501,\"erro\")","v":0},{"$f":"IFERROR(IF(Gerar_Upload!G1501<44,REPT(0,44-LEN(Gerar_Upload!G1501))&Gerar_Upload!G1501,Gerar_Upload!G1501),\"erro\")","v":"00000000000000000000000000000000000000000000"}]
[{"$f":"IFERROR(LEFT(Gerar_Upload!A1502,120),\"erro\")","v":""},{"$f":"IFERROR(SUBSTITUTE(SUBSTITUTE(SUBSTITUTE(Gerar_Upload!B1502,\".\",\"\"),\"-\",\"\"),\"/\",\"\"),\"erro\")","v":""},{"$f":"IFERROR(Gerar_Upload!C1502,\"erro\")","v":0},{"$f":"IFERROR(Gerar_Upload!D1502,\"erro\")","v":0},{"$f":"IFERROR(DATE(YEAR(Gerar_Upload!E1502),MONTH(Gerar_Upload!E1502),DAY(Gerar_Upload!E1502)),\"erro\")","v":"00:00:00"},{"$f":"IFERROR(Gerar_Upload!F1502,\"erro\")","v":0},{"$f":"IFERROR(IF(Gerar_Upload!G1502<44,REPT(0,44-LEN(Gerar_Upload!G1502))&Gerar_Upload!G1502,Gerar_Upload!G1502),\"erro\")","v":"00000000000000000000000000000000000000000000"}]
[{"$f":"IFERROR(LEFT(Gerar_Upload!A1503,120),\"erro\")","v":""},{"$f":"IFERROR(SUBSTITUTE(SUBSTITUTE(SUBSTITUTE(Gerar_Upload!B1503,\".\",\"\"),\"-\",\"\"),\"/\",\"\"),\"erro\")","v":""},{"$f":"IFERROR(Gerar_Upload!C1503,\"erro\")","v":0},{"$f":"IFERROR(Gerar_Upload!D1503,\"erro\")","v":0},{"$f":"IFERROR(DATE(YEAR(Gerar_Upload!E1503),MONTH(Gerar_Upload!E1503),DAY(Gerar_Upload!E1503)),\"erro\")","v":"00:00:00"},{"$f":"IFERROR(Gerar_Upload!F1503,\"erro\")","v":0},{"$f":"IFERROR(IF(Gerar_Upload!G1503<44,REPT(0,44-LEN(Gerar_Upload!G1503))&Gerar_Upload!G1503,Gerar_Upload!G1503),\"erro\")","v":"00000000000000000000000000000000000000000000"}]
[{"$f":"IFERROR(LEFT(Gerar_Upload!A1504,120),\"erro\")","v":""},{"$f":"IFERROR(SUBSTITUTE(SUBSTITUTE(SUBSTITUTE(Gerar_Upload!B1504,\".\",\"\"),\"-\",\"\"),\"/\",\"\"),\"erro\")","v":""},{"$f":"IFERROR(Gerar_Upload!C1504,\"erro\")","v":0},{"$f":"IFERROR(Gerar_Upload!D1504,\"erro\")","v":0},{"$f":"IFERROR(DATE(YEAR(Gerar_Upload!E1504),MONTH(Gerar_Upload!E1504),DAY(Gerar_Upload!E1504)),\"erro\")","v":"00:00:00"},{"$f":"IFERROR(Gerar_Upload!F1504,\"erro\")","v":0},{"$f":"IFERROR(IF(Gerar_Upload!G1504<44,REPT(0,44-LEN(Gerar_Upload!G1504))&Gerar_Upload!G1504,Gerar_Upload!G1504),\"erro\")","v":"00000000000000000000000000000000000000000000"}]
[{"$f":"IFERROR(LEFT(Gerar_Upload!A1505,120),\"erro\")","v":""},{"$f":"IFERROR(SUBSTITUTE(SUBSTITUTE(SUBSTITUTE(Gerar_Upload!B1505,\".\",\"\"),\"-\",\"\"),\"/\",\"\"),\"erro\")","v":""},{"$f":"IFERROR(Gerar_Upload!C1505,\"erro\")","v":0},{"$f":"IFERROR(Gerar_Upload!D1505,\"erro\")","v":0},{"$f":"IFERROR(DATE(YEAR(Gerar_Upload!E1505),MONTH(Gerar_Upload!E1505),DAY(Gerar_Upload!E1505)),\"erro\")","v":"00:00:00"},{"$f":"IFERROR(Gerar_Upload!F1505,\"erro\")","v":0},{"$f":"IFERROR(IF(Gerar_Upload!G1505<44,REPT(0,44-LEN(Gerar_Upload!G1505))&Gerar_Upload!G1505,Gerar_Upload!G1505),\"erro\")","v":"00000000000000000000000000000000000000000000"}]
[{"$f":"IFERROR(LEFT(Gerar_Upload!A1506,120),\"erro\")","v":""},{"$f":"IFERROR(SUBSTITUTE(SUBSTITUTE(SUBSTITUTE(Gerar_Upload!B1506,\".\",\"\"),\"-\",\"\"),\"/\",\"\"),\"erro\")","v":""},{"$f":"IFERROR(Gerar_Upload!C1506,\"erro\")","v":0},{"$f":"IFERROR(Gerar_Upload!D1506,\"erro\")","v":0},{"$f":"IFERROR(DATE(YEAR(Gerar_Upload!E1506),MONTH(Gerar_Upload!E1506),DAY(Gerar_Upload!E1506)),\"erro\")","v":"00:00:00"},{"$f":"IFERROR(Gerar_Upload!F1506,\"erro\")","v":0},{"$f":"IFERROR(IF(Gerar_Upload!G1506<44,REPT(0,44-LEN(Gerar_Upload!G1506))&Gerar_Upload!G1506,Gerar_Upload!G1506),\"erro\")","v":"00000000000000000000000000000000000000000000"}]
[{"$f":"IFERROR(LEFT(Gerar_Upload!A1507,120),\"erro\")","v":""},{"$f":"IFERROR(SUBSTITUTE(SUBSTITUTE(SUBSTITUTE(Gerar_Upload!B1507,\".\",\"\"),\"-\",\"\"),\"/\",\"\"),\"erro\")","v":""},{"$f":"IFERROR(Gerar_Upload!C1507,\"erro\")","v":0},{"$f":"IFERROR(Gerar_Upload!D1507,\"erro\")","v":0},{"$f":"IFERROR(DATE(YEAR(Gerar_Upload!E1507),MONTH(Gerar_Upload!E1507),DAY(Gerar_Upload!E1507)),\"erro\")","v":"00:00:00"},{"$f":"IFERROR(Gerar_Upload!F1507,\"erro\")","v":0},{"$f":"IFERROR(IF(Gerar_Upload!G1507<44,REPT(0,44-LEN(Gerar_Upload!G1507))&Gerar_Upload!G1507,Gerar_Upload!G1507),\"erro\")","v":"00000000000000000000000000000000000000000000"}]
[{"$f":"IFERROR(LEFT(Gerar_Upload!A1508,120),\"erro\")","v":""},{"$f":"IFERROR(SUBSTITUTE(SUBSTITUTE(SUBSTITUTE(Gerar_Upload!B1508,\".\",\"\"),\"-\",\"\"),\"/\",\"\"),\"erro\")","v":""},{"$f":"IFERROR(Gerar_Upload!C1508,\"erro\")","v":0},{"$f":"IFERROR(Gerar_Upload!D1508,\"erro\")","v":0},{"$f":"IFERROR(DATE(YEAR(Gerar_Upload!E1508),MONTH(Gerar_Upload!E1508),DAY(Gerar_Upload!E1508)),\"erro\")","v":"00:00:00"},{"$f":"IFERROR(Gerar_Upload!F1508,\"erro\")","v":0},{"$f":"IFERROR(IF(Gerar_Upload!G1508<44,REPT(0,44-LEN(Gerar_Upload!G1508))&Gerar_Upload!G1508,Gerar_Upload!G1508),\"erro\")","v":"00000000000000000000000000000000000000000000"}]
[{"$f":"IFERROR(LEFT(Gerar_Upload!A1509,120),\"erro\")","v":""},{"$f":"IFERROR(SUBSTITUTE(SUBSTITUTE(SUBSTITUTE(Gerar_Upload!B1509,\".\",\"\"),\"-\",\"\"),\"/\",\"\"),\"erro\")","v":""},{"$f":"IFERROR(Gerar_Upload!C1509,\"erro\")","v":0},{"$f":"IFERROR(Gerar_Upload!D1509,\"erro\")","v":0},{"$f":"IFERROR(DATE(YEAR(Gerar_Upload!E1509),MONTH(Gerar_Upload!E1509),DAY(Gerar_Upload!E1509)),\"erro\")","v":"00:00:00"},{"$f":"IFERROR(Gerar_Upload!F1509,\"erro\")","v":0},{"$f":"IFERROR(IF(Gerar_Upload!G1509<44,REPT(0,44-LEN(Gerar_Upload!G1509))&Gerar_Upload!G1509,Gerar_Upload!G1509),\"erro\")","v":"00000000000000000000000000000000000000000000"}]
[{"$f":"IFERROR(LEFT(Gerar_Upload!A1510,120),\"erro\")","v":""},{"$f":"IFERROR(SUBSTITUTE(SUBSTITUTE(SUBSTITUTE(Gerar_Upload!B1510,\".\",\"\"),\"-\",\"\"),\"/\",\"\"),\"erro\")","v":""},{"$f":"IFERROR(Gerar_Upload!C1510,\"erro\")","v":0},{"$f":"IFERROR(Gerar_Upload!D1510,\"erro\")","v":0},{"$f":"IFERROR(DATE(YEAR(Gerar_Upload!E1510),MONTH(Gerar_Upload!E1510),DAY(Gerar_Upload!E1510)),\"erro\")","v":"00:00:00"},{"$f":"IFERROR(Gerar_Upload!F1510,\"erro\")","v":0},{"$f":"IFERROR(IF(Gerar_Upload!G1510<44,REPT(0,44-LEN(Gerar_Upload!G1510))&Gerar_Upload!G1510,Gerar_Upload!G1510),\"erro\")","v":"00000000000000000000000000000000000000000000"}]
[{"$f":"IFERROR(LEFT(Gerar_Upload!A1511,120),\"erro\")","v":""},{"$f":"IFERROR(SUBSTITUTE(SUBSTITUTE(SUBSTITUTE(Gerar_Upload!B1511,\".\",\"\"),\"-\",\"\"),\"/\",\"\"),\"erro\")","v":""},{"$f":"IFERROR(Gerar_Upload!C1511,\"erro\")","v":0},{"$f":"IFERROR(Gerar_Upload!D1511,\"erro\")","v":0},{"$f":"IFERROR(DATE(YEAR(Gerar_Upload!E1511),MONTH(Gerar_Upload!E1511),DAY(Gerar_Upload!E1511)),\"erro\")","v":"00:00:00"},{"$f":"IFERROR(Gerar_Upload!F1511,\"erro\")","v":0},{"$f":"IFERROR(IF(Gerar_Upload!G1511<44,REPT(0,44-LEN(Gerar_Upload!G1511))&Gerar_Upload!G1511,Gerar_Upload!G1511),\"erro\")","v":"00000000000000000000000000000000000000000000"}]
[{"$f":"IFERROR(LEFT(Gerar_Upload!A1512,120),\"erro\")","v":""},{"$f":"IFERROR(SUBSTITUTE(SUBSTITUTE(SUBSTITUTE(Gerar_Upload!B1512,\".\",\"\"),\"-\",\"\"),\"/\",\"\"),\"erro\")","v":""},{"$f":"IFERROR(Gerar_Upload!C1512,\"erro\")","v":0},{"$f":"IFERROR(Gerar_Upload!D1512,\"erro\")","v":0},{"$f":"IFERROR(DATE(YEAR(Gerar_Upload!E1512),MONTH(Gerar_Upload!E1512),DAY(Gerar_Upload!E1512)),\"erro\")","v":"00:00:00"},{"$f":"IFERROR(Gerar_Upload!F1512,\"erro\")","v":0},{"$f":"IFERROR(IF(Gerar_Upload!G1512<44,REPT(0,44-LEN(Gerar_Upload!G1512))&Gerar_Upload!G1512,Gerar_Upload!G1512),\"erro\")","v":"00000000000000000000000000000000000000000000"}]
[{"$f":"IFERROR(LEFT(Gerar_Upload!A1513,120),\"erro\")","v":""},{"$f":"IFERROR(SUBSTITUTE(SUBSTITUTE(SUBSTITUTE(Gerar_Upload!B1513,\".\",\"\"),\"-\",\"\"),\"/\",\"\"),\"erro\")","v":""},{"$f":"IFERROR(Gerar_Upload!C1513,\"erro\")","v":0},{"$f":"IFERROR(Gerar_Upload!D1513,\"erro\")","v":0},{"$f":"IFERROR(DATE(YEAR(Gerar_Upload!E1513),MONTH(Gerar_Upload!E1513),DAY(Gerar_Upload!E1513)),\"erro\")","v":"00:00:00"},{"$f":"IFERROR(Gerar_Upload!F1513,\"erro\")","v":0},{"$f":"IFERROR(IF(Gerar_Upload!G1513<44,REPT(0,44-LEN(Gerar_Upload!G1513))&Gerar_Upload!G1513,Gerar_Upload!G1513),\"erro\")","v":"00000000000000000000000000000000000000000000"}]
[{"$f":"IFERROR(LEFT(Gerar_Upload!A1514,120),\"erro\")","v":""},{"$f":"IFERROR(SUBSTITUTE(SUBSTITUTE(SUBSTITUTE(Gerar_Upload!B1514,\".\",\"\"),\"-\",\"\"),\"/\",\"\"),\"erro\")","v":""},{"$f":"IFERROR(Gerar_Upload!C1514,\"erro\")","v":0},{"$f":"IFERROR(Gerar_Upload!D1514,\"erro\")","v":0},{"$f":"IFERROR(DATE(YEAR(Gerar_Upload!E1514),MONTH(Gerar_Upload!E1514),DAY(Gerar_Upload!E1514)),\"erro\")","v":"00:00:00"},{"$f":"IFERROR(Gerar_Upload!F1514,\"erro\")","v":0},{"$f":"IFERROR(IF(Gerar_Upload!G1514<44,REPT(0,44-LEN(Gerar_Upload!G1514))&Gerar_Upload!G1514,Gerar_Upload!G1514),\"erro\")","v":"00000000000000000000000000000000000000000000"}]
[{"$f":"IFERROR(LEFT(Gerar_Upload!A1515,120),\"erro\")","v":""},{"$f":"IFERROR(SUBSTITUTE(SUBSTITUTE(SUBSTITUTE(Gerar_Upload!B1515,\".\",\"\"),\"-\",\"\"),\"/\",\"\"),\"erro\")","v":""},{"$f":"IFERROR(Gerar_Upload!C1515,\"erro\")","v":0},{"$f":"IFERROR(Gerar_Upload!D1515,\"erro\")","v":0},{"$f":"IFERROR(DATE(YEAR(Gerar_Upload!E1515),MONTH(Gerar_Upload!E1515),DAY(Gerar_Upload!E1515)),\"erro\")","v":"00:00:00"},{"$f":"IFERROR(Gerar_Upload!F1515,\"erro\")","v":0},{"$f":"IFERROR(IF(Gerar_Upload!G1515<44,REPT(0,44-LEN(Gerar_Upload!G1515))&Gerar_Upload!G1515,Gerar_Upload!G1515),\"erro\")","v":"00000000000000000000000000000000000000000000"}]
[{"$f":"IFERROR(LEFT(Gerar_Upload!A1516,120),\"erro\")","v":""},{"$f":"IFERROR(SUBSTITUTE(SUBSTITUTE(SUBSTITUTE(Gerar_Upload!B1516,\".\",\"\"),\"-\",\"\"),\"/\",\"\"),\"erro\")","v":""},{"$f":"IFERROR(Gerar_Upload!C1516,\"erro\")","v":0},{"$f":"IFERROR(Gerar_Upload!D1516,\"erro\")","v":0},{"$f":"IFERROR(DATE(YEAR(Gerar_Upload!E1516),MONTH(Gerar_Upload!E1516),DAY(Gerar_Upload!E1516)),\"erro\")","v":"00:00:00"},{"$f":"IFERROR(Gerar_Upload!F1516,\"erro\")","v":0},{"$f":"IFERROR(IF(Gerar_Upload!G1516<44,REPT(0,44-LEN(Gerar_Upload!G1516))&Gerar_Upload!G1516,Gerar_Upload!G1516),\"erro\")","v":"00000000000000000000000000000000000000000000"}]
[{"$f":"IFERROR(LEFT(Gerar_Upload!A1517,120),\"erro\")","v":""},{"$f":"IFERROR(SUBSTITUTE(SUBSTITUTE(SUBSTITUTE(Gerar_Upload!B1517,\".\",\"\"),\"-\",\"\"),\"/\",\"\"),\"erro\")","v":""},{"$f":"IFERROR(Gerar_Upload!C1517,\"erro\")","v":0},{"$f":"IFERROR(Gerar_Upload!D1517,\"erro\")","v":0},{"$f":"IFERROR(DATE(YEAR(Gerar_Upload!E1517),MONTH(Gerar_Upload!E1517),DAY(Gerar_Upload!E1517)),\"erro\")","v":"00:00:00"},{"$f":"IFERROR(Gerar_Upload!F1517,\"erro\")","v":0},{"$f":"IFERROR(IF(Gerar_Upload!G1517<44,REPT(0,44-LEN(Gerar_Upload!G1517))&Gerar_Upload!G1517,Gerar_Upload!G1517),\"erro\")","v":"00000000000000000000000000000000000000000000"}]
[{"$f":"IFERROR(LEFT(Gerar_Upload!A1518,120),\"erro\")","v":""},{"$f":"IFERROR(SUBSTITUTE(SUBSTITUTE(SUBSTITUTE(Gerar_Upload!B1518,\".\",\"\"),\"-\",\"\"),\"/\",\"\"),\"erro\")","v":""},{"$f":"IFERROR(Gerar_Upload!C1518,\"erro\")","v":0},{"$f":"IFERROR(Gerar_Upload!D1518,\"erro\")","v":0},{"$f":"IFERROR(DATE(YEAR(Gerar_Upload!E1518),MONTH(Gerar_Upload!E1518),DAY(Gerar_Upload!E1518)),\"erro\")","v":"00:00:00"},{"$f":"IFERROR(Gerar_Upload!F1518,\"erro\")","v":0},{"$f":"IFERROR(IF(Gerar_Upload!G1518<44,REPT(0,44-LEN(Gerar_Upload!G1518))&Gerar_Upload!G1518,Gerar_Upload!G1518),\"erro\")","v":"00000000000000000000000000000000000000000000"}]
[{"$f":"IFERROR(LEFT(Gerar_Upload!A1519,120),\"erro\")","v":""},{"$f":"IFERROR(SUBSTITUTE(SUBSTITUTE(SUBSTITUTE(Gerar_Upload!B1519,\".\",\"\"),\"-\",\"\"),\"/\",\"\"),\"erro\")","v":""},{"$f":"IFERROR(Gerar_Upload!C1519,\"erro\")","v":0},{"$f":"IFERROR(Gerar_Upload!D1519,\"erro\")","v":0},{"$f":"IFERROR(DATE(YEAR(Gerar_Upload!E1519),MONTH(Gerar_Upload!E1519),DAY(Gerar_Upload!E1519)),\"erro\")","v":"00:00:00"},{"$f":"IFERROR(Gerar_Upload!F1519,\"erro\")","v":0},{"$f":"IFERROR(IF(Gerar_Upload!G1519<44,REPT(0,44-LEN(Gerar_Upload!G1519))&Gerar_Upload!G1519,Gerar_Upload!G1519),\"erro\")","v":"00000000000000000000000000000000000000000000"}]
[{"$f":"IFERROR(LEFT(Gerar_Upload!A1520,120),\"erro\")","v":""},{"$f":"IFERROR(SUBSTITUTE(SUBSTITUTE(SUBSTITUTE(Gerar_Upload!B1520,\".\",\"\"),\"-\",\"\"),\"/\",\"\"),\"erro\")","v":""},{"$f":"IFERROR(Gerar_Upload!C1520,\"erro\")","v":0},{"$f":"IFERROR(Gerar_Upload!D1520,\"erro\")","v":0},{"$f":"IFERROR(DATE(YEAR(Gerar_Upload!E1520),MONTH(Gerar_Upload!E1520),DAY(Gerar_Upload!E1520)),\"erro\")","v":"00:00:00"},{"$f":"IFERROR(Gerar_Upload!F1520,\"erro\")","v":0},{"$f":"IFERROR(IF(Gerar_Upload!G1520<44,REPT(0,44-LEN(Gerar_Upload!G1520))&Gerar_Upload!G1520,Gerar_Upload!G1520),\"erro\")","v":"00000000000000000000000000000000000000000000"}]
[{"$f":"IFERROR(LEFT(Gerar_Upload!A1521,120),\"erro\")","v":""},{"$f":"IFERROR(SUBSTITUTE(SUBSTITUTE(SUBSTITUTE(Gerar_Upload!B1521,\".\",\"\"),\"-\",\"\"),\"/\",\"\"),\"erro\")","v":""},{"$f":"IFERROR(Gerar_Upload!C1521,\"erro\")","v":0},{"$f":"IFERROR(Gerar_Upload!D1521,\"erro\")","v":0},{"$f":"IFERROR(DATE(YEAR(Gerar_Upload!E1521),MONTH(Gerar_Upload!E1521),DAY(Gerar_Upload!E1521)),\"erro\")","v":"00:00:00"},{"$f":"IFERROR(Gerar_Upload!F1521,\"erro\")","v":0},{"$f":"IFERROR(IF(Gerar_Upload!G1521<44,REPT(0,44-LEN(Gerar_Upload!G1521))&Gerar_Upload!G1521,Gerar_Upload!G1521),\"erro\")","v":"00000000000000000000000000000000000000000000"}]
[{"$f":"IFERROR(LEFT(Gerar_Upload!A1522,120),\"erro\")","v":""},{"$f":"IFERROR(SUBSTITUTE(SUBSTITUTE(SUBSTITUTE(Gerar_Upload!B1522,\".\",\"\"),\"-\",\"\"),\"/\",\"\"),\"erro\")","v":""},{"$f":"IFERROR(Gerar_Upload!C1522,\"erro\")","v":0},{"$f":"IFERROR(Gerar_Upload!D1522,\"erro\")","v":0},{"$f":"IFERROR(DATE(YEAR(Gerar_Upload!E1522),MONTH(Gerar_Upload!E1522),DAY(Gerar_Upload!E1522)),\"erro\")","v":"00:00:00"},{"$f":"IFERROR(Gerar_Upload!F1522,\"erro\")","v":0},{"$f":"IFERROR(IF(Gerar_Upload!G1522<44,REPT(0,44-LEN(Gerar_Upload!G1522))&Gerar_Upload!G1522,Gerar_Upload!G1522),\"erro\")","v":"00000000000000000000000000000000000000000000"}]
[{"$f":"IFERROR(LEFT(Gerar_Upload!A1523,120),\"erro\")","v":""},{"$f":"IFERROR(SUBSTITUTE(SUBSTITUTE(SUBSTITUTE(Gerar_Upload!B1523,\".\",\"\"),\"-\",\"\"),\"/\",\"\"),\"erro\")","v":""},{"$f":"IFERROR(Gerar_Upload!C1523,\"erro\")","v":0},{"$f":"IFERROR(Gerar_Upload!D1523,\"erro\")","v":0},{"$f":"IFERROR(DATE(YEAR(Gerar_Upload!E1523),MONTH(Gerar_Upload!E1523),DAY(Gerar_Upload!E1523)),\"erro\")","v":"00:00:00"},{"$f":"IFERROR(Gerar_Upload!F1523,\"erro\")","v":0},{"$f":"IFERROR(IF(Gerar_Upload!G1523<44,REPT(0,44-LEN(Gerar_Upload!G1523))&Gerar_Upload!G1523,Gerar_Upload!G1523),\"erro\")","v":"00000000000000000000000000000000000000000000"}]
[{"$f":"IFERROR(LEFT(Gerar_Upload!A1524,120),\"erro\")","v":""},{"$f":"IFERROR(SUBSTITUTE(SUBSTITUTE(SUBSTITUTE(Gerar_Upload!B1524,\".\",\"\"),\"-\",\"\"),\"/\",\"\"),\"erro\")","v":""},{"$f":"IFERROR(Gerar_Upload!C1524,\"erro\")","v":0},{"$f":"IFERROR(Gerar_Upload!D1524,\"erro\")","v":0},{"$f":"IFERROR(DATE(YEAR(Gerar_Upload!E1524),MONTH(Gerar_Upload!E1524),DAY(Gerar_Upload!E1524)),\"erro\")","v":"00:00:00"},{"$f":"IFERROR(Gerar_Upload!F1524,\"erro\")","v":0},{"$f":"IFERROR(IF(Gerar_Upload!G1524<44,REPT(0,44-LEN(Gerar_Upload!G1524))&Gerar_Upload!G1524,Gerar_Upload!G1524),\"erro\")","v":"00000000000000000000000000000000000000000000"}]
[{"$f":"IFERROR(LEFT(Gerar_Upload!A1525,120),\"erro\")","v":""},{"$f":"IFERROR(SUBSTITUTE(SUBSTITUTE(SUBSTITUTE(Gerar_Upload!B1525,\".\",\"\"),\"-\",\"\"),\"/\",\"\"),\"erro\")","v":""},{"$f":"IFERROR(Gerar_Upload!C1525,\"erro\")","v":0},{"$f":"IFERROR(Gerar_Upload!D1525,\"erro\")","v":0},{"$f":"IFERROR(DATE(YEAR(Gerar_Upload!E1525),MONTH(Gerar_Upload!E1525),DAY(Gerar_Upload!E1525)),\"erro\")","v":"00:00:00"},{"$f":"IFERROR(Gerar_Upload!F1525,\"erro\")","v":0},{"$f":"IFERROR(IF(Gerar_Upload!G1525<44,REPT(0,44-LEN(Gerar_Upload!G1525))&Gerar_Upload!G1525,Gerar_Upload!G1525),\"erro\")","v":"00000000000000000000000000000000000000000000"}]
[{"$f":"IFERROR(LEFT(Gerar_Upload!A1526,120),\"erro\")","v":""},{"$f":"IFERROR(SUBSTITUTE(SUBSTITUTE(SUBSTITUTE(Gerar_Upload!B1526,\".\",\"\"),\"-\",\"\"),\"/\",\"\"),\"erro\")","v":""},{"$f":"IFERROR(Gerar_Upload!C1526,\"erro\")","v":0},{"$f":"IFERROR(Gerar_Upload!D1526,\"erro\")","v":0},{"$f":"IFERROR(DATE(YEAR(Gerar_Upload!E1526),MONTH(Gerar_Upload!E1526),DAY(Gerar_Upload!E1526)),\"erro\")","v":"00:00:00"},{"$f":"IFERROR(Gerar_Upload!F1526,\"erro\")","v":0},{"$f":"IFERROR(IF(Gerar_Upload!G1526<44,REPT(0,44-LEN(Gerar_Upload!G1526))&Gerar_Upload!G1526,Gerar_Upload!G1526),\"erro\")","v":"00000000000000000000000000000000000000000000"}]
[{"$f":"IFERROR(LEFT(Gerar_Upload!A1527,120),\"erro\")","v":""},{"$f":"IFERROR(SUBSTITUTE(SUBSTITUTE(SUBSTITUTE(Gerar_Upload!B1527,\".\",\"\"),\"-\",\"\"),\"/\",\"\"),\"erro\")","v":""},{"$f":"IFERROR(Gerar_Upload!C1527,\"erro\")","v":0},{"$f":"IFERROR(Gerar_Upload!D1527,\"erro\")","v":0},{"$f":"IFERROR(DATE(YEAR(Gerar_Upload!E1527),MONTH(Gerar_Upload!E1527),DAY(Gerar_Upload!E1527)),\"erro\")","v":"00:00:00"},{"$f":"IFERROR(Gerar_Upload!F1527,\"erro\")","v":0},{"$f":"IFERROR(IF(Gerar_Upload!G1527<44,REPT(0,44-LEN(Gerar_Upload!G1527))&Gerar_Upload!G1527,Gerar_Upload!G1527),\"erro\")","v":"00000000000000000000000000000000000000000000"}]
[{"$f":"IFERROR(LEFT(Gerar_Upload!A1528,120),\"erro\")","v":""},{"$f":"IFERROR(SUBSTITUTE(SUBSTITUTE(SUBSTITUTE(Gerar_Upload!B1528,\".\",\"\"),\"-\",\"\"),\"/\",\"\"),\"erro\")","v":""},{"$f":"IFERROR(Gerar_Upload!C1528,\"erro\")","v":0},{"$f":"IFERROR(Gerar_Upload!D1528,\"erro\")","v":0},{"$f":"IFERROR(DATE(YEAR(Gerar_Upload!E1528),MONTH(Gerar_Upload!E1528),DAY(Gerar_Upload!E1528)),\"erro\")","v":"00:00:00"},{"$f":"IFERROR(Gerar_Upload!F1528,\"erro\")","v":0},{"$f":"IFERROR(IF(Gerar_Upload!G1528<44,REPT(0,44-LEN(Gerar_Upload!G1528))&Gerar_Upload!G1528,Gerar_Upload!G1528),\"erro\")","v":"00000000000000000000000000000000000000000000"}]
[{"$f":"IFERROR(LEFT(Gerar_Upload!A1529,120),\"erro\")","v":""},{"$f":"IFERROR(SUBSTITUTE(SUBSTITUTE(SUBSTITUTE(Gerar_Upload!B1529,\".\",\"\"),\"-\",\"\"),\"/\",\"\"),\"erro\")","v":""},{"$f":"IFERROR(Gerar_Upload!C1529,\"erro\")","v":0},{"$f":"IFERROR(Gerar_Upload!D1529,\"erro\")","v":0},{"$f":"IFERROR(DATE(YEAR(Gerar_Upload!E1529),MONTH(Gerar_Upload!E1529),DAY(Gerar_Upload!E1529)),\"erro\")","v":"00:00:00"},{"$f":"IFERROR(Gerar_Upload!F1529,\"erro\")","v":0},{"$f":"IFERROR(IF(Gerar_Upload!G1529<44,REPT(0,44-LEN(Gerar_Upload!G1529))&Gerar_Upload!G1529,Gerar_Upload!G1529),\"erro\")","v":"00000000000000000000000000000000000000000000"}]
[{"$f":"IFERROR(LEFT(Gerar_Upload!A1530,120),\"erro\")","v":""},{"$f":"IFERROR(SUBSTITUTE(SUBSTITUTE(SUBSTITUTE(Gerar_Upload!B1530,\".\",\"\"),\"-\",\"\"),\"/\",\"\"),\"erro\")","v":""},{"$f":"IFERROR(Gerar_Upload!C1530,\"erro\")","v":0},{"$f":"IFERROR(Gerar_Upload!D1530,\"erro\")","v":0},{"$f":"IFERROR(DATE(YEAR(Gerar_Upload!E1530),MONTH(Gerar_Upload!E1530),DAY(Gerar_Upload!E1530)),\"erro\")","v":"00:00:00"},{"$f":"IFERROR(Gerar_Upload!F1530,\"erro\")","v":0},{"$f":"IFERROR(IF(Gerar_Upload!G1530<44,REPT(0,44-LEN(Gerar_Upload!G1530))&Gerar_Upload!G1530,Gerar_Upload!G1530),\"erro\")","v":"00000000000000000000000000000000000000000000"}]
[{"$f":"IFERROR(LEFT(Gerar_Upload!A1531,120),\"erro\")","v":""},{"$f":"IFERROR(SUBSTITUTE(SUBSTITUTE(SUBSTITUTE(Gerar_Upload!B1531,\".\",\"\"),\"-\",\"\"),\"/\",\"\"),\"erro\")","v":""},{"$f":"IFERROR(Gerar_Upload!C1531,\"erro\")","v":0},{"$f":"IFERROR(Gerar_Upload!D1531,\"erro\")","v":0},{"$f":"IFERROR(DATE(YEAR(Gerar_Upload!E1531),MONTH(Gerar_Upload!E1531),DAY(Gerar_Upload!E1531)),\"erro\")","v":"00:00:00"},{"$f":"IFERROR(Gerar_Upload!F1531,\"erro\")","v":0},{"$f":"IFERROR(IF(Gerar_Upload!G1531<44,REPT(0,44-LEN(Gerar_Upload!G1531))&Gerar_Upload!G1531,Gerar_Upload!G1531),\"erro\")","v":"00000000000000000000000000000000000000000000"}]
[{"$f":"IFERROR(LEFT(Gerar_Upload!A1532,120),\"erro\")","v":""},{"$f":"IFERROR(SUBSTITUTE(SUBSTITUTE(SUBSTITUTE(Gerar_Upload!B1532,\".\",\"\"),\"-\",\"\"),\"/\",\"\"),\"erro\")","v":""},{"$f":"IFERROR(Gerar_Upload!C1532,\"erro\")","v":0},{"$f":"IFERROR(Gerar_Upload!D1532,\"erro\")","v":0},{"$f":"IFERROR(DATE(YEAR(Gerar_Upload!E1532),MONTH(Gerar_Upload!E1532),DAY(Gerar_Upload!E1532)),\"erro\")","v":"00:00:00"},{"$f":"IFERROR(Gerar_Upload!F1532,\"erro\")","v":0},{"$f":"IFERROR(IF(Gerar_Upload!G1532<44,REPT(0,44-LEN(Gerar_Upload!G1532))&Gerar_Upload!G1532,Gerar_Upload!G1532),\"erro\")","v":"00000000000000000000000000000000000000000000"}]
[{"$f":"IFERROR(LEFT(Gerar_Upload!A1533,120),\"erro\")","v":""},{"$f":"IFERROR(SUBSTITUTE(SUBSTITUTE(SUBSTITUTE(Gerar_Upload!B1533,\".\",\"\"),\"-\",\"\"),\"/\",\"\"),\"erro\")","v":""},{"$f":"IFERROR(Gerar_Upload!C1533,\"erro\")","v":0},{"$f":"IFERROR(Gerar_Upload!D1533,\"erro\")","v":0},{"$f":"IFERROR(DATE(YEAR(Gerar_Upload!E1533),MONTH(Gerar_Upload!E1533),DAY(Gerar_Upload!E1533)),\"erro\")","v":"00:00:00"},{"$f":"IFERROR(Gerar_Upload!F1533,\"erro\")","v":0},{"$f":"IFERROR(IF(Gerar_Upload!G1533<44,REPT(0,44-LEN(Gerar_Upload!G1533))&Gerar_Upload!G1533,Gerar_Upload!G1533),\"erro\")","v":"00000000000000000000000000000000000000000000"}]
[{"$f":"IFERROR(LEFT(Gerar_Upload!A1534,120),\"erro\")","v":""},{"$f":"IFERROR(SUBSTITUTE(SUBSTITUTE(SUBSTITUTE(Gerar_Upload!B1534,\".\",\"\"),\"-\",\"\"),\"/\",\"\"),\"erro\")","v":""},{"$f":"IFERROR(Gerar_Upload!C1534,\"erro\")","v":0},{"$f":"IFERROR(Gerar_Upload!D1534,\"erro\")","v":0},{"$f":"IFERROR(DATE(YEAR(Gerar_Upload!E1534),MONTH(Gerar_Upload!E1534),DAY(Gerar_Upload!E1534)),\"erro\")","v":"00:00:00"},{"$f":"IFERROR(Gerar_Upload!F1534,\"erro\")","v":0},{"$f":"IFERROR(IF(Gerar_Upload!G1534<44,REPT(0,44-LEN(Gerar_Upload!G1534))&Gerar_Upload!G1534,Gerar_Upload!G1534),\"erro\")","v":"00000000000000000000000000000000000000000000"}]
[{"$f":"IFERROR(LEFT(Gerar_Upload!A1535,120),\"erro\")","v":""},{"$f":"IFERROR(SUBSTITUTE(SUBSTITUTE(SUBSTITUTE(Gerar_Upload!B1535,\".\",\"\"),\"-\",\"\"),\"/\",\"\"),\"erro\")","v":""},{"$f":"IFERROR(Gerar_Upload!C1535,\"erro\")","v":0},{"$f":"IFERROR(Gerar_Upload!D1535,\"erro\")","v":0},{"$f":"IFERROR(DATE(YEAR(Gerar_Upload!E1535),MONTH(Gerar_Upload!E1535),DAY(Gerar_Upload!E1535)),\"erro\")","v":"00:00:00"},{"$f":"IFERROR(Gerar_Upload!F1535,\"erro\")","v":0},{"$f":"IFERROR(IF(Gerar_Upload!G1535<44,REPT(0,44-LEN(Gerar_Upload!G1535))&Gerar_Upload!G1535,Gerar_Upload!G1535),\"erro\")","v":"00000000000000000000000000000000000000000000"}]
[{"$f":"IFERROR(LEFT(Gerar_Upload!A1536,120),\"erro\")","v":""},{"$f":"IFERROR(SUBSTITUTE(SUBSTITUTE(SUBSTITUTE(Gerar_Upload!B1536,\".\",\"\"),\"-\",\"\"),\"/\",\"\"),\"erro\")","v":""},{"$f":"IFERROR(Gerar_Upload!C1536,\"erro\")","v":0},{"$f":"IFERROR(Gerar_Upload!D1536,\"erro\")","v":0},{"$f":"IFERROR(DATE(YEAR(Gerar_Upload!E1536),MONTH(Gerar_Upload!E1536),DAY(Gerar_Upload!E1536)),\"erro\")","v":"00:00:00"},{"$f":"IFERROR(Gerar_Upload!F1536,\"erro\")","v":0},{"$f":"IFERROR(IF(Gerar_Upload!G1536<44,REPT(0,44-LEN(Gerar_Upload!G1536))&Gerar_Upload!G1536,Gerar_Upload!G1536),\"erro\")","v":"00000000000000000000000000000000000000000000"}]
[{"$f":"IFERROR(LEFT(Gerar_Upload!A1537,120),\"erro\")","v":""},{"$f":"IFERROR(SUBSTITUTE(SUBSTITUTE(SUBSTITUTE(Gerar_Upload!B1537,\".\",\"\"),\"-\",\"\"),\"/\",\"\"),\"erro\")","v":""},{"$f":"IFERROR(Gerar_Upload!C1537,\"erro\")","v":0},{"$f":"IFERROR(Gerar_Upload!D1537,\"erro\")","v":0},{"$f":"IFERROR(DATE(YEAR(Gerar_Upload!E1537),MONTH(Gerar_Upload!E1537),DAY(Gerar_Upload!E1537)),\"erro\")","v":"00:00:00"},{"$f":"IFERROR(Gerar_Upload!F1537,\"erro\")","v":0},{"$f":"IFERROR(IF(Gerar_Upload!G1537<44,REPT(0,44-LEN(Gerar_Upload!G1537))&Gerar_Upload!G1537,Gerar_Upload!G1537),\"erro\")","v":"00000000000000000000000000000000000000000000"}]
[{"$f":"IFERROR(LEFT(Gerar_Upload!A1538,120),\"erro\")","v":""},{"$f":"IFERROR(SUBSTITUTE(SUBSTITUTE(SUBSTITUTE(Gerar_Upload!B1538,\".\",\"\"),\"-\",\"\"),\"/\",\"\"),\"erro\")","v":""},{"$f":"IFERROR(Gerar_Upload!C1538,\"erro\")","v":0},{"$f":"IFERROR(Gerar_Upload!D1538,\"erro\")","v":0},{"$f":"IFERROR(DATE(YEAR(Gerar_Upload!E1538),MONTH(Gerar_Upload!E1538),DAY(Gerar_Upload!E1538)),\"erro\")","v":"00:00:00"},{"$f":"IFERROR(Gerar_Upload!F1538,\"erro\")","v":0},{"$f":"IFERROR(IF(Gerar_Upload!G1538<44,REPT(0,44-LEN(Gerar_Upload!G1538))&Gerar_Upload!G1538,Gerar_Upload!G1538),\"erro\")","v":"00000000000000000000000000000000000000000000"}]
[{"$f":"IFERROR(LEFT(Gerar_Upload!A1539,120),\"erro\")","v":""},{"$f":"IFERROR(SUBSTITUTE(SUBSTITUTE(SUBSTITUTE(Gerar_Upload!B1539,\".\",\"\"),\"-\",\"\"),\"/\",\"\"),\"erro\")","v":""},{"$f":"IFERROR(Gerar_Upload!C1539,\"erro\")","v":0},{"$f":"IFERROR(Gerar_Upload!D1539,\"erro\")","v":0},{"$f":"IFERROR(DATE(YEAR(Gerar_Upload!E1539),MONTH(Gerar_Upload!E1539),DAY(Gerar_Upload!E1539)),\"erro\")","v":"00:00:00"},{"$f":"IFERROR(Gerar_Upload!F1539,\"erro\")","v":0},{"$f":"IFERROR(IF(Gerar_Upload!G1539<44,REPT(0,44-LEN(Gerar_Upload!G1539))&Gerar_Upload!G1539,Gerar_Upload!G1539),\"erro\")","v":"00000000000000000000000000000000000000000000"}]
[{"$f":"IFERROR(LEFT(Gerar_Upload!A1540,120),\"erro\")","v":""},{"$f":"IFERROR(SUBSTITUTE(SUBSTITUTE(SUBSTITUTE(Gerar_Upload!B1540,\".\",\"\"),\"-\",\"\"),\"/\",\"\"),\"erro\")","v":""},{"$f":"IFERROR(Gerar_Upload!C1540,\"erro\")","v":0},{"$f":"IFERROR(Gerar_Upload!D1540,\"erro\")","v":0},{"$f":"IFERROR(DATE(YEAR(Gerar_Upload!E1540),MONTH(Gerar_Upload!E1540),DAY(Gerar_Upload!E1540)),\"erro\")","v":"00:00:00"},{"$f":"IFERROR(Gerar_Upload!F1540,\"erro\")","v":0},{"$f":"IFERROR(IF(Gerar_Upload!G1540<44,REPT(0,44-LEN(Gerar_Upload!G1540))&Gerar_Upload!G1540,Gerar_Upload!G1540),\"erro\")","v":"00000000000000000000000000000000000000000000"}]
[{"$f":"IFERROR(LEFT(Gerar_Upload!A1541,120),\"erro\")","v":""},{"$f":"IFERROR(SUBSTITUTE(SUBSTITUTE(SUBSTITUTE(Gerar_Upload!B1541,\".\",\"\"),\"-\",\"\"),\"/\",\"\"),\"erro\")","v":""},{"$f":"IFERROR(Gerar_Upload!C1541,\"erro\")","v":0},{"$f":"IFERROR(Gerar_Upload!D1541,\"erro\")","v":0},{"$f":"IFERROR(DATE(YEAR(Gerar_Upload!E1541),MONTH(Gerar_Upload!E1541),DAY(Gerar_Upload!E1541)),\"erro\")","v":"00:00:00"},{"$f":"IFERROR(Gerar_Upload!F1541,\"erro\")","v":0},{"$f":"IFERROR(IF(Gerar_Upload!G1541<44,REPT(0,44-LEN(Gerar_Upload!G1541))&Gerar_Upload!G1541,Gerar_Upload!G1541),\"erro\")","v":"00000000000000000000000000000000000000000000"}]
[{"$f":"IFERROR(LEFT(Gerar_Upload!A1542,120),\"erro\")","v":""},{"$f":"IFERROR(SUBSTITUTE(SUBSTITUTE(SUBSTITUTE(Gerar_Upload!B1542,\".\",\"\"),\"-\",\"\"),\"/\",\"\"),\"erro\")","v":""},{"$f":"IFERROR(Gerar_Upload!C1542,\"erro\")","v":0},{"$f":"IFERROR(Gerar_Upload!D1542,\"erro\")","v":0},{"$f":"IFERROR(DATE(YEAR(Gerar_Upload!E1542),MONTH(Gerar_Upload!E1542),DAY(Gerar_Upload!E1542)),\"erro\")","v":"00:00:00"},{"$f":"IFERROR(Gerar_Upload!F1542,\"erro\")","v":0},{"$f":"IFERROR(IF(Gerar_Upload!G1542<44,REPT(0,44-LEN(Gerar_Upload!G1542))&Gerar_Upload!G1542,Gerar_Upload!G1542),\"erro\")","v":"00000000000000000000000000000000000000000000"}]
[{"$f":"IFERROR(LEFT(Gerar_Upload!A1543,120),\"erro\")","v":""},{"$f":"IFERROR(SUBSTITUTE(SUBSTITUTE(SUBSTITUTE(Gerar_Upload!B1543,\".\",\"\"),\"-\",\"\"),\"/\",\"\"),\"erro\")","v":""},{"$f":"IFERROR(Gerar_Upload!C1543,\"erro\")","v":0},{"$f":"IFERROR(Gerar_Upload!D1543,\"erro\")","v":0},{"$f":"IFERROR(DATE(YEAR(Gerar_Upload!E1543),MONTH(Gerar_Upload!E1543),DAY(Gerar_Upload!E1543)),\"erro\")","v":"00:00:00"},{"$f":"IFERROR(Gerar_Upload!F1543,\"erro\")","v":0},{"$f":"IFERROR(IF(Gerar_Upload!G1543<44,REPT(0,44-LEN(Gerar_Upload!G1543))&Gerar_Upload!G1543,Gerar_Upload!G1543),\"erro\")","v":"00000000000000000000000000000000000000000000"}]
[{"$f":"IFERROR(LEFT(Gerar_Upload!A1544,120),\"erro\")","v":""},{"$f":"IFERROR(SUBSTITUTE(SUBSTITUTE(SUBSTITUTE(Gerar_Upload!B1544,\".\",\"\"),\"-\",\"\"),\"/\",\"\"),\"erro\")","v":""},{"$f":"IFERROR(Gerar_Upload!C1544,\"erro\")","v":0},{"$f":"IFERROR(Gerar_Upload!D1544,\"erro\")","v":0},{"$f":"IFERROR(DATE(YEAR(Gerar_Upload!E1544),MONTH(Gerar_Upload!E1544),DAY(Gerar_Upload!E1544)),\"erro\")","v":"00:00:00"},{"$f":"IFERROR(Gerar_Upload!F1544,\"erro\")","v":0},{"$f":"IFERROR(IF(Gerar_Upload!G1544<44,REPT(0,44-LEN(Gerar_Upload!G1544))&Gerar_Upload!G1544,Gerar_Upload!G1544),\"erro\")","v":"00000000000000000000000000000000000000000000"}]
[{"$f":"IFERROR(LEFT(Gerar_Upload!A1545,120),\"erro\")","v":""},{"$f":"IFERROR(SUBSTITUTE(SUBSTITUTE(SUBSTITUTE(Gerar_Upload!B1545,\".\",\"\"),\"-\",\"\"),\"/\",\"\"),\"erro\")","v":""},{"$f":"IFERROR(Gerar_Upload!C1545,\"erro\")","v":0},{"$f":"IFERROR(Gerar_Upload!D1545,\"erro\")","v":0},{"$f":"IFERROR(DATE(YEAR(Gerar_Upload!E1545),MONTH(Gerar_Upload!E1545),DAY(Gerar_Upload!E1545)),\"erro\")","v":"00:00:00"},{"$f":"IFERROR(Gerar_Upload!F1545,\"erro\")","v":0},{"$f":"IFERROR(IF(Gerar_Upload!G1545<44,REPT(0,44-LEN(Gerar_Upload!G1545))&Gerar_Upload!G1545,Gerar_Upload!G1545),\"erro\")","v":"00000000000000000000000000000000000000000000"}]
[{"$f":"IFERROR(LEFT(Gerar_Upload!A1546,120),\"erro\")","v":""},{"$f":"IFERROR(SUBSTITUTE(SUBSTITUTE(SUBSTITUTE(Gerar_Upload!B1546,\".\",\"\"),\"-\",\"\"),\"/\",\"\"),\"erro\")","v":""},{"$f":"IFERROR(Gerar_Upload!C1546,\"erro\")","v":0},{"$f":"IFERROR(Gerar_Upload!D1546,\"erro\")","v":0},{"$f":"IFERROR(DATE(YEAR(Gerar_Upload!E1546),MONTH(Gerar_Upload!E1546),DAY(Gerar_Upload!E1546)),\"erro\")","v":"00:00:00"},{"$f":"IFERROR(Gerar_Upload!F1546,\"erro\")","v":0},{"$f":"IFERROR(IF(Gerar_Upload!G1546<44,REPT(0,44-LEN(Gerar_Upload!G1546))&Gerar_Upload!G1546,Gerar_Upload!G1546),\"erro\")","v":"00000000000000000000000000000000000000000000"}]
[{"$f":"IFERROR(LEFT(Gerar_Upload!A1547,120),\"erro\")","v":""},{"$f":"IFERROR(SUBSTITUTE(SUBSTITUTE(SUBSTITUTE(Gerar_Upload!B1547,\".\",\"\"),\"-\",\"\"),\"/\",\"\"),\"erro\")","v":""},{"$f":"IFERROR(Gerar_Upload!C1547,\"erro\")","v":0},{"$f":"IFERROR(Gerar_Upload!D1547,\"erro\")","v":0},{"$f":"IFERROR(DATE(YEAR(Gerar_Upload!E1547),MONTH(Gerar_Upload!E1547),DAY(Gerar_Upload!E1547)),\"erro\")","v":"00:00:00"},{"$f":"IFERROR(Gerar_Upload!F1547,\"erro\")","v":0},{"$f":"IFERROR(IF(Gerar_Upload!G1547<44,REPT(0,44-LEN(Gerar_Upload!G1547))&Gerar_Upload!G1547,Gerar_Upload!G1547),\"erro\")","v":"00000000000000000000000000000000000000000000"}]
[{"$f":"IFERROR(LEFT(Gerar_Upload!A1548,120),\"erro\")","v":""},{"$f":"IFERROR(SUBSTITUTE(SUBSTITUTE(SUBSTITUTE(Gerar_Upload!B1548,\".\",\"\"),\"-\",\"\"),\"/\",\"\"),\"erro\")","v":""},{"$f":"IFERROR(Gerar_Upload!C1548,\"erro\")","v":0},{"$f":"IFERROR(Gerar_Upload!D1548,\"erro\")","v":0},{"$f":"IFERROR(DATE(YEAR(Gerar_Upload!E1548),MONTH(Gerar_Upload!E1548),DAY(Gerar_Upload!E1548)),\"erro\")","v":"00:00:00"},{"$f":"IFERROR(Gerar_Upload!F1548,\"erro\")","v":0},{"$f":"IFERROR(IF(Gerar_Upload!G1548<44,REPT(0,44-LEN(Gerar_Upload!G1548))&Gerar_Upload!G1548,Gerar_Upload!G1548),\"erro\")","v":"00000000000000000000000000000000000000000000"}]
[{"$f":"IFERROR(LEFT(Gerar_Upload!A1549,120),\"erro\")","v":""},{"$f":"IFERROR(SUBSTITUTE(SUBSTITUTE(SUBSTITUTE(Gerar_Upload!B1549,\".\",\"\"),\"-\",\"\"),\"/\",\"\"),\"erro\")","v":""},{"$f":"IFERROR(Gerar_Upload!C1549,\"erro\")","v":0},{"$f":"IFERROR(Gerar_Upload!D1549,\"erro\")","v":0},{"$f":"IFERROR(DATE(YEAR(Gerar_Upload!E1549),MONTH(Gerar_Upload!E1549),DAY(Gerar_Upload!E1549)),\"erro\")","v":"00:00:00"},{"$f":"IFERROR(Gerar_Upload!F1549,\"erro\")","v":0},{"$f":"IFERROR(IF(Gerar_Upload!G1549<44,REPT(0,44-LEN(Gerar_Upload!G1549))&Gerar_Upload!G1549,Gerar_Upload!G1549),\"erro\")","v":"00000000000000000000000000000000000000000000"}]
[{"$f":"IFERROR(LEFT(Gerar_Upload!A1550,120),\"erro\")","v":""},{"$f":"IFERROR(SUBSTITUTE(SUBSTITUTE(SUBSTITUTE(Gerar_Upload!B1550,\".\",\"\"),\"-\",\"\"),\"/\",\"\"),\"erro\")","v":""},{"$f":"IFERROR(Gerar_Upload!C1550,\"erro\")","v":0},{"$f":"IFERROR(Gerar_Upload!D1550,\"erro\")","v":0},{"$f":"IFERROR(DATE(YEAR(Gerar_Upload!E1550),MONTH(Gerar_Upload!E1550),DAY(Gerar_Upload!E1550)),\"erro\")","v":"00:00:00"},{"$f":"IFERROR(Gerar_Upload!F1550,\"erro\")","v":0},{"$f":"IFERROR(IF(Gerar_Upload!G1550<44,REPT(0,44-LEN(Gerar_Upload!G1550))&Gerar_Upload!G1550,Gerar_Upload!G1550),\"erro\")","v":"00000000000000000000000000000000000000000000"}]
[{"$f":"IFERROR(LEFT(Gerar_Upload!A1551,120),\"erro\")","v":""},{"$f":"IFERROR(SUBSTITUTE(SUBSTITUTE(SUBSTITUTE(Gerar_Upload!B1551,\".\",\"\"),\"-\",\"\"),\"/\",\"\"),\"erro\")","v":""},{"$f":"IFERROR(Gerar_Upload!C1551,\"erro\")","v":0},{"$f":"IFERROR(Gerar_Upload!D1551,\"erro\")","v":0},{"$f":"IFERROR(DATE(YEAR(Gerar_Upload!E1551),MONTH(Gerar_Upload!E1551),DAY(Gerar_Upload!E1551)),\"erro\")","v":"00:00:00"},{"$f":"IFERROR(Gerar_Upload!F1551,\"erro\")","v":0},{"$f":"IFERROR(IF(Gerar_Upload!G1551<44,REPT(0,44-LEN(Gerar_Upload!G1551))&Gerar_Upload!G1551,Gerar_Upload!G1551),\"erro\")","v":"00000000000000000000000000000000000000000000"}]
[{"$f":"IFERROR(LEFT(Gerar_Upload!A1552,120),\"erro\")","v":""},{"$f":"IFERROR(SUBSTITUTE(SUBSTITUTE(SUBSTITUTE(Gerar_Upload!B1552,\".\",\"\"),\"-\",\"\"),\"/\",\"\"),\"erro\")","v":""},{"$f":"IFERROR(Gerar_Upload!C1552,\"erro\")","v":0},{"$f":"IFERROR(Gerar_Upload!D1552,\"erro\")","v":0},{"$f":"IFERROR(DATE(YEAR(Gerar_Upload!E1552),MONTH(Gerar_Upload!E1552),DAY(Gerar_Upload!E1552)),\"erro\")","v":"00:00:00"},{"$f":"IFERROR(Gerar_Upload!F1552,\"erro\")","v":0},{"$f":"IFERROR(IF(Gerar_Upload!G1552<44,REPT(0,44-LEN(Gerar_Upload!G1552))&Gerar_Upload!G1552,Gerar_Upload!G1552),\"erro\")","v":"00000000000000000000000000000000000000000000"}]
[{"$f":"IFERROR(LEFT(Gerar_Upload!A1553,120),\"erro\")","v":""},{"$f":"IFERROR(SUBSTITUTE(SUBSTITUTE(SUBSTITUTE(Gerar_Upload!B1553,\".\",\"\"),\"-\",\"\"),\"/\",\"\"),\"erro\")","v":""},{"$f":"IFERROR(Gerar_Upload!C1553,\"erro\")","v":0},{"$f":"IFERROR(Gerar_Upload!D1553,\"erro\")","v":0},{"$f":"IFERROR(DATE(YEAR(Gerar_Upload!E1553),MONTH(Gerar_Upload!E1553),DAY(Gerar_Upload!E1553)),\"erro\")","v":"00:00:00"},{"$f":"IFERROR(Gerar_Upload!F1553,\"erro\")","v":0},{"$f":"IFERROR(IF(Gerar_Upload!G1553<44,REPT(0,44-LEN(Gerar_Upload!G1553))&Gerar_Upload!G1553,Gerar_Upload!G1553),\"erro\")","v":"00000000000000000000000000000000000000000000"}]
[{"$f":"IFERROR(LEFT(Gerar_Upload!A1554,120),\"erro\")","v":""},{"$f":"IFERROR(SUBSTITUTE(SUBSTITUTE(SUBSTITUTE(Gerar_Upload!B1554,\".\",\"\"),\"-\",\"\"),\"/\",\"\"),\"erro\")","v":""},{"$f":"IFERROR(Gerar_Upload!C1554,\"erro\")","v":0},{"$f":"IFERROR(Gerar_Upload!D1554,\"erro\")","v":0},{"$f":"IFERROR(DATE(YEAR(Gerar_Upload!E1554),MONTH(Gerar_Upload!E1554),DAY(Gerar_Upload!E1554)),\"erro\")","v":"00:00:00"},{"$f":"IFERROR(Gerar_Upload!F1554,\"erro\")","v":0},{"$f":"IFERROR(IF(Gerar_Upload!G1554<44,REPT(0,44-LEN(Gerar_Upload!G1554))&Gerar_Upload!G1554,Gerar_Upload!G1554),\"erro\")","v":"00000000000000000000000000000000000000000000"}]
[{"$f":"IFERROR(LEFT(Gerar_Upload!A1555,120),\"erro\")","v":""},{"$f":"IFERROR(SUBSTITUTE(SUBSTITUTE(SUBSTITUTE(Gerar_Upload!B1555,\".\",\"\"),\"-\",\"\"),\"/\",\"\"),\"erro\")","v":""},{"$f":"IFERROR(Gerar_Upload!C1555,\"erro\")","v":0},{"$f":"IFERROR(Gerar_Upload!D1555,\"erro\")","v":0},{"$f":"IFERROR(DATE(YEAR(Gerar_Upload!E1555),MONTH(Gerar_Upload!E1555),DAY(Gerar_Upload!E1555)),\"erro\")","v":"00:00:00"},{"$f":"IFERROR(Gerar_Upload!F1555,\"erro\")","v":0},{"$f":"IFERROR(IF(Gerar_Upload!G1555<44,REPT(0,44-LEN(Gerar_Upload!G1555))&Gerar_Upload!G1555,Gerar_Upload!G1555),\"erro\")","v":"00000000000000000000000000000000000000000000"}]
[{"$f":"IFERROR(LEFT(Gerar_Upload!A1556,120),\"erro\")","v":""},{"$f":"IFERROR(SUBSTITUTE(SUBSTITUTE(SUBSTITUTE(Gerar_Upload!B1556,\".\",\"\"),\"-\",\"\"),\"/\",\"\"),\"erro\")","v":""},{"$f":"IFERROR(Gerar_Upload!C1556,\"erro\")","v":0},{"$f":"IFERROR(Gerar_Upload!D1556,\"erro\")","v":0},{"$f":"IFERROR(DATE(YEAR(Gerar_Upload!E1556),MONTH(Gerar_Upload!E1556),DAY(Gerar_Upload!E1556)),\"erro\")","v":"00:00:00"},{"$f":"IFERROR(Gerar_Upload!F1556,\"erro\")","v":0},{"$f":"IFERROR(IF(Gerar_Upload!G1556<44,REPT(0,44-LEN(Gerar_Upload!G1556))&Gerar_Upload!G1556,Gerar_Upload!G1556),\"erro\")","v":"00000000000000000000000000000000000000000000"}]
[{"$f":"IFERROR(LEFT(Gerar_Upload!A1557,120),\"erro\")","v":""},{"$f":"IFERROR(SUBSTITUTE(SUBSTITUTE(SUBSTITUTE(Gerar_Upload!B1557,\".\",\"\"),\"-\",\"\"),\"/\",\"\"),\"erro\")","v":""},{"$f":"IFERROR(Gerar_Upload!C1557,\"erro\")","v":0},{"$f":"IFERROR(Gerar_Upload!D1557,\"erro\")","v":0},{"$f":"IFERROR(DATE(YEAR(Gerar_Upload!E1557),MONTH(Gerar_Upload!E1557),DAY(Gerar_Upload!E1557)),\"erro\")","v":"00:00:00"},{"$f":"IFERROR(Gerar_Upload!F1557,\"erro\")","v":0},{"$f":"IFERROR(IF(Gerar_Upload!G1557<44,REPT(0,44-LEN(Gerar_Upload!G1557))&Gerar_Upload!G1557,Gerar_Upload!G1557),\"erro\")","v":"00000000000000000000000000000000000000000000"}]
[{"$f":"IFERROR(LEFT(Gerar_Upload!A1558,120),\"erro\")","v":""},{"$f":"IFERROR(SUBSTITUTE(SUBSTITUTE(SUBSTITUTE(Gerar_Upload!B1558,\".\",\"\"),\"-\",\"\"),\"/\",\"\"),\"erro\")","v":""},{"$f":"IFERROR(Gerar_Upload!C1558,\"erro\")","v":0},{"$f":"IFERROR(Gerar_Upload!D1558,\"erro\")","v":0},{"$f":"IFERROR(DATE(YEAR(Gerar_Upload!E1558),MONTH(Gerar_Upload!E1558),DAY(Gerar_Upload!E1558)),\"erro\")","v":"00:00:00"},{"$f":"IFERROR(Gerar_Upload!F1558,\"erro\")","v":0},{"$f":"IFERROR(IF(Gerar_Upload!G1558<44,REPT(0,44-LEN(Gerar_Upload!G1558))&Gerar_Upload!G1558,Gerar_Upload!G1558),\"erro\")","v":"00000000000000000000000000000000000000000000"}]
[{"$f":"IFERROR(LEFT(Gerar_Upload!A1559,120),\"erro\")","v":""},{"$f":"IFERROR(SUBSTITUTE(SUBSTITUTE(SUBSTITUTE(Gerar_Upload!B1559,\".\",\"\"),\"-\",\"\"),\"/\",\"\"),\"erro\")","v":""},{"$f":"IFERROR(Gerar_Upload!C1559,\"erro\")","v":0},{"$f":"IFERROR(Gerar_Upload!D1559,\"erro\")","v":0},{"$f":"IFERROR(DATE(YEAR(Gerar_Upload!E1559),MONTH(Gerar_Upload!E1559),DAY(Gerar_Upload!E1559)),\"erro\")","v":"00:00:00"},{"$f":"IFERROR(Gerar_Upload!F1559,\"erro\")","v":0},{"$f":"IFERROR(IF(Gerar_Upload!G1559<44,REPT(0,44-LEN(Gerar_Upload!G1559))&Gerar_Upload!G1559,Gerar_Upload!G1559),\"erro\")","v":"00000000000000000000000000000000000000000000"}]
[{"$f":"IFERROR(LEFT(Gerar_Upload!A1560,120),\"erro\")","v":""},{"$f":"IFERROR(SUBSTITUTE(SUBSTITUTE(SUBSTITUTE(Gerar_Upload!B1560,\".\",\"\"),\"-\",\"\"),\"/\",\"\"),\"erro\")","v":""},{"$f":"IFERROR(Gerar_Upload!C1560,\"erro\")","v":0},{"$f":"IFERROR(Gerar_Upload!D1560,\"erro\")","v":0},{"$f":"IFERROR(DATE(YEAR(Gerar_Upload!E1560),MONTH(Gerar_Upload!E1560),DAY(Gerar_Upload!E1560)),\"erro\")","v":"00:00:00"},{"$f":"IFERROR(Gerar_Upload!F1560,\"erro\")","v":0},{"$f":"IFERROR(IF(Gerar_Upload!G1560<44,REPT(0,44-LEN(Gerar_Upload!G1560))&Gerar_Upload!G1560,Gerar_Upload!G1560),\"erro\")","v":"00000000000000000000000000000000000000000000"}]
[{"$f":"IFERROR(LEFT(Gerar_Upload!A1561,120),\"erro\")","v":""},{"$f":"IFERROR(SUBSTITUTE(SUBSTITUTE(SUBSTITUTE(Gerar_Upload!B1561,\".\",\"\"),\"-\",\"\"),\"/\",\"\"),\"erro\")","v":""},{"$f":"IFERROR(Gerar_Upload!C1561,\"erro\")","v":0},{"$f":"IFERROR(Gerar_Upload!D1561,\"erro\")","v":0},{"$f":"IFERROR(DATE(YEAR(Gerar_Upload!E1561),MONTH(Gerar_Upload!E1561),DAY(Gerar_Upload!E1561)),\"erro\")","v":"00:00:00"},{"$f":"IFERROR(Gerar_Upload!F1561,\"erro\")","v":0},{"$f":"IFERROR(IF(Gerar_Upload!G1561<44,REPT(0,44-LEN(Gerar_Upload!G1561))&Gerar_Upload!G1561,Gerar_Upload!G1561),\"erro\")","v":"00000000000000000000000000000000000000000000"}]
[{"$f":"IFERROR(LEFT(Gerar_Upload!A1562,120),\"erro\")","v":""},{"$f":"IFERROR(SUBSTITUTE(SUBSTITUTE(SUBSTITUTE(Gerar_Upload!B1562,\".\",\"\"),\"-\",\"\"),\"/\",\"\"),\"erro\")","v":""},{"$f":"IFERROR(Gerar_Upload!C1562,\"erro\")","v":0},{"$f":"IFERROR(Gerar_Upload!D1562,\"erro\")","v":0},{"$f":"IFERROR(DATE(YEAR(Gerar_Upload!E1562),MONTH(Gerar_Upload!E1562),DAY(Gerar_Upload!E1562)),\"erro\")","v":"00:00:00"},{"$f":"IFERROR(Gerar_Upload!F1562,\"erro\")","v":0},{"$f":"IFERROR(IF(Gerar_Upload!G1562<44,REPT(0,44-LEN(Gerar_Upload!G1562))&Gerar_Upload!G1562,Gerar_Upload!G1562),\"erro\")","v":"00000000000000000000000000000000000000000000"}]
[{"$f":"IFERROR(LEFT(Gerar_Upload!A1563,120),\"erro\")","v":""},{"$f":"IFERROR(SUBSTITUTE(SUBSTITUTE(SUBSTITUTE(Gerar_Upload!B1563,\".\",\"\"),\"-\",\"\"),\"/\",\"\"),\"erro\")","v":""},{"$f":"IFERROR(Gerar_Upload!C1563,\"erro\")","v":0},{"$f":"IFERROR(Gerar_Upload!D1563,\"erro\")","v":0},{"$f":"IFERROR(DATE(YEAR(Gerar_Upload!E1563),MONTH(Gerar_Upload!E1563),DAY(Gerar_Upload!E1563)),\"erro\")","v":"00:00:00"},{"$f":"IFERROR(Gerar_Upload!F1563,\"erro\")","v":0},{"$f":"IFERROR(IF(Gerar_Upload!G1563<44,REPT(0,44-LEN(Gerar_Upload!G1563))&Gerar_Upload!G1563,Gerar_Upload!G1563),\"erro\")","v":"00000000000000000000000000000000000000000000"}]
[{"$f":"IFERROR(LEFT(Gerar_Upload!A1564,120),\"erro\")","v":""},{"$f":"IFERROR(SUBSTITUTE(SUBSTITUTE(SUBSTITUTE(Gerar_Upload!B1564,\".\",\"\"),\"-\",\"\"),\"/\",\"\"),\"erro\")","v":""},{"$f":"IFERROR(Gerar_Upload!C1564,\"erro\")","v":0},{"$f":"IFERROR(Gerar_Upload!D1564,\"erro\")","v":0},{"$f":"IFERROR(DATE(YEAR(Gerar_Upload!E1564),MONTH(Gerar_Upload!E1564),DAY(Gerar_Upload!E1564)),\"erro\")","v":"00:00:00"},{"$f":"IFERROR(Gerar_Upload!F1564,\"erro\")","v":0},{"$f":"IFERROR(IF(Gerar_Upload!G1564<44,REPT(0,44-LEN(Gerar_Upload!G1564))&Gerar_Upload!G1564,Gerar_Upload!G1564),\"erro\")","v":"00000000000000000000000000000000000000000000"}]
[{"$f":"IFERROR(LEFT(Gerar_Upload!A1565,120),\"erro\")","v":""},{"$f":"IFERROR(SUBSTITUTE(SUBSTITUTE(SUBSTITUTE(Gerar_Upload!B1565,\".\",\"\"),\"-\",\"\"),\"/\",\"\"),\"erro\")","v":""},{"$f":"IFERROR(Gerar_Upload!C1565,\"erro\")","v":0},{"$f":"IFERROR(Gerar_Upload!D1565,\"erro\")","v":0},{"$f":"IFERROR(DATE(YEAR(Gerar_Upload!E1565),MONTH(Gerar_Upload!E1565),DAY(Gerar_Upload!E1565)),\"erro\")","v":"00:00:00"},{"$f":"IFERROR(Gerar_Upload!F1565,\"erro\")","v":0},{"$f":"IFERROR(IF(Gerar_Upload!G1565<44,REPT(0,44-LEN(Gerar_Upload!G1565))&Gerar_Upload!G1565,Gerar_Upload!G1565),\"erro\")","v":"00000000000000000000000000000000000000000000"}]
[{"$f":"IFERROR(LEFT(Gerar_Upload!A1566,120),\"erro\")","v":""},{"$f":"IFERROR(SUBSTITUTE(SUBSTITUTE(SUBSTITUTE(Gerar_Upload!B1566,\".\",\"\"),\"-\",\"\"),\"/\",\"\"),\"erro\")","v":""},{"$f":"IFERROR(Gerar_Upload!C1566,\"erro\")","v":0},{"$f":"IFERROR(Gerar_Upload!D1566,\"erro\")","v":0},{"$f":"IFERROR(DATE(YEAR(Gerar_Upload!E1566),MONTH(Gerar_Upload!E1566),DAY(Gerar_Upload!E1566)),\"erro\")","v":"00:00:00"},{"$f":"IFERROR(Gerar_Upload!F1566,\"erro\")","v":0},{"$f":"IFERROR(IF(Gerar_Upload!G1566<44,REPT(0,44-LEN(Gerar_Upload!G1566))&Gerar_Upload!G1566,Gerar_Upload!G1566),\"erro\")","v":"00000000000000000000000000000000000000000000"}]
[{"$f":"IFERROR(LEFT(Gerar_Upload!A1567,120),\"erro\")","v":""},{"$f":"IFERROR(SUBSTITUTE(SUBSTITUTE(SUBSTITUTE(Gerar_Upload!B1567,\".\",\"\"),\"-\",\"\"),\"/\",\"\"),\"erro\")","v":""},{"$f":"IFERROR(Gerar_Upload!C1567,\"erro\")","v":0},{"$f":"IFERROR(Gerar_Upload!D1567,\"erro\")","v":0},{"$f":"IFERROR(DATE(YEAR(Gerar_Upload!E1567),MONTH(Gerar_Upload!E1567),DAY(Gerar_Upload!E1567)),\"erro\")","v":"00:00:00"},{"$f":"IFERROR(Gerar_Upload!F1567,\"erro\")","v":0},{"$f":"IFERROR(IF(Gerar_Upload!G1567<44,REPT(0,44-LEN(Gerar_Upload!G1567))&Gerar_Upload!G1567,Gerar_Upload!G1567),\"erro\")","v":"00000000000000000000000000000000000000000000"}]
[{"$f":"IFERROR(LEFT(Gerar_Upload!A1568,120),\"erro\")","v":""},{"$f":"IFERROR(SUBSTITUTE(SUBSTITUTE(SUBSTITUTE(Gerar_Upload!B1568,\".\",\"\"),\"-\",\"\"),\"/\",\"\"),\"erro\")","v":""},{"$f":"IFERROR(Gerar_Upload!C1568,\"erro\")","v":0},{"$f":"IFERROR(Gerar_Upload!D1568,\"erro\")","v":0},{"$f":"IFERROR(DATE(YEAR(Gerar_Upload!E1568),MONTH(Gerar_Upload!E1568),DAY(Gerar_Upload!E1568)),\"erro\")","v":"00:00:00"},{"$f":"IFERROR(Gerar_Upload!F1568,\"erro\")","v":0},{"$f":"IFERROR(IF(Gerar_Upload!G1568<44,REPT(0,44-LEN(Gerar_Upload!G1568))&Gerar_Upload!G1568,Gerar_Upload!G1568),\"erro\")","v":"00000000000000000000000000000000000000000000"}]
[{"$f":"IFERROR(LEFT(Gerar_Upload!A1569,120),\"erro\")","v":""},{"$f":"IFERROR(SUBSTITUTE(SUBSTITUTE(SUBSTITUTE(Gerar_Upload!B1569,\".\",\"\"),\"-\",\"\"),\"/\",\"\"),\"erro\")","v":""},{"$f":"IFERROR(Gerar_Upload!C1569,\"erro\")","v":0},{"$f":"IFERROR(Gerar_Upload!D1569,\"erro\")","v":0},{"$f":"IFERROR(DATE(YEAR(Gerar_Upload!E1569),MONTH(Gerar_Upload!E1569),DAY(Gerar_Upload!E1569)),\"erro\")","v":"00:00:00"},{"$f":"IFERROR(Gerar_Upload!F1569,\"erro\")","v":0},{"$f":"IFERROR(IF(Gerar_Upload!G1569<44,REPT(0,44-LEN(Gerar_Upload!G1569))&Gerar_Upload!G1569,Gerar_Upload!G1569),\"erro\")","v":"00000000000000000000000000000000000000000000"}]
[{"$f":"IFERROR(LEFT(Gerar_Upload!A1570,120),\"erro\")","v":""},{"$f":"IFERROR(SUBSTITUTE(SUBSTITUTE(SUBSTITUTE(Gerar_Upload!B1570,\".\",\"\"),\"-\",\"\"),\"/\",\"\"),\"erro\")","v":""},{"$f":"IFERROR(Gerar_Upload!C1570,\"erro\")","v":0},{"$f":"IFERROR(Gerar_Upload!D1570,\"erro\")","v":0},{"$f":"IFERROR(DATE(YEAR(Gerar_Upload!E1570),MONTH(Gerar_Upload!E1570),DAY(Gerar_Upload!E1570)),\"erro\")","v":"00:00:00"},{"$f":"IFERROR(Gerar_Upload!F1570,\"erro\")","v":0},{"$f":"IFERROR(IF(Gerar_Upload!G1570<44,REPT(0,44-LEN(Gerar_Upload!G1570))&Gerar_Upload!G1570,Gerar_Upload!G1570),\"erro\")","v":"00000000000000000000000000000000000000000000"}]
[{"$f":"IFERROR(LEFT(Gerar_Upload!A1571,120),\"erro\")","v":""},{"$f":"IFERROR(SUBSTITUTE(SUBSTITUTE(SUBSTITUTE(Gerar_Upload!B1571,\".\",\"\"),\"-\",\"\"),\"/\",\"\"),\"erro\")","v":""},{"$f":"IFERROR(Gerar_Upload!C1571,\"erro\")","v":0},{"$f":"IFERROR(Gerar_Upload!D1571,\"erro\")","v":0},{"$f":"IFERROR(DATE(YEAR(Gerar_Upload!E1571),MONTH(Gerar_Upload!E1571),DAY(Gerar_Upload!E1571)),\"erro\")","v":"00:00:00"},{"$f":"IFERROR(Gerar_Upload!F1571,\"erro\")","v":0},{"$f":"IFERROR(IF(Gerar_Upload!G1571<44,REPT(0,44-LEN(Gerar_Upload!G1571))&Gerar_Upload!G1571,Gerar_Upload!G1571),\"erro\")","v":"00000000000000000000000000000000000000000000"}]
[{"$f":"IFERROR(LEFT(Gerar_Upload!A1572,120),\"erro\")","v":""},{"$f":"IFERROR(SUBSTITUTE(SUBSTITUTE(SUBSTITUTE(Gerar_Upload!B1572,\".\",\"\"),\"-\",\"\"),\"/\",\"\"),\"erro\")","v":""},{"$f":"IFERROR(Gerar_Upload!C1572,\"erro\")","v":0},{"$f":"IFERROR(Gerar_Upload!D1572,\"erro\")","v":0},{"$f":"IFERROR(DATE(YEAR(Gerar_Upload!E1572),MONTH(Gerar_Upload!E1572),DAY(Gerar_Upload!E1572)),\"erro\")","v":"00:00:00"},{"$f":"IFERROR(Gerar_Upload!F1572,\"erro\")","v":0},{"$f":"IFERROR(IF(Gerar_Upload!G1572<44,REPT(0,44-LEN(Gerar_Upload!G1572))&Gerar_Upload!G1572,Gerar_Upload!G1572),\"erro\")","v":"00000000000000000000000000000000000000000000"}]
[{"$f":"IFERROR(LEFT(Gerar_Upload!A1573,120),\"erro\")","v":""},{"$f":"IFERROR(SUBSTITUTE(SUBSTITUTE(SUBSTITUTE(Gerar_Upload!B1573,\".\",\"\"),\"-\",\"\"),\"/\",\"\"),\"erro\")","v":""},{"$f":"IFERROR(Gerar_Upload!C1573,\"erro\")","v":0},{"$f":"IFERROR(Gerar_Upload!D1573,\"erro\")","v":0},{"$f":"IFERROR(DATE(YEAR(Gerar_Upload!E1573),MONTH(Gerar_Upload!E1573),DAY(Gerar_Upload!E1573)),\"erro\")","v":"00:00:00"},{"$f":"IFERROR(Gerar_Upload!F1573,\"erro\")","v":0},{"$f":"IFERROR(IF(Gerar_Upload!G1573<44,REPT(0,44-LEN(Gerar_Upload!G1573))&Gerar_Upload!G1573,Gerar_Upload!G1573),\"erro\")","v":"00000000000000000000000000000000000000000000"}]
[{"$f":"IFERROR(LEFT(Gerar_Upload!A1574,120),\"erro\")","v":""},{"$f":"IFERROR(SUBSTITUTE(SUBSTITUTE(SUBSTITUTE(Gerar_Upload!B1574,\".\",\"\"),\"-\",\"\"),\"/\",\"\"),\"erro\")","v":""},{"$f":"IFERROR(Gerar_Upload!C1574,\"erro\")","v":0},{"$f":"IFERROR(Gerar_Upload!D1574,\"erro\")","v":0},{"$f":"IFERROR(DATE(YEAR(Gerar_Upload!E1574),MONTH(Gerar_Upload!E1574),DAY(Gerar_Upload!E1574)),\"erro\")","v":"00:00:00"},{"$f":"IFERROR(Gerar_Upload!F1574,\"erro\")","v":0},{"$f":"IFERROR(IF(Gerar_Upload!G1574<44,REPT(0,44-LEN(Gerar_Upload!G1574))&Gerar_Upload!G1574,Gerar_Upload!G1574),\"erro\")","v":"00000000000000000000000000000000000000000000"}]
[{"$f":"IFERROR(LEFT(Gerar_Upload!A1575,120),\"erro\")","v":""},{"$f":"IFERROR(SUBSTITUTE(SUBSTITUTE(SUBSTITUTE(Gerar_Upload!B1575,\".\",\"\"),\"-\",\"\"),\"/\",\"\"),\"erro\")","v":""},{"$f":"IFERROR(Gerar_Upload!C1575,\"erro\")","v":0},{"$f":"IFERROR(Gerar_Upload!D1575,\"erro\")","v":0},{"$f":"IFERROR(DATE(YEAR(Gerar_Upload!E1575),MONTH(Gerar_Upload!E1575),DAY(Gerar_Upload!E1575)),\"erro\")","v":"00:00:00"},{"$f":"IFERROR(Gerar_Upload!F1575,\"erro\")","v":0},{"$f":"IFERROR(IF(Gerar_Upload!G1575<44,REPT(0,44-LEN(Gerar_Upload!G1575))&Gerar_Upload!G1575,Gerar_Upload!G1575),\"erro\")","v":"00000000000000000000000000000000000000000000"}]
[{"$f":"IFERROR(LEFT(Gerar_Upload!A1576,120),\"erro\")","v":""},{"$f":"IFERROR(SUBSTITUTE(SUBSTITUTE(SUBSTITUTE(Gerar_Upload!B1576,\".\",\"\"),\"-\",\"\"),\"/\",\"\"),\"erro\")","v":""},{"$f":"IFERROR(Gerar_Upload!C1576,\"erro\")","v":0},{"$f":"IFERROR(Gerar_Upload!D1576,\"erro\")","v":0},{"$f":"IFERROR(DATE(YEAR(Gerar_Upload!E1576),MONTH(Gerar_Upload!E1576),DAY(Gerar_Upload!E1576)),\"erro\")","v":"00:00:00"},{"$f":"IFERROR(Gerar_Upload!F1576,\"erro\")","v":0},{"$f":"IFERROR(IF(Gerar_Upload!G1576<44,REPT(0,44-LEN(Gerar_Upload!G1576))&Gerar_Upload!G1576,Gerar_Upload!G1576),\"erro\")","v":"00000000000000000000000000000000000000000000"}]
[{"$f":"IFERROR(LEFT(Gerar_Upload!A1577,120),\"erro\")","v":""},{"$f":"IFERROR(SUBSTITUTE(SUBSTITUTE(SUBSTITUTE(Gerar_Upload!B1577,\".\",\"\"),\"-\",\"\"),\"/\",\"\"),\"erro\")","v":""},{"$f":"IFERROR(Gerar_Upload!C1577,\"erro\")","v":0},{"$f":"IFERROR(Gerar_Upload!D1577,\"erro\")","v":0},{"$f":"IFERROR(DATE(YEAR(Gerar_Upload!E1577),MONTH(Gerar_Upload!E1577),DAY(Gerar_Upload!E1577)),\"erro\")","v":"00:00:00"},{"$f":"IFERROR(Gerar_Upload!F1577,\"erro\")","v":0},{"$f":"IFERROR(IF(Gerar_Upload!G1577<44,REPT(0,44-LEN(Gerar_Upload!G1577))&Gerar_Upload!G1577,Gerar_Upload!G1577),\"erro\")","v":"00000000000000000000000000000000000000000000"}]
[{"$f":"IFERROR(LEFT(Gerar_Upload!A1578,120),\"erro\")","v":""},{"$f":"IFERROR(SUBSTITUTE(SUBSTITUTE(SUBSTITUTE(Gerar_Upload!B1578,\".\",\"\"),\"-\",\"\"),\"/\",\"\"),\"erro\")","v":""},{"$f":"IFERROR(Gerar_Upload!C1578,\"erro\")","v":0},{"$f":"IFERROR(Gerar_Upload!D1578,\"erro\")","v":0},{"$f":"IFERROR(DATE(YEAR(Gerar_Upload!E1578),MONTH(Gerar_Upload!E1578),DAY(Gerar_Upload!E1578)),\"erro\")","v":"00:00:00"},{"$f":"IFERROR(Gerar_Upload!F1578,\"erro\")","v":0},{"$f":"IFERROR(IF(Gerar_Upload!G1578<44,REPT(0,44-LEN(Gerar_Upload!G1578))&Gerar_Upload!G1578,Gerar_Upload!G1578),\"erro\")","v":"00000000000000000000000000000000000000000000"}]
[{"$f":"IFERROR(LEFT(Gerar_Upload!A1579,120),\"erro\")","v":""},{"$f":"IFERROR(SUBSTITUTE(SUBSTITUTE(SUBSTITUTE(Gerar_Upload!B1579,\".\",\"\"),\"-\",\"\"),\"/\",\"\"),\"erro\")","v":""},{"$f":"IFERROR(Gerar_Upload!C1579,\"erro\")","v":0},{"$f":"IFERROR(Gerar_Upload!D1579,\"erro\")","v":0},{"$f":"IFERROR(DATE(YEAR(Gerar_Upload!E1579),MONTH(Gerar_Upload!E1579),DAY(Gerar_Upload!E1579)),\"erro\")","v":"00:00:00"},{"$f":"IFERROR(Gerar_Upload!F1579,\"erro\")","v":0},{"$f":"IFERROR(IF(Gerar_Upload!G1579<44,REPT(0,44-LEN(Gerar_Upload!G1579))&Gerar_Upload!G1579,Gerar_Upload!G1579),\"erro\")","v":"00000000000000000000000000000000000000000000"}]
[{"$f":"IFERROR(LEFT(Gerar_Upload!A1580,120),\"erro\")","v":""},{"$f":"IFERROR(SUBSTITUTE(SUBSTITUTE(SUBSTITUTE(Gerar_Upload!B1580,\".\",\"\"),\"-\",\"\"),\"/\",\"\"),\"erro\")","v":""},{"$f":"IFERROR(Gerar_Upload!C1580,\"erro\")","v":0},{"$f":"IFERROR(Gerar_Upload!D1580,\"erro\")","v":0},{"$f":"IFERROR(DATE(YEAR(Gerar_Upload!E1580),MONTH(Gerar_Upload!E1580),DAY(Gerar_Upload!E1580)),\"erro\")","v":"00:00:00"},{"$f":"IFERROR(Gerar_Upload!F1580,\"erro\")","v":0},{"$f":"IFERROR(IF(Gerar_Upload!G1580<44,REPT(0,44-LEN(Gerar_Upload!G1580))&Gerar_Upload!G1580,Gerar_Upload!G1580),\"erro\")","v":"00000000000000000000000000000000000000000000"}]
[{"$f":"IFERROR(LEFT(Gerar_Upload!A1581,120),\"erro\")","v":""},{"$f":"IFERROR(SUBSTITUTE(SUBSTITUTE(SUBSTITUTE(Gerar_Upload!B1581,\".\",\"\"),\"-\",\"\"),\"/\",\"\"),\"erro\")","v":""},{"$f":"IFERROR(Gerar_Upload!C1581,\"erro\")","v":0},{"$f":"IFERROR(Gerar_Upload!D1581,\"erro\")","v":0},{"$f":"IFERROR(DATE(YEAR(Gerar_Upload!E1581),MONTH(Gerar_Upload!E1581),DAY(Gerar_Upload!E1581)),\"erro\")","v":"00:00:00"},{"$f":"IFERROR(Gerar_Upload!F1581,\"erro\")","v":0},{"$f":"IFERROR(IF(Gerar_Upload!G1581<44,REPT(0,44-LEN(Gerar_Upload!G1581))&Gerar_Upload!G1581,Gerar_Upload!G1581),\"erro\")","v":"00000000000000000000000000000000000000000000"}]
[{"$f":"IFERROR(LEFT(Gerar_Upload!A1582,120),\"erro\")","v":""},{"$f":"IFERROR(SUBSTITUTE(SUBSTITUTE(SUBSTITUTE(Gerar_Upload!B1582,\".\",\"\"),\"-\",\"\"),\"/\",\"\"),\"erro\")","v":""},{"$f":"IFERROR(Gerar_Upload!C1582,\"erro\")","v":0},{"$f":"IFERROR(Gerar_Upload!D1582,\"erro\")","v":0},{"$f":"IFERROR(DATE(YEAR(Gerar_Upload!E1582),MONTH(Gerar_Upload!E1582),DAY(Gerar_Upload!E1582)),\"erro\")","v":"00:00:00"},{"$f":"IFERROR(Gerar_Upload!F1582,\"erro\")","v":0},{"$f":"IFERROR(IF(Gerar_Upload!G1582<44,REPT(0,44-LEN(Gerar_Upload!G1582))&Gerar_Upload!G1582,Gerar_Upload!G1582),\"erro\")","v":"00000000000000000000000000000000000000000000"}]
[{"$f":"IFERROR(LEFT(Gerar_Upload!A1583,120),\"erro\")","v":""},{"$f":"IFERROR(SUBSTITUTE(SUBSTITUTE(SUBSTITUTE(Gerar_Upload!B1583,\".\",\"\"),\"-\",\"\"),\"/\",\"\"),\"erro\")","v":""},{"$f":"IFERROR(Gerar_Upload!C1583,\"erro\")","v":0},{"$f":"IFERROR(Gerar_Upload!D1583,\"erro\")","v":0},{"$f":"IFERROR(DATE(YEAR(Gerar_Upload!E1583),MONTH(Gerar_Upload!E1583),DAY(Gerar_Upload!E1583)),\"erro\")","v":"00:00:00"},{"$f":"IFERROR(Gerar_Upload!F1583,\"erro\")","v":0},{"$f":"IFERROR(IF(Gerar_Upload!G1583<44,REPT(0,44-LEN(Gerar_Upload!G1583))&Gerar_Upload!G1583,Gerar_Upload!G1583),\"erro\")","v":"00000000000000000000000000000000000000000000"}]
[{"$f":"IFERROR(LEFT(Gerar_Upload!A1584,120),\"erro\")","v":""},{"$f":"IFERROR(SUBSTITUTE(SUBSTITUTE(SUBSTITUTE(Gerar_Upload!B1584,\".\",\"\"),\"-\",\"\"),\"/\",\"\"),\"erro\")","v":""},{"$f":"IFERROR(Gerar_Upload!C1584,\"erro\")","v":0},{"$f":"IFERROR(Gerar_Upload!D1584,\"erro\")","v":0},{"$f":"IFERROR(DATE(YEAR(Gerar_Upload!E1584),MONTH(Gerar_Upload!E1584),DAY(Gerar_Upload!E1584)),\"erro\")","v":"00:00:00"},{"$f":"IFERROR(Gerar_Upload!F1584,\"erro\")","v":0},{"$f":"IFERROR(IF(Gerar_Upload!G1584<44,REPT(0,44-LEN(Gerar_Upload!G1584))&Gerar_Upload!G1584,Gerar_Upload!G1584),\"erro\")","v":"00000000000000000000000000000000000000000000"}]
[{"$f":"IFERROR(LEFT(Gerar_Upload!A1585,120),\"erro\")","v":""},{"$f":"IFERROR(SUBSTITUTE(SUBSTITUTE(SUBSTITUTE(Gerar_Upload!B1585,\".\",\"\"),\"-\",\"\"),\"/\",\"\"),\"erro\")","v":""},{"$f":"IFERROR(Gerar_Upload!C1585,\"erro\")","v":0},{"$f":"IFERROR(Gerar_Upload!D1585,\"erro\")","v":0},{"$f":"IFERROR(DATE(YEAR(Gerar_Upload!E1585),MONTH(Gerar_Upload!E1585),DAY(Gerar_Upload!E1585)),\"erro\")","v":"00:00:00"},{"$f":"IFERROR(Gerar_Upload!F1585,\"erro\")","v":0},{"$f":"IFERROR(IF(Gerar_Upload!G1585<44,REPT(0,44-LEN(Gerar_Upload!G1585))&Gerar_Upload!G1585,Gerar_Upload!G1585),\"erro\")","v":"00000000000000000000000000000000000000000000"}]
[{"$f":"IFERROR(LEFT(Gerar_Upload!A1586,120),\"erro\")","v":""},{"$f":"IFERROR(SUBSTITUTE(SUBSTITUTE(SUBSTITUTE(Gerar_Upload!B1586,\".\",\"\"),\"-\",\"\"),\"/\",\"\"),\"erro\")","v":""},{"$f":"IFERROR(Gerar_Upload!C1586,\"erro\")","v":0},{"$f":"IFERROR(Gerar_Upload!D1586,\"erro\")","v":0},{"$f":"IFERROR(DATE(YEAR(Gerar_Upload!E1586),MONTH(Gerar_Upload!E1586),DAY(Gerar_Upload!E1586)),\"erro\")","v":"00:00:00"},{"$f":"IFERROR(Gerar_Upload!F1586,\"erro\")","v":0},{"$f":"IFERROR(IF(Gerar_Upload!G1586<44,REPT(0,44-LEN(Gerar_Upload!G1586))&Gerar_Upload!G1586,Gerar_Upload!G1586),\"erro\")","v":"00000000000000000000000000000000000000000000"}]
[{"$f":"IFERROR(LEFT(Gerar_Upload!A1587,120),\"erro\")","v":""},{"$f":"IFERROR(SUBSTITUTE(SUBSTITUTE(SUBSTITUTE(Gerar_Upload!B1587,\".\",\"\"),\"-\",\"\"),\"/\",\"\"),\"erro\")","v":""},{"$f":"IFERROR(Gerar_Upload!C1587,\"erro\")","v":0},{"$f":"IFERROR(Gerar_Upload!D1587,\"erro\")","v":0},{"$f":"IFERROR(DATE(YEAR(Gerar_Upload!E1587),MONTH(Gerar_Upload!E1587),DAY(Gerar_Upload!E1587)),\"erro\")","v":"00:00:00"},{"$f":"IFERROR(Gerar_Upload!F1587,\"erro\")","v":0},{"$f":"IFERROR(IF(Gerar_Upload!G1587<44,REPT(0,44-LEN(Gerar_Upload!G1587))&Gerar_Upload!G1587,Gerar_Upload!G1587),\"erro\")","v":"00000000000000000000000000000000000000000000"}]
[{"$f":"IFERROR(LEFT(Gerar_Upload!A1588,120),\"erro\")","v":""},{"$f":"IFERROR(SUBSTITUTE(SUBSTITUTE(SUBSTITUTE(Gerar_Upload!B1588,\".\",\"\"),\"-\",\"\"),\"/\",\"\"),\"erro\")","v":""},{"$f":"IFERROR(Gerar_Upload!C1588,\"erro\")","v":0},{"$f":"IFERROR(Gerar_Upload!D1588,\"erro\")","v":0},{"$f":"IFERROR(DATE(YEAR(Gerar_Upload!E1588),MONTH(Gerar_Upload!E1588),DAY(Gerar_Upload!E1588)),\"erro\")","v":"00:00:00"},{"$f":"IFERROR(Gerar_Upload!F1588,\"erro\")","v":0},{"$f":"IFERROR(IF(Gerar_Upload!G1588<44,REPT(0,44-LEN(Gerar_Upload!G1588))&Gerar_Upload!G1588,Gerar_Upload!G1588),\"erro\")","v":"00000000000000000000000000000000000000000000"}]
[{"$f":"IFERROR(LEFT(Gerar_Upload!A1589,120),\"erro\")","v":""},{"$f":"IFERROR(SUBSTITUTE(SUBSTITUTE(SUBSTITUTE(Gerar_Upload!B1589,\".\",\"\"),\"-\",\"\"),\"/\",\"\"),\"erro\")","v":""},{"$f":"IFERROR(Gerar_Upload!C1589,\"erro\")","v":0},{"$f":"IFERROR(Gerar_Upload!D1589,\"erro\")","v":0},{"$f":"IFERROR(DATE(YEAR(Gerar_Upload!E1589),MONTH(Gerar_Upload!E1589),DAY(Gerar_Upload!E1589)),\"erro\")","v":"00:00:00"},{"$f":"IFERROR(Gerar_Upload!F1589,\"erro\")","v":0},{"$f":"IFERROR(IF(Gerar_Upload!G1589<44,REPT(0,44-LEN(Gerar_Upload!G1589))&Gerar_Upload!G1589,Gerar_Upload!G1589),\"erro\")","v":"00000000000000000000000000000000000000000000"}]
[{"$f":"IFERROR(LEFT(Gerar_Upload!A1590,120),\"erro\")","v":""},{"$f":"IFERROR(SUBSTITUTE(SUBSTITUTE(SUBSTITUTE(Gerar_Upload!B1590,\".\",\"\"),\"-\",\"\"),\"/\",\"\"),\"erro\")","v":""},{"$f":"IFERROR(Gerar_Upload!C1590,\"erro\")","v":0},{"$f":"IFERROR(Gerar_Upload!D1590,\"erro\")","v":0},{"$f":"IFERROR(DATE(YEAR(Gerar_Upload!E1590),MONTH(Gerar_Upload!E1590),DAY(Gerar_Upload!E1590)),\"erro\")","v":"00:00:00"},{"$f":"IFERROR(Gerar_Upload!F1590,\"erro\")","v":0},{"$f":"IFERROR(IF(Gerar_Upload!G1590<44,REPT(0,44-LEN(Gerar_Upload!G1590))&Gerar_Upload!G1590,Gerar_Upload!G1590),\"erro\")","v":"00000000000000000000000000000000000000000000"}]
[{"$f":"IFERROR(LEFT(Gerar_Upload!A1591,120),\"erro\")","v":""},{"$f":"IFERROR(SUBSTITUTE(SUBSTITUTE(SUBSTITUTE(Gerar_Upload!B1591,\".\",\"\"),\"-\",\"\"),\"/\",\"\"),\"erro\")","v":""},{"$f":"IFERROR(Gerar_Upload!C1591,\"erro\")","v":0},{"$f":"IFERROR(Gerar_Upload!D1591,\"erro\")","v":0},{"$f":"IFERROR(DATE(YEAR(Gerar_Upload!E1591),MONTH(Gerar_Upload!E1591),DAY(Gerar_Upload!E1591)),\"erro\")","v":"00:00:00"},{"$f":"IFERROR(Gerar_Upload!F1591,\"erro\")","v":0},{"$f":"IFERROR(IF(Gerar_Upload!G1591<44,REPT(0,44-LEN(Gerar_Upload!G1591))&Gerar_Upload!G1591,Gerar_Upload!G1591),\"erro\")","v":"00000000000000000000000000000000000000000000"}]
[{"$f":"IFERROR(LEFT(Gerar_Upload!A1592,120),\"erro\")","v":""},{"$f":"IFERROR(SUBSTITUTE(SUBSTITUTE(SUBSTITUTE(Gerar_Upload!B1592,\".\",\"\"),\"-\",\"\"),\"/\",\"\"),\"erro\")","v":""},{"$f":"IFERROR(Gerar_Upload!C1592,\"erro\")","v":0},{"$f":"IFERROR(Gerar_Upload!D1592,\"erro\")","v":0},{"$f":"IFERROR(DATE(YEAR(Gerar_Upload!E1592),MONTH(Gerar_Upload!E1592),DAY(Gerar_Upload!E1592)),\"erro\")","v":"00:00:00"},{"$f":"IFERROR(Gerar_Upload!F1592,\"erro\")","v":0},{"$f":"IFERROR(IF(Gerar_Upload!G1592<44,REPT(0,44-LEN(Gerar_Upload!G1592))&Gerar_Upload!G1592,Gerar_Upload!G1592),\"erro\")","v":"00000000000000000000000000000000000000000000"}]
[{"$f":"IFERROR(LEFT(Gerar_Upload!A1593,120),\"erro\")","v":""},{"$f":"IFERROR(SUBSTITUTE(SUBSTITUTE(SUBSTITUTE(Gerar_Upload!B1593,\".\",\"\"),\"-\",\"\"),\"/\",\"\"),\"erro\")","v":""},{"$f":"IFERROR(Gerar_Upload!C1593,\"erro\")","v":0},{"$f":"IFERROR(Gerar_Upload!D1593,\"erro\")","v":0},{"$f":"IFERROR(DATE(YEAR(Gerar_Upload!E1593),MONTH(Gerar_Upload!E1593),DAY(Gerar_Upload!E1593)),\"erro\")","v":"00:00:00"},{"$f":"IFERROR(Gerar_Upload!F1593,\"erro\")","v":0},{"$f":"IFERROR(IF(Gerar_Upload!G1593<44,REPT(0,44-LEN(Gerar_Upload!G1593))&Gerar_Upload!G1593,Gerar_Upload!G1593),\"erro\")","v":"00000000000000000000000000000000000000000000"}]
[{"$f":"IFERROR(LEFT(Gerar_Upload!A1594,120),\"erro\")","v":""},{"$f":"IFERROR(SUBSTITUTE(SUBSTITUTE(SUBSTITUTE(Gerar_Upload!B1594,\".\",\"\"),\"-\",\"\"),\"/\",\"\"),\"erro\")","v":""},{"$f":"IFERROR(Gerar_Upload!C1594,\"erro\")","v":0},{"$f":"IFERROR(Gerar_Upload!D1594,\"erro\")","v":0},{"$f":"IFERROR(DATE(YEAR(Gerar_Upload!E1594),MONTH(Gerar_Upload!E1594),DAY(Gerar_Upload!E1594)),\"erro\")","v":"00:00:00"},{"$f":"IFERROR(Gerar_Upload!F1594,\"erro\")","v":0},{"$f":"IFERROR(IF(Gerar_Upload!G1594<44,REPT(0,44-LEN(Gerar_Upload!G1594))&Gerar_Upload!G1594,Gerar_Upload!G1594),\"erro\")","v":"00000000000000000000000000000000000000000000"}]
[{"$f":"IFERROR(LEFT(Gerar_Upload!A1595,120),\"erro\")","v":""},{"$f":"IFERROR(SUBSTITUTE(SUBSTITUTE(SUBSTITUTE(Gerar_Upload!B1595,\".\",\"\"),\"-\",\"\"),\"/\",\"\"),\"erro\")","v":""},{"$f":"IFERROR(Gerar_Upload!C1595,\"erro\")","v":0},{"$f":"IFERROR(Gerar_Upload!D1595,\"erro\")","v":0},{"$f":"IFERROR(DATE(YEAR(Gerar_Upload!E1595),MONTH(Gerar_Upload!E1595),DAY(Gerar_Upload!E1595)),\"erro\")","v":"00:00:00"},{"$f":"IFERROR(Gerar_Upload!F1595,\"erro\")","v":0},{"$f":"IFERROR(IF(Gerar_Upload!G1595<44,REPT(0,44-LEN(Gerar_Upload!G1595))&Gerar_Upload!G1595,Gerar_Upload!G1595),\"erro\")","v":"00000000000000000000000000000000000000000000"}]
[{"$f":"IFERROR(LEFT(Gerar_Upload!A1596,120),\"erro\")","v":""},{"$f":"IFERROR(SUBSTITUTE(SUBSTITUTE(SUBSTITUTE(Gerar_Upload!B1596,\".\",\"\"),\"-\",\"\"),\"/\",\"\"),\"erro\")","v":""},{"$f":"IFERROR(Gerar_Upload!C1596,\"erro\")","v":0},{"$f":"IFERROR(Gerar_Upload!D1596,\"erro\")","v":0},{"$f":"IFERROR(DATE(YEAR(Gerar_Upload!E1596),MONTH(Gerar_Upload!E1596),DAY(Gerar_Upload!E1596)),\"erro\")","v":"00:00:00"},{"$f":"IFERROR(Gerar_Upload!F1596,\"erro\")","v":0},{"$f":"IFERROR(IF(Gerar_Upload!G1596<44,REPT(0,44-LEN(Gerar_Upload!G1596))&Gerar_Upload!G1596,Gerar_Upload!G1596),\"erro\")","v":"00000000000000000000000000000000000000000000"}]
[{"$f":"IFERROR(LEFT(Gerar_Upload!A1597,120),\"erro\")","v":""},{"$f":"IFERROR(SUBSTITUTE(SUBSTITUTE(SUBSTITUTE(Gerar_Upload!B1597,\".\",\"\"),\"-\",\"\"),\"/\",\"\"),\"erro\")","v":""},{"$f":"IFERROR(Gerar_Upload!C1597,\"erro\")","v":0},{"$f":"IFERROR(Gerar_Upload!D1597,\"erro\")","v":0},{"$f":"IFERROR(DATE(YEAR(Gerar_Upload!E1597),MONTH(Gerar_Upload!E1597),DAY(Gerar_Upload!E1597)),\"erro\")","v":"00:00:00"},{"$f":"IFERROR(Gerar_Upload!F1597,\"erro\")","v":0},{"$f":"IFERROR(IF(Gerar_Upload!G1597<44,REPT(0,44-LEN(Gerar_Upload!G1597))&Gerar_Upload!G1597,Gerar_Upload!G1597),\"erro\")","v":"00000000000000000000000000000000000000000000"}]
[{"$f":"IFERROR(LEFT(Gerar_Upload!A1598,120),\"erro\")","v":""},{"$f":"IFERROR(SUBSTITUTE(SUBSTITUTE(SUBSTITUTE(Gerar_Upload!B1598,\".\",\"\"),\"-\",\"\"),\"/\",\"\"),\"erro\")","v":""},{"$f":"IFERROR(Gerar_Upload!C1598,\"erro\")","v":0},{"$f":"IFERROR(Gerar_Upload!D1598,\"erro\")","v":0},{"$f":"IFERROR(DATE(YEAR(Gerar_Upload!E1598),MONTH(Gerar_Upload!E1598),DAY(Gerar_Upload!E1598)),\"erro\")","v":"00:00:00"},{"$f":"IFERROR(Gerar_Upload!F1598,\"erro\")","v":0},{"$f":"IFERROR(IF(Gerar_Upload!G1598<44,REPT(0,44-LEN(Gerar_Upload!G1598))&Gerar_Upload!G1598,Gerar_Upload!G1598),\"erro\")","v":"00000000000000000000000000000000000000000000"}]
[{"$f":"IFERROR(LEFT(Gerar_Upload!A1599,120),\"erro\")","v":""},{"$f":"IFERROR(SUBSTITUTE(SUBSTITUTE(SUBSTITUTE(Gerar_Upload!B1599,\".\",\"\"),\"-\",\"\"),\"/\",\"\"),\"erro\")","v":""},{"$f":"IFERROR(Gerar_Upload!C1599,\"erro\")","v":0},{"$f":"IFERROR(Gerar_Upload!D1599,\"erro\")","v":0},{"$f":"IFERROR(DATE(YEAR(Gerar_Upload!E1599),MONTH(Gerar_Upload!E1599),DAY(Gerar_Upload!E1599)),\"erro\")","v":"00:00:00"},{"$f":"IFERROR(Gerar_Upload!F1599,\"erro\")","v":0},{"$f":"IFERROR(IF(Gerar_Upload!G1599<44,REPT(0,44-LEN(Gerar_Upload!G1599))&Gerar_Upload!G1599,Gerar_Upload!G1599),\"erro\")","v":"00000000000000000000000000000000000000000000"}]
[{"$f":"IFERROR(LEFT(Gerar_Upload!A1600,120),\"erro\")","v":""},{"$f":"IFERROR(SUBSTITUTE(SUBSTITUTE(SUBSTITUTE(Gerar_Upload!B1600,\".\",\"\"),\"-\",\"\"),\"/\",\"\"),\"erro\")","v":""},{"$f":"IFERROR(Gerar_Upload!C1600,\"erro\")","v":0},{"$f":"IFERROR(Gerar_Upload!D1600,\"erro\")","v":0},{"$f":"IFERROR(DATE(YEAR(Gerar_Upload!E1600),MONTH(Gerar_Upload!E1600),DAY(Gerar_Upload!E1600)),\"erro\")","v":"00:00:00"},{"$f":"IFERROR(Gerar_Upload!F1600,\"erro\")","v":0},{"$f":"IFERROR(IF(Gerar_Upload!G1600<44,REPT(0,44-LEN(Gerar_Upload!G1600))&Gerar_Upload!G1600,Gerar_Upload!G1600),\"erro\")","v":"00000000000000000000000000000000000000000000"}]
[{"$f":"IFERROR(LEFT(Gerar_Upload!A1601,120),\"erro\")","v":""},{"$f":"IFERROR(SUBSTITUTE(SUBSTITUTE(SUBSTITUTE(Gerar_Upload!B1601,\".\",\"\"),\"-\",\"\"),\"/\",\"\"),\"erro\")","v":""},{"$f":"IFERROR(Gerar_Upload!C1601,\"erro\")","v":0},{"$f":"IFERROR(Gerar_Upload!D1601,\"erro\")","v":0},{"$f":"IFERROR(DATE(YEAR(Gerar_Upload!E1601),MONTH(Gerar_Upload!E1601),DAY(Gerar_Upload!E1601)),\"erro\")","v":"00:00:00"},{"$f":"IFERROR(Gerar_Upload!F1601,\"erro\")","v":0},{"$f":"IFERROR(IF(Gerar_Upload!G1601<44,REPT(0,44-LEN(Gerar_Upload!G1601))&Gerar_Upload!G1601,Gerar_Upload!G1601),\"erro\")","v":"00000000000000000000000000000000000000000000"}]
[{"$f":"IFERROR(LEFT(Gerar_Upload!A1602,120),\"erro\")","v":""},{"$f":"IFERROR(SUBSTITUTE(SUBSTITUTE(SUBSTITUTE(Gerar_Upload!B1602,\".\",\"\"),\"-\",\"\"),\"/\",\"\"),\"erro\")","v":""},{"$f":"IFERROR(Gerar_Upload!C1602,\"erro\")","v":0},{"$f":"IFERROR(Gerar_Upload!D1602,\"erro\")","v":0},{"$f":"IFERROR(DATE(YEAR(Gerar_Upload!E1602),MONTH(Gerar_Upload!E1602),DAY(Gerar_Upload!E1602)),\"erro\")","v":"00:00:00"},{"$f":"IFERROR(Gerar_Upload!F1602,\"erro\")","v":0},{"$f":"IFERROR(IF(Gerar_Upload!G1602<44,REPT(0,44-LEN(Gerar_Upload!G1602))&Gerar_Upload!G1602,Gerar_Upload!G1602),\"erro\")","v":"00000000000000000000000000000000000000000000"}]
[{"$f":"IFERROR(LEFT(Gerar_Upload!A1603,120),\"erro\")","v":""},{"$f":"IFERROR(SUBSTITUTE(SUBSTITUTE(SUBSTITUTE(Gerar_Upload!B1603,\".\",\"\"),\"-\",\"\"),\"/\",\"\"),\"erro\")","v":""},{"$f":"IFERROR(Gerar_Upload!C1603,\"erro\")","v":0},{"$f":"IFERROR(Gerar_Upload!D1603,\"erro\")","v":0},{"$f":"IFERROR(DATE(YEAR(Gerar_Upload!E1603),MONTH(Gerar_Upload!E1603),DAY(Gerar_Upload!E1603)),\"erro\")","v":"00:00:00"},{"$f":"IFERROR(Gerar_Upload!F1603,\"erro\")","v":0},{"$f":"IFERROR(IF(Gerar_Upload!G1603<44,REPT(0,44-LEN(Gerar_Upload!G1603))&Gerar_Upload!G1603,Gerar_Upload!G1603),\"erro\")","v":"00000000000000000000000000000000000000000000"}]
[{"$f":"IFERROR(LEFT(Gerar_Upload!A1604,120),\"erro\")","v":""},{"$f":"IFERROR(SUBSTITUTE(SUBSTITUTE(SUBSTITUTE(Gerar_Upload!B1604,\".\",\"\"),\"-\",\"\"),\"/\",\"\"),\"erro\")","v":""},{"$f":"IFERROR(Gerar_Upload!C1604,\"erro\")","v":0},{"$f":"IFERROR(Gerar_Upload!D1604,\"erro\")","v":0},{"$f":"IFERROR(DATE(YEAR(Gerar_Upload!E1604),MONTH(Gerar_Upload!E1604),DAY(Gerar_Upload!E1604)),\"erro\")","v":"00:00:00"},{"$f":"IFERROR(Gerar_Upload!F1604,\"erro\")","v":0},{"$f":"IFERROR(IF(Gerar_Upload!G1604<44,REPT(0,44-LEN(Gerar_Upload!G1604))&Gerar_Upload!G1604,Gerar_Upload!G1604),\"erro\")","v":"00000000000000000000000000000000000000000000"}]
[{"$f":"IFERROR(LEFT(Gerar_Upload!A1605,120),\"erro\")","v":""},{"$f":"IFERROR(SUBSTITUTE(SUBSTITUTE(SUBSTITUTE(Gerar_Upload!B1605,\".\",\"\"),\"-\",\"\"),\"/\",\"\"),\"erro\")","v":""},{"$f":"IFERROR(Gerar_Upload!C1605,\"erro\")","v":0},{"$f":"IFERROR(Gerar_Upload!D1605,\"erro\")","v":0},{"$f":"IFERROR(DATE(YEAR(Gerar_Upload!E1605),MONTH(Gerar_Upload!E1605),DAY(Gerar_Upload!E1605)),\"erro\")","v":"00:00:00"},{"$f":"IFERROR(Gerar_Upload!F1605,\"erro\")","v":0},{"$f":"IFERROR(IF(Gerar_Upload!G1605<44,REPT(0,44-LEN(Gerar_Upload!G1605))&Gerar_Upload!G1605,Gerar_Upload!G1605),\"erro\")","v":"00000000000000000000000000000000000000000000"}]
[{"$f":"IFERROR(LEFT(Gerar_Upload!A1606,120),\"erro\")","v":""},{"$f":"IFERROR(SUBSTITUTE(SUBSTITUTE(SUBSTITUTE(Gerar_Upload!B1606,\".\",\"\"),\"-\",\"\"),\"/\",\"\"),\"erro\")","v":""},{"$f":"IFERROR(Gerar_Upload!C1606,\"erro\")","v":0},{"$f":"IFERROR(Gerar_Upload!D1606,\"erro\")","v":0},{"$f":"IFERROR(DATE(YEAR(Gerar_Upload!E1606),MONTH(Gerar_Upload!E1606),DAY(Gerar_Upload!E1606)),\"erro\")","v":"00:00:00"},{"$f":"IFERROR(Gerar_Upload!F1606,\"erro\")","v":0},{"$f":"IFERROR(IF(Gerar_Upload!G1606<44,REPT(0,44-LEN(Gerar_Upload!G1606))&Gerar_Upload!G1606,Gerar_Upload!G1606),\"erro\")","v":"00000000000000000000000000000000000000000000"}]
[{"$f":"IFERROR(LEFT(Gerar_Upload!A1607,120),\"erro\")","v":""},{"$f":"IFERROR(SUBSTITUTE(SUBSTITUTE(SUBSTITUTE(Gerar_Upload!B1607,\".\",\"\"),\"-\",\"\"),\"/\",\"\"),\"erro\")","v":""},{"$f":"IFERROR(Gerar_Upload!C1607,\"erro\")","v":0},{"$f":"IFERROR(Gerar_Upload!D1607,\"erro\")","v":0},{"$f":"IFERROR(DATE(YEAR(Gerar_Upload!E1607),MONTH(Gerar_Upload!E1607),DAY(Gerar_Upload!E1607)),\"erro\")","v":"00:00:00"},{"$f":"IFERROR(Gerar_Upload!F1607,\"erro\")","v":0},{"$f":"IFERROR(IF(Gerar_Upload!G1607<44,REPT(0,44-LEN(Gerar_Upload!G1607))&Gerar_Upload!G1607,Gerar_Upload!G1607),\"erro\")","v":"00000000000000000000000000000000000000000000"}]
[{"$f":"IFERROR(LEFT(Gerar_Upload!A1608,120),\"erro\")","v":""},{"$f":"IFERROR(SUBSTITUTE(SUBSTITUTE(SUBSTITUTE(Gerar_Upload!B1608,\".\",\"\"),\"-\",\"\"),\"/\",\"\"),\"erro\")","v":""},{"$f":"IFERROR(Gerar_Upload!C1608,\"erro\")","v":0},{"$f":"IFERROR(Gerar_Upload!D1608,\"erro\")","v":0},{"$f":"IFERROR(DATE(YEAR(Gerar_Upload!E1608),MONTH(Gerar_Upload!E1608),DAY(Gerar_Upload!E1608)),\"erro\")","v":"00:00:00"},{"$f":"IFERROR(Gerar_Upload!F1608,\"erro\")","v":0},{"$f":"IFERROR(IF(Gerar_Upload!G1608<44,REPT(0,44-LEN(Gerar_Upload!G1608))&Gerar_Upload!G1608,Gerar_Upload!G1608),\"erro\")","v":"00000000000000000000000000000000000000000000"}]
[{"$f":"IFERROR(LEFT(Gerar_Upload!A1609,120),\"erro\")","v":""},{"$f":"IFERROR(SUBSTITUTE(SUBSTITUTE(SUBSTITUTE(Gerar_Upload!B1609,\".\",\"\"),\"-\",\"\"),\"/\",\"\"),\"erro\")","v":""},{"$f":"IFERROR(Gerar_Upload!C1609,\"erro\")","v":0},{"$f":"IFERROR(Gerar_Upload!D1609,\"erro\")","v":0},{"$f":"IFERROR(DATE(YEAR(Gerar_Upload!E1609),MONTH(Gerar_Upload!E1609),DAY(Gerar_Upload!E1609)),\"erro\")","v":"00:00:00"},{"$f":"IFERROR(Gerar_Upload!F1609,\"erro\")","v":0},{"$f":"IFERROR(IF(Gerar_Upload!G1609<44,REPT(0,44-LEN(Gerar_Upload!G1609))&Gerar_Upload!G1609,Gerar_Upload!G1609),\"erro\")","v":"00000000000000000000000000000000000000000000"}]
[{"$f":"IFERROR(LEFT(Gerar_Upload!A1610,120),\"erro\")","v":""},{"$f":"IFERROR(SUBSTITUTE(SUBSTITUTE(SUBSTITUTE(Gerar_Upload!B1610,\".\",\"\"),\"-\",\"\"),\"/\",\"\"),\"erro\")","v":""},{"$f":"IFERROR(Gerar_Upload!C1610,\"erro\")","v":0},{"$f":"IFERROR(Gerar_Upload!D1610,\"erro\")","v":0},{"$f":"IFERROR(DATE(YEAR(Gerar_Upload!E1610),MONTH(Gerar_Upload!E1610),DAY(Gerar_Upload!E1610)),\"erro\")","v":"00:00:00"},{"$f":"IFERROR(Gerar_Upload!F1610,\"erro\")","v":0},{"$f":"IFERROR(IF(Gerar_Upload!G1610<44,REPT(0,44-LEN(Gerar_Upload!G1610))&Gerar_Upload!G1610,Gerar_Upload!G1610),\"erro\")","v":"00000000000000000000000000000000000000000000"}]
[{"$f":"IFERROR(LEFT(Gerar_Upload!A1611,120),\"erro\")","v":""},{"$f":"IFERROR(SUBSTITUTE(SUBSTITUTE(SUBSTITUTE(Gerar_Upload!B1611,\".\",\"\"),\"-\",\"\"),\"/\",\"\"),\"erro\")","v":""},{"$f":"IFERROR(Gerar_Upload!C1611,\"erro\")","v":0},{"$f":"IFERROR(Gerar_Upload!D1611,\"erro\")","v":0},{"$f":"IFERROR(DATE(YEAR(Gerar_Upload!E1611),MONTH(Gerar_Upload!E1611),DAY(Gerar_Upload!E1611)),\"erro\")","v":"00:00:00"},{"$f":"IFERROR(Gerar_Upload!F1611,\"erro\")","v":0},{"$f":"IFERROR(IF(Gerar_Upload!G1611<44,REPT(0,44-LEN(Gerar_Upload!G1611))&Gerar_Upload!G1611,Gerar_Upload!G1611),\"erro\")","v":"00000000000000000000000000000000000000000000"}]
[{"$f":"IFERROR(LEFT(Gerar_Upload!A1612,120),\"erro\")","v":""},{"$f":"IFERROR(SUBSTITUTE(SUBSTITUTE(SUBSTITUTE(Gerar_Upload!B1612,\".\",\"\"),\"-\",\"\"),\"/\",\"\"),\"erro\")","v":""},{"$f":"IFERROR(Gerar_Upload!C1612,\"erro\")","v":0},{"$f":"IFERROR(Gerar_Upload!D1612,\"erro\")","v":0},{"$f":"IFERROR(DATE(YEAR(Gerar_Upload!E1612),MONTH(Gerar_Upload!E1612),DAY(Gerar_Upload!E1612)),\"erro\")","v":"00:00:00"},{"$f":"IFERROR(Gerar_Upload!F1612,\"erro\")","v":0},{"$f":"IFERROR(IF(Gerar_Upload!G1612<44,REPT(0,44-LEN(Gerar_Upload!G1612))&Gerar_Upload!G1612,Gerar_Upload!G1612),\"erro\")","v":"00000000000000000000000000000000000000000000"}]
[{"$f":"IFERROR(LEFT(Gerar_Upload!A1613,120),\"erro\")","v":""},{"$f":"IFERROR(SUBSTITUTE(SUBSTITUTE(SUBSTITUTE(Gerar_Upload!B1613,\".\",\"\"),\"-\",\"\"),\"/\",\"\"),\"erro\")","v":""},{"$f":"IFERROR(Gerar_Upload!C1613,\"erro\")","v":0},{"$f":"IFERROR(Gerar_Upload!D1613,\"erro\")","v":0},{"$f":"IFERROR(DATE(YEAR(Gerar_Upload!E1613),MONTH(Gerar_Upload!E1613),DAY(Gerar_Upload!E1613)),\"erro\")","v":"00:00:00"},{"$f":"IFERROR(Gerar_Upload!F1613,\"erro\")","v":0},{"$f":"IFERROR(IF(Gerar_Upload!G1613<44,REPT(0,44-LEN(Gerar_Upload!G1613))&Gerar_Upload!G1613,Gerar_Upload!G1613),\"erro\")","v":"00000000000000000000000000000000000000000000"}]
[{"$f":"IFERROR(LEFT(Gerar_Upload!A1614,120),\"erro\")","v":""},{"$f":"IFERROR(SUBSTITUTE(SUBSTITUTE(SUBSTITUTE(Gerar_Upload!B1614,\".\",\"\"),\"-\",\"\"),\"/\",\"\"),\"erro\")","v":""},{"$f":"IFERROR(Gerar_Upload!C1614,\"erro\")","v":0},{"$f":"IFERROR(Gerar_Upload!D1614,\"erro\")","v":0},{"$f":"IFERROR(DATE(YEAR(Gerar_Upload!E1614),MONTH(Gerar_Upload!E1614),DAY(Gerar_Upload!E1614)),\"erro\")","v":"00:00:00"},{"$f":"IFERROR(Gerar_Upload!F1614,\"erro\")","v":0},{"$f":"IFERROR(IF(Gerar_Upload!G1614<44,REPT(0,44-LEN(Gerar_Upload!G1614))&Gerar_Upload!G1614,Gerar_Upload!G1614),\"erro\")","v":"00000000000000000000000000000000000000000000"}]
[{"$f":"IFERROR(LEFT(Gerar_Upload!A1615,120),\"erro\")","v":""},{"$f":"IFERROR(SUBSTITUTE(SUBSTITUTE(SUBSTITUTE(Gerar_Upload!B1615,\".\",\"\"),\"-\",\"\"),\"/\",\"\"),\"erro\")","v":""},{"$f":"IFERROR(Gerar_Upload!C1615,\"erro\")","v":0},{"$f":"IFERROR(Gerar_Upload!D1615,\"erro\")","v":0},{"$f":"IFERROR(DATE(YEAR(Gerar_Upload!E1615),MONTH(Gerar_Upload!E1615),DAY(Gerar_Upload!E1615)),\"erro\")","v":"00:00:00"},{"$f":"IFERROR(Gerar_Upload!F1615,\"erro\")","v":0},{"$f":"IFERROR(IF(Gerar_Upload!G1615<44,REPT(0,44-LEN(Gerar_Upload!G1615))&Gerar_Upload!G1615,Gerar_Upload!G1615),\"erro\")","v":"00000000000000000000000000000000000000000000"}]
[{"$f":"IFERROR(LEFT(Gerar_Upload!A1616,120),\"erro\")","v":""},{"$f":"IFERROR(SUBSTITUTE(SUBSTITUTE(SUBSTITUTE(Gerar_Upload!B1616,\".\",\"\"),\"-\",\"\"),\"/\",\"\"),\"erro\")","v":""},{"$f":"IFERROR(Gerar_Upload!C1616,\"erro\")","v":0},{"$f":"IFERROR(Gerar_Upload!D1616,\"erro\")","v":0},{"$f":"IFERROR(DATE(YEAR(Gerar_Upload!E1616),MONTH(Gerar_Upload!E1616),DAY(Gerar_Upload!E1616)),\"erro\")","v":"00:00:00"},{"$f":"IFERROR(Gerar_Upload!F1616,\"erro\")","v":0},{"$f":"IFERROR(IF(Gerar_Upload!G1616<44,REPT(0,44-LEN(Gerar_Upload!G1616))&Gerar_Upload!G1616,Gerar_Upload!G1616),\"erro\")","v":"00000000000000000000000000000000000000000000"}]
[{"$f":"IFERROR(LEFT(Gerar_Upload!A1617,120),\"erro\")","v":""},{"$f":"IFERROR(SUBSTITUTE(SUBSTITUTE(SUBSTITUTE(Gerar_Upload!B1617,\".\",\"\"),\"-\",\"\"),\"/\",\"\"),\"erro\")","v":""},{"$f":"IFERROR(Gerar_Upload!C1617,\"erro\")","v":0},{"$f":"IFERROR(Gerar_Upload!D1617,\"erro\")","v":0},{"$f":"IFERROR(DATE(YEAR(Gerar_Upload!E1617),MONTH(Gerar_Upload!E1617),DAY(Gerar_Upload!E1617)),\"erro\")","v":"00:00:00"},{"$f":"IFERROR(Gerar_Upload!F1617,\"erro\")","v":0},{"$f":"IFERROR(IF(Gerar_Upload!G1617<44,REPT(0,44-LEN(Gerar_Upload!G1617))&Gerar_Upload!G1617,Gerar_Upload!G1617),\"erro\")","v":"00000000000000000000000000000000000000000000"}]
[{"$f":"IFERROR(LEFT(Gerar_Upload!A1618,120),\"erro\")","v":""},{"$f":"IFERROR(SUBSTITUTE(SUBSTITUTE(SUBSTITUTE(Gerar_Upload!B1618,\".\",\"\"),\"-\",\"\"),\"/\",\"\"),\"erro\")","v":""},{"$f":"IFERROR(Gerar_Upload!C1618,\"erro\")","v":0},{"$f":"IFERROR(Gerar_Upload!D1618,\"erro\")","v":0},{"$f":"IFERROR(DATE(YEAR(Gerar_Upload!E1618),MONTH(Gerar_Upload!E1618),DAY(Gerar_Upload!E1618)),\"erro\")","v":"00:00:00"},{"$f":"IFERROR(Gerar_Upload!F1618,\"erro\")","v":0},{"$f":"IFERROR(IF(Gerar_Upload!G1618<44,REPT(0,44-LEN(Gerar_Upload!G1618))&Gerar_Upload!G1618,Gerar_Upload!G1618),\"erro\")","v":"00000000000000000000000000000000000000000000"}]
[{"$f":"IFERROR(LEFT(Gerar_Upload!A1619,120),\"erro\")","v":""},{"$f":"IFERROR(SUBSTITUTE(SUBSTITUTE(SUBSTITUTE(Gerar_Upload!B1619,\".\",\"\"),\"-\",\"\"),\"/\",\"\"),\"erro\")","v":""},{"$f":"IFERROR(Gerar_Upload!C1619,\"erro\")","v":0},{"$f":"IFERROR(Gerar_Upload!D1619,\"erro\")","v":0},{"$f":"IFERROR(DATE(YEAR(Gerar_Upload!E1619),MONTH(Gerar_Upload!E1619),DAY(Gerar_Upload!E1619)),\"erro\")","v":"00:00:00"},{"$f":"IFERROR(Gerar_Upload!F1619,\"erro\")","v":0},{"$f":"IFERROR(IF(Gerar_Upload!G1619<44,REPT(0,44-LEN(Gerar_Upload!G1619))&Gerar_Upload!G1619,Gerar_Upload!G1619),\"erro\")","v":"00000000000000000000000000000000000000000000"}]
[{"$f":"IFERROR(LEFT(Gerar_Upload!A1620,120),\"erro\")","v":""},{"$f":"IFERROR(SUBSTITUTE(SUBSTITUTE(SUBSTITUTE(Gerar_Upload!B1620,\".\",\"\"),\"-\",\"\"),\"/\",\"\"),\"erro\")","v":""},{"$f":"IFERROR(Gerar_Upload!C1620,\"erro\")","v":0},{"$f":"IFERROR(Gerar_Upload!D1620,\"erro\")","v":0},{"$f":"IFERROR(DATE(YEAR(Gerar_Upload!E1620),MONTH(Gerar_Upload!E1620),DAY(Gerar_Upload!E1620)),\"erro\")","v":"00:00:00"},{"$f":"IFERROR(Gerar_Upload!F1620,\"erro\")","v":0},{"$f":"IFERROR(IF(Gerar_Upload!G1620<44,REPT(0,44-LEN(Gerar_Upload!G1620))&Gerar_Upload!G1620,Gerar_Upload!G1620),\"erro\")","v":"00000000000000000000000000000000000000000000"}]
[{"$f":"IFERROR(LEFT(Gerar_Upload!A1621,120),\"erro\")","v":""},{"$f":"IFERROR(SUBSTITUTE(SUBSTITUTE(SUBSTITUTE(Gerar_Upload!B1621,\".\",\"\"),\"-\",\"\"),\"/\",\"\"),\"erro\")","v":""},{"$f":"IFERROR(Gerar_Upload!C1621,\"erro\")","v":0},{"$f":"IFERROR(Gerar_Upload!D1621,\"erro\")","v":0},{"$f":"IFERROR(DATE(YEAR(Gerar_Upload!E1621),MONTH(Gerar_Upload!E1621),DAY(Gerar_Upload!E1621)),\"erro\")","v":"00:00:00"},{"$f":"IFERROR(Gerar_Upload!F1621,\"erro\")","v":0},{"$f":"IFERROR(IF(Gerar_Upload!G1621<44,REPT(0,44-LEN(Gerar_Upload!G1621))&Gerar_Upload!G1621,Gerar_Upload!G1621),\"erro\")","v":"00000000000000000000000000000000000000000000"}]
[{"$f":"IFERROR(LEFT(Gerar_Upload!A1622,120),\"erro\")","v":""},{"$f":"IFERROR(SUBSTITUTE(SUBSTITUTE(SUBSTITUTE(Gerar_Upload!B1622,\".\",\"\"),\"-\",\"\"),\"/\",\"\"),\"erro\")","v":""},{"$f":"IFERROR(Gerar_Upload!C1622,\"erro\")","v":0},{"$f":"IFERROR(Gerar_Upload!D1622,\"erro\")","v":0},{"$f":"IFERROR(DATE(YEAR(Gerar_Upload!E1622),MONTH(Gerar_Upload!E1622),DAY(Gerar_Upload!E1622)),\"erro\")","v":"00:00:00"},{"$f":"IFERROR(Gerar_Upload!F1622,\"erro\")","v":0},{"$f":"IFERROR(IF(Gerar_Upload!G1622<44,REPT(0,44-LEN(Gerar_Upload!G1622))&Gerar_Upload!G1622,Gerar_Upload!G1622),\"erro\")","v":"00000000000000000000000000000000000000000000"}]
[{"$f":"IFERROR(LEFT(Gerar_Upload!A1623,120),\"erro\")","v":""},{"$f":"IFERROR(SUBSTITUTE(SUBSTITUTE(SUBSTITUTE(Gerar_Upload!B1623,\".\",\"\"),\"-\",\"\"),\"/\",\"\"),\"erro\")","v":""},{"$f":"IFERROR(Gerar_Upload!C1623,\"erro\")","v":0},{"$f":"IFERROR(Gerar_Upload!D1623,\"erro\")","v":0},{"$f":"IFERROR(DATE(YEAR(Gerar_Upload!E1623),MONTH(Gerar_Upload!E1623),DAY(Gerar_Upload!E1623)),\"erro\")","v":"00:00:00"},{"$f":"IFERROR(Gerar_Upload!F1623,\"erro\")","v":0},{"$f":"IFERROR(IF(Gerar_Upload!G1623<44,REPT(0,44-LEN(Gerar_Upload!G1623))&Gerar_Upload!G1623,Gerar_Upload!G1623),\"erro\")","v":"00000000000000000000000000000000000000000000"}]
[{"$f":"IFERROR(LEFT(Gerar_Upload!A1624,120),\"erro\")","v":""},{"$f":"IFERROR(SUBSTITUTE(SUBSTITUTE(SUBSTITUTE(Gerar_Upload!B1624,\".\",\"\"),\"-\",\"\"),\"/\",\"\"),\"erro\")","v":""},{"$f":"IFERROR(Gerar_Upload!C1624,\"erro\")","v":0},{"$f":"IFERROR(Gerar_Upload!D1624,\"erro\")","v":0},{"$f":"IFERROR(DATE(YEAR(Gerar_Upload!E1624),MONTH(Gerar_Upload!E1624),DAY(Gerar_Upload!E1624)),\"erro\")","v":"00:00:00"},{"$f":"IFERROR(Gerar_Upload!F1624,\"erro\")","v":0},{"$f":"IFERROR(IF(Gerar_Upload!G1624<44,REPT(0,44-LEN(Gerar_Upload!G1624))&Gerar_Upload!G1624,Gerar_Upload!G1624),\"erro\")","v":"00000000000000000000000000000000000000000000"}]
[{"$f":"IFERROR(LEFT(Gerar_Upload!A1625,120),\"erro\")","v":""},{"$f":"IFERROR(SUBSTITUTE(SUBSTITUTE(SUBSTITUTE(Gerar_Upload!B1625,\".\",\"\"),\"-\",\"\"),\"/\",\"\"),\"erro\")","v":""},{"$f":"IFERROR(Gerar_Upload!C1625,\"erro\")","v":0},{"$f":"IFERROR(Gerar_Upload!D1625,\"erro\")","v":0},{"$f":"IFERROR(DATE(YEAR(Gerar_Upload!E1625),MONTH(Gerar_Upload!E1625),DAY(Gerar_Upload!E1625)),\"erro\")","v":"00:00:00"},{"$f":"IFERROR(Gerar_Upload!F1625,\"erro\")","v":0},{"$f":"IFERROR(IF(Gerar_Upload!G1625<44,REPT(0,44-LEN(Gerar_Upload!G1625))&Gerar_Upload!G1625,Gerar_Upload!G1625),\"erro\")","v":"00000000000000000000000000000000000000000000"}]
[{"$f":"IFERROR(LEFT(Gerar_Upload!A1626,120),\"erro\")","v":""},{"$f":"IFERROR(SUBSTITUTE(SUBSTITUTE(SUBSTITUTE(Gerar_Upload!B1626,\".\",\"\"),\"-\",\"\"),\"/\",\"\"),\"erro\")","v":""},{"$f":"IFERROR(Gerar_Upload!C1626,\"erro\")","v":0},{"$f":"IFERROR(Gerar_Upload!D1626,\"erro\")","v":0},{"$f":"IFERROR(DATE(YEAR(Gerar_Upload!E1626),MONTH(Gerar_Upload!E1626),DAY(Gerar_Upload!E1626)),\"erro\")","v":"00:00:00"},{"$f":"IFERROR(Gerar_Upload!F1626,\"erro\")","v":0},{"$f":"IFERROR(IF(Gerar_Upload!G1626<44,REPT(0,44-LEN(Gerar_Upload!G1626))&Gerar_Upload!G1626,Gerar_Upload!G1626),\"erro\")","v":"00000000000000000000000000000000000000000000"}]
[{"$f":"IFERROR(LEFT(Gerar_Upload!A1627,120),\"erro\")","v":""},{"$f":"IFERROR(SUBSTITUTE(SUBSTITUTE(SUBSTITUTE(Gerar_Upload!B1627,\".\",\"\"),\"-\",\"\"),\"/\",\"\"),\"erro\")","v":""},{"$f":"IFERROR(Gerar_Upload!C1627,\"erro\")","v":0},{"$f":"IFERROR(Gerar_Upload!D1627,\"erro\")","v":0},{"$f":"IFERROR(DATE(YEAR(Gerar_Upload!E1627),MONTH(Gerar_Upload!E1627),DAY(Gerar_Upload!E1627)),\"erro\")","v":"00:00:00"},{"$f":"IFERROR(Gerar_Upload!F1627,\"erro\")","v":0},{"$f":"IFERROR(IF(Gerar_Upload!G1627<44,REPT(0,44-LEN(Gerar_Upload!G1627))&Gerar_Upload!G1627,Gerar_Upload!G1627),\"erro\")","v":"00000000000000000000000000000000000000000000"}]
[{"$f":"IFERROR(LEFT(Gerar_Upload!A1628,120),\"erro\")","v":""},{"$f":"IFERROR(SUBSTITUTE(SUBSTITUTE(SUBSTITUTE(Gerar_Upload!B1628,\".\",\"\"),\"-\",\"\"),\"/\",\"\"),\"erro\")","v":""},{"$f":"IFERROR(Gerar_Upload!C1628,\"erro\")","v":0},{"$f":"IFERROR(Gerar_Upload!D1628,\"erro\")","v":0},{"$f":"IFERROR(DATE(YEAR(Gerar_Upload!E1628),MONTH(Gerar_Upload!E1628),DAY(Gerar_Upload!E1628)),\"erro\")","v":"00:00:00"},{"$f":"IFERROR(Gerar_Upload!F1628,\"erro\")","v":0},{"$f":"IFERROR(IF(Gerar_Upload!G1628<44,REPT(0,44-LEN(Gerar_Upload!G1628))&Gerar_Upload!G1628,Gerar_Upload!G1628),\"erro\")","v":"00000000000000000000000000000000000000000000"}]
[{"$f":"IFERROR(LEFT(Gerar_Upload!A1629,120),\"erro\")","v":""},{"$f":"IFERROR(SUBSTITUTE(SUBSTITUTE(SUBSTITUTE(Gerar_Upload!B1629,\".\",\"\"),\"-\",\"\"),\"/\",\"\"),\"erro\")","v":""},{"$f":"IFERROR(Gerar_Upload!C1629,\"erro\")","v":0},{"$f":"IFERROR(Gerar_Upload!D1629,\"erro\")","v":0},{"$f":"IFERROR(DATE(YEAR(Gerar_Upload!E1629),MONTH(Gerar_Upload!E1629),DAY(Gerar_Upload!E1629)),\"erro\")","v":"00:00:00"},{"$f":"IFERROR(Gerar_Upload!F1629,\"erro\")","v":0},{"$f":"IFERROR(IF(Gerar_Upload!G1629<44,REPT(0,44-LEN(Gerar_Upload!G1629))&Gerar_Upload!G1629,Gerar_Upload!G1629),\"erro\")","v":"00000000000000000000000000000000000000000000"}]
[{"$f":"IFERROR(LEFT(Gerar_Upload!A1630,120),\"erro\")","v":""},{"$f":"IFERROR(SUBSTITUTE(SUBSTITUTE(SUBSTITUTE(Gerar_Upload!B1630,\".\",\"\"),\"-\",\"\"),\"/\",\"\"),\"erro\")","v":""},{"$f":"IFERROR(Gerar_Upload!C1630,\"erro\")","v":0},{"$f":"IFERROR(Gerar_Upload!D1630,\"erro\")","v":0},{"$f":"IFERROR(DATE(YEAR(Gerar_Upload!E1630),MONTH(Gerar_Upload!E1630),DAY(Gerar_Upload!E1630)),\"erro\")","v":"00:00:00"},{"$f":"IFERROR(Gerar_Upload!F1630,\"erro\")","v":0},{"$f":"IFERROR(IF(Gerar_Upload!G1630<44,REPT(0,44-LEN(Gerar_Upload!G1630))&Gerar_Upload!G1630,Gerar_Upload!G1630),\"erro\")","v":"00000000000000000000000000000000000000000000"}]
[{"$f":"IFERROR(LEFT(Gerar_Upload!A1631,120),\"erro\")","v":""},{"$f":"IFERROR(SUBSTITUTE(SUBSTITUTE(SUBSTITUTE(Gerar_Upload!B1631,\".\",\"\"),\"-\",\"\"),\"/\",\"\"),\"erro\")","v":""},{"$f":"IFERROR(Gerar_Upload!C1631,\"erro\")","v":0},{"$f":"IFERROR(Gerar_Upload!D1631,\"erro\")","v":0},{"$f":"IFERROR(DATE(YEAR(Gerar_Upload!E1631),MONTH(Gerar_Upload!E1631),DAY(Gerar_Upload!E1631)),\"erro\")","v":"00:00:00"},{"$f":"IFERROR(Gerar_Upload!F1631,\"erro\")","v":0},{"$f":"IFERROR(IF(Gerar_Upload!G1631<44,REPT(0,44-LEN(Gerar_Upload!G1631))&Gerar_Upload!G1631,Gerar_Upload!G1631),\"erro\")","v":"00000000000000000000000000000000000000000000"}]
[{"$f":"IFERROR(LEFT(Gerar_Upload!A1632,120),\"erro\")","v":""},{"$f":"IFERROR(SUBSTITUTE(SUBSTITUTE(SUBSTITUTE(Gerar_Upload!B1632,\".\",\"\"),\"-\",\"\"),\"/\",\"\"),\"erro\")","v":""},{"$f":"IFERROR(Gerar_Upload!C1632,\"erro\")","v":0},{"$f":"IFERROR(Gerar_Upload!D1632,\"erro\")","v":0},{"$f":"IFERROR(DATE(YEAR(Gerar_Upload!E1632),MONTH(Gerar_Upload!E1632),DAY(Gerar_Upload!E1632)),\"erro\")","v":"00:00:00"},{"$f":"IFERROR(Gerar_Upload!F1632,\"erro\")","v":0},{"$f":"IFERROR(IF(Gerar_Upload!G1632<44,REPT(0,44-LEN(Gerar_Upload!G1632))&Gerar_Upload!G1632,Gerar_Upload!G1632),\"erro\")","v":"00000000000000000000000000000000000000000000"}]
[{"$f":"IFERROR(LEFT(Gerar_Upload!A1633,120),\"erro\")","v":""},{"$f":"IFERROR(SUBSTITUTE(SUBSTITUTE(SUBSTITUTE(Gerar_Upload!B1633,\".\",\"\"),\"-\",\"\"),\"/\",\"\"),\"erro\")","v":""},{"$f":"IFERROR(Gerar_Upload!C1633,\"erro\")","v":0},{"$f":"IFERROR(Gerar_Upload!D1633,\"erro\")","v":0},{"$f":"IFERROR(DATE(YEAR(Gerar_Upload!E1633),MONTH(Gerar_Upload!E1633),DAY(Gerar_Upload!E1633)),\"erro\")","v":"00:00:00"},{"$f":"IFERROR(Gerar_Upload!F1633,\"erro\")","v":0},{"$f":"IFERROR(IF(Gerar_Upload!G1633<44,REPT(0,44-LEN(Gerar_Upload!G1633))&Gerar_Upload!G1633,Gerar_Upload!G1633),\"erro\")","v":"00000000000000000000000000000000000000000000"}]
[{"$f":"IFERROR(LEFT(Gerar_Upload!A1634,120),\"erro\")","v":""},{"$f":"IFERROR(SUBSTITUTE(SUBSTITUTE(SUBSTITUTE(Gerar_Upload!B1634,\".\",\"\"),\"-\",\"\"),\"/\",\"\"),\"erro\")","v":""},{"$f":"IFERROR(Gerar_Upload!C1634,\"erro\")","v":0},{"$f":"IFERROR(Gerar_Upload!D1634,\"erro\")","v":0},{"$f":"IFERROR(DATE(YEAR(Gerar_Upload!E1634),MONTH(Gerar_Upload!E1634),DAY(Gerar_Upload!E1634)),\"erro\")","v":"00:00:00"},{"$f":"IFERROR(Gerar_Upload!F1634,\"erro\")","v":0},{"$f":"IFERROR(IF(Gerar_Upload!G1634<44,REPT(0,44-LEN(Gerar_Upload!G1634))&Gerar_Upload!G1634,Gerar_Upload!G1634),\"erro\")","v":"00000000000000000000000000000000000000000000"}]
[{"$f":"IFERROR(LEFT(Gerar_Upload!A1635,120),\"erro\")","v":""},{"$f":"IFERROR(SUBSTITUTE(SUBSTITUTE(SUBSTITUTE(Gerar_Upload!B1635,\".\",\"\"),\"-\",\"\"),\"/\",\"\"),\"erro\")","v":""},{"$f":"IFERROR(Gerar_Upload!C1635,\"erro\")","v":0},{"$f":"IFERROR(Gerar_Upload!D1635,\"erro\")","v":0},{"$f":"IFERROR(DATE(YEAR(Gerar_Upload!E1635),MONTH(Gerar_Upload!E1635),DAY(Gerar_Upload!E1635)),\"erro\")","v":"00:00:00"},{"$f":"IFERROR(Gerar_Upload!F1635,\"erro\")","v":0},{"$f":"IFERROR(IF(Gerar_Upload!G1635<44,REPT(0,44-LEN(Gerar_Upload!G1635))&Gerar_Upload!G1635,Gerar_Upload!G1635),\"erro\")","v":"00000000000000000000000000000000000000000000"}]
[{"$f":"IFERROR(LEFT(Gerar_Upload!A1636,120),\"erro\")","v":""},{"$f":"IFERROR(SUBSTITUTE(SUBSTITUTE(SUBSTITUTE(Gerar_Upload!B1636,\".\",\"\"),\"-\",\"\"),\"/\",\"\"),\"erro\")","v":""},{"$f":"IFERROR(Gerar_Upload!C1636,\"erro\")","v":0},{"$f":"IFERROR(Gerar_Upload!D1636,\"erro\")","v":0},{"$f":"IFERROR(DATE(YEAR(Gerar_Upload!E1636),MONTH(Gerar_Upload!E1636),DAY(Gerar_Upload!E1636)),\"erro\")","v":"00:00:00"},{"$f":"IFERROR(Gerar_Upload!F1636,\"erro\")","v":0},{"$f":"IFERROR(IF(Gerar_Upload!G1636<44,REPT(0,44-LEN(Gerar_Upload!G1636))&Gerar_Upload!G1636,Gerar_Upload!G1636),\"erro\")","v":"00000000000000000000000000000000000000000000"}]
[{"$f":"IFERROR(LEFT(Gerar_Upload!A1637,120),\"erro\")","v":""},{"$f":"IFERROR(SUBSTITUTE(SUBSTITUTE(SUBSTITUTE(Gerar_Upload!B1637,\".\",\"\"),\"-\",\"\"),\"/\",\"\"),\"erro\")","v":""},{"$f":"IFERROR(Gerar_Upload!C1637,\"erro\")","v":0},{"$f":"IFERROR(Gerar_Upload!D1637,\"erro\")","v":0},{"$f":"IFERROR(DATE(YEAR(Gerar_Upload!E1637),MONTH(Gerar_Upload!E1637),DAY(Gerar_Upload!E1637)),\"erro\")","v":"00:00:00"},{"$f":"IFERROR(Gerar_Upload!F1637,\"erro\")","v":0},{"$f":"IFERROR(IF(Gerar_Upload!G1637<44,REPT(0,44-LEN(Gerar_Upload!G1637))&Gerar_Upload!G1637,Gerar_Upload!G1637),\"erro\")","v":"00000000000000000000000000000000000000000000"}]
[{"$f":"IFERROR(LEFT(Gerar_Upload!A1638,120),\"erro\")","v":""},{"$f":"IFERROR(SUBSTITUTE(SUBSTITUTE(SUBSTITUTE(Gerar_Upload!B1638,\".\",\"\"),\"-\",\"\"),\"/\",\"\"),\"erro\")","v":""},{"$f":"IFERROR(Gerar_Upload!C1638,\"erro\")","v":0},{"$f":"IFERROR(Gerar_Upload!D1638,\"erro\")","v":0},{"$f":"IFERROR(DATE(YEAR(Gerar_Upload!E1638),MONTH(Gerar_Upload!E1638),DAY(Gerar_Upload!E1638)),\"erro\")","v":"00:00:00"},{"$f":"IFERROR(Gerar_Upload!F1638,\"erro\")","v":0},{"$f":"IFERROR(IF(Gerar_Upload!G1638<44,REPT(0,44-LEN(Gerar_Upload!G1638))&Gerar_Upload!G1638,Gerar_Upload!G1638),\"erro\")","v":"00000000000000000000000000000000000000000000"}]
[{"$f":"IFERROR(LEFT(Gerar_Upload!A1639,120),\"erro\")","v":""},{"$f":"IFERROR(SUBSTITUTE(SUBSTITUTE(SUBSTITUTE(Gerar_Upload!B1639,\".\",\"\"),\"-\",\"\"),\"/\",\"\"),\"erro\")","v":""},{"$f":"IFERROR(Gerar_Upload!C1639,\"erro\")","v":0},{"$f":"IFERROR(Gerar_Upload!D1639,\"erro\")","v":0},{"$f":"IFERROR(DATE(YEAR(Gerar_Upload!E1639),MONTH(Gerar_Upload!E1639),DAY(Gerar_Upload!E1639)),\"erro\")","v":"00:00:00"},{"$f":"IFERROR(Gerar_Upload!F1639,\"erro\")","v":0},{"$f":"IFERROR(IF(Gerar_Upload!G1639<44,REPT(0,44-LEN(Gerar_Upload!G1639))&Gerar_Upload!G1639,Gerar_Upload!G1639),\"erro\")","v":"00000000000000000000000000000000000000000000"}]
[{"$f":"IFERROR(LEFT(Gerar_Upload!A1640,120),\"erro\")","v":""},{"$f":"IFERROR(SUBSTITUTE(SUBSTITUTE(SUBSTITUTE(Gerar_Upload!B1640,\".\",\"\"),\"-\",\"\"),\"/\",\"\"),\"erro\")","v":""},{"$f":"IFERROR(Gerar_Upload!C1640,\"erro\")","v":0},{"$f":"IFERROR(Gerar_Upload!D1640,\"erro\")","v":0},{"$f":"IFERROR(DATE(YEAR(Gerar_Upload!E1640),MONTH(Gerar_Upload!E1640),DAY(Gerar_Upload!E1640)),\"erro\")","v":"00:00:00"},{"$f":"IFERROR(Gerar_Upload!F1640,\"erro\")","v":0},{"$f":"IFERROR(IF(Gerar_Upload!G1640<44,REPT(0,44-LEN(Gerar_Upload!G1640))&Gerar_Upload!G1640,Gerar_Upload!G1640),\"erro\")","v":"00000000000000000000000000000000000000000000"}]
[{"$f":"IFERROR(LEFT(Gerar_Upload!A1641,120),\"erro\")","v":""},{"$f":"IFERROR(SUBSTITUTE(SUBSTITUTE(SUBSTITUTE(Gerar_Upload!B1641,\".\",\"\"),\"-\",\"\"),\"/\",\"\"),\"erro\")","v":""},{"$f":"IFERROR(Gerar_Upload!C1641,\"erro\")","v":0},{"$f":"IFERROR(Gerar_Upload!D1641,\"erro\")","v":0},{"$f":"IFERROR(DATE(YEAR(Gerar_Upload!E1641),MONTH(Gerar_Upload!E1641),DAY(Gerar_Upload!E1641)),\"erro\")","v":"00:00:00"},{"$f":"IFERROR(Gerar_Upload!F1641,\"erro\")","v":0},{"$f":"IFERROR(IF(Gerar_Upload!G1641<44,REPT(0,44-LEN(Gerar_Upload!G1641))&Gerar_Upload!G1641,Gerar_Upload!G1641),\"erro\")","v":"00000000000000000000000000000000000000000000"}]
[{"$f":"IFERROR(LEFT(Gerar_Upload!A1642,120),\"erro\")","v":""},{"$f":"IFERROR(SUBSTITUTE(SUBSTITUTE(SUBSTITUTE(Gerar_Upload!B1642,\".\",\"\"),\"-\",\"\"),\"/\",\"\"),\"erro\")","v":""},{"$f":"IFERROR(Gerar_Upload!C1642,\"erro\")","v":0},{"$f":"IFERROR(Gerar_Upload!D1642,\"erro\")","v":0},{"$f":"IFERROR(DATE(YEAR(Gerar_Upload!E1642),MONTH(Gerar_Upload!E1642),DAY(Gerar_Upload!E1642)),\"erro\")","v":"00:00:00"},{"$f":"IFERROR(Gerar_Upload!F1642,\"erro\")","v":0},{"$f":"IFERROR(IF(Gerar_Upload!G1642<44,REPT(0,44-LEN(Gerar_Upload!G1642))&Gerar_Upload!G1642,Gerar_Upload!G1642),\"erro\")","v":"00000000000000000000000000000000000000000000"}]
[{"$f":"IFERROR(LEFT(Gerar_Upload!A1643,120),\"erro\")","v":""},{"$f":"IFERROR(SUBSTITUTE(SUBSTITUTE(SUBSTITUTE(Gerar_Upload!B1643,\".\",\"\"),\"-\",\"\"),\"/\",\"\"),\"erro\")","v":""},{"$f":"IFERROR(Gerar_Upload!C1643,\"erro\")","v":0},{"$f":"IFERROR(Gerar_Upload!D1643,\"erro\")","v":0},{"$f":"IFERROR(DATE(YEAR(Gerar_Upload!E1643),MONTH(Gerar_Upload!E1643),DAY(Gerar_Upload!E1643)),\"erro\")","v":"00:00:00"},{"$f":"IFERROR(Gerar_Upload!F1643,\"erro\")","v":0},{"$f":"IFERROR(IF(Gerar_Upload!G1643<44,REPT(0,44-LEN(Gerar_Upload!G1643))&Gerar_Upload!G1643,Gerar_Upload!G1643),\"erro\")","v":"00000000000000000000000000000000000000000000"}]
[{"$f":"IFERROR(LEFT(Gerar_Upload!A1644,120),\"erro\")","v":""},{"$f":"IFERROR(SUBSTITUTE(SUBSTITUTE(SUBSTITUTE(Gerar_Upload!B1644,\".\",\"\"),\"-\",\"\"),\"/\",\"\"),\"erro\")","v":""},{"$f":"IFERROR(Gerar_Upload!C1644,\"erro\")","v":0},{"$f":"IFERROR(Gerar_Upload!D1644,\"erro\")","v":0},{"$f":"IFERROR(DATE(YEAR(Gerar_Upload!E1644),MONTH(Gerar_Upload!E1644),DAY(Gerar_Upload!E1644)),\"erro\")","v":"00:00:00"},{"$f":"IFERROR(Gerar_Upload!F1644,\"erro\")","v":0},{"$f":"IFERROR(IF(Gerar_Upload!G1644<44,REPT(0,44-LEN(Gerar_Upload!G1644))&Gerar_Upload!G1644,Gerar_Upload!G1644),\"erro\")","v":"00000000000000000000000000000000000000000000"}]
[{"$f":"IFERROR(LEFT(Gerar_Upload!A1645,120),\"erro\")","v":""},{"$f":"IFERROR(SUBSTITUTE(SUBSTITUTE(SUBSTITUTE(Gerar_Upload!B1645,\".\",\"\"),\"-\",\"\"),\"/\",\"\"),\"erro\")","v":""},{"$f":"IFERROR(Gerar_Upload!C1645,\"erro\")","v":0},{"$f":"IFERROR(Gerar_Upload!D1645,\"erro\")","v":0},{"$f":"IFERROR(DATE(YEAR(Gerar_Upload!E1645),MONTH(Gerar_Upload!E1645),DAY(Gerar_Upload!E1645)),\"erro\")","v":"00:00:00"},{"$f":"IFERROR(Gerar_Upload!F1645,\"erro\")","v":0},{"$f":"IFERROR(IF(Gerar_Upload!G1645<44,REPT(0,44-LEN(Gerar_Upload!G1645))&Gerar_Upload!G1645,Gerar_Upload!G1645),\"erro\")","v":"00000000000000000000000000000000000000000000"}]
[{"$f":"IFERROR(LEFT(Gerar_Upload!A1646,120),\"erro\")","v":""},{"$f":"IFERROR(SUBSTITUTE(SUBSTITUTE(SUBSTITUTE(Gerar_Upload!B1646,\".\",\"\"),\"-\",\"\"),\"/\",\"\"),\"erro\")","v":""},{"$f":"IFERROR(Gerar_Upload!C1646,\"erro\")","v":0},{"$f":"IFERROR(Gerar_Upload!D1646,\"erro\")","v":0},{"$f":"IFERROR(DATE(YEAR(Gerar_Upload!E1646),MONTH(Gerar_Upload!E1646),DAY(Gerar_Upload!E1646)),\"erro\")","v":"00:00:00"},{"$f":"IFERROR(Gerar_Upload!F1646,\"erro\")","v":0},{"$f":"IFERROR(IF(Gerar_Upload!G1646<44,REPT(0,44-LEN(Gerar_Upload!G1646))&Gerar_Upload!G1646,Gerar_Upload!G1646),\"erro\")","v":"00000000000000000000000000000000000000000000"}]
[{"$f":"IFERROR(LEFT(Gerar_Upload!A1647,120),\"erro\")","v":""},{"$f":"IFERROR(SUBSTITUTE(SUBSTITUTE(SUBSTITUTE(Gerar_Upload!B1647,\".\",\"\"),\"-\",\"\"),\"/\",\"\"),\"erro\")","v":""},{"$f":"IFERROR(Gerar_Upload!C1647,\"erro\")","v":0},{"$f":"IFERROR(Gerar_Upload!D1647,\"erro\")","v":0},{"$f":"IFERROR(DATE(YEAR(Gerar_Upload!E1647),MONTH(Gerar_Upload!E1647),DAY(Gerar_Upload!E1647)),\"erro\")","v":"00:00:00"},{"$f":"IFERROR(Gerar_Upload!F1647,\"erro\")","v":0},{"$f":"IFERROR(IF(Gerar_Upload!G1647<44,REPT(0,44-LEN(Gerar_Upload!G1647))&Gerar_Upload!G1647,Gerar_Upload!G1647),\"erro\")","v":"00000000000000000000000000000000000000000000"}]
[{"$f":"IFERROR(LEFT(Gerar_Upload!A1648,120),\"erro\")","v":""},{"$f":"IFERROR(SUBSTITUTE(SUBSTITUTE(SUBSTITUTE(Gerar_Upload!B1648,\".\",\"\"),\"-\",\"\"),\"/\",\"\"),\"erro\")","v":""},{"$f":"IFERROR(Gerar_Upload!C1648,\"erro\")","v":0},{"$f":"IFERROR(Gerar_Upload!D1648,\"erro\")","v":0},{"$f":"IFERROR(DATE(YEAR(Gerar_Upload!E1648),MONTH(Gerar_Upload!E1648),DAY(Gerar_Upload!E1648)),\"erro\")","v":"00:00:00"},{"$f":"IFERROR(Gerar_Upload!F1648,\"erro\")","v":0},{"$f":"IFERROR(IF(Gerar_Upload!G1648<44,REPT(0,44-LEN(Gerar_Upload!G1648))&Gerar_Upload!G1648,Gerar_Upload!G1648),\"erro\")","v":"00000000000000000000000000000000000000000000"}]
[{"$f":"IFERROR(LEFT(Gerar_Upload!A1649,120),\"erro\")","v":""},{"$f":"IFERROR(SUBSTITUTE(SUBSTITUTE(SUBSTITUTE(Gerar_Upload!B1649,\".\",\"\"),\"-\",\"\"),\"/\",\"\"),\"erro\")","v":""},{"$f":"IFERROR(Gerar_Upload!C1649,\"erro\")","v":0},{"$f":"IFERROR(Gerar_Upload!D1649,\"erro\")","v":0},{"$f":"IFERROR(DATE(YEAR(Gerar_Upload!E1649),MONTH(Gerar_Upload!E1649),DAY(Gerar_Upload!E1649)),\"erro\")","v":"00:00:00"},{"$f":"IFERROR(Gerar_Upload!F1649,\"erro\")","v":0},{"$f":"IFERROR(IF(Gerar_Upload!G1649<44,REPT(0,44-LEN(Gerar_Upload!G1649))&Gerar_Upload!G1649,Gerar_Upload!G1649),\"erro\")","v":"00000000000000000000000000000000000000000000"}]
[{"$f":"IFERROR(LEFT(Gerar_Upload!A1650,120),\"erro\")","v":""},{"$f":"IFERROR(SUBSTITUTE(SUBSTITUTE(SUBSTITUTE(Gerar_Upload!B1650,\".\",\"\"),\"-\",\"\"),\"/\",\"\"),\"erro\")","v":""},{"$f":"IFERROR(Gerar_Upload!C1650,\"erro\")","v":0},{"$f":"IFERROR(Gerar_Upload!D1650,\"erro\")","v":0},{"$f":"IFERROR(DATE(YEAR(Gerar_Upload!E1650),MONTH(Gerar_Upload!E1650),DAY(Gerar_Upload!E1650)),\"erro\")","v":"00:00:00"},{"$f":"IFERROR(Gerar_Upload!F1650,\"erro\")","v":0},{"$f":"IFERROR(IF(Gerar_Upload!G1650<44,REPT(0,44-LEN(Gerar_Upload!G1650))&Gerar_Upload!G1650,Gerar_Upload!G1650),\"erro\")","v":"00000000000000000000000000000000000000000000"}]
[{"$f":"IFERROR(LEFT(Gerar_Upload!A1651,120),\"erro\")","v":""},{"$f":"IFERROR(SUBSTITUTE(SUBSTITUTE(SUBSTITUTE(Gerar_Upload!B1651,\".\",\"\"),\"-\",\"\"),\"/\",\"\"),\"erro\")","v":""},{"$f":"IFERROR(Gerar_Upload!C1651,\"erro\")","v":0},{"$f":"IFERROR(Gerar_Upload!D1651,\"erro\")","v":0},{"$f":"IFERROR(DATE(YEAR(Gerar_Upload!E1651),MONTH(Gerar_Upload!E1651),DAY(Gerar_Upload!E1651)),\"erro\")","v":"00:00:00"},{"$f":"IFERROR(Gerar_Upload!F1651,\"erro\")","v":0},{"$f":"IFERROR(IF(Gerar_Upload!G1651<44,REPT(0,44-LEN(Gerar_Upload!G1651))&Gerar_Upload!G1651,Gerar_Upload!G1651),\"erro\")","v":"00000000000000000000000000000000000000000000"}]
[{"$f":"IFERROR(LEFT(Gerar_Upload!A1652,120),\"erro\")","v":""},{"$f":"IFERROR(SUBSTITUTE(SUBSTITUTE(SUBSTITUTE(Gerar_Upload!B1652,\".\",\"\"),\"-\",\"\"),\"/\",\"\"),\"erro\")","v":""},{"$f":"IFERROR(Gerar_Upload!C1652,\"erro\")","v":0},{"$f":"IFERROR(Gerar_Upload!D1652,\"erro\")","v":0},{"$f":"IFERROR(DATE(YEAR(Gerar_Upload!E1652),MONTH(Gerar_Upload!E1652),DAY(Gerar_Upload!E1652)),\"erro\")","v":"00:00:00"},{"$f":"IFERROR(Gerar_Upload!F1652,\"erro\")","v":0},{"$f":"IFERROR(IF(Gerar_Upload!G1652<44,REPT(0,44-LEN(Gerar_Upload!G1652))&Gerar_Upload!G1652,Gerar_Upload!G1652),\"erro\")","v":"00000000000000000000000000000000000000000000"}]
[{"$f":"IFERROR(LEFT(Gerar_Upload!A1653,120),\"erro\")","v":""},{"$f":"IFERROR(SUBSTITUTE(SUBSTITUTE(SUBSTITUTE(Gerar_Upload!B1653,\".\",\"\"),\"-\",\"\"),\"/\",\"\"),\"erro\")","v":""},{"$f":"IFERROR(Gerar_Upload!C1653,\"erro\")","v":0},{"$f":"IFERROR(Gerar_Upload!D1653,\"erro\")","v":0},{"$f":"IFERROR(DATE(YEAR(Gerar_Upload!E1653),MONTH(Gerar_Upload!E1653),DAY(Gerar_Upload!E1653)),\"erro\")","v":"00:00:00"},{"$f":"IFERROR(Gerar_Upload!F1653,\"erro\")","v":0},{"$f":"IFERROR(IF(Gerar_Upload!G1653<44,REPT(0,44-LEN(Gerar_Upload!G1653))&Gerar_Upload!G1653,Gerar_Upload!G1653),\"erro\")","v":"00000000000000000000000000000000000000000000"}]
[{"$f":"IFERROR(LEFT(Gerar_Upload!A1654,120),\"erro\")","v":""},{"$f":"IFERROR(SUBSTITUTE(SUBSTITUTE(SUBSTITUTE(Gerar_Upload!B1654,\".\",\"\"),\"-\",\"\"),\"/\",\"\"),\"erro\")","v":""},{"$f":"IFERROR(Gerar_Upload!C1654,\"erro\")","v":0},{"$f":"IFERROR(Gerar_Upload!D1654,\"erro\")","v":0},{"$f":"IFERROR(DATE(YEAR(Gerar_Upload!E1654),MONTH(Gerar_Upload!E1654),DAY(Gerar_Upload!E1654)),\"erro\")","v":"00:00:00"},{"$f":"IFERROR(Gerar_Upload!F1654,\"erro\")","v":0},{"$f":"IFERROR(IF(Gerar_Upload!G1654<44,REPT(0,44-LEN(Gerar_Upload!G1654))&Gerar_Upload!G1654,Gerar_Upload!G1654),\"erro\")","v":"00000000000000000000000000000000000000000000"}]
[{"$f":"IFERROR(LEFT(Gerar_Upload!A1655,120),\"erro\")","v":""},{"$f":"IFERROR(SUBSTITUTE(SUBSTITUTE(SUBSTITUTE(Gerar_Upload!B1655,\".\",\"\"),\"-\",\"\"),\"/\",\"\"),\"erro\")","v":""},{"$f":"IFERROR(Gerar_Upload!C1655,\"erro\")","v":0},{"$f":"IFERROR(Gerar_Upload!D1655,\"erro\")","v":0},{"$f":"IFERROR(DATE(YEAR(Gerar_Upload!E1655),MONTH(Gerar_Upload!E1655),DAY(Gerar_Upload!E1655)),\"erro\")","v":"00:00:00"},{"$f":"IFERROR(Gerar_Upload!F1655,\"erro\")","v":0},{"$f":"IFERROR(IF(Gerar_Upload!G1655<44,REPT(0,44-LEN(Gerar_Upload!G1655))&Gerar_Upload!G1655,Gerar_Upload!G1655),\"erro\")","v":"00000000000000000000000000000000000000000000"}]
[{"$f":"IFERROR(LEFT(Gerar_Upload!A1656,120),\"erro\")","v":""},{"$f":"IFERROR(SUBSTITUTE(SUBSTITUTE(SUBSTITUTE(Gerar_Upload!B1656,\".\",\"\"),\"-\",\"\"),\"/\",\"\"),\"erro\")","v":""},{"$f":"IFERROR(Gerar_Upload!C1656,\"erro\")","v":0},{"$f":"IFERROR(Gerar_Upload!D1656,\"erro\")","v":0},{"$f":"IFERROR(DATE(YEAR(Gerar_Upload!E1656),MONTH(Gerar_Upload!E1656),DAY(Gerar_Upload!E1656)),\"erro\")","v":"00:00:00"},{"$f":"IFERROR(Gerar_Upload!F1656,\"erro\")","v":0},{"$f":"IFERROR(IF(Gerar_Upload!G1656<44,REPT(0,44-LEN(Gerar_Upload!G1656))&Gerar_Upload!G1656,Gerar_Upload!G1656),\"erro\")","v":"00000000000000000000000000000000000000000000"}]
[{"$f":"IFERROR(LEFT(Gerar_Upload!A1657,120),\"erro\")","v":""},{"$f":"IFERROR(SUBSTITUTE(SUBSTITUTE(SUBSTITUTE(Gerar_Upload!B1657,\".\",\"\"),\"-\",\"\"),\"/\",\"\"),\"erro\")","v":""},{"$f":"IFERROR(Gerar_Upload!C1657,\"erro\")","v":0},{"$f":"IFERROR(Gerar_Upload!D1657,\"erro\")","v":0},{"$f":"IFERROR(DATE(YEAR(Gerar_Upload!E1657),MONTH(Gerar_Upload!E1657),DAY(Gerar_Upload!E1657)),\"erro\")","v":"00:00:00"},{"$f":"IFERROR(Gerar_Upload!F1657,\"erro\")","v":0},{"$f":"IFERROR(IF(Gerar_Upload!G1657<44,REPT(0,44-LEN(Gerar_Upload!G1657))&Gerar_Upload!G1657,Gerar_Upload!G1657),\"erro\")","v":"00000000000000000000000000000000000000000000"}]
[{"$f":"IFERROR(LEFT(Gerar_Upload!A1658,120),\"erro\")","v":""},{"$f":"IFERROR(SUBSTITUTE(SUBSTITUTE(SUBSTITUTE(Gerar_Upload!B1658,\".\",\"\"),\"-\",\"\"),\"/\",\"\"),\"erro\")","v":""},{"$f":"IFERROR(Gerar_Upload!C1658,\"erro\")","v":0},{"$f":"IFERROR(Gerar_Upload!D1658,\"erro\")","v":0},{"$f":"IFERROR(DATE(YEAR(Gerar_Upload!E1658),MONTH(Gerar_Upload!E1658),DAY(Gerar_Upload!E1658)),\"erro\")","v":"00:00:00"},{"$f":"IFERROR(Gerar_Upload!F1658,\"erro\")","v":0},{"$f":"IFERROR(IF(Gerar_Upload!G1658<44,REPT(0,44-LEN(Gerar_Upload!G1658))&Gerar_Upload!G1658,Gerar_Upload!G1658),\"erro\")","v":"00000000000000000000000000000000000000000000"}]
[{"$f":"IFERROR(LEFT(Gerar_Upload!A1659,120),\"erro\")","v":""},{"$f":"IFERROR(SUBSTITUTE(SUBSTITUTE(SUBSTITUTE(Gerar_Upload!B1659,\".\",\"\"),\"-\",\"\"),\"/\",\"\"),\"erro\")","v":""},{"$f":"IFERROR(Gerar_Upload!C1659,\"erro\")","v":0},{"$f":"IFERROR(Gerar_Upload!D1659,\"erro\")","v":0},{"$f":"IFERROR(DATE(YEAR(Gerar_Upload!E1659),MONTH(Gerar_Upload!E1659),DAY(Gerar_Upload!E1659)),\"erro\")","v":"00:00:00"},{"$f":"IFERROR(Gerar_Upload!F1659,\"erro\")","v":0},{"$f":"IFERROR(IF(Gerar_Upload!G1659<44,REPT(0,44-LEN(Gerar_Upload!G1659))&Gerar_Upload!G1659,Gerar_Upload!G1659),\"erro\")","v":"00000000000000000000000000000000000000000000"}]
[{"$f":"IFERROR(LEFT(Gerar_Upload!A1660,120),\"erro\")","v":""},{"$f":"IFERROR(SUBSTITUTE(SUBSTITUTE(SUBSTITUTE(Gerar_Upload!B1660,\".\",\"\"),\"-\",\"\"),\"/\",\"\"),\"erro\")","v":""},{"$f":"IFERROR(Gerar_Upload!C1660,\"erro\")","v":0},{"$f":"IFERROR(Gerar_Upload!D1660,\"erro\")","v":0},{"$f":"IFERROR(DATE(YEAR(Gerar_Upload!E1660),MONTH(Gerar_Upload!E1660),DAY(Gerar_Upload!E1660)),\"erro\")","v":"00:00:00"},{"$f":"IFERROR(Gerar_Upload!F1660,\"erro\")","v":0},{"$f":"IFERROR(IF(Gerar_Upload!G1660<44,REPT(0,44-LEN(Gerar_Upload!G1660))&Gerar_Upload!G1660,Gerar_Upload!G1660),\"erro\")","v":"00000000000000000000000000000000000000000000"}]
[{"$f":"IFERROR(LEFT(Gerar_Upload!A1661,120),\"erro\")","v":""},{"$f":"IFERROR(SUBSTITUTE(SUBSTITUTE(SUBSTITUTE(Gerar_Upload!B1661,\".\",\"\"),\"-\",\"\"),\"/\",\"\"),\"erro\")","v":""},{"$f":"IFERROR(Gerar_Upload!C1661,\"erro\")","v":0},{"$f":"IFERROR(Gerar_Upload!D1661,\"erro\")","v":0},{"$f":"IFERROR(DATE(YEAR(Gerar_Upload!E1661),MONTH(Gerar_Upload!E1661),DAY(Gerar_Upload!E1661)),\"erro\")","v":"00:00:00"},{"$f":"IFERROR(Gerar_Upload!F1661,\"erro\")","v":0},{"$f":"IFERROR(IF(Gerar_Upload!G1661<44,REPT(0,44-LEN(Gerar_Upload!G1661))&Gerar_Upload!G1661,Gerar_Upload!G1661),\"erro\")","v":"00000000000000000000000000000000000000000000"}]
[{"$f":"IFERROR(LEFT(Gerar_Upload!A1662,120),\"erro\")","v":""},{"$f":"IFERROR(SUBSTITUTE(SUBSTITUTE(SUBSTITUTE(Gerar_Upload!B1662,\".\",\"\"),\"-\",\"\"),\"/\",\"\"),\"erro\")","v":""},{"$f":"IFERROR(Gerar_Upload!C1662,\"erro\")","v":0},{"$f":"IFERROR(Gerar_Upload!D1662,\"erro\")","v":0},{"$f":"IFERROR(DATE(YEAR(Gerar_Upload!E1662),MONTH(Gerar_Upload!E1662),DAY(Gerar_Upload!E1662)),\"erro\")","v":"00:00:00"},{"$f":"IFERROR(Gerar_Upload!F1662,\"erro\")","v":0},{"$f":"IFERROR(IF(Gerar_Upload!G1662<44,REPT(0,44-LEN(Gerar_Upload!G1662))&Gerar_Upload!G1662,Gerar_Upload!G1662),\"erro\")","v":"00000000000000000000000000000000000000000000"}]
[{"$f":"IFERROR(LEFT(Gerar_Upload!A1663,120),\"erro\")","v":""},{"$f":"IFERROR(SUBSTITUTE(SUBSTITUTE(SUBSTITUTE(Gerar_Upload!B1663,\".\",\"\"),\"-\",\"\"),\"/\",\"\"),\"erro\")","v":""},{"$f":"IFERROR(Gerar_Upload!C1663,\"erro\")","v":0},{"$f":"IFERROR(Gerar_Upload!D1663,\"erro\")","v":0},{"$f":"IFERROR(DATE(YEAR(Gerar_Upload!E1663),MONTH(Gerar_Upload!E1663),DAY(Gerar_Upload!E1663)),\"erro\")","v":"00:00:00"},{"$f":"IFERROR(Gerar_Upload!F1663,\"erro\")","v":0},{"$f":"IFERROR(IF(Gerar_Upload!G1663<44,REPT(0,44-LEN(Gerar_Upload!G1663))&Gerar_Upload!G1663,Gerar_Upload!G1663),\"erro\")","v":"00000000000000000000000000000000000000000000"}]
[{"$f":"IFERROR(LEFT(Gerar_Upload!A1664,120),\"erro\")","v":""},{"$f":"IFERROR(SUBSTITUTE(SUBSTITUTE(SUBSTITUTE(Gerar_Upload!B1664,\".\",\"\"),\"-\",\"\"),\"/\",\"\"),\"erro\")","v":""},{"$f":"IFERROR(Gerar_Upload!C1664,\"erro\")","v":0},{"$f":"IFERROR(Gerar_Upload!D1664,\"erro\")","v":0},{"$f":"IFERROR(DATE(YEAR(Gerar_Upload!E1664),MONTH(Gerar_Upload!E1664),DAY(Gerar_Upload!E1664)),\"erro\")","v":"00:00:00"},{"$f":"IFERROR(Gerar_Upload!F1664,\"erro\")","v":0},{"$f":"IFERROR(IF(Gerar_Upload!G1664<44,REPT(0,44-LEN(Gerar_Upload!G1664))&Gerar_Upload!G1664,Gerar_Upload!G1664),\"erro\")","v":"00000000000000000000000000000000000000000000"}]
[{"$f":"IFERROR(LEFT(Gerar_Upload!A1665,120),\"erro\")","v":""},{"$f":"IFERROR(SUBSTITUTE(SUBSTITUTE(SUBSTITUTE(Gerar_Upload!B1665,\".\",\"\"),\"-\",\"\"),\"/\",\"\"),\"erro\")","v":""},{"$f":"IFERROR(Gerar_Upload!C1665,\"erro\")","v":0},{"$f":"IFERROR(Gerar_Upload!D1665,\"erro\")","v":0},{"$f":"IFERROR(DATE(YEAR(Gerar_Upload!E1665),MONTH(Gerar_Upload!E1665),DAY(Gerar_Upload!E1665)),\"erro\")","v":"00:00:00"},{"$f":"IFERROR(Gerar_Upload!F1665,\"erro\")","v":0},{"$f":"IFERROR(IF(Gerar_Upload!G1665<44,REPT(0,44-LEN(Gerar_Upload!G1665))&Gerar_Upload!G1665,Gerar_Upload!G1665),\"erro\")","v":"00000000000000000000000000000000000000000000"}]
[{"$f":"IFERROR(LEFT(Gerar_Upload!A1666,120),\"erro\")","v":""},{"$f":"IFERROR(SUBSTITUTE(SUBSTITUTE(SUBSTITUTE(Gerar_Upload!B1666,\".\",\"\"),\"-\",\"\"),\"/\",\"\"),\"erro\")","v":""},{"$f":"IFERROR(Gerar_Upload!C1666,\"erro\")","v":0},{"$f":"IFERROR(Gerar_Upload!D1666,\"erro\")","v":0},{"$f":"IFERROR(DATE(YEAR(Gerar_Upload!E1666),MONTH(Gerar_Upload!E1666),DAY(Gerar_Upload!E1666)),\"erro\")","v":"00:00:00"},{"$f":"IFERROR(Gerar_Upload!F1666,\"erro\")","v":0},{"$f":"IFERROR(IF(Gerar_Upload!G1666<44,REPT(0,44-LEN(Gerar_Upload!G1666))&Gerar_Upload!G1666,Gerar_Upload!G1666),\"erro\")","v":"00000000000000000000000000000000000000000000"}]
[{"$f":"IFERROR(LEFT(Gerar_Upload!A1667,120),\"erro\")","v":""},{"$f":"IFERROR(SUBSTITUTE(SUBSTITUTE(SUBSTITUTE(Gerar_Upload!B1667,\".\",\"\"),\"-\",\"\"),\"/\",\"\"),\"erro\")","v":""},{"$f":"IFERROR(Gerar_Upload!C1667,\"erro\")","v":0},{"$f":"IFERROR(Gerar_Upload!D1667,\"erro\")","v":0},{"$f":"IFERROR(DATE(YEAR(Gerar_Upload!E1667),MONTH(Gerar_Upload!E1667),DAY(Gerar_Upload!E1667)),\"erro\")","v":"00:00:00"},{"$f":"IFERROR(Gerar_Upload!F1667,\"erro\")","v":0},{"$f":"IFERROR(IF(Gerar_Upload!G1667<44,REPT(0,44-LEN(Gerar_Upload!G1667))&Gerar_Upload!G1667,Gerar_Upload!G1667),\"erro\")","v":"00000000000000000000000000000000000000000000"}]
[{"$f":"IFERROR(LEFT(Gerar_Upload!A1668,120),\"erro\")","v":""},{"$f":"IFERROR(SUBSTITUTE(SUBSTITUTE(SUBSTITUTE(Gerar_Upload!B1668,\".\",\"\"),\"-\",\"\"),\"/\",\"\"),\"erro\")","v":""},{"$f":"IFERROR(Gerar_Upload!C1668,\"erro\")","v":0},{"$f":"IFERROR(Gerar_Upload!D1668,\"erro\")","v":0},{"$f":"IFERROR(DATE(YEAR(Gerar_Upload!E1668),MONTH(Gerar_Upload!E1668),DAY(Gerar_Upload!E1668)),\"erro\")","v":"00:00:00"},{"$f":"IFERROR(Gerar_Upload!F1668,\"erro\")","v":0},{"$f":"IFERROR(IF(Gerar_Upload!G1668<44,REPT(0,44-LEN(Gerar_Upload!G1668))&Gerar_Upload!G1668,Gerar_Upload!G1668),\"erro\")","v":"00000000000000000000000000000000000000000000"}]
[{"$f":"IFERROR(LEFT(Gerar_Upload!A1669,120),\"erro\")","v":""},{"$f":"IFERROR(SUBSTITUTE(SUBSTITUTE(SUBSTITUTE(Gerar_Upload!B1669,\".\",\"\"),\"-\",\"\"),\"/\",\"\"),\"erro\")","v":""},{"$f":"IFERROR(Gerar_Upload!C1669,\"erro\")","v":0},{"$f":"IFERROR(Gerar_Upload!D1669,\"erro\")","v":0},{"$f":"IFERROR(DATE(YEAR(Gerar_Upload!E1669),MONTH(Gerar_Upload!E1669),DAY(Gerar_Upload!E1669)),\"erro\")","v":"00:00:00"},{"$f":"IFERROR(Gerar_Upload!F1669,\"erro\")","v":0},{"$f":"IFERROR(IF(Gerar_Upload!G1669<44,REPT(0,44-LEN(Gerar_Upload!G1669))&Gerar_Upload!G1669,Gerar_Upload!G1669),\"erro\")","v":"00000000000000000000000000000000000000000000"}]
[{"$f":"IFERROR(LEFT(Gerar_Upload!A1670,120),\"erro\")","v":""},{"$f":"IFERROR(SUBSTITUTE(SUBSTITUTE(SUBSTITUTE(Gerar_Upload!B1670,\".\",\"\"),\"-\",\"\"),\"/\",\"\"),\"erro\")","v":""},{"$f":"IFERROR(Gerar_Upload!C1670,\"erro\")","v":0},{"$f":"IFERROR(Gerar_Upload!D1670,\"erro\")","v":0},{"$f":"IFERROR(DATE(YEAR(Gerar_Upload!E1670),MONTH(Gerar_Upload!E1670),DAY(Gerar_Upload!E1670)),\"erro\")","v":"00:00:00"},{"$f":"IFERROR(Gerar_Upload!F1670,\"erro\")","v":0},{"$f":"IFERROR(IF(Gerar_Upload!G1670<44,REPT(0,44-LEN(Gerar_Upload!G1670))&Gerar_Upload!G1670,Gerar_Upload!G1670),\"erro\")","v":"00000000000000000000000000000000000000000000"}]
[{"$f":"IFERROR(LEFT(Gerar_Upload!A1671,120),\"erro\")","v":""},{"$f":"IFERROR(SUBSTITUTE(SUBSTITUTE(SUBSTITUTE(Gerar_Upload!B1671,\".\",\"\"),\"-\",\"\"),\"/\",\"\"),\"erro\")","v":""},{"$f":"IFERROR(Gerar_Upload!C1671,\"erro\")","v":0},{"$f":"IFERROR(Gerar_Upload!D1671,\"erro\")","v":0},{"$f":"IFERROR(DATE(YEAR(Gerar_Upload!E1671),MONTH(Gerar_Upload!E1671),DAY(Gerar_Upload!E1671)),\"erro\")","v":"00:00:00"},{"$f":"IFERROR(Gerar_Upload!F1671,\"erro\")","v":0},{"$f":"IFERROR(IF(Gerar_Upload!G1671<44,REPT(0,44-LEN(Gerar_Upload!G1671))&Gerar_Upload!G1671,Gerar_Upload!G1671),\"erro\")","v":"00000000000000000000000000000000000000000000"}]
[{"$f":"IFERROR(LEFT(Gerar_Upload!A1672,120),\"erro\")","v":""},{"$f":"IFERROR(SUBSTITUTE(SUBSTITUTE(SUBSTITUTE(Gerar_Upload!B1672,\".\",\"\"),\"-\",\"\"),\"/\",\"\"),\"erro\")","v":""},{"$f":"IFERROR(Gerar_Upload!C1672,\"erro\")","v":0},{"$f":"IFERROR(Gerar_Upload!D1672,\"erro\")","v":0},{"$f":"IFERROR(DATE(YEAR(Gerar_Upload!E1672),MONTH(Gerar_Upload!E1672),DAY(Gerar_Upload!E1672)),\"erro\")","v":"00:00:00"},{"$f":"IFERROR(Gerar_Upload!F1672,\"erro\")","v":0},{"$f":"IFERROR(IF(Gerar_Upload!G1672<44,REPT(0,44-LEN(Gerar_Upload!G1672))&Gerar_Upload!G1672,Gerar_Upload!G1672),\"erro\")","v":"00000000000000000000000000000000000000000000"}]
[{"$f":"IFERROR(LEFT(Gerar_Upload!A1673,120),\"erro\")","v":""},{"$f":"IFERROR(SUBSTITUTE(SUBSTITUTE(SUBSTITUTE(Gerar_Upload!B1673,\".\",\"\"),\"-\",\"\"),\"/\",\"\"),\"erro\")","v":""},{"$f":"IFERROR(Gerar_Upload!C1673,\"erro\")","v":0},{"$f":"IFERROR(Gerar_Upload!D1673,\"erro\")","v":0},{"$f":"IFERROR(DATE(YEAR(Gerar_Upload!E1673),MONTH(Gerar_Upload!E1673),DAY(Gerar_Upload!E1673)),\"erro\")","v":"00:00:00"},{"$f":"IFERROR(Gerar_Upload!F1673,\"erro\")","v":0},{"$f":"IFERROR(IF(Gerar_Upload!G1673<44,REPT(0,44-LEN(Gerar_Upload!G1673))&Gerar_Upload!G1673,Gerar_Upload!G1673),\"erro\")","v":"00000000000000000000000000000000000000000000"}]
[{"$f":"IFERROR(LEFT(Gerar_Upload!A1674,120),\"erro\")","v":""},{"$f":"IFERROR(SUBSTITUTE(SUBSTITUTE(SUBSTITUTE(Gerar_Upload!B1674,\".\",\"\"),\"-\",\"\"),\"/\",\"\"),\"erro\")","v":""},{"$f":"IFERROR(Gerar_Upload!C1674,\"erro\")","v":0},{"$f":"IFERROR(Gerar_Upload!D1674,\"erro\")","v":0},{"$f":"IFERROR(DATE(YEAR(Gerar_Upload!E1674),MONTH(Gerar_Upload!E1674),DAY(Gerar_Upload!E1674)),\"erro\")","v":"00:00:00"},{"$f":"IFERROR(Gerar_Upload!F1674,\"erro\")","v":0},{"$f":"IFERROR(IF(Gerar_Upload!G1674<44,REPT(0,44-LEN(Gerar_Upload!G1674))&Gerar_Upload!G1674,Gerar_Upload!G1674),\"erro\")","v":"00000000000000000000000000000000000000000000"}]
[{"$f":"IFERROR(LEFT(Gerar_Upload!A1675,120),\"erro\")","v":""},{"$f":"IFERROR(SUBSTITUTE(SUBSTITUTE(SUBSTITUTE(Gerar_Upload!B1675,\".\",\"\"),\"-\",\"\"),\"/\",\"\"),\"erro\")","v":""},{"$f":"IFERROR(Gerar_Upload!C1675,\"erro\")","v":0},{"$f":"IFERROR(Gerar_Upload!D1675,\"erro\")","v":0},{"$f":"IFERROR(DATE(YEAR(Gerar_Upload!E1675),MONTH(Gerar_Upload!E1675),DAY(Gerar_Upload!E1675)),\"erro\")","v":"00:00:00"},{"$f":"IFERROR(Gerar_Upload!F1675,\"erro\")","v":0},{"$f":"IFERROR(IF(Gerar_Upload!G1675<44,REPT(0,44-LEN(Gerar_Upload!G1675))&Gerar_Upload!G1675,Gerar_Upload!G1675),\"erro\")","v":"00000000000000000000000000000000000000000000"}]
[{"$f":"IFERROR(LEFT(Gerar_Upload!A1676,120),\"erro\")","v":""},{"$f":"IFERROR(SUBSTITUTE(SUBSTITUTE(SUBSTITUTE(Gerar_Upload!B1676,\".\",\"\"),\"-\",\"\"),\"/\",\"\"),\"erro\")","v":""},{"$f":"IFERROR(Gerar_Upload!C1676,\"erro\")","v":0},{"$f":"IFERROR(Gerar_Upload!D1676,\"erro\")","v":0},{"$f":"IFERROR(DATE(YEAR(Gerar_Upload!E1676),MONTH(Gerar_Upload!E1676),DAY(Gerar_Upload!E1676)),\"erro\")","v":"00:00:00"},{"$f":"IFERROR(Gerar_Upload!F1676,\"erro\")","v":0},{"$f":"IFERROR(IF(Gerar_Upload!G1676<44,REPT(0,44-LEN(Gerar_Upload!G1676))&Gerar_Upload!G1676,Gerar_Upload!G1676),\"erro\")","v":"00000000000000000000000000000000000000000000"}]
[{"$f":"IFERROR(LEFT(Gerar_Upload!A1677,120),\"erro\")","v":""},{"$f":"IFERROR(SUBSTITUTE(SUBSTITUTE(SUBSTITUTE(Gerar_Upload!B1677,\".\",\"\"),\"-\",\"\"),\"/\",\"\"),\"erro\")","v":""},{"$f":"IFERROR(Gerar_Upload!C1677,\"erro\")","v":0},{"$f":"IFERROR(Gerar_Upload!D1677,\"erro\")","v":0},{"$f":"IFERROR(DATE(YEAR(Gerar_Upload!E1677),MONTH(Gerar_Upload!E1677),DAY(Gerar_Upload!E1677)),\"erro\")","v":"00:00:00"},{"$f":"IFERROR(Gerar_Upload!F1677,\"erro\")","v":0},{"$f":"IFERROR(IF(Gerar_Upload!G1677<44,REPT(0,44-LEN(Gerar_Upload!G1677))&Gerar_Upload!G1677,Gerar_Upload!G1677),\"erro\")","v":"00000000000000000000000000000000000000000000"}]
[{"$f":"IFERROR(LEFT(Gerar_Upload!A1678,120),\"erro\")","v":""},{"$f":"IFERROR(SUBSTITUTE(SUBSTITUTE(SUBSTITUTE(Gerar_Upload!B1678,\".\",\"\"),\"-\",\"\"),\"/\",\"\"),\"erro\")","v":""},{"$f":"IFERROR(Gerar_Upload!C1678,\"erro\")","v":0},{"$f":"IFERROR(Gerar_Upload!D1678,\"erro\")","v":0},{"$f":"IFERROR(DATE(YEAR(Gerar_Upload!E1678),MONTH(Gerar_Upload!E1678),DAY(Gerar_Upload!E1678)),\"erro\")","v":"00:00:00"},{"$f":"IFERROR(Gerar_Upload!F1678,\"erro\")","v":0},{"$f":"IFERROR(IF(Gerar_Upload!G1678<44,REPT(0,44-LEN(Gerar_Upload!G1678))&Gerar_Upload!G1678,Gerar_Upload!G1678),\"erro\")","v":"00000000000000000000000000000000000000000000"}]
[{"$f":"IFERROR(LEFT(Gerar_Upload!A1679,120),\"erro\")","v":""},{"$f":"IFERROR(SUBSTITUTE(SUBSTITUTE(SUBSTITUTE(Gerar_Upload!B1679,\".\",\"\"),\"-\",\"\"),\"/\",\"\"),\"erro\")","v":""},{"$f":"IFERROR(Gerar_Upload!C1679,\"erro\")","v":0},{"$f":"IFERROR(Gerar_Upload!D1679,\"erro\")","v":0},{"$f":"IFERROR(DATE(YEAR(Gerar_Upload!E1679),MONTH(Gerar_Upload!E1679),DAY(Gerar_Upload!E1679)),\"erro\")","v":"00:00:00"},{"$f":"IFERROR(Gerar_Upload!F1679,\"erro\")","v":0},{"$f":"IFERROR(IF(Gerar_Upload!G1679<44,REPT(0,44-LEN(Gerar_Upload!G1679))&Gerar_Upload!G1679,Gerar_Upload!G1679),\"erro\")","v":"00000000000000000000000000000000000000000000"}]
[{"$f":"IFERROR(LEFT(Gerar_Upload!A1680,120),\"erro\")","v":""},{"$f":"IFERROR(SUBSTITUTE(SUBSTITUTE(SUBSTITUTE(Gerar_Upload!B1680,\".\",\"\"),\"-\",\"\"),\"/\",\"\"),\"erro\")","v":""},{"$f":"IFERROR(Gerar_Upload!C1680,\"erro\")","v":0},{"$f":"IFERROR(Gerar_Upload!D1680,\"erro\")","v":0},{"$f":"IFERROR(DATE(YEAR(Gerar_Upload!E1680),MONTH(Gerar_Upload!E1680),DAY(Gerar_Upload!E1680)),\"erro\")","v":"00:00:00"},{"$f":"IFERROR(Gerar_Upload!F1680,\"erro\")","v":0},{"$f":"IFERROR(IF(Gerar_Upload!G1680<44,REPT(0,44-LEN(Gerar_Upload!G1680))&Gerar_Upload!G1680,Gerar_Upload!G1680),\"erro\")","v":"00000000000000000000000000000000000000000000"}]
[{"$f":"IFERROR(LEFT(Gerar_Upload!A1681,120),\"erro\")","v":""},{"$f":"IFERROR(SUBSTITUTE(SUBSTITUTE(SUBSTITUTE(Gerar_Upload!B1681,\".\",\"\"),\"-\",\"\"),\"/\",\"\"),\"erro\")","v":""},{"$f":"IFERROR(Gerar_Upload!C1681,\"erro\")","v":0},{"$f":"IFERROR(Gerar_Upload!D1681,\"erro\")","v":0},{"$f":"IFERROR(DATE(YEAR(Gerar_Upload!E1681),MONTH(Gerar_Upload!E1681),DAY(Gerar_Upload!E1681)),\"erro\")","v":"00:00:00"},{"$f":"IFERROR(Gerar_Upload!F1681,\"erro\")","v":0},{"$f":"IFERROR(IF(Gerar_Upload!G1681<44,REPT(0,44-LEN(Gerar_Upload!G1681))&Gerar_Upload!G1681,Gerar_Upload!G1681),\"erro\")","v":"00000000000000000000000000000000000000000000"}]
[{"$f":"IFERROR(LEFT(Gerar_Upload!A1682,120),\"erro\")","v":""},{"$f":"IFERROR(SUBSTITUTE(SUBSTITUTE(SUBSTITUTE(Gerar_Upload!B1682,\".\",\"\"),\"-\",\"\"),\"/\",\"\"),\"erro\")","v":""},{"$f":"IFERROR(Gerar_Upload!C1682,\"erro\")","v":0},{"$f":"IFERROR(Gerar_Upload!D1682,\"erro\")","v":0},{"$f":"IFERROR(DATE(YEAR(Gerar_Upload!E1682),MONTH(Gerar_Upload!E1682),DAY(Gerar_Upload!E1682)),\"erro\")","v":"00:00:00"},{"$f":"IFERROR(Gerar_Upload!F1682,\"erro\")","v":0},{"$f":"IFERROR(IF(Gerar_Upload!G1682<44,REPT(0,44-LEN(Gerar_Upload!G1682))&Gerar_Upload!G1682,Gerar_Upload!G1682),\"erro\")","v":"00000000000000000000000000000000000000000000"}]
[{"$f":"IFERROR(LEFT(Gerar_Upload!A1683,120),\"erro\")","v":""},{"$f":"IFERROR(SUBSTITUTE(SUBSTITUTE(SUBSTITUTE(Gerar_Upload!B1683,\".\",\"\"),\"-\",\"\"),\"/\",\"\"),\"erro\")","v":""},{"$f":"IFERROR(Gerar_Upload!C1683,\"erro\")","v":0},{"$f":"IFERROR(Gerar_Upload!D1683,\"erro\")","v":0},{"$f":"IFERROR(DATE(YEAR(Gerar_Upload!E1683),MONTH(Gerar_Upload!E1683),DAY(Gerar_Upload!E1683)),\"erro\")","v":"00:00:00"},{"$f":"IFERROR(Gerar_Upload!F1683,\"erro\")","v":0},{"$f":"IFERROR(IF(Gerar_Upload!G1683<44,REPT(0,44-LEN(Gerar_Upload!G1683))&Gerar_Upload!G1683,Gerar_Upload!G1683),\"erro\")","v":"00000000000000000000000000000000000000000000"}]
[{"$f":"IFERROR(LEFT(Gerar_Upload!A1684,120),\"erro\")","v":""},{"$f":"IFERROR(SUBSTITUTE(SUBSTITUTE(SUBSTITUTE(Gerar_Upload!B1684,\".\",\"\"),\"-\",\"\"),\"/\",\"\"),\"erro\")","v":""},{"$f":"IFERROR(Gerar_Upload!C1684,\"erro\")","v":0},{"$f":"IFERROR(Gerar_Upload!D1684,\"erro\")","v":0},{"$f":"IFERROR(DATE(YEAR(Gerar_Upload!E1684),MONTH(Gerar_Upload!E1684),DAY(Gerar_Upload!E1684)),\"erro\")","v":"00:00:00"},{"$f":"IFERROR(Gerar_Upload!F1684,\"erro\")","v":0},{"$f":"IFERROR(IF(Gerar_Upload!G1684<44,REPT(0,44-LEN(Gerar_Upload!G1684))&Gerar_Upload!G1684,Gerar_Upload!G1684),\"erro\")","v":"00000000000000000000000000000000000000000000"}]
[{"$f":"IFERROR(LEFT(Gerar_Upload!A1685,120),\"erro\")","v":""},{"$f":"IFERROR(SUBSTITUTE(SUBSTITUTE(SUBSTITUTE(Gerar_Upload!B1685,\".\",\"\"),\"-\",\"\"),\"/\",\"\"),\"erro\")","v":""},{"$f":"IFERROR(Gerar_Upload!C1685,\"erro\")","v":0},{"$f":"IFERROR(Gerar_Upload!D1685,\"erro\")","v":0},{"$f":"IFERROR(DATE(YEAR(Gerar_Upload!E1685),MONTH(Gerar_Upload!E1685),DAY(Gerar_Upload!E1685)),\"erro\")","v":"00:00:00"},{"$f":"IFERROR(Gerar_Upload!F1685,\"erro\")","v":0},{"$f":"IFERROR(IF(Gerar_Upload!G1685<44,REPT(0,44-LEN(Gerar_Upload!G1685))&Gerar_Upload!G1685,Gerar_Upload!G1685),\"erro\")","v":"00000000000000000000000000000000000000000000"}]
[{"$f":"IFERROR(LEFT(Gerar_Upload!A1686,120),\"erro\")","v":""},{"$f":"IFERROR(SUBSTITUTE(SUBSTITUTE(SUBSTITUTE(Gerar_Upload!B1686,\".\",\"\"),\"-\",\"\"),\"/\",\"\"),\"erro\")","v":""},{"$f":"IFERROR(Gerar_Upload!C1686,\"erro\")","v":0},{"$f":"IFERROR(Gerar_Upload!D1686,\"erro\")","v":0},{"$f":"IFERROR(DATE(YEAR(Gerar_Upload!E1686),MONTH(Gerar_Upload!E1686),DAY(Gerar_Upload!E1686)),\"erro\")","v":"00:00:00"},{"$f":"IFERROR(Gerar_Upload!F1686,\"erro\")","v":0},{"$f":"IFERROR(IF(Gerar_Upload!G1686<44,REPT(0,44-LEN(Gerar_Upload!G1686))&Gerar_Upload!G1686,Gerar_Upload!G1686),\"erro\")","v":"00000000000000000000000000000000000000000000"}]
[{"$f":"IFERROR(LEFT(Gerar_Upload!A1687,120),\"erro\")","v":""},{"$f":"IFERROR(SUBSTITUTE(SUBSTITUTE(SUBSTITUTE(Gerar_Upload!B1687,\".\",\"\"),\"-\",\"\"),\"/\",\"\"),\"erro\")","v":""},{"$f":"IFERROR(Gerar_Upload!C1687,\"erro\")","v":0},{"$f":"IFERROR(Gerar_Upload!D1687,\"erro\")","v":0},{"$f":"IFERROR(DATE(YEAR(Gerar_Upload!E1687),MONTH(Gerar_Upload!E1687),DAY(Gerar_Upload!E1687)),\"erro\")","v":"00:00:00"},{"$f":"IFERROR(Gerar_Upload!F1687,\"erro\")","v":0},{"$f":"IFERROR(IF(Gerar_Upload!G1687<44,REPT(0,44-LEN(Gerar_Upload!G1687))&Gerar_Upload!G1687,Gerar_Upload!G1687),\"erro\")","v":"00000000000000000000000000000000000000000000"}]
[{"$f":"IFERROR(LEFT(Gerar_Upload!A1688,120),\"erro\")","v":""},{"$f":"IFERROR(SUBSTITUTE(SUBSTITUTE(SUBSTITUTE(Gerar_Upload!B1688,\".\",\"\"),\"-\",\"\"),\"/\",\"\"),\"erro\")","v":""},{"$f":"IFERROR(Gerar_Upload!C1688,\"erro\")","v":0},{"$f":"IFERROR(Gerar_Upload!D1688,\"erro\")","v":0},{"$f":"IFERROR(DATE(YEAR(Gerar_Upload!E1688),MONTH(Gerar_Upload!E1688),DAY(Gerar_Upload!E1688)),\"erro\")","v":"00:00:00"},{"$f":"IFERROR(Gerar_Upload!F1688,\"erro\")","v":0},{"$f":"IFERROR(IF(Gerar_Upload!G1688<44,REPT(0,44-LEN(Gerar_Upload!G1688))&Gerar_Upload!G1688,Gerar_Upload!G1688),\"erro\")","v":"00000000000000000000000000000000000000000000"}]
[{"$f":"IFERROR(LEFT(Gerar_Upload!A1689,120),\"erro\")","v":""},{"$f":"IFERROR(SUBSTITUTE(SUBSTITUTE(SUBSTITUTE(Gerar_Upload!B1689,\".\",\"\"),\"-\",\"\"),\"/\",\"\"),\"erro\")","v":""},{"$f":"IFERROR(Gerar_Upload!C1689,\"erro\")","v":0},{"$f":"IFERROR(Gerar_Upload!D1689,\"erro\")","v":0},{"$f":"IFERROR(DATE(YEAR(Gerar_Upload!E1689),MONTH(Gerar_Upload!E1689),DAY(Gerar_Upload!E1689)),\"erro\")","v":"00:00:00"},{"$f":"IFERROR(Gerar_Upload!F1689,\"erro\")","v":0},{"$f":"IFERROR(IF(Gerar_Upload!G1689<44,REPT(0,44-LEN(Gerar_Upload!G1689))&Gerar_Upload!G1689,Gerar_Upload!G1689),\"erro\")","v":"00000000000000000000000000000000000000000000"}]
[{"$f":"IFERROR(LEFT(Gerar_Upload!A1690,120),\"erro\")","v":""},{"$f":"IFERROR(SUBSTITUTE(SUBSTITUTE(SUBSTITUTE(Gerar_Upload!B1690,\".\",\"\"),\"-\",\"\"),\"/\",\"\"),\"erro\")","v":""},{"$f":"IFERROR(Gerar_Upload!C1690,\"erro\")","v":0},{"$f":"IFERROR(Gerar_Upload!D1690,\"erro\")","v":0},{"$f":"IFERROR(DATE(YEAR(Gerar_Upload!E1690),MONTH(Gerar_Upload!E1690),DAY(Gerar_Upload!E1690)),\"erro\")","v":"00:00:00"},{"$f":"IFERROR(Gerar_Upload!F1690,\"erro\")","v":0},{"$f":"IFERROR(IF(Gerar_Upload!G1690<44,REPT(0,44-LEN(Gerar_Upload!G1690))&Gerar_Upload!G1690,Gerar_Upload!G1690),\"erro\")","v":"00000000000000000000000000000000000000000000"}]
[{"$f":"IFERROR(LEFT(Gerar_Upload!A1691,120),\"erro\")","v":""},{"$f":"IFERROR(SUBSTITUTE(SUBSTITUTE(SUBSTITUTE(Gerar_Upload!B1691,\".\",\"\"),\"-\",\"\"),\"/\",\"\"),\"erro\")","v":""},{"$f":"IFERROR(Gerar_Upload!C1691,\"erro\")","v":0},{"$f":"IFERROR(Gerar_Upload!D1691,\"erro\")","v":0},{"$f":"IFERROR(DATE(YEAR(Gerar_Upload!E1691),MONTH(Gerar_Upload!E1691),DAY(Gerar_Upload!E1691)),\"erro\")","v":"00:00:00"},{"$f":"IFERROR(Gerar_Upload!F1691,\"erro\")","v":0},{"$f":"IFERROR(IF(Gerar_Upload!G1691<44,REPT(0,44-LEN(Gerar_Upload!G1691))&Gerar_Upload!G1691,Gerar_Upload!G1691),\"erro\")","v":"00000000000000000000000000000000000000000000"}]
[{"$f":"IFERROR(LEFT(Gerar_Upload!A1692,120),\"erro\")","v":""},{"$f":"IFERROR(SUBSTITUTE(SUBSTITUTE(SUBSTITUTE(Gerar_Upload!B1692,\".\",\"\"),\"-\",\"\"),\"/\",\"\"),\"erro\")","v":""},{"$f":"IFERROR(Gerar_Upload!C1692,\"erro\")","v":0},{"$f":"IFERROR(Gerar_Upload!D1692,\"erro\")","v":0},{"$f":"IFERROR(DATE(YEAR(Gerar_Upload!E1692),MONTH(Gerar_Upload!E1692),DAY(Gerar_Upload!E1692)),\"erro\")","v":"00:00:00"},{"$f":"IFERROR(Gerar_Upload!F1692,\"erro\")","v":0},{"$f":"IFERROR(IF(Gerar_Upload!G1692<44,REPT(0,44-LEN(Gerar_Upload!G1692))&Gerar_Upload!G1692,Gerar_Upload!G1692),\"erro\")","v":"00000000000000000000000000000000000000000000"}]
[{"$f":"IFERROR(LEFT(Gerar_Upload!A1693,120),\"erro\")","v":""},{"$f":"IFERROR(SUBSTITUTE(SUBSTITUTE(SUBSTITUTE(Gerar_Upload!B1693,\".\",\"\"),\"-\",\"\"),\"/\",\"\"),\"erro\")","v":""},{"$f":"IFERROR(Gerar_Upload!C1693,\"erro\")","v":0},{"$f":"IFERROR(Gerar_Upload!D1693,\"erro\")","v":0},{"$f":"IFERROR(DATE(YEAR(Gerar_Upload!E1693),MONTH(Gerar_Upload!E1693),DAY(Gerar_Upload!E1693)),\"erro\")","v":"00:00:00"},{"$f":"IFERROR(Gerar_Upload!F1693,\"erro\")","v":0},{"$f":"IFERROR(IF(Gerar_Upload!G1693<44,REPT(0,44-LEN(Gerar_Upload!G1693))&Gerar_Upload!G1693,Gerar_Upload!G1693),\"erro\")","v":"00000000000000000000000000000000000000000000"}]
[{"$f":"IFERROR(LEFT(Gerar_Upload!A1694,120),\"erro\")","v":""},{"$f":"IFERROR(SUBSTITUTE(SUBSTITUTE(SUBSTITUTE(Gerar_Upload!B1694,\".\",\"\"),\"-\",\"\"),\"/\",\"\"),\"erro\")","v":""},{"$f":"IFERROR(Gerar_Upload!C1694,\"erro\")","v":0},{"$f":"IFERROR(Gerar_Upload!D1694,\"erro\")","v":0},{"$f":"IFERROR(DATE(YEAR(Gerar_Upload!E1694),MONTH(Gerar_Upload!E1694),DAY(Gerar_Upload!E1694)),\"erro\")","v":"00:00:00"},{"$f":"IFERROR(Gerar_Upload!F1694,\"erro\")","v":0},{"$f":"IFERROR(IF(Gerar_Upload!G1694<44,REPT(0,44-LEN(Gerar_Upload!G1694))&Gerar_Upload!G1694,Gerar_Upload!G1694),\"erro\")","v":"00000000000000000000000000000000000000000000"}]
[{"$f":"IFERROR(LEFT(Gerar_Upload!A1695,120),\"erro\")","v":""},{"$f":"IFERROR(SUBSTITUTE(SUBSTITUTE(SUBSTITUTE(Gerar_Upload!B1695,\".\",\"\"),\"-\",\"\"),\"/\",\"\"),\"erro\")","v":""},{"$f":"IFERROR(Gerar_Upload!C1695,\"erro\")","v":0},{"$f":"IFERROR(Gerar_Upload!D1695,\"erro\")","v":0},{"$f":"IFERROR(DATE(YEAR(Gerar_Upload!E1695),MONTH(Gerar_Upload!E1695),DAY(Gerar_Upload!E1695)),\"erro\")","v":"00:00:00"},{"$f":"IFERROR(Gerar_Upload!F1695,\"erro\")","v":0},{"$f":"IFERROR(IF(Gerar_Upload!G1695<44,REPT(0,44-LEN(Gerar_Upload!G1695))&Gerar_Upload!G1695,Gerar_Upload!G1695),\"erro\")","v":"00000000000000000000000000000000000000000000"}]
[{"$f":"IFERROR(LEFT(Gerar_Upload!A1696,120),\"erro\")","v":""},{"$f":"IFERROR(SUBSTITUTE(SUBSTITUTE(SUBSTITUTE(Gerar_Upload!B1696,\".\",\"\"),\"-\",\"\"),\"/\",\"\"),\"erro\")","v":""},{"$f":"IFERROR(Gerar_Upload!C1696,\"erro\")","v":0},{"$f":"IFERROR(Gerar_Upload!D1696,\"erro\")","v":0},{"$f":"IFERROR(DATE(YEAR(Gerar_Upload!E1696),MONTH(Gerar_Upload!E1696),DAY(Gerar_Upload!E1696)),\"erro\")","v":"00:00:00"},{"$f":"IFERROR(Gerar_Upload!F1696,\"erro\")","v":0},{"$f":"IFERROR(IF(Gerar_Upload!G1696<44,REPT(0,44-LEN(Gerar_Upload!G1696))&Gerar_Upload!G1696,Gerar_Upload!G1696),\"erro\")","v":"00000000000000000000000000000000000000000000"}]
[{"$f":"IFERROR(LEFT(Gerar_Upload!A1697,120),\"erro\")","v":""},{"$f":"IFERROR(SUBSTITUTE(SUBSTITUTE(SUBSTITUTE(Gerar_Upload!B1697,\".\",\"\"),\"-\",\"\"),\"/\",\"\"),\"erro\")","v":""},{"$f":"IFERROR(Gerar_Upload!C1697,\"erro\")","v":0},{"$f":"IFERROR(Gerar_Upload!D1697,\"erro\")","v":0},{"$f":"IFERROR(DATE(YEAR(Gerar_Upload!E1697),MONTH(Gerar_Upload!E1697),DAY(Gerar_Upload!E1697)),\"erro\")","v":"00:00:00"},{"$f":"IFERROR(Gerar_Upload!F1697,\"erro\")","v":0},{"$f":"IFERROR(IF(Gerar_Upload!G1697<44,REPT(0,44-LEN(Gerar_Upload!G1697))&Gerar_Upload!G1697,Gerar_Upload!G1697),\"erro\")","v":"00000000000000000000000000000000000000000000"}]
[{"$f":"IFERROR(LEFT(Gerar_Upload!A1698,120),\"erro\")","v":""},{"$f":"IFERROR(SUBSTITUTE(SUBSTITUTE(SUBSTITUTE(Gerar_Upload!B1698,\".\",\"\"),\"-\",\"\"),\"/\",\"\"),\"erro\")","v":""},{"$f":"IFERROR(Gerar_Upload!C1698,\"erro\")","v":0},{"$f":"IFERROR(Gerar_Upload!D1698,\"erro\")","v":0},{"$f":"IFERROR(DATE(YEAR(Gerar_Upload!E1698),MONTH(Gerar_Upload!E1698),DAY(Gerar_Upload!E1698)),\"erro\")","v":"00:00:00"},{"$f":"IFERROR(Gerar_Upload!F1698,\"erro\")","v":0},{"$f":"IFERROR(IF(Gerar_Upload!G1698<44,REPT(0,44-LEN(Gerar_Upload!G1698))&Gerar_Upload!G1698,Gerar_Upload!G1698),\"erro\")","v":"00000000000000000000000000000000000000000000"}]
[{"$f":"IFERROR(LEFT(Gerar_Upload!A1699,120),\"erro\")","v":""},{"$f":"IFERROR(SUBSTITUTE(SUBSTITUTE(SUBSTITUTE(Gerar_Upload!B1699,\".\",\"\"),\"-\",\"\"),\"/\",\"\"),\"erro\")","v":""},{"$f":"IFERROR(Gerar_Upload!C1699,\"erro\")","v":0},{"$f":"IFERROR(Gerar_Upload!D1699,\"erro\")","v":0},{"$f":"IFERROR(DATE(YEAR(Gerar_Upload!E1699),MONTH(Gerar_Upload!E1699),DAY(Gerar_Upload!E1699)),\"erro\")","v":"00:00:00"},{"$f":"IFERROR(Gerar_Upload!F1699,\"erro\")","v":0},{"$f":"IFERROR(IF(Gerar_Upload!G1699<44,REPT(0,44-LEN(Gerar_Upload!G1699))&Gerar_Upload!G1699,Gerar_Upload!G1699),\"erro\")","v":"00000000000000000000000000000000000000000000"}]
[{"$f":"IFERROR(LEFT(Gerar_Upload!A1700,120),\"erro\")","v":""},{"$f":"IFERROR(SUBSTITUTE(SUBSTITUTE(SUBSTITUTE(Gerar_Upload!B1700,\".\",\"\"),\"-\",\"\"),\"/\",\"\"),\"erro\")","v":""},{"$f":"IFERROR(Gerar_Upload!C1700,\"erro\")","v":0},{"$f":"IFERROR(Gerar_Upload!D1700,\"erro\")","v":0},{"$f":"IFERROR(DATE(YEAR(Gerar_Upload!E1700),MONTH(Gerar_Upload!E1700),DAY(Gerar_Upload!E1700)),\"erro\")","v":"00:00:00"},{"$f":"IFERROR(Gerar_Upload!F1700,\"erro\")","v":0},{"$f":"IFERROR(IF(Gerar_Upload!G1700<44,REPT(0,44-LEN(Gerar_Upload!G1700))&Gerar_Upload!G1700,Gerar_Upload!G1700),\"erro\")","v":"00000000000000000000000000000000000000000000"}]
[{"$f":"IFERROR(LEFT(Gerar_Upload!A1701,120),\"erro\")","v":""},{"$f":"IFERROR(SUBSTITUTE(SUBSTITUTE(SUBSTITUTE(Gerar_Upload!B1701,\".\",\"\"),\"-\",\"\"),\"/\",\"\"),\"erro\")","v":""},{"$f":"IFERROR(Gerar_Upload!C1701,\"erro\")","v":0},{"$f":"IFERROR(Gerar_Upload!D1701,\"erro\")","v":0},{"$f":"IFERROR(DATE(YEAR(Gerar_Upload!E1701),MONTH(Gerar_Upload!E1701),DAY(Gerar_Upload!E1701)),\"erro\")","v":"00:00:00"},{"$f":"IFERROR(Gerar_Upload!F1701,\"erro\")","v":0},{"$f":"IFERROR(IF(Gerar_Upload!G1701<44,REPT(0,44-LEN(Gerar_Upload!G1701))&Gerar_Upload!G1701,Gerar_Upload!G1701),\"erro\")","v":"00000000000000000000000000000000000000000000"}]
[{"$f":"IFERROR(LEFT(Gerar_Upload!A1702,120),\"erro\")","v":""},{"$f":"IFERROR(SUBSTITUTE(SUBSTITUTE(SUBSTITUTE(Gerar_Upload!B1702,\".\",\"\"),\"-\",\"\"),\"/\",\"\"),\"erro\")","v":""},{"$f":"IFERROR(Gerar_Upload!C1702,\"erro\")","v":0},{"$f":"IFERROR(Gerar_Upload!D1702,\"erro\")","v":0},{"$f":"IFERROR(DATE(YEAR(Gerar_Upload!E1702),MONTH(Gerar_Upload!E1702),DAY(Gerar_Upload!E1702)),\"erro\")","v":"00:00:00"},{"$f":"IFERROR(Gerar_Upload!F1702,\"erro\")","v":0},{"$f":"IFERROR(IF(Gerar_Upload!G1702<44,REPT(0,44-LEN(Gerar_Upload!G1702))&Gerar_Upload!G1702,Gerar_Upload!G1702),\"erro\")","v":"00000000000000000000000000000000000000000000"}]
[{"$f":"IFERROR(LEFT(Gerar_Upload!A1703,120),\"erro\")","v":""},{"$f":"IFERROR(SUBSTITUTE(SUBSTITUTE(SUBSTITUTE(Gerar_Upload!B1703,\".\",\"\"),\"-\",\"\"),\"/\",\"\"),\"erro\")","v":""},{"$f":"IFERROR(Gerar_Upload!C1703,\"erro\")","v":0},{"$f":"IFERROR(Gerar_Upload!D1703,\"erro\")","v":0},{"$f":"IFERROR(DATE(YEAR(Gerar_Upload!E1703),MONTH(Gerar_Upload!E1703),DAY(Gerar_Upload!E1703)),\"erro\")","v":"00:00:00"},{"$f":"IFERROR(Gerar_Upload!F1703,\"erro\")","v":0},{"$f":"IFERROR(IF(Gerar_Upload!G1703<44,REPT(0,44-LEN(Gerar_Upload!G1703))&Gerar_Upload!G1703,Gerar_Upload!G1703),\"erro\")","v":"00000000000000000000000000000000000000000000"}]
[{"$f":"IFERROR(LEFT(Gerar_Upload!A1704,120),\"erro\")","v":""},{"$f":"IFERROR(SUBSTITUTE(SUBSTITUTE(SUBSTITUTE(Gerar_Upload!B1704,\".\",\"\"),\"-\",\"\"),\"/\",\"\"),\"erro\")","v":""},{"$f":"IFERROR(Gerar_Upload!C1704,\"erro\")","v":0},{"$f":"IFERROR(Gerar_Upload!D1704,\"erro\")","v":0},{"$f":"IFERROR(DATE(YEAR(Gerar_Upload!E1704),MONTH(Gerar_Upload!E1704),DAY(Gerar_Upload!E1704)),\"erro\")","v":"00:00:00"},{"$f":"IFERROR(Gerar_Upload!F1704,\"erro\")","v":0},{"$f":"IFERROR(IF(Gerar_Upload!G1704<44,REPT(0,44-LEN(Gerar_Upload!G1704))&Gerar_Upload!G1704,Gerar_Upload!G1704),\"erro\")","v":"00000000000000000000000000000000000000000000"}]
[{"$f":"IFERROR(LEFT(Gerar_Upload!A1705,120),\"erro\")","v":""},{"$f":"IFERROR(SUBSTITUTE(SUBSTITUTE(SUBSTITUTE(Gerar_Upload!B1705,\".\",\"\"),\"-\",\"\"),\"/\",\"\"),\"erro\")","v":""},{"$f":"IFERROR(Gerar_Upload!C1705,\"erro\")","v":0},{"$f":"IFERROR(Gerar_Upload!D1705,\"erro\")","v":0},{"$f":"IFERROR(DATE(YEAR(Gerar_Upload!E1705),MONTH(Gerar_Upload!E1705),DAY(Gerar_Upload!E1705)),\"erro\")","v":"00:00:00"},{"$f":"IFERROR(Gerar_Upload!F1705,\"erro\")","v":0},{"$f":"IFERROR(IF(Gerar_Upload!G1705<44,REPT(0,44-LEN(Gerar_Upload!G1705))&Gerar_Upload!G1705,Gerar_Upload!G1705),\"erro\")","v":"00000000000000000000000000000000000000000000"}]
[{"$f":"IFERROR(LEFT(Gerar_Upload!A1706,120),\"erro\")","v":""},{"$f":"IFERROR(SUBSTITUTE(SUBSTITUTE(SUBSTITUTE(Gerar_Upload!B1706,\".\",\"\"),\"-\",\"\"),\"/\",\"\"),\"erro\")","v":""},{"$f":"IFERROR(Gerar_Upload!C1706,\"erro\")","v":0},{"$f":"IFERROR(Gerar_Upload!D1706,\"erro\")","v":0},{"$f":"IFERROR(DATE(YEAR(Gerar_Upload!E1706),MONTH(Gerar_Upload!E1706),DAY(Gerar_Upload!E1706)),\"erro\")","v":"00:00:00"},{"$f":"IFERROR(Gerar_Upload!F1706,\"erro\")","v":0},{"$f":"IFERROR(IF(Gerar_Upload!G1706<44,REPT(0,44-LEN(Gerar_Upload!G1706))&Gerar_Upload!G1706,Gerar_Upload!G1706),\"erro\")","v":"00000000000000000000000000000000000000000000"}]
[{"$f":"IFERROR(LEFT(Gerar_Upload!A1707,120),\"erro\")","v":""},{"$f":"IFERROR(SUBSTITUTE(SUBSTITUTE(SUBSTITUTE(Gerar_Upload!B1707,\".\",\"\"),\"-\",\"\"),\"/\",\"\"),\"erro\")","v":""},{"$f":"IFERROR(Gerar_Upload!C1707,\"erro\")","v":0},{"$f":"IFERROR(Gerar_Upload!D1707,\"erro\")","v":0},{"$f":"IFERROR(DATE(YEAR(Gerar_Upload!E1707),MONTH(Gerar_Upload!E1707),DAY(Gerar_Upload!E1707)),\"erro\")","v":"00:00:00"},{"$f":"IFERROR(Gerar_Upload!F1707,\"erro\")","v":0},{"$f":"IFERROR(IF(Gerar_Upload!G1707<44,REPT(0,44-LEN(Gerar_Upload!G1707))&Gerar_Upload!G1707,Gerar_Upload!G1707),\"erro\")","v":"00000000000000000000000000000000000000000000"}]
[{"$f":"IFERROR(LEFT(Gerar_Upload!A1708,120),\"erro\")","v":""},{"$f":"IFERROR(SUBSTITUTE(SUBSTITUTE(SUBSTITUTE(Gerar_Upload!B1708,\".\",\"\"),\"-\",\"\"),\"/\",\"\"),\"erro\")","v":""},{"$f":"IFERROR(Gerar_Upload!C1708,\"erro\")","v":0},{"$f":"IFERROR(Gerar_Upload!D1708,\"erro\")","v":0},{"$f":"IFERROR(DATE(YEAR(Gerar_Upload!E1708),MONTH(Gerar_Upload!E1708),DAY(Gerar_Upload!E1708)),\"erro\")","v":"00:00:00"},{"$f":"IFERROR(Gerar_Upload!F1708,\"erro\")","v":0},{"$f":"IFERROR(IF(Gerar_Upload!G1708<44,REPT(0,44-LEN(Gerar_Upload!G1708))&Gerar_Upload!G1708,Gerar_Upload!G1708),\"erro\")","v":"00000000000000000000000000000000000000000000"}]
[{"$f":"IFERROR(LEFT(Gerar_Upload!A1709,120),\"erro\")","v":""},{"$f":"IFERROR(SUBSTITUTE(SUBSTITUTE(SUBSTITUTE(Gerar_Upload!B1709,\".\",\"\"),\"-\",\"\"),\"/\",\"\"),\"erro\")","v":""},{"$f":"IFERROR(Gerar_Upload!C1709,\"erro\")","v":0},{"$f":"IFERROR(Gerar_Upload!D1709,\"erro\")","v":0},{"$f":"IFERROR(DATE(YEAR(Gerar_Upload!E1709),MONTH(Gerar_Upload!E1709),DAY(Gerar_Upload!E1709)),\"erro\")","v":"00:00:00"},{"$f":"IFERROR(Gerar_Upload!F1709,\"erro\")","v":0},{"$f":"IFERROR(IF(Gerar_Upload!G1709<44,REPT(0,44-LEN(Gerar_Upload!G1709))&Gerar_Upload!G1709,Gerar_Upload!G1709),\"erro\")","v":"00000000000000000000000000000000000000000000"}]
[{"$f":"IFERROR(LEFT(Gerar_Upload!A1710,120),\"erro\")","v":""},{"$f":"IFERROR(SUBSTITUTE(SUBSTITUTE(SUBSTITUTE(Gerar_Upload!B1710,\".\",\"\"),\"-\",\"\"),\"/\",\"\"),\"erro\")","v":""},{"$f":"IFERROR(Gerar_Upload!C1710,\"erro\")","v":0},{"$f":"IFERROR(Gerar_Upload!D1710,\"erro\")","v":0},{"$f":"IFERROR(DATE(YEAR(Gerar_Upload!E1710),MONTH(Gerar_Upload!E1710),DAY(Gerar_Upload!E1710)),\"erro\")","v":"00:00:00"},{"$f":"IFERROR(Gerar_Upload!F1710,\"erro\")","v":0},{"$f":"IFERROR(IF(Gerar_Upload!G1710<44,REPT(0,44-LEN(Gerar_Upload!G1710))&Gerar_Upload!G1710,Gerar_Upload!G1710),\"erro\")","v":"00000000000000000000000000000000000000000000"}]
[{"$f":"IFERROR(LEFT(Gerar_Upload!A1711,120),\"erro\")","v":""},{"$f":"IFERROR(SUBSTITUTE(SUBSTITUTE(SUBSTITUTE(Gerar_Upload!B1711,\".\",\"\"),\"-\",\"\"),\"/\",\"\"),\"erro\")","v":""},{"$f":"IFERROR(Gerar_Upload!C1711,\"erro\")","v":0},{"$f":"IFERROR(Gerar_Upload!D1711,\"erro\")","v":0},{"$f":"IFERROR(DATE(YEAR(Gerar_Upload!E1711),MONTH(Gerar_Upload!E1711),DAY(Gerar_Upload!E1711)),\"erro\")","v":"00:00:00"},{"$f":"IFERROR(Gerar_Upload!F1711,\"erro\")","v":0},{"$f":"IFERROR(IF(Gerar_Upload!G1711<44,REPT(0,44-LEN(Gerar_Upload!G1711))&Gerar_Upload!G1711,Gerar_Upload!G1711),\"erro\")","v":"00000000000000000000000000000000000000000000"}]
[{"$f":"IFERROR(LEFT(Gerar_Upload!A1712,120),\"erro\")","v":""},{"$f":"IFERROR(SUBSTITUTE(SUBSTITUTE(SUBSTITUTE(Gerar_Upload!B1712,\".\",\"\"),\"-\",\"\"),\"/\",\"\"),\"erro\")","v":""},{"$f":"IFERROR(Gerar_Upload!C1712,\"erro\")","v":0},{"$f":"IFERROR(Gerar_Upload!D1712,\"erro\")","v":0},{"$f":"IFERROR(DATE(YEAR(Gerar_Upload!E1712),MONTH(Gerar_Upload!E1712),DAY(Gerar_Upload!E1712)),\"erro\")","v":"00:00:00"},{"$f":"IFERROR(Gerar_Upload!F1712,\"erro\")","v":0},{"$f":"IFERROR(IF(Gerar_Upload!G1712<44,REPT(0,44-LEN(Gerar_Upload!G1712))&Gerar_Upload!G1712,Gerar_Upload!G1712),\"erro\")","v":"00000000000000000000000000000000000000000000"}]
[{"$f":"IFERROR(LEFT(Gerar_Upload!A1713,120),\"erro\")","v":""},{"$f":"IFERROR(SUBSTITUTE(SUBSTITUTE(SUBSTITUTE(Gerar_Upload!B1713,\".\",\"\"),\"-\",\"\"),\"/\",\"\"),\"erro\")","v":""},{"$f":"IFERROR(Gerar_Upload!C1713,\"erro\")","v":0},{"$f":"IFERROR(Gerar_Upload!D1713,\"erro\")","v":0},{"$f":"IFERROR(DATE(YEAR(Gerar_Upload!E1713),MONTH(Gerar_Upload!E1713),DAY(Gerar_Upload!E1713)),\"erro\")","v":"00:00:00"},{"$f":"IFERROR(Gerar_Upload!F1713,\"erro\")","v":0},{"$f":"IFERROR(IF(Gerar_Upload!G1713<44,REPT(0,44-LEN(Gerar_Upload!G1713))&Gerar_Upload!G1713,Gerar_Upload!G1713),\"erro\")","v":"00000000000000000000000000000000000000000000"}]
[{"$f":"IFERROR(LEFT(Gerar_Upload!A1714,120),\"erro\")","v":""},{"$f":"IFERROR(SUBSTITUTE(SUBSTITUTE(SUBSTITUTE(Gerar_Upload!B1714,\".\",\"\"),\"-\",\"\"),\"/\",\"\"),\"erro\")","v":""},{"$f":"IFERROR(Gerar_Upload!C1714,\"erro\")","v":0},{"$f":"IFERROR(Gerar_Upload!D1714,\"erro\")","v":0},{"$f":"IFERROR(DATE(YEAR(Gerar_Upload!E1714),MONTH(Gerar_Upload!E1714),DAY(Gerar_Upload!E1714)),\"erro\")","v":"00:00:00"},{"$f":"IFERROR(Gerar_Upload!F1714,\"erro\")","v":0},{"$f":"IFERROR(IF(Gerar_Upload!G1714<44,REPT(0,44-LEN(Gerar_Upload!G1714))&Gerar_Upload!G1714,Gerar_Upload!G1714),\"erro\")","v":"00000000000000000000000000000000000000000000"}]
[{"$f":"IFERROR(LEFT(Gerar_Upload!A1715,120),\"erro\")","v":""},{"$f":"IFERROR(SUBSTITUTE(SUBSTITUTE(SUBSTITUTE(Gerar_Upload!B1715,\".\",\"\"),\"-\",\"\"),\"/\",\"\"),\"erro\")","v":""},{"$f":"IFERROR(Gerar_Upload!C1715,\"erro\")","v":0},{"$f":"IFERROR(Gerar_Upload!D1715,\"erro\")","v":0},{"$f":"IFERROR(DATE(YEAR(Gerar_Upload!E1715),MONTH(Gerar_Upload!E1715),DAY(Gerar_Upload!E1715)),\"erro\")","v":"00:00:00"},{"$f":"IFERROR(Gerar_Upload!F1715,\"erro\")","v":0},{"$f":"IFERROR(IF(Gerar_Upload!G1715<44,REPT(0,44-LEN(Gerar_Upload!G1715))&Gerar_Upload!G1715,Gerar_Upload!G1715),\"erro\")","v":"00000000000000000000000000000000000000000000"}]
[{"$f":"IFERROR(LEFT(Gerar_Upload!A1716,120),\"erro\")","v":""},{"$f":"IFERROR(SUBSTITUTE(SUBSTITUTE(SUBSTITUTE(Gerar_Upload!B1716,\".\",\"\"),\"-\",\"\"),\"/\",\"\"),\"erro\")","v":""},{"$f":"IFERROR(Gerar_Upload!C1716,\"erro\")","v":0},{"$f":"IFERROR(Gerar_Upload!D1716,\"erro\")","v":0},{"$f":"IFERROR(DATE(YEAR(Gerar_Upload!E1716),MONTH(Gerar_Upload!E1716),DAY(Gerar_Upload!E1716)),\"erro\")","v":"00:00:00"},{"$f":"IFERROR(Gerar_Upload!F1716,\"erro\")","v":0},{"$f":"IFERROR(IF(Gerar_Upload!G1716<44,REPT(0,44-LEN(Gerar_Upload!G1716))&Gerar_Upload!G1716,Gerar_Upload!G1716),\"erro\")","v":"00000000000000000000000000000000000000000000"}]
[{"$f":"IFERROR(LEFT(Gerar_Upload!A1717,120),\"erro\")","v":""},{"$f":"IFERROR(SUBSTITUTE(SUBSTITUTE(SUBSTITUTE(Gerar_Upload!B1717,\".\",\"\"),\"-\",\"\"),\"/\",\"\"),\"erro\")","v":""},{"$f":"IFERROR(Gerar_Upload!C1717,\"erro\")","v":0},{"$f":"IFERROR(Gerar_Upload!D1717,\"erro\")","v":0},{"$f":"IFERROR(DATE(YEAR(Gerar_Upload!E1717),MONTH(Gerar_Upload!E1717),DAY(Gerar_Upload!E1717)),\"erro\")","v":"00:00:00"},{"$f":"IFERROR(Gerar_Upload!F1717,\"erro\")","v":0},{"$f":"IFERROR(IF(Gerar_Upload!G1717<44,REPT(0,44-LEN(Gerar_Upload!G1717))&Gerar_Upload!G1717,Gerar_Upload!G1717),\"erro\")","v":"00000000000000000000000000000000000000000000"}]
[{"$f":"IFERROR(LEFT(Gerar_Upload!A1718,120),\"erro\")","v":""},{"$f":"IFERROR(SUBSTITUTE(SUBSTITUTE(SUBSTITUTE(Gerar_Upload!B1718,\".\",\"\"),\"-\",\"\"),\"/\",\"\"),\"erro\")","v":""},{"$f":"IFERROR(Gerar_Upload!C1718,\"erro\")","v":0},{"$f":"IFERROR(Gerar_Upload!D1718,\"erro\")","v":0},{"$f":"IFERROR(DATE(YEAR(Gerar_Upload!E1718),MONTH(Gerar_Upload!E1718),DAY(Gerar_Upload!E1718)),\"erro\")","v":"00:00:00"},{"$f":"IFERROR(Gerar_Upload!F1718,\"erro\")","v":0},{"$f":"IFERROR(IF(Gerar_Upload!G1718<44,REPT(0,44-LEN(Gerar_Upload!G1718))&Gerar_Upload!G1718,Gerar_Upload!G1718),\"erro\")","v":"00000000000000000000000000000000000000000000"}]
[{"$f":"IFERROR(LEFT(Gerar_Upload!A1719,120),\"erro\")","v":""},{"$f":"IFERROR(SUBSTITUTE(SUBSTITUTE(SUBSTITUTE(Gerar_Upload!B1719,\".\",\"\"),\"-\",\"\"),\"/\",\"\"),\"erro\")","v":""},{"$f":"IFERROR(Gerar_Upload!C1719,\"erro\")","v":0},{"$f":"IFERROR(Gerar_Upload!D1719,\"erro\")","v":0},{"$f":"IFERROR(DATE(YEAR(Gerar_Upload!E1719),MONTH(Gerar_Upload!E1719),DAY(Gerar_Upload!E1719)),\"erro\")","v":"00:00:00"},{"$f":"IFERROR(Gerar_Upload!F1719,\"erro\")","v":0},{"$f":"IFERROR(IF(Gerar_Upload!G1719<44,REPT(0,44-LEN(Gerar_Upload!G1719))&Gerar_Upload!G1719,Gerar_Upload!G1719),\"erro\")","v":"00000000000000000000000000000000000000000000"}]
[{"$f":"IFERROR(LEFT(Gerar_Upload!A1720,120),\"erro\")","v":""},{"$f":"IFERROR(SUBSTITUTE(SUBSTITUTE(SUBSTITUTE(Gerar_Upload!B1720,\".\",\"\"),\"-\",\"\"),\"/\",\"\"),\"erro\")","v":""},{"$f":"IFERROR(Gerar_Upload!C1720,\"erro\")","v":0},{"$f":"IFERROR(Gerar_Upload!D1720,\"erro\")","v":0},{"$f":"IFERROR(DATE(YEAR(Gerar_Upload!E1720),MONTH(Gerar_Upload!E1720),DAY(Gerar_Upload!E1720)),\"erro\")","v":"00:00:00"},{"$f":"IFERROR(Gerar_Upload!F1720,\"erro\")","v":0},{"$f":"IFERROR(IF(Gerar_Upload!G1720<44,REPT(0,44-LEN(Gerar_Upload!G1720))&Gerar_Upload!G1720,Gerar_Upload!G1720),\"erro\")","v":"00000000000000000000000000000000000000000000"}]
[{"$f":"IFERROR(LEFT(Gerar_Upload!A1721,120),\"erro\")","v":""},{"$f":"IFERROR(SUBSTITUTE(SUBSTITUTE(SUBSTITUTE(Gerar_Upload!B1721,\".\",\"\"),\"-\",\"\"),\"/\",\"\"),\"erro\")","v":""},{"$f":"IFERROR(Gerar_Upload!C1721,\"erro\")","v":0},{"$f":"IFERROR(Gerar_Upload!D1721,\"erro\")","v":0},{"$f":"IFERROR(DATE(YEAR(Gerar_Upload!E1721),MONTH(Gerar_Upload!E1721),DAY(Gerar_Upload!E1721)),\"erro\")","v":"00:00:00"},{"$f":"IFERROR(Gerar_Upload!F1721,\"erro\")","v":0},{"$f":"IFERROR(IF(Gerar_Upload!G1721<44,REPT(0,44-LEN(Gerar_Upload!G1721))&Gerar_Upload!G1721,Gerar_Upload!G1721),\"erro\")","v":"00000000000000000000000000000000000000000000"}]
[{"$f":"IFERROR(LEFT(Gerar_Upload!A1722,120),\"erro\")","v":""},{"$f":"IFERROR(SUBSTITUTE(SUBSTITUTE(SUBSTITUTE(Gerar_Upload!B1722,\".\",\"\"),\"-\",\"\"),\"/\",\"\"),\"erro\")","v":""},{"$f":"IFERROR(Gerar_Upload!C1722,\"erro\")","v":0},{"$f":"IFERROR(Gerar_Upload!D1722,\"erro\")","v":0},{"$f":"IFERROR(DATE(YEAR(Gerar_Upload!E1722),MONTH(Gerar_Upload!E1722),DAY(Gerar_Upload!E1722)),\"erro\")","v":"00:00:00"},{"$f":"IFERROR(Gerar_Upload!F1722,\"erro\")","v":0},{"$f":"IFERROR(IF(Gerar_Upload!G1722<44,REPT(0,44-LEN(Gerar_Upload!G1722))&Gerar_Upload!G1722,Gerar_Upload!G1722),\"erro\")","v":"00000000000000000000000000000000000000000000"}]
[{"$f":"IFERROR(LEFT(Gerar_Upload!A1723,120),\"erro\")","v":""},{"$f":"IFERROR(SUBSTITUTE(SUBSTITUTE(SUBSTITUTE(Gerar_Upload!B1723,\".\",\"\"),\"-\",\"\"),\"/\",\"\"),\"erro\")","v":""},{"$f":"IFERROR(Gerar_Upload!C1723,\"erro\")","v":0},{"$f":"IFERROR(Gerar_Upload!D1723,\"erro\")","v":0},{"$f":"IFERROR(DATE(YEAR(Gerar_Upload!E1723),MONTH(Gerar_Upload!E1723),DAY(Gerar_Upload!E1723)),\"erro\")","v":"00:00:00"},{"$f":"IFERROR(Gerar_Upload!F1723,\"erro\")","v":0},{"$f":"IFERROR(IF(Gerar_Upload!G1723<44,REPT(0,44-LEN(Gerar_Upload!G1723))&Gerar_Upload!G1723,Gerar_Upload!G1723),\"erro\")","v":"00000000000000000000000000000000000000000000"}]
[{"$f":"IFERROR(LEFT(Gerar_Upload!A1724,120),\"erro\")","v":""},{"$f":"IFERROR(SUBSTITUTE(SUBSTITUTE(SUBSTITUTE(Gerar_Upload!B1724,\".\",\"\"),\"-\",\"\"),\"/\",\"\"),\"erro\")","v":""},{"$f":"IFERROR(Gerar_Upload!C1724,\"erro\")","v":0},{"$f":"IFERROR(Gerar_Upload!D1724,\"erro\")","v":0},{"$f":"IFERROR(DATE(YEAR(Gerar_Upload!E1724),MONTH(Gerar_Upload!E1724),DAY(Gerar_Upload!E1724)),\"erro\")","v":"00:00:00"},{"$f":"IFERROR(Gerar_Upload!F1724,\"erro\")","v":0},{"$f":"IFERROR(IF(Gerar_Upload!G1724<44,REPT(0,44-LEN(Gerar_Upload!G1724))&Gerar_Upload!G1724,Gerar_Upload!G1724),\"erro\")","v":"00000000000000000000000000000000000000000000"}]
[{"$f":"IFERROR(LEFT(Gerar_Upload!A1725,120),\"erro\")","v":""},{"$f":"IFERROR(SUBSTITUTE(SUBSTITUTE(SUBSTITUTE(Gerar_Upload!B1725,\".\",\"\"),\"-\",\"\"),\"/\",\"\"),\"erro\")","v":""},{"$f":"IFERROR(Gerar_Upload!C1725,\"erro\")","v":0},{"$f":"IFERROR(Gerar_Upload!D1725,\"erro\")","v":0},{"$f":"IFERROR(DATE(YEAR(Gerar_Upload!E1725),MONTH(Gerar_Upload!E1725),DAY(Gerar_Upload!E1725)),\"erro\")","v":"00:00:00"},{"$f":"IFERROR(Gerar_Upload!F1725,\"erro\")","v":0},{"$f":"IFERROR(IF(Gerar_Upload!G1725<44,REPT(0,44-LEN(Gerar_Upload!G1725))&Gerar_Upload!G1725,Gerar_Upload!G1725),\"erro\")","v":"00000000000000000000000000000000000000000000"}]
[{"$f":"IFERROR(LEFT(Gerar_Upload!A1726,120),\"erro\")","v":""},{"$f":"IFERROR(SUBSTITUTE(SUBSTITUTE(SUBSTITUTE(Gerar_Upload!B1726,\".\",\"\"),\"-\",\"\"),\"/\",\"\"),\"erro\")","v":""},{"$f":"IFERROR(Gerar_Upload!C1726,\"erro\")","v":0},{"$f":"IFERROR(Gerar_Upload!D1726,\"erro\")","v":0},{"$f":"IFERROR(DATE(YEAR(Gerar_Upload!E1726),MONTH(Gerar_Upload!E1726),DAY(Gerar_Upload!E1726)),\"erro\")","v":"00:00:00"},{"$f":"IFERROR(Gerar_Upload!F1726,\"erro\")","v":0},{"$f":"IFERROR(IF(Gerar_Upload!G1726<44,REPT(0,44-LEN(Gerar_Upload!G1726))&Gerar_Upload!G1726,Gerar_Upload!G1726),\"erro\")","v":"00000000000000000000000000000000000000000000"}]
[{"$f":"IFERROR(LEFT(Gerar_Upload!A1727,120),\"erro\")","v":""},{"$f":"IFERROR(SUBSTITUTE(SUBSTITUTE(SUBSTITUTE(Gerar_Upload!B1727,\".\",\"\"),\"-\",\"\"),\"/\",\"\"),\"erro\")","v":""},{"$f":"IFERROR(Gerar_Upload!C1727,\"erro\")","v":0},{"$f":"IFERROR(Gerar_Upload!D1727,\"erro\")","v":0},{"$f":"IFERROR(DATE(YEAR(Gerar_Upload!E1727),MONTH(Gerar_Upload!E1727),DAY(Gerar_Upload!E1727)),\"erro\")","v":"00:00:00"},{"$f":"IFERROR(Gerar_Upload!F1727,\"erro\")","v":0},{"$f":"IFERROR(IF(Gerar_Upload!G1727<44,REPT(0,44-LEN(Gerar_Upload!G1727))&Gerar_Upload!G1727,Gerar_Upload!G1727),\"erro\")","v":"00000000000000000000000000000000000000000000"}]
[{"$f":"IFERROR(LEFT(Gerar_Upload!A1728,120),\"erro\")","v":""},{"$f":"IFERROR(SUBSTITUTE(SUBSTITUTE(SUBSTITUTE(Gerar_Upload!B1728,\".\",\"\"),\"-\",\"\"),\"/\",\"\"),\"erro\")","v":""},{"$f":"IFERROR(Gerar_Upload!C1728,\"erro\")","v":0},{"$f":"IFERROR(Gerar_Upload!D1728,\"erro\")","v":0},{"$f":"IFERROR(DATE(YEAR(Gerar_Upload!E1728),MONTH(Gerar_Upload!E1728),DAY(Gerar_Upload!E1728)),\"erro\")","v":"00:00:00"},{"$f":"IFERROR(Gerar_Upload!F1728,\"erro\")","v":0},{"$f":"IFERROR(IF(Gerar_Upload!G1728<44,REPT(0,44-LEN(Gerar_Upload!G1728))&Gerar_Upload!G1728,Gerar_Upload!G1728),\"erro\")","v":"00000000000000000000000000000000000000000000"}]
[{"$f":"IFERROR(LEFT(Gerar_Upload!A1729,120),\"erro\")","v":""},{"$f":"IFERROR(SUBSTITUTE(SUBSTITUTE(SUBSTITUTE(Gerar_Upload!B1729,\".\",\"\"),\"-\",\"\"),\"/\",\"\"),\"erro\")","v":""},{"$f":"IFERROR(Gerar_Upload!C1729,\"erro\")","v":0},{"$f":"IFERROR(Gerar_Upload!D1729,\"erro\")","v":0},{"$f":"IFERROR(DATE(YEAR(Gerar_Upload!E1729),MONTH(Gerar_Upload!E1729),DAY(Gerar_Upload!E1729)),\"erro\")","v":"00:00:00"},{"$f":"IFERROR(Gerar_Upload!F1729,\"erro\")","v":0},{"$f":"IFERROR(IF(Gerar_Upload!G1729<44,REPT(0,44-LEN(Gerar_Upload!G1729))&Gerar_Upload!G1729,Gerar_Upload!G1729),\"erro\")","v":"00000000000000000000000000000000000000000000"}]
[{"$f":"IFERROR(LEFT(Gerar_Upload!A1730,120),\"erro\")","v":""},{"$f":"IFERROR(SUBSTITUTE(SUBSTITUTE(SUBSTITUTE(Gerar_Upload!B1730,\".\",\"\"),\"-\",\"\"),\"/\",\"\"),\"erro\")","v":""},{"$f":"IFERROR(Gerar_Upload!C1730,\"erro\")","v":0},{"$f":"IFERROR(Gerar_Upload!D1730,\"erro\")","v":0},{"$f":"IFERROR(DATE(YEAR(Gerar_Upload!E1730),MONTH(Gerar_Upload!E1730),DAY(Gerar_Upload!E1730)),\"erro\")","v":"00:00:00"},{"$f":"IFERROR(Gerar_Upload!F1730,\"erro\")","v":0},{"$f":"IFERROR(IF(Gerar_Upload!G1730<44,REPT(0,44-LEN(Gerar_Upload!G1730))&Gerar_Upload!G1730,Gerar_Upload!G1730),\"erro\")","v":"00000000000000000000000000000000000000000000"}]
[{"$f":"IFERROR(LEFT(Gerar_Upload!A1731,120),\"erro\")","v":""},{"$f":"IFERROR(SUBSTITUTE(SUBSTITUTE(SUBSTITUTE(Gerar_Upload!B1731,\".\",\"\"),\"-\",\"\"),\"/\",\"\"),\"erro\")","v":""},{"$f":"IFERROR(Gerar_Upload!C1731,\"erro\")","v":0},{"$f":"IFERROR(Gerar_Upload!D1731,\"erro\")","v":0},{"$f":"IFERROR(DATE(YEAR(Gerar_Upload!E1731),MONTH(Gerar_Upload!E1731),DAY(Gerar_Upload!E1731)),\"erro\")","v":"00:00:00"},{"$f":"IFERROR(Gerar_Upload!F1731,\"erro\")","v":0},{"$f":"IFERROR(IF(Gerar_Upload!G1731<44,REPT(0,44-LEN(Gerar_Upload!G1731))&Gerar_Upload!G1731,Gerar_Upload!G1731),\"erro\")","v":"00000000000000000000000000000000000000000000"}]
[{"$f":"IFERROR(LEFT(Gerar_Upload!A1732,120),\"erro\")","v":""},{"$f":"IFERROR(SUBSTITUTE(SUBSTITUTE(SUBSTITUTE(Gerar_Upload!B1732,\".\",\"\"),\"-\",\"\"),\"/\",\"\"),\"erro\")","v":""},{"$f":"IFERROR(Gerar_Upload!C1732,\"erro\")","v":0},{"$f":"IFERROR(Gerar_Upload!D1732,\"erro\")","v":0},{"$f":"IFERROR(DATE(YEAR(Gerar_Upload!E1732),MONTH(Gerar_Upload!E1732),DAY(Gerar_Upload!E1732)),\"erro\")","v":"00:00:00"},{"$f":"IFERROR(Gerar_Upload!F1732,\"erro\")","v":0},{"$f":"IFERROR(IF(Gerar_Upload!G1732<44,REPT(0,44-LEN(Gerar_Upload!G1732))&Gerar_Upload!G1732,Gerar_Upload!G1732),\"erro\")","v":"00000000000000000000000000000000000000000000"}]
[{"$f":"IFERROR(LEFT(Gerar_Upload!A1733,120),\"erro\")","v":""},{"$f":"IFERROR(SUBSTITUTE(SUBSTITUTE(SUBSTITUTE(Gerar_Upload!B1733,\".\",\"\"),\"-\",\"\"),\"/\",\"\"),\"erro\")","v":""},{"$f":"IFERROR(Gerar_Upload!C1733,\"erro\")","v":0},{"$f":"IFERROR(Gerar_Upload!D1733,\"erro\")","v":0},{"$f":"IFERROR(DATE(YEAR(Gerar_Upload!E1733),MONTH(Gerar_Upload!E1733),DAY(Gerar_Upload!E1733)),\"erro\")","v":"00:00:00"},{"$f":"IFERROR(Gerar_Upload!F1733,\"erro\")","v":0},{"$f":"IFERROR(IF(Gerar_Upload!G1733<44,REPT(0,44-LEN(Gerar_Upload!G1733))&Gerar_Upload!G1733,Gerar_Upload!G1733),\"erro\")","v":"00000000000000000000000000000000000000000000"}]
[{"$f":"IFERROR(LEFT(Gerar_Upload!A1734,120),\"erro\")","v":""},{"$f":"IFERROR(SUBSTITUTE(SUBSTITUTE(SUBSTITUTE(Gerar_Upload!B1734,\".\",\"\"),\"-\",\"\"),\"/\",\"\"),\"erro\")","v":""},{"$f":"IFERROR(Gerar_Upload!C1734,\"erro\")","v":0},{"$f":"IFERROR(Gerar_Upload!D1734,\"erro\")","v":0},{"$f":"IFERROR(DATE(YEAR(Gerar_Upload!E1734),MONTH(Gerar_Upload!E1734),DAY(Gerar_Upload!E1734)),\"erro\")","v":"00:00:00"},{"$f":"IFERROR(Gerar_Upload!F1734,\"erro\")","v":0},{"$f":"IFERROR(IF(Gerar_Upload!G1734<44,REPT(0,44-LEN(Gerar_Upload!G1734))&Gerar_Upload!G1734,Gerar_Upload!G1734),\"erro\")","v":"00000000000000000000000000000000000000000000"}]
[{"$f":"IFERROR(LEFT(Gerar_Upload!A1735,120),\"erro\")","v":""},{"$f":"IFERROR(SUBSTITUTE(SUBSTITUTE(SUBSTITUTE(Gerar_Upload!B1735,\".\",\"\"),\"-\",\"\"),\"/\",\"\"),\"erro\")","v":""},{"$f":"IFERROR(Gerar_Upload!C1735,\"erro\")","v":0},{"$f":"IFERROR(Gerar_Upload!D1735,\"erro\")","v":0},{"$f":"IFERROR(DATE(YEAR(Gerar_Upload!E1735),MONTH(Gerar_Upload!E1735),DAY(Gerar_Upload!E1735)),\"erro\")","v":"00:00:00"},{"$f":"IFERROR(Gerar_Upload!F1735,\"erro\")","v":0},{"$f":"IFERROR(IF(Gerar_Upload!G1735<44,REPT(0,44-LEN(Gerar_Upload!G1735))&Gerar_Upload!G1735,Gerar_Upload!G1735),\"erro\")","v":"00000000000000000000000000000000000000000000"}]
[{"$f":"IFERROR(LEFT(Gerar_Upload!A1736,120),\"erro\")","v":""},{"$f":"IFERROR(SUBSTITUTE(SUBSTITUTE(SUBSTITUTE(Gerar_Upload!B1736,\".\",\"\"),\"-\",\"\"),\"/\",\"\"),\"erro\")","v":""},{"$f":"IFERROR(Gerar_Upload!C1736,\"erro\")","v":0},{"$f":"IFERROR(Gerar_Upload!D1736,\"erro\")","v":0},{"$f":"IFERROR(DATE(YEAR(Gerar_Upload!E1736),MONTH(Gerar_Upload!E1736),DAY(Gerar_Upload!E1736)),\"erro\")","v":"00:00:00"},{"$f":"IFERROR(Gerar_Upload!F1736,\"erro\")","v":0},{"$f":"IFERROR(IF(Gerar_Upload!G1736<44,REPT(0,44-LEN(Gerar_Upload!G1736))&Gerar_Upload!G1736,Gerar_Upload!G1736),\"erro\")","v":"00000000000000000000000000000000000000000000"}]
[{"$f":"IFERROR(LEFT(Gerar_Upload!A1737,120),\"erro\")","v":""},{"$f":"IFERROR(SUBSTITUTE(SUBSTITUTE(SUBSTITUTE(Gerar_Upload!B1737,\".\",\"\"),\"-\",\"\"),\"/\",\"\"),\"erro\")","v":""},{"$f":"IFERROR(Gerar_Upload!C1737,\"erro\")","v":0},{"$f":"IFERROR(Gerar_Upload!D1737,\"erro\")","v":0},{"$f":"IFERROR(DATE(YEAR(Gerar_Upload!E1737),MONTH(Gerar_Upload!E1737),DAY(Gerar_Upload!E1737)),\"erro\")","v":"00:00:00"},{"$f":"IFERROR(Gerar_Upload!F1737,\"erro\")","v":0},{"$f":"IFERROR(IF(Gerar_Upload!G1737<44,REPT(0,44-LEN(Gerar_Upload!G1737))&Gerar_Upload!G1737,Gerar_Upload!G1737),\"erro\")","v":"00000000000000000000000000000000000000000000"}]
[{"$f":"IFERROR(LEFT(Gerar_Upload!A1738,120),\"erro\")","v":""},{"$f":"IFERROR(SUBSTITUTE(SUBSTITUTE(SUBSTITUTE(Gerar_Upload!B1738,\".\",\"\"),\"-\",\"\"),\"/\",\"\"),\"erro\")","v":""},{"$f":"IFERROR(Gerar_Upload!C1738,\"erro\")","v":0},{"$f":"IFERROR(Gerar_Upload!D1738,\"erro\")","v":0},{"$f":"IFERROR(DATE(YEAR(Gerar_Upload!E1738),MONTH(Gerar_Upload!E1738),DAY(Gerar_Upload!E1738)),\"erro\")","v":"00:00:00"},{"$f":"IFERROR(Gerar_Upload!F1738,\"erro\")","v":0},{"$f":"IFERROR(IF(Gerar_Upload!G1738<44,REPT(0,44-LEN(Gerar_Upload!G1738))&Gerar_Upload!G1738,Gerar_Upload!G1738),\"erro\")","v":"00000000000000000000000000000000000000000000"}]
[{"$f":"IFERROR(LEFT(Gerar_Upload!A1739,120),\"erro\")","v":""},{"$f":"IFERROR(SUBSTITUTE(SUBSTITUTE(SUBSTITUTE(Gerar_Upload!B1739,\".\",\"\"),\"-\",\"\"),\"/\",\"\"),\"erro\")","v":""},{"$f":"IFERROR(Gerar_Upload!C1739,\"erro\")","v":0},{"$f":"IFERROR(Gerar_Upload!D1739,\"erro\")","v":0},{"$f":"IFERROR(DATE(YEAR(Gerar_Upload!E1739),MONTH(Gerar_Upload!E1739),DAY(Gerar_Upload!E1739)),\"erro\")","v":"00:00:00"},{"$f":"IFERROR(Gerar_Upload!F1739,\"erro\")","v":0},{"$f":"IFERROR(IF(Gerar_Upload!G1739<44,REPT(0,44-LEN(Gerar_Upload!G1739))&Gerar_Upload!G1739,Gerar_Upload!G1739),\"erro\")","v":"00000000000000000000000000000000000000000000"}]
[{"$f":"IFERROR(LEFT(Gerar_Upload!A1740,120),\"erro\")","v":""},{"$f":"IFERROR(SUBSTITUTE(SUBSTITUTE(SUBSTITUTE(Gerar_Upload!B1740,\".\",\"\"),\"-\",\"\"),\"/\",\"\"),\"erro\")","v":""},{"$f":"IFERROR(Gerar_Upload!C1740,\"erro\")","v":0},{"$f":"IFERROR(Gerar_Upload!D1740,\"erro\")","v":0},{"$f":"IFERROR(DATE(YEAR(Gerar_Upload!E1740),MONTH(Gerar_Upload!E1740),DAY(Gerar_Upload!E1740)),\"erro\")","v":"00:00:00"},{"$f":"IFERROR(Gerar_Upload!F1740,\"erro\")","v":0},{"$f":"IFERROR(IF(Gerar_Upload!G1740<44,REPT(0,44-LEN(Gerar_Upload!G1740))&Gerar_Upload!G1740,Gerar_Upload!G1740),\"erro\")","v":"00000000000000000000000000000000000000000000"}]
[{"$f":"IFERROR(LEFT(Gerar_Upload!A1741,120),\"erro\")","v":""},{"$f":"IFERROR(SUBSTITUTE(SUBSTITUTE(SUBSTITUTE(Gerar_Upload!B1741,\".\",\"\"),\"-\",\"\"),\"/\",\"\"),\"erro\")","v":""},{"$f":"IFERROR(Gerar_Upload!C1741,\"erro\")","v":0},{"$f":"IFERROR(Gerar_Upload!D1741,\"erro\")","v":0},{"$f":"IFERROR(DATE(YEAR(Gerar_Upload!E1741),MONTH(Gerar_Upload!E1741),DAY(Gerar_Upload!E1741)),\"erro\")","v":"00:00:00"},{"$f":"IFERROR(Gerar_Upload!F1741,\"erro\")","v":0},{"$f":"IFERROR(IF(Gerar_Upload!G1741<44,REPT(0,44-LEN(Gerar_Upload!G1741))&Gerar_Upload!G1741,Gerar_Upload!G1741),\"erro\")","v":"00000000000000000000000000000000000000000000"}]
[{"$f":"IFERROR(LEFT(Gerar_Upload!A1742,120),\"erro\")","v":""},{"$f":"IFERROR(SUBSTITUTE(SUBSTITUTE(SUBSTITUTE(Gerar_Upload!B1742,\".\",\"\"),\"-\",\"\"),\"/\",\"\"),\"erro\")","v":""},{"$f":"IFERROR(Gerar_Upload!C1742,\"erro\")","v":0},{"$f":"IFERROR(Gerar_Upload!D1742,\"erro\")","v":0},{"$f":"IFERROR(DATE(YEAR(Gerar_Upload!E1742),MONTH(Gerar_Upload!E1742),DAY(Gerar_Upload!E1742)),\"erro\")","v":"00:00:00"},{"$f":"IFERROR(Gerar_Upload!F1742,\"erro\")","v":0},{"$f":"IFERROR(IF(Gerar_Upload!G1742<44,REPT(0,44-LEN(Gerar_Upload!G1742))&Gerar_Upload!G1742,Gerar_Upload!G1742),\"erro\")","v":"00000000000000000000000000000000000000000000"}]
[{"$f":"IFERROR(LEFT(Gerar_Upload!A1743,120),\"erro\")","v":""},{"$f":"IFERROR(SUBSTITUTE(SUBSTITUTE(SUBSTITUTE(Gerar_Upload!B1743,\".\",\"\"),\"-\",\"\"),\"/\",\"\"),\"erro\")","v":""},{"$f":"IFERROR(Gerar_Upload!C1743,\"erro\")","v":0},{"$f":"IFERROR(Gerar_Upload!D1743,\"erro\")","v":0},{"$f":"IFERROR(DATE(YEAR(Gerar_Upload!E1743),MONTH(Gerar_Upload!E1743),DAY(Gerar_Upload!E1743)),\"erro\")","v":"00:00:00"},{"$f":"IFERROR(Gerar_Upload!F1743,\"erro\")","v":0},{"$f":"IFERROR(IF(Gerar_Upload!G1743<44,REPT(0,44-LEN(Gerar_Upload!G1743))&Gerar_Upload!G1743,Gerar_Upload!G1743),\"erro\")","v":"00000000000000000000000000000000000000000000"}]
[{"$f":"IFERROR(LEFT(Gerar_Upload!A1744,120),\"erro\")","v":""},{"$f":"IFERROR(SUBSTITUTE(SUBSTITUTE(SUBSTITUTE(Gerar_Upload!B1744,\".\",\"\"),\"-\",\"\"),\"/\",\"\"),\"erro\")","v":""},{"$f":"IFERROR(Gerar_Upload!C1744,\"erro\")","v":0},{"$f":"IFERROR(Gerar_Upload!D1744,\"erro\")","v":0},{"$f":"IFERROR(DATE(YEAR(Gerar_Upload!E1744),MONTH(Gerar_Upload!E1744),DAY(Gerar_Upload!E1744)),\"erro\")","v":"00:00:00"},{"$f":"IFERROR(Gerar_Upload!F1744,\"erro\")","v":0},{"$f":"IFERROR(IF(Gerar_Upload!G1744<44,REPT(0,44-LEN(Gerar_Upload!G1744))&Gerar_Upload!G1744,Gerar_Upload!G1744),\"erro\")","v":"00000000000000000000000000000000000000000000"}]
[{"$f":"IFERROR(LEFT(Gerar_Upload!A1745,120),\"erro\")","v":""},{"$f":"IFERROR(SUBSTITUTE(SUBSTITUTE(SUBSTITUTE(Gerar_Upload!B1745,\".\",\"\"),\"-\",\"\"),\"/\",\"\"),\"erro\")","v":""},{"$f":"IFERROR(Gerar_Upload!C1745,\"erro\")","v":0},{"$f":"IFERROR(Gerar_Upload!D1745,\"erro\")","v":0},{"$f":"IFERROR(DATE(YEAR(Gerar_Upload!E1745),MONTH(Gerar_Upload!E1745),DAY(Gerar_Upload!E1745)),\"erro\")","v":"00:00:00"},{"$f":"IFERROR(Gerar_Upload!F1745,\"erro\")","v":0},{"$f":"IFERROR(IF(Gerar_Upload!G1745<44,REPT(0,44-LEN(Gerar_Upload!G1745))&Gerar_Upload!G1745,Gerar_Upload!G1745),\"erro\")","v":"00000000000000000000000000000000000000000000"}]
[{"$f":"IFERROR(LEFT(Gerar_Upload!A1746,120),\"erro\")","v":""},{"$f":"IFERROR(SUBSTITUTE(SUBSTITUTE(SUBSTITUTE(Gerar_Upload!B1746,\".\",\"\"),\"-\",\"\"),\"/\",\"\"),\"erro\")","v":""},{"$f":"IFERROR(Gerar_Upload!C1746,\"erro\")","v":0},{"$f":"IFERROR(Gerar_Upload!D1746,\"erro\")","v":0},{"$f":"IFERROR(DATE(YEAR(Gerar_Upload!E1746),MONTH(Gerar_Upload!E1746),DAY(Gerar_Upload!E1746)),\"erro\")","v":"00:00:00"},{"$f":"IFERROR(Gerar_Upload!F1746,\"erro\")","v":0},{"$f":"IFERROR(IF(Gerar_Upload!G1746<44,REPT(0,44-LEN(Gerar_Upload!G1746))&Gerar_Upload!G1746,Gerar_Upload!G1746),\"erro\")","v":"00000000000000000000000000000000000000000000"}]
[{"$f":"IFERROR(LEFT(Gerar_Upload!A1747,120),\"erro\")","v":""},{"$f":"IFERROR(SUBSTITUTE(SUBSTITUTE(SUBSTITUTE(Gerar_Upload!B1747,\".\",\"\"),\"-\",\"\"),\"/\",\"\"),\"erro\")","v":""},{"$f":"IFERROR(Gerar_Upload!C1747,\"erro\")","v":0},{"$f":"IFERROR(Gerar_Upload!D1747,\"erro\")","v":0},{"$f":"IFERROR(DATE(YEAR(Gerar_Upload!E1747),MONTH(Gerar_Upload!E1747),DAY(Gerar_Upload!E1747)),\"erro\")","v":"00:00:00"},{"$f":"IFERROR(Gerar_Upload!F1747,\"erro\")","v":0},{"$f":"IFERROR(IF(Gerar_Upload!G1747<44,REPT(0,44-LEN(Gerar_Upload!G1747))&Gerar_Upload!G1747,Gerar_Upload!G1747),\"erro\")","v":"00000000000000000000000000000000000000000000"}]
[{"$f":"IFERROR(LEFT(Gerar_Upload!A1748,120),\"erro\")","v":""},{"$f":"IFERROR(SUBSTITUTE(SUBSTITUTE(SUBSTITUTE(Gerar_Upload!B1748,\".\",\"\"),\"-\",\"\"),\"/\",\"\"),\"erro\")","v":""},{"$f":"IFERROR(Gerar_Upload!C1748,\"erro\")","v":0},{"$f":"IFERROR(Gerar_Upload!D1748,\"erro\")","v":0},{"$f":"IFERROR(DATE(YEAR(Gerar_Upload!E1748),MONTH(Gerar_Upload!E1748),DAY(Gerar_Upload!E1748)),\"erro\")","v":"00:00:00"},{"$f":"IFERROR(Gerar_Upload!F1748,\"erro\")","v":0},{"$f":"IFERROR(IF(Gerar_Upload!G1748<44,REPT(0,44-LEN(Gerar_Upload!G1748))&Gerar_Upload!G1748,Gerar_Upload!G1748),\"erro\")","v":"00000000000000000000000000000000000000000000"}]
[{"$f":"IFERROR(LEFT(Gerar_Upload!A1749,120),\"erro\")","v":""},{"$f":"IFERROR(SUBSTITUTE(SUBSTITUTE(SUBSTITUTE(Gerar_Upload!B1749,\".\",\"\"),\"-\",\"\"),\"/\",\"\"),\"erro\")","v":""},{"$f":"IFERROR(Gerar_Upload!C1749,\"erro\")","v":0},{"$f":"IFERROR(Gerar_Upload!D1749,\"erro\")","v":0},{"$f":"IFERROR(DATE(YEAR(Gerar_Upload!E1749),MONTH(Gerar_Upload!E1749),DAY(Gerar_Upload!E1749)),\"erro\")","v":"00:00:00"},{"$f":"IFERROR(Gerar_Upload!F1749,\"erro\")","v":0},{"$f":"IFERROR(IF(Gerar_Upload!G1749<44,REPT(0,44-LEN(Gerar_Upload!G1749))&Gerar_Upload!G1749,Gerar_Upload!G1749),\"erro\")","v":"00000000000000000000000000000000000000000000"}]
[{"$f":"IFERROR(LEFT(Gerar_Upload!A1750,120),\"erro\")","v":""},{"$f":"IFERROR(SUBSTITUTE(SUBSTITUTE(SUBSTITUTE(Gerar_Upload!B1750,\".\",\"\"),\"-\",\"\"),\"/\",\"\"),\"erro\")","v":""},{"$f":"IFERROR(Gerar_Upload!C1750,\"erro\")","v":0},{"$f":"IFERROR(Gerar_Upload!D1750,\"erro\")","v":0},{"$f":"IFERROR(DATE(YEAR(Gerar_Upload!E1750),MONTH(Gerar_Upload!E1750),DAY(Gerar_Upload!E1750)),\"erro\")","v":"00:00:00"},{"$f":"IFERROR(Gerar_Upload!F1750,\"erro\")","v":0},{"$f":"IFERROR(IF(Gerar_Upload!G1750<44,REPT(0,44-LEN(Gerar_Upload!G1750))&Gerar_Upload!G1750,Gerar_Upload!G1750),\"erro\")","v":"00000000000000000000000000000000000000000000"}]
[{"$f":"IFERROR(LEFT(Gerar_Upload!A1751,120),\"erro\")","v":""},{"$f":"IFERROR(SUBSTITUTE(SUBSTITUTE(SUBSTITUTE(Gerar_Upload!B1751,\".\",\"\"),\"-\",\"\"),\"/\",\"\"),\"erro\")","v":""},{"$f":"IFERROR(Gerar_Upload!C1751,\"erro\")","v":0},{"$f":"IFERROR(Gerar_Upload!D1751,\"erro\")","v":0},{"$f":"IFERROR(DATE(YEAR(Gerar_Upload!E1751),MONTH(Gerar_Upload!E1751),DAY(Gerar_Upload!E1751)),\"erro\")","v":"00:00:00"},{"$f":"IFERROR(Gerar_Upload!F1751,\"erro\")","v":0},{"$f":"IFERROR(IF(Gerar_Upload!G1751<44,REPT(0,44-LEN(Gerar_Upload!G1751))&Gerar_Upload!G1751,Gerar_Upload!G1751),\"erro\")","v":"00000000000000000000000000000000000000000000"}]
[{"$f":"IFERROR(LEFT(Gerar_Upload!A1752,120),\"erro\")","v":""},{"$f":"IFERROR(SUBSTITUTE(SUBSTITUTE(SUBSTITUTE(Gerar_Upload!B1752,\".\",\"\"),\"-\",\"\"),\"/\",\"\"),\"erro\")","v":""},{"$f":"IFERROR(Gerar_Upload!C1752,\"erro\")","v":0},{"$f":"IFERROR(Gerar_Upload!D1752,\"erro\")","v":0},{"$f":"IFERROR(DATE(YEAR(Gerar_Upload!E1752),MONTH(Gerar_Upload!E1752),DAY(Gerar_Upload!E1752)),\"erro\")","v":"00:00:00"},{"$f":"IFERROR(Gerar_Upload!F1752,\"erro\")","v":0},{"$f":"IFERROR(IF(Gerar_Upload!G1752<44,REPT(0,44-LEN(Gerar_Upload!G1752))&Gerar_Upload!G1752,Gerar_Upload!G1752),\"erro\")","v":"00000000000000000000000000000000000000000000"}]
[{"$f":"IFERROR(LEFT(Gerar_Upload!A1753,120),\"erro\")","v":""},{"$f":"IFERROR(SUBSTITUTE(SUBSTITUTE(SUBSTITUTE(Gerar_Upload!B1753,\".\",\"\"),\"-\",\"\"),\"/\",\"\"),\"erro\")","v":""},{"$f":"IFERROR(Gerar_Upload!C1753,\"erro\")","v":0},{"$f":"IFERROR(Gerar_Upload!D1753,\"erro\")","v":0},{"$f":"IFERROR(DATE(YEAR(Gerar_Upload!E1753),MONTH(Gerar_Upload!E1753),DAY(Gerar_Upload!E1753)),\"erro\")","v":"00:00:00"},{"$f":"IFERROR(Gerar_Upload!F1753,\"erro\")","v":0},{"$f":"IFERROR(IF(Gerar_Upload!G1753<44,REPT(0,44-LEN(Gerar_Upload!G1753))&Gerar_Upload!G1753,Gerar_Upload!G1753),\"erro\")","v":"00000000000000000000000000000000000000000000"}]
[{"$f":"IFERROR(LEFT(Gerar_Upload!A1754,120),\"erro\")","v":""},{"$f":"IFERROR(SUBSTITUTE(SUBSTITUTE(SUBSTITUTE(Gerar_Upload!B1754,\".\",\"\"),\"-\",\"\"),\"/\",\"\"),\"erro\")","v":""},{"$f":"IFERROR(Gerar_Upload!C1754,\"erro\")","v":0},{"$f":"IFERROR(Gerar_Upload!D1754,\"erro\")","v":0},{"$f":"IFERROR(DATE(YEAR(Gerar_Upload!E1754),MONTH(Gerar_Upload!E1754),DAY(Gerar_Upload!E1754)),\"erro\")","v":"00:00:00"},{"$f":"IFERROR(Gerar_Upload!F1754,\"erro\")","v":0},{"$f":"IFERROR(IF(Gerar_Upload!G1754<44,REPT(0,44-LEN(Gerar_Upload!G1754))&Gerar_Upload!G1754,Gerar_Upload!G1754),\"erro\")","v":"00000000000000000000000000000000000000000000"}]
[{"$f":"IFERROR(LEFT(Gerar_Upload!A1755,120),\"erro\")","v":""},{"$f":"IFERROR(SUBSTITUTE(SUBSTITUTE(SUBSTITUTE(Gerar_Upload!B1755,\".\",\"\"),\"-\",\"\"),\"/\",\"\"),\"erro\")","v":""},{"$f":"IFERROR(Gerar_Upload!C1755,\"erro\")","v":0},{"$f":"IFERROR(Gerar_Upload!D1755,\"erro\")","v":0},{"$f":"IFERROR(DATE(YEAR(Gerar_Upload!E1755),MONTH(Gerar_Upload!E1755),DAY(Gerar_Upload!E1755)),\"erro\")","v":"00:00:00"},{"$f":"IFERROR(Gerar_Upload!F1755,\"erro\")","v":0},{"$f":"IFERROR(IF(Gerar_Upload!G1755<44,REPT(0,44-LEN(Gerar_Upload!G1755))&Gerar_Upload!G1755,Gerar_Upload!G1755),\"erro\")","v":"00000000000000000000000000000000000000000000"}]
[{"$f":"IFERROR(LEFT(Gerar_Upload!A1756,120),\"erro\")","v":""},{"$f":"IFERROR(SUBSTITUTE(SUBSTITUTE(SUBSTITUTE(Gerar_Upload!B1756,\".\",\"\"),\"-\",\"\"),\"/\",\"\"),\"erro\")","v":""},{"$f":"IFERROR(Gerar_Upload!C1756,\"erro\")","v":0},{"$f":"IFERROR(Gerar_Upload!D1756,\"erro\")","v":0},{"$f":"IFERROR(DATE(YEAR(Gerar_Upload!E1756),MONTH(Gerar_Upload!E1756),DAY(Gerar_Upload!E1756)),\"erro\")","v":"00:00:00"},{"$f":"IFERROR(Gerar_Upload!F1756,\"erro\")","v":0},{"$f":"IFERROR(IF(Gerar_Upload!G1756<44,REPT(0,44-LEN(Gerar_Upload!G1756))&Gerar_Upload!G1756,Gerar_Upload!G1756),\"erro\")","v":"00000000000000000000000000000000000000000000"}]
[{"$f":"IFERROR(LEFT(Gerar_Upload!A1757,120),\"erro\")","v":""},{"$f":"IFERROR(SUBSTITUTE(SUBSTITUTE(SUBSTITUTE(Gerar_Upload!B1757,\".\",\"\"),\"-\",\"\"),\"/\",\"\"),\"erro\")","v":""},{"$f":"IFERROR(Gerar_Upload!C1757,\"erro\")","v":0},{"$f":"IFERROR(Gerar_Upload!D1757,\"erro\")","v":0},{"$f":"IFERROR(DATE(YEAR(Gerar_Upload!E1757),MONTH(Gerar_Upload!E1757),DAY(Gerar_Upload!E1757)),\"erro\")","v":"00:00:00"},{"$f":"IFERROR(Gerar_Upload!F1757,\"erro\")","v":0},{"$f":"IFERROR(IF(Gerar_Upload!G1757<44,REPT(0,44-LEN(Gerar_Upload!G1757))&Gerar_Upload!G1757,Gerar_Upload!G1757),\"erro\")","v":"00000000000000000000000000000000000000000000"}]
[{"$f":"IFERROR(LEFT(Gerar_Upload!A1758,120),\"erro\")","v":""},{"$f":"IFERROR(SUBSTITUTE(SUBSTITUTE(SUBSTITUTE(Gerar_Upload!B1758,\".\",\"\"),\"-\",\"\"),\"/\",\"\"),\"erro\")","v":""},{"$f":"IFERROR(Gerar_Upload!C1758,\"erro\")","v":0},{"$f":"IFERROR(Gerar_Upload!D1758,\"erro\")","v":0},{"$f":"IFERROR(DATE(YEAR(Gerar_Upload!E1758),MONTH(Gerar_Upload!E1758),DAY(Gerar_Upload!E1758)),\"erro\")","v":"00:00:00"},{"$f":"IFERROR(Gerar_Upload!F1758,\"erro\")","v":0},{"$f":"IFERROR(IF(Gerar_Upload!G1758<44,REPT(0,44-LEN(Gerar_Upload!G1758))&Gerar_Upload!G1758,Gerar_Upload!G1758),\"erro\")","v":"00000000000000000000000000000000000000000000"}]
[{"$f":"IFERROR(LEFT(Gerar_Upload!A1759,120),\"erro\")","v":""},{"$f":"IFERROR(SUBSTITUTE(SUBSTITUTE(SUBSTITUTE(Gerar_Upload!B1759,\".\",\"\"),\"-\",\"\"),\"/\",\"\"),\"erro\")","v":""},{"$f":"IFERROR(Gerar_Upload!C1759,\"erro\")","v":0},{"$f":"IFERROR(Gerar_Upload!D1759,\"erro\")","v":0},{"$f":"IFERROR(DATE(YEAR(Gerar_Upload!E1759),MONTH(Gerar_Upload!E1759),DAY(Gerar_Upload!E1759)),\"erro\")","v":"00:00:00"},{"$f":"IFERROR(Gerar_Upload!F1759,\"erro\")","v":0},{"$f":"IFERROR(IF(Gerar_Upload!G1759<44,REPT(0,44-LEN(Gerar_Upload!G1759))&Gerar_Upload!G1759,Gerar_Upload!G1759),\"erro\")","v":"00000000000000000000000000000000000000000000"}]
[{"$f":"IFERROR(LEFT(Gerar_Upload!A1760,120),\"erro\")","v":""},{"$f":"IFERROR(SUBSTITUTE(SUBSTITUTE(SUBSTITUTE(Gerar_Upload!B1760,\".\",\"\"),\"-\",\"\"),\"/\",\"\"),\"erro\")","v":""},{"$f":"IFERROR(Gerar_Upload!C1760,\"erro\")","v":0},{"$f":"IFERROR(Gerar_Upload!D1760,\"erro\")","v":0},{"$f":"IFERROR(DATE(YEAR(Gerar_Upload!E1760),MONTH(Gerar_Upload!E1760),DAY(Gerar_Upload!E1760)),\"erro\")","v":"00:00:00"},{"$f":"IFERROR(Gerar_Upload!F1760,\"erro\")","v":0},{"$f":"IFERROR(IF(Gerar_Upload!G1760<44,REPT(0,44-LEN(Gerar_Upload!G1760))&Gerar_Upload!G1760,Gerar_Upload!G1760),\"erro\")","v":"00000000000000000000000000000000000000000000"}]
[{"$f":"IFERROR(LEFT(Gerar_Upload!A1761,120),\"erro\")","v":""},{"$f":"IFERROR(SUBSTITUTE(SUBSTITUTE(SUBSTITUTE(Gerar_Upload!B1761,\".\",\"\"),\"-\",\"\"),\"/\",\"\"),\"erro\")","v":""},{"$f":"IFERROR(Gerar_Upload!C1761,\"erro\")","v":0},{"$f":"IFERROR(Gerar_Upload!D1761,\"erro\")","v":0},{"$f":"IFERROR(DATE(YEAR(Gerar_Upload!E1761),MONTH(Gerar_Upload!E1761),DAY(Gerar_Upload!E1761)),\"erro\")","v":"00:00:00"},{"$f":"IFERROR(Gerar_Upload!F1761,\"erro\")","v":0},{"$f":"IFERROR(IF(Gerar_Upload!G1761<44,REPT(0,44-LEN(Gerar_Upload!G1761))&Gerar_Upload!G1761,Gerar_Upload!G1761),\"erro\")","v":"00000000000000000000000000000000000000000000"}]
[{"$f":"IFERROR(LEFT(Gerar_Upload!A1762,120),\"erro\")","v":""},{"$f":"IFERROR(SUBSTITUTE(SUBSTITUTE(SUBSTITUTE(Gerar_Upload!B1762,\".\",\"\"),\"-\",\"\"),\"/\",\"\"),\"erro\")","v":""},{"$f":"IFERROR(Gerar_Upload!C1762,\"erro\")","v":0},{"$f":"IFERROR(Gerar_Upload!D1762,\"erro\")","v":0},{"$f":"IFERROR(DATE(YEAR(Gerar_Upload!E1762),MONTH(Gerar_Upload!E1762),DAY(Gerar_Upload!E1762)),\"erro\")","v":"00:00:00"},{"$f":"IFERROR(Gerar_Upload!F1762,\"erro\")","v":0},{"$f":"IFERROR(IF(Gerar_Upload!G1762<44,REPT(0,44-LEN(Gerar_Upload!G1762))&Gerar_Upload!G1762,Gerar_Upload!G1762),\"erro\")","v":"00000000000000000000000000000000000000000000"}]
[{"$f":"IFERROR(LEFT(Gerar_Upload!A1763,120),\"erro\")","v":""},{"$f":"IFERROR(SUBSTITUTE(SUBSTITUTE(SUBSTITUTE(Gerar_Upload!B1763,\".\",\"\"),\"-\",\"\"),\"/\",\"\"),\"erro\")","v":""},{"$f":"IFERROR(Gerar_Upload!C1763,\"erro\")","v":0},{"$f":"IFERROR(Gerar_Upload!D1763,\"erro\")","v":0},{"$f":"IFERROR(DATE(YEAR(Gerar_Upload!E1763),MONTH(Gerar_Upload!E1763),DAY(Gerar_Upload!E1763)),\"erro\")","v":"00:00:00"},{"$f":"IFERROR(Gerar_Upload!F1763,\"erro\")","v":0},{"$f":"IFERROR(IF(Gerar_Upload!G1763<44,REPT(0,44-LEN(Gerar_Upload!G1763))&Gerar_Upload!G1763,Gerar_Upload!G1763),\"erro\")","v":"00000000000000000000000000000000000000000000"}]
[{"$f":"IFERROR(LEFT(Gerar_Upload!A1764,120),\"erro\")","v":""},{"$f":"IFERROR(SUBSTITUTE(SUBSTITUTE(SUBSTITUTE(Gerar_Upload!B1764,\".\",\"\"),\"-\",\"\"),\"/\",\"\"),\"erro\")","v":""},{"$f":"IFERROR(Gerar_Upload!C1764,\"erro\")","v":0},{"$f":"IFERROR(Gerar_Upload!D1764,\"erro\")","v":0},{"$f":"IFERROR(DATE(YEAR(Gerar_Upload!E1764),MONTH(Gerar_Upload!E1764),DAY(Gerar_Upload!E1764)),\"erro\")","v":"00:00:00"},{"$f":"IFERROR(Gerar_Upload!F1764,\"erro\")","v":0},{"$f":"IFERROR(IF(Gerar_Upload!G1764<44,REPT(0,44-LEN(Gerar_Upload!G1764))&Gerar_Upload!G1764,Gerar_Upload!G1764),\"erro\")","v":"00000000000000000000000000000000000000000000"}]
[{"$f":"IFERROR(LEFT(Gerar_Upload!A1765,120),\"erro\")","v":""},{"$f":"IFERROR(SUBSTITUTE(SUBSTITUTE(SUBSTITUTE(Gerar_Upload!B1765,\".\",\"\"),\"-\",\"\"),\"/\",\"\"),\"erro\")","v":""},{"$f":"IFERROR(Gerar_Upload!C1765,\"erro\")","v":0},{"$f":"IFERROR(Gerar_Upload!D1765,\"erro\")","v":0},{"$f":"IFERROR(DATE(YEAR(Gerar_Upload!E1765),MONTH(Gerar_Upload!E1765),DAY(Gerar_Upload!E1765)),\"erro\")","v":"00:00:00"},{"$f":"IFERROR(Gerar_Upload!F1765,\"erro\")","v":0},{"$f":"IFERROR(IF(Gerar_Upload!G1765<44,REPT(0,44-LEN(Gerar_Upload!G1765))&Gerar_Upload!G1765,Gerar_Upload!G1765),\"erro\")","v":"00000000000000000000000000000000000000000000"}]
[{"$f":"IFERROR(LEFT(Gerar_Upload!A1766,120),\"erro\")","v":""},{"$f":"IFERROR(SUBSTITUTE(SUBSTITUTE(SUBSTITUTE(Gerar_Upload!B1766,\".\",\"\"),\"-\",\"\"),\"/\",\"\"),\"erro\")","v":""},{"$f":"IFERROR(Gerar_Upload!C1766,\"erro\")","v":0},{"$f":"IFERROR(Gerar_Upload!D1766,\"erro\")","v":0},{"$f":"IFERROR(DATE(YEAR(Gerar_Upload!E1766),MONTH(Gerar_Upload!E1766),DAY(Gerar_Upload!E1766)),\"erro\")","v":"00:00:00"},{"$f":"IFERROR(Gerar_Upload!F1766,\"erro\")","v":0},{"$f":"IFERROR(IF(Gerar_Upload!G1766<44,REPT(0,44-LEN(Gerar_Upload!G1766))&Gerar_Upload!G1766,Gerar_Upload!G1766),\"erro\")","v":"00000000000000000000000000000000000000000000"}]
[{"$f":"IFERROR(LEFT(Gerar_Upload!A1767,120),\"erro\")","v":""},{"$f":"IFERROR(SUBSTITUTE(SUBSTITUTE(SUBSTITUTE(Gerar_Upload!B1767,\".\",\"\"),\"-\",\"\"),\"/\",\"\"),\"erro\")","v":""},{"$f":"IFERROR(Gerar_Upload!C1767,\"erro\")","v":0},{"$f":"IFERROR(Gerar_Upload!D1767,\"erro\")","v":0},{"$f":"IFERROR(DATE(YEAR(Gerar_Upload!E1767),MONTH(Gerar_Upload!E1767),DAY(Gerar_Upload!E1767)),\"erro\")","v":"00:00:00"},{"$f":"IFERROR(Gerar_Upload!F1767,\"erro\")","v":0},{"$f":"IFERROR(IF(Gerar_Upload!G1767<44,REPT(0,44-LEN(Gerar_Upload!G1767))&Gerar_Upload!G1767,Gerar_Upload!G1767),\"erro\")","v":"00000000000000000000000000000000000000000000"}]
[{"$f":"IFERROR(LEFT(Gerar_Upload!A1768,120),\"erro\")","v":""},{"$f":"IFERROR(SUBSTITUTE(SUBSTITUTE(SUBSTITUTE(Gerar_Upload!B1768,\".\",\"\"),\"-\",\"\"),\"/\",\"\"),\"erro\")","v":""},{"$f":"IFERROR(Gerar_Upload!C1768,\"erro\")","v":0},{"$f":"IFERROR(Gerar_Upload!D1768,\"erro\")","v":0},{"$f":"IFERROR(DATE(YEAR(Gerar_Upload!E1768),MONTH(Gerar_Upload!E1768),DAY(Gerar_Upload!E1768)),\"erro\")","v":"00:00:00"},{"$f":"IFERROR(Gerar_Upload!F1768,\"erro\")","v":0},{"$f":"IFERROR(IF(Gerar_Upload!G1768<44,REPT(0,44-LEN(Gerar_Upload!G1768))&Gerar_Upload!G1768,Gerar_Upload!G1768),\"erro\")","v":"00000000000000000000000000000000000000000000"}]
[{"$f":"IFERROR(LEFT(Gerar_Upload!A1769,120),\"erro\")","v":""},{"$f":"IFERROR(SUBSTITUTE(SUBSTITUTE(SUBSTITUTE(Gerar_Upload!B1769,\".\",\"\"),\"-\",\"\"),\"/\",\"\"),\"erro\")","v":""},{"$f":"IFERROR(Gerar_Upload!C1769,\"erro\")","v":0},{"$f":"IFERROR(Gerar_Upload!D1769,\"erro\")","v":0},{"$f":"IFERROR(DATE(YEAR(Gerar_Upload!E1769),MONTH(Gerar_Upload!E1769),DAY(Gerar_Upload!E1769)),\"erro\")","v":"00:00:00"},{"$f":"IFERROR(Gerar_Upload!F1769,\"erro\")","v":0},{"$f":"IFERROR(IF(Gerar_Upload!G1769<44,REPT(0,44-LEN(Gerar_Upload!G1769))&Gerar_Upload!G1769,Gerar_Upload!G1769),\"erro\")","v":"00000000000000000000000000000000000000000000"}]
[{"$f":"IFERROR(LEFT(Gerar_Upload!A1770,120),\"erro\")","v":""},{"$f":"IFERROR(SUBSTITUTE(SUBSTITUTE(SUBSTITUTE(Gerar_Upload!B1770,\".\",\"\"),\"-\",\"\"),\"/\",\"\"),\"erro\")","v":""},{"$f":"IFERROR(Gerar_Upload!C1770,\"erro\")","v":0},{"$f":"IFERROR(Gerar_Upload!D1770,\"erro\")","v":0},{"$f":"IFERROR(DATE(YEAR(Gerar_Upload!E1770),MONTH(Gerar_Upload!E1770),DAY(Gerar_Upload!E1770)),\"erro\")","v":"00:00:00"},{"$f":"IFERROR(Gerar_Upload!F1770,\"erro\")","v":0},{"$f":"IFERROR(IF(Gerar_Upload!G1770<44,REPT(0,44-LEN(Gerar_Upload!G1770))&Gerar_Upload!G1770,Gerar_Upload!G1770),\"erro\")","v":"00000000000000000000000000000000000000000000"}]
[{"$f":"IFERROR(LEFT(Gerar_Upload!A1771,120),\"erro\")","v":""},{"$f":"IFERROR(SUBSTITUTE(SUBSTITUTE(SUBSTITUTE(Gerar_Upload!B1771,\".\",\"\"),\"-\",\"\"),\"/\",\"\"),\"erro\")","v":""},{"$f":"IFERROR(Gerar_Upload!C1771,\"erro\")","v":0},{"$f":"IFERROR(Gerar_Upload!D1771,\"erro\")","v":0},{"$f":"IFERROR(DATE(YEAR(Gerar_Upload!E1771),MONTH(Gerar_Upload!E1771),DAY(Gerar_Upload!E1771)),\"erro\")","v":"00:00:00"},{"$f":"IFERROR(Gerar_Upload!F1771,\"erro\")","v":0},{"$f":"IFERROR(IF(Gerar_Upload!G1771<44,REPT(0,44-LEN(Gerar_Upload!G1771))&Gerar_Upload!G1771,Gerar_Upload!G1771),\"erro\")","v":"00000000000000000000000000000000000000000000"}]
[{"$f":"IFERROR(LEFT(Gerar_Upload!A1772,120),\"erro\")","v":""},{"$f":"IFERROR(SUBSTITUTE(SUBSTITUTE(SUBSTITUTE(Gerar_Upload!B1772,\".\",\"\"),\"-\",\"\"),\"/\",\"\"),\"erro\")","v":""},{"$f":"IFERROR(Gerar_Upload!C1772,\"erro\")","v":0},{"$f":"IFERROR(Gerar_Upload!D1772,\"erro\")","v":0},{"$f":"IFERROR(DATE(YEAR(Gerar_Upload!E1772),MONTH(Gerar_Upload!E1772),DAY(Gerar_Upload!E1772)),\"erro\")","v":"00:00:00"},{"$f":"IFERROR(Gerar_Upload!F1772,\"erro\")","v":0},{"$f":"IFERROR(IF(Gerar_Upload!G1772<44,REPT(0,44-LEN(Gerar_Upload!G1772))&Gerar_Upload!G1772,Gerar_Upload!G1772),\"erro\")","v":"00000000000000000000000000000000000000000000"}]
[{"$f":"IFERROR(LEFT(Gerar_Upload!A1773,120),\"erro\")","v":""},{"$f":"IFERROR(SUBSTITUTE(SUBSTITUTE(SUBSTITUTE(Gerar_Upload!B1773,\".\",\"\"),\"-\",\"\"),\"/\",\"\"),\"erro\")","v":""},{"$f":"IFERROR(Gerar_Upload!C1773,\"erro\")","v":0},{"$f":"IFERROR(Gerar_Upload!D1773,\"erro\")","v":0},{"$f":"IFERROR(DATE(YEAR(Gerar_Upload!E1773),MONTH(Gerar_Upload!E1773),DAY(Gerar_Upload!E1773)),\"erro\")","v":"00:00:00"},{"$f":"IFERROR(Gerar_Upload!F1773,\"erro\")","v":0},{"$f":"IFERROR(IF(Gerar_Upload!G1773<44,REPT(0,44-LEN(Gerar_Upload!G1773))&Gerar_Upload!G1773,Gerar_Upload!G1773),\"erro\")","v":"00000000000000000000000000000000000000000000"}]
[{"$f":"IFERROR(LEFT(Gerar_Upload!A1774,120),\"erro\")","v":""},{"$f":"IFERROR(SUBSTITUTE(SUBSTITUTE(SUBSTITUTE(Gerar_Upload!B1774,\".\",\"\"),\"-\",\"\"),\"/\",\"\"),\"erro\")","v":""},{"$f":"IFERROR(Gerar_Upload!C1774,\"erro\")","v":0},{"$f":"IFERROR(Gerar_Upload!D1774,\"erro\")","v":0},{"$f":"IFERROR(DATE(YEAR(Gerar_Upload!E1774),MONTH(Gerar_Upload!E1774),DAY(Gerar_Upload!E1774)),\"erro\")","v":"00:00:00"},{"$f":"IFERROR(Gerar_Upload!F1774,\"erro\")","v":0},{"$f":"IFERROR(IF(Gerar_Upload!G1774<44,REPT(0,44-LEN(Gerar_Upload!G1774))&Gerar_Upload!G1774,Gerar_Upload!G1774),\"erro\")","v":"00000000000000000000000000000000000000000000"}]
[{"$f":"IFERROR(LEFT(Gerar_Upload!A1775,120),\"erro\")","v":""},{"$f":"IFERROR(SUBSTITUTE(SUBSTITUTE(SUBSTITUTE(Gerar_Upload!B1775,\".\",\"\"),\"-\",\"\"),\"/\",\"\"),\"erro\")","v":""},{"$f":"IFERROR(Gerar_Upload!C1775,\"erro\")","v":0},{"$f":"IFERROR(Gerar_Upload!D1775,\"erro\")","v":0},{"$f":"IFERROR(DATE(YEAR(Gerar_Upload!E1775),MONTH(Gerar_Upload!E1775),DAY(Gerar_Upload!E1775)),\"erro\")","v":"00:00:00"},{"$f":"IFERROR(Gerar_Upload!F1775,\"erro\")","v":0},{"$f":"IFERROR(IF(Gerar_Upload!G1775<44,REPT(0,44-LEN(Gerar_Upload!G1775))&Gerar_Upload!G1775,Gerar_Upload!G1775),\"erro\")","v":"00000000000000000000000000000000000000000000"}]
[{"$f":"IFERROR(LEFT(Gerar_Upload!A1776,120),\"erro\")","v":""},{"$f":"IFERROR(SUBSTITUTE(SUBSTITUTE(SUBSTITUTE(Gerar_Upload!B1776,\".\",\"\"),\"-\",\"\"),\"/\",\"\"),\"erro\")","v":""},{"$f":"IFERROR(Gerar_Upload!C1776,\"erro\")","v":0},{"$f":"IFERROR(Gerar_Upload!D1776,\"erro\")","v":0},{"$f":"IFERROR(DATE(YEAR(Gerar_Upload!E1776),MONTH(Gerar_Upload!E1776),DAY(Gerar_Upload!E1776)),\"erro\")","v":"00:00:00"},{"$f":"IFERROR(Gerar_Upload!F1776,\"erro\")","v":0},{"$f":"IFERROR(IF(Gerar_Upload!G1776<44,REPT(0,44-LEN(Gerar_Upload!G1776))&Gerar_Upload!G1776,Gerar_Upload!G1776),\"erro\")","v":"00000000000000000000000000000000000000000000"}]
[{"$f":"IFERROR(LEFT(Gerar_Upload!A1777,120),\"erro\")","v":""},{"$f":"IFERROR(SUBSTITUTE(SUBSTITUTE(SUBSTITUTE(Gerar_Upload!B1777,\".\",\"\"),\"-\",\"\"),\"/\",\"\"),\"erro\")","v":""},{"$f":"IFERROR(Gerar_Upload!C1777,\"erro\")","v":0},{"$f":"IFERROR(Gerar_Upload!D1777,\"erro\")","v":0},{"$f":"IFERROR(DATE(YEAR(Gerar_Upload!E1777),MONTH(Gerar_Upload!E1777),DAY(Gerar_Upload!E1777)),\"erro\")","v":"00:00:00"},{"$f":"IFERROR(Gerar_Upload!F1777,\"erro\")","v":0},{"$f":"IFERROR(IF(Gerar_Upload!G1777<44,REPT(0,44-LEN(Gerar_Upload!G1777))&Gerar_Upload!G1777,Gerar_Upload!G1777),\"erro\")","v":"00000000000000000000000000000000000000000000"}]
[{"$f":"IFERROR(LEFT(Gerar_Upload!A1778,120),\"erro\")","v":""},{"$f":"IFERROR(SUBSTITUTE(SUBSTITUTE(SUBSTITUTE(Gerar_Upload!B1778,\".\",\"\"),\"-\",\"\"),\"/\",\"\"),\"erro\")","v":""},{"$f":"IFERROR(Gerar_Upload!C1778,\"erro\")","v":0},{"$f":"IFERROR(Gerar_Upload!D1778,\"erro\")","v":0},{"$f":"IFERROR(DATE(YEAR(Gerar_Upload!E1778),MONTH(Gerar_Upload!E1778),DAY(Gerar_Upload!E1778)),\"erro\")","v":"00:00:00"},{"$f":"IFERROR(Gerar_Upload!F1778,\"erro\")","v":0},{"$f":"IFERROR(IF(Gerar_Upload!G1778<44,REPT(0,44-LEN(Gerar_Upload!G1778))&Gerar_Upload!G1778,Gerar_Upload!G1778),\"erro\")","v":"00000000000000000000000000000000000000000000"}]
[{"$f":"IFERROR(LEFT(Gerar_Upload!A1779,120),\"erro\")","v":""},{"$f":"IFERROR(SUBSTITUTE(SUBSTITUTE(SUBSTITUTE(Gerar_Upload!B1779,\".\",\"\"),\"-\",\"\"),\"/\",\"\"),\"erro\")","v":""},{"$f":"IFERROR(Gerar_Upload!C1779,\"erro\")","v":0},{"$f":"IFERROR(Gerar_Upload!D1779,\"erro\")","v":0},{"$f":"IFERROR(DATE(YEAR(Gerar_Upload!E1779),MONTH(Gerar_Upload!E1779),DAY(Gerar_Upload!E1779)),\"erro\")","v":"00:00:00"},{"$f":"IFERROR(Gerar_Upload!F1779,\"erro\")","v":0},{"$f":"IFERROR(IF(Gerar_Upload!G1779<44,REPT(0,44-LEN(Gerar_Upload!G1779))&Gerar_Upload!G1779,Gerar_Upload!G1779),\"erro\")","v":"00000000000000000000000000000000000000000000"}]
[{"$f":"IFERROR(LEFT(Gerar_Upload!A1780,120),\"erro\")","v":""},{"$f":"IFERROR(SUBSTITUTE(SUBSTITUTE(SUBSTITUTE(Gerar_Upload!B1780,\".\",\"\"),\"-\",\"\"),\"/\",\"\"),\"erro\")","v":""},{"$f":"IFERROR(Gerar_Upload!C1780,\"erro\")","v":0},{"$f":"IFERROR(Gerar_Upload!D1780,\"erro\")","v":0},{"$f":"IFERROR(DATE(YEAR(Gerar_Upload!E1780),MONTH(Gerar_Upload!E1780),DAY(Gerar_Upload!E1780)),\"erro\")","v":"00:00:00"},{"$f":"IFERROR(Gerar_Upload!F1780,\"erro\")","v":0},{"$f":"IFERROR(IF(Gerar_Upload!G1780<44,REPT(0,44-LEN(Gerar_Upload!G1780))&Gerar_Upload!G1780,Gerar_Upload!G1780),\"erro\")","v":"00000000000000000000000000000000000000000000"}]
[{"$f":"IFERROR(LEFT(Gerar_Upload!A1781,120),\"erro\")","v":""},{"$f":"IFERROR(SUBSTITUTE(SUBSTITUTE(SUBSTITUTE(Gerar_Upload!B1781,\".\",\"\"),\"-\",\"\"),\"/\",\"\"),\"erro\")","v":""},{"$f":"IFERROR(Gerar_Upload!C1781,\"erro\")","v":0},{"$f":"IFERROR(Gerar_Upload!D1781,\"erro\")","v":0},{"$f":"IFERROR(DATE(YEAR(Gerar_Upload!E1781),MONTH(Gerar_Upload!E1781),DAY(Gerar_Upload!E1781)),\"erro\")","v":"00:00:00"},{"$f":"IFERROR(Gerar_Upload!F1781,\"erro\")","v":0},{"$f":"IFERROR(IF(Gerar_Upload!G1781<44,REPT(0,44-LEN(Gerar_Upload!G1781))&Gerar_Upload!G1781,Gerar_Upload!G1781),\"erro\")","v":"00000000000000000000000000000000000000000000"}]
[{"$f":"IFERROR(LEFT(Gerar_Upload!A1782,120),\"erro\")","v":""},{"$f":"IFERROR(SUBSTITUTE(SUBSTITUTE(SUBSTITUTE(Gerar_Upload!B1782,\".\",\"\"),\"-\",\"\"),\"/\",\"\"),\"erro\")","v":""},{"$f":"IFERROR(Gerar_Upload!C1782,\"erro\")","v":0},{"$f":"IFERROR(Gerar_Upload!D1782,\"erro\")","v":0},{"$f":"IFERROR(DATE(YEAR(Gerar_Upload!E1782),MONTH(Gerar_Upload!E1782),DAY(Gerar_Upload!E1782)),\"erro\")","v":"00:00:00"},{"$f":"IFERROR(Gerar_Upload!F1782,\"erro\")","v":0},{"$f":"IFERROR(IF(Gerar_Upload!G1782<44,REPT(0,44-LEN(Gerar_Upload!G1782))&Gerar_Upload!G1782,Gerar_Upload!G1782),\"erro\")","v":"00000000000000000000000000000000000000000000"}]
[{"$f":"IFERROR(LEFT(Gerar_Upload!A1783,120),\"erro\")","v":""},{"$f":"IFERROR(SUBSTITUTE(SUBSTITUTE(SUBSTITUTE(Gerar_Upload!B1783,\".\",\"\"),\"-\",\"\"),\"/\",\"\"),\"erro\")","v":""},{"$f":"IFERROR(Gerar_Upload!C1783,\"erro\")","v":0},{"$f":"IFERROR(Gerar_Upload!D1783,\"erro\")","v":0},{"$f":"IFERROR(DATE(YEAR(Gerar_Upload!E1783),MONTH(Gerar_Upload!E1783),DAY(Gerar_Upload!E1783)),\"erro\")","v":"00:00:00"},{"$f":"IFERROR(Gerar_Upload!F1783,\"erro\")","v":0},{"$f":"IFERROR(IF(Gerar_Upload!G1783<44,REPT(0,44-LEN(Gerar_Upload!G1783))&Gerar_Upload!G1783,Gerar_Upload!G1783),\"erro\")","v":"00000000000000000000000000000000000000000000"}]
[{"$f":"IFERROR(LEFT(Gerar_Upload!A1784,120),\"erro\")","v":""},{"$f":"IFERROR(SUBSTITUTE(SUBSTITUTE(SUBSTITUTE(Gerar_Upload!B1784,\".\",\"\"),\"-\",\"\"),\"/\",\"\"),\"erro\")","v":""},{"$f":"IFERROR(Gerar_Upload!C1784,\"erro\")","v":0},{"$f":"IFERROR(Gerar_Upload!D1784,\"erro\")","v":0},{"$f":"IFERROR(DATE(YEAR(Gerar_Upload!E1784),MONTH(Gerar_Upload!E1784),DAY(Gerar_Upload!E1784)),\"erro\")","v":"00:00:00"},{"$f":"IFERROR(Gerar_Upload!F1784,\"erro\")","v":0},{"$f":"IFERROR(IF(Gerar_Upload!G1784<44,REPT(0,44-LEN(Gerar_Upload!G1784))&Gerar_Upload!G1784,Gerar_Upload!G1784),\"erro\")","v":"00000000000000000000000000000000000000000000"}]
[{"$f":"IFERROR(LEFT(Gerar_Upload!A1785,120),\"erro\")","v":""},{"$f":"IFERROR(SUBSTITUTE(SUBSTITUTE(SUBSTITUTE(Gerar_Upload!B1785,\".\",\"\"),\"-\",\"\"),\"/\",\"\"),\"erro\")","v":""},{"$f":"IFERROR(Gerar_Upload!C1785,\"erro\")","v":0},{"$f":"IFERROR(Gerar_Upload!D1785,\"erro\")","v":0},{"$f":"IFERROR(DATE(YEAR(Gerar_Upload!E1785),MONTH(Gerar_Upload!E1785),DAY(Gerar_Upload!E1785)),\"erro\")","v":"00:00:00"},{"$f":"IFERROR(Gerar_Upload!F1785,\"erro\")","v":0},{"$f":"IFERROR(IF(Gerar_Upload!G1785<44,REPT(0,44-LEN(Gerar_Upload!G1785))&Gerar_Upload!G1785,Gerar_Upload!G1785),\"erro\")","v":"00000000000000000000000000000000000000000000"}]
[{"$f":"IFERROR(LEFT(Gerar_Upload!A1786,120),\"erro\")","v":""},{"$f":"IFERROR(SUBSTITUTE(SUBSTITUTE(SUBSTITUTE(Gerar_Upload!B1786,\".\",\"\"),\"-\",\"\"),\"/\",\"\"),\"erro\")","v":""},{"$f":"IFERROR(Gerar_Upload!C1786,\"erro\")","v":0},{"$f":"IFERROR(Gerar_Upload!D1786,\"erro\")","v":0},{"$f":"IFERROR(DATE(YEAR(Gerar_Upload!E1786),MONTH(Gerar_Upload!E1786),DAY(Gerar_Upload!E1786)),\"erro\")","v":"00:00:00"},{"$f":"IFERROR(Gerar_Upload!F1786,\"erro\")","v":0},{"$f":"IFERROR(IF(Gerar_Upload!G1786<44,REPT(0,44-LEN(Gerar_Upload!G1786))&Gerar_Upload!G1786,Gerar_Upload!G1786),\"erro\")","v":"00000000000000000000000000000000000000000000"}]
[{"$f":"IFERROR(LEFT(Gerar_Upload!A1787,120),\"erro\")","v":""},{"$f":"IFERROR(SUBSTITUTE(SUBSTITUTE(SUBSTITUTE(Gerar_Upload!B1787,\".\",\"\"),\"-\",\"\"),\"/\",\"\"),\"erro\")","v":""},{"$f":"IFERROR(Gerar_Upload!C1787,\"erro\")","v":0},{"$f":"IFERROR(Gerar_Upload!D1787,\"erro\")","v":0},{"$f":"IFERROR(DATE(YEAR(Gerar_Upload!E1787),MONTH(Gerar_Upload!E1787),DAY(Gerar_Upload!E1787)),\"erro\")","v":"00:00:00"},{"$f":"IFERROR(Gerar_Upload!F1787,\"erro\")","v":0},{"$f":"IFERROR(IF(Gerar_Upload!G1787<44,REPT(0,44-LEN(Gerar_Upload!G1787))&Gerar_Upload!G1787,Gerar_Upload!G1787),\"erro\")","v":"00000000000000000000000000000000000000000000"}]
[{"$f":"IFERROR(LEFT(Gerar_Upload!A1788,120),\"erro\")","v":""},{"$f":"IFERROR(SUBSTITUTE(SUBSTITUTE(SUBSTITUTE(Gerar_Upload!B1788,\".\",\"\"),\"-\",\"\"),\"/\",\"\"),\"erro\")","v":""},{"$f":"IFERROR(Gerar_Upload!C1788,\"erro\")","v":0},{"$f":"IFERROR(Gerar_Upload!D1788,\"erro\")","v":0},{"$f":"IFERROR(DATE(YEAR(Gerar_Upload!E1788),MONTH(Gerar_Upload!E1788),DAY(Gerar_Upload!E1788)),\"erro\")","v":"00:00:00"},{"$f":"IFERROR(Gerar_Upload!F1788,\"erro\")","v":0},{"$f":"IFERROR(IF(Gerar_Upload!G1788<44,REPT(0,44-LEN(Gerar_Upload!G1788))&Gerar_Upload!G1788,Gerar_Upload!G1788),\"erro\")","v":"00000000000000000000000000000000000000000000"}]
[{"$f":"IFERROR(LEFT(Gerar_Upload!A1789,120),\"erro\")","v":""},{"$f":"IFERROR(SUBSTITUTE(SUBSTITUTE(SUBSTITUTE(Gerar_Upload!B1789,\".\",\"\"),\"-\",\"\"),\"/\",\"\"),\"erro\")","v":""},{"$f":"IFERROR(Gerar_Upload!C1789,\"erro\")","v":0},{"$f":"IFERROR(Gerar_Upload!D1789,\"erro\")","v":0},{"$f":"IFERROR(DATE(YEAR(Gerar_Upload!E1789),MONTH(Gerar_Upload!E1789),DAY(Gerar_Upload!E1789)),\"erro\")","v":"00:00:00"},{"$f":"IFERROR(Gerar_Upload!F1789,\"erro\")","v":0},{"$f":"IFERROR(IF(Gerar_Upload!G1789<44,REPT(0,44-LEN(Gerar_Upload!G1789))&Gerar_Upload!G1789,Gerar_Upload!G1789),\"erro\")","v":"00000000000000000000000000000000000000000000"}]
[{"$f":"IFERROR(LEFT(Gerar_Upload!A1790,120),\"erro\")","v":""},{"$f":"IFERROR(SUBSTITUTE(SUBSTITUTE(SUBSTITUTE(Gerar_Upload!B1790,\".\",\"\"),\"-\",\"\"),\"/\",\"\"),\"erro\")","v":""},{"$f":"IFERROR(Gerar_Upload!C1790,\"erro\")","v":0},{"$f":"IFERROR(Gerar_Upload!D1790,\"erro\")","v":0},{"$f":"IFERROR(DATE(YEAR(Gerar_Upload!E1790),MONTH(Gerar_Upload!E1790),DAY(Gerar_Upload!E1790)),\"erro\")","v":"00:00:00"},{"$f":"IFERROR(Gerar_Upload!F1790,\"erro\")","v":0},{"$f":"IFERROR(IF(Gerar_Upload!G1790<44,REPT(0,44-LEN(Gerar_Upload!G1790))&Gerar_Upload!G1790,Gerar_Upload!G1790),\"erro\")","v":"00000000000000000000000000000000000000000000"}]
[{"$f":"IFERROR(LEFT(Gerar_Upload!A1791,120),\"erro\")","v":""},{"$f":"IFERROR(SUBSTITUTE(SUBSTITUTE(SUBSTITUTE(Gerar_Upload!B1791,\".\",\"\"),\"-\",\"\"),\"/\",\"\"),\"erro\")","v":""},{"$f":"IFERROR(Gerar_Upload!C1791,\"erro\")","v":0},{"$f":"IFERROR(Gerar_Upload!D1791,\"erro\")","v":0},{"$f":"IFERROR(DATE(YEAR(Gerar_Upload!E1791),MONTH(Gerar_Upload!E1791),DAY(Gerar_Upload!E1791)),\"erro\")","v":"00:00:00"},{"$f":"IFERROR(Gerar_Upload!F1791,\"erro\")","v":0},{"$f":"IFERROR(IF(Gerar_Upload!G1791<44,REPT(0,44-LEN(Gerar_Upload!G1791))&Gerar_Upload!G1791,Gerar_Upload!G1791),\"erro\")","v":"00000000000000000000000000000000000000000000"}]
[{"$f":"IFERROR(LEFT(Gerar_Upload!A1792,120),\"erro\")","v":""},{"$f":"IFERROR(SUBSTITUTE(SUBSTITUTE(SUBSTITUTE(Gerar_Upload!B1792,\".\",\"\"),\"-\",\"\"),\"/\",\"\"),\"erro\")","v":""},{"$f":"IFERROR(Gerar_Upload!C1792,\"erro\")","v":0},{"$f":"IFERROR(Gerar_Upload!D1792,\"erro\")","v":0},{"$f":"IFERROR(DATE(YEAR(Gerar_Upload!E1792),MONTH(Gerar_Upload!E1792),DAY(Gerar_Upload!E1792)),\"erro\")","v":"00:00:00"},{"$f":"IFERROR(Gerar_Upload!F1792,\"erro\")","v":0},{"$f":"IFERROR(IF(Gerar_Upload!G1792<44,REPT(0,44-LEN(Gerar_Upload!G1792))&Gerar_Upload!G1792,Gerar_Upload!G1792),\"erro\")","v":"00000000000000000000000000000000000000000000"}]
[{"$f":"IFERROR(LEFT(Gerar_Upload!A1793,120),\"erro\")","v":""},{"$f":"IFERROR(SUBSTITUTE(SUBSTITUTE(SUBSTITUTE(Gerar_Upload!B1793,\".\",\"\"),\"-\",\"\"),\"/\",\"\"),\"erro\")","v":""},{"$f":"IFERROR(Gerar_Upload!C1793,\"erro\")","v":0},{"$f":"IFERROR(Gerar_Upload!D1793,\"erro\")","v":0},{"$f":"IFERROR(DATE(YEAR(Gerar_Upload!E1793),MONTH(Gerar_Upload!E1793),DAY(Gerar_Upload!E1793)),\"erro\")","v":"00:00:00"},{"$f":"IFERROR(Gerar_Upload!F1793,\"erro\")","v":0},{"$f":"IFERROR(IF(Gerar_Upload!G1793<44,REPT(0,44-LEN(Gerar_Upload!G1793))&Gerar_Upload!G1793,Gerar_Upload!G1793),\"erro\")","v":"00000000000000000000000000000000000000000000"}]
[{"$f":"IFERROR(LEFT(Gerar_Upload!A1794,120),\"erro\")","v":""},{"$f":"IFERROR(SUBSTITUTE(SUBSTITUTE(SUBSTITUTE(Gerar_Upload!B1794,\".\",\"\"),\"-\",\"\"),\"/\",\"\"),\"erro\")","v":""},{"$f":"IFERROR(Gerar_Upload!C1794,\"erro\")","v":0},{"$f":"IFERROR(Gerar_Upload!D1794,\"erro\")","v":0},{"$f":"IFERROR(DATE(YEAR(Gerar_Upload!E1794),MONTH(Gerar_Upload!E1794),DAY(Gerar_Upload!E1794)),\"erro\")","v":"00:00:00"},{"$f":"IFERROR(Gerar_Upload!F1794,\"erro\")","v":0},{"$f":"IFERROR(IF(Gerar_Upload!G1794<44,REPT(0,44-LEN(Gerar_Upload!G1794))&Gerar_Upload!G1794,Gerar_Upload!G1794),\"erro\")","v":"00000000000000000000000000000000000000000000"}]
[{"$f":"IFERROR(LEFT(Gerar_Upload!A1795,120),\"erro\")","v":""},{"$f":"IFERROR(SUBSTITUTE(SUBSTITUTE(SUBSTITUTE(Gerar_Upload!B1795,\".\",\"\"),\"-\",\"\"),\"/\",\"\"),\"erro\")","v":""},{"$f":"IFERROR(Gerar_Upload!C1795,\"erro\")","v":0},{"$f":"IFERROR(Gerar_Upload!D1795,\"erro\")","v":0},{"$f":"IFERROR(DATE(YEAR(Gerar_Upload!E1795),MONTH(Gerar_Upload!E1795),DAY(Gerar_Upload!E1795)),\"erro\")","v":"00:00:00"},{"$f":"IFERROR(Gerar_Upload!F1795,\"erro\")","v":0},{"$f":"IFERROR(IF(Gerar_Upload!G1795<44,REPT(0,44-LEN(Gerar_Upload!G1795))&Gerar_Upload!G1795,Gerar_Upload!G1795),\"erro\")","v":"00000000000000000000000000000000000000000000"}]
[{"$f":"IFERROR(LEFT(Gerar_Upload!A1796,120),\"erro\")","v":""},{"$f":"IFERROR(SUBSTITUTE(SUBSTITUTE(SUBSTITUTE(Gerar_Upload!B1796,\".\",\"\"),\"-\",\"\"),\"/\",\"\"),\"erro\")","v":""},{"$f":"IFERROR(Gerar_Upload!C1796,\"erro\")","v":0},{"$f":"IFERROR(Gerar_Upload!D1796,\"erro\")","v":0},{"$f":"IFERROR(DATE(YEAR(Gerar_Upload!E1796),MONTH(Gerar_Upload!E1796),DAY(Gerar_Upload!E1796)),\"erro\")","v":"00:00:00"},{"$f":"IFERROR(Gerar_Upload!F1796,\"erro\")","v":0},{"$f":"IFERROR(IF(Gerar_Upload!G1796<44,REPT(0,44-LEN(Gerar_Upload!G1796))&Gerar_Upload!G1796,Gerar_Upload!G1796),\"erro\")","v":"00000000000000000000000000000000000000000000"}]
[{"$f":"IFERROR(LEFT(Gerar_Upload!A1797,120),\"erro\")","v":""},{"$f":"IFERROR(SUBSTITUTE(SUBSTITUTE(SUBSTITUTE(Gerar_Upload!B1797,\".\",\"\"),\"-\",\"\"),\"/\",\"\"),\"erro\")","v":""},{"$f":"IFERROR(Gerar_Upload!C1797,\"erro\")","v":0},{"$f":"IFERROR(Gerar_Upload!D1797,\"erro\")","v":0},{"$f":"IFERROR(DATE(YEAR(Gerar_Upload!E1797),MONTH(Gerar_Upload!E1797),DAY(Gerar_Upload!E1797)),\"erro\")","v":"00:00:00"},{"$f":"IFERROR(Gerar_Upload!F1797,\"erro\")","v":0},{"$f":"IFERROR(IF(Gerar_Upload!G1797<44,REPT(0,44-LEN(Gerar_Upload!G1797))&Gerar_Upload!G1797,Gerar_Upload!G1797),\"erro\")","v":"00000000000000000000000000000000000000000000"}]
[{"$f":"IFERROR(LEFT(Gerar_Upload!A1798,120),\"erro\")","v":""},{"$f":"IFERROR(SUBSTITUTE(SUBSTITUTE(SUBSTITUTE(Gerar_Upload!B1798,\".\",\"\"),\"-\",\"\"),\"/\",\"\"),\"erro\")","v":""},{"$f":"IFERROR(Gerar_Upload!C1798,\"erro\")","v":0},{"$f":"IFERROR(Gerar_Upload!D1798,\"erro\")","v":0},{"$f":"IFERROR(DATE(YEAR(Gerar_Upload!E1798),MONTH(Gerar_Upload!E1798),DAY(Gerar_Upload!E1798)),\"erro\")","v":"00:00:00"},{"$f":"IFERROR(Gerar_Upload!F1798,\"erro\")","v":0},{"$f":"IFERROR(IF(Gerar_Upload!G1798<44,REPT(0,44-LEN(Gerar_Upload!G1798))&Gerar_Upload!G1798,Gerar_Upload!G1798),\"erro\")","v":"00000000000000000000000000000000000000000000"}]
[{"$f":"IFERROR(LEFT(Gerar_Upload!A1799,120),\"erro\")","v":""},{"$f":"IFERROR(SUBSTITUTE(SUBSTITUTE(SUBSTITUTE(Gerar_Upload!B1799,\".\",\"\"),\"-\",\"\"),\"/\",\"\"),\"erro\")","v":""},{"$f":"IFERROR(Gerar_Upload!C1799,\"erro\")","v":0},{"$f":"IFERROR(Gerar_Upload!D1799,\"erro\")","v":0},{"$f":"IFERROR(DATE(YEAR(Gerar_Upload!E1799),MONTH(Gerar_Upload!E1799),DAY(Gerar_Upload!E1799)),\"erro\")","v":"00:00:00"},{"$f":"IFERROR(Gerar_Upload!F1799,\"erro\")","v":0},{"$f":"IFERROR(IF(Gerar_Upload!G1799<44,REPT(0,44-LEN(Gerar_Upload!G1799))&Gerar_Upload!G1799,Gerar_Upload!G1799),\"erro\")","v":"00000000000000000000000000000000000000000000"}]
[{"$f":"IFERROR(LEFT(Gerar_Upload!A1800,120),\"erro\")","v":""},{"$f":"IFERROR(SUBSTITUTE(SUBSTITUTE(SUBSTITUTE(Gerar_Upload!B1800,\".\",\"\"),\"-\",\"\"),\"/\",\"\"),\"erro\")","v":""},{"$f":"IFERROR(Gerar_Upload!C1800,\"erro\")","v":0},{"$f":"IFERROR(Gerar_Upload!D1800,\"erro\")","v":0},{"$f":"IFERROR(DATE(YEAR(Gerar_Upload!E1800),MONTH(Gerar_Upload!E1800),DAY(Gerar_Upload!E1800)),\"erro\")","v":"00:00:00"},{"$f":"IFERROR(Gerar_Upload!F1800,\"erro\")","v":0},{"$f":"IFERROR(IF(Gerar_Upload!G1800<44,REPT(0,44-LEN(Gerar_Upload!G1800))&Gerar_Upload!G1800,Gerar_Upload!G1800),\"erro\")","v":"00000000000000000000000000000000000000000000"}]
[{"$f":"IFERROR(LEFT(Gerar_Upload!A1801,120),\"erro\")","v":""},{"$f":"IFERROR(SUBSTITUTE(SUBSTITUTE(SUBSTITUTE(Gerar_Upload!B1801,\".\",\"\"),\"-\",\"\"),\"/\",\"\"),\"erro\")","v":""},{"$f":"IFERROR(Gerar_Upload!C1801,\"erro\")","v":0},{"$f":"IFERROR(Gerar_Upload!D1801,\"erro\")","v":0},{"$f":"IFERROR(DATE(YEAR(Gerar_Upload!E1801),MONTH(Gerar_Upload!E1801),DAY(Gerar_Upload!E1801)),\"erro\")","v":"00:00:00"},{"$f":"IFERROR(Gerar_Upload!F1801,\"erro\")","v":0},{"$f":"IFERROR(IF(Gerar_Upload!G1801<44,REPT(0,44-LEN(Gerar_Upload!G1801))&Gerar_Upload!G1801,Gerar_Upload!G1801),\"erro\")","v":"00000000000000000000000000000000000000000000"}]
[{"$f":"IFERROR(LEFT(Gerar_Upload!A1802,120),\"erro\")","v":""},{"$f":"IFERROR(SUBSTITUTE(SUBSTITUTE(SUBSTITUTE(Gerar_Upload!B1802,\".\",\"\"),\"-\",\"\"),\"/\",\"\"),\"erro\")","v":""},{"$f":"IFERROR(Gerar_Upload!C1802,\"erro\")","v":0},{"$f":"IFERROR(Gerar_Upload!D1802,\"erro\")","v":0},{"$f":"IFERROR(DATE(YEAR(Gerar_Upload!E1802),MONTH(Gerar_Upload!E1802),DAY(Gerar_Upload!E1802)),\"erro\")","v":"00:00:00"},{"$f":"IFERROR(Gerar_Upload!F1802,\"erro\")","v":0},{"$f":"IFERROR(IF(Gerar_Upload!G1802<44,REPT(0,44-LEN(Gerar_Upload!G1802))&Gerar_Upload!G1802,Gerar_Upload!G1802),\"erro\")","v":"00000000000000000000000000000000000000000000"}]
[{"$f":"IFERROR(LEFT(Gerar_Upload!A1803,120),\"erro\")","v":""},{"$f":"IFERROR(SUBSTITUTE(SUBSTITUTE(SUBSTITUTE(Gerar_Upload!B1803,\".\",\"\"),\"-\",\"\"),\"/\",\"\"),\"erro\")","v":""},{"$f":"IFERROR(Gerar_Upload!C1803,\"erro\")","v":0},{"$f":"IFERROR(Gerar_Upload!D1803,\"erro\")","v":0},{"$f":"IFERROR(DATE(YEAR(Gerar_Upload!E1803),MONTH(Gerar_Upload!E1803),DAY(Gerar_Upload!E1803)),\"erro\")","v":"00:00:00"},{"$f":"IFERROR(Gerar_Upload!F1803,\"erro\")","v":0},{"$f":"IFERROR(IF(Gerar_Upload!G1803<44,REPT(0,44-LEN(Gerar_Upload!G1803))&Gerar_Upload!G1803,Gerar_Upload!G1803),\"erro\")","v":"00000000000000000000000000000000000000000000"}]
[{"$f":"IFERROR(LEFT(Gerar_Upload!A1804,120),\"erro\")","v":""},{"$f":"IFERROR(SUBSTITUTE(SUBSTITUTE(SUBSTITUTE(Gerar_Upload!B1804,\".\",\"\"),\"-\",\"\"),\"/\",\"\"),\"erro\")","v":""},{"$f":"IFERROR(Gerar_Upload!C1804,\"erro\")","v":0},{"$f":"IFERROR(Gerar_Upload!D1804,\"erro\")","v":0},{"$f":"IFERROR(DATE(YEAR(Gerar_Upload!E1804),MONTH(Gerar_Upload!E1804),DAY(Gerar_Upload!E1804)),\"erro\")","v":"00:00:00"},{"$f":"IFERROR(Gerar_Upload!F1804,\"erro\")","v":0},{"$f":"IFERROR(IF(Gerar_Upload!G1804<44,REPT(0,44-LEN(Gerar_Upload!G1804))&Gerar_Upload!G1804,Gerar_Upload!G1804),\"erro\")","v":"00000000000000000000000000000000000000000000"}]
[{"$f":"IFERROR(LEFT(Gerar_Upload!A1805,120),\"erro\")","v":""},{"$f":"IFERROR(SUBSTITUTE(SUBSTITUTE(SUBSTITUTE(Gerar_Upload!B1805,\".\",\"\"),\"-\",\"\"),\"/\",\"\"),\"erro\")","v":""},{"$f":"IFERROR(Gerar_Upload!C1805,\"erro\")","v":0},{"$f":"IFERROR(Gerar_Upload!D1805,\"erro\")","v":0},{"$f":"IFERROR(DATE(YEAR(Gerar_Upload!E1805),MONTH(Gerar_Upload!E1805),DAY(Gerar_Upload!E1805)),\"erro\")","v":"00:00:00"},{"$f":"IFERROR(Gerar_Upload!F1805,\"erro\")","v":0},{"$f":"IFERROR(IF(Gerar_Upload!G1805<44,REPT(0,44-LEN(Gerar_Upload!G1805))&Gerar_Upload!G1805,Gerar_Upload!G1805),\"erro\")","v":"00000000000000000000000000000000000000000000"}]
[{"$f":"IFERROR(LEFT(Gerar_Upload!A1806,120),\"erro\")","v":""},{"$f":"IFERROR(SUBSTITUTE(SUBSTITUTE(SUBSTITUTE(Gerar_Upload!B1806,\".\",\"\"),\"-\",\"\"),\"/\",\"\"),\"erro\")","v":""},{"$f":"IFERROR(Gerar_Upload!C1806,\"erro\")","v":0},{"$f":"IFERROR(Gerar_Upload!D1806,\"erro\")","v":0},{"$f":"IFERROR(DATE(YEAR(Gerar_Upload!E1806),MONTH(Gerar_Upload!E1806),DAY(Gerar_Upload!E1806)),\"erro\")","v":"00:00:00"},{"$f":"IFERROR(Gerar_Upload!F1806,\"erro\")","v":0},{"$f":"IFERROR(IF(Gerar_Upload!G1806<44,REPT(0,44-LEN(Gerar_Upload!G1806))&Gerar_Upload!G1806,Gerar_Upload!G1806),\"erro\")","v":"00000000000000000000000000000000000000000000"}]
[{"$f":"IFERROR(LEFT(Gerar_Upload!A1807,120),\"erro\")","v":""},{"$f":"IFERROR(SUBSTITUTE(SUBSTITUTE(SUBSTITUTE(Gerar_Upload!B1807,\".\",\"\"),\"-\",\"\"),\"/\",\"\"),\"erro\")","v":""},{"$f":"IFERROR(Gerar_Upload!C1807,\"erro\")","v":0},{"$f":"IFERROR(Gerar_Upload!D1807,\"erro\")","v":0},{"$f":"IFERROR(DATE(YEAR(Gerar_Upload!E1807),MONTH(Gerar_Upload!E1807),DAY(Gerar_Upload!E1807)),\"erro\")","v":"00:00:00"},{"$f":"IFERROR(Gerar_Upload!F1807,\"erro\")","v":0},{"$f":"IFERROR(IF(Gerar_Upload!G1807<44,REPT(0,44-LEN(Gerar_Upload!G1807))&Gerar_Upload!G1807,Gerar_Upload!G1807),\"erro\")","v":"00000000000000000000000000000000000000000000"}]
[{"$f":"IFERROR(LEFT(Gerar_Upload!A1808,120),\"erro\")","v":""},{"$f":"IFERROR(SUBSTITUTE(SUBSTITUTE(SUBSTITUTE(Gerar_Upload!B1808,\".\",\"\"),\"-\",\"\"),\"/\",\"\"),\"erro\")","v":""},{"$f":"IFERROR(Gerar_Upload!C1808,\"erro\")","v":0},{"$f":"IFERROR(Gerar_Upload!D1808,\"erro\")","v":0},{"$f":"IFERROR(DATE(YEAR(Gerar_Upload!E1808),MONTH(Gerar_Upload!E1808),DAY(Gerar_Upload!E1808)),\"erro\")","v":"00:00:00"},{"$f":"IFERROR(Gerar_Upload!F1808,\"erro\")","v":0},{"$f":"IFERROR(IF(Gerar_Upload!G1808<44,REPT(0,44-LEN(Gerar_Upload!G1808))&Gerar_Upload!G1808,Gerar_Upload!G1808),\"erro\")","v":"00000000000000000000000000000000000000000000"}]
[{"$f":"IFERROR(LEFT(Gerar_Upload!A1809,120),\"erro\")","v":""},{"$f":"IFERROR(SUBSTITUTE(SUBSTITUTE(SUBSTITUTE(Gerar_Upload!B1809,\".\",\"\"),\"-\",\"\"),\"/\",\"\"),\"erro\")","v":""},{"$f":"IFERROR(Gerar_Upload!C1809,\"erro\")","v":0},{"$f":"IFERROR(Gerar_Upload!D1809,\"erro\")","v":0},{"$f":"IFERROR(DATE(YEAR(Gerar_Upload!E1809),MONTH(Gerar_Upload!E1809),DAY(Gerar_Upload!E1809)),\"erro\")","v":"00:00:00"},{"$f":"IFERROR(Gerar_Upload!F1809,\"erro\")","v":0},{"$f":"IFERROR(IF(Gerar_Upload!G1809<44,REPT(0,44-LEN(Gerar_Upload!G1809))&Gerar_Upload!G1809,Gerar_Upload!G1809),\"erro\")","v":"00000000000000000000000000000000000000000000"}]
[{"$f":"IFERROR(LEFT(Gerar_Upload!A1810,120),\"erro\")","v":""},{"$f":"IFERROR(SUBSTITUTE(SUBSTITUTE(SUBSTITUTE(Gerar_Upload!B1810,\".\",\"\"),\"-\",\"\"),\"/\",\"\"),\"erro\")","v":""},{"$f":"IFERROR(Gerar_Upload!C1810,\"erro\")","v":0},{"$f":"IFERROR(Gerar_Upload!D1810,\"erro\")","v":0},{"$f":"IFERROR(DATE(YEAR(Gerar_Upload!E1810),MONTH(Gerar_Upload!E1810),DAY(Gerar_Upload!E1810)),\"erro\")","v":"00:00:00"},{"$f":"IFERROR(Gerar_Upload!F1810,\"erro\")","v":0},{"$f":"IFERROR(IF(Gerar_Upload!G1810<44,REPT(0,44-LEN(Gerar_Upload!G1810))&Gerar_Upload!G1810,Gerar_Upload!G1810),\"erro\")","v":"00000000000000000000000000000000000000000000"}]
[{"$f":"IFERROR(LEFT(Gerar_Upload!A1811,120),\"erro\")","v":""},{"$f":"IFERROR(SUBSTITUTE(SUBSTITUTE(SUBSTITUTE(Gerar_Upload!B1811,\".\",\"\"),\"-\",\"\"),\"/\",\"\"),\"erro\")","v":""},{"$f":"IFERROR(Gerar_Upload!C1811,\"erro\")","v":0},{"$f":"IFERROR(Gerar_Upload!D1811,\"erro\")","v":0},{"$f":"IFERROR(DATE(YEAR(Gerar_Upload!E1811),MONTH(Gerar_Upload!E1811),DAY(Gerar_Upload!E1811)),\"erro\")","v":"00:00:00"},{"$f":"IFERROR(Gerar_Upload!F1811,\"erro\")","v":0},{"$f":"IFERROR(IF(Gerar_Upload!G1811<44,REPT(0,44-LEN(Gerar_Upload!G1811))&Gerar_Upload!G1811,Gerar_Upload!G1811),\"erro\")","v":"00000000000000000000000000000000000000000000"}]
[{"$f":"IFERROR(LEFT(Gerar_Upload!A1812,120),\"erro\")","v":""},{"$f":"IFERROR(SUBSTITUTE(SUBSTITUTE(SUBSTITUTE(Gerar_Upload!B1812,\".\",\"\"),\"-\",\"\"),\"/\",\"\"),\"erro\")","v":""},{"$f":"IFERROR(Gerar_Upload!C1812,\"erro\")","v":0},{"$f":"IFERROR(Gerar_Upload!D1812,\"erro\")","v":0},{"$f":"IFERROR(DATE(YEAR(Gerar_Upload!E1812),MONTH(Gerar_Upload!E1812),DAY(Gerar_Upload!E1812)),\"erro\")","v":"00:00:00"},{"$f":"IFERROR(Gerar_Upload!F1812,\"erro\")","v":0},{"$f":"IFERROR(IF(Gerar_Upload!G1812<44,REPT(0,44-LEN(Gerar_Upload!G1812))&Gerar_Upload!G1812,Gerar_Upload!G1812),\"erro\")","v":"00000000000000000000000000000000000000000000"}]
[{"$f":"IFERROR(LEFT(Gerar_Upload!A1813,120),\"erro\")","v":""},{"$f":"IFERROR(SUBSTITUTE(SUBSTITUTE(SUBSTITUTE(Gerar_Upload!B1813,\".\",\"\"),\"-\",\"\"),\"/\",\"\"),\"erro\")","v":""},{"$f":"IFERROR(Gerar_Upload!C1813,\"erro\")","v":0},{"$f":"IFERROR(Gerar_Upload!D1813,\"erro\")","v":0},{"$f":"IFERROR(DATE(YEAR(Gerar_Upload!E1813),MONTH(Gerar_Upload!E1813),DAY(Gerar_Upload!E1813)),\"erro\")","v":"00:00:00"},{"$f":"IFERROR(Gerar_Upload!F1813,\"erro\")","v":0},{"$f":"IFERROR(IF(Gerar_Upload!G1813<44,REPT(0,44-LEN(Gerar_Upload!G1813))&Gerar_Upload!G1813,Gerar_Upload!G1813),\"erro\")","v":"00000000000000000000000000000000000000000000"}]
[{"$f":"IFERROR(LEFT(Gerar_Upload!A1814,120),\"erro\")","v":""},{"$f":"IFERROR(SUBSTITUTE(SUBSTITUTE(SUBSTITUTE(Gerar_Upload!B1814,\".\",\"\"),\"-\",\"\"),\"/\",\"\"),\"erro\")","v":""},{"$f":"IFERROR(Gerar_Upload!C1814,\"erro\")","v":0},{"$f":"IFERROR(Gerar_Upload!D1814,\"erro\")","v":0},{"$f":"IFERROR(DATE(YEAR(Gerar_Upload!E1814),MONTH(Gerar_Upload!E1814),DAY(Gerar_Upload!E1814)),\"erro\")","v":"00:00:00"},{"$f":"IFERROR(Gerar_Upload!F1814,\"erro\")","v":0},{"$f":"IFERROR(IF(Gerar_Upload!G1814<44,REPT(0,44-LEN(Gerar_Upload!G1814))&Gerar_Upload!G1814,Gerar_Upload!G1814),\"erro\")","v":"00000000000000000000000000000000000000000000"}]
[{"$f":"IFERROR(LEFT(Gerar_Upload!A1815,120),\"erro\")","v":""},{"$f":"IFERROR(SUBSTITUTE(SUBSTITUTE(SUBSTITUTE(Gerar_Upload!B1815,\".\",\"\"),\"-\",\"\"),\"/\",\"\"),\"erro\")","v":""},{"$f":"IFERROR(Gerar_Upload!C1815,\"erro\")","v":0},{"$f":"IFERROR(Gerar_Upload!D1815,\"erro\")","v":0},{"$f":"IFERROR(DATE(YEAR(Gerar_Upload!E1815),MONTH(Gerar_Upload!E1815),DAY(Gerar_Upload!E1815)),\"erro\")","v":"00:00:00"},{"$f":"IFERROR(Gerar_Upload!F1815,\"erro\")","v":0},{"$f":"IFERROR(IF(Gerar_Upload!G1815<44,REPT(0,44-LEN(Gerar_Upload!G1815))&Gerar_Upload!G1815,Gerar_Upload!G1815),\"erro\")","v":"00000000000000000000000000000000000000000000"}]
[{"$f":"IFERROR(LEFT(Gerar_Upload!A1816,120),\"erro\")","v":""},{"$f":"IFERROR(SUBSTITUTE(SUBSTITUTE(SUBSTITUTE(Gerar_Upload!B1816,\".\",\"\"),\"-\",\"\"),\"/\",\"\"),\"erro\")","v":""},{"$f":"IFERROR(Gerar_Upload!C1816,\"erro\")","v":0},{"$f":"IFERROR(Gerar_Upload!D1816,\"erro\")","v":0},{"$f":"IFERROR(DATE(YEAR(Gerar_Upload!E1816),MONTH(Gerar_Upload!E1816),DAY(Gerar_Upload!E1816)),\"erro\")","v":"00:00:00"},{"$f":"IFERROR(Gerar_Upload!F1816,\"erro\")","v":0},{"$f":"IFERROR(IF(Gerar_Upload!G1816<44,REPT(0,44-LEN(Gerar_Upload!G1816))&Gerar_Upload!G1816,Gerar_Upload!G1816),\"erro\")","v":"00000000000000000000000000000000000000000000"}]
[{"$f":"IFERROR(LEFT(Gerar_Upload!A1817,120),\"erro\")","v":""},{"$f":"IFERROR(SUBSTITUTE(SUBSTITUTE(SUBSTITUTE(Gerar_Upload!B1817,\".\",\"\"),\"-\",\"\"),\"/\",\"\"),\"erro\")","v":""},{"$f":"IFERROR(Gerar_Upload!C1817,\"erro\")","v":0},{"$f":"IFERROR(Gerar_Upload!D1817,\"erro\")","v":0},{"$f":"IFERROR(DATE(YEAR(Gerar_Upload!E1817),MONTH(Gerar_Upload!E1817),DAY(Gerar_Upload!E1817)),\"erro\")","v":"00:00:00"},{"$f":"IFERROR(Gerar_Upload!F1817,\"erro\")","v":0},{"$f":"IFERROR(IF(Gerar_Upload!G1817<44,REPT(0,44-LEN(Gerar_Upload!G1817))&Gerar_Upload!G1817,Gerar_Upload!G1817),\"erro\")","v":"00000000000000000000000000000000000000000000"}]
[{"$f":"IFERROR(LEFT(Gerar_Upload!A1818,120),\"erro\")","v":""},{"$f":"IFERROR(SUBSTITUTE(SUBSTITUTE(SUBSTITUTE(Gerar_Upload!B1818,\".\",\"\"),\"-\",\"\"),\"/\",\"\"),\"erro\")","v":""},{"$f":"IFERROR(Gerar_Upload!C1818,\"erro\")","v":0},{"$f":"IFERROR(Gerar_Upload!D1818,\"erro\")","v":0},{"$f":"IFERROR(DATE(YEAR(Gerar_Upload!E1818),MONTH(Gerar_Upload!E1818),DAY(Gerar_Upload!E1818)),\"erro\")","v":"00:00:00"},{"$f":"IFERROR(Gerar_Upload!F1818,\"erro\")","v":0},{"$f":"IFERROR(IF(Gerar_Upload!G1818<44,REPT(0,44-LEN(Gerar_Upload!G1818))&Gerar_Upload!G1818,Gerar_Upload!G1818),\"erro\")","v":"00000000000000000000000000000000000000000000"}]
[{"$f":"IFERROR(LEFT(Gerar_Upload!A1819,120),\"erro\")","v":""},{"$f":"IFERROR(SUBSTITUTE(SUBSTITUTE(SUBSTITUTE(Gerar_Upload!B1819,\".\",\"\"),\"-\",\"\"),\"/\",\"\"),\"erro\")","v":""},{"$f":"IFERROR(Gerar_Upload!C1819,\"erro\")","v":0},{"$f":"IFERROR(Gerar_Upload!D1819,\"erro\")","v":0},{"$f":"IFERROR(DATE(YEAR(Gerar_Upload!E1819),MONTH(Gerar_Upload!E1819),DAY(Gerar_Upload!E1819)),\"erro\")","v":"00:00:00"},{"$f":"IFERROR(Gerar_Upload!F1819,\"erro\")","v":0},{"$f":"IFERROR(IF(Gerar_Upload!G1819<44,REPT(0,44-LEN(Gerar_Upload!G1819))&Gerar_Upload!G1819,Gerar_Upload!G1819),\"erro\")","v":"00000000000000000000000000000000000000000000"}]
[{"$f":"IFERROR(LEFT(Gerar_Upload!A1820,120),\"erro\")","v":""},{"$f":"IFERROR(SUBSTITUTE(SUBSTITUTE(SUBSTITUTE(Gerar_Upload!B1820,\".\",\"\"),\"-\",\"\"),\"/\",\"\"),\"erro\")","v":""},{"$f":"IFERROR(Gerar_Upload!C1820,\"erro\")","v":0},{"$f":"IFERROR(Gerar_Upload!D1820,\"erro\")","v":0},{"$f":"IFERROR(DATE(YEAR(Gerar_Upload!E1820),MONTH(Gerar_Upload!E1820),DAY(Gerar_Upload!E1820)),\"erro\")","v":"00:00:00"},{"$f":"IFERROR(Gerar_Upload!F1820,\"erro\")","v":0},{"$f":"IFERROR(IF(Gerar_Upload!G1820<44,REPT(0,44-LEN(Gerar_Upload!G1820))&Gerar_Upload!G1820,Gerar_Upload!G1820),\"erro\")","v":"00000000000000000000000000000000000000000000"}]
[{"$f":"IFERROR(LEFT(Gerar_Upload!A1821,120),\"erro\")","v":""},{"$f":"IFERROR(SUBSTITUTE(SUBSTITUTE(SUBSTITUTE(Gerar_Upload!B1821,\".\",\"\"),\"-\",\"\"),\"/\",\"\"),\"erro\")","v":""},{"$f":"IFERROR(Gerar_Upload!C1821,\"erro\")","v":0},{"$f":"IFERROR(Gerar_Upload!D1821,\"erro\")","v":0},{"$f":"IFERROR(DATE(YEAR(Gerar_Upload!E1821),MONTH(Gerar_Upload!E1821),DAY(Gerar_Upload!E1821)),\"erro\")","v":"00:00:00"},{"$f":"IFERROR(Gerar_Upload!F1821,\"erro\")","v":0},{"$f":"IFERROR(IF(Gerar_Upload!G1821<44,REPT(0,44-LEN(Gerar_Upload!G1821))&Gerar_Upload!G1821,Gerar_Upload!G1821),\"erro\")","v":"00000000000000000000000000000000000000000000"}]
[{"$f":"IFERROR(LEFT(Gerar_Upload!A1822,120),\"erro\")","v":""},{"$f":"IFERROR(SUBSTITUTE(SUBSTITUTE(SUBSTITUTE(Gerar_Upload!B1822,\".\",\"\"),\"-\",\"\"),\"/\",\"\"),\"erro\")","v":""},{"$f":"IFERROR(Gerar_Upload!C1822,\"erro\")","v":0},{"$f":"IFERROR(Gerar_Upload!D1822,\"erro\")","v":0},{"$f":"IFERROR(DATE(YEAR(Gerar_Upload!E1822),MONTH(Gerar_Upload!E1822),DAY(Gerar_Upload!E1822)),\"erro\")","v":"00:00:00"},{"$f":"IFERROR(Gerar_Upload!F1822,\"erro\")","v":0},{"$f":"IFERROR(IF(Gerar_Upload!G1822<44,REPT(0,44-LEN(Gerar_Upload!G1822))&Gerar_Upload!G1822,Gerar_Upload!G1822),\"erro\")","v":"00000000000000000000000000000000000000000000"}]
[{"$f":"IFERROR(LEFT(Gerar_Upload!A1823,120),\"erro\")","v":""},{"$f":"IFERROR(SUBSTITUTE(SUBSTITUTE(SUBSTITUTE(Gerar_Upload!B1823,\".\",\"\"),\"-\",\"\"),\"/\",\"\"),\"erro\")","v":""},{"$f":"IFERROR(Gerar_Upload!C1823,\"erro\")","v":0},{"$f":"IFERROR(Gerar_Upload!D1823,\"erro\")","v":0},{"$f":"IFERROR(DATE(YEAR(Gerar_Upload!E1823),MONTH(Gerar_Upload!E1823),DAY(Gerar_Upload!E1823)),\"erro\")","v":"00:00:00"},{"$f":"IFERROR(Gerar_Upload!F1823,\"erro\")","v":0},{"$f":"IFERROR(IF(Gerar_Upload!G1823<44,REPT(0,44-LEN(Gerar_Upload!G1823))&Gerar_Upload!G1823,Gerar_Upload!G1823),\"erro\")","v":"00000000000000000000000000000000000000000000"}]
[{"$f":"IFERROR(LEFT(Gerar_Upload!A1824,120),\"erro\")","v":""},{"$f":"IFERROR(SUBSTITUTE(SUBSTITUTE(SUBSTITUTE(Gerar_Upload!B1824,\".\",\"\"),\"-\",\"\"),\"/\",\"\"),\"erro\")","v":""},{"$f":"IFERROR(Gerar_Upload!C1824,\"erro\")","v":0},{"$f":"IFERROR(Gerar_Upload!D1824,\"erro\")","v":0},{"$f":"IFERROR(DATE(YEAR(Gerar_Upload!E1824),MONTH(Gerar_Upload!E1824),DAY(Gerar_Upload!E1824)),\"erro\")","v":"00:00:00"},{"$f":"IFERROR(Gerar_Upload!F1824,\"erro\")","v":0},{"$f":"IFERROR(IF(Gerar_Upload!G1824<44,REPT(0,44-LEN(Gerar_Upload!G1824))&Gerar_Upload!G1824,Gerar_Upload!G1824),\"erro\")","v":"00000000000000000000000000000000000000000000"}]
[{"$f":"IFERROR(LEFT(Gerar_Upload!A1825,120),\"erro\")","v":""},{"$f":"IFERROR(SUBSTITUTE(SUBSTITUTE(SUBSTITUTE(Gerar_Upload!B1825,\".\",\"\"),\"-\",\"\"),\"/\",\"\"),\"erro\")","v":""},{"$f":"IFERROR(Gerar_Upload!C1825,\"erro\")","v":0},{"$f":"IFERROR(Gerar_Upload!D1825,\"erro\")","v":0},{"$f":"IFERROR(DATE(YEAR(Gerar_Upload!E1825),MONTH(Gerar_Upload!E1825),DAY(Gerar_Upload!E1825)),\"erro\")","v":"00:00:00"},{"$f":"IFERROR(Gerar_Upload!F1825,\"erro\")","v":0},{"$f":"IFERROR(IF(Gerar_Upload!G1825<44,REPT(0,44-LEN(Gerar_Upload!G1825))&Gerar_Upload!G1825,Gerar_Upload!G1825),\"erro\")","v":"00000000000000000000000000000000000000000000"}]
[{"$f":"IFERROR(LEFT(Gerar_Upload!A1826,120),\"erro\")","v":""},{"$f":"IFERROR(SUBSTITUTE(SUBSTITUTE(SUBSTITUTE(Gerar_Upload!B1826,\".\",\"\"),\"-\",\"\"),\"/\",\"\"),\"erro\")","v":""},{"$f":"IFERROR(Gerar_Upload!C1826,\"erro\")","v":0},{"$f":"IFERROR(Gerar_Upload!D1826,\"erro\")","v":0},{"$f":"IFERROR(DATE(YEAR(Gerar_Upload!E1826),MONTH(Gerar_Upload!E1826),DAY(Gerar_Upload!E1826)),\"erro\")","v":"00:00:00"},{"$f":"IFERROR(Gerar_Upload!F1826,\"erro\")","v":0},{"$f":"IFERROR(IF(Gerar_Upload!G1826<44,REPT(0,44-LEN(Gerar_Upload!G1826))&Gerar_Upload!G1826,Gerar_Upload!G1826),\"erro\")","v":"00000000000000000000000000000000000000000000"}]
[{"$f":"IFERROR(LEFT(Gerar_Upload!A1827,120),\"erro\")","v":""},{"$f":"IFERROR(SUBSTITUTE(SUBSTITUTE(SUBSTITUTE(Gerar_Upload!B1827,\".\",\"\"),\"-\",\"\"),\"/\",\"\"),\"erro\")","v":""},{"$f":"IFERROR(Gerar_Upload!C1827,\"erro\")","v":0},{"$f":"IFERROR(Gerar_Upload!D1827,\"erro\")","v":0},{"$f":"IFERROR(DATE(YEAR(Gerar_Upload!E1827),MONTH(Gerar_Upload!E1827),DAY(Gerar_Upload!E1827)),\"erro\")","v":"00:00:00"},{"$f":"IFERROR(Gerar_Upload!F1827,\"erro\")","v":0},{"$f":"IFERROR(IF(Gerar_Upload!G1827<44,REPT(0,44-LEN(Gerar_Upload!G1827))&Gerar_Upload!G1827,Gerar_Upload!G1827),\"erro\")","v":"00000000000000000000000000000000000000000000"}]
[{"$f":"IFERROR(LEFT(Gerar_Upload!A1828,120),\"erro\")","v":""},{"$f":"IFERROR(SUBSTITUTE(SUBSTITUTE(SUBSTITUTE(Gerar_Upload!B1828,\".\",\"\"),\"-\",\"\"),\"/\",\"\"),\"erro\")","v":""},{"$f":"IFERROR(Gerar_Upload!C1828,\"erro\")","v":0},{"$f":"IFERROR(Gerar_Upload!D1828,\"erro\")","v":0},{"$f":"IFERROR(DATE(YEAR(Gerar_Upload!E1828),MONTH(Gerar_Upload!E1828),DAY(Gerar_Upload!E1828)),\"erro\")","v":"00:00:00"},{"$f":"IFERROR(Gerar_Upload!F1828,\"erro\")","v":0},{"$f":"IFERROR(IF(Gerar_Upload!G1828<44,REPT(0,44-LEN(Gerar_Upload!G1828))&Gerar_Upload!G1828,Gerar_Upload!G1828),\"erro\")","v":"00000000000000000000000000000000000000000000"}]
[{"$f":"IFERROR(LEFT(Gerar_Upload!A1829,120),\"erro\")","v":""},{"$f":"IFERROR(SUBSTITUTE(SUBSTITUTE(SUBSTITUTE(Gerar_Upload!B1829,\".\",\"\"),\"-\",\"\"),\"/\",\"\"),\"erro\")","v":""},{"$f":"IFERROR(Gerar_Upload!C1829,\"erro\")","v":0},{"$f":"IFERROR(Gerar_Upload!D1829,\"erro\")","v":0},{"$f":"IFERROR(DATE(YEAR(Gerar_Upload!E1829),MONTH(Gerar_Upload!E1829),DAY(Gerar_Upload!E1829)),\"erro\")","v":"00:00:00"},{"$f":"IFERROR(Gerar_Upload!F1829,\"erro\")","v":0},{"$f":"IFERROR(IF(Gerar_Upload!G1829<44,REPT(0,44-LEN(Gerar_Upload!G1829))&Gerar_Upload!G1829,Gerar_Upload!G1829),\"erro\")","v":"00000000000000000000000000000000000000000000"}]
[{"$f":"IFERROR(LEFT(Gerar_Upload!A1830,120),\"erro\")","v":""},{"$f":"IFERROR(SUBSTITUTE(SUBSTITUTE(SUBSTITUTE(Gerar_Upload!B1830,\".\",\"\"),\"-\",\"\"),\"/\",\"\"),\"erro\")","v":""},{"$f":"IFERROR(Gerar_Upload!C1830,\"erro\")","v":0},{"$f":"IFERROR(Gerar_Upload!D1830,\"erro\")","v":0},{"$f":"IFERROR(DATE(YEAR(Gerar_Upload!E1830),MONTH(Gerar_Upload!E1830),DAY(Gerar_Upload!E1830)),\"erro\")","v":"00:00:00"},{"$f":"IFERROR(Gerar_Upload!F1830,\"erro\")","v":0},{"$f":"IFERROR(IF(Gerar_Upload!G1830<44,REPT(0,44-LEN(Gerar_Upload!G1830))&Gerar_Upload!G1830,Gerar_Upload!G1830),\"erro\")","v":"00000000000000000000000000000000000000000000"}]
[{"$f":"IFERROR(LEFT(Gerar_Upload!A1831,120),\"erro\")","v":""},{"$f":"IFERROR(SUBSTITUTE(SUBSTITUTE(SUBSTITUTE(Gerar_Upload!B1831,\".\",\"\"),\"-\",\"\"),\"/\",\"\"),\"erro\")","v":""},{"$f":"IFERROR(Gerar_Upload!C1831,\"erro\")","v":0},{"$f":"IFERROR(Gerar_Upload!D1831,\"erro\")","v":0},{"$f":"IFERROR(DATE(YEAR(Gerar_Upload!E1831),MONTH(Gerar_Upload!E1831),DAY(Gerar_Upload!E1831)),\"erro\")","v":"00:00:00"},{"$f":"IFERROR(Gerar_Upload!F1831,\"erro\")","v":0},{"$f":"IFERROR(IF(Gerar_Upload!G1831<44,REPT(0,44-LEN(Gerar_Upload!G1831))&Gerar_Upload!G1831,Gerar_Upload!G1831),\"erro\")","v":"00000000000000000000000000000000000000000000"}]
[{"$f":"IFERROR(LEFT(Gerar_Upload!A1832,120),\"erro\")","v":""},{"$f":"IFERROR(SUBSTITUTE(SUBSTITUTE(SUBSTITUTE(Gerar_Upload!B1832,\".\",\"\"),\"-\",\"\"),\"/\",\"\"),\"erro\")","v":""},{"$f":"IFERROR(Gerar_Upload!C1832,\"erro\")","v":0},{"$f":"IFERROR(Gerar_Upload!D1832,\"erro\")","v":0},{"$f":"IFERROR(DATE(YEAR(Gerar_Upload!E1832),MONTH(Gerar_Upload!E1832),DAY(Gerar_Upload!E1832)),\"erro\")","v":"00:00:00"},{"$f":"IFERROR(Gerar_Upload!F1832,\"erro\")","v":0},{"$f":"IFERROR(IF(Gerar_Upload!G1832<44,REPT(0,44-LEN(Gerar_Upload!G1832))&Gerar_Upload!G1832,Gerar_Upload!G1832),\"erro\")","v":"00000000000000000000000000000000000000000000"}]
[{"$f":"IFERROR(LEFT(Gerar_Upload!A1833,120),\"erro\")","v":""},{"$f":"IFERROR(SUBSTITUTE(SUBSTITUTE(SUBSTITUTE(Gerar_Upload!B1833,\".\",\"\"),\"-\",\"\"),\"/\",\"\"),\"erro\")","v":""},{"$f":"IFERROR(Gerar_Upload!C1833,\"erro\")","v":0},{"$f":"IFERROR(Gerar_Upload!D1833,\"erro\")","v":0},{"$f":"IFERROR(DATE(YEAR(Gerar_Upload!E1833),MONTH(Gerar_Upload!E1833),DAY(Gerar_Upload!E1833)),\"erro\")","v":"00:00:00"},{"$f":"IFERROR(Gerar_Upload!F1833,\"erro\")","v":0},{"$f":"IFERROR(IF(Gerar_Upload!G1833<44,REPT(0,44-LEN(Gerar_Upload!G1833))&Gerar_Upload!G1833,Gerar_Upload!G1833),\"erro\")","v":"00000000000000000000000000000000000000000000"}]
[{"$f":"IFERROR(LEFT(Gerar_Upload!A1834,120),\"erro\")","v":""},{"$f":"IFERROR(SUBSTITUTE(SUBSTITUTE(SUBSTITUTE(Gerar_Upload!B1834,\".\",\"\"),\"-\",\"\"),\"/\",\"\"),\"erro\")","v":""},{"$f":"IFERROR(Gerar_Upload!C1834,\"erro\")","v":0},{"$f":"IFERROR(Gerar_Upload!D1834,\"erro\")","v":0},{"$f":"IFERROR(DATE(YEAR(Gerar_Upload!E1834),MONTH(Gerar_Upload!E1834),DAY(Gerar_Upload!E1834)),\"erro\")","v":"00:00:00"},{"$f":"IFERROR(Gerar_Upload!F1834,\"erro\")","v":0},{"$f":"IFERROR(IF(Gerar_Upload!G1834<44,REPT(0,44-LEN(Gerar_Upload!G1834))&Gerar_Upload!G1834,Gerar_Upload!G1834),\"erro\")","v":"00000000000000000000000000000000000000000000"}]
[{"$f":"IFERROR(LEFT(Gerar_Upload!A1835,120),\"erro\")","v":""},{"$f":"IFERROR(SUBSTITUTE(SUBSTITUTE(SUBSTITUTE(Gerar_Upload!B1835,\".\",\"\"),\"-\",\"\"),\"/\",\"\"),\"erro\")","v":""},{"$f":"IFERROR(Gerar_Upload!C1835,\"erro\")","v":0},{"$f":"IFERROR(Gerar_Upload!D1835,\"erro\")","v":0},{"$f":"IFERROR(DATE(YEAR(Gerar_Upload!E1835),MONTH(Gerar_Upload!E1835),DAY(Gerar_Upload!E1835)),\"erro\")","v":"00:00:00"},{"$f":"IFERROR(Gerar_Upload!F1835,\"erro\")","v":0},{"$f":"IFERROR(IF(Gerar_Upload!G1835<44,REPT(0,44-LEN(Gerar_Upload!G1835))&Gerar_Upload!G1835,Gerar_Upload!G1835),\"erro\")","v":"00000000000000000000000000000000000000000000"}]
[{"$f":"IFERROR(LEFT(Gerar_Upload!A1836,120),\"erro\")","v":""},{"$f":"IFERROR(SUBSTITUTE(SUBSTITUTE(SUBSTITUTE(Gerar_Upload!B1836,\".\",\"\"),\"-\",\"\"),\"/\",\"\"),\"erro\")","v":""},{"$f":"IFERROR(Gerar_Upload!C1836,\"erro\")","v":0},{"$f":"IFERROR(Gerar_Upload!D1836,\"erro\")","v":0},{"$f":"IFERROR(DATE(YEAR(Gerar_Upload!E1836),MONTH(Gerar_Upload!E1836),DAY(Gerar_Upload!E1836)),\"erro\")","v":"00:00:00"},{"$f":"IFERROR(Gerar_Upload!F1836,\"erro\")","v":0},{"$f":"IFERROR(IF(Gerar_Upload!G1836<44,REPT(0,44-LEN(Gerar_Upload!G1836))&Gerar_Upload!G1836,Gerar_Upload!G1836),\"erro\")","v":"00000000000000000000000000000000000000000000"}]
[{"$f":"IFERROR(LEFT(Gerar_Upload!A1837,120),\"erro\")","v":""},{"$f":"IFERROR(SUBSTITUTE(SUBSTITUTE(SUBSTITUTE(Gerar_Upload!B1837,\".\",\"\"),\"-\",\"\"),\"/\",\"\"),\"erro\")","v":""},{"$f":"IFERROR(Gerar_Upload!C1837,\"erro\")","v":0},{"$f":"IFERROR(Gerar_Upload!D1837,\"erro\")","v":0},{"$f":"IFERROR(DATE(YEAR(Gerar_Upload!E1837),MONTH(Gerar_Upload!E1837),DAY(Gerar_Upload!E1837)),\"erro\")","v":"00:00:00"},{"$f":"IFERROR(Gerar_Upload!F1837,\"erro\")","v":0},{"$f":"IFERROR(IF(Gerar_Upload!G1837<44,REPT(0,44-LEN(Gerar_Upload!G1837))&Gerar_Upload!G1837,Gerar_Upload!G1837),\"erro\")","v":"00000000000000000000000000000000000000000000"}]
[{"$f":"IFERROR(LEFT(Gerar_Upload!A1838,120),\"erro\")","v":""},{"$f":"IFERROR(SUBSTITUTE(SUBSTITUTE(SUBSTITUTE(Gerar_Upload!B1838,\".\",\"\"),\"-\",\"\"),\"/\",\"\"),\"erro\")","v":""},{"$f":"IFERROR(Gerar_Upload!C1838,\"erro\")","v":0},{"$f":"IFERROR(Gerar_Upload!D1838,\"erro\")","v":0},{"$f":"IFERROR(DATE(YEAR(Gerar_Upload!E1838),MONTH(Gerar_Upload!E1838),DAY(Gerar_Upload!E1838)),\"erro\")","v":"00:00:00"},{"$f":"IFERROR(Gerar_Upload!F1838,\"erro\")","v":0},{"$f":"IFERROR(IF(Gerar_Upload!G1838<44,REPT(0,44-LEN(Gerar_Upload!G1838))&Gerar_Upload!G1838,Gerar_Upload!G1838),\"erro\")","v":"00000000000000000000000000000000000000000000"}]
[{"$f":"IFERROR(LEFT(Gerar_Upload!A1839,120),\"erro\")","v":""},{"$f":"IFERROR(SUBSTITUTE(SUBSTITUTE(SUBSTITUTE(Gerar_Upload!B1839,\".\",\"\"),\"-\",\"\"),\"/\",\"\"),\"erro\")","v":""},{"$f":"IFERROR(Gerar_Upload!C1839,\"erro\")","v":0},{"$f":"IFERROR(Gerar_Upload!D1839,\"erro\")","v":0},{"$f":"IFERROR(DATE(YEAR(Gerar_Upload!E1839),MONTH(Gerar_Upload!E1839),DAY(Gerar_Upload!E1839)),\"erro\")","v":"00:00:00"},{"$f":"IFERROR(Gerar_Upload!F1839,\"erro\")","v":0},{"$f":"IFERROR(IF(Gerar_Upload!G1839<44,REPT(0,44-LEN(Gerar_Upload!G1839))&Gerar_Upload!G1839,Gerar_Upload!G1839),\"erro\")","v":"00000000000000000000000000000000000000000000"}]
[{"$f":"IFERROR(LEFT(Gerar_Upload!A1840,120),\"erro\")","v":""},{"$f":"IFERROR(SUBSTITUTE(SUBSTITUTE(SUBSTITUTE(Gerar_Upload!B1840,\".\",\"\"),\"-\",\"\"),\"/\",\"\"),\"erro\")","v":""},{"$f":"IFERROR(Gerar_Upload!C1840,\"erro\")","v":0},{"$f":"IFERROR(Gerar_Upload!D1840,\"erro\")","v":0},{"$f":"IFERROR(DATE(YEAR(Gerar_Upload!E1840),MONTH(Gerar_Upload!E1840),DAY(Gerar_Upload!E1840)),\"erro\")","v":"00:00:00"},{"$f":"IFERROR(Gerar_Upload!F1840,\"erro\")","v":0},{"$f":"IFERROR(IF(Gerar_Upload!G1840<44,REPT(0,44-LEN(Gerar_Upload!G1840))&Gerar_Upload!G1840,Gerar_Upload!G1840),\"erro\")","v":"00000000000000000000000000000000000000000000"}]
[{"$f":"IFERROR(LEFT(Gerar_Upload!A1841,120),\"erro\")","v":""},{"$f":"IFERROR(SUBSTITUTE(SUBSTITUTE(SUBSTITUTE(Gerar_Upload!B1841,\".\",\"\"),\"-\",\"\"),\"/\",\"\"),\"erro\")","v":""},{"$f":"IFERROR(Gerar_Upload!C1841,\"erro\")","v":0},{"$f":"IFERROR(Gerar_Upload!D1841,\"erro\")","v":0},{"$f":"IFERROR(DATE(YEAR(Gerar_Upload!E1841),MONTH(Gerar_Upload!E1841),DAY(Gerar_Upload!E1841)),\"erro\")","v":"00:00:00"},{"$f":"IFERROR(Gerar_Upload!F1841,\"erro\")","v":0},{"$f":"IFERROR(IF(Gerar_Upload!G1841<44,REPT(0,44-LEN(Gerar_Upload!G1841))&Gerar_Upload!G1841,Gerar_Upload!G1841),\"erro\")","v":"00000000000000000000000000000000000000000000"}]
[{"$f":"IFERROR(LEFT(Gerar_Upload!A1842,120),\"erro\")","v":""},{"$f":"IFERROR(SUBSTITUTE(SUBSTITUTE(SUBSTITUTE(Gerar_Upload!B1842,\".\",\"\"),\"-\",\"\"),\"/\",\"\"),\"erro\")","v":""},{"$f":"IFERROR(Gerar_Upload!C1842,\"erro\")","v":0},{"$f":"IFERROR(Gerar_Upload!D1842,\"erro\")","v":0},{"$f":"IFERROR(DATE(YEAR(Gerar_Upload!E1842),MONTH(Gerar_Upload!E1842),DAY(Gerar_Upload!E1842)),\"erro\")","v":"00:00:00"},{"$f":"IFERROR(Gerar_Upload!F1842,\"erro\")","v":0},{"$f":"IFERROR(IF(Gerar_Upload!G1842<44,REPT(0,44-LEN(Gerar_Upload!G1842))&Gerar_Upload!G1842,Gerar_Upload!G1842),\"erro\")","v":"00000000000000000000000000000000000000000000"}]
[{"$f":"IFERROR(LEFT(Gerar_Upload!A1843,120),\"erro\")","v":""},{"$f":"IFERROR(SUBSTITUTE(SUBSTITUTE(SUBSTITUTE(Gerar_Upload!B1843,\".\",\"\"),\"-\",\"\"),\"/\",\"\"),\"erro\")","v":""},{"$f":"IFERROR(Gerar_Upload!C1843,\"erro\")","v":0},{"$f":"IFERROR(Gerar_Upload!D1843,\"erro\")","v":0},{"$f":"IFERROR(DATE(YEAR(Gerar_Upload!E1843),MONTH(Gerar_Upload!E1843),DAY(Gerar_Upload!E1843)),\"erro\")","v":"00:00:00"},{"$f":"IFERROR(Gerar_Upload!F1843,\"erro\")","v":0},{"$f":"IFERROR(IF(Gerar_Upload!G1843<44,REPT(0,44-LEN(Gerar_Upload!G1843))&Gerar_Upload!G1843,Gerar_Upload!G1843),\"erro\")","v":"00000000000000000000000000000000000000000000"}]
[{"$f":"IFERROR(LEFT(Gerar_Upload!A1844,120),\"erro\")","v":""},{"$f":"IFERROR(SUBSTITUTE(SUBSTITUTE(SUBSTITUTE(Gerar_Upload!B1844,\".\",\"\"),\"-\",\"\"),\"/\",\"\"),\"erro\")","v":""},{"$f":"IFERROR(Gerar_Upload!C1844,\"erro\")","v":0},{"$f":"IFERROR(Gerar_Upload!D1844,\"erro\")","v":0},{"$f":"IFERROR(DATE(YEAR(Gerar_Upload!E1844),MONTH(Gerar_Upload!E1844),DAY(Gerar_Upload!E1844)),\"erro\")","v":"00:00:00"},{"$f":"IFERROR(Gerar_Upload!F1844,\"erro\")","v":0},{"$f":"IFERROR(IF(Gerar_Upload!G1844<44,REPT(0,44-LEN(Gerar_Upload!G1844))&Gerar_Upload!G1844,Gerar_Upload!G1844),\"erro\")","v":"00000000000000000000000000000000000000000000"}]
[{"$f":"IFERROR(LEFT(Gerar_Upload!A1845,120),\"erro\")","v":""},{"$f":"IFERROR(SUBSTITUTE(SUBSTITUTE(SUBSTITUTE(Gerar_Upload!B1845,\".\",\"\"),\"-\",\"\"),\"/\",\"\"),\"erro\")","v":""},{"$f":"IFERROR(Gerar_Upload!C1845,\"erro\")","v":0},{"$f":"IFERROR(Gerar_Upload!D1845,\"erro\")","v":0},{"$f":"IFERROR(DATE(YEAR(Gerar_Upload!E1845),MONTH(Gerar_Upload!E1845),DAY(Gerar_Upload!E1845)),\"erro\")","v":"00:00:00"},{"$f":"IFERROR(Gerar_Upload!F1845,\"erro\")","v":0},{"$f":"IFERROR(IF(Gerar_Upload!G1845<44,REPT(0,44-LEN(Gerar_Upload!G1845))&Gerar_Upload!G1845,Gerar_Upload!G1845),\"erro\")","v":"00000000000000000000000000000000000000000000"}]
[{"$f":"IFERROR(LEFT(Gerar_Upload!A1846,120),\"erro\")","v":""},{"$f":"IFERROR(SUBSTITUTE(SUBSTITUTE(SUBSTITUTE(Gerar_Upload!B1846,\".\",\"\"),\"-\",\"\"),\"/\",\"\"),\"erro\")","v":""},{"$f":"IFERROR(Gerar_Upload!C1846,\"erro\")","v":0},{"$f":"IFERROR(Gerar_Upload!D1846,\"erro\")","v":0},{"$f":"IFERROR(DATE(YEAR(Gerar_Upload!E1846),MONTH(Gerar_Upload!E1846),DAY(Gerar_Upload!E1846)),\"erro\")","v":"00:00:00"},{"$f":"IFERROR(Gerar_Upload!F1846,\"erro\")","v":0},{"$f":"IFERROR(IF(Gerar_Upload!G1846<44,REPT(0,44-LEN(Gerar_Upload!G1846))&Gerar_Upload!G1846,Gerar_Upload!G1846),\"erro\")","v":"00000000000000000000000000000000000000000000"}]
[{"$f":"IFERROR(LEFT(Gerar_Upload!A1847,120),\"erro\")","v":""},{"$f":"IFERROR(SUBSTITUTE(SUBSTITUTE(SUBSTITUTE(Gerar_Upload!B1847,\".\",\"\"),\"-\",\"\"),\"/\",\"\"),\"erro\")","v":""},{"$f":"IFERROR(Gerar_Upload!C1847,\"erro\")","v":0},{"$f":"IFERROR(Gerar_Upload!D1847,\"erro\")","v":0},{"$f":"IFERROR(DATE(YEAR(Gerar_Upload!E1847),MONTH(Gerar_Upload!E1847),DAY(Gerar_Upload!E1847)),\"erro\")","v":"00:00:00"},{"$f":"IFERROR(Gerar_Upload!F1847,\"erro\")","v":0},{"$f":"IFERROR(IF(Gerar_Upload!G1847<44,REPT(0,44-LEN(Gerar_Upload!G1847))&Gerar_Upload!G1847,Gerar_Upload!G1847),\"erro\")","v":"00000000000000000000000000000000000000000000"}]
[{"$f":"IFERROR(LEFT(Gerar_Upload!A1848,120),\"erro\")","v":""},{"$f":"IFERROR(SUBSTITUTE(SUBSTITUTE(SUBSTITUTE(Gerar_Upload!B1848,\".\",\"\"),\"-\",\"\"),\"/\",\"\"),\"erro\")","v":""},{"$f":"IFERROR(Gerar_Upload!C1848,\"erro\")","v":0},{"$f":"IFERROR(Gerar_Upload!D1848,\"erro\")","v":0},{"$f":"IFERROR(DATE(YEAR(Gerar_Upload!E1848),MONTH(Gerar_Upload!E1848),DAY(Gerar_Upload!E1848)),\"erro\")","v":"00:00:00"},{"$f":"IFERROR(Gerar_Upload!F1848,\"erro\")","v":0},{"$f":"IFERROR(IF(Gerar_Upload!G1848<44,REPT(0,44-LEN(Gerar_Upload!G1848))&Gerar_Upload!G1848,Gerar_Upload!G1848),\"erro\")","v":"00000000000000000000000000000000000000000000"}]
[{"$f":"IFERROR(LEFT(Gerar_Upload!A1849,120),\"erro\")","v":""},{"$f":"IFERROR(SUBSTITUTE(SUBSTITUTE(SUBSTITUTE(Gerar_Upload!B1849,\".\",\"\"),\"-\",\"\"),\"/\",\"\"),\"erro\")","v":""},{"$f":"IFERROR(Gerar_Upload!C1849,\"erro\")","v":0},{"$f":"IFERROR(Gerar_Upload!D1849,\"erro\")","v":0},{"$f":"IFERROR(DATE(YEAR(Gerar_Upload!E1849),MONTH(Gerar_Upload!E1849),DAY(Gerar_Upload!E1849)),\"erro\")","v":"00:00:00"},{"$f":"IFERROR(Gerar_Upload!F1849,\"erro\")","v":0},{"$f":"IFERROR(IF(Gerar_Upload!G1849<44,REPT(0,44-LEN(Gerar_Upload!G1849))&Gerar_Upload!G1849,Gerar_Upload!G1849),\"erro\")","v":"00000000000000000000000000000000000000000000"}]
[{"$f":"IFERROR(LEFT(Gerar_Upload!A1850,120),\"erro\")","v":""},{"$f":"IFERROR(SUBSTITUTE(SUBSTITUTE(SUBSTITUTE(Gerar_Upload!B1850,\".\",\"\"),\"-\",\"\"),\"/\",\"\"),\"erro\")","v":""},{"$f":"IFERROR(Gerar_Upload!C1850,\"erro\")","v":0},{"$f":"IFERROR(Gerar_Upload!D1850,\"erro\")","v":0},{"$f":"IFERROR(DATE(YEAR(Gerar_Upload!E1850),MONTH(Gerar_Upload!E1850),DAY(Gerar_Upload!E1850)),\"erro\")","v":"00:00:00"},{"$f":"IFERROR(Gerar_Upload!F1850,\"erro\")","v":0},{"$f":"IFERROR(IF(Gerar_Upload!G1850<44,REPT(0,44-LEN(Gerar_Upload!G1850))&Gerar_Upload!G1850,Gerar_Upload!G1850),\"erro\")","v":"00000000000000000000000000000000000000000000"}]
[{"$f":"IFERROR(LEFT(Gerar_Upload!A1851,120),\"erro\")","v":""},{"$f":"IFERROR(SUBSTITUTE(SUBSTITUTE(SUBSTITUTE(Gerar_Upload!B1851,\".\",\"\"),\"-\",\"\"),\"/\",\"\"),\"erro\")","v":""},{"$f":"IFERROR(Gerar_Upload!C1851,\"erro\")","v":0},{"$f":"IFERROR(Gerar_Upload!D1851,\"erro\")","v":0},{"$f":"IFERROR(DATE(YEAR(Gerar_Upload!E1851),MONTH(Gerar_Upload!E1851),DAY(Gerar_Upload!E1851)),\"erro\")","v":"00:00:00"},{"$f":"IFERROR(Gerar_Upload!F1851,\"erro\")","v":0},{"$f":"IFERROR(IF(Gerar_Upload!G1851<44,REPT(0,44-LEN(Gerar_Upload!G1851))&Gerar_Upload!G1851,Gerar_Upload!G1851),\"erro\")","v":"00000000000000000000000000000000000000000000"}]
[{"$f":"IFERROR(LEFT(Gerar_Upload!A1852,120),\"erro\")","v":""},{"$f":"IFERROR(SUBSTITUTE(SUBSTITUTE(SUBSTITUTE(Gerar_Upload!B1852,\".\",\"\"),\"-\",\"\"),\"/\",\"\"),\"erro\")","v":""},{"$f":"IFERROR(Gerar_Upload!C1852,\"erro\")","v":0},{"$f":"IFERROR(Gerar_Upload!D1852,\"erro\")","v":0},{"$f":"IFERROR(DATE(YEAR(Gerar_Upload!E1852),MONTH(Gerar_Upload!E1852),DAY(Gerar_Upload!E1852)),\"erro\")","v":"00:00:00"},{"$f":"IFERROR(Gerar_Upload!F1852,\"erro\")","v":0},{"$f":"IFERROR(IF(Gerar_Upload!G1852<44,REPT(0,44-LEN(Gerar_Upload!G1852))&Gerar_Upload!G1852,Gerar_Upload!G1852),\"erro\")","v":"00000000000000000000000000000000000000000000"}]
[{"$f":"IFERROR(LEFT(Gerar_Upload!A1853,120),\"erro\")","v":""},{"$f":"IFERROR(SUBSTITUTE(SUBSTITUTE(SUBSTITUTE(Gerar_Upload!B1853,\".\",\"\"),\"-\",\"\"),\"/\",\"\"),\"erro\")","v":""},{"$f":"IFERROR(Gerar_Upload!C1853,\"erro\")","v":0},{"$f":"IFERROR(Gerar_Upload!D1853,\"erro\")","v":0},{"$f":"IFERROR(DATE(YEAR(Gerar_Upload!E1853),MONTH(Gerar_Upload!E1853),DAY(Gerar_Upload!E1853)),\"erro\")","v":"00:00:00"},{"$f":"IFERROR(Gerar_Upload!F1853,\"erro\")","v":0},{"$f":"IFERROR(IF(Gerar_Upload!G1853<44,REPT(0,44-LEN(Gerar_Upload!G1853))&Gerar_Upload!G1853,Gerar_Upload!G1853),\"erro\")","v":"00000000000000000000000000000000000000000000"}]
[{"$f":"IFERROR(LEFT(Gerar_Upload!A1854,120),\"erro\")","v":""},{"$f":"IFERROR(SUBSTITUTE(SUBSTITUTE(SUBSTITUTE(Gerar_Upload!B1854,\".\",\"\"),\"-\",\"\"),\"/\",\"\"),\"erro\")","v":""},{"$f":"IFERROR(Gerar_Upload!C1854,\"erro\")","v":0},{"$f":"IFERROR(Gerar_Upload!D1854,\"erro\")","v":0},{"$f":"IFERROR(DATE(YEAR(Gerar_Upload!E1854),MONTH(Gerar_Upload!E1854),DAY(Gerar_Upload!E1854)),\"erro\")","v":"00:00:00"},{"$f":"IFERROR(Gerar_Upload!F1854,\"erro\")","v":0},{"$f":"IFERROR(IF(Gerar_Upload!G1854<44,REPT(0,44-LEN(Gerar_Upload!G1854))&Gerar_Upload!G1854,Gerar_Upload!G1854),\"erro\")","v":"00000000000000000000000000000000000000000000"}]
[{"$f":"IFERROR(LEFT(Gerar_Upload!A1855,120),\"erro\")","v":""},{"$f":"IFERROR(SUBSTITUTE(SUBSTITUTE(SUBSTITUTE(Gerar_Upload!B1855,\".\",\"\"),\"-\",\"\"),\"/\",\"\"),\"erro\")","v":""},{"$f":"IFERROR(Gerar_Upload!C1855,\"erro\")","v":0},{"$f":"IFERROR(Gerar_Upload!D1855,\"erro\")","v":0},{"$f":"IFERROR(DATE(YEAR(Gerar_Upload!E1855),MONTH(Gerar_Upload!E1855),DAY(Gerar_Upload!E1855)),\"erro\")","v":"00:00:00"},{"$f":"IFERROR(Gerar_Upload!F1855,\"erro\")","v":0},{"$f":"IFERROR(IF(Gerar_Upload!G1855<44,REPT(0,44-LEN(Gerar_Upload!G1855))&Gerar_Upload!G1855,Gerar_Upload!G1855),\"erro\")","v":"00000000000000000000000000000000000000000000"}]
[{"$f":"IFERROR(LEFT(Gerar_Upload!A1856,120),\"erro\")","v":""},{"$f":"IFERROR(SUBSTITUTE(SUBSTITUTE(SUBSTITUTE(Gerar_Upload!B1856,\".\",\"\"),\"-\",\"\"),\"/\",\"\"),\"erro\")","v":""},{"$f":"IFERROR(Gerar_Upload!C1856,\"erro\")","v":0},{"$f":"IFERROR(Gerar_Upload!D1856,\"erro\")","v":0},{"$f":"IFERROR(DATE(YEAR(Gerar_Upload!E1856),MONTH(Gerar_Upload!E1856),DAY(Gerar_Upload!E1856)),\"erro\")","v":"00:00:00"},{"$f":"IFERROR(Gerar_Upload!F1856,\"erro\")","v":0},{"$f":"IFERROR(IF(Gerar_Upload!G1856<44,REPT(0,44-LEN(Gerar_Upload!G1856))&Gerar_Upload!G1856,Gerar_Upload!G1856),\"erro\")","v":"00000000000000000000000000000000000000000000"}]
[{"$f":"IFERROR(LEFT(Gerar_Upload!A1857,120),\"erro\")","v":""},{"$f":"IFERROR(SUBSTITUTE(SUBSTITUTE(SUBSTITUTE(Gerar_Upload!B1857,\".\",\"\"),\"-\",\"\"),\"/\",\"\"),\"erro\")","v":""},{"$f":"IFERROR(Gerar_Upload!C1857,\"erro\")","v":0},{"$f":"IFERROR(Gerar_Upload!D1857,\"erro\")","v":0},{"$f":"IFERROR(DATE(YEAR(Gerar_Upload!E1857),MONTH(Gerar_Upload!E1857),DAY(Gerar_Upload!E1857)),\"erro\")","v":"00:00:00"},{"$f":"IFERROR(Gerar_Upload!F1857,\"erro\")","v":0},{"$f":"IFERROR(IF(Gerar_Upload!G1857<44,REPT(0,44-LEN(Gerar_Upload!G1857))&Gerar_Upload!G1857,Gerar_Upload!G1857),\"erro\")","v":"00000000000000000000000000000000000000000000"}]
[{"$f":"IFERROR(LEFT(Gerar_Upload!A1858,120),\"erro\")","v":""},{"$f":"IFERROR(SUBSTITUTE(SUBSTITUTE(SUBSTITUTE(Gerar_Upload!B1858,\".\",\"\"),\"-\",\"\"),\"/\",\"\"),\"erro\")","v":""},{"$f":"IFERROR(Gerar_Upload!C1858,\"erro\")","v":0},{"$f":"IFERROR(Gerar_Upload!D1858,\"erro\")","v":0},{"$f":"IFERROR(DATE(YEAR(Gerar_Upload!E1858),MONTH(Gerar_Upload!E1858),DAY(Gerar_Upload!E1858)),\"erro\")","v":"00:00:00"},{"$f":"IFERROR(Gerar_Upload!F1858,\"erro\")","v":0},{"$f":"IFERROR(IF(Gerar_Upload!G1858<44,REPT(0,44-LEN(Gerar_Upload!G1858))&Gerar_Upload!G1858,Gerar_Upload!G1858),\"erro\")","v":"00000000000000000000000000000000000000000000"}]
[{"$f":"IFERROR(LEFT(Gerar_Upload!A1859,120),\"erro\")","v":""},{"$f":"IFERROR(SUBSTITUTE(SUBSTITUTE(SUBSTITUTE(Gerar_Upload!B1859,\".\",\"\"),\"-\",\"\"),\"/\",\"\"),\"erro\")","v":""},{"$f":"IFERROR(Gerar_Upload!C1859,\"erro\")","v":0},{"$f":"IFERROR(Gerar_Upload!D1859,\"erro\")","v":0},{"$f":"IFERROR(DATE(YEAR(Gerar_Upload!E1859),MONTH(Gerar_Upload!E1859),DAY(Gerar_Upload!E1859)),\"erro\")","v":"00:00:00"},{"$f":"IFERROR(Gerar_Upload!F1859,\"erro\")","v":0},{"$f":"IFERROR(IF(Gerar_Upload!G1859<44,REPT(0,44-LEN(Gerar_Upload!G1859))&Gerar_Upload!G1859,Gerar_Upload!G1859),\"erro\")","v":"00000000000000000000000000000000000000000000"}]
[{"$f":"IFERROR(LEFT(Gerar_Upload!A1860,120),\"erro\")","v":""},{"$f":"IFERROR(SUBSTITUTE(SUBSTITUTE(SUBSTITUTE(Gerar_Upload!B1860,\".\",\"\"),\"-\",\"\"),\"/\",\"\"),\"erro\")","v":""},{"$f":"IFERROR(Gerar_Upload!C1860,\"erro\")","v":0},{"$f":"IFERROR(Gerar_Upload!D1860,\"erro\")","v":0},{"$f":"IFERROR(DATE(YEAR(Gerar_Upload!E1860),MONTH(Gerar_Upload!E1860),DAY(Gerar_Upload!E1860)),\"erro\")","v":"00:00:00"},{"$f":"IFERROR(Gerar_Upload!F1860,\"erro\")","v":0},{"$f":"IFERROR(IF(Gerar_Upload!G1860<44,REPT(0,44-LEN(Gerar_Upload!G1860))&Gerar_Upload!G1860,Gerar_Upload!G1860),\"erro\")","v":"00000000000000000000000000000000000000000000"}]
[{"$f":"IFERROR(LEFT(Gerar_Upload!A1861,120),\"erro\")","v":""},{"$f":"IFERROR(SUBSTITUTE(SUBSTITUTE(SUBSTITUTE(Gerar_Upload!B1861,\".\",\"\"),\"-\",\"\"),\"/\",\"\"),\"erro\")","v":""},{"$f":"IFERROR(Gerar_Upload!C1861,\"erro\")","v":0},{"$f":"IFERROR(Gerar_Upload!D1861,\"erro\")","v":0},{"$f":"IFERROR(DATE(YEAR(Gerar_Upload!E1861),MONTH(Gerar_Upload!E1861),DAY(Gerar_Upload!E1861)),\"erro\")","v":"00:00:00"},{"$f":"IFERROR(Gerar_Upload!F1861,\"erro\")","v":0},{"$f":"IFERROR(IF(Gerar_Upload!G1861<44,REPT(0,44-LEN(Gerar_Upload!G1861))&Gerar_Upload!G1861,Gerar_Upload!G1861),\"erro\")","v":"00000000000000000000000000000000000000000000"}]
[{"$f":"IFERROR(LEFT(Gerar_Upload!A1862,120),\"erro\")","v":""},{"$f":"IFERROR(SUBSTITUTE(SUBSTITUTE(SUBSTITUTE(Gerar_Upload!B1862,\".\",\"\"),\"-\",\"\"),\"/\",\"\"),\"erro\")","v":""},{"$f":"IFERROR(Gerar_Upload!C1862,\"erro\")","v":0},{"$f":"IFERROR(Gerar_Upload!D1862,\"erro\")","v":0},{"$f":"IFERROR(DATE(YEAR(Gerar_Upload!E1862),MONTH(Gerar_Upload!E1862),DAY(Gerar_Upload!E1862)),\"erro\")","v":"00:00:00"},{"$f":"IFERROR(Gerar_Upload!F1862,\"erro\")","v":0},{"$f":"IFERROR(IF(Gerar_Upload!G1862<44,REPT(0,44-LEN(Gerar_Upload!G1862))&Gerar_Upload!G1862,Gerar_Upload!G1862),\"erro\")","v":"00000000000000000000000000000000000000000000"}]
[{"$f":"IFERROR(LEFT(Gerar_Upload!A1863,120),\"erro\")","v":""},{"$f":"IFERROR(SUBSTITUTE(SUBSTITUTE(SUBSTITUTE(Gerar_Upload!B1863,\".\",\"\"),\"-\",\"\"),\"/\",\"\"),\"erro\")","v":""},{"$f":"IFERROR(Gerar_Upload!C1863,\"erro\")","v":0},{"$f":"IFERROR(Gerar_Upload!D1863,\"erro\")","v":0},{"$f":"IFERROR(DATE(YEAR(Gerar_Upload!E1863),MONTH(Gerar_Upload!E1863),DAY(Gerar_Upload!E1863)),\"erro\")","v":"00:00:00"},{"$f":"IFERROR(Gerar_Upload!F1863,\"erro\")","v":0},{"$f":"IFERROR(IF(Gerar_Upload!G1863<44,REPT(0,44-LEN(Gerar_Upload!G1863))&Gerar_Upload!G1863,Gerar_Upload!G1863),\"erro\")","v":"00000000000000000000000000000000000000000000"}]
[{"$f":"IFERROR(LEFT(Gerar_Upload!A1864,120),\"erro\")","v":""},{"$f":"IFERROR(SUBSTITUTE(SUBSTITUTE(SUBSTITUTE(Gerar_Upload!B1864,\".\",\"\"),\"-\",\"\"),\"/\",\"\"),\"erro\")","v":""},{"$f":"IFERROR(Gerar_Upload!C1864,\"erro\")","v":0},{"$f":"IFERROR(Gerar_Upload!D1864,\"erro\")","v":0},{"$f":"IFERROR(DATE(YEAR(Gerar_Upload!E1864),MONTH(Gerar_Upload!E1864),DAY(Gerar_Upload!E1864)),\"erro\")","v":"00:00:00"},{"$f":"IFERROR(Gerar_Upload!F1864,\"erro\")","v":0},{"$f":"IFERROR(IF(Gerar_Upload!G1864<44,REPT(0,44-LEN(Gerar_Upload!G1864))&Gerar_Upload!G1864,Gerar_Upload!G1864),\"erro\")","v":"00000000000000000000000000000000000000000000"}]
[{"$f":"IFERROR(LEFT(Gerar_Upload!A1865,120),\"erro\")","v":""},{"$f":"IFERROR(SUBSTITUTE(SUBSTITUTE(SUBSTITUTE(Gerar_Upload!B1865,\".\",\"\"),\"-\",\"\"),\"/\",\"\"),\"erro\")","v":""},{"$f":"IFERROR(Gerar_Upload!C1865,\"erro\")","v":0},{"$f":"IFERROR(Gerar_Upload!D1865,\"erro\")","v":0},{"$f":"IFERROR(DATE(YEAR(Gerar_Upload!E1865),MONTH(Gerar_Upload!E1865),DAY(Gerar_Upload!E1865)),\"erro\")","v":"00:00:00"},{"$f":"IFERROR(Gerar_Upload!F1865,\"erro\")","v":0},{"$f":"IFERROR(IF(Gerar_Upload!G1865<44,REPT(0,44-LEN(Gerar_Upload!G1865))&Gerar_Upload!G1865,Gerar_Upload!G1865),\"erro\")","v":"00000000000000000000000000000000000000000000"}]
[{"$f":"IFERROR(LEFT(Gerar_Upload!A1866,120),\"erro\")","v":""},{"$f":"IFERROR(SUBSTITUTE(SUBSTITUTE(SUBSTITUTE(Gerar_Upload!B1866,\".\",\"\"),\"-\",\"\"),\"/\",\"\"),\"erro\")","v":""},{"$f":"IFERROR(Gerar_Upload!C1866,\"erro\")","v":0},{"$f":"IFERROR(Gerar_Upload!D1866,\"erro\")","v":0},{"$f":"IFERROR(DATE(YEAR(Gerar_Upload!E1866),MONTH(Gerar_Upload!E1866),DAY(Gerar_Upload!E1866)),\"erro\")","v":"00:00:00"},{"$f":"IFERROR(Gerar_Upload!F1866,\"erro\")","v":0},{"$f":"IFERROR(IF(Gerar_Upload!G1866<44,REPT(0,44-LEN(Gerar_Upload!G1866))&Gerar_Upload!G1866,Gerar_Upload!G1866),\"erro\")","v":"00000000000000000000000000000000000000000000"}]
[{"$f":"IFERROR(LEFT(Gerar_Upload!A1867,120),\"erro\")","v":""},{"$f":"IFERROR(SUBSTITUTE(SUBSTITUTE(SUBSTITUTE(Gerar_Upload!B1867,\".\",\"\"),\"-\",\"\"),\"/\",\"\"),\"erro\")","v":""},{"$f":"IFERROR(Gerar_Upload!C1867,\"erro\")","v":0},{"$f":"IFERROR(Gerar_Upload!D1867,\"erro\")","v":0},{"$f":"IFERROR(DATE(YEAR(Gerar_Upload!E1867),MONTH(Gerar_Upload!E1867),DAY(Gerar_Upload!E1867)),\"erro\")","v":"00:00:00"},{"$f":"IFERROR(Gerar_Upload!F1867,\"erro\")","v":0},{"$f":"IFERROR(IF(Gerar_Upload!G1867<44,REPT(0,44-LEN(Gerar_Upload!G1867))&Gerar_Upload!G1867,Gerar_Upload!G1867),\"erro\")","v":"00000000000000000000000000000000000000000000"}]
[{"$f":"IFERROR(LEFT(Gerar_Upload!A1868,120),\"erro\")","v":""},{"$f":"IFERROR(SUBSTITUTE(SUBSTITUTE(SUBSTITUTE(Gerar_Upload!B1868,\".\",\"\"),\"-\",\"\"),\"/\",\"\"),\"erro\")","v":""},{"$f":"IFERROR(Gerar_Upload!C1868,\"erro\")","v":0},{"$f":"IFERROR(Gerar_Upload!D1868,\"erro\")","v":0},{"$f":"IFERROR(DATE(YEAR(Gerar_Upload!E1868),MONTH(Gerar_Upload!E1868),DAY(Gerar_Upload!E1868)),\"erro\")","v":"00:00:00"},{"$f":"IFERROR(Gerar_Upload!F1868,\"erro\")","v":0},{"$f":"IFERROR(IF(Gerar_Upload!G1868<44,REPT(0,44-LEN(Gerar_Upload!G1868))&Gerar_Upload!G1868,Gerar_Upload!G1868),\"erro\")","v":"00000000000000000000000000000000000000000000"}]
[{"$f":"IFERROR(LEFT(Gerar_Upload!A1869,120),\"erro\")","v":""},{"$f":"IFERROR(SUBSTITUTE(SUBSTITUTE(SUBSTITUTE(Gerar_Upload!B1869,\".\",\"\"),\"-\",\"\"),\"/\",\"\"),\"erro\")","v":""},{"$f":"IFERROR(Gerar_Upload!C1869,\"erro\")","v":0},{"$f":"IFERROR(Gerar_Upload!D1869,\"erro\")","v":0},{"$f":"IFERROR(DATE(YEAR(Gerar_Upload!E1869),MONTH(Gerar_Upload!E1869),DAY(Gerar_Upload!E1869)),\"erro\")","v":"00:00:00"},{"$f":"IFERROR(Gerar_Upload!F1869,\"erro\")","v":0},{"$f":"IFERROR(IF(Gerar_Upload!G1869<44,REPT(0,44-LEN(Gerar_Upload!G1869))&Gerar_Upload!G1869,Gerar_Upload!G1869),\"erro\")","v":"00000000000000000000000000000000000000000000"}]
[{"$f":"IFERROR(LEFT(Gerar_Upload!A1870,120),\"erro\")","v":""},{"$f":"IFERROR(SUBSTITUTE(SUBSTITUTE(SUBSTITUTE(Gerar_Upload!B1870,\".\",\"\"),\"-\",\"\"),\"/\",\"\"),\"erro\")","v":""},{"$f":"IFERROR(Gerar_Upload!C1870,\"erro\")","v":0},{"$f":"IFERROR(Gerar_Upload!D1870,\"erro\")","v":0},{"$f":"IFERROR(DATE(YEAR(Gerar_Upload!E1870),MONTH(Gerar_Upload!E1870),DAY(Gerar_Upload!E1870)),\"erro\")","v":"00:00:00"},{"$f":"IFERROR(Gerar_Upload!F1870,\"erro\")","v":0},{"$f":"IFERROR(IF(Gerar_Upload!G1870<44,REPT(0,44-LEN(Gerar_Upload!G1870))&Gerar_Upload!G1870,Gerar_Upload!G1870),\"erro\")","v":"00000000000000000000000000000000000000000000"}]
[{"$f":"IFERROR(LEFT(Gerar_Upload!A1871,120),\"erro\")","v":""},{"$f":"IFERROR(SUBSTITUTE(SUBSTITUTE(SUBSTITUTE(Gerar_Upload!B1871,\".\",\"\"),\"-\",\"\"),\"/\",\"\"),\"erro\")","v":""},{"$f":"IFERROR(Gerar_Upload!C1871,\"erro\")","v":0},{"$f":"IFERROR(Gerar_Upload!D1871,\"erro\")","v":0},{"$f":"IFERROR(DATE(YEAR(Gerar_Upload!E1871),MONTH(Gerar_Upload!E1871),DAY(Gerar_Upload!E1871)),\"erro\")","v":"00:00:00"},{"$f":"IFERROR(Gerar_Upload!F1871,\"erro\")","v":0},{"$f":"IFERROR(IF(Gerar_Upload!G1871<44,REPT(0,44-LEN(Gerar_Upload!G1871))&Gerar_Upload!G1871,Gerar_Upload!G1871),\"erro\")","v":"00000000000000000000000000000000000000000000"}]
[{"$f":"IFERROR(LEFT(Gerar_Upload!A1872,120),\"erro\")","v":""},{"$f":"IFERROR(SUBSTITUTE(SUBSTITUTE(SUBSTITUTE(Gerar_Upload!B1872,\".\",\"\"),\"-\",\"\"),\"/\",\"\"),\"erro\")","v":""},{"$f":"IFERROR(Gerar_Upload!C1872,\"erro\")","v":0},{"$f":"IFERROR(Gerar_Upload!D1872,\"erro\")","v":0},{"$f":"IFERROR(DATE(YEAR(Gerar_Upload!E1872),MONTH(Gerar_Upload!E1872),DAY(Gerar_Upload!E1872)),\"erro\")","v":"00:00:00"},{"$f":"IFERROR(Gerar_Upload!F1872,\"erro\")","v":0},{"$f":"IFERROR(IF(Gerar_Upload!G1872<44,REPT(0,44-LEN(Gerar_Upload!G1872))&Gerar_Upload!G1872,Gerar_Upload!G1872),\"erro\")","v":"00000000000000000000000000000000000000000000"}]
[{"$f":"IFERROR(LEFT(Gerar_Upload!A1873,120),\"erro\")","v":""},{"$f":"IFERROR(SUBSTITUTE(SUBSTITUTE(SUBSTITUTE(Gerar_Upload!B1873,\".\",\"\"),\"-\",\"\"),\"/\",\"\"),\"erro\")","v":""},{"$f":"IFERROR(Gerar_Upload!C1873,\"erro\")","v":0},{"$f":"IFERROR(Gerar_Upload!D1873,\"erro\")","v":0},{"$f":"IFERROR(DATE(YEAR(Gerar_Upload!E1873),MONTH(Gerar_Upload!E1873),DAY(Gerar_Upload!E1873)),\"erro\")","v":"00:00:00"},{"$f":"IFERROR(Gerar_Upload!F1873,\"erro\")","v":0},{"$f":"IFERROR(IF(Gerar_Upload!G1873<44,REPT(0,44-LEN(Gerar_Upload!G1873))&Gerar_Upload!G1873,Gerar_Upload!G1873),\"erro\")","v":"00000000000000000000000000000000000000000000"}]
[{"$f":"IFERROR(LEFT(Gerar_Upload!A1874,120),\"erro\")","v":""},{"$f":"IFERROR(SUBSTITUTE(SUBSTITUTE(SUBSTITUTE(Gerar_Upload!B1874,\".\",\"\"),\"-\",\"\"),\"/\",\"\"),\"erro\")","v":""},{"$f":"IFERROR(Gerar_Upload!C1874,\"erro\")","v":0},{"$f":"IFERROR(Gerar_Upload!D1874,\"erro\")","v":0},{"$f":"IFERROR(DATE(YEAR(Gerar_Upload!E1874),MONTH(Gerar_Upload!E1874),DAY(Gerar_Upload!E1874)),\"erro\")","v":"00:00:00"},{"$f":"IFERROR(Gerar_Upload!F1874,\"erro\")","v":0},{"$f":"IFERROR(IF(Gerar_Upload!G1874<44,REPT(0,44-LEN(Gerar_Upload!G1874))&Gerar_Upload!G1874,Gerar_Upload!G1874),\"erro\")","v":"00000000000000000000000000000000000000000000"}]
[{"$f":"IFERROR(LEFT(Gerar_Upload!A1875,120),\"erro\")","v":""},{"$f":"IFERROR(SUBSTITUTE(SUBSTITUTE(SUBSTITUTE(Gerar_Upload!B1875,\".\",\"\"),\"-\",\"\"),\"/\",\"\"),\"erro\")","v":""},{"$f":"IFERROR(Gerar_Upload!C1875,\"erro\")","v":0},{"$f":"IFERROR(Gerar_Upload!D1875,\"erro\")","v":0},{"$f":"IFERROR(DATE(YEAR(Gerar_Upload!E1875),MONTH(Gerar_Upload!E1875),DAY(Gerar_Upload!E1875)),\"erro\")","v":"00:00:00"},{"$f":"IFERROR(Gerar_Upload!F1875,\"erro\")","v":0},{"$f":"IFERROR(IF(Gerar_Upload!G1875<44,REPT(0,44-LEN(Gerar_Upload!G1875))&Gerar_Upload!G1875,Gerar_Upload!G1875),\"erro\")","v":"00000000000000000000000000000000000000000000"}]
[{"$f":"IFERROR(LEFT(Gerar_Upload!A1876,120),\"erro\")","v":""},{"$f":"IFERROR(SUBSTITUTE(SUBSTITUTE(SUBSTITUTE(Gerar_Upload!B1876,\".\",\"\"),\"-\",\"\"),\"/\",\"\"),\"erro\")","v":""},{"$f":"IFERROR(Gerar_Upload!C1876,\"erro\")","v":0},{"$f":"IFERROR(Gerar_Upload!D1876,\"erro\")","v":0},{"$f":"IFERROR(DATE(YEAR(Gerar_Upload!E1876),MONTH(Gerar_Upload!E1876),DAY(Gerar_Upload!E1876)),\"erro\")","v":"00:00:00"},{"$f":"IFERROR(Gerar_Upload!F1876,\"erro\")","v":0},{"$f":"IFERROR(IF(Gerar_Upload!G1876<44,REPT(0,44-LEN(Gerar_Upload!G1876))&Gerar_Upload!G1876,Gerar_Upload!G1876),\"erro\")","v":"00000000000000000000000000000000000000000000"}]
[{"$f":"IFERROR(LEFT(Gerar_Upload!A1877,120),\"erro\")","v":""},{"$f":"IFERROR(SUBSTITUTE(SUBSTITUTE(SUBSTITUTE(Gerar_Upload!B1877,\".\",\"\"),\"-\",\"\"),\"/\",\"\"),\"erro\")","v":""},{"$f":"IFERROR(Gerar_Upload!C1877,\"erro\")","v":0},{"$f":"IFERROR(Gerar_Upload!D1877,\"erro\")","v":0},{"$f":"IFERROR(DATE(YEAR(Gerar_Upload!E1877),MONTH(Gerar_Upload!E1877),DAY(Gerar_Upload!E1877)),\"erro\")","v":"00:00:00"},{"$f":"IFERROR(Gerar_Upload!F1877,\"erro\")","v":0},{"$f":"IFERROR(IF(Gerar_Upload!G1877<44,REPT(0,44-LEN(Gerar_Upload!G1877))&Gerar_Upload!G1877,Gerar_Upload!G1877),\"erro\")","v":"00000000000000000000000000000000000000000000"}]
[{"$f":"IFERROR(LEFT(Gerar_Upload!A1878,120),\"erro\")","v":""},{"$f":"IFERROR(SUBSTITUTE(SUBSTITUTE(SUBSTITUTE(Gerar_Upload!B1878,\".\",\"\"),\"-\",\"\"),\"/\",\"\"),\"erro\")","v":""},{"$f":"IFERROR(Gerar_Upload!C1878,\"erro\")","v":0},{"$f":"IFERROR(Gerar_Upload!D1878,\"erro\")","v":0},{"$f":"IFERROR(DATE(YEAR(Gerar_Upload!E1878),MONTH(Gerar_Upload!E1878),DAY(Gerar_Upload!E1878)),\"erro\")","v":"00:00:00"},{"$f":"IFERROR(Gerar_Upload!F1878,\"erro\")","v":0},{"$f":"IFERROR(IF(Gerar_Upload!G1878<44,REPT(0,44-LEN(Gerar_Upload!G1878))&Gerar_Upload!G1878,Gerar_Upload!G1878),\"erro\")","v":"00000000000000000000000000000000000000000000"}]
[{"$f":"IFERROR(LEFT(Gerar_Upload!A1879,120),\"erro\")","v":""},{"$f":"IFERROR(SUBSTITUTE(SUBSTITUTE(SUBSTITUTE(Gerar_Upload!B1879,\".\",\"\"),\"-\",\"\"),\"/\",\"\"),\"erro\")","v":""},{"$f":"IFERROR(Gerar_Upload!C1879,\"erro\")","v":0},{"$f":"IFERROR(Gerar_Upload!D1879,\"erro\")","v":0},{"$f":"IFERROR(DATE(YEAR(Gerar_Upload!E1879),MONTH(Gerar_Upload!E1879),DAY(Gerar_Upload!E1879)),\"erro\")","v":"00:00:00"},{"$f":"IFERROR(Gerar_Upload!F1879,\"erro\")","v":0},{"$f":"IFERROR(IF(Gerar_Upload!G1879<44,REPT(0,44-LEN(Gerar_Upload!G1879))&Gerar_Upload!G1879,Gerar_Upload!G1879),\"erro\")","v":"00000000000000000000000000000000000000000000"}]
[{"$f":"IFERROR(LEFT(Gerar_Upload!A1880,120),\"erro\")","v":""},{"$f":"IFERROR(SUBSTITUTE(SUBSTITUTE(SUBSTITUTE(Gerar_Upload!B1880,\".\",\"\"),\"-\",\"\"),\"/\",\"\"),\"erro\")","v":""},{"$f":"IFERROR(Gerar_Upload!C1880,\"erro\")","v":0},{"$f":"IFERROR(Gerar_Upload!D1880,\"erro\")","v":0},{"$f":"IFERROR(DATE(YEAR(Gerar_Upload!E1880),MONTH(Gerar_Upload!E1880),DAY(Gerar_Upload!E1880)),\"erro\")","v":"00:00:00"},{"$f":"IFERROR(Gerar_Upload!F1880,\"erro\")","v":0},{"$f":"IFERROR(IF(Gerar_Upload!G1880<44,REPT(0,44-LEN(Gerar_Upload!G1880))&Gerar_Upload!G1880,Gerar_Upload!G1880),\"erro\")","v":"00000000000000000000000000000000000000000000"}]
[{"$f":"IFERROR(LEFT(Gerar_Upload!A1881,120),\"erro\")","v":""},{"$f":"IFERROR(SUBSTITUTE(SUBSTITUTE(SUBSTITUTE(Gerar_Upload!B1881,\".\",\"\"),\"-\",\"\"),\"/\",\"\"),\"erro\")","v":""},{"$f":"IFERROR(Gerar_Upload!C1881,\"erro\")","v":0},{"$f":"IFERROR(Gerar_Upload!D1881,\"erro\")","v":0},{"$f":"IFERROR(DATE(YEAR(Gerar_Upload!E1881),MONTH(Gerar_Upload!E1881),DAY(Gerar_Upload!E1881)),\"erro\")","v":"00:00:00"},{"$f":"IFERROR(Gerar_Upload!F1881,\"erro\")","v":0},{"$f":"IFERROR(IF(Gerar_Upload!G1881<44,REPT(0,44-LEN(Gerar_Upload!G1881))&Gerar_Upload!G1881,Gerar_Upload!G1881),\"erro\")","v":"00000000000000000000000000000000000000000000"}]
[{"$f":"IFERROR(LEFT(Gerar_Upload!A1882,120),\"erro\")","v":""},{"$f":"IFERROR(SUBSTITUTE(SUBSTITUTE(SUBSTITUTE(Gerar_Upload!B1882,\".\",\"\"),\"-\",\"\"),\"/\",\"\"),\"erro\")","v":""},{"$f":"IFERROR(Gerar_Upload!C1882,\"erro\")","v":0},{"$f":"IFERROR(Gerar_Upload!D1882,\"erro\")","v":0},{"$f":"IFERROR(DATE(YEAR(Gerar_Upload!E1882),MONTH(Gerar_Upload!E1882),DAY(Gerar_Upload!E1882)),\"erro\")","v":"00:00:00"},{"$f":"IFERROR(Gerar_Upload!F1882,\"erro\")","v":0},{"$f":"IFERROR(IF(Gerar_Upload!G1882<44,REPT(0,44-LEN(Gerar_Upload!G1882))&Gerar_Upload!G1882,Gerar_Upload!G1882),\"erro\")","v":"00000000000000000000000000000000000000000000"}]
[{"$f":"IFERROR(LEFT(Gerar_Upload!A1883,120),\"erro\")","v":""},{"$f":"IFERROR(SUBSTITUTE(SUBSTITUTE(SUBSTITUTE(Gerar_Upload!B1883,\".\",\"\"),\"-\",\"\"),\"/\",\"\"),\"erro\")","v":""},{"$f":"IFERROR(Gerar_Upload!C1883,\"erro\")","v":0},{"$f":"IFERROR(Gerar_Upload!D1883,\"erro\")","v":0},{"$f":"IFERROR(DATE(YEAR(Gerar_Upload!E1883),MONTH(Gerar_Upload!E1883),DAY(Gerar_Upload!E1883)),\"erro\")","v":"00:00:00"},{"$f":"IFERROR(Gerar_Upload!F1883,\"erro\")","v":0},{"$f":"IFERROR(IF(Gerar_Upload!G1883<44,REPT(0,44-LEN(Gerar_Upload!G1883))&Gerar_Upload!G1883,Gerar_Upload!G1883),\"erro\")","v":"00000000000000000000000000000000000000000000"}]
[{"$f":"IFERROR(LEFT(Gerar_Upload!A1884,120),\"erro\")","v":""},{"$f":"IFERROR(SUBSTITUTE(SUBSTITUTE(SUBSTITUTE(Gerar_Upload!B1884,\".\",\"\"),\"-\",\"\"),\"/\",\"\"),\"erro\")","v":""},{"$f":"IFERROR(Gerar_Upload!C1884,\"erro\")","v":0},{"$f":"IFERROR(Gerar_Upload!D1884,\"erro\")","v":0},{"$f":"IFERROR(DATE(YEAR(Gerar_Upload!E1884),MONTH(Gerar_Upload!E1884),DAY(Gerar_Upload!E1884)),\"erro\")","v":"00:00:00"},{"$f":"IFERROR(Gerar_Upload!F1884,\"erro\")","v":0},{"$f":"IFERROR(IF(Gerar_Upload!G1884<44,REPT(0,44-LEN(Gerar_Upload!G1884))&Gerar_Upload!G1884,Gerar_Upload!G1884),\"erro\")","v":"00000000000000000000000000000000000000000000"}]
[{"$f":"IFERROR(LEFT(Gerar_Upload!A1885,120),\"erro\")","v":""},{"$f":"IFERROR(SUBSTITUTE(SUBSTITUTE(SUBSTITUTE(Gerar_Upload!B1885,\".\",\"\"),\"-\",\"\"),\"/\",\"\"),\"erro\")","v":""},{"$f":"IFERROR(Gerar_Upload!C1885,\"erro\")","v":0},{"$f":"IFERROR(Gerar_Upload!D1885,\"erro\")","v":0},{"$f":"IFERROR(DATE(YEAR(Gerar_Upload!E1885),MONTH(Gerar_Upload!E1885),DAY(Gerar_Upload!E1885)),\"erro\")","v":"00:00:00"},{"$f":"IFERROR(Gerar_Upload!F1885,\"erro\")","v":0},{"$f":"IFERROR(IF(Gerar_Upload!G1885<44,REPT(0,44-LEN(Gerar_Upload!G1885))&Gerar_Upload!G1885,Gerar_Upload!G1885),\"erro\")","v":"00000000000000000000000000000000000000000000"}]
[{"$f":"IFERROR(LEFT(Gerar_Upload!A1886,120),\"erro\")","v":""},{"$f":"IFERROR(SUBSTITUTE(SUBSTITUTE(SUBSTITUTE(Gerar_Upload!B1886,\".\",\"\"),\"-\",\"\"),\"/\",\"\"),\"erro\")","v":""},{"$f":"IFERROR(Gerar_Upload!C1886,\"erro\")","v":0},{"$f":"IFERROR(Gerar_Upload!D1886,\"erro\")","v":0},{"$f":"IFERROR(DATE(YEAR(Gerar_Upload!E1886),MONTH(Gerar_Upload!E1886),DAY(Gerar_Upload!E1886)),\"erro\")","v":"00:00:00"},{"$f":"IFERROR(Gerar_Upload!F1886,\"erro\")","v":0},{"$f":"IFERROR(IF(Gerar_Upload!G1886<44,REPT(0,44-LEN(Gerar_Upload!G1886))&Gerar_Upload!G1886,Gerar_Upload!G1886),\"erro\")","v":"00000000000000000000000000000000000000000000"}]
[{"$f":"IFERROR(LEFT(Gerar_Upload!A1887,120),\"erro\")","v":""},{"$f":"IFERROR(SUBSTITUTE(SUBSTITUTE(SUBSTITUTE(Gerar_Upload!B1887,\".\",\"\"),\"-\",\"\"),\"/\",\"\"),\"erro\")","v":""},{"$f":"IFERROR(Gerar_Upload!C1887,\"erro\")","v":0},{"$f":"IFERROR(Gerar_Upload!D1887,\"erro\")","v":0},{"$f":"IFERROR(DATE(YEAR(Gerar_Upload!E1887),MONTH(Gerar_Upload!E1887),DAY(Gerar_Upload!E1887)),\"erro\")","v":"00:00:00"},{"$f":"IFERROR(Gerar_Upload!F1887,\"erro\")","v":0},{"$f":"IFERROR(IF(Gerar_Upload!G1887<44,REPT(0,44-LEN(Gerar_Upload!G1887))&Gerar_Upload!G1887,Gerar_Upload!G1887),\"erro\")","v":"00000000000000000000000000000000000000000000"}]
[{"$f":"IFERROR(LEFT(Gerar_Upload!A1888,120),\"erro\")","v":""},{"$f":"IFERROR(SUBSTITUTE(SUBSTITUTE(SUBSTITUTE(Gerar_Upload!B1888,\".\",\"\"),\"-\",\"\"),\"/\",\"\"),\"erro\")","v":""},{"$f":"IFERROR(Gerar_Upload!C1888,\"erro\")","v":0},{"$f":"IFERROR(Gerar_Upload!D1888,\"erro\")","v":0},{"$f":"IFERROR(DATE(YEAR(Gerar_Upload!E1888),MONTH(Gerar_Upload!E1888),DAY(Gerar_Upload!E1888)),\"erro\")","v":"00:00:00"},{"$f":"IFERROR(Gerar_Upload!F1888,\"erro\")","v":0},{"$f":"IFERROR(IF(Gerar_Upload!G1888<44,REPT(0,44-LEN(Gerar_Upload!G1888))&Gerar_Upload!G1888,Gerar_Upload!G1888),\"erro\")","v":"00000000000000000000000000000000000000000000"}]
[{"$f":"IFERROR(LEFT(Gerar_Upload!A1889,120),\"erro\")","v":""},{"$f":"IFERROR(SUBSTITUTE(SUBSTITUTE(SUBSTITUTE(Gerar_Upload!B1889,\".\",\"\"),\"-\",\"\"),\"/\",\"\"),\"erro\")","v":""},{"$f":"IFERROR(Gerar_Upload!C1889,\"erro\")","v":0},{"$f":"IFERROR(Gerar_Upload!D1889,\"erro\")","v":0},{"$f":"IFERROR(DATE(YEAR(Gerar_Upload!E1889),MONTH(Gerar_Upload!E1889),DAY(Gerar_Upload!E1889)),\"erro\")","v":"00:00:00"},{"$f":"IFERROR(Gerar_Upload!F1889,\"erro\")","v":0},{"$f":"IFERROR(IF(Gerar_Upload!G1889<44,REPT(0,44-LEN(Gerar_Upload!G1889))&Gerar_Upload!G1889,Gerar_Upload!G1889),\"erro\")","v":"00000000000000000000000000000000000000000000"}]
[{"$f":"IFERROR(LEFT(Gerar_Upload!A1890,120),\"erro\")","v":""},{"$f":"IFERROR(SUBSTITUTE(SUBSTITUTE(SUBSTITUTE(Gerar_Upload!B1890,\".\",\"\"),\"-\",\"\"),\"/\",\"\"),\"erro\")","v":""},{"$f":"IFERROR(Gerar_Upload!C1890,\"erro\")","v":0},{"$f":"IFERROR(Gerar_Upload!D1890,\"erro\")","v":0},{"$f":"IFERROR(DATE(YEAR(Gerar_Upload!E1890),MONTH(Gerar_Upload!E1890),DAY(Gerar_Upload!E1890)),\"erro\")","v":"00:00:00"},{"$f":"IFERROR(Gerar_Upload!F1890,\"erro\")","v":0},{"$f":"IFERROR(IF(Gerar_Upload!G1890<44,REPT(0,44-LEN(Gerar_Upload!G1890))&Gerar_Upload!G1890,Gerar_Upload!G1890),\"erro\")","v":"00000000000000000000000000000000000000000000"}]
[{"$f":"IFERROR(LEFT(Gerar_Upload!A1891,120),\"erro\")","v":""},{"$f":"IFERROR(SUBSTITUTE(SUBSTITUTE(SUBSTITUTE(Gerar_Upload!B1891,\".\",\"\"),\"-\",\"\"),\"/\",\"\"),\"erro\")","v":""},{"$f":"IFERROR(Gerar_Upload!C1891,\"erro\")","v":0},{"$f":"IFERROR(Gerar_Upload!D1891,\"erro\")","v":0},{"$f":"IFERROR(DATE(YEAR(Gerar_Upload!E1891),MONTH(Gerar_Upload!E1891),DAY(Gerar_Upload!E1891)),\"erro\")","v":"00:00:00"},{"$f":"IFERROR(Gerar_Upload!F1891,\"erro\")","v":0},{"$f":"IFERROR(IF(Gerar_Upload!G1891<44,REPT(0,44-LEN(Gerar_Upload!G1891))&Gerar_Upload!G1891,Gerar_Upload!G1891),\"erro\")","v":"00000000000000000000000000000000000000000000"}]
[{"$f":"IFERROR(LEFT(Gerar_Upload!A1892,120),\"erro\")","v":""},{"$f":"IFERROR(SUBSTITUTE(SUBSTITUTE(SUBSTITUTE(Gerar_Upload!B1892,\".\",\"\"),\"-\",\"\"),\"/\",\"\"),\"erro\")","v":""},{"$f":"IFERROR(Gerar_Upload!C1892,\"erro\")","v":0},{"$f":"IFERROR(Gerar_Upload!D1892,\"erro\")","v":0},{"$f":"IFERROR(DATE(YEAR(Gerar_Upload!E1892),MONTH(Gerar_Upload!E1892),DAY(Gerar_Upload!E1892)),\"erro\")","v":"00:00:00"},{"$f":"IFERROR(Gerar_Upload!F1892,\"erro\")","v":0},{"$f":"IFERROR(IF(Gerar_Upload!G1892<44,REPT(0,44-LEN(Gerar_Upload!G1892))&Gerar_Upload!G1892,Gerar_Upload!G1892),\"erro\")","v":"00000000000000000000000000000000000000000000"}]
[{"$f":"IFERROR(LEFT(Gerar_Upload!A1893,120),\"erro\")","v":""},{"$f":"IFERROR(SUBSTITUTE(SUBSTITUTE(SUBSTITUTE(Gerar_Upload!B1893,\".\",\"\"),\"-\",\"\"),\"/\",\"\"),\"erro\")","v":""},{"$f":"IFERROR(Gerar_Upload!C1893,\"erro\")","v":0},{"$f":"IFERROR(Gerar_Upload!D1893,\"erro\")","v":0},{"$f":"IFERROR(DATE(YEAR(Gerar_Upload!E1893),MONTH(Gerar_Upload!E1893),DAY(Gerar_Upload!E1893)),\"erro\")","v":"00:00:00"},{"$f":"IFERROR(Gerar_Upload!F1893,\"erro\")","v":0},{"$f":"IFERROR(IF(Gerar_Upload!G1893<44,REPT(0,44-LEN(Gerar_Upload!G1893))&Gerar_Upload!G1893,Gerar_Upload!G1893),\"erro\")","v":"00000000000000000000000000000000000000000000"}]
[{"$f":"IFERROR(LEFT(Gerar_Upload!A1894,120),\"erro\")","v":""},{"$f":"IFERROR(SUBSTITUTE(SUBSTITUTE(SUBSTITUTE(Gerar_Upload!B1894,\".\",\"\"),\"-\",\"\"),\"/\",\"\"),\"erro\")","v":""},{"$f":"IFERROR(Gerar_Upload!C1894,\"erro\")","v":0},{"$f":"IFERROR(Gerar_Upload!D1894,\"erro\")","v":0},{"$f":"IFERROR(DATE(YEAR(Gerar_Upload!E1894),MONTH(Gerar_Upload!E1894),DAY(Gerar_Upload!E1894)),\"erro\")","v":"00:00:00"},{"$f":"IFERROR(Gerar_Upload!F1894,\"erro\")","v":0},{"$f":"IFERROR(IF(Gerar_Upload!G1894<44,REPT(0,44-LEN(Gerar_Upload!G1894))&Gerar_Upload!G1894,Gerar_Upload!G1894),\"erro\")","v":"00000000000000000000000000000000000000000000"}]
[{"$f":"IFERROR(LEFT(Gerar_Upload!A1895,120),\"erro\")","v":""},{"$f":"IFERROR(SUBSTITUTE(SUBSTITUTE(SUBSTITUTE(Gerar_Upload!B1895,\".\",\"\"),\"-\",\"\"),\"/\",\"\"),\"erro\")","v":""},{"$f":"IFERROR(Gerar_Upload!C1895,\"erro\")","v":0},{"$f":"IFERROR(Gerar_Upload!D1895,\"erro\")","v":0},{"$f":"IFERROR(DATE(YEAR(Gerar_Upload!E1895),MONTH(Gerar_Upload!E1895),DAY(Gerar_Upload!E1895)),\"erro\")","v":"00:00:00"},{"$f":"IFERROR(Gerar_Upload!F1895,\"erro\")","v":0},{"$f":"IFERROR(IF(Gerar_Upload!G1895<44,REPT(0,44-LEN(Gerar_Upload!G1895))&Gerar_Upload!G1895,Gerar_Upload!G1895),\"erro\")","v":"00000000000000000000000000000000000000000000"}]
[{"$f":"IFERROR(LEFT(Gerar_Upload!A1896,120),\"erro\")","v":""},{"$f":"IFERROR(SUBSTITUTE(SUBSTITUTE(SUBSTITUTE(Gerar_Upload!B1896,\".\",\"\"),\"-\",\"\"),\"/\",\"\"),\"erro\")","v":""},{"$f":"IFERROR(Gerar_Upload!C1896,\"erro\")","v":0},{"$f":"IFERROR(Gerar_Upload!D1896,\"erro\")","v":0},{"$f":"IFERROR(DATE(YEAR(Gerar_Upload!E1896),MONTH(Gerar_Upload!E1896),DAY(Gerar_Upload!E1896)),\"erro\")","v":"00:00:00"},{"$f":"IFERROR(Gerar_Upload!F1896,\"erro\")","v":0},{"$f":"IFERROR(IF(Gerar_Upload!G1896<44,REPT(0,44-LEN(Gerar_Upload!G1896))&Gerar_Upload!G1896,Gerar_Upload!G1896),\"erro\")","v":"00000000000000000000000000000000000000000000"}]
[{"$f":"IFERROR(LEFT(Gerar_Upload!A1897,120),\"erro\")","v":""},{"$f":"IFERROR(SUBSTITUTE(SUBSTITUTE(SUBSTITUTE(Gerar_Upload!B1897,\".\",\"\"),\"-\",\"\"),\"/\",\"\"),\"erro\")","v":""},{"$f":"IFERROR(Gerar_Upload!C1897,\"erro\")","v":0},{"$f":"IFERROR(Gerar_Upload!D1897,\"erro\")","v":0},{"$f":"IFERROR(DATE(YEAR(Gerar_Upload!E1897),MONTH(Gerar_Upload!E1897),DAY(Gerar_Upload!E1897)),\"erro\")","v":"00:00:00"},{"$f":"IFERROR(Gerar_Upload!F1897,\"erro\")","v":0},{"$f":"IFERROR(IF(Gerar_Upload!G1897<44,REPT(0,44-LEN(Gerar_Upload!G1897))&Gerar_Upload!G1897,Gerar_Upload!G1897),\"erro\")","v":"00000000000000000000000000000000000000000000"}]
[{"$f":"IFERROR(LEFT(Gerar_Upload!A1898,120),\"erro\")","v":""},{"$f":"IFERROR(SUBSTITUTE(SUBSTITUTE(SUBSTITUTE(Gerar_Upload!B1898,\".\",\"\"),\"-\",\"\"),\"/\",\"\"),\"erro\")","v":""},{"$f":"IFERROR(Gerar_Upload!C1898,\"erro\")","v":0},{"$f":"IFERROR(Gerar_Upload!D1898,\"erro\")","v":0},{"$f":"IFERROR(DATE(YEAR(Gerar_Upload!E1898),MONTH(Gerar_Upload!E1898),DAY(Gerar_Upload!E1898)),\"erro\")","v":"00:00:00"},{"$f":"IFERROR(Gerar_Upload!F1898,\"erro\")","v":0},{"$f":"IFERROR(IF(Gerar_Upload!G1898<44,REPT(0,44-LEN(Gerar_Upload!G1898))&Gerar_Upload!G1898,Gerar_Upload!G1898),\"erro\")","v":"00000000000000000000000000000000000000000000"}]
[{"$f":"IFERROR(LEFT(Gerar_Upload!A1899,120),\"erro\")","v":""},{"$f":"IFERROR(SUBSTITUTE(SUBSTITUTE(SUBSTITUTE(Gerar_Upload!B1899,\".\",\"\"),\"-\",\"\"),\"/\",\"\"),\"erro\")","v":""},{"$f":"IFERROR(Gerar_Upload!C1899,\"erro\")","v":0},{"$f":"IFERROR(Gerar_Upload!D1899,\"erro\")","v":0},{"$f":"IFERROR(DATE(YEAR(Gerar_Upload!E1899),MONTH(Gerar_Upload!E1899),DAY(Gerar_Upload!E1899)),\"erro\")","v":"00:00:00"},{"$f":"IFERROR(Gerar_Upload!F1899,\"erro\")","v":0},{"$f":"IFERROR(IF(Gerar_Upload!G1899<44,REPT(0,44-LEN(Gerar_Upload!G1899))&Gerar_Upload!G1899,Gerar_Upload!G1899),\"erro\")","v":"00000000000000000000000000000000000000000000"}]
[{"$f":"IFERROR(LEFT(Gerar_Upload!A1900,120),\"erro\")","v":""},{"$f":"IFERROR(SUBSTITUTE(SUBSTITUTE(SUBSTITUTE(Gerar_Upload!B1900,\".\",\"\"),\"-\",\"\"),\"/\",\"\"),\"erro\")","v":""},{"$f":"IFERROR(Gerar_Upload!C1900,\"erro\")","v":0},{"$f":"IFERROR(Gerar_Upload!D1900,\"erro\")","v":0},{"$f":"IFERROR(DATE(YEAR(Gerar_Upload!E1900),MONTH(Gerar_Upload!E1900),DAY(Gerar_Upload!E1900)),\"erro\")","v":"00:00:00"},{"$f":"IFERROR(Gerar_Upload!F1900,\"erro\")","v":0},{"$f":"IFERROR(IF(Gerar_Upload!G1900<44,REPT(0,44-LEN(Gerar_Upload!G1900))&Gerar_Upload!G1900,Gerar_Upload!G1900),\"erro\")","v":"00000000000000000000000000000000000000000000"}]
[{"$f":"IFERROR(LEFT(Gerar_Upload!A1901,120),\"erro\")","v":""},{"$f":"IFERROR(SUBSTITUTE(SUBSTITUTE(SUBSTITUTE(Gerar_Upload!B1901,\".\",\"\"),\"-\",\"\"),\"/\",\"\"),\"erro\")","v":""},{"$f":"IFERROR(Gerar_Upload!C1901,\"erro\")","v":0},{"$f":"IFERROR(Gerar_Upload!D1901,\"erro\")","v":0},{"$f":"IFERROR(DATE(YEAR(Gerar_Upload!E1901),MONTH(Gerar_Upload!E1901),DAY(Gerar_Upload!E1901)),\"erro\")","v":"00:00:00"},{"$f":"IFERROR(Gerar_Upload!F1901,\"erro\")","v":0},{"$f":"IFERROR(IF(Gerar_Upload!G1901<44,REPT(0,44-LEN(Gerar_Upload!G1901))&Gerar_Upload!G1901,Gerar_Upload!G1901),\"erro\")","v":"00000000000000000000000000000000000000000000"}]
[{"$f":"IFERROR(LEFT(Gerar_Upload!A1902,120),\"erro\")","v":""},{"$f":"IFERROR(SUBSTITUTE(SUBSTITUTE(SUBSTITUTE(Gerar_Upload!B1902,\".\",\"\"),\"-\",\"\"),\"/\",\"\"),\"erro\")","v":""},{"$f":"IFERROR(Gerar_Upload!C1902,\"erro\")","v":0},{"$f":"IFERROR(Gerar_Upload!D1902,\"erro\")","v":0},{"$f":"IFERROR(DATE(YEAR(Gerar_Upload!E1902),MONTH(Gerar_Upload!E1902),DAY(Gerar_Upload!E1902)),\"erro\")","v":"00:00:00"},{"$f":"IFERROR(Gerar_Upload!F1902,\"erro\")","v":0},{"$f":"IFERROR(IF(Gerar_Upload!G1902<44,REPT(0,44-LEN(Gerar_Upload!G1902))&Gerar_Upload!G1902,Gerar_Upload!G1902),\"erro\")","v":"00000000000000000000000000000000000000000000"}]
[{"$f":"IFERROR(LEFT(Gerar_Upload!A1903,120),\"erro\")","v":""},{"$f":"IFERROR(SUBSTITUTE(SUBSTITUTE(SUBSTITUTE(Gerar_Upload!B1903,\".\",\"\"),\"-\",\"\"),\"/\",\"\"),\"erro\")","v":""},{"$f":"IFERROR(Gerar_Upload!C1903,\"erro\")","v":0},{"$f":"IFERROR(Gerar_Upload!D1903,\"erro\")","v":0},{"$f":"IFERROR(DATE(YEAR(Gerar_Upload!E1903),MONTH(Gerar_Upload!E1903),DAY(Gerar_Upload!E1903)),\"erro\")","v":"00:00:00"},{"$f":"IFERROR(Gerar_Upload!F1903,\"erro\")","v":0},{"$f":"IFERROR(IF(Gerar_Upload!G1903<44,REPT(0,44-LEN(Gerar_Upload!G1903))&Gerar_Upload!G1903,Gerar_Upload!G1903),\"erro\")","v":"00000000000000000000000000000000000000000000"}]
[{"$f":"IFERROR(LEFT(Gerar_Upload!A1904,120),\"erro\")","v":""},{"$f":"IFERROR(SUBSTITUTE(SUBSTITUTE(SUBSTITUTE(Gerar_Upload!B1904,\".\",\"\"),\"-\",\"\"),\"/\",\"\"),\"erro\")","v":""},{"$f":"IFERROR(Gerar_Upload!C1904,\"erro\")","v":0},{"$f":"IFERROR(Gerar_Upload!D1904,\"erro\")","v":0},{"$f":"IFERROR(DATE(YEAR(Gerar_Upload!E1904),MONTH(Gerar_Upload!E1904),DAY(Gerar_Upload!E1904)),\"erro\")","v":"00:00:00"},{"$f":"IFERROR(Gerar_Upload!F1904,\"erro\")","v":0},{"$f":"IFERROR(IF(Gerar_Upload!G1904<44,REPT(0,44-LEN(Gerar_Upload!G1904))&Gerar_Upload!G1904,Gerar_Upload!G1904),\"erro\")","v":"00000000000000000000000000000000000000000000"}]
[{"$f":"IFERROR(LEFT(Gerar_Upload!A1905,120),\"erro\")","v":""},{"$f":"IFERROR(SUBSTITUTE(SUBSTITUTE(SUBSTITUTE(Gerar_Upload!B1905,\".\",\"\"),\"-\",\"\"),\"/\",\"\"),\"erro\")","v":""},{"$f":"IFERROR(Gerar_Upload!C1905,\"erro\")","v":0},{"$f":"IFERROR(Gerar_Upload!D1905,\"erro\")","v":0},{"$f":"IFERROR(DATE(YEAR(Gerar_Upload!E1905),MONTH(Gerar_Upload!E1905),DAY(Gerar_Upload!E1905)),\"erro\")","v":"00:00:00"},{"$f":"IFERROR(Gerar_Upload!F1905,\"erro\")","v":0},{"$f":"IFERROR(IF(Gerar_Upload!G1905<44,REPT(0,44-LEN(Gerar_Upload!G1905))&Gerar_Upload!G1905,Gerar_Upload!G1905),\"erro\")","v":"00000000000000000000000000000000000000000000"}]
[{"$f":"IFERROR(LEFT(Gerar_Upload!A1906,120),\"erro\")","v":""},{"$f":"IFERROR(SUBSTITUTE(SUBSTITUTE(SUBSTITUTE(Gerar_Upload!B1906,\".\",\"\"),\"-\",\"\"),\"/\",\"\"),\"erro\")","v":""},{"$f":"IFERROR(Gerar_Upload!C1906,\"erro\")","v":0},{"$f":"IFERROR(Gerar_Upload!D1906,\"erro\")","v":0},{"$f":"IFERROR(DATE(YEAR(Gerar_Upload!E1906),MONTH(Gerar_Upload!E1906),DAY(Gerar_Upload!E1906)),\"erro\")","v":"00:00:00"},{"$f":"IFERROR(Gerar_Upload!F1906,\"erro\")","v":0},{"$f":"IFERROR(IF(Gerar_Upload!G1906<44,REPT(0,44-LEN(Gerar_Upload!G1906))&Gerar_Upload!G1906,Gerar_Upload!G1906),\"erro\")","v":"00000000000000000000000000000000000000000000"}]
[{"$f":"IFERROR(LEFT(Gerar_Upload!A1907,120),\"erro\")","v":""},{"$f":"IFERROR(SUBSTITUTE(SUBSTITUTE(SUBSTITUTE(Gerar_Upload!B1907,\".\",\"\"),\"-\",\"\"),\"/\",\"\"),\"erro\")","v":""},{"$f":"IFERROR(Gerar_Upload!C1907,\"erro\")","v":0},{"$f":"IFERROR(Gerar_Upload!D1907,\"erro\")","v":0},{"$f":"IFERROR(DATE(YEAR(Gerar_Upload!E1907),MONTH(Gerar_Upload!E1907),DAY(Gerar_Upload!E1907)),\"erro\")","v":"00:00:00"},{"$f":"IFERROR(Gerar_Upload!F1907,\"erro\")","v":0},{"$f":"IFERROR(IF(Gerar_Upload!G1907<44,REPT(0,44-LEN(Gerar_Upload!G1907))&Gerar_Upload!G1907,Gerar_Upload!G1907),\"erro\")","v":"00000000000000000000000000000000000000000000"}]
[{"$f":"IFERROR(LEFT(Gerar_Upload!A1908,120),\"erro\")","v":""},{"$f":"IFERROR(SUBSTITUTE(SUBSTITUTE(SUBSTITUTE(Gerar_Upload!B1908,\".\",\"\"),\"-\",\"\"),\"/\",\"\"),\"erro\")","v":""},{"$f":"IFERROR(Gerar_Upload!C1908,\"erro\")","v":0},{"$f":"IFERROR(Gerar_Upload!D1908,\"erro\")","v":0},{"$f":"IFERROR(DATE(YEAR(Gerar_Upload!E1908),MONTH(Gerar_Upload!E1908),DAY(Gerar_Upload!E1908)),\"erro\")","v":"00:00:00"},{"$f":"IFERROR(Gerar_Upload!F1908,\"erro\")","v":0},{"$f":"IFERROR(IF(Gerar_Upload!G1908<44,REPT(0,44-LEN(Gerar_Upload!G1908))&Gerar_Upload!G1908,Gerar_Upload!G1908),\"erro\")","v":"00000000000000000000000000000000000000000000"}]
[{"$f":"IFERROR(LEFT(Gerar_Upload!A1909,120),\"erro\")","v":""},{"$f":"IFERROR(SUBSTITUTE(SUBSTITUTE(SUBSTITUTE(Gerar_Upload!B1909,\".\",\"\"),\"-\",\"\"),\"/\",\"\"),\"erro\")","v":""},{"$f":"IFERROR(Gerar_Upload!C1909,\"erro\")","v":0},{"$f":"IFERROR(Gerar_Upload!D1909,\"erro\")","v":0},{"$f":"IFERROR(DATE(YEAR(Gerar_Upload!E1909),MONTH(Gerar_Upload!E1909),DAY(Gerar_Upload!E1909)),\"erro\")","v":"00:00:00"},{"$f":"IFERROR(Gerar_Upload!F1909,\"erro\")","v":0},{"$f":"IFERROR(IF(Gerar_Upload!G1909<44,REPT(0,44-LEN(Gerar_Upload!G1909))&Gerar_Upload!G1909,Gerar_Upload!G1909),\"erro\")","v":"00000000000000000000000000000000000000000000"}]
[{"$f":"IFERROR(LEFT(Gerar_Upload!A1910,120),\"erro\")","v":""},{"$f":"IFERROR(SUBSTITUTE(SUBSTITUTE(SUBSTITUTE(Gerar_Upload!B1910,\".\",\"\"),\"-\",\"\"),\"/\",\"\"),\"erro\")","v":""},{"$f":"IFERROR(Gerar_Upload!C1910,\"erro\")","v":0},{"$f":"IFERROR(Gerar_Upload!D1910,\"erro\")","v":0},{"$f":"IFERROR(DATE(YEAR(Gerar_Upload!E1910),MONTH(Gerar_Upload!E1910),DAY(Gerar_Upload!E1910)),\"erro\")","v":"00:00:00"},{"$f":"IFERROR(Gerar_Upload!F1910,\"erro\")","v":0},{"$f":"IFERROR(IF(Gerar_Upload!G1910<44,REPT(0,44-LEN(Gerar_Upload!G1910))&Gerar_Upload!G1910,Gerar_Upload!G1910),\"erro\")","v":"00000000000000000000000000000000000000000000"}]
[{"$f":"IFERROR(LEFT(Gerar_Upload!A1911,120),\"erro\")","v":""},{"$f":"IFERROR(SUBSTITUTE(SUBSTITUTE(SUBSTITUTE(Gerar_Upload!B1911,\".\",\"\"),\"-\",\"\"),\"/\",\"\"),\"erro\")","v":""},{"$f":"IFERROR(Gerar_Upload!C1911,\"erro\")","v":0},{"$f":"IFERROR(Gerar_Upload!D1911,\"erro\")","v":0},{"$f":"IFERROR(DATE(YEAR(Gerar_Upload!E1911),MONTH(Gerar_Upload!E1911),DAY(Gerar_Upload!E1911)),\"erro\")","v":"00:00:00"},{"$f":"IFERROR(Gerar_Upload!F1911,\"erro\")","v":0},{"$f":"IFERROR(IF(Gerar_Upload!G1911<44,REPT(0,44-LEN(Gerar_Upload!G1911))&Gerar_Upload!G1911,Gerar_Upload!G1911),\"erro\")","v":"00000000000000000000000000000000000000000000"}]
[{"$f":"IFERROR(LEFT(Gerar_Upload!A1912,120),\"erro\")","v":""},{"$f":"IFERROR(SUBSTITUTE(SUBSTITUTE(SUBSTITUTE(Gerar_Upload!B1912,\".\",\"\"),\"-\",\"\"),\"/\",\"\"),\"erro\")","v":""},{"$f":"IFERROR(Gerar_Upload!C1912,\"erro\")","v":0},{"$f":"IFERROR(Gerar_Upload!D1912,\"erro\")","v":0},{"$f":"IFERROR(DATE(YEAR(Gerar_Upload!E1912),MONTH(Gerar_Upload!E1912),DAY(Gerar_Upload!E1912)),\"erro\")","v":"00:00:00"},{"$f":"IFERROR(Gerar_Upload!F1912,\"erro\")","v":0},{"$f":"IFERROR(IF(Gerar_Upload!G1912<44,REPT(0,44-LEN(Gerar_Upload!G1912))&Gerar_Upload!G1912,Gerar_Upload!G1912),\"erro\")","v":"00000000000000000000000000000000000000000000"}]
[{"$f":"IFERROR(LEFT(Gerar_Upload!A1913,120),\"erro\")","v":""},{"$f":"IFERROR(SUBSTITUTE(SUBSTITUTE(SUBSTITUTE(Gerar_Upload!B1913,\".\",\"\"),\"-\",\"\"),\"/\",\"\"),\"erro\")","v":""},{"$f":"IFERROR(Gerar_Upload!C1913,\"erro\")","v":0},{"$f":"IFERROR(Gerar_Upload!D1913,\"erro\")","v":0},{"$f":"IFERROR(DATE(YEAR(Gerar_Upload!E1913),MONTH(Gerar_Upload!E1913),DAY(Gerar_Upload!E1913)),\"erro\")","v":"00:00:00"},{"$f":"IFERROR(Gerar_Upload!F1913,\"erro\")","v":0},{"$f":"IFERROR(IF(Gerar_Upload!G1913<44,REPT(0,44-LEN(Gerar_Upload!G1913))&Gerar_Upload!G1913,Gerar_Upload!G1913),\"erro\")","v":"00000000000000000000000000000000000000000000"}]
[{"$f":"IFERROR(LEFT(Gerar_Upload!A1914,120),\"erro\")","v":""},{"$f":"IFERROR(SUBSTITUTE(SUBSTITUTE(SUBSTITUTE(Gerar_Upload!B1914,\".\",\"\"),\"-\",\"\"),\"/\",\"\"),\"erro\")","v":""},{"$f":"IFERROR(Gerar_Upload!C1914,\"erro\")","v":0},{"$f":"IFERROR(Gerar_Upload!D1914,\"erro\")","v":0},{"$f":"IFERROR(DATE(YEAR(Gerar_Upload!E1914),MONTH(Gerar_Upload!E1914),DAY(Gerar_Upload!E1914)),\"erro\")","v":"00:00:00"},{"$f":"IFERROR(Gerar_Upload!F1914,\"erro\")","v":0},{"$f":"IFERROR(IF(Gerar_Upload!G1914<44,REPT(0,44-LEN(Gerar_Upload!G1914))&Gerar_Upload!G1914,Gerar_Upload!G1914),\"erro\")","v":"00000000000000000000000000000000000000000000"}]
[{"$f":"IFERROR(LEFT(Gerar_Upload!A1915,120),\"erro\")","v":""},{"$f":"IFERROR(SUBSTITUTE(SUBSTITUTE(SUBSTITUTE(Gerar_Upload!B1915,\".\",\"\"),\"-\",\"\"),\"/\",\"\"),\"erro\")","v":""},{"$f":"IFERROR(Gerar_Upload!C1915,\"erro\")","v":0},{"$f":"IFERROR(Gerar_Upload!D1915,\"erro\")","v":0},{"$f":"IFERROR(DATE(YEAR(Gerar_Upload!E1915),MONTH(Gerar_Upload!E1915),DAY(Gerar_Upload!E1915)),\"erro\")","v":"00:00:00"},{"$f":"IFERROR(Gerar_Upload!F1915,\"erro\")","v":0},{"$f":"IFERROR(IF(Gerar_Upload!G1915<44,REPT(0,44-LEN(Gerar_Upload!G1915))&Gerar_Upload!G1915,Gerar_Upload!G1915),\"erro\")","v":"00000000000000000000000000000000000000000000"}]
[{"$f":"IFERROR(LEFT(Gerar_Upload!A1916,120),\"erro\")","v":""},{"$f":"IFERROR(SUBSTITUTE(SUBSTITUTE(SUBSTITUTE(Gerar_Upload!B1916,\".\",\"\"),\"-\",\"\"),\"/\",\"\"),\"erro\")","v":""},{"$f":"IFERROR(Gerar_Upload!C1916,\"erro\")","v":0},{"$f":"IFERROR(Gerar_Upload!D1916,\"erro\")","v":0},{"$f":"IFERROR(DATE(YEAR(Gerar_Upload!E1916),MONTH(Gerar_Upload!E1916),DAY(Gerar_Upload!E1916)),\"erro\")","v":"00:00:00"},{"$f":"IFERROR(Gerar_Upload!F1916,\"erro\")","v":0},{"$f":"IFERROR(IF(Gerar_Upload!G1916<44,REPT(0,44-LEN(Gerar_Upload!G1916))&Gerar_Upload!G1916,Gerar_Upload!G1916),\"erro\")","v":"00000000000000000000000000000000000000000000"}]
[{"$f":"IFERROR(LEFT(Gerar_Upload!A1917,120),\"erro\")","v":""},{"$f":"IFERROR(SUBSTITUTE(SUBSTITUTE(SUBSTITUTE(Gerar_Upload!B1917,\".\",\"\"),\"-\",\"\"),\"/\",\"\"),\"erro\")","v":""},{"$f":"IFERROR(Gerar_Upload!C1917,\"erro\")","v":0},{"$f":"IFERROR(Gerar_Upload!D1917,\"erro\")","v":0},{"$f":"IFERROR(DATE(YEAR(Gerar_Upload!E1917),MONTH(Gerar_Upload!E1917),DAY(Gerar_Upload!E1917)),\"erro\")","v":"00:00:00"},{"$f":"IFERROR(Gerar_Upload!F1917,\"erro\")","v":0},{"$f":"IFERROR(IF(Gerar_Upload!G1917<44,REPT(0,44-LEN(Gerar_Upload!G1917))&Gerar_Upload!G1917,Gerar_Upload!G1917),\"erro\")","v":"00000000000000000000000000000000000000000000"}]
[{"$f":"IFERROR(LEFT(Gerar_Upload!A1918,120),\"erro\")","v":""},{"$f":"IFERROR(SUBSTITUTE(SUBSTITUTE(SUBSTITUTE(Gerar_Upload!B1918,\".\",\"\"),\"-\",\"\"),\"/\",\"\"),\"erro\")","v":""},{"$f":"IFERROR(Gerar_Upload!C1918,\"erro\")","v":0},{"$f":"IFERROR(Gerar_Upload!D1918,\"erro\")","v":0},{"$f":"IFERROR(DATE(YEAR(Gerar_Upload!E1918),MONTH(Gerar_Upload!E1918),DAY(Gerar_Upload!E1918)),\"erro\")","v":"00:00:00"},{"$f":"IFERROR(Gerar_Upload!F1918,\"erro\")","v":0},{"$f":"IFERROR(IF(Gerar_Upload!G1918<44,REPT(0,44-LEN(Gerar_Upload!G1918))&Gerar_Upload!G1918,Gerar_Upload!G1918),\"erro\")","v":"00000000000000000000000000000000000000000000"}]
[{"$f":"IFERROR(LEFT(Gerar_Upload!A1919,120),\"erro\")","v":""},{"$f":"IFERROR(SUBSTITUTE(SUBSTITUTE(SUBSTITUTE(Gerar_Upload!B1919,\".\",\"\"),\"-\",\"\"),\"/\",\"\"),\"erro\")","v":""},{"$f":"IFERROR(Gerar_Upload!C1919,\"erro\")","v":0},{"$f":"IFERROR(Gerar_Upload!D1919,\"erro\")","v":0},{"$f":"IFERROR(DATE(YEAR(Gerar_Upload!E1919),MONTH(Gerar_Upload!E1919),DAY(Gerar_Upload!E1919)),\"erro\")","v":"00:00:00"},{"$f":"IFERROR(Gerar_Upload!F1919,\"erro\")","v":0},{"$f":"IFERROR(IF(Gerar_Upload!G1919<44,REPT(0,44-LEN(Gerar_Upload!G1919))&Gerar_Upload!G1919,Gerar_Upload!G1919),\"erro\")","v":"00000000000000000000000000000000000000000000"}]
[{"$f":"IFERROR(LEFT(Gerar_Upload!A1920,120),\"erro\")","v":""},{"$f":"IFERROR(SUBSTITUTE(SUBSTITUTE(SUBSTITUTE(Gerar_Upload!B1920,\".\",\"\"),\"-\",\"\"),\"/\",\"\"),\"erro\")","v":""},{"$f":"IFERROR(Gerar_Upload!C1920,\"erro\")","v":0},{"$f":"IFERROR(Gerar_Upload!D1920,\"erro\")","v":0},{"$f":"IFERROR(DATE(YEAR(Gerar_Upload!E1920),MONTH(Gerar_Upload!E1920),DAY(Gerar_Upload!E1920)),\"erro\")","v":"00:00:00"},{"$f":"IFERROR(Gerar_Upload!F1920,\"erro\")","v":0},{"$f":"IFERROR(IF(Gerar_Upload!G1920<44,REPT(0,44-LEN(Gerar_Upload!G1920))&Gerar_Upload!G1920,Gerar_Upload!G1920),\"erro\")","v":"00000000000000000000000000000000000000000000"}]
[{"$f":"IFERROR(LEFT(Gerar_Upload!A1921,120),\"erro\")","v":""},{"$f":"IFERROR(SUBSTITUTE(SUBSTITUTE(SUBSTITUTE(Gerar_Upload!B1921,\".\",\"\"),\"-\",\"\"),\"/\",\"\"),\"erro\")","v":""},{"$f":"IFERROR(Gerar_Upload!C1921,\"erro\")","v":0},{"$f":"IFERROR(Gerar_Upload!D1921,\"erro\")","v":0},{"$f":"IFERROR(DATE(YEAR(Gerar_Upload!E1921),MONTH(Gerar_Upload!E1921),DAY(Gerar_Upload!E1921)),\"erro\")","v":"00:00:00"},{"$f":"IFERROR(Gerar_Upload!F1921,\"erro\")","v":0},{"$f":"IFERROR(IF(Gerar_Upload!G1921<44,REPT(0,44-LEN(Gerar_Upload!G1921))&Gerar_Upload!G1921,Gerar_Upload!G1921),\"erro\")","v":"00000000000000000000000000000000000000000000"}]
[{"$f":"IFERROR(LEFT(Gerar_Upload!A1922,120),\"erro\")","v":""},{"$f":"IFERROR(SUBSTITUTE(SUBSTITUTE(SUBSTITUTE(Gerar_Upload!B1922,\".\",\"\"),\"-\",\"\"),\"/\",\"\"),\"erro\")","v":""},{"$f":"IFERROR(Gerar_Upload!C1922,\"erro\")","v":0},{"$f":"IFERROR(Gerar_Upload!D1922,\"erro\")","v":0},{"$f":"IFERROR(DATE(YEAR(Gerar_Upload!E1922),MONTH(Gerar_Upload!E1922),DAY(Gerar_Upload!E1922)),\"erro\")","v":"00:00:00"},{"$f":"IFERROR(Gerar_Upload!F1922,\"erro\")","v":0},{"$f":"IFERROR(IF(Gerar_Upload!G1922<44,REPT(0,44-LEN(Gerar_Upload!G1922))&Gerar_Upload!G1922,Gerar_Upload!G1922),\"erro\")","v":"00000000000000000000000000000000000000000000"}]
[{"$f":"IFERROR(LEFT(Gerar_Upload!A1923,120),\"erro\")","v":""},{"$f":"IFERROR(SUBSTITUTE(SUBSTITUTE(SUBSTITUTE(Gerar_Upload!B1923,\".\",\"\"),\"-\",\"\"),\"/\",\"\"),\"erro\")","v":""},{"$f":"IFERROR(Gerar_Upload!C1923,\"erro\")","v":0},{"$f":"IFERROR(Gerar_Upload!D1923,\"erro\")","v":0},{"$f":"IFERROR(DATE(YEAR(Gerar_Upload!E1923),MONTH(Gerar_Upload!E1923),DAY(Gerar_Upload!E1923)),\"erro\")","v":"00:00:00"},{"$f":"IFERROR(Gerar_Upload!F1923,\"erro\")","v":0},{"$f":"IFERROR(IF(Gerar_Upload!G1923<44,REPT(0,44-LEN(Gerar_Upload!G1923))&Gerar_Upload!G1923,Gerar_Upload!G1923),\"erro\")","v":"00000000000000000000000000000000000000000000"}]
[{"$f":"IFERROR(LEFT(Gerar_Upload!A1924,120),\"erro\")","v":""},{"$f":"IFERROR(SUBSTITUTE(SUBSTITUTE(SUBSTITUTE(Gerar_Upload!B1924,\".\",\"\"),\"-\",\"\"),\"/\",\"\"),\"erro\")","v":""},{"$f":"IFERROR(Gerar_Upload!C1924,\"erro\")","v":0},{"$f":"IFERROR(Gerar_Upload!D1924,\"erro\")","v":0},{"$f":"IFERROR(DATE(YEAR(Gerar_Upload!E1924),MONTH(Gerar_Upload!E1924),DAY(Gerar_Upload!E1924)),\"erro\")","v":"00:00:00"},{"$f":"IFERROR(Gerar_Upload!F1924,\"erro\")","v":0},{"$f":"IFERROR(IF(Gerar_Upload!G1924<44,REPT(0,44-LEN(Gerar_Upload!G1924))&Gerar_Upload!G1924,Gerar_Upload!G1924),\"erro\")","v":"00000000000000000000000000000000000000000000"}]
[{"$f":"IFERROR(LEFT(Gerar_Upload!A1925,120),\"erro\")","v":""},{"$f":"IFERROR(SUBSTITUTE(SUBSTITUTE(SUBSTITUTE(Gerar_Upload!B1925,\".\",\"\"),\"-\",\"\"),\"/\",\"\"),\"erro\")","v":""},{"$f":"IFERROR(Gerar_Upload!C1925,\"erro\")","v":0},{"$f":"IFERROR(Gerar_Upload!D1925,\"erro\")","v":0},{"$f":"IFERROR(DATE(YEAR(Gerar_Upload!E1925),MONTH(Gerar_Upload!E1925),DAY(Gerar_Upload!E1925)),\"erro\")","v":"00:00:00"},{"$f":"IFERROR(Gerar_Upload!F1925,\"erro\")","v":0},{"$f":"IFERROR(IF(Gerar_Upload!G1925<44,REPT(0,44-LEN(Gerar_Upload!G1925))&Gerar_Upload!G1925,Gerar_Upload!G1925),\"erro\")","v":"00000000000000000000000000000000000000000000"}]
[{"$f":"IFERROR(LEFT(Gerar_Upload!A1926,120),\"erro\")","v":""},{"$f":"IFERROR(SUBSTITUTE(SUBSTITUTE(SUBSTITUTE(Gerar_Upload!B1926,\".\",\"\"),\"-\",\"\"),\"/\",\"\"),\"erro\")","v":""},{"$f":"IFERROR(Gerar_Upload!C1926,\"erro\")","v":0},{"$f":"IFERROR(Gerar_Upload!D1926,\"erro\")","v":0},{"$f":"IFERROR(DATE(YEAR(Gerar_Upload!E1926),MONTH(Gerar_Upload!E1926),DAY(Gerar_Upload!E1926)),\"erro\")","v":"00:00:00"},{"$f":"IFERROR(Gerar_Upload!F1926,\"erro\")","v":0},{"$f":"IFERROR(IF(Gerar_Upload!G1926<44,REPT(0,44-LEN(Gerar_Upload!G1926))&Gerar_Upload!G1926,Gerar_Upload!G1926),\"erro\")","v":"00000000000000000000000000000000000000000000"}]
[{"$f":"IFERROR(LEFT(Gerar_Upload!A1927,120),\"erro\")","v":""},{"$f":"IFERROR(SUBSTITUTE(SUBSTITUTE(SUBSTITUTE(Gerar_Upload!B1927,\".\",\"\"),\"-\",\"\"),\"/\",\"\"),\"erro\")","v":""},{"$f":"IFERROR(Gerar_Upload!C1927,\"erro\")","v":0},{"$f":"IFERROR(Gerar_Upload!D1927,\"erro\")","v":0},{"$f":"IFERROR(DATE(YEAR(Gerar_Upload!E1927),MONTH(Gerar_Upload!E1927),DAY(Gerar_Upload!E1927)),\"erro\")","v":"00:00:00"},{"$f":"IFERROR(Gerar_Upload!F1927,\"erro\")","v":0},{"$f":"IFERROR(IF(Gerar_Upload!G1927<44,REPT(0,44-LEN(Gerar_Upload!G1927))&Gerar_Upload!G1927,Gerar_Upload!G1927),\"erro\")","v":"00000000000000000000000000000000000000000000"}]
[{"$f":"IFERROR(LEFT(Gerar_Upload!A1928,120),\"erro\")","v":""},{"$f":"IFERROR(SUBSTITUTE(SUBSTITUTE(SUBSTITUTE(Gerar_Upload!B1928,\".\",\"\"),\"-\",\"\"),\"/\",\"\"),\"erro\")","v":""},{"$f":"IFERROR(Gerar_Upload!C1928,\"erro\")","v":0},{"$f":"IFERROR(Gerar_Upload!D1928,\"erro\")","v":0},{"$f":"IFERROR(DATE(YEAR(Gerar_Upload!E1928),MONTH(Gerar_Upload!E1928),DAY(Gerar_Upload!E1928)),\"erro\")","v":"00:00:00"},{"$f":"IFERROR(Gerar_Upload!F1928,\"erro\")","v":0},{"$f":"IFERROR(IF(Gerar_Upload!G1928<44,REPT(0,44-LEN(Gerar_Upload!G1928))&Gerar_Upload!G1928,Gerar_Upload!G1928),\"erro\")","v":"00000000000000000000000000000000000000000000"}]
[{"$f":"IFERROR(LEFT(Gerar_Upload!A1929,120),\"erro\")","v":""},{"$f":"IFERROR(SUBSTITUTE(SUBSTITUTE(SUBSTITUTE(Gerar_Upload!B1929,\".\",\"\"),\"-\",\"\"),\"/\",\"\"),\"erro\")","v":""},{"$f":"IFERROR(Gerar_Upload!C1929,\"erro\")","v":0},{"$f":"IFERROR(Gerar_Upload!D1929,\"erro\")","v":0},{"$f":"IFERROR(DATE(YEAR(Gerar_Upload!E1929),MONTH(Gerar_Upload!E1929),DAY(Gerar_Upload!E1929)),\"erro\")","v":"00:00:00"},{"$f":"IFERROR(Gerar_Upload!F1929,\"erro\")","v":0},{"$f":"IFERROR(IF(Gerar_Upload!G1929<44,REPT(0,44-LEN(Gerar_Upload!G1929))&Gerar_Upload!G1929,Gerar_Upload!G1929),\"erro\")","v":"00000000000000000000000000000000000000000000"}]
[{"$f":"IFERROR(LEFT(Gerar_Upload!A1930,120),\"erro\")","v":""},{"$f":"IFERROR(SUBSTITUTE(SUBSTITUTE(SUBSTITUTE(Gerar_Upload!B1930,\".\",\"\"),\"-\",\"\"),\"/\",\"\"),\"erro\")","v":""},{"$f":"IFERROR(Gerar_Upload!C1930,\"erro\")","v":0},{"$f":"IFERROR(Gerar_Upload!D1930,\"erro\")","v":0},{"$f":"IFERROR(DATE(YEAR(Gerar_Upload!E1930),MONTH(Gerar_Upload!E1930),DAY(Gerar_Upload!E1930)),\"erro\")","v":"00:00:00"},{"$f":"IFERROR(Gerar_Upload!F1930,\"erro\")","v":0},{"$f":"IFERROR(IF(Gerar_Upload!G1930<44,REPT(0,44-LEN(Gerar_Upload!G1930))&Gerar_Upload!G1930,Gerar_Upload!G1930),\"erro\")","v":"00000000000000000000000000000000000000000000"}]
[{"$f":"IFERROR(LEFT(Gerar_Upload!A1931,120),\"erro\")","v":""},{"$f":"IFERROR(SUBSTITUTE(SUBSTITUTE(SUBSTITUTE(Gerar_Upload!B1931,\".\",\"\"),\"-\",\"\"),\"/\",\"\"),\"erro\")","v":""},{"$f":"IFERROR(Gerar_Upload!C1931,\"erro\")","v":0},{"$f":"IFERROR(Gerar_Upload!D1931,\"erro\")","v":0},{"$f":"IFERROR(DATE(YEAR(Gerar_Upload!E1931),MONTH(Gerar_Upload!E1931),DAY(Gerar_Upload!E1931)),\"erro\")","v":"00:00:00"},{"$f":"IFERROR(Gerar_Upload!F1931,\"erro\")","v":0},{"$f":"IFERROR(IF(Gerar_Upload!G1931<44,REPT(0,44-LEN(Gerar_Upload!G1931))&Gerar_Upload!G1931,Gerar_Upload!G1931),\"erro\")","v":"00000000000000000000000000000000000000000000"}]
[{"$f":"IFERROR(LEFT(Gerar_Upload!A1932,120),\"erro\")","v":""},{"$f":"IFERROR(SUBSTITUTE(SUBSTITUTE(SUBSTITUTE(Gerar_Upload!B1932,\".\",\"\"),\"-\",\"\"),\"/\",\"\"),\"erro\")","v":""},{"$f":"IFERROR(Gerar_Upload!C1932,\"erro\")","v":0},{"$f":"IFERROR(Gerar_Upload!D1932,\"erro\")","v":0},{"$f":"IFERROR(DATE(YEAR(Gerar_Upload!E1932),MONTH(Gerar_Upload!E1932),DAY(Gerar_Upload!E1932)),\"erro\")","v":"00:00:00"},{"$f":"IFERROR(Gerar_Upload!F1932,\"erro\")","v":0},{"$f":"IFERROR(IF(Gerar_Upload!G1932<44,REPT(0,44-LEN(Gerar_Upload!G1932))&Gerar_Upload!G1932,Gerar_Upload!G1932),\"erro\")","v":"00000000000000000000000000000000000000000000"}]
[{"$f":"IFERROR(LEFT(Gerar_Upload!A1933,120),\"erro\")","v":""},{"$f":"IFERROR(SUBSTITUTE(SUBSTITUTE(SUBSTITUTE(Gerar_Upload!B1933,\".\",\"\"),\"-\",\"\"),\"/\",\"\"),\"erro\")","v":""},{"$f":"IFERROR(Gerar_Upload!C1933,\"erro\")","v":0},{"$f":"IFERROR(Gerar_Upload!D1933,\"erro\")","v":0},{"$f":"IFERROR(DATE(YEAR(Gerar_Upload!E1933),MONTH(Gerar_Upload!E1933),DAY(Gerar_Upload!E1933)),\"erro\")","v":"00:00:00"},{"$f":"IFERROR(Gerar_Upload!F1933,\"erro\")","v":0},{"$f":"IFERROR(IF(Gerar_Upload!G1933<44,REPT(0,44-LEN(Gerar_Upload!G1933))&Gerar_Upload!G1933,Gerar_Upload!G1933),\"erro\")","v":"00000000000000000000000000000000000000000000"}]
[{"$f":"IFERROR(LEFT(Gerar_Upload!A1934,120),\"erro\")","v":""},{"$f":"IFERROR(SUBSTITUTE(SUBSTITUTE(SUBSTITUTE(Gerar_Upload!B1934,\".\",\"\"),\"-\",\"\"),\"/\",\"\"),\"erro\")","v":""},{"$f":"IFERROR(Gerar_Upload!C1934,\"erro\")","v":0},{"$f":"IFERROR(Gerar_Upload!D1934,\"erro\")","v":0},{"$f":"IFERROR(DATE(YEAR(Gerar_Upload!E1934),MONTH(Gerar_Upload!E1934),DAY(Gerar_Upload!E1934)),\"erro\")","v":"00:00:00"},{"$f":"IFERROR(Gerar_Upload!F1934,\"erro\")","v":0},{"$f":"IFERROR(IF(Gerar_Upload!G1934<44,REPT(0,44-LEN(Gerar_Upload!G1934))&Gerar_Upload!G1934,Gerar_Upload!G1934),\"erro\")","v":"00000000000000000000000000000000000000000000"}]
[{"$f":"IFERROR(LEFT(Gerar_Upload!A1935,120),\"erro\")","v":""},{"$f":"IFERROR(SUBSTITUTE(SUBSTITUTE(SUBSTITUTE(Gerar_Upload!B1935,\".\",\"\"),\"-\",\"\"),\"/\",\"\"),\"erro\")","v":""},{"$f":"IFERROR(Gerar_Upload!C1935,\"erro\")","v":0},{"$f":"IFERROR(Gerar_Upload!D1935,\"erro\")","v":0},{"$f":"IFERROR(DATE(YEAR(Gerar_Upload!E1935),MONTH(Gerar_Upload!E1935),DAY(Gerar_Upload!E1935)),\"erro\")","v":"00:00:00"},{"$f":"IFERROR(Gerar_Upload!F1935,\"erro\")","v":0},{"$f":"IFERROR(IF(Gerar_Upload!G1935<44,REPT(0,44-LEN(Gerar_Upload!G1935))&Gerar_Upload!G1935,Gerar_Upload!G1935),\"erro\")","v":"00000000000000000000000000000000000000000000"}]
[{"$f":"IFERROR(LEFT(Gerar_Upload!A1936,120),\"erro\")","v":""},{"$f":"IFERROR(SUBSTITUTE(SUBSTITUTE(SUBSTITUTE(Gerar_Upload!B1936,\".\",\"\"),\"-\",\"\"),\"/\",\"\"),\"erro\")","v":""},{"$f":"IFERROR(Gerar_Upload!C1936,\"erro\")","v":0},{"$f":"IFERROR(Gerar_Upload!D1936,\"erro\")","v":0},{"$f":"IFERROR(DATE(YEAR(Gerar_Upload!E1936),MONTH(Gerar_Upload!E1936),DAY(Gerar_Upload!E1936)),\"erro\")","v":"00:00:00"},{"$f":"IFERROR(Gerar_Upload!F1936,\"erro\")","v":0},{"$f":"IFERROR(IF(Gerar_Upload!G1936<44,REPT(0,44-LEN(Gerar_Upload!G1936))&Gerar_Upload!G1936,Gerar_Upload!G1936),\"erro\")","v":"00000000000000000000000000000000000000000000"}]
[{"$f":"IFERROR(LEFT(Gerar_Upload!A1937,120),\"erro\")","v":""},{"$f":"IFERROR(SUBSTITUTE(SUBSTITUTE(SUBSTITUTE(Gerar_Upload!B1937,\".\",\"\"),\"-\",\"\"),\"/\",\"\"),\"erro\")","v":""},{"$f":"IFERROR(Gerar_Upload!C1937,\"erro\")","v":0},{"$f":"IFERROR(Gerar_Upload!D1937,\"erro\")","v":0},{"$f":"IFERROR(DATE(YEAR(Gerar_Upload!E1937),MONTH(Gerar_Upload!E1937),DAY(Gerar_Upload!E1937)),\"erro\")","v":"00:00:00"},{"$f":"IFERROR(Gerar_Upload!F1937,\"erro\")","v":0},{"$f":"IFERROR(IF(Gerar_Upload!G1937<44,REPT(0,44-LEN(Gerar_Upload!G1937))&Gerar_Upload!G1937,Gerar_Upload!G1937),\"erro\")","v":"00000000000000000000000000000000000000000000"}]
[{"$f":"IFERROR(LEFT(Gerar_Upload!A1938,120),\"erro\")","v":""},{"$f":"IFERROR(SUBSTITUTE(SUBSTITUTE(SUBSTITUTE(Gerar_Upload!B1938,\".\",\"\"),\"-\",\"\"),\"/\",\"\"),\"erro\")","v":""},{"$f":"IFERROR(Gerar_Upload!C1938,\"erro\")","v":0},{"$f":"IFERROR(Gerar_Upload!D1938,\"erro\")","v":0},{"$f":"IFERROR(DATE(YEAR(Gerar_Upload!E1938),MONTH(Gerar_Upload!E1938),DAY(Gerar_Upload!E1938)),\"erro\")","v":"00:00:00"},{"$f":"IFERROR(Gerar_Upload!F1938,\"erro\")","v":0},{"$f":"IFERROR(IF(Gerar_Upload!G1938<44,REPT(0,44-LEN(Gerar_Upload!G1938))&Gerar_Upload!G1938,Gerar_Upload!G1938),\"erro\")","v":"00000000000000000000000000000000000000000000"}]
[{"$f":"IFERROR(LEFT(Gerar_Upload!A1939,120),\"erro\")","v":""},{"$f":"IFERROR(SUBSTITUTE(SUBSTITUTE(SUBSTITUTE(Gerar_Upload!B1939,\".\",\"\"),\"-\",\"\"),\"/\",\"\"),\"erro\")","v":""},{"$f":"IFERROR(Gerar_Upload!C1939,\"erro\")","v":0},{"$f":"IFERROR(Gerar_Upload!D1939,\"erro\")","v":0},{"$f":"IFERROR(DATE(YEAR(Gerar_Upload!E1939),MONTH(Gerar_Upload!E1939),DAY(Gerar_Upload!E1939)),\"erro\")","v":"00:00:00"},{"$f":"IFERROR(Gerar_Upload!F1939,\"erro\")","v":0},{"$f":"IFERROR(IF(Gerar_Upload!G1939<44,REPT(0,44-LEN(Gerar_Upload!G1939))&Gerar_Upload!G1939,Gerar_Upload!G1939),\"erro\")","v":"00000000000000000000000000000000000000000000"}]
[{"$f":"IFERROR(LEFT(Gerar_Upload!A1940,120),\"erro\")","v":""},{"$f":"IFERROR(SUBSTITUTE(SUBSTITUTE(SUBSTITUTE(Gerar_Upload!B1940,\".\",\"\"),\"-\",\"\"),\"/\",\"\"),\"erro\")","v":""},{"$f":"IFERROR(Gerar_Upload!C1940,\"erro\")","v":0},{"$f":"IFERROR(Gerar_Upload!D1940,\"erro\")","v":0},{"$f":"IFERROR(DATE(YEAR(Gerar_Upload!E1940),MONTH(Gerar_Upload!E1940),DAY(Gerar_Upload!E1940)),\"erro\")","v":"00:00:00"},{"$f":"IFERROR(Gerar_Upload!F1940,\"erro\")","v":0},{"$f":"IFERROR(IF(Gerar_Upload!G1940<44,REPT(0,44-LEN(Gerar_Upload!G1940))&Gerar_Upload!G1940,Gerar_Upload!G1940),\"erro\")","v":"00000000000000000000000000000000000000000000"}]
[{"$f":"IFERROR(LEFT(Gerar_Upload!A1941,120),\"erro\")","v":""},{"$f":"IFERROR(SUBSTITUTE(SUBSTITUTE(SUBSTITUTE(Gerar_Upload!B1941,\".\",\"\"),\"-\",\"\"),\"/\",\"\"),\"erro\")","v":""},{"$f":"IFERROR(Gerar_Upload!C1941,\"erro\")","v":0},{"$f":"IFERROR(Gerar_Upload!D1941,\"erro\")","v":0},{"$f":"IFERROR(DATE(YEAR(Gerar_Upload!E1941),MONTH(Gerar_Upload!E1941),DAY(Gerar_Upload!E1941)),\"erro\")","v":"00:00:00"},{"$f":"IFERROR(Gerar_Upload!F1941,\"erro\")","v":0},{"$f":"IFERROR(IF(Gerar_Upload!G1941<44,REPT(0,44-LEN(Gerar_Upload!G1941))&Gerar_Upload!G1941,Gerar_Upload!G1941),\"erro\")","v":"00000000000000000000000000000000000000000000"}]
[{"$f":"IFERROR(LEFT(Gerar_Upload!A1942,120),\"erro\")","v":""},{"$f":"IFERROR(SUBSTITUTE(SUBSTITUTE(SUBSTITUTE(Gerar_Upload!B1942,\".\",\"\"),\"-\",\"\"),\"/\",\"\"),\"erro\")","v":""},{"$f":"IFERROR(Gerar_Upload!C1942,\"erro\")","v":0},{"$f":"IFERROR(Gerar_Upload!D1942,\"erro\")","v":0},{"$f":"IFERROR(DATE(YEAR(Gerar_Upload!E1942),MONTH(Gerar_Upload!E1942),DAY(Gerar_Upload!E1942)),\"erro\")","v":"00:00:00"},{"$f":"IFERROR(Gerar_Upload!F1942,\"erro\")","v":0},{"$f":"IFERROR(IF(Gerar_Upload!G1942<44,REPT(0,44-LEN(Gerar_Upload!G1942))&Gerar_Upload!G1942,Gerar_Upload!G1942),\"erro\")","v":"00000000000000000000000000000000000000000000"}]
[{"$f":"IFERROR(LEFT(Gerar_Upload!A1943,120),\"erro\")","v":""},{"$f":"IFERROR(SUBSTITUTE(SUBSTITUTE(SUBSTITUTE(Gerar_Upload!B1943,\".\",\"\"),\"-\",\"\"),\"/\",\"\"),\"erro\")","v":""},{"$f":"IFERROR(Gerar_Upload!C1943,\"erro\")","v":0},{"$f":"IFERROR(Gerar_Upload!D1943,\"erro\")","v":0},{"$f":"IFERROR(DATE(YEAR(Gerar_Upload!E1943),MONTH(Gerar_Upload!E1943),DAY(Gerar_Upload!E1943)),\"erro\")","v":"00:00:00"},{"$f":"IFERROR(Gerar_Upload!F1943,\"erro\")","v":0},{"$f":"IFERROR(IF(Gerar_Upload!G1943<44,REPT(0,44-LEN(Gerar_Upload!G1943))&Gerar_Upload!G1943,Gerar_Upload!G1943),\"erro\")","v":"00000000000000000000000000000000000000000000"}]
[{"$f":"IFERROR(LEFT(Gerar_Upload!A1944,120),\"erro\")","v":""},{"$f":"IFERROR(SUBSTITUTE(SUBSTITUTE(SUBSTITUTE(Gerar_Upload!B1944,\".\",\"\"),\"-\",\"\"),\"/\",\"\"),\"erro\")","v":""},{"$f":"IFERROR(Gerar_Upload!C1944,\"erro\")","v":0},{"$f":"IFERROR(Gerar_Upload!D1944,\"erro\")","v":0},{"$f":"IFERROR(DATE(YEAR(Gerar_Upload!E1944),MONTH(Gerar_Upload!E1944),DAY(Gerar_Upload!E1944)),\"erro\")","v":"00:00:00"},{"$f":"IFERROR(Gerar_Upload!F1944,\"erro\")","v":0},{"$f":"IFERROR(IF(Gerar_Upload!G1944<44,REPT(0,44-LEN(Gerar_Upload!G1944))&Gerar_Upload!G1944,Gerar_Upload!G1944),\"erro\")","v":"00000000000000000000000000000000000000000000"}]
[{"$f":"IFERROR(LEFT(Gerar_Upload!A1945,120),\"erro\")","v":""},{"$f":"IFERROR(SUBSTITUTE(SUBSTITUTE(SUBSTITUTE(Gerar_Upload!B1945,\".\",\"\"),\"-\",\"\"),\"/\",\"\"),\"erro\")","v":""},{"$f":"IFERROR(Gerar_Upload!C1945,\"erro\")","v":0},{"$f":"IFERROR(Gerar_Upload!D1945,\"erro\")","v":0},{"$f":"IFERROR(DATE(YEAR(Gerar_Upload!E1945),MONTH(Gerar_Upload!E1945),DAY(Gerar_Upload!E1945)),\"erro\")","v":"00:00:00"},{"$f":"IFERROR(Gerar_Upload!F1945,\"erro\")","v":0},{"$f":"IFERROR(IF(Gerar_Upload!G1945<44,REPT(0,44-LEN(Gerar_Upload!G1945))&Gerar_Upload!G1945,Gerar_Upload!G1945),\"erro\")","v":"00000000000000000000000000000000000000000000"}]
[{"$f":"IFERROR(LEFT(Gerar_Upload!A1946,120),\"erro\")","v":""},{"$f":"IFERROR(SUBSTITUTE(SUBSTITUTE(SUBSTITUTE(Gerar_Upload!B1946,\".\",\"\"),\"-\",\"\"),\"/\",\"\"),\"erro\")","v":""},{"$f":"IFERROR(Gerar_Upload!C1946,\"erro\")","v":0},{"$f":"IFERROR(Gerar_Upload!D1946,\"erro\")","v":0},{"$f":"IFERROR(DATE(YEAR(Gerar_Upload!E1946),MONTH(Gerar_Upload!E1946),DAY(Gerar_Upload!E1946)),\"erro\")","v":"00:00:00"},{"$f":"IFERROR(Gerar_Upload!F1946,\"erro\")","v":0},{"$f":"IFERROR(IF(Gerar_Upload!G1946<44,REPT(0,44-LEN(Gerar_Upload!G1946))&Gerar_Upload!G1946,Gerar_Upload!G1946),\"erro\")","v":"00000000000000000000000000000000000000000000"}]
[{"$f":"IFERROR(LEFT(Gerar_Upload!A1947,120),\"erro\")","v":""},{"$f":"IFERROR(SUBSTITUTE(SUBSTITUTE(SUBSTITUTE(Gerar_Upload!B1947,\".\",\"\"),\"-\",\"\"),\"/\",\"\"),\"erro\")","v":""},{"$f":"IFERROR(Gerar_Upload!C1947,\"erro\")","v":0},{"$f":"IFERROR(Gerar_Upload!D1947,\"erro\")","v":0},{"$f":"IFERROR(DATE(YEAR(Gerar_Upload!E1947),MONTH(Gerar_Upload!E1947),DAY(Gerar_Upload!E1947)),\"erro\")","v":"00:00:00"},{"$f":"IFERROR(Gerar_Upload!F1947,\"erro\")","v":0},{"$f":"IFERROR(IF(Gerar_Upload!G1947<44,REPT(0,44-LEN(Gerar_Upload!G1947))&Gerar_Upload!G1947,Gerar_Upload!G1947),\"erro\")","v":"00000000000000000000000000000000000000000000"}]
[{"$f":"IFERROR(LEFT(Gerar_Upload!A1948,120),\"erro\")","v":""},{"$f":"IFERROR(SUBSTITUTE(SUBSTITUTE(SUBSTITUTE(Gerar_Upload!B1948,\".\",\"\"),\"-\",\"\"),\"/\",\"\"),\"erro\")","v":""},{"$f":"IFERROR(Gerar_Upload!C1948,\"erro\")","v":0},{"$f":"IFERROR(Gerar_Upload!D1948,\"erro\")","v":0},{"$f":"IFERROR(DATE(YEAR(Gerar_Upload!E1948),MONTH(Gerar_Upload!E1948),DAY(Gerar_Upload!E1948)),\"erro\")","v":"00:00:00"},{"$f":"IFERROR(Gerar_Upload!F1948,\"erro\")","v":0},{"$f":"IFERROR(IF(Gerar_Upload!G1948<44,REPT(0,44-LEN(Gerar_Upload!G1948))&Gerar_Upload!G1948,Gerar_Upload!G1948),\"erro\")","v":"00000000000000000000000000000000000000000000"}]
[{"$f":"IFERROR(LEFT(Gerar_Upload!A1949,120),\"erro\")","v":""},{"$f":"IFERROR(SUBSTITUTE(SUBSTITUTE(SUBSTITUTE(Gerar_Upload!B1949,\".\",\"\"),\"-\",\"\"),\"/\",\"\"),\"erro\")","v":""},{"$f":"IFERROR(Gerar_Upload!C1949,\"erro\")","v":0},{"$f":"IFERROR(Gerar_Upload!D1949,\"erro\")","v":0},{"$f":"IFERROR(DATE(YEAR(Gerar_Upload!E1949),MONTH(Gerar_Upload!E1949),DAY(Gerar_Upload!E1949)),\"erro\")","v":"00:00:00"},{"$f":"IFERROR(Gerar_Upload!F1949,\"erro\")","v":0},{"$f":"IFERROR(IF(Gerar_Upload!G1949<44,REPT(0,44-LEN(Gerar_Upload!G1949))&Gerar_Upload!G1949,Gerar_Upload!G1949),\"erro\")","v":"00000000000000000000000000000000000000000000"}]
[{"$f":"IFERROR(LEFT(Gerar_Upload!A1950,120),\"erro\")","v":""},{"$f":"IFERROR(SUBSTITUTE(SUBSTITUTE(SUBSTITUTE(Gerar_Upload!B1950,\".\",\"\"),\"-\",\"\"),\"/\",\"\"),\"erro\")","v":""},{"$f":"IFERROR(Gerar_Upload!C1950,\"erro\")","v":0},{"$f":"IFERROR(Gerar_Upload!D1950,\"erro\")","v":0},{"$f":"IFERROR(DATE(YEAR(Gerar_Upload!E1950),MONTH(Gerar_Upload!E1950),DAY(Gerar_Upload!E1950)),\"erro\")","v":"00:00:00"},{"$f":"IFERROR(Gerar_Upload!F1950,\"erro\")","v":0},{"$f":"IFERROR(IF(Gerar_Upload!G1950<44,REPT(0,44-LEN(Gerar_Upload!G1950))&Gerar_Upload!G1950,Gerar_Upload!G1950),\"erro\")","v":"00000000000000000000000000000000000000000000"}]
[{"$f":"IFERROR(LEFT(Gerar_Upload!A1951,120),\"erro\")","v":""},{"$f":"IFERROR(SUBSTITUTE(SUBSTITUTE(SUBSTITUTE(Gerar_Upload!B1951,\".\",\"\"),\"-\",\"\"),\"/\",\"\"),\"erro\")","v":""},{"$f":"IFERROR(Gerar_Upload!C1951,\"erro\")","v":0},{"$f":"IFERROR(Gerar_Upload!D1951,\"erro\")","v":0},{"$f":"IFERROR(DATE(YEAR(Gerar_Upload!E1951),MONTH(Gerar_Upload!E1951),DAY(Gerar_Upload!E1951)),\"erro\")","v":"00:00:00"},{"$f":"IFERROR(Gerar_Upload!F1951,\"erro\")","v":0},{"$f":"IFERROR(IF(Gerar_Upload!G1951<44,REPT(0,44-LEN(Gerar_Upload!G1951))&Gerar_Upload!G1951,Gerar_Upload!G1951),\"erro\")","v":"00000000000000000000000000000000000000000000"}]
[{"$f":"IFERROR(LEFT(Gerar_Upload!A1952,120),\"erro\")","v":""},{"$f":"IFERROR(SUBSTITUTE(SUBSTITUTE(SUBSTITUTE(Gerar_Upload!B1952,\".\",\"\"),\"-\",\"\"),\"/\",\"\"),\"erro\")","v":""},{"$f":"IFERROR(Gerar_Upload!C1952,\"erro\")","v":0},{"$f":"IFERROR(Gerar_Upload!D1952,\"erro\")","v":0},{"$f":"IFERROR(DATE(YEAR(Gerar_Upload!E1952),MONTH(Gerar_Upload!E1952),DAY(Gerar_Upload!E1952)),\"erro\")","v":"00:00:00"},{"$f":"IFERROR(Gerar_Upload!F1952,\"erro\")","v":0},{"$f":"IFERROR(IF(Gerar_Upload!G1952<44,REPT(0,44-LEN(Gerar_Upload!G1952))&Gerar_Upload!G1952,Gerar_Upload!G1952),\"erro\")","v":"00000000000000000000000000000000000000000000"}]
[{"$f":"IFERROR(LEFT(Gerar_Upload!A1953,120),\"erro\")","v":""},{"$f":"IFERROR(SUBSTITUTE(SUBSTITUTE(SUBSTITUTE(Gerar_Upload!B1953,\".\",\"\"),\"-\",\"\"),\"/\",\"\"),\"erro\")","v":""},{"$f":"IFERROR(Gerar_Upload!C1953,\"erro\")","v":0},{"$f":"IFERROR(Gerar_Upload!D1953,\"erro\")","v":0},{"$f":"IFERROR(DATE(YEAR(Gerar_Upload!E1953),MONTH(Gerar_Upload!E1953),DAY(Gerar_Upload!E1953)),\"erro\")","v":"00:00:00"},{"$f":"IFERROR(Gerar_Upload!F1953,\"erro\")","v":0},{"$f":"IFERROR(IF(Gerar_Upload!G1953<44,REPT(0,44-LEN(Gerar_Upload!G1953))&Gerar_Upload!G1953,Gerar_Upload!G1953),\"erro\")","v":"00000000000000000000000000000000000000000000"}]
[{"$f":"IFERROR(LEFT(Gerar_Upload!A1954,120),\"erro\")","v":""},{"$f":"IFERROR(SUBSTITUTE(SUBSTITUTE(SUBSTITUTE(Gerar_Upload!B1954,\".\",\"\"),\"-\",\"\"),\"/\",\"\"),\"erro\")","v":""},{"$f":"IFERROR(Gerar_Upload!C1954,\"erro\")","v":0},{"$f":"IFERROR(Gerar_Upload!D1954,\"erro\")","v":0},{"$f":"IFERROR(DATE(YEAR(Gerar_Upload!E1954),MONTH(Gerar_Upload!E1954),DAY(Gerar_Upload!E1954)),\"erro\")","v":"00:00:00"},{"$f":"IFERROR(Gerar_Upload!F1954,\"erro\")","v":0},{"$f":"IFERROR(IF(Gerar_Upload!G1954<44,REPT(0,44-LEN(Gerar_Upload!G1954))&Gerar_Upload!G1954,Gerar_Upload!G1954),\"erro\")","v":"00000000000000000000000000000000000000000000"}]
[{"$f":"IFERROR(LEFT(Gerar_Upload!A1955,120),\"erro\")","v":""},{"$f":"IFERROR(SUBSTITUTE(SUBSTITUTE(SUBSTITUTE(Gerar_Upload!B1955,\".\",\"\"),\"-\",\"\"),\"/\",\"\"),\"erro\")","v":""},{"$f":"IFERROR(Gerar_Upload!C1955,\"erro\")","v":0},{"$f":"IFERROR(Gerar_Upload!D1955,\"erro\")","v":0},{"$f":"IFERROR(DATE(YEAR(Gerar_Upload!E1955),MONTH(Gerar_Upload!E1955),DAY(Gerar_Upload!E1955)),\"erro\")","v":"00:00:00"},{"$f":"IFERROR(Gerar_Upload!F1955,\"erro\")","v":0},{"$f":"IFERROR(IF(Gerar_Upload!G1955<44,REPT(0,44-LEN(Gerar_Upload!G1955))&Gerar_Upload!G1955,Gerar_Upload!G1955),\"erro\")","v":"00000000000000000000000000000000000000000000"}]
[{"$f":"IFERROR(LEFT(Gerar_Upload!A1956,120),\"erro\")","v":""},{"$f":"IFERROR(SUBSTITUTE(SUBSTITUTE(SUBSTITUTE(Gerar_Upload!B1956,\".\",\"\"),\"-\",\"\"),\"/\",\"\"),\"erro\")","v":""},{"$f":"IFERROR(Gerar_Upload!C1956,\"erro\")","v":0},{"$f":"IFERROR(Gerar_Upload!D1956,\"erro\")","v":0},{"$f":"IFERROR(DATE(YEAR(Gerar_Upload!E1956),MONTH(Gerar_Upload!E1956),DAY(Gerar_Upload!E1956)),\"erro\")","v":"00:00:00"},{"$f":"IFERROR(Gerar_Upload!F1956,\"erro\")","v":0},{"$f":"IFERROR(IF(Gerar_Upload!G1956<44,REPT(0,44-LEN(Gerar_Upload!G1956))&Gerar_Upload!G1956,Gerar_Upload!G1956),\"erro\")","v":"00000000000000000000000000000000000000000000"}]
[{"$f":"IFERROR(LEFT(Gerar_Upload!A1957,120),\"erro\")","v":""},{"$f":"IFERROR(SUBSTITUTE(SUBSTITUTE(SUBSTITUTE(Gerar_Upload!B1957,\".\",\"\"),\"-\",\"\"),\"/\",\"\"),\"erro\")","v":""},{"$f":"IFERROR(Gerar_Upload!C1957,\"erro\")","v":0},{"$f":"IFERROR(Gerar_Upload!D1957,\"erro\")","v":0},{"$f":"IFERROR(DATE(YEAR(Gerar_Upload!E1957),MONTH(Gerar_Upload!E1957),DAY(Gerar_Upload!E1957)),\"erro\")","v":"00:00:00"},{"$f":"IFERROR(Gerar_Upload!F1957,\"erro\")","v":0},{"$f":"IFERROR(IF(Gerar_Upload!G1957<44,REPT(0,44-LEN(Gerar_Upload!G1957))&Gerar_Upload!G1957,Gerar_Upload!G1957),\"erro\")","v":"00000000000000000000000000000000000000000000"}]
[{"$f":"IFERROR(LEFT(Gerar_Upload!A1958,120),\"erro\")","v":""},{"$f":"IFERROR(SUBSTITUTE(SUBSTITUTE(SUBSTITUTE(Gerar_Upload!B1958,\".\",\"\"),\"-\",\"\"),\"/\",\"\"),\"erro\")","v":""},{"$f":"IFERROR(Gerar_Upload!C1958,\"erro\")","v":0},{"$f":"IFERROR(Gerar_Upload!D1958,\"erro\")","v":0},{"$f":"IFERROR(DATE(YEAR(Gerar_Upload!E1958),MONTH(Gerar_Upload!E1958),DAY(Gerar_Upload!E1958)),\"erro\")","v":"00:00:00"},{"$f":"IFERROR(Gerar_Upload!F1958,\"erro\")","v":0},{"$f":"IFERROR(IF(Gerar_Upload!G1958<44,REPT(0,44-LEN(Gerar_Upload!G1958))&Gerar_Upload!G1958,Gerar_Upload!G1958),\"erro\")","v":"00000000000000000000000000000000000000000000"}]
[{"$f":"IFERROR(LEFT(Gerar_Upload!A1959,120),\"erro\")","v":""},{"$f":"IFERROR(SUBSTITUTE(SUBSTITUTE(SUBSTITUTE(Gerar_Upload!B1959,\".\",\"\"),\"-\",\"\"),\"/\",\"\"),\"erro\")","v":""},{"$f":"IFERROR(Gerar_Upload!C1959,\"erro\")","v":0},{"$f":"IFERROR(Gerar_Upload!D1959,\"erro\")","v":0},{"$f":"IFERROR(DATE(YEAR(Gerar_Upload!E1959),MONTH(Gerar_Upload!E1959),DAY(Gerar_Upload!E1959)),\"erro\")","v":"00:00:00"},{"$f":"IFERROR(Gerar_Upload!F1959,\"erro\")","v":0},{"$f":"IFERROR(IF(Gerar_Upload!G1959<44,REPT(0,44-LEN(Gerar_Upload!G1959))&Gerar_Upload!G1959,Gerar_Upload!G1959),\"erro\")","v":"00000000000000000000000000000000000000000000"}]
[{"$f":"IFERROR(LEFT(Gerar_Upload!A1960,120),\"erro\")","v":""},{"$f":"IFERROR(SUBSTITUTE(SUBSTITUTE(SUBSTITUTE(Gerar_Upload!B1960,\".\",\"\"),\"-\",\"\"),\"/\",\"\"),\"erro\")","v":""},{"$f":"IFERROR(Gerar_Upload!C1960,\"erro\")","v":0},{"$f":"IFERROR(Gerar_Upload!D1960,\"erro\")","v":0},{"$f":"IFERROR(DATE(YEAR(Gerar_Upload!E1960),MONTH(Gerar_Upload!E1960),DAY(Gerar_Upload!E1960)),\"erro\")","v":"00:00:00"},{"$f":"IFERROR(Gerar_Upload!F1960,\"erro\")","v":0},{"$f":"IFERROR(IF(Gerar_Upload!G1960<44,REPT(0,44-LEN(Gerar_Upload!G1960))&Gerar_Upload!G1960,Gerar_Upload!G1960),\"erro\")","v":"00000000000000000000000000000000000000000000"}]
[{"$f":"IFERROR(LEFT(Gerar_Upload!A1961,120),\"erro\")","v":""},{"$f":"IFERROR(SUBSTITUTE(SUBSTITUTE(SUBSTITUTE(Gerar_Upload!B1961,\".\",\"\"),\"-\",\"\"),\"/\",\"\"),\"erro\")","v":""},{"$f":"IFERROR(Gerar_Upload!C1961,\"erro\")","v":0},{"$f":"IFERROR(Gerar_Upload!D1961,\"erro\")","v":0},{"$f":"IFERROR(DATE(YEAR(Gerar_Upload!E1961),MONTH(Gerar_Upload!E1961),DAY(Gerar_Upload!E1961)),\"erro\")","v":"00:00:00"},{"$f":"IFERROR(Gerar_Upload!F1961,\"erro\")","v":0},{"$f":"IFERROR(IF(Gerar_Upload!G1961<44,REPT(0,44-LEN(Gerar_Upload!G1961))&Gerar_Upload!G1961,Gerar_Upload!G1961),\"erro\")","v":"00000000000000000000000000000000000000000000"}]
[{"$f":"IFERROR(LEFT(Gerar_Upload!A1962,120),\"erro\")","v":""},{"$f":"IFERROR(SUBSTITUTE(SUBSTITUTE(SUBSTITUTE(Gerar_Upload!B1962,\".\",\"\"),\"-\",\"\"),\"/\",\"\"),\"erro\")","v":""},{"$f":"IFERROR(Gerar_Upload!C1962,\"erro\")","v":0},{"$f":"IFERROR(Gerar_Upload!D1962,\"erro\")","v":0},{"$f":"IFERROR(DATE(YEAR(Gerar_Upload!E1962),MONTH(Gerar_Upload!E1962),DAY(Gerar_Upload!E1962)),\"erro\")","v":"00:00:00"},{"$f":"IFERROR(Gerar_Upload!F1962,\"erro\")","v":0},{"$f":"IFERROR(IF(Gerar_Upload!G1962<44,REPT(0,44-LEN(Gerar_Upload!G1962))&Gerar_Upload!G1962,Gerar_Upload!G1962),\"erro\")","v":"00000000000000000000000000000000000000000000"}]
[{"$f":"IFERROR(LEFT(Gerar_Upload!A1963,120),\"erro\")","v":""},{"$f":"IFERROR(SUBSTITUTE(SUBSTITUTE(SUBSTITUTE(Gerar_Upload!B1963,\".\",\"\"),\"-\",\"\"),\"/\",\"\"),\"erro\")","v":""},{"$f":"IFERROR(Gerar_Upload!C1963,\"erro\")","v":0},{"$f":"IFERROR(Gerar_Upload!D1963,\"erro\")","v":0},{"$f":"IFERROR(DATE(YEAR(Gerar_Upload!E1963),MONTH(Gerar_Upload!E1963),DAY(Gerar_Upload!E1963)),\"erro\")","v":"00:00:00"},{"$f":"IFERROR(Gerar_Upload!F1963,\"erro\")","v":0},{"$f":"IFERROR(IF(Gerar_Upload!G1963<44,REPT(0,44-LEN(Gerar_Upload!G1963))&Gerar_Upload!G1963,Gerar_Upload!G1963),\"erro\")","v":"00000000000000000000000000000000000000000000"}]
[{"$f":"IFERROR(LEFT(Gerar_Upload!A1964,120),\"erro\")","v":""},{"$f":"IFERROR(SUBSTITUTE(SUBSTITUTE(SUBSTITUTE(Gerar_Upload!B1964,\".\",\"\"),\"-\",\"\"),\"/\",\"\"),\"erro\")","v":""},{"$f":"IFERROR(Gerar_Upload!C1964,\"erro\")","v":0},{"$f":"IFERROR(Gerar_Upload!D1964,\"erro\")","v":0},{"$f":"IFERROR(DATE(YEAR(Gerar_Upload!E1964),MONTH(Gerar_Upload!E1964),DAY(Gerar_Upload!E1964)),\"erro\")","v":"00:00:00"},{"$f":"IFERROR(Gerar_Upload!F1964,\"erro\")","v":0},{"$f":"IFERROR(IF(Gerar_Upload!G1964<44,REPT(0,44-LEN(Gerar_Upload!G1964))&Gerar_Upload!G1964,Gerar_Upload!G1964),\"erro\")","v":"00000000000000000000000000000000000000000000"}]
[{"$f":"IFERROR(LEFT(Gerar_Upload!A1965,120),\"erro\")","v":""},{"$f":"IFERROR(SUBSTITUTE(SUBSTITUTE(SUBSTITUTE(Gerar_Upload!B1965,\".\",\"\"),\"-\",\"\"),\"/\",\"\"),\"erro\")","v":""},{"$f":"IFERROR(Gerar_Upload!C1965,\"erro\")","v":0},{"$f":"IFERROR(Gerar_Upload!D1965,\"erro\")","v":0},{"$f":"IFERROR(DATE(YEAR(Gerar_Upload!E1965),MONTH(Gerar_Upload!E1965),DAY(Gerar_Upload!E1965)),\"erro\")","v":"00:00:00"},{"$f":"IFERROR(Gerar_Upload!F1965,\"erro\")","v":0},{"$f":"IFERROR(IF(Gerar_Upload!G1965<44,REPT(0,44-LEN(Gerar_Upload!G1965))&Gerar_Upload!G1965,Gerar_Upload!G1965),\"erro\")","v":"00000000000000000000000000000000000000000000"}]
[{"$f":"IFERROR(LEFT(Gerar_Upload!A1966,120),\"erro\")","v":""},{"$f":"IFERROR(SUBSTITUTE(SUBSTITUTE(SUBSTITUTE(Gerar_Upload!B1966,\".\",\"\"),\"-\",\"\"),\"/\",\"\"),\"erro\")","v":""},{"$f":"IFERROR(Gerar_Upload!C1966,\"erro\")","v":0},{"$f":"IFERROR(Gerar_Upload!D1966,\"erro\")","v":0},{"$f":"IFERROR(DATE(YEAR(Gerar_Upload!E1966),MONTH(Gerar_Upload!E1966),DAY(Gerar_Upload!E1966)),\"erro\")","v":"00:00:00"},{"$f":"IFERROR(Gerar_Upload!F1966,\"erro\")","v":0},{"$f":"IFERROR(IF(Gerar_Upload!G1966<44,REPT(0,44-LEN(Gerar_Upload!G1966))&Gerar_Upload!G1966,Gerar_Upload!G1966),\"erro\")","v":"00000000000000000000000000000000000000000000"}]
[{"$f":"IFERROR(LEFT(Gerar_Upload!A1967,120),\"erro\")","v":""},{"$f":"IFERROR(SUBSTITUTE(SUBSTITUTE(SUBSTITUTE(Gerar_Upload!B1967,\".\",\"\"),\"-\",\"\"),\"/\",\"\"),\"erro\")","v":""},{"$f":"IFERROR(Gerar_Upload!C1967,\"erro\")","v":0},{"$f":"IFERROR(Gerar_Upload!D1967,\"erro\")","v":0},{"$f":"IFERROR(DATE(YEAR(Gerar_Upload!E1967),MONTH(Gerar_Upload!E1967),DAY(Gerar_Upload!E1967)),\"erro\")","v":"00:00:00"},{"$f":"IFERROR(Gerar_Upload!F1967,\"erro\")","v":0},{"$f":"IFERROR(IF(Gerar_Upload!G1967<44,REPT(0,44-LEN(Gerar_Upload!G1967))&Gerar_Upload!G1967,Gerar_Upload!G1967),\"erro\")","v":"00000000000000000000000000000000000000000000"}]
[{"$f":"IFERROR(LEFT(Gerar_Upload!A1968,120),\"erro\")","v":""},{"$f":"IFERROR(SUBSTITUTE(SUBSTITUTE(SUBSTITUTE(Gerar_Upload!B1968,\".\",\"\"),\"-\",\"\"),\"/\",\"\"),\"erro\")","v":""},{"$f":"IFERROR(Gerar_Upload!C1968,\"erro\")","v":0},{"$f":"IFERROR(Gerar_Upload!D1968,\"erro\")","v":0},{"$f":"IFERROR(DATE(YEAR(Gerar_Upload!E1968),MONTH(Gerar_Upload!E1968),DAY(Gerar_Upload!E1968)),\"erro\")","v":"00:00:00"},{"$f":"IFERROR(Gerar_Upload!F1968,\"erro\")","v":0},{"$f":"IFERROR(IF(Gerar_Upload!G1968<44,REPT(0,44-LEN(Gerar_Upload!G1968))&Gerar_Upload!G1968,Gerar_Upload!G1968),\"erro\")","v":"00000000000000000000000000000000000000000000"}]
[{"$f":"IFERROR(LEFT(Gerar_Upload!A1969,120),\"erro\")","v":""},{"$f":"IFERROR(SUBSTITUTE(SUBSTITUTE(SUBSTITUTE(Gerar_Upload!B1969,\".\",\"\"),\"-\",\"\"),\"/\",\"\"),\"erro\")","v":""},{"$f":"IFERROR(Gerar_Upload!C1969,\"erro\")","v":0},{"$f":"IFERROR(Gerar_Upload!D1969,\"erro\")","v":0},{"$f":"IFERROR(DATE(YEAR(Gerar_Upload!E1969),MONTH(Gerar_Upload!E1969),DAY(Gerar_Upload!E1969)),\"erro\")","v":"00:00:00"},{"$f":"IFERROR(Gerar_Upload!F1969,\"erro\")","v":0},{"$f":"IFERROR(IF(Gerar_Upload!G1969<44,REPT(0,44-LEN(Gerar_Upload!G1969))&Gerar_Upload!G1969,Gerar_Upload!G1969),\"erro\")","v":"00000000000000000000000000000000000000000000"}]
[{"$f":"IFERROR(LEFT(Gerar_Upload!A1970,120),\"erro\")","v":""},{"$f":"IFERROR(SUBSTITUTE(SUBSTITUTE(SUBSTITUTE(Gerar_Upload!B1970,\".\",\"\"),\"-\",\"\"),\"/\",\"\"),\"erro\")","v":""},{"$f":"IFERROR(Gerar_Upload!C1970,\"erro\")","v":0},{"$f":"IFERROR(Gerar_Upload!D1970,\"erro\")","v":0},{"$f":"IFERROR(DATE(YEAR(Gerar_Upload!E1970),MONTH(Gerar_Upload!E1970),DAY(Gerar_Upload!E1970)),\"erro\")","v":"00:00:00"},{"$f":"IFERROR(Gerar_Upload!F1970,\"erro\")","v":0},{"$f":"IFERROR(IF(Gerar_Upload!G1970<44,REPT(0,44-LEN(Gerar_Upload!G1970))&Gerar_Upload!G1970,Gerar_Upload!G1970),\"erro\")","v":"00000000000000000000000000000000000000000000"}]
[{"$f":"IFERROR(LEFT(Gerar_Upload!A1971,120),\"erro\")","v":""},{"$f":"IFERROR(SUBSTITUTE(SUBSTITUTE(SUBSTITUTE(Gerar_Upload!B1971,\".\",\"\"),\"-\",\"\"),\"/\",\"\"),\"erro\")","v":""},{"$f":"IFERROR(Gerar_Upload!C1971,\"erro\")","v":0},{"$f":"IFERROR(Gerar_Upload!D1971,\"erro\")","v":0},{"$f":"IFERROR(DATE(YEAR(Gerar_Upload!E1971),MONTH(Gerar_Upload!E1971),DAY(Gerar_Upload!E1971)),\"erro\")","v":"00:00:00"},{"$f":"IFERROR(Gerar_Upload!F1971,\"erro\")","v":0},{"$f":"IFERROR(IF(Gerar_Upload!G1971<44,REPT(0,44-LEN(Gerar_Upload!G1971))&Gerar_Upload!G1971,Gerar_Upload!G1971),\"erro\")","v":"00000000000000000000000000000000000000000000"}]
[{"$f":"IFERROR(LEFT(Gerar_Upload!A1972,120),\"erro\")","v":""},{"$f":"IFERROR(SUBSTITUTE(SUBSTITUTE(SUBSTITUTE(Gerar_Upload!B1972,\".\",\"\"),\"-\",\"\"),\"/\",\"\"),\"erro\")","v":""},{"$f":"IFERROR(Gerar_Upload!C1972,\"erro\")","v":0},{"$f":"IFERROR(Gerar_Upload!D1972,\"erro\")","v":0},{"$f":"IFERROR(DATE(YEAR(Gerar_Upload!E1972),MONTH(Gerar_Upload!E1972),DAY(Gerar_Upload!E1972)),\"erro\")","v":"00:00:00"},{"$f":"IFERROR(Gerar_Upload!F1972,\"erro\")","v":0},{"$f":"IFERROR(IF(Gerar_Upload!G1972<44,REPT(0,44-LEN(Gerar_Upload!G1972))&Gerar_Upload!G1972,Gerar_Upload!G1972),\"erro\")","v":"00000000000000000000000000000000000000000000"}]
[{"$f":"IFERROR(LEFT(Gerar_Upload!A1973,120),\"erro\")","v":""},{"$f":"IFERROR(SUBSTITUTE(SUBSTITUTE(SUBSTITUTE(Gerar_Upload!B1973,\".\",\"\"),\"-\",\"\"),\"/\",\"\"),\"erro\")","v":""},{"$f":"IFERROR(Gerar_Upload!C1973,\"erro\")","v":0},{"$f":"IFERROR(Gerar_Upload!D1973,\"erro\")","v":0},{"$f":"IFERROR(DATE(YEAR(Gerar_Upload!E1973),MONTH(Gerar_Upload!E1973),DAY(Gerar_Upload!E1973)),\"erro\")","v":"00:00:00"},{"$f":"IFERROR(Gerar_Upload!F1973,\"erro\")","v":0},{"$f":"IFERROR(IF(Gerar_Upload!G1973<44,REPT(0,44-LEN(Gerar_Upload!G1973))&Gerar_Upload!G1973,Gerar_Upload!G1973),\"erro\")","v":"00000000000000000000000000000000000000000000"}]
[{"$f":"IFERROR(LEFT(Gerar_Upload!A1974,120),\"erro\")","v":""},{"$f":"IFERROR(SUBSTITUTE(SUBSTITUTE(SUBSTITUTE(Gerar_Upload!B1974,\".\",\"\"),\"-\",\"\"),\"/\",\"\"),\"erro\")","v":""},{"$f":"IFERROR(Gerar_Upload!C1974,\"erro\")","v":0},{"$f":"IFERROR(Gerar_Upload!D1974,\"erro\")","v":0},{"$f":"IFERROR(DATE(YEAR(Gerar_Upload!E1974),MONTH(Gerar_Upload!E1974),DAY(Gerar_Upload!E1974)),\"erro\")","v":"00:00:00"},{"$f":"IFERROR(Gerar_Upload!F1974,\"erro\")","v":0},{"$f":"IFERROR(IF(Gerar_Upload!G1974<44,REPT(0,44-LEN(Gerar_Upload!G1974))&Gerar_Upload!G1974,Gerar_Upload!G1974),\"erro\")","v":"00000000000000000000000000000000000000000000"}]
[{"$f":"IFERROR(LEFT(Gerar_Upload!A1975,120),\"erro\")","v":""},{"$f":"IFERROR(SUBSTITUTE(SUBSTITUTE(SUBSTITUTE(Gerar_Upload!B1975,\".\",\"\"),\"-\",\"\"),\"/\",\"\"),\"erro\")","v":""},{"$f":"IFERROR(Gerar_Upload!C1975,\"erro\")","v":0},{"$f":"IFERROR(Gerar_Upload!D1975,\"erro\")","v":0},{"$f":"IFERROR(DATE(YEAR(Gerar_Upload!E1975),MONTH(Gerar_Upload!E1975),DAY(Gerar_Upload!E1975)),\"erro\")","v":"00:00:00"},{"$f":"IFERROR(Gerar_Upload!F1975,\"erro\")","v":0},{"$f":"IFERROR(IF(Gerar_Upload!G1975<44,REPT(0,44-LEN(Gerar_Upload!G1975))&Gerar_Upload!G1975,Gerar_Upload!G1975),\"erro\")","v":"00000000000000000000000000000000000000000000"}]
[{"$f":"IFERROR(LEFT(Gerar_Upload!A1976,120),\"erro\")","v":""},{"$f":"IFERROR(SUBSTITUTE(SUBSTITUTE(SUBSTITUTE(Gerar_Upload!B1976,\".\",\"\"),\"-\",\"\"),\"/\",\"\"),\"erro\")","v":""},{"$f":"IFERROR(Gerar_Upload!C1976,\"erro\")","v":0},{"$f":"IFERROR(Gerar_Upload!D1976,\"erro\")","v":0},{"$f":"IFERROR(DATE(YEAR(Gerar_Upload!E1976),MONTH(Gerar_Upload!E1976),DAY(Gerar_Upload!E1976)),\"erro\")","v":"00:00:00"},{"$f":"IFERROR(Gerar_Upload!F1976,\"erro\")","v":0},{"$f":"IFERROR(IF(Gerar_Upload!G1976<44,REPT(0,44-LEN(Gerar_Upload!G1976))&Gerar_Upload!G1976,Gerar_Upload!G1976),\"erro\")","v":"00000000000000000000000000000000000000000000"}]
[{"$f":"IFERROR(LEFT(Gerar_Upload!A1977,120),\"erro\")","v":""},{"$f":"IFERROR(SUBSTITUTE(SUBSTITUTE(SUBSTITUTE(Gerar_Upload!B1977,\".\",\"\"),\"-\",\"\"),\"/\",\"\"),\"erro\")","v":""},{"$f":"IFERROR(Gerar_Upload!C1977,\"erro\")","v":0},{"$f":"IFERROR(Gerar_Upload!D1977,\"erro\")","v":0},{"$f":"IFERROR(DATE(YEAR(Gerar_Upload!E1977),MONTH(Gerar_Upload!E1977),DAY(Gerar_Upload!E1977)),\"erro\")","v":"00:00:00"},{"$f":"IFERROR(Gerar_Upload!F1977,\"erro\")","v":0},{"$f":"IFERROR(IF(Gerar_Upload!G1977<44,REPT(0,44-LEN(Gerar_Upload!G1977))&Gerar_Upload!G1977,Gerar_Upload!G1977),\"erro\")","v":"00000000000000000000000000000000000000000000"}]
[{"$f":"IFERROR(LEFT(Gerar_Upload!A1978,120),\"erro\")","v":""},{"$f":"IFERROR(SUBSTITUTE(SUBSTITUTE(SUBSTITUTE(Gerar_Upload!B1978,\".\",\"\"),\"-\",\"\"),\"/\",\"\"),\"erro\")","v":""},{"$f":"IFERROR(Gerar_Upload!C1978,\"erro\")","v":0},{"$f":"IFERROR(Gerar_Upload!D1978,\"erro\")","v":0},{"$f":"IFERROR(DATE(YEAR(Gerar_Upload!E1978),MONTH(Gerar_Upload!E1978),DAY(Gerar_Upload!E1978)),\"erro\")","v":"00:00:00"},{"$f":"IFERROR(Gerar_Upload!F1978,\"erro\")","v":0},{"$f":"IFERROR(IF(Gerar_Upload!G1978<44,REPT(0,44-LEN(Gerar_Upload!G1978))&Gerar_Upload!G1978,Gerar_Upload!G1978),\"erro\")","v":"00000000000000000000000000000000000000000000"}]
[{"$f":"IFERROR(LEFT(Gerar_Upload!A1979,120),\"erro\")","v":""},{"$f":"IFERROR(SUBSTITUTE(SUBSTITUTE(SUBSTITUTE(Gerar_Upload!B1979,\".\",\"\"),\"-\",\"\"),\"/\",\"\"),\"erro\")","v":""},{"$f":"IFERROR(Gerar_Upload!C1979,\"erro\")","v":0},{"$f":"IFERROR(Gerar_Upload!D1979,\"erro\")","v":0},{"$f":"IFERROR(DATE(YEAR(Gerar_Upload!E1979),MONTH(Gerar_Upload!E1979),DAY(Gerar_Upload!E1979)),\"erro\")","v":"00:00:00"},{"$f":"IFERROR(Gerar_Upload!F1979,\"erro\")","v":0},{"$f":"IFERROR(IF(Gerar_Upload!G1979<44,REPT(0,44-LEN(Gerar_Upload!G1979))&Gerar_Upload!G1979,Gerar_Upload!G1979),\"erro\")","v":"00000000000000000000000000000000000000000000"}]
[{"$f":"IFERROR(LEFT(Gerar_Upload!A1980,120),\"erro\")","v":""},{"$f":"IFERROR(SUBSTITUTE(SUBSTITUTE(SUBSTITUTE(Gerar_Upload!B1980,\".\",\"\"),\"-\",\"\"),\"/\",\"\"),\"erro\")","v":""},{"$f":"IFERROR(Gerar_Upload!C1980,\"erro\")","v":0},{"$f":"IFERROR(Gerar_Upload!D1980,\"erro\")","v":0},{"$f":"IFERROR(DATE(YEAR(Gerar_Upload!E1980),MONTH(Gerar_Upload!E1980),DAY(Gerar_Upload!E1980)),\"erro\")","v":"00:00:00"},{"$f":"IFERROR(Gerar_Upload!F1980,\"erro\")","v":0},{"$f":"IFERROR(IF(Gerar_Upload!G1980<44,REPT(0,44-LEN(Gerar_Upload!G1980))&Gerar_Upload!G1980,Gerar_Upload!G1980),\"erro\")","v":"00000000000000000000000000000000000000000000"}]
[{"$f":"IFERROR(LEFT(Gerar_Upload!A1981,120),\"erro\")","v":""},{"$f":"IFERROR(SUBSTITUTE(SUBSTITUTE(SUBSTITUTE(Gerar_Upload!B1981,\".\",\"\"),\"-\",\"\"),\"/\",\"\"),\"erro\")","v":""},{"$f":"IFERROR(Gerar_Upload!C1981,\"erro\")","v":0},{"$f":"IFERROR(Gerar_Upload!D1981,\"erro\")","v":0},{"$f":"IFERROR(DATE(YEAR(Gerar_Upload!E1981),MONTH(Gerar_Upload!E1981),DAY(Gerar_Upload!E1981)),\"erro\")","v":"00:00:00"},{"$f":"IFERROR(Gerar_Upload!F1981,\"erro\")","v":0},{"$f":"IFERROR(IF(Gerar_Upload!G1981<44,REPT(0,44-LEN(Gerar_Upload!G1981))&Gerar_Upload!G1981,Gerar_Upload!G1981),\"erro\")","v":"00000000000000000000000000000000000000000000"}]
[{"$f":"IFERROR(LEFT(Gerar_Upload!A1982,120),\"erro\")","v":""},{"$f":"IFERROR(SUBSTITUTE(SUBSTITUTE(SUBSTITUTE(Gerar_Upload!B1982,\".\",\"\"),\"-\",\"\"),\"/\",\"\"),\"erro\")","v":""},{"$f":"IFERROR(Gerar_Upload!C1982,\"erro\")","v":0},{"$f":"IFERROR(Gerar_Upload!D1982,\"erro\")","v":0},{"$f":"IFERROR(DATE(YEAR(Gerar_Upload!E1982),MONTH(Gerar_Upload!E1982),DAY(Gerar_Upload!E1982)),\"erro\")","v":"00:00:00"},{"$f":"IFERROR(Gerar_Upload!F1982,\"erro\")","v":0},{"$f":"IFERROR(IF(Gerar_Upload!G1982<44,REPT(0,44-LEN(Gerar_Upload!G1982))&Gerar_Upload!G1982,Gerar_Upload!G1982),\"erro\")","v":"00000000000000000000000000000000000000000000"}]
[{"$f":"IFERROR(LEFT(Gerar_Upload!A1983,120),\"erro\")","v":""},{"$f":"IFERROR(SUBSTITUTE(SUBSTITUTE(SUBSTITUTE(Gerar_Upload!B1983,\".\",\"\"),\"-\",\"\"),\"/\",\"\"),\"erro\")","v":""},{"$f":"IFERROR(Gerar_Upload!C1983,\"erro\")","v":0},{"$f":"IFERROR(Gerar_Upload!D1983,\"erro\")","v":0},{"$f":"IFERROR(DATE(YEAR(Gerar_Upload!E1983),MONTH(Gerar_Upload!E1983),DAY(Gerar_Upload!E1983)),\"erro\")","v":"00:00:00"},{"$f":"IFERROR(Gerar_Upload!F1983,\"erro\")","v":0},{"$f":"IFERROR(IF(Gerar_Upload!G1983<44,REPT(0,44-LEN(Gerar_Upload!G1983))&Gerar_Upload!G1983,Gerar_Upload!G1983),\"erro\")","v":"00000000000000000000000000000000000000000000"}]
[{"$f":"IFERROR(LEFT(Gerar_Upload!A1984,120),\"erro\")","v":""},{"$f":"IFERROR(SUBSTITUTE(SUBSTITUTE(SUBSTITUTE(Gerar_Upload!B1984,\".\",\"\"),\"-\",\"\"),\"/\",\"\"),\"erro\")","v":""},{"$f":"IFERROR(Gerar_Upload!C1984,\"erro\")","v":0},{"$f":"IFERROR(Gerar_Upload!D1984,\"erro\")","v":0},{"$f":"IFERROR(DATE(YEAR(Gerar_Upload!E1984),MONTH(Gerar_Upload!E1984),DAY(Gerar_Upload!E1984)),\"erro\")","v":"00:00:00"},{"$f":"IFERROR(Gerar_Upload!F1984,\"erro\")","v":0},{"$f":"IFERROR(IF(Gerar_Upload!G1984<44,REPT(0,44-LEN(Gerar_Upload!G1984))&Gerar_Upload!G1984,Gerar_Upload!G1984),\"erro\")","v":"00000000000000000000000000000000000000000000"}]
[{"$f":"IFERROR(LEFT(Gerar_Upload!A1985,120),\"erro\")","v":""},{"$f":"IFERROR(SUBSTITUTE(SUBSTITUTE(SUBSTITUTE(Gerar_Upload!B1985,\".\",\"\"),\"-\",\"\"),\"/\",\"\"),\"erro\")","v":""},{"$f":"IFERROR(Gerar_Upload!C1985,\"erro\")","v":0},{"$f":"IFERROR(Gerar_Upload!D1985,\"erro\")","v":0},{"$f":"IFERROR(DATE(YEAR(Gerar_Upload!E1985),MONTH(Gerar_Upload!E1985),DAY(Gerar_Upload!E1985)),\"erro\")","v":"00:00:00"},{"$f":"IFERROR(Gerar_Upload!F1985,\"erro\")","v":0},{"$f":"IFERROR(IF(Gerar_Upload!G1985<44,REPT(0,44-LEN(Gerar_Upload!G1985))&Gerar_Upload!G1985,Gerar_Upload!G1985),\"erro\")","v":"00000000000000000000000000000000000000000000"}]
[{"$f":"IFERROR(LEFT(Gerar_Upload!A1986,120),\"erro\")","v":""},{"$f":"IFERROR(SUBSTITUTE(SUBSTITUTE(SUBSTITUTE(Gerar_Upload!B1986,\".\",\"\"),\"-\",\"\"),\"/\",\"\"),\"erro\")","v":""},{"$f":"IFERROR(Gerar_Upload!C1986,\"erro\")","v":0},{"$f":"IFERROR(Gerar_Upload!D1986,\"erro\")","v":0},{"$f":"IFERROR(DATE(YEAR(Gerar_Upload!E1986),MONTH(Gerar_Upload!E1986),DAY(Gerar_Upload!E1986)),\"erro\")","v":"00:00:00"},{"$f":"IFERROR(Gerar_Upload!F1986,\"erro\")","v":0},{"$f":"IFERROR(IF(Gerar_Upload!G1986<44,REPT(0,44-LEN(Gerar_Upload!G1986))&Gerar_Upload!G1986,Gerar_Upload!G1986),\"erro\")","v":"00000000000000000000000000000000000000000000"}]
[{"$f":"IFERROR(LEFT(Gerar_Upload!A1987,120),\"erro\")","v":""},{"$f":"IFERROR(SUBSTITUTE(SUBSTITUTE(SUBSTITUTE(Gerar_Upload!B1987,\".\",\"\"),\"-\",\"\"),\"/\",\"\"),\"erro\")","v":""},{"$f":"IFERROR(Gerar_Upload!C1987,\"erro\")","v":0},{"$f":"IFERROR(Gerar_Upload!D1987,\"erro\")","v":0},{"$f":"IFERROR(DATE(YEAR(Gerar_Upload!E1987),MONTH(Gerar_Upload!E1987),DAY(Gerar_Upload!E1987)),\"erro\")","v":"00:00:00"},{"$f":"IFERROR(Gerar_Upload!F1987,\"erro\")","v":0},{"$f":"IFERROR(IF(Gerar_Upload!G1987<44,REPT(0,44-LEN(Gerar_Upload!G1987))&Gerar_Upload!G1987,Gerar_Upload!G1987),\"erro\")","v":"00000000000000000000000000000000000000000000"}]
[{"$f":"IFERROR(LEFT(Gerar_Upload!A1988,120),\"erro\")","v":""},{"$f":"IFERROR(SUBSTITUTE(SUBSTITUTE(SUBSTITUTE(Gerar_Upload!B1988,\".\",\"\"),\"-\",\"\"),\"/\",\"\"),\"erro\")","v":""},{"$f":"IFERROR(Gerar_Upload!C1988,\"erro\")","v":0},{"$f":"IFERROR(Gerar_Upload!D1988,\"erro\")","v":0},{"$f":"IFERROR(DATE(YEAR(Gerar_Upload!E1988),MONTH(Gerar_Upload!E1988),DAY(Gerar_Upload!E1988)),\"erro\")","v":"00:00:00"},{"$f":"IFERROR(Gerar_Upload!F1988,\"erro\")","v":0},{"$f":"IFERROR(IF(Gerar_Upload!G1988<44,REPT(0,44-LEN(Gerar_Upload!G1988))&Gerar_Upload!G1988,Gerar_Upload!G1988),\"erro\")","v":"00000000000000000000000000000000000000000000"}]
[{"$f":"IFERROR(LEFT(Gerar_Upload!A1989,120),\"erro\")","v":""},{"$f":"IFERROR(SUBSTITUTE(SUBSTITUTE(SUBSTITUTE(Gerar_Upload!B1989,\".\",\"\"),\"-\",\"\"),\"/\",\"\"),\"erro\")","v":""},{"$f":"IFERROR(Gerar_Upload!C1989,\"erro\")","v":0},{"$f":"IFERROR(Gerar_Upload!D1989,\"erro\")","v":0},{"$f":"IFERROR(DATE(YEAR(Gerar_Upload!E1989),MONTH(Gerar_Upload!E1989),DAY(Gerar_Upload!E1989)),\"erro\")","v":"00:00:00"},{"$f":"IFERROR(Gerar_Upload!F1989,\"erro\")","v":0},{"$f":"IFERROR(IF(Gerar_Upload!G1989<44,REPT(0,44-LEN(Gerar_Upload!G1989))&Gerar_Upload!G1989,Gerar_Upload!G1989),\"erro\")","v":"00000000000000000000000000000000000000000000"}]
[{"$f":"IFERROR(LEFT(Gerar_Upload!A1990,120),\"erro\")","v":""},{"$f":"IFERROR(SUBSTITUTE(SUBSTITUTE(SUBSTITUTE(Gerar_Upload!B1990,\".\",\"\"),\"-\",\"\"),\"/\",\"\"),\"erro\")","v":""},{"$f":"IFERROR(Gerar_Upload!C1990,\"erro\")","v":0},{"$f":"IFERROR(Gerar_Upload!D1990,\"erro\")","v":0},{"$f":"IFERROR(DATE(YEAR(Gerar_Upload!E1990),MONTH(Gerar_Upload!E1990),DAY(Gerar_Upload!E1990)),\"erro\")","v":"00:00:00"},{"$f":"IFERROR(Gerar_Upload!F1990,\"erro\")","v":0},{"$f":"IFERROR(IF(Gerar_Upload!G1990<44,REPT(0,44-LEN(Gerar_Upload!G1990))&Gerar_Upload!G1990,Gerar_Upload!G1990),\"erro\")","v":"00000000000000000000000000000000000000000000"}]
[{"$f":"IFERROR(LEFT(Gerar_Upload!A1991,120),\"erro\")","v":""},{"$f":"IFERROR(SUBSTITUTE(SUBSTITUTE(SUBSTITUTE(Gerar_Upload!B1991,\".\",\"\"),\"-\",\"\"),\"/\",\"\"),\"erro\")","v":""},{"$f":"IFERROR(Gerar_Upload!C1991,\"erro\")","v":0},{"$f":"IFERROR(Gerar_Upload!D1991,\"erro\")","v":0},{"$f":"IFERROR(DATE(YEAR(Gerar_Upload!E1991),MONTH(Gerar_Upload!E1991),DAY(Gerar_Upload!E1991)),\"erro\")","v":"00:00:00"},{"$f":"IFERROR(Gerar_Upload!F1991,\"erro\")","v":0},{"$f":"IFERROR(IF(Gerar_Upload!G1991<44,REPT(0,44-LEN(Gerar_Upload!G1991))&Gerar_Upload!G1991,Gerar_Upload!G1991),\"erro\")","v":"00000000000000000000000000000000000000000000"}]
[{"$f":"IFERROR(LEFT(Gerar_Upload!A1992,120),\"erro\")","v":""},{"$f":"IFERROR(SUBSTITUTE(SUBSTITUTE(SUBSTITUTE(Gerar_Upload!B1992,\".\",\"\"),\"-\",\"\"),\"/\",\"\"),\"erro\")","v":""},{"$f":"IFERROR(Gerar_Upload!C1992,\"erro\")","v":0},{"$f":"IFERROR(Gerar_Upload!D1992,\"erro\")","v":0},{"$f":"IFERROR(DATE(YEAR(Gerar_Upload!E1992),MONTH(Gerar_Upload!E1992),DAY(Gerar_Upload!E1992)),\"erro\")","v":"00:00:00"},{"$f":"IFERROR(Gerar_Upload!F1992,\"erro\")","v":0},{"$f":"IFERROR(IF(Gerar_Upload!G1992<44,REPT(0,44-LEN(Gerar_Upload!G1992))&Gerar_Upload!G1992,Gerar_Upload!G1992),\"erro\")","v":"00000000000000000000000000000000000000000000"}]
[{"$f":"IFERROR(LEFT(Gerar_Upload!A1993,120),\"erro\")","v":""},{"$f":"IFERROR(SUBSTITUTE(SUBSTITUTE(SUBSTITUTE(Gerar_Upload!B1993,\".\",\"\"),\"-\",\"\"),\"/\",\"\"),\"erro\")","v":""},{"$f":"IFERROR(Gerar_Upload!C1993,\"erro\")","v":0},{"$f":"IFERROR(Gerar_Upload!D1993,\"erro\")","v":0},{"$f":"IFERROR(DATE(YEAR(Gerar_Upload!E1993),MONTH(Gerar_Upload!E1993),DAY(Gerar_Upload!E1993)),\"erro\")","v":"00:00:00"},{"$f":"IFERROR(Gerar_Upload!F1993,\"erro\")","v":0},{"$f":"IFERROR(IF(Gerar_Upload!G1993<44,REPT(0,44-LEN(Gerar_Upload!G1993))&Gerar_Upload!G1993,Gerar_Upload!G1993),\"erro\")","v":"00000000000000000000000000000000000000000000"}]
[{"$f":"IFERROR(LEFT(Gerar_Upload!A1994,120),\"erro\")","v":""},{"$f":"IFERROR(SUBSTITUTE(SUBSTITUTE(SUBSTITUTE(Gerar_Upload!B1994,\".\",\"\"),\"-\",\"\"),\"/\",\"\"),\"erro\")","v":""},{"$f":"IFERROR(Gerar_Upload!C1994,\"erro\")","v":0},{"$f":"IFERROR(Gerar_Upload!D1994,\"erro\")","v":0},{"$f":"IFERROR(DATE(YEAR(Gerar_Upload!E1994),MONTH(Gerar_Upload!E1994),DAY(Gerar_Upload!E1994)),\"erro\")","v":"00:00:00"},{"$f":"IFERROR(Gerar_Upload!F1994,\"erro\")","v":0},{"$f":"IFERROR(IF(Gerar_Upload!G1994<44,REPT(0,44-LEN(Gerar_Upload!G1994))&Gerar_Upload!G1994,Gerar_Upload!G1994),\"erro\")","v":"00000000000000000000000000000000000000000000"}]
[{"$f":"IFERROR(LEFT(Gerar_Upload!A1995,120),\"erro\")","v":""},{"$f":"IFERROR(SUBSTITUTE(SUBSTITUTE(SUBSTITUTE(Gerar_Upload!B1995,\".\",\"\"),\"-\",\"\"),\"/\",\"\"),\"erro\")","v":""},{"$f":"IFERROR(Gerar_Upload!C1995,\"erro\")","v":0},{"$f":"IFERROR(Gerar_Upload!D1995,\"erro\")","v":0},{"$f":"IFERROR(DATE(YEAR(Gerar_Upload!E1995),MONTH(Gerar_Upload!E1995),DAY(Gerar_Upload!E1995)),\"erro\")","v":"00:00:00"},{"$f":"IFERROR(Gerar_Upload!F1995,\"erro\")","v":0},{"$f":"IFERROR(IF(Gerar_Upload!G1995<44,REPT(0,44-LEN(Gerar_Upload!G1995))&Gerar_Upload!G1995,Gerar_Upload!G1995),\"erro\")","v":"00000000000000000000000000000000000000000000"}]
[{"$f":"IFERROR(LEFT(Gerar_Upload!A1996,120),\"erro\")","v":""},{"$f":"IFERROR(SUBSTITUTE(SUBSTITUTE(SUBSTITUTE(Gerar_Upload!B1996,\".\",\"\"),\"-\",\"\"),\"/\",\"\"),\"erro\")","v":""},{"$f":"IFERROR(Gerar_Upload!C1996,\"erro\")","v":0},{"$f":"IFERROR(Gerar_Upload!D1996,\"erro\")","v":0},{"$f":"IFERROR(DATE(YEAR(Gerar_Upload!E1996),MONTH(Gerar_Upload!E1996),DAY(Gerar_Upload!E1996)),\"erro\")","v":"00:00:00"},{"$f":"IFERROR(Gerar_Upload!F1996,\"erro\")","v":0},{"$f":"IFERROR(IF(Gerar_Upload!G1996<44,REPT(0,44-LEN(Gerar_Upload!G1996))&Gerar_Upload!G1996,Gerar_Upload!G1996),\"erro\")","v":"00000000000000000000000000000000000000000000"}]
[{"$f":"IFERROR(LEFT(Gerar_Upload!A1997,120),\"erro\")","v":""},{"$f":"IFERROR(SUBSTITUTE(SUBSTITUTE(SUBSTITUTE(Gerar_Upload!B1997,\".\",\"\"),\"-\",\"\"),\"/\",\"\"),\"erro\")","v":""},{"$f":"IFERROR(Gerar_Upload!C1997,\"erro\")","v":0},{"$f":"IFERROR(Gerar_Upload!D1997,\"erro\")","v":0},{"$f":"IFERROR(DATE(YEAR(Gerar_Upload!E1997),MONTH(Gerar_Upload!E1997),DAY(Gerar_Upload!E1997)),\"erro\")","v":"00:00:00"},{"$f":"IFERROR(Gerar_Upload!F1997,\"erro\")","v":0},{"$f":"IFERROR(IF(Gerar_Upload!G1997<44,REPT(0,44-LEN(Gerar_Upload!G1997))&Gerar_Upload!G1997,Gerar_Upload!G1997),\"erro\")","v":"00000000000000000000000000000000000000000000"}]
[{"$f":"IFERROR(LEFT(Gerar_Upload!A1998,120),\"erro\")","v":""},{"$f":"IFERROR(SUBSTITUTE(SUBSTITUTE(SUBSTITUTE(Gerar_Upload!B1998,\".\",\"\"),\"-\",\"\"),\"/\",\"\"),\"erro\")","v":""},{"$f":"IFERROR(Gerar_Upload!C1998,\"erro\")","v":0},{"$f":"IFERROR(Gerar_Upload!D1998,\"erro\")","v":0},{"$f":"IFERROR(DATE(YEAR(Gerar_Upload!E1998),MONTH(Gerar_Upload!E1998),DAY(Gerar_Upload!E1998)),\"erro\")","v":"00:00:00"},{"$f":"IFERROR(Gerar_Upload!F1998,\"erro\")","v":0},{"$f":"IFERROR(IF(Gerar_Upload!G1998<44,REPT(0,44-LEN(Gerar_Upload!G1998))&Gerar_Upload!G1998,Gerar_Upload!G1998),\"erro\")","v":"00000000000000000000000000000000000000000000"}]
[{"$f":"IFERROR(LEFT(Gerar_Upload!A1999,120),\"erro\")","v":""},{"$f":"IFERROR(SUBSTITUTE(SUBSTITUTE(SUBSTITUTE(Gerar_Upload!B1999,\".\",\"\"),\"-\",\"\"),\"/\",\"\"),\"erro\")","v":""},{"$f":"IFERROR(Gerar_Upload!C1999,\"erro\")","v":0},{"$f":"IFERROR(Gerar_Upload!D1999,\"erro\")","v":0},{"$f":"IFERROR(DATE(YEAR(Gerar_Upload!E1999),MONTH(Gerar_Upload!E1999),DAY(Gerar_Upload!E1999)),\"erro\")","v":"00:00:00"},{"$f":"IFERROR(Gerar_Upload!F1999,\"erro\")","v":0},{"$f":"IFERROR(IF(Gerar_Upload!G1999<44,REPT(0,44-LEN(Gerar_Upload!G1999))&Gerar_Upload!G1999,Gerar_Upload!G1999),\"erro\")","v":"00000000000000000000000000000000000000000000"}]
[{"$f":"IFERROR(LEFT(Gerar_Upload!A2000,120),\"erro\")","v":""},{"$f":"IFERROR(SUBSTITUTE(SUBSTITUTE(SUBSTITUTE(Gerar_Upload!B2000,\".\",\"\"),\"-\",\"\"),\"/\",\"\"),\"erro\")","v":""},{"$f":"IFERROR(Gerar_Upload!C2000,\"erro\")","v":0},{"$f":"IFERROR(Gerar_Upload!D2000,\"erro\")","v":0},{"$f":"IFERROR(DATE(YEAR(Gerar_Upload!E2000),MONTH(Gerar_Upload!E2000),DAY(Gerar_Upload!E2000)),\"erro\")","v":"00:00:00"},{"$f":"IFERROR(Gerar_Upload!F2000,\"erro\")","v":0},{"$f":"IFERROR(IF(Gerar_Upload!G2000<44,REPT(0,44-LEN(Gerar_Upload!G2000))&Gerar_Upload!G2000,Gerar_Upload!G2000),\"erro\")","v":"00000000000000000000000000000000000000000000"}]
[{"$f":"IFERROR(LEFT(Gerar_Upload!A2001,120),\"erro\")","v":""},{"$f":"IFERROR(SUBSTITUTE(SUBSTITUTE(SUBSTITUTE(Gerar_Upload!B2001,\".\",\"\"),\"-\",\"\"),\"/\",\"\"),\"erro\")","v":""},{"$f":"IFERROR(Gerar_Upload!C2001,\"erro\")","v":0},{"$f":"IFERROR(Gerar_Upload!D2001,\"erro\")","v":0},{"$f":"IFERROR(DATE(YEAR(Gerar_Upload!E2001),MONTH(Gerar_Upload!E2001),DAY(Gerar_Upload!E2001)),\"erro\")","v":"00:00:00"},{"$f":"IFERROR(Gerar_Upload!F2001,\"erro\")","v":0},{"$f":"IFERROR(IF(Gerar_Upload!G2001<44,REPT(0,44-LEN(Gerar_Upload!G2001))&Gerar_Upload!G2001,Gerar_Upload!G2001),\"erro\")","v":"00000000000000000000000000000000000000000000"}]
[{"$f":"IFERROR(LEFT(Gerar_Upload!A2002,120),\"erro\")","v":""},{"$f":"IFERROR(SUBSTITUTE(SUBSTITUTE(SUBSTITUTE(Gerar_Upload!B2002,\".\",\"\"),\"-\",\"\"),\"/\",\"\"),\"erro\")","v":""},{"$f":"IFERROR(Gerar_Upload!C2002,\"erro\")","v":0},{"$f":"IFERROR(Gerar_Upload!D2002,\"erro\")","v":0},{"$f":"IFERROR(DATE(YEAR(Gerar_Upload!E2002),MONTH(Gerar_Upload!E2002),DAY(Gerar_Upload!E2002)),\"erro\")","v":"00:00:00"},{"$f":"IFERROR(Gerar_Upload!F2002,\"erro\")","v":0},{"$f":"IFERROR(IF(Gerar_Upload!G2002<44,REPT(0,44-LEN(Gerar_Upload!G2002))&Gerar_Upload!G2002,Gerar_Upload!G2002),\"erro\")","v":"00000000000000000000000000000000000000000000"}]
[{"$f":"IFERROR(LEFT(Gerar_Upload!A2003,120),\"erro\")","v":""},{"$f":"IFERROR(SUBSTITUTE(SUBSTITUTE(SUBSTITUTE(Gerar_Upload!B2003,\".\",\"\"),\"-\",\"\"),\"/\",\"\"),\"erro\")","v":""},{"$f":"IFERROR(Gerar_Upload!C2003,\"erro\")","v":0},{"$f":"IFERROR(Gerar_Upload!D2003,\"erro\")","v":0},{"$f":"IFERROR(DATE(YEAR(Gerar_Upload!E2003),MONTH(Gerar_Upload!E2003),DAY(Gerar_Upload!E2003)),\"erro\")","v":"00:00:00"},{"$f":"IFERROR(Gerar_Upload!F2003,\"erro\")","v":0},{"$f":"IFERROR(IF(Gerar_Upload!G2003<44,REPT(0,44-LEN(Gerar_Upload!G2003))&Gerar_Upload!G2003,Gerar_Upload!G2003),\"erro\")","v":"00000000000000000000000000000000000000000000"}]
[{"$f":"IFERROR(LEFT(Gerar_Upload!A2004,120),\"erro\")","v":""},{"$f":"IFERROR(SUBSTITUTE(SUBSTITUTE(SUBSTITUTE(Gerar_Upload!B2004,\".\",\"\"),\"-\",\"\"),\"/\",\"\"),\"erro\")","v":""},{"$f":"IFERROR(Gerar_Upload!C2004,\"erro\")","v":0},{"$f":"IFERROR(Gerar_Upload!D2004,\"erro\")","v":0},{"$f":"IFERROR(DATE(YEAR(Gerar_Upload!E2004),MONTH(Gerar_Upload!E2004),DAY(Gerar_Upload!E2004)),\"erro\")","v":"00:00:00"},{"$f":"IFERROR(Gerar_Upload!F2004,\"erro\")","v":0},{"$f":"IFERROR(IF(Gerar_Upload!G2004<44,REPT(0,44-LEN(Gerar_Upload!G2004))&Gerar_Upload!G2004,Gerar_Upload!G2004),\"erro\")","v":"00000000000000000000000000000000000000000000"}]
[{"$f":"IFERROR(LEFT(Gerar_Upload!A2005,120),\"erro\")","v":""},{"$f":"IFERROR(SUBSTITUTE(SUBSTITUTE(SUBSTITUTE(Gerar_Upload!B2005,\".\",\"\"),\"-\",\"\"),\"/\",\"\"),\"erro\")","v":""},{"$f":"IFERROR(Gerar_Upload!C2005,\"erro\")","v":0},{"$f":"IFERROR(Gerar_Upload!D2005,\"erro\")","v":0},{"$f":"IFERROR(DATE(YEAR(Gerar_Upload!E2005),MONTH(Gerar_Upload!E2005),DAY(Gerar_Upload!E2005)),\"erro\")","v":"00:00:00"},{"$f":"IFERROR(Gerar_Upload!F2005,\"erro\")","v":0},{"$f":"IFERROR(IF(Gerar_Upload!G2005<44,REPT(0,44-LEN(Gerar_Upload!G2005))&Gerar_Upload!G2005,Gerar_Upload!G2005),\"erro\")","v":"00000000000000000000000000000000000000000000"}]
[{"$f":"IFERROR(LEFT(Gerar_Upload!A2006,120),\"erro\")","v":""},{"$f":"IFERROR(SUBSTITUTE(SUBSTITUTE(SUBSTITUTE(Gerar_Upload!B2006,\".\",\"\"),\"-\",\"\"),\"/\",\"\"),\"erro\")","v":""},{"$f":"IFERROR(Gerar_Upload!C2006,\"erro\")","v":0},{"$f":"IFERROR(Gerar_Upload!D2006,\"erro\")","v":0},{"$f":"IFERROR(DATE(YEAR(Gerar_Upload!E2006),MONTH(Gerar_Upload!E2006),DAY(Gerar_Upload!E2006)),\"erro\")","v":"00:00:00"},{"$f":"IFERROR(Gerar_Upload!F2006,\"erro\")","v":0},{"$f":"IFERROR(IF(Gerar_Upload!G2006<44,REPT(0,44-LEN(Gerar_Upload!G2006))&Gerar_Upload!G2006,Gerar_Upload!G2006),\"erro\")","v":"00000000000000000000000000000000000000000000"}]
[{"$f":"IFERROR(LEFT(Gerar_Upload!A2007,120),\"erro\")","v":""},{"$f":"IFERROR(SUBSTITUTE(SUBSTITUTE(SUBSTITUTE(Gerar_Upload!B2007,\".\",\"\"),\"-\",\"\"),\"/\",\"\"),\"erro\")","v":""},{"$f":"IFERROR(Gerar_Upload!C2007,\"erro\")","v":0},{"$f":"IFERROR(Gerar_Upload!D2007,\"erro\")","v":0},{"$f":"IFERROR(DATE(YEAR(Gerar_Upload!E2007),MONTH(Gerar_Upload!E2007),DAY(Gerar_Upload!E2007)),\"erro\")","v":"00:00:00"},{"$f":"IFERROR(Gerar_Upload!F2007,\"erro\")","v":0},{"$f":"IFERROR(IF(Gerar_Upload!G2007<44,REPT(0,44-LEN(Gerar_Upload!G2007))&Gerar_Upload!G2007,Gerar_Upload!G2007),\"erro\")","v":"00000000000000000000000000000000000000000000"}]
[{"$f":"IFERROR(LEFT(Gerar_Upload!A2008,120),\"erro\")","v":""},{"$f":"IFERROR(SUBSTITUTE(SUBSTITUTE(SUBSTITUTE(Gerar_Upload!B2008,\".\",\"\"),\"-\",\"\"),\"/\",\"\"),\"erro\")","v":""},{"$f":"IFERROR(Gerar_Upload!C2008,\"erro\")","v":0},{"$f":"IFERROR(Gerar_Upload!D2008,\"erro\")","v":0},{"$f":"IFERROR(DATE(YEAR(Gerar_Upload!E2008),MONTH(Gerar_Upload!E2008),DAY(Gerar_Upload!E2008)),\"erro\")","v":"00:00:00"},{"$f":"IFERROR(Gerar_Upload!F2008,\"erro\")","v":0},{"$f":"IFERROR(IF(Gerar_Upload!G2008<44,REPT(0,44-LEN(Gerar_Upload!G2008))&Gerar_Upload!G2008,Gerar_Upload!G2008),\"erro\")","v":"00000000000000000000000000000000000000000000"}]
[{"$f":"IFERROR(LEFT(Gerar_Upload!A2009,120),\"erro\")","v":""},{"$f":"IFERROR(SUBSTITUTE(SUBSTITUTE(SUBSTITUTE(Gerar_Upload!B2009,\".\",\"\"),\"-\",\"\"),\"/\",\"\"),\"erro\")","v":""},{"$f":"IFERROR(Gerar_Upload!C2009,\"erro\")","v":0},{"$f":"IFERROR(Gerar_Upload!D2009,\"erro\")","v":0},{"$f":"IFERROR(DATE(YEAR(Gerar_Upload!E2009),MONTH(Gerar_Upload!E2009),DAY(Gerar_Upload!E2009)),\"erro\")","v":"00:00:00"},{"$f":"IFERROR(Gerar_Upload!F2009,\"erro\")","v":0},{"$f":"IFERROR(IF(Gerar_Upload!G2009<44,REPT(0,44-LEN(Gerar_Upload!G2009))&Gerar_Upload!G2009,Gerar_Upload!G2009),\"erro\")","v":"00000000000000000000000000000000000000000000"}]
[{"$f":"IFERROR(LEFT(Gerar_Upload!A2010,120),\"erro\")","v":""},{"$f":"IFERROR(SUBSTITUTE(SUBSTITUTE(SUBSTITUTE(Gerar_Upload!B2010,\".\",\"\"),\"-\",\"\"),\"/\",\"\"),\"erro\")","v":""},{"$f":"IFERROR(Gerar_Upload!C2010,\"erro\")","v":0},{"$f":"IFERROR(Gerar_Upload!D2010,\"erro\")","v":0},{"$f":"IFERROR(DATE(YEAR(Gerar_Upload!E2010),MONTH(Gerar_Upload!E2010),DAY(Gerar_Upload!E2010)),\"erro\")","v":"00:00:00"},{"$f":"IFERROR(Gerar_Upload!F2010,\"erro\")","v":0},{"$f":"IFERROR(IF(Gerar_Upload!G2010<44,REPT(0,44-LEN(Gerar_Upload!G2010))&Gerar_Upload!G2010,Gerar_Upload!G2010),\"erro\")","v":"00000000000000000000000000000000000000000000"}]
[{"$f":"IFERROR(LEFT(Gerar_Upload!A2011,120),\"erro\")","v":""},{"$f":"IFERROR(SUBSTITUTE(SUBSTITUTE(SUBSTITUTE(Gerar_Upload!B2011,\".\",\"\"),\"-\",\"\"),\"/\",\"\"),\"erro\")","v":""},{"$f":"IFERROR(Gerar_Upload!C2011,\"erro\")","v":0},{"$f":"IFERROR(Gerar_Upload!D2011,\"erro\")","v":0},{"$f":"IFERROR(DATE(YEAR(Gerar_Upload!E2011),MONTH(Gerar_Upload!E2011),DAY(Gerar_Upload!E2011)),\"erro\")","v":"00:00:00"},{"$f":"IFERROR(Gerar_Upload!F2011,\"erro\")","v":0},{"$f":"IFERROR(IF(Gerar_Upload!G2011<44,REPT(0,44-LEN(Gerar_Upload!G2011))&Gerar_Upload!G2011,Gerar_Upload!G2011),\"erro\")","v":"00000000000000000000000000000000000000000000"}]
[{"$f":"IFERROR(LEFT(Gerar_Upload!A2012,120),\"erro\")","v":""},{"$f":"IFERROR(SUBSTITUTE(SUBSTITUTE(SUBSTITUTE(Gerar_Upload!B2012,\".\",\"\"),\"-\",\"\"),\"/\",\"\"),\"erro\")","v":""},{"$f":"IFERROR(Gerar_Upload!C2012,\"erro\")","v":0},{"$f":"IFERROR(Gerar_Upload!D2012,\"erro\")","v":0},{"$f":"IFERROR(DATE(YEAR(Gerar_Upload!E2012),MONTH(Gerar_Upload!E2012),DAY(Gerar_Upload!E2012)),\"erro\")","v":"00:00:00"},{"$f":"IFERROR(Gerar_Upload!F2012,\"erro\")","v":0},{"$f":"IFERROR(IF(Gerar_Upload!G2012<44,REPT(0,44-LEN(Gerar_Upload!G2012))&Gerar_Upload!G2012,Gerar_Upload!G2012),\"erro\")","v":"00000000000000000000000000000000000000000000"}]
[{"$f":"IFERROR(LEFT(Gerar_Upload!A2013,120),\"erro\")","v":""},{"$f":"IFERROR(SUBSTITUTE(SUBSTITUTE(SUBSTITUTE(Gerar_Upload!B2013,\".\",\"\"),\"-\",\"\"),\"/\",\"\"),\"erro\")","v":""},{"$f":"IFERROR(Gerar_Upload!C2013,\"erro\")","v":0},{"$f":"IFERROR(Gerar_Upload!D2013,\"erro\")","v":0},{"$f":"IFERROR(DATE(YEAR(Gerar_Upload!E2013),MONTH(Gerar_Upload!E2013),DAY(Gerar_Upload!E2013)),\"erro\")","v":"00:00:00"},{"$f":"IFERROR(Gerar_Upload!F2013,\"erro\")","v":0},{"$f":"IFERROR(IF(Gerar_Upload!G2013<44,REPT(0,44-LEN(Gerar_Upload!G2013))&Gerar_Upload!G2013,Gerar_Upload!G2013),\"erro\")","v":"00000000000000000000000000000000000000000000"}]
[{"$f":"IFERROR(LEFT(Gerar_Upload!A2014,120),\"erro\")","v":""},{"$f":"IFERROR(SUBSTITUTE(SUBSTITUTE(SUBSTITUTE(Gerar_Upload!B2014,\".\",\"\"),\"-\",\"\"),\"/\",\"\"),\"erro\")","v":""},{"$f":"IFERROR(Gerar_Upload!C2014,\"erro\")","v":0},{"$f":"IFERROR(Gerar_Upload!D2014,\"erro\")","v":0},{"$f":"IFERROR(DATE(YEAR(Gerar_Upload!E2014),MONTH(Gerar_Upload!E2014),DAY(Gerar_Upload!E2014)),\"erro\")","v":"00:00:00"},{"$f":"IFERROR(Gerar_Upload!F2014,\"erro\")","v":0},{"$f":"IFERROR(IF(Gerar_Upload!G2014<44,REPT(0,44-LEN(Gerar_Upload!G2014))&Gerar_Upload!G2014,Gerar_Upload!G2014),\"erro\")","v":"00000000000000000000000000000000000000000000"}]
[{"$f":"IFERROR(LEFT(Gerar_Upload!A2015,120),\"erro\")","v":""},{"$f":"IFERROR(SUBSTITUTE(SUBSTITUTE(SUBSTITUTE(Gerar_Upload!B2015,\".\",\"\"),\"-\",\"\"),\"/\",\"\"),\"erro\")","v":""},{"$f":"IFERROR(Gerar_Upload!C2015,\"erro\")","v":0},{"$f":"IFERROR(Gerar_Upload!D2015,\"erro\")","v":0},{"$f":"IFERROR(DATE(YEAR(Gerar_Upload!E2015),MONTH(Gerar_Upload!E2015),DAY(Gerar_Upload!E2015)),\"erro\")","v":"00:00:00"},{"$f":"IFERROR(Gerar_Upload!F2015,\"erro\")","v":0},{"$f":"IFERROR(IF(Gerar_Upload!G2015<44,REPT(0,44-LEN(Gerar_Upload!G2015))&Gerar_Upload!G2015,Gerar_Upload!G2015),\"erro\")","v":"00000000000000000000000000000000000000000000"}]
[{"$f":"IFERROR(LEFT(Gerar_Upload!A2016,120),\"erro\")","v":""},{"$f":"IFERROR(SUBSTITUTE(SUBSTITUTE(SUBSTITUTE(Gerar_Upload!B2016,\".\",\"\"),\"-\",\"\"),\"/\",\"\"),\"erro\")","v":""},{"$f":"IFERROR(Gerar_Upload!C2016,\"erro\")","v":0},{"$f":"IFERROR(Gerar_Upload!D2016,\"erro\")","v":0},{"$f":"IFERROR(DATE(YEAR(Gerar_Upload!E2016),MONTH(Gerar_Upload!E2016),DAY(Gerar_Upload!E2016)),\"erro\")","v":"00:00:00"},{"$f":"IFERROR(Gerar_Upload!F2016,\"erro\")","v":0},{"$f":"IFERROR(IF(Gerar_Upload!G2016<44,REPT(0,44-LEN(Gerar_Upload!G2016))&Gerar_Upload!G2016,Gerar_Upload!G2016),\"erro\")","v":"00000000000000000000000000000000000000000000"}]
[{"$f":"IFERROR(LEFT(Gerar_Upload!A2017,120),\"erro\")","v":""},{"$f":"IFERROR(SUBSTITUTE(SUBSTITUTE(SUBSTITUTE(Gerar_Upload!B2017,\".\",\"\"),\"-\",\"\"),\"/\",\"\"),\"erro\")","v":""},{"$f":"IFERROR(Gerar_Upload!C2017,\"erro\")","v":0},{"$f":"IFERROR(Gerar_Upload!D2017,\"erro\")","v":0},{"$f":"IFERROR(DATE(YEAR(Gerar_Upload!E2017),MONTH(Gerar_Upload!E2017),DAY(Gerar_Upload!E2017)),\"erro\")","v":"00:00:00"},{"$f":"IFERROR(Gerar_Upload!F2017,\"erro\")","v":0},{"$f":"IFERROR(IF(Gerar_Upload!G2017<44,REPT(0,44-LEN(Gerar_Upload!G2017))&Gerar_Upload!G2017,Gerar_Upload!G2017),\"erro\")","v":"00000000000000000000000000000000000000000000"}]
[{"$f":"IFERROR(LEFT(Gerar_Upload!A2018,120),\"erro\")","v":""},{"$f":"IFERROR(SUBSTITUTE(SUBSTITUTE(SUBSTITUTE(Gerar_Upload!B2018,\".\",\"\"),\"-\",\"\"),\"/\",\"\"),\"erro\")","v":""},{"$f":"IFERROR(Gerar_Upload!C2018,\"erro\")","v":0},{"$f":"IFERROR(Gerar_Upload!D2018,\"erro\")","v":0},{"$f":"IFERROR(DATE(YEAR(Gerar_Upload!E2018),MONTH(Gerar_Upload!E2018),DAY(Gerar_Upload!E2018)),\"erro\")","v":"00:00:00"},{"$f":"IFERROR(Gerar_Upload!F2018,\"erro\")","v":0},{"$f":"IFERROR(IF(Gerar_Upload!G2018<44,REPT(0,44-LEN(Gerar_Upload!G2018))&Gerar_Upload!G2018,Gerar_Upload!G2018),\"erro\")","v":"00000000000000000000000000000000000000000000"}]
[{"$f":"IFERROR(LEFT(Gerar_Upload!A2019,120),\"erro\")","v":""},{"$f":"IFERROR(SUBSTITUTE(SUBSTITUTE(SUBSTITUTE(Gerar_Upload!B2019,\".\",\"\"),\"-\",\"\"),\"/\",\"\"),\"erro\")","v":""},{"$f":"IFERROR(Gerar_Upload!C2019,\"erro\")","v":0},{"$f":"IFERROR(Gerar_Upload!D2019,\"erro\")","v":0},{"$f":"IFERROR(DATE(YEAR(Gerar_Upload!E2019),MONTH(Gerar_Upload!E2019),DAY(Gerar_Upload!E2019)),\"erro\")","v":"00:00:00"},{"$f":"IFERROR(Gerar_Upload!F2019,\"erro\")","v":0},{"$f":"IFERROR(IF(Gerar_Upload!G2019<44,REPT(0,44-LEN(Gerar_Upload!G2019))&Gerar_Upload!G2019,Gerar_Upload!G2019),\"erro\")","v":"00000000000000000000000000000000000000000000"}]
[{"$f":"IFERROR(LEFT(Gerar_Upload!A2020,120),\"erro\")","v":""},{"$f":"IFERROR(SUBSTITUTE(SUBSTITUTE(SUBSTITUTE(Gerar_Upload!B2020,\".\",\"\"),\"-\",\"\"),\"/\",\"\"),\"erro\")","v":""},{"$f":"IFERROR(Gerar_Upload!C2020,\"erro\")","v":0},{"$f":"IFERROR(Gerar_Upload!D2020,\"erro\")","v":0},{"$f":"IFERROR(DATE(YEAR(Gerar_Upload!E2020),MONTH(Gerar_Upload!E2020),DAY(Gerar_Upload!E2020)),\"erro\")","v":"00:00:00"},{"$f":"IFERROR(Gerar_Upload!F2020,\"erro\")","v":0},{"$f":"IFERROR(IF(Gerar_Upload!G2020<44,REPT(0,44-LEN(Gerar_Upload!G2020))&Gerar_Upload!G2020,Gerar_Upload!G2020),\"erro\")","v":"00000000000000000000000000000000000000000000"}]
[{"$f":"IFERROR(LEFT(Gerar_Upload!A2021,120),\"erro\")","v":""},{"$f":"IFERROR(SUBSTITUTE(SUBSTITUTE(SUBSTITUTE(Gerar_Upload!B2021,\".\",\"\"),\"-\",\"\"),\"/\",\"\"),\"erro\")","v":""},{"$f":"IFERROR(Gerar_Upload!C2021,\"erro\")","v":0},{"$f":"IFERROR(Gerar_Upload!D2021,\"erro\")","v":0},{"$f":"IFERROR(DATE(YEAR(Gerar_Upload!E2021),MONTH(Gerar_Upload!E2021),DAY(Gerar_Upload!E2021)),\"erro\")","v":"00:00:00"},{"$f":"IFERROR(Gerar_Upload!F2021,\"erro\")","v":0},{"$f":"IFERROR(IF(Gerar_Upload!G2021<44,REPT(0,44-LEN(Gerar_Upload!G2021))&Gerar_Upload!G2021,Gerar_Upload!G2021),\"erro\")","v":"00000000000000000000000000000000000000000000"}]
[{"$f":"IFERROR(LEFT(Gerar_Upload!A2022,120),\"erro\")","v":""},{"$f":"IFERROR(SUBSTITUTE(SUBSTITUTE(SUBSTITUTE(Gerar_Upload!B2022,\".\",\"\"),\"-\",\"\"),\"/\",\"\"),\"erro\")","v":""},{"$f":"IFERROR(Gerar_Upload!C2022,\"erro\")","v":0},{"$f":"IFERROR(Gerar_Upload!D2022,\"erro\")","v":0},{"$f":"IFERROR(DATE(YEAR(Gerar_Upload!E2022),MONTH(Gerar_Upload!E2022),DAY(Gerar_Upload!E2022)),\"erro\")","v":"00:00:00"},{"$f":"IFERROR(Gerar_Upload!F2022,\"erro\")","v":0},{"$f":"IFERROR(IF(Gerar_Upload!G2022<44,REPT(0,44-LEN(Gerar_Upload!G2022))&Gerar_Upload!G2022,Gerar_Upload!G2022),\"erro\")","v":"00000000000000000000000000000000000000000000"}]
[{"$f":"IFERROR(LEFT(Gerar_Upload!A2023,120),\"erro\")","v":""},{"$f":"IFERROR(SUBSTITUTE(SUBSTITUTE(SUBSTITUTE(Gerar_Upload!B2023,\".\",\"\"),\"-\",\"\"),\"/\",\"\"),\"erro\")","v":""},{"$f":"IFERROR(Gerar_Upload!C2023,\"erro\")","v":0},{"$f":"IFERROR(Gerar_Upload!D2023,\"erro\")","v":0},{"$f":"IFERROR(DATE(YEAR(Gerar_Upload!E2023),MONTH(Gerar_Upload!E2023),DAY(Gerar_Upload!E2023)),\"erro\")","v":"00:00:00"},{"$f":"IFERROR(Gerar_Upload!F2023,\"erro\")","v":0},{"$f":"IFERROR(IF(Gerar_Upload!G2023<44,REPT(0,44-LEN(Gerar_Upload!G2023))&Gerar_Upload!G2023,Gerar_Upload!G2023),\"erro\")","v":"00000000000000000000000000000000000000000000"}]
[{"$f":"IFERROR(LEFT(Gerar_Upload!A2024,120),\"erro\")","v":""},{"$f":"IFERROR(SUBSTITUTE(SUBSTITUTE(SUBSTITUTE(Gerar_Upload!B2024,\".\",\"\"),\"-\",\"\"),\"/\",\"\"),\"erro\")","v":""},{"$f":"IFERROR(Gerar_Upload!C2024,\"erro\")","v":0},{"$f":"IFERROR(Gerar_Upload!D2024,\"erro\")","v":0},{"$f":"IFERROR(DATE(YEAR(Gerar_Upload!E2024),MONTH(Gerar_Upload!E2024),DAY(Gerar_Upload!E2024)),\"erro\")","v":"00:00:00"},{"$f":"IFERROR(Gerar_Upload!F2024,\"erro\")","v":0},{"$f":"IFERROR(IF(Gerar_Upload!G2024<44,REPT(0,44-LEN(Gerar_Upload!G2024))&Gerar_Upload!G2024,Gerar_Upload!G2024),\"erro\")","v":"00000000000000000000000000000000000000000000"}]
[{"$f":"IFERROR(LEFT(Gerar_Upload!A2025,120),\"erro\")","v":""},{"$f":"IFERROR(SUBSTITUTE(SUBSTITUTE(SUBSTITUTE(Gerar_Upload!B2025,\".\",\"\"),\"-\",\"\"),\"/\",\"\"),\"erro\")","v":""},{"$f":"IFERROR(Gerar_Upload!C2025,\"erro\")","v":0},{"$f":"IFERROR(Gerar_Upload!D2025,\"erro\")","v":0},{"$f":"IFERROR(DATE(YEAR(Gerar_Upload!E2025),MONTH(Gerar_Upload!E2025),DAY(Gerar_Upload!E2025)),\"erro\")","v":"00:00:00"},{"$f":"IFERROR(Gerar_Upload!F2025,\"erro\")","v":0},{"$f":"IFERROR(IF(Gerar_Upload!G2025<44,REPT(0,44-LEN(Gerar_Upload!G2025))&Gerar_Upload!G2025,Gerar_Upload!G2025),\"erro\")","v":"00000000000000000000000000000000000000000000"}]
[{"$f":"IFERROR(LEFT(Gerar_Upload!A2026,120),\"erro\")","v":""},{"$f":"IFERROR(SUBSTITUTE(SUBSTITUTE(SUBSTITUTE(Gerar_Upload!B2026,\".\",\"\"),\"-\",\"\"),\"/\",\"\"),\"erro\")","v":""},{"$f":"IFERROR(Gerar_Upload!C2026,\"erro\")","v":0},{"$f":"IFERROR(Gerar_Upload!D2026,\"erro\")","v":0},{"$f":"IFERROR(DATE(YEAR(Gerar_Upload!E2026),MONTH(Gerar_Upload!E2026),DAY(Gerar_Upload!E2026)),\"erro\")","v":"00:00:00"},{"$f":"IFERROR(Gerar_Upload!F2026,\"erro\")","v":0},{"$f":"IFERROR(IF(Gerar_Upload!G2026<44,REPT(0,44-LEN(Gerar_Upload!G2026))&Gerar_Upload!G2026,Gerar_Upload!G2026),\"erro\")","v":"00000000000000000000000000000000000000000000"}]
[{"$f":"IFERROR(LEFT(Gerar_Upload!A2027,120),\"erro\")","v":""},{"$f":"IFERROR(SUBSTITUTE(SUBSTITUTE(SUBSTITUTE(Gerar_Upload!B2027,\".\",\"\"),\"-\",\"\"),\"/\",\"\"),\"erro\")","v":""},{"$f":"IFERROR(Gerar_Upload!C2027,\"erro\")","v":0},{"$f":"IFERROR(Gerar_Upload!D2027,\"erro\")","v":0},{"$f":"IFERROR(DATE(YEAR(Gerar_Upload!E2027),MONTH(Gerar_Upload!E2027),DAY(Gerar_Upload!E2027)),\"erro\")","v":"00:00:00"},{"$f":"IFERROR(Gerar_Upload!F2027,\"erro\")","v":0},{"$f":"IFERROR(IF(Gerar_Upload!G2027<44,REPT(0,44-LEN(Gerar_Upload!G2027))&Gerar_Upload!G2027,Gerar_Upload!G2027),\"erro\")","v":"00000000000000000000000000000000000000000000"}]
[{"$f":"IFERROR(LEFT(Gerar_Upload!A2028,120),\"erro\")","v":""},{"$f":"IFERROR(SUBSTITUTE(SUBSTITUTE(SUBSTITUTE(Gerar_Upload!B2028,\".\",\"\"),\"-\",\"\"),\"/\",\"\"),\"erro\")","v":""},{"$f":"IFERROR(Gerar_Upload!C2028,\"erro\")","v":0},{"$f":"IFERROR(Gerar_Upload!D2028,\"erro\")","v":0},{"$f":"IFERROR(DATE(YEAR(Gerar_Upload!E2028),MONTH(Gerar_Upload!E2028),DAY(Gerar_Upload!E2028)),\"erro\")","v":"00:00:00"},{"$f":"IFERROR(Gerar_Upload!F2028,\"erro\")","v":0},{"$f":"IFERROR(IF(Gerar_Upload!G2028<44,REPT(0,44-LEN(Gerar_Upload!G2028))&Gerar_Upload!G2028,Gerar_Upload!G2028),\"erro\")","v":"00000000000000000000000000000000000000000000"}]
[{"$f":"IFERROR(LEFT(Gerar_Upload!A2029,120),\"erro\")","v":""},{"$f":"IFERROR(SUBSTITUTE(SUBSTITUTE(SUBSTITUTE(Gerar_Upload!B2029,\".\",\"\"),\"-\",\"\"),\"/\",\"\"),\"erro\")","v":""},{"$f":"IFERROR(Gerar_Upload!C2029,\"erro\")","v":0},{"$f":"IFERROR(Gerar_Upload!D2029,\"erro\")","v":0},{"$f":"IFERROR(DATE(YEAR(Gerar_Upload!E2029),MONTH(Gerar_Upload!E2029),DAY(Gerar_Upload!E2029)),\"erro\")","v":"00:00:00"},{"$f":"IFERROR(Gerar_Upload!F2029,\"erro\")","v":0},{"$f":"IFERROR(IF(Gerar_Upload!G2029<44,REPT(0,44-LEN(Gerar_Upload!G2029))&Gerar_Upload!G2029,Gerar_Upload!G2029),\"erro\")","v":"00000000000000000000000000000000000000000000"}]
[{"$f":"IFERROR(LEFT(Gerar_Upload!A2030,120),\"erro\")","v":""},{"$f":"IFERROR(SUBSTITUTE(SUBSTITUTE(SUBSTITUTE(Gerar_Upload!B2030,\".\",\"\"),\"-\",\"\"),\"/\",\"\"),\"erro\")","v":""},{"$f":"IFERROR(Gerar_Upload!C2030,\"erro\")","v":0},{"$f":"IFERROR(Gerar_Upload!D2030,\"erro\")","v":0},{"$f":"IFERROR(DATE(YEAR(Gerar_Upload!E2030),MONTH(Gerar_Upload!E2030),DAY(Gerar_Upload!E2030)),\"erro\")","v":"00:00:00"},{"$f":"IFERROR(Gerar_Upload!F2030,\"erro\")","v":0},{"$f":"IFERROR(IF(Gerar_Upload!G2030<44,REPT(0,44-LEN(Gerar_Upload!G2030))&Gerar_Upload!G2030,Gerar_Upload!G2030),\"erro\")","v":"00000000000000000000000000000000000000000000"}]
[{"$f":"IFERROR(LEFT(Gerar_Upload!A2031,120),\"erro\")","v":""},{"$f":"IFERROR(SUBSTITUTE(SUBSTITUTE(SUBSTITUTE(Gerar_Upload!B2031,\".\",\"\"),\"-\",\"\"),\"/\",\"\"),\"erro\")","v":""},{"$f":"IFERROR(Gerar_Upload!C2031,\"erro\")","v":0},{"$f":"IFERROR(Gerar_Upload!D2031,\"erro\")","v":0},{"$f":"IFERROR(DATE(YEAR(Gerar_Upload!E2031),MONTH(Gerar_Upload!E2031),DAY(Gerar_Upload!E2031)),\"erro\")","v":"00:00:00"},{"$f":"IFERROR(Gerar_Upload!F2031,\"erro\")","v":0},{"$f":"IFERROR(IF(Gerar_Upload!G2031<44,REPT(0,44-LEN(Gerar_Upload!G2031))&Gerar_Upload!G2031,Gerar_Upload!G2031),\"erro\")","v":"00000000000000000000000000000000000000000000"}]
[{"$f":"IFERROR(LEFT(Gerar_Upload!A2032,120),\"erro\")","v":""},{"$f":"IFERROR(SUBSTITUTE(SUBSTITUTE(SUBSTITUTE(Gerar_Upload!B2032,\".\",\"\"),\"-\",\"\"),\"/\",\"\"),\"erro\")","v":""},{"$f":"IFERROR(Gerar_Upload!C2032,\"erro\")","v":0},{"$f":"IFERROR(Gerar_Upload!D2032,\"erro\")","v":0},{"$f":"IFERROR(DATE(YEAR(Gerar_Upload!E2032),MONTH(Gerar_Upload!E2032),DAY(Gerar_Upload!E2032)),\"erro\")","v":"00:00:00"},{"$f":"IFERROR(Gerar_Upload!F2032,\"erro\")","v":0},{"$f":"IFERROR(IF(Gerar_Upload!G2032<44,REPT(0,44-LEN(Gerar_Upload!G2032))&Gerar_Upload!G2032,Gerar_Upload!G2032),\"erro\")","v":"00000000000000000000000000000000000000000000"}]
[{"$f":"IFERROR(LEFT(Gerar_Upload!A2033,120),\"erro\")","v":""},{"$f":"IFERROR(SUBSTITUTE(SUBSTITUTE(SUBSTITUTE(Gerar_Upload!B2033,\".\",\"\"),\"-\",\"\"),\"/\",\"\"),\"erro\")","v":""},{"$f":"IFERROR(Gerar_Upload!C2033,\"erro\")","v":0},{"$f":"IFERROR(Gerar_Upload!D2033,\"erro\")","v":0},{"$f":"IFERROR(DATE(YEAR(Gerar_Upload!E2033),MONTH(Gerar_Upload!E2033),DAY(Gerar_Upload!E2033)),\"erro\")","v":"00:00:00"},{"$f":"IFERROR(Gerar_Upload!F2033,\"erro\")","v":0},{"$f":"IFERROR(IF(Gerar_Upload!G2033<44,REPT(0,44-LEN(Gerar_Upload!G2033))&Gerar_Upload!G2033,Gerar_Upload!G2033),\"erro\")","v":"00000000000000000000000000000000000000000000"}]
[{"$f":"IFERROR(LEFT(Gerar_Upload!A2034,120),\"erro\")","v":""},{"$f":"IFERROR(SUBSTITUTE(SUBSTITUTE(SUBSTITUTE(Gerar_Upload!B2034,\".\",\"\"),\"-\",\"\"),\"/\",\"\"),\"erro\")","v":""},{"$f":"IFERROR(Gerar_Upload!C2034,\"erro\")","v":0},{"$f":"IFERROR(Gerar_Upload!D2034,\"erro\")","v":0},{"$f":"IFERROR(DATE(YEAR(Gerar_Upload!E2034),MONTH(Gerar_Upload!E2034),DAY(Gerar_Upload!E2034)),\"erro\")","v":"00:00:00"},{"$f":"IFERROR(Gerar_Upload!F2034,\"erro\")","v":0},{"$f":"IFERROR(IF(Gerar_Upload!G2034<44,REPT(0,44-LEN(Gerar_Upload!G2034))&Gerar_Upload!G2034,Gerar_Upload!G2034),\"erro\")","v":"00000000000000000000000000000000000000000000"}]
[{"$f":"IFERROR(LEFT(Gerar_Upload!A2035,120),\"erro\")","v":""},{"$f":"IFERROR(SUBSTITUTE(SUBSTITUTE(SUBSTITUTE(Gerar_Upload!B2035,\".\",\"\"),\"-\",\"\"),\"/\",\"\"),\"erro\")","v":""},{"$f":"IFERROR(Gerar_Upload!C2035,\"erro\")","v":0},{"$f":"IFERROR(Gerar_Upload!D2035,\"erro\")","v":0},{"$f":"IFERROR(DATE(YEAR(Gerar_Upload!E2035),MONTH(Gerar_Upload!E2035),DAY(Gerar_Upload!E2035)),\"erro\")","v":"00:00:00"},{"$f":"IFERROR(Gerar_Upload!F2035,\"erro\")","v":0},{"$f":"IFERROR(IF(Gerar_Upload!G2035<44,REPT(0,44-LEN(Gerar_Upload!G2035))&Gerar_Upload!G2035,Gerar_Upload!G2035),\"erro\")","v":"00000000000000000000000000000000000000000000"}]
[{"$f":"IFERROR(LEFT(Gerar_Upload!A2036,120),\"erro\")","v":""},{"$f":"IFERROR(SUBSTITUTE(SUBSTITUTE(SUBSTITUTE(Gerar_Upload!B2036,\".\",\"\"),\"-\",\"\"),\"/\",\"\"),\"erro\")","v":""},{"$f":"IFERROR(Gerar_Upload!C2036,\"erro\")","v":0},{"$f":"IFERROR(Gerar_Upload!D2036,\"erro\")","v":0},{"$f":"IFERROR(DATE(YEAR(Gerar_Upload!E2036),MONTH(Gerar_Upload!E2036),DAY(Gerar_Upload!E2036)),\"erro\")","v":"00:00:00"},{"$f":"IFERROR(Gerar_Upload!F2036,\"erro\")","v":0},{"$f":"IFERROR(IF(Gerar_Upload!G2036<44,REPT(0,44-LEN(Gerar_Upload!G2036))&Gerar_Upload!G2036,Gerar_Upload!G2036),\"erro\")","v":"00000000000000000000000000000000000000000000"}]
[{"$f":"IFERROR(LEFT(Gerar_Upload!A2037,120),\"erro\")","v":""},{"$f":"IFERROR(SUBSTITUTE(SUBSTITUTE(SUBSTITUTE(Gerar_Upload!B2037,\".\",\"\"),\"-\",\"\"),\"/\",\"\"),\"erro\")","v":""},{"$f":"IFERROR(Gerar_Upload!C2037,\"erro\")","v":0},{"$f":"IFERROR(Gerar_Upload!D2037,\"erro\")","v":0},{"$f":"IFERROR(DATE(YEAR(Gerar_Upload!E2037),MONTH(Gerar_Upload!E2037),DAY(Gerar_Upload!E2037)),\"erro\")","v":"00:00:00"},{"$f":"IFERROR(Gerar_Upload!F2037,\"erro\")","v":0},{"$f":"IFERROR(IF(Gerar_Upload!G2037<44,REPT(0,44-LEN(Gerar_Upload!G2037))&Gerar_Upload!G2037,Gerar_Upload!G2037),\"erro\")","v":"00000000000000000000000000000000000000000000"}]
[{"$f":"IFERROR(LEFT(Gerar_Upload!A2038,120),\"erro\")","v":""},{"$f":"IFERROR(SUBSTITUTE(SUBSTITUTE(SUBSTITUTE(Gerar_Upload!B2038,\".\",\"\"),\"-\",\"\"),\"/\",\"\"),\"erro\")","v":""},{"$f":"IFERROR(Gerar_Upload!C2038,\"erro\")","v":0},{"$f":"IFERROR(Gerar_Upload!D2038,\"erro\")","v":0},{"$f":"IFERROR(DATE(YEAR(Gerar_Upload!E2038),MONTH(Gerar_Upload!E2038),DAY(Gerar_Upload!E2038)),\"erro\")","v":"00:00:00"},{"$f":"IFERROR(Gerar_Upload!F2038,\"erro\")","v":0},{"$f":"IFERROR(IF(Gerar_Upload!G2038<44,REPT(0,44-LEN(Gerar_Upload!G2038))&Gerar_Upload!G2038,Gerar_Upload!G2038),\"erro\")","v":"00000000000000000000000000000000000000000000"}]
[{"$f":"IFERROR(LEFT(Gerar_Upload!A2039,120),\"erro\")","v":""},{"$f":"IFERROR(SUBSTITUTE(SUBSTITUTE(SUBSTITUTE(Gerar_Upload!B2039,\".\",\"\"),\"-\",\"\"),\"/\",\"\"),\"erro\")","v":""},{"$f":"IFERROR(Gerar_Upload!C2039,\"erro\")","v":0},{"$f":"IFERROR(Gerar_Upload!D2039,\"erro\")","v":0},{"$f":"IFERROR(DATE(YEAR(Gerar_Upload!E2039),MONTH(Gerar_Upload!E2039),DAY(Gerar_Upload!E2039)),\"erro\")","v":"00:00:00"},{"$f":"IFERROR(Gerar_Upload!F2039,\"erro\")","v":0},{"$f":"IFERROR(IF(Gerar_Upload!G2039<44,REPT(0,44-LEN(Gerar_Upload!G2039))&Gerar_Upload!G2039,Gerar_Upload!G2039),\"erro\")","v":"00000000000000000000000000000000000000000000"}]
[{"$f":"IFERROR(LEFT(Gerar_Upload!A2040,120),\"erro\")","v":""},{"$f":"IFERROR(SUBSTITUTE(SUBSTITUTE(SUBSTITUTE(Gerar_Upload!B2040,\".\",\"\"),\"-\",\"\"),\"/\",\"\"),\"erro\")","v":""},{"$f":"IFERROR(Gerar_Upload!C2040,\"erro\")","v":0},{"$f":"IFERROR(Gerar_Upload!D2040,\"erro\")","v":0},{"$f":"IFERROR(DATE(YEAR(Gerar_Upload!E2040),MONTH(Gerar_Upload!E2040),DAY(Gerar_Upload!E2040)),\"erro\")","v":"00:00:00"},{"$f":"IFERROR(Gerar_Upload!F2040,\"erro\")","v":0},{"$f":"IFERROR(IF(Gerar_Upload!G2040<44,REPT(0,44-LEN(Gerar_Upload!G2040))&Gerar_Upload!G2040,Gerar_Upload!G2040),\"erro\")","v":"00000000000000000000000000000000000000000000"}]
[{"$f":"IFERROR(LEFT(Gerar_Upload!A2041,120),\"erro\")","v":""},{"$f":"IFERROR(SUBSTITUTE(SUBSTITUTE(SUBSTITUTE(Gerar_Upload!B2041,\".\",\"\"),\"-\",\"\"),\"/\",\"\"),\"erro\")","v":""},{"$f":"IFERROR(Gerar_Upload!C2041,\"erro\")","v":0},{"$f":"IFERROR(Gerar_Upload!D2041,\"erro\")","v":0},{"$f":"IFERROR(DATE(YEAR(Gerar_Upload!E2041),MONTH(Gerar_Upload!E2041),DAY(Gerar_Upload!E2041)),\"erro\")","v":"00:00:00"},{"$f":"IFERROR(Gerar_Upload!F2041,\"erro\")","v":0},{"$f":"IFERROR(IF(Gerar_Upload!G2041<44,REPT(0,44-LEN(Gerar_Upload!G2041))&Gerar_Upload!G2041,Gerar_Upload!G2041),\"erro\")","v":"00000000000000000000000000000000000000000000"}]
[{"$f":"IFERROR(LEFT(Gerar_Upload!A2042,120),\"erro\")","v":""},{"$f":"IFERROR(SUBSTITUTE(SUBSTITUTE(SUBSTITUTE(Gerar_Upload!B2042,\".\",\"\"),\"-\",\"\"),\"/\",\"\"),\"erro\")","v":""},{"$f":"IFERROR(Gerar_Upload!C2042,\"erro\")","v":0},{"$f":"IFERROR(Gerar_Upload!D2042,\"erro\")","v":0},{"$f":"IFERROR(DATE(YEAR(Gerar_Upload!E2042),MONTH(Gerar_Upload!E2042),DAY(Gerar_Upload!E2042)),\"erro\")","v":"00:00:00"},{"$f":"IFERROR(Gerar_Upload!F2042,\"erro\")","v":0},{"$f":"IFERROR(IF(Gerar_Upload!G2042<44,REPT(0,44-LEN(Gerar_Upload!G2042))&Gerar_Upload!G2042,Gerar_Upload!G2042),\"erro\")","v":"00000000000000000000000000000000000000000000"}]
[{"$f":"IFERROR(LEFT(Gerar_Upload!A2043,120),\"erro\")","v":""},{"$f":"IFERROR(SUBSTITUTE(SUBSTITUTE(SUBSTITUTE(Gerar_Upload!B2043,\".\",\"\"),\"-\",\"\"),\"/\",\"\"),\"erro\")","v":""},{"$f":"IFERROR(Gerar_Upload!C2043,\"erro\")","v":0},{"$f":"IFERROR(Gerar_Upload!D2043,\"erro\")","v":0},{"$f":"IFERROR(DATE(YEAR(Gerar_Upload!E2043),MONTH(Gerar_Upload!E2043),DAY(Gerar_Upload!E2043)),\"erro\")","v":"00:00:00"},{"$f":"IFERROR(Gerar_Upload!F2043,\"erro\")","v":0},{"$f":"IFERROR(IF(Gerar_Upload!G2043<44,REPT(0,44-LEN(Gerar_Upload!G2043))&Gerar_Upload!G2043,Gerar_Upload!G2043),\"erro\")","v":"00000000000000000000000000000000000000000000"}]
[{"$f":"IFERROR(LEFT(Gerar_Upload!A2044,120),\"erro\")","v":""},{"$f":"IFERROR(SUBSTITUTE(SUBSTITUTE(SUBSTITUTE(Gerar_Upload!B2044,\".\",\"\"),\"-\",\"\"),\"/\",\"\"),\"erro\")","v":""},{"$f":"IFERROR(Gerar_Upload!C2044,\"erro\")","v":0},{"$f":"IFERROR(Gerar_Upload!D2044,\"erro\")","v":0},{"$f":"IFERROR(DATE(YEAR(Gerar_Upload!E2044),MONTH(Gerar_Upload!E2044),DAY(Gerar_Upload!E2044)),\"erro\")","v":"00:00:00"},{"$f":"IFERROR(Gerar_Upload!F2044,\"erro\")","v":0},{"$f":"IFERROR(IF(Gerar_Upload!G2044<44,REPT(0,44-LEN(Gerar_Upload!G2044))&Gerar_Upload!G2044,Gerar_Upload!G2044),\"erro\")","v":"00000000000000000000000000000000000000000000"}]
[{"$f":"IFERROR(LEFT(Gerar_Upload!A2045,120),\"erro\")","v":""},{"$f":"IFERROR(SUBSTITUTE(SUBSTITUTE(SUBSTITUTE(Gerar_Upload!B2045,\".\",\"\"),\"-\",\"\"),\"/\",\"\"),\"erro\")","v":""},{"$f":"IFERROR(Gerar_Upload!C2045,\"erro\")","v":0},{"$f":"IFERROR(Gerar_Upload!D2045,\"erro\")","v":0},{"$f":"IFERROR(DATE(YEAR(Gerar_Upload!E2045),MONTH(Gerar_Upload!E2045),DAY(Gerar_Upload!E2045)),\"erro\")","v":"00:00:00"},{"$f":"IFERROR(Gerar_Upload!F2045,\"erro\")","v":0},{"$f":"IFERROR(IF(Gerar_Upload!G2045<44,REPT(0,44-LEN(Gerar_Upload!G2045))&Gerar_Upload!G2045,Gerar_Upload!G2045),\"erro\")","v":"00000000000000000000000000000000000000000000"}]
[{"$f":"IFERROR(LEFT(Gerar_Upload!A2046,120),\"erro\")","v":""},{"$f":"IFERROR(SUBSTITUTE(SUBSTITUTE(SUBSTITUTE(Gerar_Upload!B2046,\".\",\"\"),\"-\",\"\"),\"/\",\"\"),\"erro\")","v":""},{"$f":"IFERROR(Gerar_Upload!C2046,\"erro\")","v":0},{"$f":"IFERROR(Gerar_Upload!D2046,\"erro\")","v":0},{"$f":"IFERROR(DATE(YEAR(Gerar_Upload!E2046),MONTH(Gerar_Upload!E2046),DAY(Gerar_Upload!E2046)),\"erro\")","v":"00:00:00"},{"$f":"IFERROR(Gerar_Upload!F2046,\"erro\")","v":0},{"$f":"IFERROR(IF(Gerar_Upload!G2046<44,REPT(0,44-LEN(Gerar_Upload!G2046))&Gerar_Upload!G2046,Gerar_Upload!G2046),\"erro\")","v":"00000000000000000000000000000000000000000000"}]
[{"$f":"IFERROR(LEFT(Gerar_Upload!A2047,120),\"erro\")","v":""},{"$f":"IFERROR(SUBSTITUTE(SUBSTITUTE(SUBSTITUTE(Gerar_Upload!B2047,\".\",\"\"),\"-\",\"\"),\"/\",\"\"),\"erro\")","v":""},{"$f":"IFERROR(Gerar_Upload!C2047,\"erro\")","v":0},{"$f":"IFERROR(Gerar_Upload!D2047,\"erro\")","v":0},{"$f":"IFERROR(DATE(YEAR(Gerar_Upload!E2047),MONTH(Gerar_Upload!E2047),DAY(Gerar_Upload!E2047)),\"erro\")","v":"00:00:00"},{"$f":"IFERROR(Gerar_Upload!F2047,\"erro\")","v":0},{"$f":"IFERROR(IF(Gerar_Upload!G2047<44,REPT(0,44-LEN(Gerar_Upload!G2047))&Gerar_Upload!G2047,Gerar_Upload!G2047),\"erro\")","v":"00000000000000000000000000000000000000000000"}]
[{"$f":"IFERROR(LEFT(Gerar_Upload!A2048,120),\"erro\")","v":""},{"$f":"IFERROR(SUBSTITUTE(SUBSTITUTE(SUBSTITUTE(Gerar_Upload!B2048,\".\",\"\"),\"-\",\"\"),\"/\",\"\"),\"erro\")","v":""},{"$f":"IFERROR(Gerar_Upload!C2048,\"erro\")","v":0},{"$f":"IFERROR(Gerar_Upload!D2048,\"erro\")","v":0},{"$f":"IFERROR(DATE(YEAR(Gerar_Upload!E2048),MONTH(Gerar_Upload!E2048),DAY(Gerar_Upload!E2048)),\"erro\")","v":"00:00:00"},{"$f":"IFERROR(Gerar_Upload!F2048,\"erro\")","v":0},{"$f":"IFERROR(IF(Gerar_Upload!G2048<44,REPT(0,44-LEN(Gerar_Upload!G2048))&Gerar_Upload!G2048,Gerar_Upload!G2048),\"erro\")","v":"00000000000000000000000000000000000000000000"}]
[{"$f":"IFERROR(LEFT(Gerar_Upload!A2049,120),\"erro\")","v":""},{"$f":"IFERROR(SUBSTITUTE(SUBSTITUTE(SUBSTITUTE(Gerar_Upload!B2049,\".\",\"\"),\"-\",\"\"),\"/\",\"\"),\"erro\")","v":""},{"$f":"IFERROR(Gerar_Upload!C2049,\"erro\")","v":0},{"$f":"IFERROR(Gerar_Upload!D2049,\"erro\")","v":0},{"$f":"IFERROR(DATE(YEAR(Gerar_Upload!E2049),MONTH(Gerar_Upload!E2049),DAY(Gerar_Upload!E2049)),\"erro\")","v":"00:00:00"},{"$f":"IFERROR(Gerar_Upload!F2049,\"erro\")","v":0},{"$f":"IFERROR(IF(Gerar_Upload!G2049<44,REPT(0,44-LEN(Gerar_Upload!G2049))&Gerar_Upload!G2049,Gerar_Upload!G2049),\"erro\")","v":"00000000000000000000000000000000000000000000"}]
[{"$f":"IFERROR(LEFT(Gerar_Upload!A2050,120),\"erro\")","v":""},{"$f":"IFERROR(SUBSTITUTE(SUBSTITUTE(SUBSTITUTE(Gerar_Upload!B2050,\".\",\"\"),\"-\",\"\"),\"/\",\"\"),\"erro\")","v":""},{"$f":"IFERROR(Gerar_Upload!C2050,\"erro\")","v":0},{"$f":"IFERROR(Gerar_Upload!D2050,\"erro\")","v":0},{"$f":"IFERROR(DATE(YEAR(Gerar_Upload!E2050),MONTH(Gerar_Upload!E2050),DAY(Gerar_Upload!E2050)),\"erro\")","v":"00:00:00"},{"$f":"IFERROR(Gerar_Upload!F2050,\"erro\")","v":0},{"$f":"IFERROR(IF(Gerar_Upload!G2050<44,REPT(0,44-LEN(Gerar_Upload!G2050))&Gerar_Upload!G2050,Gerar_Upload!G2050),\"erro\")","v":"00000000000000000000000000000000000000000000"}]
[{"$f":"IFERROR(LEFT(Gerar_Upload!A2051,120),\"erro\")","v":""},{"$f":"IFERROR(SUBSTITUTE(SUBSTITUTE(SUBSTITUTE(Gerar_Upload!B2051,\".\",\"\"),\"-\",\"\"),\"/\",\"\"),\"erro\")","v":""},{"$f":"IFERROR(Gerar_Upload!C2051,\"erro\")","v":0},{"$f":"IFERROR(Gerar_Upload!D2051,\"erro\")","v":0},{"$f":"IFERROR(DATE(YEAR(Gerar_Upload!E2051),MONTH(Gerar_Upload!E2051),DAY(Gerar_Upload!E2051)),\"erro\")","v":"00:00:00"},{"$f":"IFERROR(Gerar_Upload!F2051,\"erro\")","v":0},{"$f":"IFERROR(IF(Gerar_Upload!G2051<44,REPT(0,44-LEN(Gerar_Upload!G2051))&Gerar_Upload!G2051,Gerar_Upload!G2051),\"erro\")","v":"00000000000000000000000000000000000000000000"}]
[{"$f":"IFERROR(LEFT(Gerar_Upload!A2052,120),\"erro\")","v":""},{"$f":"IFERROR(SUBSTITUTE(SUBSTITUTE(SUBSTITUTE(Gerar_Upload!B2052,\".\",\"\"),\"-\",\"\"),\"/\",\"\"),\"erro\")","v":""},{"$f":"IFERROR(Gerar_Upload!C2052,\"erro\")","v":0},{"$f":"IFERROR(Gerar_Upload!D2052,\"erro\")","v":0},{"$f":"IFERROR(DATE(YEAR(Gerar_Upload!E2052),MONTH(Gerar_Upload!E2052),DAY(Gerar_Upload!E2052)),\"erro\")","v":"00:00:00"},{"$f":"IFERROR(Gerar_Upload!F2052,\"erro\")","v":0},{"$f":"IFERROR(IF(Gerar_Upload!G2052<44,REPT(0,44-LEN(Gerar_Upload!G2052))&Gerar_Upload!G2052,Gerar_Upload!G2052),\"erro\")","v":"00000000000000000000000000000000000000000000"}]
[{"$f":"IFERROR(LEFT(Gerar_Upload!A2053,120),\"erro\")","v":""},{"$f":"IFERROR(SUBSTITUTE(SUBSTITUTE(SUBSTITUTE(Gerar_Upload!B2053,\".\",\"\"),\"-\",\"\"),\"/\",\"\"),\"erro\")","v":""},{"$f":"IFERROR(Gerar_Upload!C2053,\"erro\")","v":0},{"$f":"IFERROR(Gerar_Upload!D2053,\"erro\")","v":0},{"$f":"IFERROR(DATE(YEAR(Gerar_Upload!E2053),MONTH(Gerar_Upload!E2053),DAY(Gerar_Upload!E2053)),\"erro\")","v":"00:00:00"},{"$f":"IFERROR(Gerar_Upload!F2053,\"erro\")","v":0},{"$f":"IFERROR(IF(Gerar_Upload!G2053<44,REPT(0,44-LEN(Gerar_Upload!G2053))&Gerar_Upload!G2053,Gerar_Upload!G2053),\"erro\")","v":"00000000000000000000000000000000000000000000"}]
[{"$f":"IFERROR(LEFT(Gerar_Upload!A2054,120),\"erro\")","v":""},{"$f":"IFERROR(SUBSTITUTE(SUBSTITUTE(SUBSTITUTE(Gerar_Upload!B2054,\".\",\"\"),\"-\",\"\"),\"/\",\"\"),\"erro\")","v":""},{"$f":"IFERROR(Gerar_Upload!C2054,\"erro\")","v":0},{"$f":"IFERROR(Gerar_Upload!D2054,\"erro\")","v":0},{"$f":"IFERROR(DATE(YEAR(Gerar_Upload!E2054),MONTH(Gerar_Upload!E2054),DAY(Gerar_Upload!E2054)),\"erro\")","v":"00:00:00"},{"$f":"IFERROR(Gerar_Upload!F2054,\"erro\")","v":0},{"$f":"IFERROR(IF(Gerar_Upload!G2054<44,REPT(0,44-LEN(Gerar_Upload!G2054))&Gerar_Upload!G2054,Gerar_Upload!G2054),\"erro\")","v":"00000000000000000000000000000000000000000000"}]
[{"$f":"IFERROR(LEFT(Gerar_Upload!A2055,120),\"erro\")","v":""},{"$f":"IFERROR(SUBSTITUTE(SUBSTITUTE(SUBSTITUTE(Gerar_Upload!B2055,\".\",\"\"),\"-\",\"\"),\"/\",\"\"),\"erro\")","v":""},{"$f":"IFERROR(Gerar_Upload!C2055,\"erro\")","v":0},{"$f":"IFERROR(Gerar_Upload!D2055,\"erro\")","v":0},{"$f":"IFERROR(DATE(YEAR(Gerar_Upload!E2055),MONTH(Gerar_Upload!E2055),DAY(Gerar_Upload!E2055)),\"erro\")","v":"00:00:00"},{"$f":"IFERROR(Gerar_Upload!F2055,\"erro\")","v":0},{"$f":"IFERROR(IF(Gerar_Upload!G2055<44,REPT(0,44-LEN(Gerar_Upload!G2055))&Gerar_Upload!G2055,Gerar_Upload!G2055),\"erro\")","v":"00000000000000000000000000000000000000000000"}]
[{"$f":"IFERROR(LEFT(Gerar_Upload!A2056,120),\"erro\")","v":""},{"$f":"IFERROR(SUBSTITUTE(SUBSTITUTE(SUBSTITUTE(Gerar_Upload!B2056,\".\",\"\"),\"-\",\"\"),\"/\",\"\"),\"erro\")","v":""},{"$f":"IFERROR(Gerar_Upload!C2056,\"erro\")","v":0},{"$f":"IFERROR(Gerar_Upload!D2056,\"erro\")","v":0},{"$f":"IFERROR(DATE(YEAR(Gerar_Upload!E2056),MONTH(Gerar_Upload!E2056),DAY(Gerar_Upload!E2056)),\"erro\")","v":"00:00:00"},{"$f":"IFERROR(Gerar_Upload!F2056,\"erro\")","v":0},{"$f":"IFERROR(IF(Gerar_Upload!G2056<44,REPT(0,44-LEN(Gerar_Upload!G2056))&Gerar_Upload!G2056,Gerar_Upload!G2056),\"erro\")","v":"00000000000000000000000000000000000000000000"}]
[{"$f":"IFERROR(LEFT(Gerar_Upload!A2057,120),\"erro\")","v":""},{"$f":"IFERROR(SUBSTITUTE(SUBSTITUTE(SUBSTITUTE(Gerar_Upload!B2057,\".\",\"\"),\"-\",\"\"),\"/\",\"\"),\"erro\")","v":""},{"$f":"IFERROR(Gerar_Upload!C2057,\"erro\")","v":0},{"$f":"IFERROR(Gerar_Upload!D2057,\"erro\")","v":0},{"$f":"IFERROR(DATE(YEAR(Gerar_Upload!E2057),MONTH(Gerar_Upload!E2057),DAY(Gerar_Upload!E2057)),\"erro\")","v":"00:00:00"},{"$f":"IFERROR(Gerar_Upload!F2057,\"erro\")","v":0},{"$f":"IFERROR(IF(Gerar_Upload!G2057<44,REPT(0,44-LEN(Gerar_Upload!G2057))&Gerar_Upload!G2057,Gerar_Upload!G2057),\"erro\")","v":"00000000000000000000000000000000000000000000"}]
[{"$f":"IFERROR(LEFT(Gerar_Upload!A2058,120),\"erro\")","v":""},{"$f":"IFERROR(SUBSTITUTE(SUBSTITUTE(SUBSTITUTE(Gerar_Upload!B2058,\".\",\"\"),\"-\",\"\"),\"/\",\"\"),\"erro\")","v":""},{"$f":"IFERROR(Gerar_Upload!C2058,\"erro\")","v":0},{"$f":"IFERROR(Gerar_Upload!D2058,\"erro\")","v":0},{"$f":"IFERROR(DATE(YEAR(Gerar_Upload!E2058),MONTH(Gerar_Upload!E2058),DAY(Gerar_Upload!E2058)),\"erro\")","v":"00:00:00"},{"$f":"IFERROR(Gerar_Upload!F2058,\"erro\")","v":0},{"$f":"IFERROR(IF(Gerar_Upload!G2058<44,REPT(0,44-LEN(Gerar_Upload!G2058))&Gerar_Upload!G2058,Gerar_Upload!G2058),\"erro\")","v":"00000000000000000000000000000000000000000000"}]
[{"$f":"IFERROR(LEFT(Gerar_Upload!A2059,120),\"erro\")","v":""},{"$f":"IFERROR(SUBSTITUTE(SUBSTITUTE(SUBSTITUTE(Gerar_Upload!B2059,\".\",\"\"),\"-\",\"\"),\"/\",\"\"),\"erro\")","v":""},{"$f":"IFERROR(Gerar_Upload!C2059,\"erro\")","v":0},{"$f":"IFERROR(Gerar_Upload!D2059,\"erro\")","v":0},{"$f":"IFERROR(DATE(YEAR(Gerar_Upload!E2059),MONTH(Gerar_Upload!E2059),DAY(Gerar_Upload!E2059)),\"erro\")","v":"00:00:00"},{"$f":"IFERROR(Gerar_Upload!F2059,\"erro\")","v":0},{"$f":"IFERROR(IF(Gerar_Upload!G2059<44,REPT(0,44-LEN(Gerar_Upload!G2059))&Gerar_Upload!G2059,Gerar_Upload!G2059),\"erro\")","v":"00000000000000000000000000000000000000000000"}]
[{"$f":"IFERROR(LEFT(Gerar_Upload!A2060,120),\"erro\")","v":""},{"$f":"IFERROR(SUBSTITUTE(SUBSTITUTE(SUBSTITUTE(Gerar_Upload!B2060,\".\",\"\"),\"-\",\"\"),\"/\",\"\"),\"erro\")","v":""},{"$f":"IFERROR(Gerar_Upload!C2060,\"erro\")","v":0},{"$f":"IFERROR(Gerar_Upload!D2060,\"erro\")","v":0},{"$f":"IFERROR(DATE(YEAR(Gerar_Upload!E2060),MONTH(Gerar_Upload!E2060),DAY(Gerar_Upload!E2060)),\"erro\")","v":"00:00:00"},{"$f":"IFERROR(Gerar_Upload!F2060,\"erro\")","v":0},{"$f":"IFERROR(IF(Gerar_Upload!G2060<44,REPT(0,44-LEN(Gerar_Upload!G2060))&Gerar_Upload!G2060,Gerar_Upload!G2060),\"erro\")","v":"00000000000000000000000000000000000000000000"}]
[{"$f":"IFERROR(LEFT(Gerar_Upload!A2061,120),\"erro\")","v":""},{"$f":"IFERROR(SUBSTITUTE(SUBSTITUTE(SUBSTITUTE(Gerar_Upload!B2061,\".\",\"\"),\"-\",\"\"),\"/\",\"\"),\"erro\")","v":""},{"$f":"IFERROR(Gerar_Upload!C2061,\"erro\")","v":0},{"$f":"IFERROR(Gerar_Upload!D2061,\"erro\")","v":0},{"$f":"IFERROR(DATE(YEAR(Gerar_Upload!E2061),MONTH(Gerar_Upload!E2061),DAY(Gerar_Upload!E2061)),\"erro\")","v":"00:00:00"},{"$f":"IFERROR(Gerar_Upload!F2061,\"erro\")","v":0},{"$f":"IFERROR(IF(Gerar_Upload!G2061<44,REPT(0,44-LEN(Gerar_Upload!G2061))&Gerar_Upload!G2061,Gerar_Upload!G2061),\"erro\")","v":"00000000000000000000000000000000000000000000"}]
[{"$f":"IFERROR(LEFT(Gerar_Upload!A2062,120),\"erro\")","v":""},{"$f":"IFERROR(SUBSTITUTE(SUBSTITUTE(SUBSTITUTE(Gerar_Upload!B2062,\".\",\"\"),\"-\",\"\"),\"/\",\"\"),\"erro\")","v":""},{"$f":"IFERROR(Gerar_Upload!C2062,\"erro\")","v":0},{"$f":"IFERROR(Gerar_Upload!D2062,\"erro\")","v":0},{"$f":"IFERROR(DATE(YEAR(Gerar_Upload!E2062),MONTH(Gerar_Upload!E2062),DAY(Gerar_Upload!E2062)),\"erro\")","v":"00:00:00"},{"$f":"IFERROR(Gerar_Upload!F2062,\"erro\")","v":0},{"$f":"IFERROR(IF(Gerar_Upload!G2062<44,REPT(0,44-LEN(Gerar_Upload!G2062))&Gerar_Upload!G2062,Gerar_Upload!G2062),\"erro\")","v":"00000000000000000000000000000000000000000000"}]
[{"$f":"IFERROR(LEFT(Gerar_Upload!A2063,120),\"erro\")","v":""},{"$f":"IFERROR(SUBSTITUTE(SUBSTITUTE(SUBSTITUTE(Gerar_Upload!B2063,\".\",\"\"),\"-\",\"\"),\"/\",\"\"),\"erro\")","v":""},{"$f":"IFERROR(Gerar_Upload!C2063,\"erro\")","v":0},{"$f":"IFERROR(Gerar_Upload!D2063,\"erro\")","v":0},{"$f":"IFERROR(DATE(YEAR(Gerar_Upload!E2063),MONTH(Gerar_Upload!E2063),DAY(Gerar_Upload!E2063)),\"erro\")","v":"00:00:00"},{"$f":"IFERROR(Gerar_Upload!F2063,\"erro\")","v":0},{"$f":"IFERROR(IF(Gerar_Upload!G2063<44,REPT(0,44-LEN(Gerar_Upload!G2063))&Gerar_Upload!G2063,Gerar_Upload!G2063),\"erro\")","v":"00000000000000000000000000000000000000000000"}]
[{"$f":"IFERROR(LEFT(Gerar_Upload!A2064,120),\"erro\")","v":""},{"$f":"IFERROR(SUBSTITUTE(SUBSTITUTE(SUBSTITUTE(Gerar_Upload!B2064,\".\",\"\"),\"-\",\"\"),\"/\",\"\"),\"erro\")","v":""},{"$f":"IFERROR(Gerar_Upload!C2064,\"erro\")","v":0},{"$f":"IFERROR(Gerar_Upload!D2064,\"erro\")","v":0},{"$f":"IFERROR(DATE(YEAR(Gerar_Upload!E2064),MONTH(Gerar_Upload!E2064),DAY(Gerar_Upload!E2064)),\"erro\")","v":"00:00:00"},{"$f":"IFERROR(Gerar_Upload!F2064,\"erro\")","v":0},{"$f":"IFERROR(IF(Gerar_Upload!G2064<44,REPT(0,44-LEN(Gerar_Upload!G2064))&Gerar_Upload!G2064,Gerar_Upload!G2064),\"erro\")","v":"00000000000000000000000000000000000000000000"}]
[{"$f":"IFERROR(LEFT(Gerar_Upload!A2065,120),\"erro\")","v":""},{"$f":"IFERROR(SUBSTITUTE(SUBSTITUTE(SUBSTITUTE(Gerar_Upload!B2065,\".\",\"\"),\"-\",\"\"),\"/\",\"\"),\"erro\")","v":""},{"$f":"IFERROR(Gerar_Upload!C2065,\"erro\")","v":0},{"$f":"IFERROR(Gerar_Upload!D2065,\"erro\")","v":0},{"$f":"IFERROR(DATE(YEAR(Gerar_Upload!E2065),MONTH(Gerar_Upload!E2065),DAY(Gerar_Upload!E2065)),\"erro\")","v":"00:00:00"},{"$f":"IFERROR(Gerar_Upload!F2065,\"erro\")","v":0},{"$f":"IFERROR(IF(Gerar_Upload!G2065<44,REPT(0,44-LEN(Gerar_Upload!G2065))&Gerar_Upload!G2065,Gerar_Upload!G2065),\"erro\")","v":"00000000000000000000000000000000000000000000"}]
[{"$f":"IFERROR(LEFT(Gerar_Upload!A2066,120),\"erro\")","v":""},{"$f":"IFERROR(SUBSTITUTE(SUBSTITUTE(SUBSTITUTE(Gerar_Upload!B2066,\".\",\"\"),\"-\",\"\"),\"/\",\"\"),\"erro\")","v":""},{"$f":"IFERROR(Gerar_Upload!C2066,\"erro\")","v":0},{"$f":"IFERROR(Gerar_Upload!D2066,\"erro\")","v":0},{"$f":"IFERROR(DATE(YEAR(Gerar_Upload!E2066),MONTH(Gerar_Upload!E2066),DAY(Gerar_Upload!E2066)),\"erro\")","v":"00:00:00"},{"$f":"IFERROR(Gerar_Upload!F2066,\"erro\")","v":0},{"$f":"IFERROR(IF(Gerar_Upload!G2066<44,REPT(0,44-LEN(Gerar_Upload!G2066))&Gerar_Upload!G2066,Gerar_Upload!G2066),\"erro\")","v":"00000000000000000000000000000000000000000000"}]
[{"$f":"IFERROR(LEFT(Gerar_Upload!A2067,120),\"erro\")","v":""},{"$f":"IFERROR(SUBSTITUTE(SUBSTITUTE(SUBSTITUTE(Gerar_Upload!B2067,\".\",\"\"),\"-\",\"\"),\"/\",\"\"),\"erro\")","v":""},{"$f":"IFERROR(Gerar_Upload!C2067,\"erro\")","v":0},{"$f":"IFERROR(Gerar_Upload!D2067,\"erro\")","v":0},{"$f":"IFERROR(DATE(YEAR(Gerar_Upload!E2067),MONTH(Gerar_Upload!E2067),DAY(Gerar_Upload!E2067)),\"erro\")","v":"00:00:00"},{"$f":"IFERROR(Gerar_Upload!F2067,\"erro\")","v":0},{"$f":"IFERROR(IF(Gerar_Upload!G2067<44,REPT(0,44-LEN(Gerar_Upload!G2067))&Gerar_Upload!G2067,Gerar_Upload!G2067),\"erro\")","v":"00000000000000000000000000000000000000000000"}]
[{"$f":"IFERROR(LEFT(Gerar_Upload!A2068,120),\"erro\")","v":""},{"$f":"IFERROR(SUBSTITUTE(SUBSTITUTE(SUBSTITUTE(Gerar_Upload!B2068,\".\",\"\"),\"-\",\"\"),\"/\",\"\"),\"erro\")","v":""},{"$f":"IFERROR(Gerar_Upload!C2068,\"erro\")","v":0},{"$f":"IFERROR(Gerar_Upload!D2068,\"erro\")","v":0},{"$f":"IFERROR(DATE(YEAR(Gerar_Upload!E2068),MONTH(Gerar_Upload!E2068),DAY(Gerar_Upload!E2068)),\"erro\")","v":"00:00:00"},{"$f":"IFERROR(Gerar_Upload!F2068,\"erro\")","v":0},{"$f":"IFERROR(IF(Gerar_Upload!G2068<44,REPT(0,44-LEN(Gerar_Upload!G2068))&Gerar_Upload!G2068,Gerar_Upload!G2068),\"erro\")","v":"00000000000000000000000000000000000000000000"}]
[{"$f":"IFERROR(LEFT(Gerar_Upload!A2069,120),\"erro\")","v":""},{"$f":"IFERROR(SUBSTITUTE(SUBSTITUTE(SUBSTITUTE(Gerar_Upload!B2069,\".\",\"\"),\"-\",\"\"),\"/\",\"\"),\"erro\")","v":""},{"$f":"IFERROR(Gerar_Upload!C2069,\"erro\")","v":0},{"$f":"IFERROR(Gerar_Upload!D2069,\"erro\")","v":0},{"$f":"IFERROR(DATE(YEAR(Gerar_Upload!E2069),MONTH(Gerar_Upload!E2069),DAY(Gerar_Upload!E2069)),\"erro\")","v":"00:00:00"},{"$f":"IFERROR(Gerar_Upload!F2069,\"erro\")","v":0},{"$f":"IFERROR(IF(Gerar_Upload!G2069<44,REPT(0,44-LEN(Gerar_Upload!G2069))&Gerar_Upload!G2069,Gerar_Upload!G2069),\"erro\")","v":"00000000000000000000000000000000000000000000"}]
[{"$f":"IFERROR(LEFT(Gerar_Upload!A2070,120),\"erro\")","v":""},{"$f":"IFERROR(SUBSTITUTE(SUBSTITUTE(SUBSTITUTE(Gerar_Upload!B2070,\".\",\"\"),\"-\",\"\"),\"/\",\"\"),\"erro\")","v":""},{"$f":"IFERROR(Gerar_Upload!C2070,\"erro\")","v":0},{"$f":"IFERROR(Gerar_Upload!D2070,\"erro\")","v":0},{"$f":"IFERROR(DATE(YEAR(Gerar_Upload!E2070),MONTH(Gerar_Upload!E2070),DAY(Gerar_Upload!E2070)),\"erro\")","v":"00:00:00"},{"$f":"IFERROR(Gerar_Upload!F2070,\"erro\")","v":0},{"$f":"IFERROR(IF(Gerar_Upload!G2070<44,REPT(0,44-LEN(Gerar_Upload!G2070))&Gerar_Upload!G2070,Gerar_Upload!G2070),\"erro\")","v":"00000000000000000000000000000000000000000000"}]
[{"$f":"IFERROR(LEFT(Gerar_Upload!A2071,120),\"erro\")","v":""},{"$f":"IFERROR(SUBSTITUTE(SUBSTITUTE(SUBSTITUTE(Gerar_Upload!B2071,\".\",\"\"),\"-\",\"\"),\"/\",\"\"),\"erro\")","v":""},{"$f":"IFERROR(Gerar_Upload!C2071,\"erro\")","v":0},{"$f":"IFERROR(Gerar_Upload!D2071,\"erro\")","v":0},{"$f":"IFERROR(DATE(YEAR(Gerar_Upload!E2071),MONTH(Gerar_Upload!E2071),DAY(Gerar_Upload!E2071)),\"erro\")","v":"00:00:00"},{"$f":"IFERROR(Gerar_Upload!F2071,\"erro\")","v":0},{"$f":"IFERROR(IF(Gerar_Upload!G2071<44,REPT(0,44-LEN(Gerar_Upload!G2071))&Gerar_Upload!G2071,Gerar_Upload!G2071),\"erro\")","v":"00000000000000000000000000000000000000000000"}]
[{"$f":"IFERROR(LEFT(Gerar_Upload!A2072,120),\"erro\")","v":""},{"$f":"IFERROR(SUBSTITUTE(SUBSTITUTE(SUBSTITUTE(Gerar_Upload!B2072,\".\",\"\"),\"-\",\"\"),\"/\",\"\"),\"erro\")","v":""},{"$f":"IFERROR(Gerar_Upload!C2072,\"erro\")","v":0},{"$f":"IFERROR(Gerar_Upload!D2072,\"erro\")","v":0},{"$f":"IFERROR(DATE(YEAR(Gerar_Upload!E2072),MONTH(Gerar_Upload!E2072),DAY(Gerar_Upload!E2072)),\"erro\")","v":"00:00:00"},{"$f":"IFERROR(Gerar_Upload!F2072,\"erro\")","v":0},{"$f":"IFERROR(IF(Gerar_Upload!G2072<44,REPT(0,44-LEN(Gerar_Upload!G2072))&Gerar_Upload!G2072,Gerar_Upload!G2072),\"erro\")","v":"00000000000000000000000000000000000000000000"}]
[{"$f":"IFERROR(LEFT(Gerar_Upload!A2073,120),\"erro\")","v":""},{"$f":"IFERROR(SUBSTITUTE(SUBSTITUTE(SUBSTITUTE(Gerar_Upload!B2073,\".\",\"\"),\"-\",\"\"),\"/\",\"\"),\"erro\")","v":""},{"$f":"IFERROR(Gerar_Upload!C2073,\"erro\")","v":0},{"$f":"IFERROR(Gerar_Upload!D2073,\"erro\")","v":0},{"$f":"IFERROR(DATE(YEAR(Gerar_Upload!E2073),MONTH(Gerar_Upload!E2073),DAY(Gerar_Upload!E2073)),\"erro\")","v":"00:00:00"},{"$f":"IFERROR(Gerar_Upload!F2073,\"erro\")","v":0},{"$f":"IFERROR(IF(Gerar_Upload!G2073<44,REPT(0,44-LEN(Gerar_Upload!G2073))&Gerar_Upload!G2073,Gerar_Upload!G2073),\"erro\")","v":"00000000000000000000000000000000000000000000"}]
[{"$f":"IFERROR(LEFT(Gerar_Upload!A2074,120),\"erro\")","v":""},{"$f":"IFERROR(SUBSTITUTE(SUBSTITUTE(SUBSTITUTE(Gerar_Upload!B2074,\".\",\"\"),\"-\",\"\"),\"/\",\"\"),\"erro\")","v":""},{"$f":"IFERROR(Gerar_Upload!C2074,\"erro\")","v":0},{"$f":"IFERROR(Gerar_Upload!D2074,\"erro\")","v":0},{"$f":"IFERROR(DATE(YEAR(Gerar_Upload!E2074),MONTH(Gerar_Upload!E2074),DAY(Gerar_Upload!E2074)),\"erro\")","v":"00:00:00"},{"$f":"IFERROR(Gerar_Upload!F2074,\"erro\")","v":0},{"$f":"IFERROR(IF(Gerar_Upload!G2074<44,REPT(0,44-LEN(Gerar_Upload!G2074))&Gerar_Upload!G2074,Gerar_Upload!G2074),\"erro\")","v":"00000000000000000000000000000000000000000000"}]
[{"$f":"IFERROR(LEFT(Gerar_Upload!A2075,120),\"erro\")","v":""},{"$f":"IFERROR(SUBSTITUTE(SUBSTITUTE(SUBSTITUTE(Gerar_Upload!B2075,\".\",\"\"),\"-\",\"\"),\"/\",\"\"),\"erro\")","v":""},{"$f":"IFERROR(Gerar_Upload!C2075,\"erro\")","v":0},{"$f":"IFERROR(Gerar_Upload!D2075,\"erro\")","v":0},{"$f":"IFERROR(DATE(YEAR(Gerar_Upload!E2075),MONTH(Gerar_Upload!E2075),DAY(Gerar_Upload!E2075)),\"erro\")","v":"00:00:00"},{"$f":"IFERROR(Gerar_Upload!F2075,\"erro\")","v":0},{"$f":"IFERROR(IF(Gerar_Upload!G2075<44,REPT(0,44-LEN(Gerar_Upload!G2075))&Gerar_Upload!G2075,Gerar_Upload!G2075),\"erro\")","v":"00000000000000000000000000000000000000000000"}]
[{"$f":"IFERROR(LEFT(Gerar_Upload!A2076,120),\"erro\")","v":""},{"$f":"IFERROR(SUBSTITUTE(SUBSTITUTE(SUBSTITUTE(Gerar_Upload!B2076,\".\",\"\"),\"-\",\"\"),\"/\",\"\"),\"erro\")","v":""},{"$f":"IFERROR(Gerar_Upload!C2076,\"erro\")","v":0},{"$f":"IFERROR(Gerar_Upload!D2076,\"erro\")","v":0},{"$f":"IFERROR(DATE(YEAR(Gerar_Upload!E2076),MONTH(Gerar_Upload!E2076),DAY(Gerar_Upload!E2076)),\"erro\")","v":"00:00:00"},{"$f":"IFERROR(Gerar_Upload!F2076,\"erro\")","v":0},{"$f":"IFERROR(IF(Gerar_Upload!G2076<44,REPT(0,44-LEN(Gerar_Upload!G2076))&Gerar_Upload!G2076,Gerar_Upload!G2076),\"erro\")","v":"00000000000000000000000000000000000000000000"}]
[{"$f":"IFERROR(LEFT(Gerar_Upload!A2077,120),\"erro\")","v":""},{"$f":"IFERROR(SUBSTITUTE(SUBSTITUTE(SUBSTITUTE(Gerar_Upload!B2077,\".\",\"\"),\"-\",\"\"),\"/\",\"\"),\"erro\")","v":""},{"$f":"IFERROR(Gerar_Upload!C2077,\"erro\")","v":0},{"$f":"IFERROR(Gerar_Upload!D2077,\"erro\")","v":0},{"$f":"IFERROR(DATE(YEAR(Gerar_Upload!E2077),MONTH(Gerar_Upload!E2077),DAY(Gerar_Upload!E2077)),\"erro\")","v":"00:00:00"},{"$f":"IFERROR(Gerar_Upload!F2077,\"erro\")","v":0},{"$f":"IFERROR(IF(Gerar_Upload!G2077<44,REPT(0,44-LEN(Gerar_Upload!G2077))&Gerar_Upload!G2077,Gerar_Upload!G2077),\"erro\")","v":"00000000000000000000000000000000000000000000"}]
[{"$f":"IFERROR(LEFT(Gerar_Upload!A2078,120),\"erro\")","v":""},{"$f":"IFERROR(SUBSTITUTE(SUBSTITUTE(SUBSTITUTE(Gerar_Upload!B2078,\".\",\"\"),\"-\",\"\"),\"/\",\"\"),\"erro\")","v":""},{"$f":"IFERROR(Gerar_Upload!C2078,\"erro\")","v":0},{"$f":"IFERROR(Gerar_Upload!D2078,\"erro\")","v":0},{"$f":"IFERROR(DATE(YEAR(Gerar_Upload!E2078),MONTH(Gerar_Upload!E2078),DAY(Gerar_Upload!E2078)),\"erro\")","v":"00:00:00"},{"$f":"IFERROR(Gerar_Upload!F2078,\"erro\")","v":0},{"$f":"IFERROR(IF(Gerar_Upload!G2078<44,REPT(0,44-LEN(Gerar_Upload!G2078))&Gerar_Upload!G2078,Gerar_Upload!G2078),\"erro\")","v":"00000000000000000000000000000000000000000000"}]
[{"$f":"IFERROR(LEFT(Gerar_Upload!A2079,120),\"erro\")","v":""},{"$f":"IFERROR(SUBSTITUTE(SUBSTITUTE(SUBSTITUTE(Gerar_Upload!B2079,\".\",\"\"),\"-\",\"\"),\"/\",\"\"),\"erro\")","v":""},{"$f":"IFERROR(Gerar_Upload!C2079,\"erro\")","v":0},{"$f":"IFERROR(Gerar_Upload!D2079,\"erro\")","v":0},{"$f":"IFERROR(DATE(YEAR(Gerar_Upload!E2079),MONTH(Gerar_Upload!E2079),DAY(Gerar_Upload!E2079)),\"erro\")","v":"00:00:00"},{"$f":"IFERROR(Gerar_Upload!F2079,\"erro\")","v":0},{"$f":"IFERROR(IF(Gerar_Upload!G2079<44,REPT(0,44-LEN(Gerar_Upload!G2079))&Gerar_Upload!G2079,Gerar_Upload!G2079),\"erro\")","v":"00000000000000000000000000000000000000000000"}]
[{"$f":"IFERROR(LEFT(Gerar_Upload!A2080,120),\"erro\")","v":""},{"$f":"IFERROR(SUBSTITUTE(SUBSTITUTE(SUBSTITUTE(Gerar_Upload!B2080,\".\",\"\"),\"-\",\"\"),\"/\",\"\"),\"erro\")","v":""},{"$f":"IFERROR(Gerar_Upload!C2080,\"erro\")","v":0},{"$f":"IFERROR(Gerar_Upload!D2080,\"erro\")","v":0},{"$f":"IFERROR(DATE(YEAR(Gerar_Upload!E2080),MONTH(Gerar_Upload!E2080),DAY(Gerar_Upload!E2080)),\"erro\")","v":"00:00:00"},{"$f":"IFERROR(Gerar_Upload!F2080,\"erro\")","v":0},{"$f":"IFERROR(IF(Gerar_Upload!G2080<44,REPT(0,44-LEN(Gerar_Upload!G2080))&Gerar_Upload!G2080,Gerar_Upload!G2080),\"erro\")","v":"00000000000000000000000000000000000000000000"}]
[{"$f":"IFERROR(LEFT(Gerar_Upload!A2081,120),\"erro\")","v":""},{"$f":"IFERROR(SUBSTITUTE(SUBSTITUTE(SUBSTITUTE(Gerar_Upload!B2081,\".\",\"\"),\"-\",\"\"),\"/\",\"\"),\"erro\")","v":""},{"$f":"IFERROR(Gerar_Upload!C2081,\"erro\")","v":0},{"$f":"IFERROR(Gerar_Upload!D2081,\"erro\")","v":0},{"$f":"IFERROR(DATE(YEAR(Gerar_Upload!E2081),MONTH(Gerar_Upload!E2081),DAY(Gerar_Upload!E2081)),\"erro\")","v":"00:00:00"},{"$f":"IFERROR(Gerar_Upload!F2081,\"erro\")","v":0},{"$f":"IFERROR(IF(Gerar_Upload!G2081<44,REPT(0,44-LEN(Gerar_Upload!G2081))&Gerar_Upload!G2081,Gerar_Upload!G2081),\"erro\")","v":"00000000000000000000000000000000000000000000"}]
[{"$f":"IFERROR(LEFT(Gerar_Upload!A2082,120),\"erro\")","v":""},{"$f":"IFERROR(SUBSTITUTE(SUBSTITUTE(SUBSTITUTE(Gerar_Upload!B2082,\".\",\"\"),\"-\",\"\"),\"/\",\"\"),\"erro\")","v":""},{"$f":"IFERROR(Gerar_Upload!C2082,\"erro\")","v":0},{"$f":"IFERROR(Gerar_Upload!D2082,\"erro\")","v":0},{"$f":"IFERROR(DATE(YEAR(Gerar_Upload!E2082),MONTH(Gerar_Upload!E2082),DAY(Gerar_Upload!E2082)),\"erro\")","v":"00:00:00"},{"$f":"IFERROR(Gerar_Upload!F2082,\"erro\")","v":0},{"$f":"IFERROR(IF(Gerar_Upload!G2082<44,REPT(0,44-LEN(Gerar_Upload!G2082))&Gerar_Upload!G2082,Gerar_Upload!G2082),\"erro\")","v":"00000000000000000000000000000000000000000000"}]
[{"$f":"IFERROR(LEFT(Gerar_Upload!A2083,120),\"erro\")","v":""},{"$f":"IFERROR(SUBSTITUTE(SUBSTITUTE(SUBSTITUTE(Gerar_Upload!B2083,\".\",\"\"),\"-\",\"\"),\"/\",\"\"),\"erro\")","v":""},{"$f":"IFERROR(Gerar_Upload!C2083,\"erro\")","v":0},{"$f":"IFERROR(Gerar_Upload!D2083,\"erro\")","v":0},{"$f":"IFERROR(DATE(YEAR(Gerar_Upload!E2083),MONTH(Gerar_Upload!E2083),DAY(Gerar_Upload!E2083)),\"erro\")","v":"00:00:00"},{"$f":"IFERROR(Gerar_Upload!F2083,\"erro\")","v":0},{"$f":"IFERROR(IF(Gerar_Upload!G2083<44,REPT(0,44-LEN(Gerar_Upload!G2083))&Gerar_Upload!G2083,Gerar_Upload!G2083),\"erro\")","v":"00000000000000000000000000000000000000000000"}]
[{"$f":"IFERROR(LEFT(Gerar_Upload!A2084,120),\"erro\")","v":""},{"$f":"IFERROR(SUBSTITUTE(SUBSTITUTE(SUBSTITUTE(Gerar_Upload!B2084,\".\",\"\"),\"-\",\"\"),\"/\",\"\"),\"erro\")","v":""},{"$f":"IFERROR(Gerar_Upload!C2084,\"erro\")","v":0},{"$f":"IFERROR(Gerar_Upload!D2084,\"erro\")","v":0},{"$f":"IFERROR(DATE(YEAR(Gerar_Upload!E2084),MONTH(Gerar_Upload!E2084),DAY(Gerar_Upload!E2084)),\"erro\")","v":"00:00:00"},{"$f":"IFERROR(Gerar_Upload!F2084,\"erro\")","v":0},{"$f":"IFERROR(IF(Gerar_Upload!G2084<44,REPT(0,44-LEN(Gerar_Upload!G2084))&Gerar_Upload!G2084,Gerar_Upload!G2084),\"erro\")","v":"00000000000000000000000000000000000000000000"}]
[{"$f":"IFERROR(LEFT(Gerar_Upload!A2085,120),\"erro\")","v":""},{"$f":"IFERROR(SUBSTITUTE(SUBSTITUTE(SUBSTITUTE(Gerar_Upload!B2085,\".\",\"\"),\"-\",\"\"),\"/\",\"\"),\"erro\")","v":""},{"$f":"IFERROR(Gerar_Upload!C2085,\"erro\")","v":0},{"$f":"IFERROR(Gerar_Upload!D2085,\"erro\")","v":0},{"$f":"IFERROR(DATE(YEAR(Gerar_Upload!E2085),MONTH(Gerar_Upload!E2085),DAY(Gerar_Upload!E2085)),\"erro\")","v":"00:00:00"},{"$f":"IFERROR(Gerar_Upload!F2085,\"erro\")","v":0},{"$f":"IFERROR(IF(Gerar_Upload!G2085<44,REPT(0,44-LEN(Gerar_Upload!G2085))&Gerar_Upload!G2085,Gerar_Upload!G2085),\"erro\")","v":"00000000000000000000000000000000000000000000"}]
[{"$f":"IFERROR(LEFT(Gerar_Upload!A2086,120),\"erro\")","v":""},{"$f":"IFERROR(SUBSTITUTE(SUBSTITUTE(SUBSTITUTE(Gerar_Upload!B2086,\".\",\"\"),\"-\",\"\"),\"/\",\"\"),\"erro\")","v":""},{"$f":"IFERROR(Gerar_Upload!C2086,\"erro\")","v":0},{"$f":"IFERROR(Gerar_Upload!D2086,\"erro\")","v":0},{"$f":"IFERROR(DATE(YEAR(Gerar_Upload!E2086),MONTH(Gerar_Upload!E2086),DAY(Gerar_Upload!E2086)),\"erro\")","v":"00:00:00"},{"$f":"IFERROR(Gerar_Upload!F2086,\"erro\")","v":0},{"$f":"IFERROR(IF(Gerar_Upload!G2086<44,REPT(0,44-LEN(Gerar_Upload!G2086))&Gerar_Upload!G2086,Gerar_Upload!G2086),\"erro\")","v":"00000000000000000000000000000000000000000000"}]
[{"$f":"IFERROR(LEFT(Gerar_Upload!A2087,120),\"erro\")","v":""},{"$f":"IFERROR(SUBSTITUTE(SUBSTITUTE(SUBSTITUTE(Gerar_Upload!B2087,\".\",\"\"),\"-\",\"\"),\"/\",\"\"),\"erro\")","v":""},{"$f":"IFERROR(Gerar_Upload!C2087,\"erro\")","v":0},{"$f":"IFERROR(Gerar_Upload!D2087,\"erro\")","v":0},{"$f":"IFERROR(DATE(YEAR(Gerar_Upload!E2087),MONTH(Gerar_Upload!E2087),DAY(Gerar_Upload!E2087)),\"erro\")","v":"00:00:00"},{"$f":"IFERROR(Gerar_Upload!F2087,\"erro\")","v":0},{"$f":"IFERROR(IF(Gerar_Upload!G2087<44,REPT(0,44-LEN(Gerar_Upload!G2087))&Gerar_Upload!G2087,Gerar_Upload!G2087),\"erro\")","v":"00000000000000000000000000000000000000000000"}]
[{"$f":"IFERROR(LEFT(Gerar_Upload!A2088,120),\"erro\")","v":""},{"$f":"IFERROR(SUBSTITUTE(SUBSTITUTE(SUBSTITUTE(Gerar_Upload!B2088,\".\",\"\"),\"-\",\"\"),\"/\",\"\"),\"erro\")","v":""},{"$f":"IFERROR(Gerar_Upload!C2088,\"erro\")","v":0},{"$f":"IFERROR(Gerar_Upload!D2088,\"erro\")","v":0},{"$f":"IFERROR(DATE(YEAR(Gerar_Upload!E2088),MONTH(Gerar_Upload!E2088),DAY(Gerar_Upload!E2088)),\"erro\")","v":"00:00:00"},{"$f":"IFERROR(Gerar_Upload!F2088,\"erro\")","v":0},{"$f":"IFERROR(IF(Gerar_Upload!G2088<44,REPT(0,44-LEN(Gerar_Upload!G2088))&Gerar_Upload!G2088,Gerar_Upload!G2088),\"erro\")","v":"00000000000000000000000000000000000000000000"}]
[{"$f":"IFERROR(LEFT(Gerar_Upload!A2089,120),\"erro\")","v":""},{"$f":"IFERROR(SUBSTITUTE(SUBSTITUTE(SUBSTITUTE(Gerar_Upload!B2089,\".\",\"\"),\"-\",\"\"),\"/\",\"\"),\"erro\")","v":""},{"$f":"IFERROR(Gerar_Upload!C2089,\"erro\")","v":0},{"$f":"IFERROR(Gerar_Upload!D2089,\"erro\")","v":0},{"$f":"IFERROR(DATE(YEAR(Gerar_Upload!E2089),MONTH(Gerar_Upload!E2089),DAY(Gerar_Upload!E2089)),\"erro\")","v":"00:00:00"},{"$f":"IFERROR(Gerar_Upload!F2089,\"erro\")","v":0},{"$f":"IFERROR(IF(Gerar_Upload!G2089<44,REPT(0,44-LEN(Gerar_Upload!G2089))&Gerar_Upload!G2089,Gerar_Upload!G2089),\"erro\")","v":"00000000000000000000000000000000000000000000"}]
[{"$f":"IFERROR(LEFT(Gerar_Upload!A2090,120),\"erro\")","v":""},{"$f":"IFERROR(SUBSTITUTE(SUBSTITUTE(SUBSTITUTE(Gerar_Upload!B2090,\".\",\"\"),\"-\",\"\"),\"/\",\"\"),\"erro\")","v":""},{"$f":"IFERROR(Gerar_Upload!C2090,\"erro\")","v":0},{"$f":"IFERROR(Gerar_Upload!D2090,\"erro\")","v":0},{"$f":"IFERROR(DATE(YEAR(Gerar_Upload!E2090),MONTH(Gerar_Upload!E2090),DAY(Gerar_Upload!E2090)),\"erro\")","v":"00:00:00"},{"$f":"IFERROR(Gerar_Upload!F2090,\"erro\")","v":0},{"$f":"IFERROR(IF(Gerar_Upload!G2090<44,REPT(0,44-LEN(Gerar_Upload!G2090))&Gerar_Upload!G2090,Gerar_Upload!G2090),\"erro\")","v":"00000000000000000000000000000000000000000000"}]
[{"$f":"IFERROR(LEFT(Gerar_Upload!A2091,120),\"erro\")","v":""},{"$f":"IFERROR(SUBSTITUTE(SUBSTITUTE(SUBSTITUTE(Gerar_Upload!B2091,\".\",\"\"),\"-\",\"\"),\"/\",\"\"),\"erro\")","v":""},{"$f":"IFERROR(Gerar_Upload!C2091,\"erro\")","v":0},{"$f":"IFERROR(Gerar_Upload!D2091,\"erro\")","v":0},{"$f":"IFERROR(DATE(YEAR(Gerar_Upload!E2091),MONTH(Gerar_Upload!E2091),DAY(Gerar_Upload!E2091)),\"erro\")","v":"00:00:00"},{"$f":"IFERROR(Gerar_Upload!F2091,\"erro\")","v":0},{"$f":"IFERROR(IF(Gerar_Upload!G2091<44,REPT(0,44-LEN(Gerar_Upload!G2091))&Gerar_Upload!G2091,Gerar_Upload!G2091),\"erro\")","v":"00000000000000000000000000000000000000000000"}]
[{"$f":"IFERROR(LEFT(Gerar_Upload!A2092,120),\"erro\")","v":""},{"$f":"IFERROR(SUBSTITUTE(SUBSTITUTE(SUBSTITUTE(Gerar_Upload!B2092,\".\",\"\"),\"-\",\"\"),\"/\",\"\"),\"erro\")","v":""},{"$f":"IFERROR(Gerar_Upload!C2092,\"erro\")","v":0},{"$f":"IFERROR(Gerar_Upload!D2092,\"erro\")","v":0},{"$f":"IFERROR(DATE(YEAR(Gerar_Upload!E2092),MONTH(Gerar_Upload!E2092),DAY(Gerar_Upload!E2092)),\"erro\")","v":"00:00:00"},{"$f":"IFERROR(Gerar_Upload!F2092,\"erro\")","v":0},{"$f":"IFERROR(IF(Gerar_Upload!G2092<44,REPT(0,44-LEN(Gerar_Upload!G2092))&Gerar_Upload!G2092,Gerar_Upload!G2092),\"erro\")","v":"00000000000000000000000000000000000000000000"}]
[{"$f":"IFERROR(LEFT(Gerar_Upload!A2093,120),\"erro\")","v":""},{"$f":"IFERROR(SUBSTITUTE(SUBSTITUTE(SUBSTITUTE(Gerar_Upload!B2093,\".\",\"\"),\"-\",\"\"),\"/\",\"\"),\"erro\")","v":""},{"$f":"IFERROR(Gerar_Upload!C2093,\"erro\")","v":0},{"$f":"IFERROR(Gerar_Upload!D2093,\"erro\")","v":0},{"$f":"IFERROR(DATE(YEAR(Gerar_Upload!E2093),MONTH(Gerar_Upload!E2093),DAY(Gerar_Upload!E2093)),\"erro\")","v":"00:00:00"},{"$f":"IFERROR(Gerar_Upload!F2093,\"erro\")","v":0},{"$f":"IFERROR(IF(Gerar_Upload!G2093<44,REPT(0,44-LEN(Gerar_Upload!G2093))&Gerar_Upload!G2093,Gerar_Upload!G2093),\"erro\")","v":"00000000000000000000000000000000000000000000"}]
[{"$f":"IFERROR(LEFT(Gerar_Upload!A2094,120),\"erro\")","v":""},{"$f":"IFERROR(SUBSTITUTE(SUBSTITUTE(SUBSTITUTE(Gerar_Upload!B2094,\".\",\"\"),\"-\",\"\"),\"/\",\"\"),\"erro\")","v":""},{"$f":"IFERROR(Gerar_Upload!C2094,\"erro\")","v":0},{"$f":"IFERROR(Gerar_Upload!D2094,\"erro\")","v":0},{"$f":"IFERROR(DATE(YEAR(Gerar_Upload!E2094),MONTH(Gerar_Upload!E2094),DAY(Gerar_Upload!E2094)),\"erro\")","v":"00:00:00"},{"$f":"IFERROR(Gerar_Upload!F2094,\"erro\")","v":0},{"$f":"IFERROR(IF(Gerar_Upload!G2094<44,REPT(0,44-LEN(Gerar_Upload!G2094))&Gerar_Upload!G2094,Gerar_Upload!G2094),\"erro\")","v":"00000000000000000000000000000000000000000000"}]
[{"$f":"IFERROR(LEFT(Gerar_Upload!A2095,120),\"erro\")","v":""},{"$f":"IFERROR(SUBSTITUTE(SUBSTITUTE(SUBSTITUTE(Gerar_Upload!B2095,\".\",\"\"),\"-\",\"\"),\"/\",\"\"),\"erro\")","v":""},{"$f":"IFERROR(Gerar_Upload!C2095,\"erro\")","v":0},{"$f":"IFERROR(Gerar_Upload!D2095,\"erro\")","v":0},{"$f":"IFERROR(DATE(YEAR(Gerar_Upload!E2095),MONTH(Gerar_Upload!E2095),DAY(Gerar_Upload!E2095)),\"erro\")","v":"00:00:00"},{"$f":"IFERROR(Gerar_Upload!F2095,\"erro\")","v":0},{"$f":"IFERROR(IF(Gerar_Upload!G2095<44,REPT(0,44-LEN(Gerar_Upload!G2095))&Gerar_Upload!G2095,Gerar_Upload!G2095),\"erro\")","v":"00000000000000000000000000000000000000000000"}]
[{"$f":"IFERROR(LEFT(Gerar_Upload!A2096,120),\"erro\")","v":""},{"$f":"IFERROR(SUBSTITUTE(SUBSTITUTE(SUBSTITUTE(Gerar_Upload!B2096,\".\",\"\"),\"-\",\"\"),\"/\",\"\"),\"erro\")","v":""},{"$f":"IFERROR(Gerar_Upload!C2096,\"erro\")","v":0},{"$f":"IFERROR(Gerar_Upload!D2096,\"erro\")","v":0},{"$f":"IFERROR(DATE(YEAR(Gerar_Upload!E2096),MONTH(Gerar_Upload!E2096),DAY(Gerar_Upload!E2096)),\"erro\")","v":"00:00:00"},{"$f":"IFERROR(Gerar_Upload!F2096,\"erro\")","v":0},{"$f":"IFERROR(IF(Gerar_Upload!G2096<44,REPT(0,44-LEN(Gerar_Upload!G2096))&Gerar_Upload!G2096,Gerar_Upload!G2096),\"erro\")","v":"00000000000000000000000000000000000000000000"}]
[{"$f":"IFERROR(LEFT(Gerar_Upload!A2097,120),\"erro\")","v":""},{"$f":"IFERROR(SUBSTITUTE(SUBSTITUTE(SUBSTITUTE(Gerar_Upload!B2097,\".\",\"\"),\"-\",\"\"),\"/\",\"\"),\"erro\")","v":""},{"$f":"IFERROR(Gerar_Upload!C2097,\"erro\")","v":0},{"$f":"IFERROR(Gerar_Upload!D2097,\"erro\")","v":0},{"$f":"IFERROR(DATE(YEAR(Gerar_Upload!E2097),MONTH(Gerar_Upload!E2097),DAY(Gerar_Upload!E2097)),\"erro\")","v":"00:00:00"},{"$f":"IFERROR(Gerar_Upload!F2097,\"erro\")","v":0},{"$f":"IFERROR(IF(Gerar_Upload!G2097<44,REPT(0,44-LEN(Gerar_Upload!G2097))&Gerar_Upload!G2097,Gerar_Upload!G2097),\"erro\")","v":"00000000000000000000000000000000000000000000"}]
[{"$f":"IFERROR(LEFT(Gerar_Upload!A2098,120),\"erro\")","v":""},{"$f":"IFERROR(SUBSTITUTE(SUBSTITUTE(SUBSTITUTE(Gerar_Upload!B2098,\".\",\"\"),\"-\",\"\"),\"/\",\"\"),\"erro\")","v":""},{"$f":"IFERROR(Gerar_Upload!C2098,\"erro\")","v":0},{"$f":"IFERROR(Gerar_Upload!D2098,\"erro\")","v":0},{"$f":"IFERROR(DATE(YEAR(Gerar_Upload!E2098),MONTH(Gerar_Upload!E2098),DAY(Gerar_Upload!E2098)),\"erro\")","v":"00:00:00"},{"$f":"IFERROR(Gerar_Upload!F2098,\"erro\")","v":0},{"$f":"IFERROR(IF(Gerar_Upload!G2098<44,REPT(0,44-LEN(Gerar_Upload!G2098))&Gerar_Upload!G2098,Gerar_Upload!G2098),\"erro\")","v":"00000000000000000000000000000000000000000000"}]
[{"$f":"IFERROR(LEFT(Gerar_Upload!A2099,120),\"erro\")","v":""},{"$f":"IFERROR(SUBSTITUTE(SUBSTITUTE(SUBSTITUTE(Gerar_Upload!B2099,\".\",\"\"),\"-\",\"\"),\"/\",\"\"),\"erro\")","v":""},{"$f":"IFERROR(Gerar_Upload!C2099,\"erro\")","v":0},{"$f":"IFERROR(Gerar_Upload!D2099,\"erro\")","v":0},{"$f":"IFERROR(DATE(YEAR(Gerar_Upload!E2099),MONTH(Gerar_Upload!E2099),DAY(Gerar_Upload!E2099)),\"erro\")","v":"00:00:00"},{"$f":"IFERROR(Gerar_Upload!F2099,\"erro\")","v":0},{"$f":"IFERROR(IF(Gerar_Upload!G2099<44,REPT(0,44-LEN(Gerar_Upload!G2099))&Gerar_Upload!G2099,Gerar_Upload!G2099),\"erro\")","v":"00000000000000000000000000000000000000000000"}]
[{"$f":"IFERROR(LEFT(Gerar_Upload!A2100,120),\"erro\")","v":""},{"$f":"IFERROR(SUBSTITUTE(SUBSTITUTE(SUBSTITUTE(Gerar_Upload!B2100,\".\",\"\"),\"-\",\"\"),\"/\",\"\"),\"erro\")","v":""},{"$f":"IFERROR(Gerar_Upload!C2100,\"erro\")","v":0},{"$f":"IFERROR(Gerar_Upload!D2100,\"erro\")","v":0},{"$f":"IFERROR(DATE(YEAR(Gerar_Upload!E2100),MONTH(Gerar_Upload!E2100),DAY(Gerar_Upload!E2100)),\"erro\")","v":"00:00:00"},{"$f":"IFERROR(Gerar_Upload!F2100,\"erro\")","v":0},{"$f":"IFERROR(IF(Gerar_Upload!G2100<44,REPT(0,44-LEN(Gerar_Upload!G2100))&Gerar_Upload!G2100,Gerar_Upload!G2100),\"erro\")","v":"00000000000000000000000000000000000000000000"}]
[{"$f":"IFERROR(LEFT(Gerar_Upload!A2101,120),\"erro\")","v":""},{"$f":"IFERROR(SUBSTITUTE(SUBSTITUTE(SUBSTITUTE(Gerar_Upload!B2101,\".\",\"\"),\"-\",\"\"),\"/\",\"\"),\"erro\")","v":""},{"$f":"IFERROR(Gerar_Upload!C2101,\"erro\")","v":0},{"$f":"IFERROR(Gerar_Upload!D2101,\"erro\")","v":0},{"$f":"IFERROR(DATE(YEAR(Gerar_Upload!E2101),MONTH(Gerar_Upload!E2101),DAY(Gerar_Upload!E2101)),\"erro\")","v":"00:00:00"},{"$f":"IFERROR(Gerar_Upload!F2101,\"erro\")","v":0},{"$f":"IFERROR(IF(Gerar_Upload!G2101<44,REPT(0,44-LEN(Gerar_Upload!G2101))&Gerar_Upload!G2101,Gerar_Upload!G2101),\"erro\")","v":"00000000000000000000000000000000000000000000"}]
[{"$f":"IFERROR(LEFT(Gerar_Upload!A2102,120),\"erro\")","v":""},{"$f":"IFERROR(SUBSTITUTE(SUBSTITUTE(SUBSTITUTE(Gerar_Upload!B2102,\".\",\"\"),\"-\",\"\"),\"/\",\"\"),\"erro\")","v":""},{"$f":"IFERROR(Gerar_Upload!C2102,\"erro\")","v":0},{"$f":"IFERROR(Gerar_Upload!D2102,\"erro\")","v":0},{"$f":"IFERROR(DATE(YEAR(Gerar_Upload!E2102),MONTH(Gerar_Upload!E2102),DAY(Gerar_Upload!E2102)),\"erro\")","v":"00:00:00"},{"$f":"IFERROR(Gerar_Upload!F2102,\"erro\")","v":0},{"$f":"IFERROR(IF(Gerar_Upload!G2102<44,REPT(0,44-LEN(Gerar_Upload!G2102))&Gerar_Upload!G2102,Gerar_Upload!G2102),\"erro\")","v":"00000000000000000000000000000000000000000000"}]
[{"$f":"IFERROR(LEFT(Gerar_Upload!A2103,120),\"erro\")","v":""},{"$f":"IFERROR(SUBSTITUTE(SUBSTITUTE(SUBSTITUTE(Gerar_Upload!B2103,\".\",\"\"),\"-\",\"\"),\"/\",\"\"),\"erro\")","v":""},{"$f":"IFERROR(Gerar_Upload!C2103,\"erro\")","v":0},{"$f":"IFERROR(Gerar_Upload!D2103,\"erro\")","v":0},{"$f":"IFERROR(DATE(YEAR(Gerar_Upload!E2103),MONTH(Gerar_Upload!E2103),DAY(Gerar_Upload!E2103)),\"erro\")","v":"00:00:00"},{"$f":"IFERROR(Gerar_Upload!F2103,\"erro\")","v":0},{"$f":"IFERROR(IF(Gerar_Upload!G2103<44,REPT(0,44-LEN(Gerar_Upload!G2103))&Gerar_Upload!G2103,Gerar_Upload!G2103),\"erro\")","v":"00000000000000000000000000000000000000000000"}]
[{"$f":"IFERROR(LEFT(Gerar_Upload!A2104,120),\"erro\")","v":""},{"$f":"IFERROR(SUBSTITUTE(SUBSTITUTE(SUBSTITUTE(Gerar_Upload!B2104,\".\",\"\"),\"-\",\"\"),\"/\",\"\"),\"erro\")","v":""},{"$f":"IFERROR(Gerar_Upload!C2104,\"erro\")","v":0},{"$f":"IFERROR(Gerar_Upload!D2104,\"erro\")","v":0},{"$f":"IFERROR(DATE(YEAR(Gerar_Upload!E2104),MONTH(Gerar_Upload!E2104),DAY(Gerar_Upload!E2104)),\"erro\")","v":"00:00:00"},{"$f":"IFERROR(Gerar_Upload!F2104,\"erro\")","v":0},{"$f":"IFERROR(IF(Gerar_Upload!G2104<44,REPT(0,44-LEN(Gerar_Upload!G2104))&Gerar_Upload!G2104,Gerar_Upload!G2104),\"erro\")","v":"00000000000000000000000000000000000000000000"}]
[{"$f":"IFERROR(LEFT(Gerar_Upload!A2105,120),\"erro\")","v":""},{"$f":"IFERROR(SUBSTITUTE(SUBSTITUTE(SUBSTITUTE(Gerar_Upload!B2105,\".\",\"\"),\"-\",\"\"),\"/\",\"\"),\"erro\")","v":""},{"$f":"IFERROR(Gerar_Upload!C2105,\"erro\")","v":0},{"$f":"IFERROR(Gerar_Upload!D2105,\"erro\")","v":0},{"$f":"IFERROR(DATE(YEAR(Gerar_Upload!E2105),MONTH(Gerar_Upload!E2105),DAY(Gerar_Upload!E2105)),\"erro\")","v":"00:00:00"},{"$f":"IFERROR(Gerar_Upload!F2105,\"erro\")","v":0},{"$f":"IFERROR(IF(Gerar_Upload!G2105<44,REPT(0,44-LEN(Gerar_Upload!G2105))&Gerar_Upload!G2105,Gerar_Upload!G2105),\"erro\")","v":"00000000000000000000000000000000000000000000"}]
[{"$f":"IFERROR(LEFT(Gerar_Upload!A2106,120),\"erro\")","v":""},{"$f":"IFERROR(SUBSTITUTE(SUBSTITUTE(SUBSTITUTE(Gerar_Upload!B2106,\".\",\"\"),\"-\",\"\"),\"/\",\"\"),\"erro\")","v":""},{"$f":"IFERROR(Gerar_Upload!C2106,\"erro\")","v":0},{"$f":"IFERROR(Gerar_Upload!D2106,\"erro\")","v":0},{"$f":"IFERROR(DATE(YEAR(Gerar_Upload!E2106),MONTH(Gerar_Upload!E2106),DAY(Gerar_Upload!E2106)),\"erro\")","v":"00:00:00"},{"$f":"IFERROR(Gerar_Upload!F2106,\"erro\")","v":0},{"$f":"IFERROR(IF(Gerar_Upload!G2106<44,REPT(0,44-LEN(Gerar_Upload!G2106))&Gerar_Upload!G2106,Gerar_Upload!G2106),\"erro\")","v":"00000000000000000000000000000000000000000000"}]
[{"$f":"IFERROR(LEFT(Gerar_Upload!A2107,120),\"erro\")","v":""},{"$f":"IFERROR(SUBSTITUTE(SUBSTITUTE(SUBSTITUTE(Gerar_Upload!B2107,\".\",\"\"),\"-\",\"\"),\"/\",\"\"),\"erro\")","v":""},{"$f":"IFERROR(Gerar_Upload!C2107,\"erro\")","v":0},{"$f":"IFERROR(Gerar_Upload!D2107,\"erro\")","v":0},{"$f":"IFERROR(DATE(YEAR(Gerar_Upload!E2107),MONTH(Gerar_Upload!E2107),DAY(Gerar_Upload!E2107)),\"erro\")","v":"00:00:00"},{"$f":"IFERROR(Gerar_Upload!F2107,\"erro\")","v":0},{"$f":"IFERROR(IF(Gerar_Upload!G2107<44,REPT(0,44-LEN(Gerar_Upload!G2107))&Gerar_Upload!G2107,Gerar_Upload!G2107),\"erro\")","v":"00000000000000000000000000000000000000000000"}]
[{"$f":"IFERROR(LEFT(Gerar_Upload!A2108,120),\"erro\")","v":""},{"$f":"IFERROR(SUBSTITUTE(SUBSTITUTE(SUBSTITUTE(Gerar_Upload!B2108,\".\",\"\"),\"-\",\"\"),\"/\",\"\"),\"erro\")","v":""},{"$f":"IFERROR(Gerar_Upload!C2108,\"erro\")","v":0},{"$f":"IFERROR(Gerar_Upload!D2108,\"erro\")","v":0},{"$f":"IFERROR(DATE(YEAR(Gerar_Upload!E2108),MONTH(Gerar_Upload!E2108),DAY(Gerar_Upload!E2108)),\"erro\")","v":"00:00:00"},{"$f":"IFERROR(Gerar_Upload!F2108,\"erro\")","v":0},{"$f":"IFERROR(IF(Gerar_Upload!G2108<44,REPT(0,44-LEN(Gerar_Upload!G2108))&Gerar_Upload!G2108,Gerar_Upload!G2108),\"erro\")","v":"00000000000000000000000000000000000000000000"}]
[{"$f":"IFERROR(LEFT(Gerar_Upload!A2109,120),\"erro\")","v":""},{"$f":"IFERROR(SUBSTITUTE(SUBSTITUTE(SUBSTITUTE(Gerar_Upload!B2109,\".\",\"\"),\"-\",\"\"),\"/\",\"\"),\"erro\")","v":""},{"$f":"IFERROR(Gerar_Upload!C2109,\"erro\")","v":0},{"$f":"IFERROR(Gerar_Upload!D2109,\"erro\")","v":0},{"$f":"IFERROR(DATE(YEAR(Gerar_Upload!E2109),MONTH(Gerar_Upload!E2109),DAY(Gerar_Upload!E2109)),\"erro\")","v":"00:00:00"},{"$f":"IFERROR(Gerar_Upload!F2109,\"erro\")","v":0},{"$f":"IFERROR(IF(Gerar_Upload!G2109<44,REPT(0,44-LEN(Gerar_Upload!G2109))&Gerar_Upload!G2109,Gerar_Upload!G2109),\"erro\")","v":"00000000000000000000000000000000000000000000"}]
[{"$f":"IFERROR(LEFT(Gerar_Upload!A2110,120),\"erro\")","v":""},{"$f":"IFERROR(SUBSTITUTE(SUBSTITUTE(SUBSTITUTE(Gerar_Upload!B2110,\".\",\"\"),\"-\",\"\"),\"/\",\"\"),\"erro\")","v":""},{"$f":"IFERROR(Gerar_Upload!C2110,\"erro\")","v":0},{"$f":"IFERROR(Gerar_Upload!D2110,\"erro\")","v":0},{"$f":"IFERROR(DATE(YEAR(Gerar_Upload!E2110),MONTH(Gerar_Upload!E2110),DAY(Gerar_Upload!E2110)),\"erro\")","v":"00:00:00"},{"$f":"IFERROR(Gerar_Upload!F2110,\"erro\")","v":0},{"$f":"IFERROR(IF(Gerar_Upload!G2110<44,REPT(0,44-LEN(Gerar_Upload!G2110))&Gerar_Upload!G2110,Gerar_Upload!G2110),\"erro\")","v":"00000000000000000000000000000000000000000000"}]
[{"$f":"IFERROR(LEFT(Gerar_Upload!A2111,120),\"erro\")","v":""},{"$f":"IFERROR(SUBSTITUTE(SUBSTITUTE(SUBSTITUTE(Gerar_Upload!B2111,\".\",\"\"),\"-\",\"\"),\"/\",\"\"),\"erro\")","v":""},{"$f":"IFERROR(Gerar_Upload!C2111,\"erro\")","v":0},{"$f":"IFERROR(Gerar_Upload!D2111,\"erro\")","v":0},{"$f":"IFERROR(DATE(YEAR(Gerar_Upload!E2111),MONTH(Gerar_Upload!E2111),DAY(Gerar_Upload!E2111)),\"erro\")","v":"00:00:00"},{"$f":"IFERROR(Gerar_Upload!F2111,\"erro\")","v":0},{"$f":"IFERROR(IF(Gerar_Upload!G2111<44,REPT(0,44-LEN(Gerar_Upload!G2111))&Gerar_Upload!G2111,Gerar_Upload!G2111),\"erro\")","v":"00000000000000000000000000000000000000000000"}]
[{"$f":"IFERROR(LEFT(Gerar_Upload!A2112,120),\"erro\")","v":""},{"$f":"IFERROR(SUBSTITUTE(SUBSTITUTE(SUBSTITUTE(Gerar_Upload!B2112,\".\",\"\"),\"-\",\"\"),\"/\",\"\"),\"erro\")","v":""},{"$f":"IFERROR(Gerar_Upload!C2112,\"erro\")","v":0},{"$f":"IFERROR(Gerar_Upload!D2112,\"erro\")","v":0},{"$f":"IFERROR(DATE(YEAR(Gerar_Upload!E2112),MONTH(Gerar_Upload!E2112),DAY(Gerar_Upload!E2112)),\"erro\")","v":"00:00:00"},{"$f":"IFERROR(Gerar_Upload!F2112,\"erro\")","v":0},{"$f":"IFERROR(IF(Gerar_Upload!G2112<44,REPT(0,44-LEN(Gerar_Upload!G2112))&Gerar_Upload!G2112,Gerar_Upload!G2112),\"erro\")","v":"00000000000000000000000000000000000000000000"}]
[{"$f":"IFERROR(LEFT(Gerar_Upload!A2113,120),\"erro\")","v":""},{"$f":"IFERROR(SUBSTITUTE(SUBSTITUTE(SUBSTITUTE(Gerar_Upload!B2113,\".\",\"\"),\"-\",\"\"),\"/\",\"\"),\"erro\")","v":""},{"$f":"IFERROR(Gerar_Upload!C2113,\"erro\")","v":0},{"$f":"IFERROR(Gerar_Upload!D2113,\"erro\")","v":0},{"$f":"IFERROR(DATE(YEAR(Gerar_Upload!E2113),MONTH(Gerar_Upload!E2113),DAY(Gerar_Upload!E2113)),\"erro\")","v":"00:00:00"},{"$f":"IFERROR(Gerar_Upload!F2113,\"erro\")","v":0},{"$f":"IFERROR(IF(Gerar_Upload!G2113<44,REPT(0,44-LEN(Gerar_Upload!G2113))&Gerar_Upload!G2113,Gerar_Upload!G2113),\"erro\")","v":"00000000000000000000000000000000000000000000"}]
[{"$f":"IFERROR(LEFT(Gerar_Upload!A2114,120),\"erro\")","v":""},{"$f":"IFERROR(SUBSTITUTE(SUBSTITUTE(SUBSTITUTE(Gerar_Upload!B2114,\".\",\"\"),\"-\",\"\"),\"/\",\"\"),\"erro\")","v":""},{"$f":"IFERROR(Gerar_Upload!C2114,\"erro\")","v":0},{"$f":"IFERROR(Gerar_Upload!D2114,\"erro\")","v":0},{"$f":"IFERROR(DATE(YEAR(Gerar_Upload!E2114),MONTH(Gerar_Upload!E2114),DAY(Gerar_Upload!E2114)),\"erro\")","v":"00:00:00"},{"$f":"IFERROR(Gerar_Upload!F2114,\"erro\")","v":0},{"$f":"IFERROR(IF(Gerar_Upload!G2114<44,REPT(0,44-LEN(Gerar_Upload!G2114))&Gerar_Upload!G2114,Gerar_Upload!G2114),\"erro\")","v":"00000000000000000000000000000000000000000000"}]
[{"$f":"IFERROR(LEFT(Gerar_Upload!A2115,120),\"erro\")","v":""},{"$f":"IFERROR(SUBSTITUTE(SUBSTITUTE(SUBSTITUTE(Gerar_Upload!B2115,\".\",\"\"),\"-\",\"\"),\"/\",\"\"),\"erro\")","v":""},{"$f":"IFERROR(Gerar_Upload!C2115,\"erro\")","v":0},{"$f":"IFERROR(Gerar_Upload!D2115,\"erro\")","v":0},{"$f":"IFERROR(DATE(YEAR(Gerar_Upload!E2115),MONTH(Gerar_Upload!E2115),DAY(Gerar_Upload!E2115)),\"erro\")","v":"00:00:00"},{"$f":"IFERROR(Gerar_Upload!F2115,\"erro\")","v":0},{"$f":"IFERROR(IF(Gerar_Upload!G2115<44,REPT(0,44-LEN(Gerar_Upload!G2115))&Gerar_Upload!G2115,Gerar_Upload!G2115),\"erro\")","v":"00000000000000000000000000000000000000000000"}]
[{"$f":"IFERROR(LEFT(Gerar_Upload!A2116,120),\"erro\")","v":""},{"$f":"IFERROR(SUBSTITUTE(SUBSTITUTE(SUBSTITUTE(Gerar_Upload!B2116,\".\",\"\"),\"-\",\"\"),\"/\",\"\"),\"erro\")","v":""},{"$f":"IFERROR(Gerar_Upload!C2116,\"erro\")","v":0},{"$f":"IFERROR(Gerar_Upload!D2116,\"erro\")","v":0},{"$f":"IFERROR(DATE(YEAR(Gerar_Upload!E2116),MONTH(Gerar_Upload!E2116),DAY(Gerar_Upload!E2116)),\"erro\")","v":"00:00:00"},{"$f":"IFERROR(Gerar_Upload!F2116,\"erro\")","v":0},{"$f":"IFERROR(IF(Gerar_Upload!G2116<44,REPT(0,44-LEN(Gerar_Upload!G2116))&Gerar_Upload!G2116,Gerar_Upload!G2116),\"erro\")","v":"00000000000000000000000000000000000000000000"}]
[{"$f":"IFERROR(LEFT(Gerar_Upload!A2117,120),\"erro\")","v":""},{"$f":"IFERROR(SUBSTITUTE(SUBSTITUTE(SUBSTITUTE(Gerar_Upload!B2117,\".\",\"\"),\"-\",\"\"),\"/\",\"\"),\"erro\")","v":""},{"$f":"IFERROR(Gerar_Upload!C2117,\"erro\")","v":0},{"$f":"IFERROR(Gerar_Upload!D2117,\"erro\")","v":0},{"$f":"IFERROR(DATE(YEAR(Gerar_Upload!E2117),MONTH(Gerar_Upload!E2117),DAY(Gerar_Upload!E2117)),\"erro\")","v":"00:00:00"},{"$f":"IFERROR(Gerar_Upload!F2117,\"erro\")","v":0},{"$f":"IFERROR(IF(Gerar_Upload!G2117<44,REPT(0,44-LEN(Gerar_Upload!G2117))&Gerar_Upload!G2117,Gerar_Upload!G2117),\"erro\")","v":"00000000000000000000000000000000000000000000"}]
[{"$f":"IFERROR(LEFT(Gerar_Upload!A2118,120),\"erro\")","v":""},{"$f":"IFERROR(SUBSTITUTE(SUBSTITUTE(SUBSTITUTE(Gerar_Upload!B2118,\".\",\"\"),\"-\",\"\"),\"/\",\"\"),\"erro\")","v":""},{"$f":"IFERROR(Gerar_Upload!C2118,\"erro\")","v":0},{"$f":"IFERROR(Gerar_Upload!D2118,\"erro\")","v":0},{"$f":"IFERROR(DATE(YEAR(Gerar_Upload!E2118),MONTH(Gerar_Upload!E2118),DAY(Gerar_Upload!E2118)),\"erro\")","v":"00:00:00"},{"$f":"IFERROR(Gerar_Upload!F2118,\"erro\")","v":0},{"$f":"IFERROR(IF(Gerar_Upload!G2118<44,REPT(0,44-LEN(Gerar_Upload!G2118))&Gerar_Upload!G2118,Gerar_Upload!G2118),\"erro\")","v":"00000000000000000000000000000000000000000000"}]
[{"$f":"IFERROR(LEFT(Gerar_Upload!A2119,120),\"erro\")","v":""},{"$f":"IFERROR(SUBSTITUTE(SUBSTITUTE(SUBSTITUTE(Gerar_Upload!B2119,\".\",\"\"),\"-\",\"\"),\"/\",\"\"),\"erro\")","v":""},{"$f":"IFERROR(Gerar_Upload!C2119,\"erro\")","v":0},{"$f":"IFERROR(Gerar_Upload!D2119,\"erro\")","v":0},{"$f":"IFERROR(DATE(YEAR(Gerar_Upload!E2119),MONTH(Gerar_Upload!E2119),DAY(Gerar_Upload!E2119)),\"erro\")","v":"00:00:00"},{"$f":"IFERROR(Gerar_Upload!F2119,\"erro\")","v":0},{"$f":"IFERROR(IF(Gerar_Upload!G2119<44,REPT(0,44-LEN(Gerar_Upload!G2119))&Gerar_Upload!G2119,Gerar_Upload!G2119),\"erro\")","v":"00000000000000000000000000000000000000000000"}]
[{"$f":"IFERROR(LEFT(Gerar_Upload!A2120,120),\"erro\")","v":""},{"$f":"IFERROR(SUBSTITUTE(SUBSTITUTE(SUBSTITUTE(Gerar_Upload!B2120,\".\",\"\"),\"-\",\"\"),\"/\",\"\"),\"erro\")","v":""},{"$f":"IFERROR(Gerar_Upload!C2120,\"erro\")","v":0},{"$f":"IFERROR(Gerar_Upload!D2120,\"erro\")","v":0},{"$f":"IFERROR(DATE(YEAR(Gerar_Upload!E2120),MONTH(Gerar_Upload!E2120),DAY(Gerar_Upload!E2120)),\"erro\")","v":"00:00:00"},{"$f":"IFERROR(Gerar_Upload!F2120,\"erro\")","v":0},{"$f":"IFERROR(IF(Gerar_Upload!G2120<44,REPT(0,44-LEN(Gerar_Upload!G2120))&Gerar_Upload!G2120,Gerar_Upload!G2120),\"erro\")","v":"00000000000000000000000000000000000000000000"}]
[{"$f":"IFERROR(LEFT(Gerar_Upload!A2121,120),\"erro\")","v":""},{"$f":"IFERROR(SUBSTITUTE(SUBSTITUTE(SUBSTITUTE(Gerar_Upload!B2121,\".\",\"\"),\"-\",\"\"),\"/\",\"\"),\"erro\")","v":""},{"$f":"IFERROR(Gerar_Upload!C2121,\"erro\")","v":0},{"$f":"IFERROR(Gerar_Upload!D2121,\"erro\")","v":0},{"$f":"IFERROR(DATE(YEAR(Gerar_Upload!E2121),MONTH(Gerar_Upload!E2121),DAY(Gerar_Upload!E2121)),\"erro\")","v":"00:00:00"},{"$f":"IFERROR(Gerar_Upload!F2121,\"erro\")","v":0},{"$f":"IFERROR(IF(Gerar_Upload!G2121<44,REPT(0,44-LEN(Gerar_Upload!G2121))&Gerar_Upload!G2121,Gerar_Upload!G2121),\"erro\")","v":"00000000000000000000000000000000000000000000"}]
[{"$f":"IFERROR(LEFT(Gerar_Upload!A2122,120),\"erro\")","v":""},{"$f":"IFERROR(SUBSTITUTE(SUBSTITUTE(SUBSTITUTE(Gerar_Upload!B2122,\".\",\"\"),\"-\",\"\"),\"/\",\"\"),\"erro\")","v":""},{"$f":"IFERROR(Gerar_Upload!C2122,\"erro\")","v":0},{"$f":"IFERROR(Gerar_Upload!D2122,\"erro\")","v":0},{"$f":"IFERROR(DATE(YEAR(Gerar_Upload!E2122),MONTH(Gerar_Upload!E2122),DAY(Gerar_Upload!E2122)),\"erro\")","v":"00:00:00"},{"$f":"IFERROR(Gerar_Upload!F2122,\"erro\")","v":0},{"$f":"IFERROR(IF(Gerar_Upload!G2122<44,REPT(0,44-LEN(Gerar_Upload!G2122))&Gerar_Upload!G2122,Gerar_Upload!G2122),\"erro\")","v":"00000000000000000000000000000000000000000000"}]
[{"$f":"IFERROR(LEFT(Gerar_Upload!A2123,120),\"erro\")","v":""},{"$f":"IFERROR(SUBSTITUTE(SUBSTITUTE(SUBSTITUTE(Gerar_Upload!B2123,\".\",\"\"),\"-\",\"\"),\"/\",\"\"),\"erro\")","v":""},{"$f":"IFERROR(Gerar_Upload!C2123,\"erro\")","v":0},{"$f":"IFERROR(Gerar_Upload!D2123,\"erro\")","v":0},{"$f":"IFERROR(DATE(YEAR(Gerar_Upload!E2123),MONTH(Gerar_Upload!E2123),DAY(Gerar_Upload!E2123)),\"erro\")","v":"00:00:00"},{"$f":"IFERROR(Gerar_Upload!F2123,\"erro\")","v":0},{"$f":"IFERROR(IF(Gerar_Upload!G2123<44,REPT(0,44-LEN(Gerar_Upload!G2123))&Gerar_Upload!G2123,Gerar_Upload!G2123),\"erro\")","v":"00000000000000000000000000000000000000000000"}]
[{"$f":"IFERROR(LEFT(Gerar_Upload!A2124,120),\"erro\")","v":""},{"$f":"IFERROR(SUBSTITUTE(SUBSTITUTE(SUBSTITUTE(Gerar_Upload!B2124,\".\",\"\"),\"-\",\"\"),\"/\",\"\"),\"erro\")","v":""},{"$f":"IFERROR(Gerar_Upload!C2124,\"erro\")","v":0},{"$f":"IFERROR(Gerar_Upload!D2124,\"erro\")","v":0},{"$f":"IFERROR(DATE(YEAR(Gerar_Upload!E2124),MONTH(Gerar_Upload!E2124),DAY(Gerar_Upload!E2124)),\"erro\")","v":"00:00:00"},{"$f":"IFERROR(Gerar_Upload!F2124,\"erro\")","v":0},{"$f":"IFERROR(IF(Gerar_Upload!G2124<44,REPT(0,44-LEN(Gerar_Upload!G2124))&Gerar_Upload!G2124,Gerar_Upload!G2124),\"erro\")","v":"00000000000000000000000000000000000000000000"}]
[{"$f":"IFERROR(LEFT(Gerar_Upload!A2125,120),\"erro\")","v":""},{"$f":"IFERROR(SUBSTITUTE(SUBSTITUTE(SUBSTITUTE(Gerar_Upload!B2125,\".\",\"\"),\"-\",\"\"),\"/\",\"\"),\"erro\")","v":""},{"$f":"IFERROR(Gerar_Upload!C2125,\"erro\")","v":0},{"$f":"IFERROR(Gerar_Upload!D2125,\"erro\")","v":0},{"$f":"IFERROR(DATE(YEAR(Gerar_Upload!E2125),MONTH(Gerar_Upload!E2125),DAY(Gerar_Upload!E2125)),\"erro\")","v":"00:00:00"},{"$f":"IFERROR(Gerar_Upload!F2125,\"erro\")","v":0},{"$f":"IFERROR(IF(Gerar_Upload!G2125<44,REPT(0,44-LEN(Gerar_Upload!G2125))&Gerar_Upload!G2125,Gerar_Upload!G2125),\"erro\")","v":"00000000000000000000000000000000000000000000"}]
[{"$f":"IFERROR(LEFT(Gerar_Upload!A2126,120),\"erro\")","v":""},{"$f":"IFERROR(SUBSTITUTE(SUBSTITUTE(SUBSTITUTE(Gerar_Upload!B2126,\".\",\"\"),\"-\",\"\"),\"/\",\"\"),\"erro\")","v":""},{"$f":"IFERROR(Gerar_Upload!C2126,\"erro\")","v":0},{"$f":"IFERROR(Gerar_Upload!D2126,\"erro\")","v":0},{"$f":"IFERROR(DATE(YEAR(Gerar_Upload!E2126),MONTH(Gerar_Upload!E2126),DAY(Gerar_Upload!E2126)),\"erro\")","v":"00:00:00"},{"$f":"IFERROR(Gerar_Upload!F2126,\"erro\")","v":0},{"$f":"IFERROR(IF(Gerar_Upload!G2126<44,REPT(0,44-LEN(Gerar_Upload!G2126))&Gerar_Upload!G2126,Gerar_Upload!G2126),\"erro\")","v":"00000000000000000000000000000000000000000000"}]
[{"$f":"IFERROR(LEFT(Gerar_Upload!A2127,120),\"erro\")","v":""},{"$f":"IFERROR(SUBSTITUTE(SUBSTITUTE(SUBSTITUTE(Gerar_Upload!B2127,\".\",\"\"),\"-\",\"\"),\"/\",\"\"),\"erro\")","v":""},{"$f":"IFERROR(Gerar_Upload!C2127,\"erro\")","v":0},{"$f":"IFERROR(Gerar_Upload!D2127,\"erro\")","v":0},{"$f":"IFERROR(DATE(YEAR(Gerar_Upload!E2127),MONTH(Gerar_Upload!E2127),DAY(Gerar_Upload!E2127)),\"erro\")","v":"00:00:00"},{"$f":"IFERROR(Gerar_Upload!F2127,\"erro\")","v":0},{"$f":"IFERROR(IF(Gerar_Upload!G2127<44,REPT(0,44-LEN(Gerar_Upload!G2127))&Gerar_Upload!G2127,Gerar_Upload!G2127),\"erro\")","v":"00000000000000000000000000000000000000000000"}]
[{"$f":"IFERROR(LEFT(Gerar_Upload!A2128,120),\"erro\")","v":""},{"$f":"IFERROR(SUBSTITUTE(SUBSTITUTE(SUBSTITUTE(Gerar_Upload!B2128,\".\",\"\"),\"-\",\"\"),\"/\",\"\"),\"erro\")","v":""},{"$f":"IFERROR(Gerar_Upload!C2128,\"erro\")","v":0},{"$f":"IFERROR(Gerar_Upload!D2128,\"erro\")","v":0},{"$f":"IFERROR(DATE(YEAR(Gerar_Upload!E2128),MONTH(Gerar_Upload!E2128),DAY(Gerar_Upload!E2128)),\"erro\")","v":"00:00:00"},{"$f":"IFERROR(Gerar_Upload!F2128,\"erro\")","v":0},{"$f":"IFERROR(IF(Gerar_Upload!G2128<44,REPT(0,44-LEN(Gerar_Upload!G2128))&Gerar_Upload!G2128,Gerar_Upload!G2128),\"erro\")","v":"00000000000000000000000000000000000000000000"}]
[{"$f":"IFERROR(LEFT(Gerar_Upload!A2129,120),\"erro\")","v":""},{"$f":"IFERROR(SUBSTITUTE(SUBSTITUTE(SUBSTITUTE(Gerar_Upload!B2129,\".\",\"\"),\"-\",\"\"),\"/\",\"\"),\"erro\")","v":""},{"$f":"IFERROR(Gerar_Upload!C2129,\"erro\")","v":0},{"$f":"IFERROR(Gerar_Upload!D2129,\"erro\")","v":0},{"$f":"IFERROR(DATE(YEAR(Gerar_Upload!E2129),MONTH(Gerar_Upload!E2129),DAY(Gerar_Upload!E2129)),\"erro\")","v":"00:00:00"},{"$f":"IFERROR(Gerar_Upload!F2129,\"erro\")","v":0},{"$f":"IFERROR(IF(Gerar_Upload!G2129<44,REPT(0,44-LEN(Gerar_Upload!G2129))&Gerar_Upload!G2129,Gerar_Upload!G2129),\"erro\")","v":"00000000000000000000000000000000000000000000"}]
[{"$f":"IFERROR(LEFT(Gerar_Upload!A2130,120),\"erro\")","v":""},{"$f":"IFERROR(SUBSTITUTE(SUBSTITUTE(SUBSTITUTE(Gerar_Upload!B2130,\".\",\"\"),\"-\",\"\"),\"/\",\"\"),\"erro\")","v":""},{"$f":"IFERROR(Gerar_Upload!C2130,\"erro\")","v":0},{"$f":"IFERROR(Gerar_Upload!D2130,\"erro\")","v":0},{"$f":"IFERROR(DATE(YEAR(Gerar_Upload!E2130),MONTH(Gerar_Upload!E2130),DAY(Gerar_Upload!E2130)),\"erro\")","v":"00:00:00"},{"$f":"IFERROR(Gerar_Upload!F2130,\"erro\")","v":0},{"$f":"IFERROR(IF(Gerar_Upload!G2130<44,REPT(0,44-LEN(Gerar_Upload!G2130))&Gerar_Upload!G2130,Gerar_Upload!G2130),\"erro\")","v":"00000000000000000000000000000000000000000000"}]
[{"$f":"IFERROR(LEFT(Gerar_Upload!A2131,120),\"erro\")","v":""},{"$f":"IFERROR(SUBSTITUTE(SUBSTITUTE(SUBSTITUTE(Gerar_Upload!B2131,\".\",\"\"),\"-\",\"\"),\"/\",\"\"),\"erro\")","v":""},{"$f":"IFERROR(Gerar_Upload!C2131,\"erro\")","v":0},{"$f":"IFERROR(Gerar_Upload!D2131,\"erro\")","v":0},{"$f":"IFERROR(DATE(YEAR(Gerar_Upload!E2131),MONTH(Gerar_Upload!E2131),DAY(Gerar_Upload!E2131)),\"erro\")","v":"00:00:00"},{"$f":"IFERROR(Gerar_Upload!F2131,\"erro\")","v":0},{"$f":"IFERROR(IF(Gerar_Upload!G2131<44,REPT(0,44-LEN(Gerar_Upload!G2131))&Gerar_Upload!G2131,Gerar_Upload!G2131),\"erro\")","v":"00000000000000000000000000000000000000000000"}]
[{"$f":"IFERROR(LEFT(Gerar_Upload!A2132,120),\"erro\")","v":""},{"$f":"IFERROR(SUBSTITUTE(SUBSTITUTE(SUBSTITUTE(Gerar_Upload!B2132,\".\",\"\"),\"-\",\"\"),\"/\",\"\"),\"erro\")","v":""},{"$f":"IFERROR(Gerar_Upload!C2132,\"erro\")","v":0},{"$f":"IFERROR(Gerar_Upload!D2132,\"erro\")","v":0},{"$f":"IFERROR(DATE(YEAR(Gerar_Upload!E2132),MONTH(Gerar_Upload!E2132),DAY(Gerar_Upload!E2132)),\"erro\")","v":"00:00:00"},{"$f":"IFERROR(Gerar_Upload!F2132,\"erro\")","v":0},{"$f":"IFERROR(IF(Gerar_Upload!G2132<44,REPT(0,44-LEN(Gerar_Upload!G2132))&Gerar_Upload!G2132,Gerar_Upload!G2132),\"erro\")","v":"00000000000000000000000000000000000000000000"}]
[{"$f":"IFERROR(LEFT(Gerar_Upload!A2133,120),\"erro\")","v":""},{"$f":"IFERROR(SUBSTITUTE(SUBSTITUTE(SUBSTITUTE(Gerar_Upload!B2133,\".\",\"\"),\"-\",\"\"),\"/\",\"\"),\"erro\")","v":""},{"$f":"IFERROR(Gerar_Upload!C2133,\"erro\")","v":0},{"$f":"IFERROR(Gerar_Upload!D2133,\"erro\")","v":0},{"$f":"IFERROR(DATE(YEAR(Gerar_Upload!E2133),MONTH(Gerar_Upload!E2133),DAY(Gerar_Upload!E2133)),\"erro\")","v":"00:00:00"},{"$f":"IFERROR(Gerar_Upload!F2133,\"erro\")","v":0},{"$f":"IFERROR(IF(Gerar_Upload!G2133<44,REPT(0,44-LEN(Gerar_Upload!G2133))&Gerar_Upload!G2133,Gerar_Upload!G2133),\"erro\")","v":"00000000000000000000000000000000000000000000"}]
[{"$f":"IFERROR(LEFT(Gerar_Upload!A2134,120),\"erro\")","v":""},{"$f":"IFERROR(SUBSTITUTE(SUBSTITUTE(SUBSTITUTE(Gerar_Upload!B2134,\".\",\"\"),\"-\",\"\"),\"/\",\"\"),\"erro\")","v":""},{"$f":"IFERROR(Gerar_Upload!C2134,\"erro\")","v":0},{"$f":"IFERROR(Gerar_Upload!D2134,\"erro\")","v":0},{"$f":"IFERROR(DATE(YEAR(Gerar_Upload!E2134),MONTH(Gerar_Upload!E2134),DAY(Gerar_Upload!E2134)),\"erro\")","v":"00:00:00"},{"$f":"IFERROR(Gerar_Upload!F2134,\"erro\")","v":0},{"$f":"IFERROR(IF(Gerar_Upload!G2134<44,REPT(0,44-LEN(Gerar_Upload!G2134))&Gerar_Upload!G2134,Gerar_Upload!G2134),\"erro\")","v":"00000000000000000000000000000000000000000000"}]
[{"$f":"IFERROR(LEFT(Gerar_Upload!A2135,120),\"erro\")","v":""},{"$f":"IFERROR(SUBSTITUTE(SUBSTITUTE(SUBSTITUTE(Gerar_Upload!B2135,\".\",\"\"),\"-\",\"\"),\"/\",\"\"),\"erro\")","v":""},{"$f":"IFERROR(Gerar_Upload!C2135,\"erro\")","v":0},{"$f":"IFERROR(Gerar_Upload!D2135,\"erro\")","v":0},{"$f":"IFERROR(DATE(YEAR(Gerar_Upload!E2135),MONTH(Gerar_Upload!E2135),DAY(Gerar_Upload!E2135)),\"erro\")","v":"00:00:00"},{"$f":"IFERROR(Gerar_Upload!F2135,\"erro\")","v":0},{"$f":"IFERROR(IF(Gerar_Upload!G2135<44,REPT(0,44-LEN(Gerar_Upload!G2135))&Gerar_Upload!G2135,Gerar_Upload!G2135),\"erro\")","v":"00000000000000000000000000000000000000000000"}]
[{"$f":"IFERROR(LEFT(Gerar_Upload!A2136,120),\"erro\")","v":""},{"$f":"IFERROR(SUBSTITUTE(SUBSTITUTE(SUBSTITUTE(Gerar_Upload!B2136,\".\",\"\"),\"-\",\"\"),\"/\",\"\"),\"erro\")","v":""},{"$f":"IFERROR(Gerar_Upload!C2136,\"erro\")","v":0},{"$f":"IFERROR(Gerar_Upload!D2136,\"erro\")","v":0},{"$f":"IFERROR(DATE(YEAR(Gerar_Upload!E2136),MONTH(Gerar_Upload!E2136),DAY(Gerar_Upload!E2136)),\"erro\")","v":"00:00:00"},{"$f":"IFERROR(Gerar_Upload!F2136,\"erro\")","v":0},{"$f":"IFERROR(IF(Gerar_Upload!G2136<44,REPT(0,44-LEN(Gerar_Upload!G2136))&Gerar_Upload!G2136,Gerar_Upload!G2136),\"erro\")","v":"00000000000000000000000000000000000000000000"}]
[{"$f":"IFERROR(LEFT(Gerar_Upload!A2137,120),\"erro\")","v":""},{"$f":"IFERROR(SUBSTITUTE(SUBSTITUTE(SUBSTITUTE(Gerar_Upload!B2137,\".\",\"\"),\"-\",\"\"),\"/\",\"\"),\"erro\")","v":""},{"$f":"IFERROR(Gerar_Upload!C2137,\"erro\")","v":0},{"$f":"IFERROR(Gerar_Upload!D2137,\"erro\")","v":0},{"$f":"IFERROR(DATE(YEAR(Gerar_Upload!E2137),MONTH(Gerar_Upload!E2137),DAY(Gerar_Upload!E2137)),\"erro\")","v":"00:00:00"},{"$f":"IFERROR(Gerar_Upload!F2137,\"erro\")","v":0},{"$f":"IFERROR(IF(Gerar_Upload!G2137<44,REPT(0,44-LEN(Gerar_Upload!G2137))&Gerar_Upload!G2137,Gerar_Upload!G2137),\"erro\")","v":"00000000000000000000000000000000000000000000"}]
[{"$f":"IFERROR(LEFT(Gerar_Upload!A2138,120),\"erro\")","v":""},{"$f":"IFERROR(SUBSTITUTE(SUBSTITUTE(SUBSTITUTE(Gerar_Upload!B2138,\".\",\"\"),\"-\",\"\"),\"/\",\"\"),\"erro\")","v":""},{"$f":"IFERROR(Gerar_Upload!C2138,\"erro\")","v":0},{"$f":"IFERROR(Gerar_Upload!D2138,\"erro\")","v":0},{"$f":"IFERROR(DATE(YEAR(Gerar_Upload!E2138),MONTH(Gerar_Upload!E2138),DAY(Gerar_Upload!E2138)),\"erro\")","v":"00:00:00"},{"$f":"IFERROR(Gerar_Upload!F2138,\"erro\")","v":0},{"$f":"IFERROR(IF(Gerar_Upload!G2138<44,REPT(0,44-LEN(Gerar_Upload!G2138))&Gerar_Upload!G2138,Gerar_Upload!G2138),\"erro\")","v":"00000000000000000000000000000000000000000000"}]
[{"$f":"IFERROR(LEFT(Gerar_Upload!A2139,120),\"erro\")","v":""},{"$f":"IFERROR(SUBSTITUTE(SUBSTITUTE(SUBSTITUTE(Gerar_Upload!B2139,\".\",\"\"),\"-\",\"\"),\"/\",\"\"),\"erro\")","v":""},{"$f":"IFERROR(Gerar_Upload!C2139,\"erro\")","v":0},{"$f":"IFERROR(Gerar_Upload!D2139,\"erro\")","v":0},{"$f":"IFERROR(DATE(YEAR(Gerar_Upload!E2139),MONTH(Gerar_Upload!E2139),DAY(Gerar_Upload!E2139)),\"erro\")","v":"00:00:00"},{"$f":"IFERROR(Gerar_Upload!F2139,\"erro\")","v":0},{"$f":"IFERROR(IF(Gerar_Upload!G2139<44,REPT(0,44-LEN(Gerar_Upload!G2139))&Gerar_Upload!G2139,Gerar_Upload!G2139),\"erro\")","v":"00000000000000000000000000000000000000000000"}]
[{"$f":"IFERROR(LEFT(Gerar_Upload!A2140,120),\"erro\")","v":""},{"$f":"IFERROR(SUBSTITUTE(SUBSTITUTE(SUBSTITUTE(Gerar_Upload!B2140,\".\",\"\"),\"-\",\"\"),\"/\",\"\"),\"erro\")","v":""},{"$f":"IFERROR(Gerar_Upload!C2140,\"erro\")","v":0},{"$f":"IFERROR(Gerar_Upload!D2140,\"erro\")","v":0},{"$f":"IFERROR(DATE(YEAR(Gerar_Upload!E2140),MONTH(Gerar_Upload!E2140),DAY(Gerar_Upload!E2140)),\"erro\")","v":"00:00:00"},{"$f":"IFERROR(Gerar_Upload!F2140,\"erro\")","v":0},{"$f":"IFERROR(IF(Gerar_Upload!G2140<44,REPT(0,44-LEN(Gerar_Upload!G2140))&Gerar_Upload!G2140,Gerar_Upload!G2140),\"erro\")","v":"00000000000000000000000000000000000000000000"}]
[{"$f":"IFERROR(LEFT(Gerar_Upload!A2141,120),\"erro\")","v":""},{"$f":"IFERROR(SUBSTITUTE(SUBSTITUTE(SUBSTITUTE(Gerar_Upload!B2141,\".\",\"\"),\"-\",\"\"),\"/\",\"\"),\"erro\")","v":""},{"$f":"IFERROR(Gerar_Upload!C2141,\"erro\")","v":0},{"$f":"IFERROR(Gerar_Upload!D2141,\"erro\")","v":0},{"$f":"IFERROR(DATE(YEAR(Gerar_Upload!E2141),MONTH(Gerar_Upload!E2141),DAY(Gerar_Upload!E2141)),\"erro\")","v":"00:00:00"},{"$f":"IFERROR(Gerar_Upload!F2141,\"erro\")","v":0},{"$f":"IFERROR(IF(Gerar_Upload!G2141<44,REPT(0,44-LEN(Gerar_Upload!G2141))&Gerar_Upload!G2141,Gerar_Upload!G2141),\"erro\")","v":"00000000000000000000000000000000000000000000"}]
[{"$f":"IFERROR(LEFT(Gerar_Upload!A2142,120),\"erro\")","v":""},{"$f":"IFERROR(SUBSTITUTE(SUBSTITUTE(SUBSTITUTE(Gerar_Upload!B2142,\".\",\"\"),\"-\",\"\"),\"/\",\"\"),\"erro\")","v":""},{"$f":"IFERROR(Gerar_Upload!C2142,\"erro\")","v":0},{"$f":"IFERROR(Gerar_Upload!D2142,\"erro\")","v":0},{"$f":"IFERROR(DATE(YEAR(Gerar_Upload!E2142),MONTH(Gerar_Upload!E2142),DAY(Gerar_Upload!E2142)),\"erro\")","v":"00:00:00"},{"$f":"IFERROR(Gerar_Upload!F2142,\"erro\")","v":0},{"$f":"IFERROR(IF(Gerar_Upload!G2142<44,REPT(0,44-LEN(Gerar_Upload!G2142))&Gerar_Upload!G2142,Gerar_Upload!G2142),\"erro\")","v":"00000000000000000000000000000000000000000000"}]
[{"$f":"IFERROR(LEFT(Gerar_Upload!A2143,120),\"erro\")","v":""},{"$f":"IFERROR(SUBSTITUTE(SUBSTITUTE(SUBSTITUTE(Gerar_Upload!B2143,\".\",\"\"),\"-\",\"\"),\"/\",\"\"),\"erro\")","v":""},{"$f":"IFERROR(Gerar_Upload!C2143,\"erro\")","v":0},{"$f":"IFERROR(Gerar_Upload!D2143,\"erro\")","v":0},{"$f":"IFERROR(DATE(YEAR(Gerar_Upload!E2143),MONTH(Gerar_Upload!E2143),DAY(Gerar_Upload!E2143)),\"erro\")","v":"00:00:00"},{"$f":"IFERROR(Gerar_Upload!F2143,\"erro\")","v":0},{"$f":"IFERROR(IF(Gerar_Upload!G2143<44,REPT(0,44-LEN(Gerar_Upload!G2143))&Gerar_Upload!G2143,Gerar_Upload!G2143),\"erro\")","v":"00000000000000000000000000000000000000000000"}]
[{"$f":"IFERROR(LEFT(Gerar_Upload!A2144,120),\"erro\")","v":""},{"$f":"IFERROR(SUBSTITUTE(SUBSTITUTE(SUBSTITUTE(Gerar_Upload!B2144,\".\",\"\"),\"-\",\"\"),\"/\",\"\"),\"erro\")","v":""},{"$f":"IFERROR(Gerar_Upload!C2144,\"erro\")","v":0},{"$f":"IFERROR(Gerar_Upload!D2144,\"erro\")","v":0},{"$f":"IFERROR(DATE(YEAR(Gerar_Upload!E2144),MONTH(Gerar_Upload!E2144),DAY(Gerar_Upload!E2144)),\"erro\")","v":"00:00:00"},{"$f":"IFERROR(Gerar_Upload!F2144,\"erro\")","v":0},{"$f":"IFERROR(IF(Gerar_Upload!G2144<44,REPT(0,44-LEN(Gerar_Upload!G2144))&Gerar_Upload!G2144,Gerar_Upload!G2144),\"erro\")","v":"00000000000000000000000000000000000000000000"}]
[{"$f":"IFERROR(LEFT(Gerar_Upload!A2145,120),\"erro\")","v":""},{"$f":"IFERROR(SUBSTITUTE(SUBSTITUTE(SUBSTITUTE(Gerar_Upload!B2145,\".\",\"\"),\"-\",\"\"),\"/\",\"\"),\"erro\")","v":""},{"$f":"IFERROR(Gerar_Upload!C2145,\"erro\")","v":0},{"$f":"IFERROR(Gerar_Upload!D2145,\"erro\")","v":0},{"$f":"IFERROR(DATE(YEAR(Gerar_Upload!E2145),MONTH(Gerar_Upload!E2145),DAY(Gerar_Upload!E2145)),\"erro\")","v":"00:00:00"},{"$f":"IFERROR(Gerar_Upload!F2145,\"erro\")","v":0},{"$f":"IFERROR(IF(Gerar_Upload!G2145<44,REPT(0,44-LEN(Gerar_Upload!G2145))&Gerar_Upload!G2145,Gerar_Upload!G2145),\"erro\")","v":"00000000000000000000000000000000000000000000"}]
[{"$f":"IFERROR(LEFT(Gerar_Upload!A2146,120),\"erro\")","v":""},{"$f":"IFERROR(SUBSTITUTE(SUBSTITUTE(SUBSTITUTE(Gerar_Upload!B2146,\".\",\"\"),\"-\",\"\"),\"/\",\"\"),\"erro\")","v":""},{"$f":"IFERROR(Gerar_Upload!C2146,\"erro\")","v":0},{"$f":"IFERROR(Gerar_Upload!D2146,\"erro\")","v":0},{"$f":"IFERROR(DATE(YEAR(Gerar_Upload!E2146),MONTH(Gerar_Upload!E2146),DAY(Gerar_Upload!E2146)),\"erro\")","v":"00:00:00"},{"$f":"IFERROR(Gerar_Upload!F2146,\"erro\")","v":0},{"$f":"IFERROR(IF(Gerar_Upload!G2146<44,REPT(0,44-LEN(Gerar_Upload!G2146))&Gerar_Upload!G2146,Gerar_Upload!G2146),\"erro\")","v":"00000000000000000000000000000000000000000000"}]
[{"$f":"IFERROR(LEFT(Gerar_Upload!A2147,120),\"erro\")","v":""},{"$f":"IFERROR(SUBSTITUTE(SUBSTITUTE(SUBSTITUTE(Gerar_Upload!B2147,\".\",\"\"),\"-\",\"\"),\"/\",\"\"),\"erro\")","v":""},{"$f":"IFERROR(Gerar_Upload!C2147,\"erro\")","v":0},{"$f":"IFERROR(Gerar_Upload!D2147,\"erro\")","v":0},{"$f":"IFERROR(DATE(YEAR(Gerar_Upload!E2147),MONTH(Gerar_Upload!E2147),DAY(Gerar_Upload!E2147)),\"erro\")","v":"00:00:00"},{"$f":"IFERROR(Gerar_Upload!F2147,\"erro\")","v":0},{"$f":"IFERROR(IF(Gerar_Upload!G2147<44,REPT(0,44-LEN(Gerar_Upload!G2147))&Gerar_Upload!G2147,Gerar_Upload!G2147),\"erro\")","v":"00000000000000000000000000000000000000000000"}]
[{"$f":"IFERROR(LEFT(Gerar_Upload!A2148,120),\"erro\")","v":""},{"$f":"IFERROR(SUBSTITUTE(SUBSTITUTE(SUBSTITUTE(Gerar_Upload!B2148,\".\",\"\"),\"-\",\"\"),\"/\",\"\"),\"erro\")","v":""},{"$f":"IFERROR(Gerar_Upload!C2148,\"erro\")","v":0},{"$f":"IFERROR(Gerar_Upload!D2148,\"erro\")","v":0},{"$f":"IFERROR(DATE(YEAR(Gerar_Upload!E2148),MONTH(Gerar_Upload!E2148),DAY(Gerar_Upload!E2148)),\"erro\")","v":"00:00:00"},{"$f":"IFERROR(Gerar_Upload!F2148,\"erro\")","v":0},{"$f":"IFERROR(IF(Gerar_Upload!G2148<44,REPT(0,44-LEN(Gerar_Upload!G2148))&Gerar_Upload!G2148,Gerar_Upload!G2148),\"erro\")","v":"00000000000000000000000000000000000000000000"}]
[{"$f":"IFERROR(LEFT(Gerar_Upload!A2149,120),\"erro\")","v":""},{"$f":"IFERROR(SUBSTITUTE(SUBSTITUTE(SUBSTITUTE(Gerar_Upload!B2149,\".\",\"\"),\"-\",\"\"),\"/\",\"\"),\"erro\")","v":""},{"$f":"IFERROR(Gerar_Upload!C2149,\"erro\")","v":0},{"$f":"IFERROR(Gerar_Upload!D2149,\"erro\")","v":0},{"$f":"IFERROR(DATE(YEAR(Gerar_Upload!E2149),MONTH(Gerar_Upload!E2149),DAY(Gerar_Upload!E2149)),\"erro\")","v":"00:00:00"},{"$f":"IFERROR(Gerar_Upload!F2149,\"erro\")","v":0},{"$f":"IFERROR(IF(Gerar_Upload!G2149<44,REPT(0,44-LEN(Gerar_Upload!G2149))&Gerar_Upload!G2149,Gerar_Upload!G2149),\"erro\")","v":"00000000000000000000000000000000000000000000"}]
[{"$f":"IFERROR(LEFT(Gerar_Upload!A2150,120),\"erro\")","v":""},{"$f":"IFERROR(SUBSTITUTE(SUBSTITUTE(SUBSTITUTE(Gerar_Upload!B2150,\".\",\"\"),\"-\",\"\"),\"/\",\"\"),\"erro\")","v":""},{"$f":"IFERROR(Gerar_Upload!C2150,\"erro\")","v":0},{"$f":"IFERROR(Gerar_Upload!D2150,\"erro\")","v":0},{"$f":"IFERROR(DATE(YEAR(Gerar_Upload!E2150),MONTH(Gerar_Upload!E2150),DAY(Gerar_Upload!E2150)),\"erro\")","v":"00:00:00"},{"$f":"IFERROR(Gerar_Upload!F2150,\"erro\")","v":0},{"$f":"IFERROR(IF(Gerar_Upload!G2150<44,REPT(0,44-LEN(Gerar_Upload!G2150))&Gerar_Upload!G2150,Gerar_Upload!G2150),\"erro\")","v":"00000000000000000000000000000000000000000000"}]
[{"$f":"IFERROR(LEFT(Gerar_Upload!A2151,120),\"erro\")","v":""},{"$f":"IFERROR(SUBSTITUTE(SUBSTITUTE(SUBSTITUTE(Gerar_Upload!B2151,\".\",\"\"),\"-\",\"\"),\"/\",\"\"),\"erro\")","v":""},{"$f":"IFERROR(Gerar_Upload!C2151,\"erro\")","v":0},{"$f":"IFERROR(Gerar_Upload!D2151,\"erro\")","v":0},{"$f":"IFERROR(DATE(YEAR(Gerar_Upload!E2151),MONTH(Gerar_Upload!E2151),DAY(Gerar_Upload!E2151)),\"erro\")","v":"00:00:00"},{"$f":"IFERROR(Gerar_Upload!F2151,\"erro\")","v":0},{"$f":"IFERROR(IF(Gerar_Upload!G2151<44,REPT(0,44-LEN(Gerar_Upload!G2151))&Gerar_Upload!G2151,Gerar_Upload!G2151),\"erro\")","v":"00000000000000000000000000000000000000000000"}]
[{"$f":"IFERROR(LEFT(Gerar_Upload!A2152,120),\"erro\")","v":""},{"$f":"IFERROR(SUBSTITUTE(SUBSTITUTE(SUBSTITUTE(Gerar_Upload!B2152,\".\",\"\"),\"-\",\"\"),\"/\",\"\"),\"erro\")","v":""},{"$f":"IFERROR(Gerar_Upload!C2152,\"erro\")","v":0},{"$f":"IFERROR(Gerar_Upload!D2152,\"erro\")","v":0},{"$f":"IFERROR(DATE(YEAR(Gerar_Upload!E2152),MONTH(Gerar_Upload!E2152),DAY(Gerar_Upload!E2152)),\"erro\")","v":"00:00:00"},{"$f":"IFERROR(Gerar_Upload!F2152,\"erro\")","v":0},{"$f":"IFERROR(IF(Gerar_Upload!G2152<44,REPT(0,44-LEN(Gerar_Upload!G2152))&Gerar_Upload!G2152,Gerar_Upload!G2152),\"erro\")","v":"00000000000000000000000000000000000000000000"}]
[{"$f":"IFERROR(LEFT(Gerar_Upload!A2153,120),\"erro\")","v":""},{"$f":"IFERROR(SUBSTITUTE(SUBSTITUTE(SUBSTITUTE(Gerar_Upload!B2153,\".\",\"\"),\"-\",\"\"),\"/\",\"\"),\"erro\")","v":""},{"$f":"IFERROR(Gerar_Upload!C2153,\"erro\")","v":0},{"$f":"IFERROR(Gerar_Upload!D2153,\"erro\")","v":0},{"$f":"IFERROR(DATE(YEAR(Gerar_Upload!E2153),MONTH(Gerar_Upload!E2153),DAY(Gerar_Upload!E2153)),\"erro\")","v":"00:00:00"},{"$f":"IFERROR(Gerar_Upload!F2153,\"erro\")","v":0},{"$f":"IFERROR(IF(Gerar_Upload!G2153<44,REPT(0,44-LEN(Gerar_Upload!G2153))&Gerar_Upload!G2153,Gerar_Upload!G2153),\"erro\")","v":"00000000000000000000000000000000000000000000"}]
[{"$f":"IFERROR(LEFT(Gerar_Upload!A2154,120),\"erro\")","v":""},{"$f":"IFERROR(SUBSTITUTE(SUBSTITUTE(SUBSTITUTE(Gerar_Upload!B2154,\".\",\"\"),\"-\",\"\"),\"/\",\"\"),\"erro\")","v":""},{"$f":"IFERROR(Gerar_Upload!C2154,\"erro\")","v":0},{"$f":"IFERROR(Gerar_Upload!D2154,\"erro\")","v":0},{"$f":"IFERROR(DATE(YEAR(Gerar_Upload!E2154),MONTH(Gerar_Upload!E2154),DAY(Gerar_Upload!E2154)),\"erro\")","v":"00:00:00"},{"$f":"IFERROR(Gerar_Upload!F2154,\"erro\")","v":0},{"$f":"IFERROR(IF(Gerar_Upload!G2154<44,REPT(0,44-LEN(Gerar_Upload!G2154))&Gerar_Upload!G2154,Gerar_Upload!G2154),\"erro\")","v":"00000000000000000000000000000000000000000000"}]
[{"$f":"IFERROR(LEFT(Gerar_Upload!A2155,120),\"erro\")","v":""},{"$f":"IFERROR(SUBSTITUTE(SUBSTITUTE(SUBSTITUTE(Gerar_Upload!B2155,\".\",\"\"),\"-\",\"\"),\"/\",\"\"),\"erro\")","v":""},{"$f":"IFERROR(Gerar_Upload!C2155,\"erro\")","v":0},{"$f":"IFERROR(Gerar_Upload!D2155,\"erro\")","v":0},{"$f":"IFERROR(DATE(YEAR(Gerar_Upload!E2155),MONTH(Gerar_Upload!E2155),DAY(Gerar_Upload!E2155)),\"erro\")","v":"00:00:00"},{"$f":"IFERROR(Gerar_Upload!F2155,\"erro\")","v":0},{"$f":"IFERROR(IF(Gerar_Upload!G2155<44,REPT(0,44-LEN(Gerar_Upload!G2155))&Gerar_Upload!G2155,Gerar_Upload!G2155),\"erro\")","v":"00000000000000000000000000000000000000000000"}]
[{"$f":"IFERROR(LEFT(Gerar_Upload!A2156,120),\"erro\")","v":""},{"$f":"IFERROR(SUBSTITUTE(SUBSTITUTE(SUBSTITUTE(Gerar_Upload!B2156,\".\",\"\"),\"-\",\"\"),\"/\",\"\"),\"erro\")","v":""},{"$f":"IFERROR(Gerar_Upload!C2156,\"erro\")","v":0},{"$f":"IFERROR(Gerar_Upload!D2156,\"erro\")","v":0},{"$f":"IFERROR(DATE(YEAR(Gerar_Upload!E2156),MONTH(Gerar_Upload!E2156),DAY(Gerar_Upload!E2156)),\"erro\")","v":"00:00:00"},{"$f":"IFERROR(Gerar_Upload!F2156,\"erro\")","v":0},{"$f":"IFERROR(IF(Gerar_Upload!G2156<44,REPT(0,44-LEN(Gerar_Upload!G2156))&Gerar_Upload!G2156,Gerar_Upload!G2156),\"erro\")","v":"00000000000000000000000000000000000000000000"}]
[{"$f":"IFERROR(LEFT(Gerar_Upload!A2157,120),\"erro\")","v":""},{"$f":"IFERROR(SUBSTITUTE(SUBSTITUTE(SUBSTITUTE(Gerar_Upload!B2157,\".\",\"\"),\"-\",\"\"),\"/\",\"\"),\"erro\")","v":""},{"$f":"IFERROR(Gerar_Upload!C2157,\"erro\")","v":0},{"$f":"IFERROR(Gerar_Upload!D2157,\"erro\")","v":0},{"$f":"IFERROR(DATE(YEAR(Gerar_Upload!E2157),MONTH(Gerar_Upload!E2157),DAY(Gerar_Upload!E2157)),\"erro\")","v":"00:00:00"},{"$f":"IFERROR(Gerar_Upload!F2157,\"erro\")","v":0},{"$f":"IFERROR(IF(Gerar_Upload!G2157<44,REPT(0,44-LEN(Gerar_Upload!G2157))&Gerar_Upload!G2157,Gerar_Upload!G2157),\"erro\")","v":"00000000000000000000000000000000000000000000"}]
[{"$f":"IFERROR(LEFT(Gerar_Upload!A2158,120),\"erro\")","v":""},{"$f":"IFERROR(SUBSTITUTE(SUBSTITUTE(SUBSTITUTE(Gerar_Upload!B2158,\".\",\"\"),\"-\",\"\"),\"/\",\"\"),\"erro\")","v":""},{"$f":"IFERROR(Gerar_Upload!C2158,\"erro\")","v":0},{"$f":"IFERROR(Gerar_Upload!D2158,\"erro\")","v":0},{"$f":"IFERROR(DATE(YEAR(Gerar_Upload!E2158),MONTH(Gerar_Upload!E2158),DAY(Gerar_Upload!E2158)),\"erro\")","v":"00:00:00"},{"$f":"IFERROR(Gerar_Upload!F2158,\"erro\")","v":0},{"$f":"IFERROR(IF(Gerar_Upload!G2158<44,REPT(0,44-LEN(Gerar_Upload!G2158))&Gerar_Upload!G2158,Gerar_Upload!G2158),\"erro\")","v":"00000000000000000000000000000000000000000000"}]
[{"$f":"IFERROR(LEFT(Gerar_Upload!A2159,120),\"erro\")","v":""},{"$f":"IFERROR(SUBSTITUTE(SUBSTITUTE(SUBSTITUTE(Gerar_Upload!B2159,\".\",\"\"),\"-\",\"\"),\"/\",\"\"),\"erro\")","v":""},{"$f":"IFERROR(Gerar_Upload!C2159,\"erro\")","v":0},{"$f":"IFERROR(Gerar_Upload!D2159,\"erro\")","v":0},{"$f":"IFERROR(DATE(YEAR(Gerar_Upload!E2159),MONTH(Gerar_Upload!E2159),DAY(Gerar_Upload!E2159)),\"erro\")","v":"00:00:00"},{"$f":"IFERROR(Gerar_Upload!F2159,\"erro\")","v":0},{"$f":"IFERROR(IF(Gerar_Upload!G2159<44,REPT(0,44-LEN(Gerar_Upload!G2159))&Gerar_Upload!G2159,Gerar_Upload!G2159),\"erro\")","v":"00000000000000000000000000000000000000000000"}]
[{"$f":"IFERROR(LEFT(Gerar_Upload!A2160,120),\"erro\")","v":""},{"$f":"IFERROR(SUBSTITUTE(SUBSTITUTE(SUBSTITUTE(Gerar_Upload!B2160,\".\",\"\"),\"-\",\"\"),\"/\",\"\"),\"erro\")","v":""},{"$f":"IFERROR(Gerar_Upload!C2160,\"erro\")","v":0},{"$f":"IFERROR(Gerar_Upload!D2160,\"erro\")","v":0},{"$f":"IFERROR(DATE(YEAR(Gerar_Upload!E2160),MONTH(Gerar_Upload!E2160),DAY(Gerar_Upload!E2160)),\"erro\")","v":"00:00:00"},{"$f":"IFERROR(Gerar_Upload!F2160,\"erro\")","v":0},{"$f":"IFERROR(IF(Gerar_Upload!G2160<44,REPT(0,44-LEN(Gerar_Upload!G2160))&Gerar_Upload!G2160,Gerar_Upload!G2160),\"erro\")","v":"00000000000000000000000000000000000000000000"}]
[{"$f":"IFERROR(LEFT(Gerar_Upload!A2161,120),\"erro\")","v":""},{"$f":"IFERROR(SUBSTITUTE(SUBSTITUTE(SUBSTITUTE(Gerar_Upload!B2161,\".\",\"\"),\"-\",\"\"),\"/\",\"\"),\"erro\")","v":""},{"$f":"IFERROR(Gerar_Upload!C2161,\"erro\")","v":0},{"$f":"IFERROR(Gerar_Upload!D2161,\"erro\")","v":0},{"$f":"IFERROR(DATE(YEAR(Gerar_Upload!E2161),MONTH(Gerar_Upload!E2161),DAY(Gerar_Upload!E2161)),\"erro\")","v":"00:00:00"},{"$f":"IFERROR(Gerar_Upload!F2161,\"erro\")","v":0},{"$f":"IFERROR(IF(Gerar_Upload!G2161<44,REPT(0,44-LEN(Gerar_Upload!G2161))&Gerar_Upload!G2161,Gerar_Upload!G2161),\"erro\")","v":"00000000000000000000000000000000000000000000"}]
[{"$f":"IFERROR(LEFT(Gerar_Upload!A2162,120),\"erro\")","v":""},{"$f":"IFERROR(SUBSTITUTE(SUBSTITUTE(SUBSTITUTE(Gerar_Upload!B2162,\".\",\"\"),\"-\",\"\"),\"/\",\"\"),\"erro\")","v":""},{"$f":"IFERROR(Gerar_Upload!C2162,\"erro\")","v":0},{"$f":"IFERROR(Gerar_Upload!D2162,\"erro\")","v":0},{"$f":"IFERROR(DATE(YEAR(Gerar_Upload!E2162),MONTH(Gerar_Upload!E2162),DAY(Gerar_Upload!E2162)),\"erro\")","v":"00:00:00"},{"$f":"IFERROR(Gerar_Upload!F2162,\"erro\")","v":0},{"$f":"IFERROR(IF(Gerar_Upload!G2162<44,REPT(0,44-LEN(Gerar_Upload!G2162))&Gerar_Upload!G2162,Gerar_Upload!G2162),\"erro\")","v":"00000000000000000000000000000000000000000000"}]
[{"$f":"IFERROR(LEFT(Gerar_Upload!A2163,120),\"erro\")","v":""},{"$f":"IFERROR(SUBSTITUTE(SUBSTITUTE(SUBSTITUTE(Gerar_Upload!B2163,\".\",\"\"),\"-\",\"\"),\"/\",\"\"),\"erro\")","v":""},{"$f":"IFERROR(Gerar_Upload!C2163,\"erro\")","v":0},{"$f":"IFERROR(Gerar_Upload!D2163,\"erro\")","v":0},{"$f":"IFERROR(DATE(YEAR(Gerar_Upload!E2163),MONTH(Gerar_Upload!E2163),DAY(Gerar_Upload!E2163)),\"erro\")","v":"00:00:00"},{"$f":"IFERROR(Gerar_Upload!F2163,\"erro\")","v":0},{"$f":"IFERROR(IF(Gerar_Upload!G2163<44,REPT(0,44-LEN(Gerar_Upload!G2163))&Gerar_Upload!G2163,Gerar_Upload!G2163),\"erro\")","v":"00000000000000000000000000000000000000000000"}]
[{"$f":"IFERROR(LEFT(Gerar_Upload!A2164,120),\"erro\")","v":""},{"$f":"IFERROR(SUBSTITUTE(SUBSTITUTE(SUBSTITUTE(Gerar_Upload!B2164,\".\",\"\"),\"-\",\"\"),\"/\",\"\"),\"erro\")","v":""},{"$f":"IFERROR(Gerar_Upload!C2164,\"erro\")","v":0},{"$f":"IFERROR(Gerar_Upload!D2164,\"erro\")","v":0},{"$f":"IFERROR(DATE(YEAR(Gerar_Upload!E2164),MONTH(Gerar_Upload!E2164),DAY(Gerar_Upload!E2164)),\"erro\")","v":"00:00:00"},{"$f":"IFERROR(Gerar_Upload!F2164,\"erro\")","v":0},{"$f":"IFERROR(IF(Gerar_Upload!G2164<44,REPT(0,44-LEN(Gerar_Upload!G2164))&Gerar_Upload!G2164,Gerar_Upload!G2164),\"erro\")","v":"00000000000000000000000000000000000000000000"}]
[{"$f":"IFERROR(LEFT(Gerar_Upload!A2165,120),\"erro\")","v":""},{"$f":"IFERROR(SUBSTITUTE(SUBSTITUTE(SUBSTITUTE(Gerar_Upload!B2165,\".\",\"\"),\"-\",\"\"),\"/\",\"\"),\"erro\")","v":""},{"$f":"IFERROR(Gerar_Upload!C2165,\"erro\")","v":0},{"$f":"IFERROR(Gerar_Upload!D2165,\"erro\")","v":0},{"$f":"IFERROR(DATE(YEAR(Gerar_Upload!E2165),MONTH(Gerar_Upload!E2165),DAY(Gerar_Upload!E2165)),\"erro\")","v":"00:00:00"},{"$f":"IFERROR(Gerar_Upload!F2165,\"erro\")","v":0},{"$f":"IFERROR(IF(Gerar_Upload!G2165<44,REPT(0,44-LEN(Gerar_Upload!G2165))&Gerar_Upload!G2165,Gerar_Upload!G2165),\"erro\")","v":"00000000000000000000000000000000000000000000"}]
[{"$f":"IFERROR(LEFT(Gerar_Upload!A2166,120),\"erro\")","v":""},{"$f":"IFERROR(SUBSTITUTE(SUBSTITUTE(SUBSTITUTE(Gerar_Upload!B2166,\".\",\"\"),\"-\",\"\"),\"/\",\"\"),\"erro\")","v":""},{"$f":"IFERROR(Gerar_Upload!C2166,\"erro\")","v":0},{"$f":"IFERROR(Gerar_Upload!D2166,\"erro\")","v":0},{"$f":"IFERROR(DATE(YEAR(Gerar_Upload!E2166),MONTH(Gerar_Upload!E2166),DAY(Gerar_Upload!E2166)),\"erro\")","v":"00:00:00"},{"$f":"IFERROR(Gerar_Upload!F2166,\"erro\")","v":0},{"$f":"IFERROR(IF(Gerar_Upload!G2166<44,REPT(0,44-LEN(Gerar_Upload!G2166))&Gerar_Upload!G2166,Gerar_Upload!G2166),\"erro\")","v":"00000000000000000000000000000000000000000000"}]
[{"$f":"IFERROR(LEFT(Gerar_Upload!A2167,120),\"erro\")","v":""},{"$f":"IFERROR(SUBSTITUTE(SUBSTITUTE(SUBSTITUTE(Gerar_Upload!B2167,\".\",\"\"),\"-\",\"\"),\"/\",\"\"),\"erro\")","v":""},{"$f":"IFERROR(Gerar_Upload!C2167,\"erro\")","v":0},{"$f":"IFERROR(Gerar_Upload!D2167,\"erro\")","v":0},{"$f":"IFERROR(DATE(YEAR(Gerar_Upload!E2167),MONTH(Gerar_Upload!E2167),DAY(Gerar_Upload!E2167)),\"erro\")","v":"00:00:00"},{"$f":"IFERROR(Gerar_Upload!F2167,\"erro\")","v":0},{"$f":"IFERROR(IF(Gerar_Upload!G2167<44,REPT(0,44-LEN(Gerar_Upload!G2167))&Gerar_Upload!G2167,Gerar_Upload!G2167),\"erro\")","v":"00000000000000000000000000000000000000000000"}]
[{"$f":"IFERROR(LEFT(Gerar_Upload!A2168,120),\"erro\")","v":""},{"$f":"IFERROR(SUBSTITUTE(SUBSTITUTE(SUBSTITUTE(Gerar_Upload!B2168,\".\",\"\"),\"-\",\"\"),\"/\",\"\"),\"erro\")","v":""},{"$f":"IFERROR(Gerar_Upload!C2168,\"erro\")","v":0},{"$f":"IFERROR(Gerar_Upload!D2168,\"erro\")","v":0},{"$f":"IFERROR(DATE(YEAR(Gerar_Upload!E2168),MONTH(Gerar_Upload!E2168),DAY(Gerar_Upload!E2168)),\"erro\")","v":"00:00:00"},{"$f":"IFERROR(Gerar_Upload!F2168,\"erro\")","v":0},{"$f":"IFERROR(IF(Gerar_Upload!G2168<44,REPT(0,44-LEN(Gerar_Upload!G2168))&Gerar_Upload!G2168,Gerar_Upload!G2168),\"erro\")","v":"00000000000000000000000000000000000000000000"}]
[{"$f":"IFERROR(LEFT(Gerar_Upload!A2169,120),\"erro\")","v":""},{"$f":"IFERROR(SUBSTITUTE(SUBSTITUTE(SUBSTITUTE(Gerar_Upload!B2169,\".\",\"\"),\"-\",\"\"),\"/\",\"\"),\"erro\")","v":""},{"$f":"IFERROR(Gerar_Upload!C2169,\"erro\")","v":0},{"$f":"IFERROR(Gerar_Upload!D2169,\"erro\")","v":0},{"$f":"IFERROR(DATE(YEAR(Gerar_Upload!E2169),MONTH(Gerar_Upload!E2169),DAY(Gerar_Upload!E2169)),\"erro\")","v":"00:00:00"},{"$f":"IFERROR(Gerar_Upload!F2169,\"erro\")","v":0},{"$f":"IFERROR(IF(Gerar_Upload!G2169<44,REPT(0,44-LEN(Gerar_Upload!G2169))&Gerar_Upload!G2169,Gerar_Upload!G2169),\"erro\")","v":"00000000000000000000000000000000000000000000"}]
[{"$f":"IFERROR(LEFT(Gerar_Upload!A2170,120),\"erro\")","v":""},{"$f":"IFERROR(SUBSTITUTE(SUBSTITUTE(SUBSTITUTE(Gerar_Upload!B2170,\".\",\"\"),\"-\",\"\"),\"/\",\"\"),\"erro\")","v":""},{"$f":"IFERROR(Gerar_Upload!C2170,\"erro\")","v":0},{"$f":"IFERROR(Gerar_Upload!D2170,\"erro\")","v":0},{"$f":"IFERROR(DATE(YEAR(Gerar_Upload!E2170),MONTH(Gerar_Upload!E2170),DAY(Gerar_Upload!E2170)),\"erro\")","v":"00:00:00"},{"$f":"IFERROR(Gerar_Upload!F2170,\"erro\")","v":0},{"$f":"IFERROR(IF(Gerar_Upload!G2170<44,REPT(0,44-LEN(Gerar_Upload!G2170))&Gerar_Upload!G2170,Gerar_Upload!G2170),\"erro\")","v":"00000000000000000000000000000000000000000000"}]
[{"$f":"IFERROR(LEFT(Gerar_Upload!A2171,120),\"erro\")","v":""},{"$f":"IFERROR(SUBSTITUTE(SUBSTITUTE(SUBSTITUTE(Gerar_Upload!B2171,\".\",\"\"),\"-\",\"\"),\"/\",\"\"),\"erro\")","v":""},{"$f":"IFERROR(Gerar_Upload!C2171,\"erro\")","v":0},{"$f":"IFERROR(Gerar_Upload!D2171,\"erro\")","v":0},{"$f":"IFERROR(DATE(YEAR(Gerar_Upload!E2171),MONTH(Gerar_Upload!E2171),DAY(Gerar_Upload!E2171)),\"erro\")","v":"00:00:00"},{"$f":"IFERROR(Gerar_Upload!F2171,\"erro\")","v":0},{"$f":"IFERROR(IF(Gerar_Upload!G2171<44,REPT(0,44-LEN(Gerar_Upload!G2171))&Gerar_Upload!G2171,Gerar_Upload!G2171),\"erro\")","v":"00000000000000000000000000000000000000000000"}]
[{"$f":"IFERROR(LEFT(Gerar_Upload!A2172,120),\"erro\")","v":""},{"$f":"IFERROR(SUBSTITUTE(SUBSTITUTE(SUBSTITUTE(Gerar_Upload!B2172,\".\",\"\"),\"-\",\"\"),\"/\",\"\"),\"erro\")","v":""},{"$f":"IFERROR(Gerar_Upload!C2172,\"erro\")","v":0},{"$f":"IFERROR(Gerar_Upload!D2172,\"erro\")","v":0},{"$f":"IFERROR(DATE(YEAR(Gerar_Upload!E2172),MONTH(Gerar_Upload!E2172),DAY(Gerar_Upload!E2172)),\"erro\")","v":"00:00:00"},{"$f":"IFERROR(Gerar_Upload!F2172,\"erro\")","v":0},{"$f":"IFERROR(IF(Gerar_Upload!G2172<44,REPT(0,44-LEN(Gerar_Upload!G2172))&Gerar_Upload!G2172,Gerar_Upload!G2172),\"erro\")","v":"00000000000000000000000000000000000000000000"}]
[{"$f":"IFERROR(LEFT(Gerar_Upload!A2173,120),\"erro\")","v":""},{"$f":"IFERROR(SUBSTITUTE(SUBSTITUTE(SUBSTITUTE(Gerar_Upload!B2173,\".\",\"\"),\"-\",\"\"),\"/\",\"\"),\"erro\")","v":""},{"$f":"IFERROR(Gerar_Upload!C2173,\"erro\")","v":0},{"$f":"IFERROR(Gerar_Upload!D2173,\"erro\")","v":0},{"$f":"IFERROR(DATE(YEAR(Gerar_Upload!E2173),MONTH(Gerar_Upload!E2173),DAY(Gerar_Upload!E2173)),\"erro\")","v":"00:00:00"},{"$f":"IFERROR(Gerar_Upload!F2173,\"erro\")","v":0},{"$f":"IFERROR(IF(Gerar_Upload!G2173<44,REPT(0,44-LEN(Gerar_Upload!G2173))&Gerar_Upload!G2173,Gerar_Upload!G2173),\"erro\")","v":"00000000000000000000000000000000000000000000"}]
[{"$f":"IFERROR(LEFT(Gerar_Upload!A2174,120),\"erro\")","v":""},{"$f":"IFERROR(SUBSTITUTE(SUBSTITUTE(SUBSTITUTE(Gerar_Upload!B2174,\".\",\"\"),\"-\",\"\"),\"/\",\"\"),\"erro\")","v":""},{"$f":"IFERROR(Gerar_Upload!C2174,\"erro\")","v":0},{"$f":"IFERROR(Gerar_Upload!D2174,\"erro\")","v":0},{"$f":"IFERROR(DATE(YEAR(Gerar_Upload!E2174),MONTH(Gerar_Upload!E2174),DAY(Gerar_Upload!E2174)),\"erro\")","v":"00:00:00"},{"$f":"IFERROR(Gerar_Upload!F2174,\"erro\")","v":0},{"$f":"IFERROR(IF(Gerar_Upload!G2174<44,REPT(0,44-LEN(Gerar_Upload!G2174))&Gerar_Upload!G2174,Gerar_Upload!G2174),\"erro\")","v":"00000000000000000000000000000000000000000000"}]
[{"$f":"IFERROR(LEFT(Gerar_Upload!A2175,120),\"erro\")","v":""},{"$f":"IFERROR(SUBSTITUTE(SUBSTITUTE(SUBSTITUTE(Gerar_Upload!B2175,\".\",\"\"),\"-\",\"\"),\"/\",\"\"),\"erro\")","v":""},{"$f":"IFERROR(Gerar_Upload!C2175,\"erro\")","v":0},{"$f":"IFERROR(Gerar_Upload!D2175,\"erro\")","v":0},{"$f":"IFERROR(DATE(YEAR(Gerar_Upload!E2175),MONTH(Gerar_Upload!E2175),DAY(Gerar_Upload!E2175)),\"erro\")","v":"00:00:00"},{"$f":"IFERROR(Gerar_Upload!F2175,\"erro\")","v":0},{"$f":"IFERROR(IF(Gerar_Upload!G2175<44,REPT(0,44-LEN(Gerar_Upload!G2175))&Gerar_Upload!G2175,Gerar_Upload!G2175),\"erro\")","v":"00000000000000000000000000000000000000000000"}]
[{"$f":"IFERROR(LEFT(Gerar_Upload!A2176,120),\"erro\")","v":""},{"$f":"IFERROR(SUBSTITUTE(SUBSTITUTE(SUBSTITUTE(Gerar_Upload!B2176,\".\",\"\"),\"-\",\"\"),\"/\",\"\"),\"erro\")","v":""},{"$f":"IFERROR(Gerar_Upload!C2176,\"erro\")","v":0},{"$f":"IFERROR(Gerar_Upload!D2176,\"erro\")","v":0},{"$f":"IFERROR(DATE(YEAR(Gerar_Upload!E2176),MONTH(Gerar_Upload!E2176),DAY(Gerar_Upload!E2176)),\"erro\")","v":"00:00:00"},{"$f":"IFERROR(Gerar_Upload!F2176,\"erro\")","v":0},{"$f":"IFERROR(IF(Gerar_Upload!G2176<44,REPT(0,44-LEN(Gerar_Upload!G2176))&Gerar_Upload!G2176,Gerar_Upload!G2176),\"erro\")","v":"00000000000000000000000000000000000000000000"}]
[{"$f":"IFERROR(LEFT(Gerar_Upload!A2177,120),\"erro\")","v":""},{"$f":"IFERROR(SUBSTITUTE(SUBSTITUTE(SUBSTITUTE(Gerar_Upload!B2177,\".\",\"\"),\"-\",\"\"),\"/\",\"\"),\"erro\")","v":""},{"$f":"IFERROR(Gerar_Upload!C2177,\"erro\")","v":0},{"$f":"IFERROR(Gerar_Upload!D2177,\"erro\")","v":0},{"$f":"IFERROR(DATE(YEAR(Gerar_Upload!E2177),MONTH(Gerar_Upload!E2177),DAY(Gerar_Upload!E2177)),\"erro\")","v":"00:00:00"},{"$f":"IFERROR(Gerar_Upload!F2177,\"erro\")","v":0},{"$f":"IFERROR(IF(Gerar_Upload!G2177<44,REPT(0,44-LEN(Gerar_Upload!G2177))&Gerar_Upload!G2177,Gerar_Upload!G2177),\"erro\")","v":"00000000000000000000000000000000000000000000"}]
[{"$f":"IFERROR(LEFT(Gerar_Upload!A2178,120),\"erro\")","v":""},{"$f":"IFERROR(SUBSTITUTE(SUBSTITUTE(SUBSTITUTE(Gerar_Upload!B2178,\".\",\"\"),\"-\",\"\"),\"/\",\"\"),\"erro\")","v":""},{"$f":"IFERROR(Gerar_Upload!C2178,\"erro\")","v":0},{"$f":"IFERROR(Gerar_Upload!D2178,\"erro\")","v":0},{"$f":"IFERROR(DATE(YEAR(Gerar_Upload!E2178),MONTH(Gerar_Upload!E2178),DAY(Gerar_Upload!E2178)),\"erro\")","v":"00:00:00"},{"$f":"IFERROR(Gerar_Upload!F2178,\"erro\")","v":0},{"$f":"IFERROR(IF(Gerar_Upload!G2178<44,REPT(0,44-LEN(Gerar_Upload!G2178))&Gerar_Upload!G2178,Gerar_Upload!G2178),\"erro\")","v":"00000000000000000000000000000000000000000000"}]
[{"$f":"IFERROR(LEFT(Gerar_Upload!A2179,120),\"erro\")","v":""},{"$f":"IFERROR(SUBSTITUTE(SUBSTITUTE(SUBSTITUTE(Gerar_Upload!B2179,\".\",\"\"),\"-\",\"\"),\"/\",\"\"),\"erro\")","v":""},{"$f":"IFERROR(Gerar_Upload!C2179,\"erro\")","v":0},{"$f":"IFERROR(Gerar_Upload!D2179,\"erro\")","v":0},{"$f":"IFERROR(DATE(YEAR(Gerar_Upload!E2179),MONTH(Gerar_Upload!E2179),DAY(Gerar_Upload!E2179)),\"erro\")","v":"00:00:00"},{"$f":"IFERROR(Gerar_Upload!F2179,\"erro\")","v":0},{"$f":"IFERROR(IF(Gerar_Upload!G2179<44,REPT(0,44-LEN(Gerar_Upload!G2179))&Gerar_Upload!G2179,Gerar_Upload!G2179),\"erro\")","v":"00000000000000000000000000000000000000000000"}]
[{"$f":"IFERROR(LEFT(Gerar_Upload!A2180,120),\"erro\")","v":""},{"$f":"IFERROR(SUBSTITUTE(SUBSTITUTE(SUBSTITUTE(Gerar_Upload!B2180,\".\",\"\"),\"-\",\"\"),\"/\",\"\"),\"erro\")","v":""},{"$f":"IFERROR(Gerar_Upload!C2180,\"erro\")","v":0},{"$f":"IFERROR(Gerar_Upload!D2180,\"erro\")","v":0},{"$f":"IFERROR(DATE(YEAR(Gerar_Upload!E2180),MONTH(Gerar_Upload!E2180),DAY(Gerar_Upload!E2180)),\"erro\")","v":"00:00:00"},{"$f":"IFERROR(Gerar_Upload!F2180,\"erro\")","v":0},{"$f":"IFERROR(IF(Gerar_Upload!G2180<44,REPT(0,44-LEN(Gerar_Upload!G2180))&Gerar_Upload!G2180,Gerar_Upload!G2180),\"erro\")","v":"00000000000000000000000000000000000000000000"}]
[{"$f":"IFERROR(LEFT(Gerar_Upload!A2181,120),\"erro\")","v":""},{"$f":"IFERROR(SUBSTITUTE(SUBSTITUTE(SUBSTITUTE(Gerar_Upload!B2181,\".\",\"\"),\"-\",\"\"),\"/\",\"\"),\"erro\")","v":""},{"$f":"IFERROR(Gerar_Upload!C2181,\"erro\")","v":0},{"$f":"IFERROR(Gerar_Upload!D2181,\"erro\")","v":0},{"$f":"IFERROR(DATE(YEAR(Gerar_Upload!E2181),MONTH(Gerar_Upload!E2181),DAY(Gerar_Upload!E2181)),\"erro\")","v":"00:00:00"},{"$f":"IFERROR(Gerar_Upload!F2181,\"erro\")","v":0},{"$f":"IFERROR(IF(Gerar_Upload!G2181<44,REPT(0,44-LEN(Gerar_Upload!G2181))&Gerar_Upload!G2181,Gerar_Upload!G2181),\"erro\")","v":"00000000000000000000000000000000000000000000"}]
[{"$f":"IFERROR(LEFT(Gerar_Upload!A2182,120),\"erro\")","v":""},{"$f":"IFERROR(SUBSTITUTE(SUBSTITUTE(SUBSTITUTE(Gerar_Upload!B2182,\".\",\"\"),\"-\",\"\"),\"/\",\"\"),\"erro\")","v":""},{"$f":"IFERROR(Gerar_Upload!C2182,\"erro\")","v":0},{"$f":"IFERROR(Gerar_Upload!D2182,\"erro\")","v":0},{"$f":"IFERROR(DATE(YEAR(Gerar_Upload!E2182),MONTH(Gerar_Upload!E2182),DAY(Gerar_Upload!E2182)),\"erro\")","v":"00:00:00"},{"$f":"IFERROR(Gerar_Upload!F2182,\"erro\")","v":0},{"$f":"IFERROR(IF(Gerar_Upload!G2182<44,REPT(0,44-LEN(Gerar_Upload!G2182))&Gerar_Upload!G2182,Gerar_Upload!G2182),\"erro\")","v":"00000000000000000000000000000000000000000000"}]
[{"$f":"IFERROR(LEFT(Gerar_Upload!A2183,120),\"erro\")","v":""},{"$f":"IFERROR(SUBSTITUTE(SUBSTITUTE(SUBSTITUTE(Gerar_Upload!B2183,\".\",\"\"),\"-\",\"\"),\"/\",\"\"),\"erro\")","v":""},{"$f":"IFERROR(Gerar_Upload!C2183,\"erro\")","v":0},{"$f":"IFERROR(Gerar_Upload!D2183,\"erro\")","v":0},{"$f":"IFERROR(DATE(YEAR(Gerar_Upload!E2183),MONTH(Gerar_Upload!E2183),DAY(Gerar_Upload!E2183)),\"erro\")","v":"00:00:00"},{"$f":"IFERROR(Gerar_Upload!F2183,\"erro\")","v":0},{"$f":"IFERROR(IF(Gerar_Upload!G2183<44,REPT(0,44-LEN(Gerar_Upload!G2183))&Gerar_Upload!G2183,Gerar_Upload!G2183),\"erro\")","v":"00000000000000000000000000000000000000000000"}]
[{"$f":"IFERROR(LEFT(Gerar_Upload!A2184,120),\"erro\")","v":""},{"$f":"IFERROR(SUBSTITUTE(SUBSTITUTE(SUBSTITUTE(Gerar_Upload!B2184,\".\",\"\"),\"-\",\"\"),\"/\",\"\"),\"erro\")","v":""},{"$f":"IFERROR(Gerar_Upload!C2184,\"erro\")","v":0},{"$f":"IFERROR(Gerar_Upload!D2184,\"erro\")","v":0},{"$f":"IFERROR(DATE(YEAR(Gerar_Upload!E2184),MONTH(Gerar_Upload!E2184),DAY(Gerar_Upload!E2184)),\"erro\")","v":"00:00:00"},{"$f":"IFERROR(Gerar_Upload!F2184,\"erro\")","v":0},{"$f":"IFERROR(IF(Gerar_Upload!G2184<44,REPT(0,44-LEN(Gerar_Upload!G2184))&Gerar_Upload!G2184,Gerar_Upload!G2184),\"erro\")","v":"00000000000000000000000000000000000000000000"}]
[{"$f":"IFERROR(LEFT(Gerar_Upload!A2185,120),\"erro\")","v":""},{"$f":"IFERROR(SUBSTITUTE(SUBSTITUTE(SUBSTITUTE(Gerar_Upload!B2185,\".\",\"\"),\"-\",\"\"),\"/\",\"\"),\"erro\")","v":""},{"$f":"IFERROR(Gerar_Upload!C2185,\"erro\")","v":0},{"$f":"IFERROR(Gerar_Upload!D2185,\"erro\")","v":0},{"$f":"IFERROR(DATE(YEAR(Gerar_Upload!E2185),MONTH(Gerar_Upload!E2185),DAY(Gerar_Upload!E2185)),\"erro\")","v":"00:00:00"},{"$f":"IFERROR(Gerar_Upload!F2185,\"erro\")","v":0},{"$f":"IFERROR(IF(Gerar_Upload!G2185<44,REPT(0,44-LEN(Gerar_Upload!G2185))&Gerar_Upload!G2185,Gerar_Upload!G2185),\"erro\")","v":"00000000000000000000000000000000000000000000"}]
[{"$f":"IFERROR(LEFT(Gerar_Upload!A2186,120),\"erro\")","v":""},{"$f":"IFERROR(SUBSTITUTE(SUBSTITUTE(SUBSTITUTE(Gerar_Upload!B2186,\".\",\"\"),\"-\",\"\"),\"/\",\"\"),\"erro\")","v":""},{"$f":"IFERROR(Gerar_Upload!C2186,\"erro\")","v":0},{"$f":"IFERROR(Gerar_Upload!D2186,\"erro\")","v":0},{"$f":"IFERROR(DATE(YEAR(Gerar_Upload!E2186),MONTH(Gerar_Upload!E2186),DAY(Gerar_Upload!E2186)),\"erro\")","v":"00:00:00"},{"$f":"IFERROR(Gerar_Upload!F2186,\"erro\")","v":0},{"$f":"IFERROR(IF(Gerar_Upload!G2186<44,REPT(0,44-LEN(Gerar_Upload!G2186))&Gerar_Upload!G2186,Gerar_Upload!G2186),\"erro\")","v":"00000000000000000000000000000000000000000000"}]
[{"$f":"IFERROR(LEFT(Gerar_Upload!A2187,120),\"erro\")","v":""},{"$f":"IFERROR(SUBSTITUTE(SUBSTITUTE(SUBSTITUTE(Gerar_Upload!B2187,\".\",\"\"),\"-\",\"\"),\"/\",\"\"),\"erro\")","v":""},{"$f":"IFERROR(Gerar_Upload!C2187,\"erro\")","v":0},{"$f":"IFERROR(Gerar_Upload!D2187,\"erro\")","v":0},{"$f":"IFERROR(DATE(YEAR(Gerar_Upload!E2187),MONTH(Gerar_Upload!E2187),DAY(Gerar_Upload!E2187)),\"erro\")","v":"00:00:00"},{"$f":"IFERROR(Gerar_Upload!F2187,\"erro\")","v":0},{"$f":"IFERROR(IF(Gerar_Upload!G2187<44,REPT(0,44-LEN(Gerar_Upload!G2187))&Gerar_Upload!G2187,Gerar_Upload!G2187),\"erro\")","v":"00000000000000000000000000000000000000000000"}]
[{"$f":"IFERROR(LEFT(Gerar_Upload!A2188,120),\"erro\")","v":""},{"$f":"IFERROR(SUBSTITUTE(SUBSTITUTE(SUBSTITUTE(Gerar_Upload!B2188,\".\",\"\"),\"-\",\"\"),\"/\",\"\"),\"erro\")","v":""},{"$f":"IFERROR(Gerar_Upload!C2188,\"erro\")","v":0},{"$f":"IFERROR(Gerar_Upload!D2188,\"erro\")","v":0},{"$f":"IFERROR(DATE(YEAR(Gerar_Upload!E2188),MONTH(Gerar_Upload!E2188),DAY(Gerar_Upload!E2188)),\"erro\")","v":"00:00:00"},{"$f":"IFERROR(Gerar_Upload!F2188,\"erro\")","v":0},{"$f":"IFERROR(IF(Gerar_Upload!G2188<44,REPT(0,44-LEN(Gerar_Upload!G2188))&Gerar_Upload!G2188,Gerar_Upload!G2188),\"erro\")","v":"00000000000000000000000000000000000000000000"}]
[{"$f":"IFERROR(LEFT(Gerar_Upload!A2189,120),\"erro\")","v":""},{"$f":"IFERROR(SUBSTITUTE(SUBSTITUTE(SUBSTITUTE(Gerar_Upload!B2189,\".\",\"\"),\"-\",\"\"),\"/\",\"\"),\"erro\")","v":""},{"$f":"IFERROR(Gerar_Upload!C2189,\"erro\")","v":0},{"$f":"IFERROR(Gerar_Upload!D2189,\"erro\")","v":0},{"$f":"IFERROR(DATE(YEAR(Gerar_Upload!E2189),MONTH(Gerar_Upload!E2189),DAY(Gerar_Upload!E2189)),\"erro\")","v":"00:00:00"},{"$f":"IFERROR(Gerar_Upload!F2189,\"erro\")","v":0},{"$f":"IFERROR(IF(Gerar_Upload!G2189<44,REPT(0,44-LEN(Gerar_Upload!G2189))&Gerar_Upload!G2189,Gerar_Upload!G2189),\"erro\")","v":"00000000000000000000000000000000000000000000"}]
[{"$f":"IFERROR(LEFT(Gerar_Upload!A2190,120),\"erro\")","v":""},{"$f":"IFERROR(SUBSTITUTE(SUBSTITUTE(SUBSTITUTE(Gerar_Upload!B2190,\".\",\"\"),\"-\",\"\"),\"/\",\"\"),\"erro\")","v":""},{"$f":"IFERROR(Gerar_Upload!C2190,\"erro\")","v":0},{"$f":"IFERROR(Gerar_Upload!D2190,\"erro\")","v":0},{"$f":"IFERROR(DATE(YEAR(Gerar_Upload!E2190),MONTH(Gerar_Upload!E2190),DAY(Gerar_Upload!E2190)),\"erro\")","v":"00:00:00"},{"$f":"IFERROR(Gerar_Upload!F2190,\"erro\")","v":0},{"$f":"IFERROR(IF(Gerar_Upload!G2190<44,REPT(0,44-LEN(Gerar_Upload!G2190))&Gerar_Upload!G2190,Gerar_Upload!G2190),\"erro\")","v":"00000000000000000000000000000000000000000000"}]
[{"$f":"IFERROR(LEFT(Gerar_Upload!A2191,120),\"erro\")","v":""},{"$f":"IFERROR(SUBSTITUTE(SUBSTITUTE(SUBSTITUTE(Gerar_Upload!B2191,\".\",\"\"),\"-\",\"\"),\"/\",\"\"),\"erro\")","v":""},{"$f":"IFERROR(Gerar_Upload!C2191,\"erro\")","v":0},{"$f":"IFERROR(Gerar_Upload!D2191,\"erro\")","v":0},{"$f":"IFERROR(DATE(YEAR(Gerar_Upload!E2191),MONTH(Gerar_Upload!E2191),DAY(Gerar_Upload!E2191)),\"erro\")","v":"00:00:00"},{"$f":"IFERROR(Gerar_Upload!F2191,\"erro\")","v":0},{"$f":"IFERROR(IF(Gerar_Upload!G2191<44,REPT(0,44-LEN(Gerar_Upload!G2191))&Gerar_Upload!G2191,Gerar_Upload!G2191),\"erro\")","v":"00000000000000000000000000000000000000000000"}]
[{"$f":"IFERROR(LEFT(Gerar_Upload!A2192,120),\"erro\")","v":""},{"$f":"IFERROR(SUBSTITUTE(SUBSTITUTE(SUBSTITUTE(Gerar_Upload!B2192,\".\",\"\"),\"-\",\"\"),\"/\",\"\"),\"erro\")","v":""},{"$f":"IFERROR(Gerar_Upload!C2192,\"erro\")","v":0},{"$f":"IFERROR(Gerar_Upload!D2192,\"erro\")","v":0},{"$f":"IFERROR(DATE(YEAR(Gerar_Upload!E2192),MONTH(Gerar_Upload!E2192),DAY(Gerar_Upload!E2192)),\"erro\")","v":"00:00:00"},{"$f":"IFERROR(Gerar_Upload!F2192,\"erro\")","v":0},{"$f":"IFERROR(IF(Gerar_Upload!G2192<44,REPT(0,44-LEN(Gerar_Upload!G2192))&Gerar_Upload!G2192,Gerar_Upload!G2192),\"erro\")","v":"00000000000000000000000000000000000000000000"}]
[{"$f":"IFERROR(LEFT(Gerar_Upload!A2193,120),\"erro\")","v":""},{"$f":"IFERROR(SUBSTITUTE(SUBSTITUTE(SUBSTITUTE(Gerar_Upload!B2193,\".\",\"\"),\"-\",\"\"),\"/\",\"\"),\"erro\")","v":""},{"$f":"IFERROR(Gerar_Upload!C2193,\"erro\")","v":0},{"$f":"IFERROR(Gerar_Upload!D2193,\"erro\")","v":0},{"$f":"IFERROR(DATE(YEAR(Gerar_Upload!E2193),MONTH(Gerar_Upload!E2193),DAY(Gerar_Upload!E2193)),\"erro\")","v":"00:00:00"},{"$f":"IFERROR(Gerar_Upload!F2193,\"erro\")","v":0},{"$f":"IFERROR(IF(Gerar_Upload!G2193<44,REPT(0,44-LEN(Gerar_Upload!G2193))&Gerar_Upload!G2193,Gerar_Upload!G2193),\"erro\")","v":"00000000000000000000000000000000000000000000"}]
[{"$f":"IFERROR(LEFT(Gerar_Upload!A2194,120),\"erro\")","v":""},{"$f":"IFERROR(SUBSTITUTE(SUBSTITUTE(SUBSTITUTE(Gerar_Upload!B2194,\".\",\"\"),\"-\",\"\"),\"/\",\"\"),\"erro\")","v":""},{"$f":"IFERROR(Gerar_Upload!C2194,\"erro\")","v":0},{"$f":"IFERROR(Gerar_Upload!D2194,\"erro\")","v":0},{"$f":"IFERROR(DATE(YEAR(Gerar_Upload!E2194),MONTH(Gerar_Upload!E2194),DAY(Gerar_Upload!E2194)),\"erro\")","v":"00:00:00"},{"$f":"IFERROR(Gerar_Upload!F2194,\"erro\")","v":0},{"$f":"IFERROR(IF(Gerar_Upload!G2194<44,REPT(0,44-LEN(Gerar_Upload!G2194))&Gerar_Upload!G2194,Gerar_Upload!G2194),\"erro\")","v":"00000000000000000000000000000000000000000000"}]
[{"$f":"IFERROR(LEFT(Gerar_Upload!A2195,120),\"erro\")","v":""},{"$f":"IFERROR(SUBSTITUTE(SUBSTITUTE(SUBSTITUTE(Gerar_Upload!B2195,\".\",\"\"),\"-\",\"\"),\"/\",\"\"),\"erro\")","v":""},{"$f":"IFERROR(Gerar_Upload!C2195,\"erro\")","v":0},{"$f":"IFERROR(Gerar_Upload!D2195,\"erro\")","v":0},{"$f":"IFERROR(DATE(YEAR(Gerar_Upload!E2195),MONTH(Gerar_Upload!E2195),DAY(Gerar_Upload!E2195)),\"erro\")","v":"00:00:00"},{"$f":"IFERROR(Gerar_Upload!F2195,\"erro\")","v":0},{"$f":"IFERROR(IF(Gerar_Upload!G2195<44,REPT(0,44-LEN(Gerar_Upload!G2195))&Gerar_Upload!G2195,Gerar_Upload!G2195),\"erro\")","v":"00000000000000000000000000000000000000000000"}]
[{"$f":"IFERROR(LEFT(Gerar_Upload!A2196,120),\"erro\")","v":""},{"$f":"IFERROR(SUBSTITUTE(SUBSTITUTE(SUBSTITUTE(Gerar_Upload!B2196,\".\",\"\"),\"-\",\"\"),\"/\",\"\"),\"erro\")","v":""},{"$f":"IFERROR(Gerar_Upload!C2196,\"erro\")","v":0},{"$f":"IFERROR(Gerar_Upload!D2196,\"erro\")","v":0},{"$f":"IFERROR(DATE(YEAR(Gerar_Upload!E2196),MONTH(Gerar_Upload!E2196),DAY(Gerar_Upload!E2196)),\"erro\")","v":"00:00:00"},{"$f":"IFERROR(Gerar_Upload!F2196,\"erro\")","v":0},{"$f":"IFERROR(IF(Gerar_Upload!G2196<44,REPT(0,44-LEN(Gerar_Upload!G2196))&Gerar_Upload!G2196,Gerar_Upload!G2196),\"erro\")","v":"00000000000000000000000000000000000000000000"}]
[{"$f":"IFERROR(LEFT(Gerar_Upload!A2197,120),\"erro\")","v":""},{"$f":"IFERROR(SUBSTITUTE(SUBSTITUTE(SUBSTITUTE(Gerar_Upload!B2197,\".\",\"\"),\"-\",\"\"),\"/\",\"\"),\"erro\")","v":""},{"$f":"IFERROR(Gerar_Upload!C2197,\"erro\")","v":0},{"$f":"IFERROR(Gerar_Upload!D2197,\"erro\")","v":0},{"$f":"IFERROR(DATE(YEAR(Gerar_Upload!E2197),MONTH(Gerar_Upload!E2197),DAY(Gerar_Upload!E2197)),\"erro\")","v":"00:00:00"},{"$f":"IFERROR(Gerar_Upload!F2197,\"erro\")","v":0},{"$f":"IFERROR(IF(Gerar_Upload!G2197<44,REPT(0,44-LEN(Gerar_Upload!G2197))&Gerar_Upload!G2197,Gerar_Upload!G2197),\"erro\")","v":"00000000000000000000000000000000000000000000"}]
[{"$f":"IFERROR(LEFT(Gerar_Upload!A2198,120),\"erro\")","v":""},{"$f":"IFERROR(SUBSTITUTE(SUBSTITUTE(SUBSTITUTE(Gerar_Upload!B2198,\".\",\"\"),\"-\",\"\"),\"/\",\"\"),\"erro\")","v":""},{"$f":"IFERROR(Gerar_Upload!C2198,\"erro\")","v":0},{"$f":"IFERROR(Gerar_Upload!D2198,\"erro\")","v":0},{"$f":"IFERROR(DATE(YEAR(Gerar_Upload!E2198),MONTH(Gerar_Upload!E2198),DAY(Gerar_Upload!E2198)),\"erro\")","v":"00:00:00"},{"$f":"IFERROR(Gerar_Upload!F2198,\"erro\")","v":0},{"$f":"IFERROR(IF(Gerar_Upload!G2198<44,REPT(0,44-LEN(Gerar_Upload!G2198))&Gerar_Upload!G2198,Gerar_Upload!G2198),\"erro\")","v":"00000000000000000000000000000000000000000000"}]
[{"$f":"IFERROR(LEFT(Gerar_Upload!A2199,120),\"erro\")","v":""},{"$f":"IFERROR(SUBSTITUTE(SUBSTITUTE(SUBSTITUTE(Gerar_Upload!B2199,\".\",\"\"),\"-\",\"\"),\"/\",\"\"),\"erro\")","v":""},{"$f":"IFERROR(Gerar_Upload!C2199,\"erro\")","v":0},{"$f":"IFERROR(Gerar_Upload!D2199,\"erro\")","v":0},{"$f":"IFERROR(DATE(YEAR(Gerar_Upload!E2199),MONTH(Gerar_Upload!E2199),DAY(Gerar_Upload!E2199)),\"erro\")","v":"00:00:00"},{"$f":"IFERROR(Gerar_Upload!F2199,\"erro\")","v":0},{"$f":"IFERROR(IF(Gerar_Upload!G2199<44,REPT(0,44-LEN(Gerar_Upload!G2199))&Gerar_Upload!G2199,Gerar_Upload!G2199),\"erro\")","v":"00000000000000000000000000000000000000000000"}]
[{"$f":"IFERROR(LEFT(Gerar_Upload!A2200,120),\"erro\")","v":""},{"$f":"IFERROR(SUBSTITUTE(SUBSTITUTE(SUBSTITUTE(Gerar_Upload!B2200,\".\",\"\"),\"-\",\"\"),\"/\",\"\"),\"erro\")","v":""},{"$f":"IFERROR(Gerar_Upload!C2200,\"erro\")","v":0},{"$f":"IFERROR(Gerar_Upload!D2200,\"erro\")","v":0},{"$f":"IFERROR(DATE(YEAR(Gerar_Upload!E2200),MONTH(Gerar_Upload!E2200),DAY(Gerar_Upload!E2200)),\"erro\")","v":"00:00:00"},{"$f":"IFERROR(Gerar_Upload!F2200,\"erro\")","v":0},{"$f":"IFERROR(IF(Gerar_Upload!G2200<44,REPT(0,44-LEN(Gerar_Upload!G2200))&Gerar_Upload!G2200,Gerar_Upload!G2200),\"erro\")","v":"00000000000000000000000000000000000000000000"}]
[{"$f":"IFERROR(LEFT(Gerar_Upload!A2201,120),\"erro\")","v":""},{"$f":"IFERROR(SUBSTITUTE(SUBSTITUTE(SUBSTITUTE(Gerar_Upload!B2201,\".\",\"\"),\"-\",\"\"),\"/\",\"\"),\"erro\")","v":""},{"$f":"IFERROR(Gerar_Upload!C2201,\"erro\")","v":0},{"$f":"IFERROR(Gerar_Upload!D2201,\"erro\")","v":0},{"$f":"IFERROR(DATE(YEAR(Gerar_Upload!E2201),MONTH(Gerar_Upload!E2201),DAY(Gerar_Upload!E2201)),\"erro\")","v":"00:00:00"},{"$f":"IFERROR(Gerar_Upload!F2201,\"erro\")","v":0},{"$f":"IFERROR(IF(Gerar_Upload!G2201<44,REPT(0,44-LEN(Gerar_Upload!G2201))&Gerar_Upload!G2201,Gerar_Upload!G2201),\"erro\")","v":"00000000000000000000000000000000000000000000"}]
[{"$f":"IFERROR(LEFT(Gerar_Upload!A2202,120),\"erro\")","v":""},{"$f":"IFERROR(SUBSTITUTE(SUBSTITUTE(SUBSTITUTE(Gerar_Upload!B2202,\".\",\"\"),\"-\",\"\"),\"/\",\"\"),\"erro\")","v":""},{"$f":"IFERROR(Gerar_Upload!C2202,\"erro\")","v":0},{"$f":"IFERROR(Gerar_Upload!D2202,\"erro\")","v":0},{"$f":"IFERROR(DATE(YEAR(Gerar_Upload!E2202),MONTH(Gerar_Upload!E2202),DAY(Gerar_Upload!E2202)),\"erro\")","v":"00:00:00"},{"$f":"IFERROR(Gerar_Upload!F2202,\"erro\")","v":0},{"$f":"IFERROR(IF(Gerar_Upload!G2202<44,REPT(0,44-LEN(Gerar_Upload!G2202))&Gerar_Upload!G2202,Gerar_Upload!G2202),\"erro\")","v":"00000000000000000000000000000000000000000000"}]
[{"$f":"IFERROR(LEFT(Gerar_Upload!A2203,120),\"erro\")","v":""},{"$f":"IFERROR(SUBSTITUTE(SUBSTITUTE(SUBSTITUTE(Gerar_Upload!B2203,\".\",\"\"),\"-\",\"\"),\"/\",\"\"),\"erro\")","v":""},{"$f":"IFERROR(Gerar_Upload!C2203,\"erro\")","v":0},{"$f":"IFERROR(Gerar_Upload!D2203,\"erro\")","v":0},{"$f":"IFERROR(DATE(YEAR(Gerar_Upload!E2203),MONTH(Gerar_Upload!E2203),DAY(Gerar_Upload!E2203)),\"erro\")","v":"00:00:00"},{"$f":"IFERROR(Gerar_Upload!F2203,\"erro\")","v":0},{"$f":"IFERROR(IF(Gerar_Upload!G2203<44,REPT(0,44-LEN(Gerar_Upload!G2203))&Gerar_Upload!G2203,Gerar_Upload!G2203),\"erro\")","v":"00000000000000000000000000000000000000000000"}]
[{"$f":"IFERROR(LEFT(Gerar_Upload!A2204,120),\"erro\")","v":""},{"$f":"IFERROR(SUBSTITUTE(SUBSTITUTE(SUBSTITUTE(Gerar_Upload!B2204,\".\",\"\"),\"-\",\"\"),\"/\",\"\"),\"erro\")","v":""},{"$f":"IFERROR(Gerar_Upload!C2204,\"erro\")","v":0},{"$f":"IFERROR(Gerar_Upload!D2204,\"erro\")","v":0},{"$f":"IFERROR(DATE(YEAR(Gerar_Upload!E2204),MONTH(Gerar_Upload!E2204),DAY(Gerar_Upload!E2204)),\"erro\")","v":"00:00:00"},{"$f":"IFERROR(Gerar_Upload!F2204,\"erro\")","v":0},{"$f":"IFERROR(IF(Gerar_Upload!G2204<44,REPT(0,44-LEN(Gerar_Upload!G2204))&Gerar_Upload!G2204,Gerar_Upload!G2204),\"erro\")","v":"00000000000000000000000000000000000000000000"}]
[{"$f":"IFERROR(LEFT(Gerar_Upload!A2205,120),\"erro\")","v":""},{"$f":"IFERROR(SUBSTITUTE(SUBSTITUTE(SUBSTITUTE(Gerar_Upload!B2205,\".\",\"\"),\"-\",\"\"),\"/\",\"\"),\"erro\")","v":""},{"$f":"IFERROR(Gerar_Upload!C2205,\"erro\")","v":0},{"$f":"IFERROR(Gerar_Upload!D2205,\"erro\")","v":0},{"$f":"IFERROR(DATE(YEAR(Gerar_Upload!E2205),MONTH(Gerar_Upload!E2205),DAY(Gerar_Upload!E2205)),\"erro\")","v":"00:00:00"},{"$f":"IFERROR(Gerar_Upload!F2205,\"erro\")","v":0},{"$f":"IFERROR(IF(Gerar_Upload!G2205<44,REPT(0,44-LEN(Gerar_Upload!G2205))&Gerar_Upload!G2205,Gerar_Upload!G2205),\"erro\")","v":"00000000000000000000000000000000000000000000"}]
[{"$f":"IFERROR(LEFT(Gerar_Upload!A2206,120),\"erro\")","v":""},{"$f":"IFERROR(SUBSTITUTE(SUBSTITUTE(SUBSTITUTE(Gerar_Upload!B2206,\".\",\"\"),\"-\",\"\"),\"/\",\"\"),\"erro\")","v":""},{"$f":"IFERROR(Gerar_Upload!C2206,\"erro\")","v":0},{"$f":"IFERROR(Gerar_Upload!D2206,\"erro\")","v":0},{"$f":"IFERROR(DATE(YEAR(Gerar_Upload!E2206),MONTH(Gerar_Upload!E2206),DAY(Gerar_Upload!E2206)),\"erro\")","v":"00:00:00"},{"$f":"IFERROR(Gerar_Upload!F2206,\"erro\")","v":0},{"$f":"IFERROR(IF(Gerar_Upload!G2206<44,REPT(0,44-LEN(Gerar_Upload!G2206))&Gerar_Upload!G2206,Gerar_Upload!G2206),\"erro\")","v":"00000000000000000000000000000000000000000000"}]
[{"$f":"IFERROR(LEFT(Gerar_Upload!A2207,120),\"erro\")","v":""},{"$f":"IFERROR(SUBSTITUTE(SUBSTITUTE(SUBSTITUTE(Gerar_Upload!B2207,\".\",\"\"),\"-\",\"\"),\"/\",\"\"),\"erro\")","v":""},{"$f":"IFERROR(Gerar_Upload!C2207,\"erro\")","v":0},{"$f":"IFERROR(Gerar_Upload!D2207,\"erro\")","v":0},{"$f":"IFERROR(DATE(YEAR(Gerar_Upload!E2207),MONTH(Gerar_Upload!E2207),DAY(Gerar_Upload!E2207)),\"erro\")","v":"00:00:00"},{"$f":"IFERROR(Gerar_Upload!F2207,\"erro\")","v":0},{"$f":"IFERROR(IF(Gerar_Upload!G2207<44,REPT(0,44-LEN(Gerar_Upload!G2207))&Gerar_Upload!G2207,Gerar_Upload!G2207),\"erro\")","v":"00000000000000000000000000000000000000000000"}]
[{"$f":"IFERROR(LEFT(Gerar_Upload!A2208,120),\"erro\")","v":""},{"$f":"IFERROR(SUBSTITUTE(SUBSTITUTE(SUBSTITUTE(Gerar_Upload!B2208,\".\",\"\"),\"-\",\"\"),\"/\",\"\"),\"erro\")","v":""},{"$f":"IFERROR(Gerar_Upload!C2208,\"erro\")","v":0},{"$f":"IFERROR(Gerar_Upload!D2208,\"erro\")","v":0},{"$f":"IFERROR(DATE(YEAR(Gerar_Upload!E2208),MONTH(Gerar_Upload!E2208),DAY(Gerar_Upload!E2208)),\"erro\")","v":"00:00:00"},{"$f":"IFERROR(Gerar_Upload!F2208,\"erro\")","v":0},{"$f":"IFERROR(IF(Gerar_Upload!G2208<44,REPT(0,44-LEN(Gerar_Upload!G2208))&Gerar_Upload!G2208,Gerar_Upload!G2208),\"erro\")","v":"00000000000000000000000000000000000000000000"}]
[{"$f":"IFERROR(LEFT(Gerar_Upload!A2209,120),\"erro\")","v":""},{"$f":"IFERROR(SUBSTITUTE(SUBSTITUTE(SUBSTITUTE(Gerar_Upload!B2209,\".\",\"\"),\"-\",\"\"),\"/\",\"\"),\"erro\")","v":""},{"$f":"IFERROR(Gerar_Upload!C2209,\"erro\")","v":0},{"$f":"IFERROR(Gerar_Upload!D2209,\"erro\")","v":0},{"$f":"IFERROR(DATE(YEAR(Gerar_Upload!E2209),MONTH(Gerar_Upload!E2209),DAY(Gerar_Upload!E2209)),\"erro\")","v":"00:00:00"},{"$f":"IFERROR(Gerar_Upload!F2209,\"erro\")","v":0},{"$f":"IFERROR(IF(Gerar_Upload!G2209<44,REPT(0,44-LEN(Gerar_Upload!G2209))&Gerar_Upload!G2209,Gerar_Upload!G2209),\"erro\")","v":"00000000000000000000000000000000000000000000"}]
[{"$f":"IFERROR(LEFT(Gerar_Upload!A2210,120),\"erro\")","v":""},{"$f":"IFERROR(SUBSTITUTE(SUBSTITUTE(SUBSTITUTE(Gerar_Upload!B2210,\".\",\"\"),\"-\",\"\"),\"/\",\"\"),\"erro\")","v":""},{"$f":"IFERROR(Gerar_Upload!C2210,\"erro\")","v":0},{"$f":"IFERROR(Gerar_Upload!D2210,\"erro\")","v":0},{"$f":"IFERROR(DATE(YEAR(Gerar_Upload!E2210),MONTH(Gerar_Upload!E2210),DAY(Gerar_Upload!E2210)),\"erro\")","v":"00:00:00"},{"$f":"IFERROR(Gerar_Upload!F2210,\"erro\")","v":0},{"$f":"IFERROR(IF(Gerar_Upload!G2210<44,REPT(0,44-LEN(Gerar_Upload!G2210))&Gerar_Upload!G2210,Gerar_Upload!G2210),\"erro\")","v":"00000000000000000000000000000000000000000000"}]
[{"$f":"IFERROR(LEFT(Gerar_Upload!A2211,120),\"erro\")","v":""},{"$f":"IFERROR(SUBSTITUTE(SUBSTITUTE(SUBSTITUTE(Gerar_Upload!B2211,\".\",\"\"),\"-\",\"\"),\"/\",\"\"),\"erro\")","v":""},{"$f":"IFERROR(Gerar_Upload!C2211,\"erro\")","v":0},{"$f":"IFERROR(Gerar_Upload!D2211,\"erro\")","v":0},{"$f":"IFERROR(DATE(YEAR(Gerar_Upload!E2211),MONTH(Gerar_Upload!E2211),DAY(Gerar_Upload!E2211)),\"erro\")","v":"00:00:00"},{"$f":"IFERROR(Gerar_Upload!F2211,\"erro\")","v":0},{"$f":"IFERROR(IF(Gerar_Upload!G2211<44,REPT(0,44-LEN(Gerar_Upload!G2211))&Gerar_Upload!G2211,Gerar_Upload!G2211),\"erro\")","v":"00000000000000000000000000000000000000000000"}]
[{"$f":"IFERROR(LEFT(Gerar_Upload!A2212,120),\"erro\")","v":""},{"$f":"IFERROR(SUBSTITUTE(SUBSTITUTE(SUBSTITUTE(Gerar_Upload!B2212,\".\",\"\"),\"-\",\"\"),\"/\",\"\"),\"erro\")","v":""},{"$f":"IFERROR(Gerar_Upload!C2212,\"erro\")","v":0},{"$f":"IFERROR(Gerar_Upload!D2212,\"erro\")","v":0},{"$f":"IFERROR(DATE(YEAR(Gerar_Upload!E2212),MONTH(Gerar_Upload!E2212),DAY(Gerar_Upload!E2212)),\"erro\")","v":"00:00:00"},{"$f":"IFERROR(Gerar_Upload!F2212,\"erro\")","v":0},{"$f":"IFERROR(IF(Gerar_Upload!G2212<44,REPT(0,44-LEN(Gerar_Upload!G2212))&Gerar_Upload!G2212,Gerar_Upload!G2212),\"erro\")","v":"00000000000000000000000000000000000000000000"}]
[{"$f":"IFERROR(LEFT(Gerar_Upload!A2213,120),\"erro\")","v":""},{"$f":"IFERROR(SUBSTITUTE(SUBSTITUTE(SUBSTITUTE(Gerar_Upload!B2213,\".\",\"\"),\"-\",\"\"),\"/\",\"\"),\"erro\")","v":""},{"$f":"IFERROR(Gerar_Upload!C2213,\"erro\")","v":0},{"$f":"IFERROR(Gerar_Upload!D2213,\"erro\")","v":0},{"$f":"IFERROR(DATE(YEAR(Gerar_Upload!E2213),MONTH(Gerar_Upload!E2213),DAY(Gerar_Upload!E2213)),\"erro\")","v":"00:00:00"},{"$f":"IFERROR(Gerar_Upload!F2213,\"erro\")","v":0},{"$f":"IFERROR(IF(Gerar_Upload!G2213<44,REPT(0,44-LEN(Gerar_Upload!G2213))&Gerar_Upload!G2213,Gerar_Upload!G2213),\"erro\")","v":"00000000000000000000000000000000000000000000"}]
[{"$f":"IFERROR(LEFT(Gerar_Upload!A2214,120),\"erro\")","v":""},{"$f":"IFERROR(SUBSTITUTE(SUBSTITUTE(SUBSTITUTE(Gerar_Upload!B2214,\".\",\"\"),\"-\",\"\"),\"/\",\"\"),\"erro\")","v":""},{"$f":"IFERROR(Gerar_Upload!C2214,\"erro\")","v":0},{"$f":"IFERROR(Gerar_Upload!D2214,\"erro\")","v":0},{"$f":"IFERROR(DATE(YEAR(Gerar_Upload!E2214),MONTH(Gerar_Upload!E2214),DAY(Gerar_Upload!E2214)),\"erro\")","v":"00:00:00"},{"$f":"IFERROR(Gerar_Upload!F2214,\"erro\")","v":0},{"$f":"IFERROR(IF(Gerar_Upload!G2214<44,REPT(0,44-LEN(Gerar_Upload!G2214))&Gerar_Upload!G2214,Gerar_Upload!G2214),\"erro\")","v":"00000000000000000000000000000000000000000000"}]
[{"$f":"IFERROR(LEFT(Gerar_Upload!A2215,120),\"erro\")","v":""},{"$f":"IFERROR(SUBSTITUTE(SUBSTITUTE(SUBSTITUTE(Gerar_Upload!B2215,\".\",\"\"),\"-\",\"\"),\"/\",\"\"),\"erro\")","v":""},{"$f":"IFERROR(Gerar_Upload!C2215,\"erro\")","v":0},{"$f":"IFERROR(Gerar_Upload!D2215,\"erro\")","v":0},{"$f":"IFERROR(DATE(YEAR(Gerar_Upload!E2215),MONTH(Gerar_Upload!E2215),DAY(Gerar_Upload!E2215)),\"erro\")","v":"00:00:00"},{"$f":"IFERROR(Gerar_Upload!F2215,\"erro\")","v":0},{"$f":"IFERROR(IF(Gerar_Upload!G2215<44,REPT(0,44-LEN(Gerar_Upload!G2215))&Gerar_Upload!G2215,Gerar_Upload!G2215),\"erro\")","v":"00000000000000000000000000000000000000000000"}]
[{"$f":"IFERROR(LEFT(Gerar_Upload!A2216,120),\"erro\")","v":""},{"$f":"IFERROR(SUBSTITUTE(SUBSTITUTE(SUBSTITUTE(Gerar_Upload!B2216,\".\",\"\"),\"-\",\"\"),\"/\",\"\"),\"erro\")","v":""},{"$f":"IFERROR(Gerar_Upload!C2216,\"erro\")","v":0},{"$f":"IFERROR(Gerar_Upload!D2216,\"erro\")","v":0},{"$f":"IFERROR(DATE(YEAR(Gerar_Upload!E2216),MONTH(Gerar_Upload!E2216),DAY(Gerar_Upload!E2216)),\"erro\")","v":"00:00:00"},{"$f":"IFERROR(Gerar_Upload!F2216,\"erro\")","v":0},{"$f":"IFERROR(IF(Gerar_Upload!G2216<44,REPT(0,44-LEN(Gerar_Upload!G2216))&Gerar_Upload!G2216,Gerar_Upload!G2216),\"erro\")","v":"00000000000000000000000000000000000000000000"}]
[{"$f":"IFERROR(LEFT(Gerar_Upload!A2217,120),\"erro\")","v":""},{"$f":"IFERROR(SUBSTITUTE(SUBSTITUTE(SUBSTITUTE(Gerar_Upload!B2217,\".\",\"\"),\"-\",\"\"),\"/\",\"\"),\"erro\")","v":""},{"$f":"IFERROR(Gerar_Upload!C2217,\"erro\")","v":0},{"$f":"IFERROR(Gerar_Upload!D2217,\"erro\")","v":0},{"$f":"IFERROR(DATE(YEAR(Gerar_Upload!E2217),MONTH(Gerar_Upload!E2217),DAY(Gerar_Upload!E2217)),\"erro\")","v":"00:00:00"},{"$f":"IFERROR(Gerar_Upload!F2217,\"erro\")","v":0},{"$f":"IFERROR(IF(Gerar_Upload!G2217<44,REPT(0,44-LEN(Gerar_Upload!G2217))&Gerar_Upload!G2217,Gerar_Upload!G2217),\"erro\")","v":"00000000000000000000000000000000000000000000"}]
[{"$f":"IFERROR(LEFT(Gerar_Upload!A2218,120),\"erro\")","v":""},{"$f":"IFERROR(SUBSTITUTE(SUBSTITUTE(SUBSTITUTE(Gerar_Upload!B2218,\".\",\"\"),\"-\",\"\"),\"/\",\"\"),\"erro\")","v":""},{"$f":"IFERROR(Gerar_Upload!C2218,\"erro\")","v":0},{"$f":"IFERROR(Gerar_Upload!D2218,\"erro\")","v":0},{"$f":"IFERROR(DATE(YEAR(Gerar_Upload!E2218),MONTH(Gerar_Upload!E2218),DAY(Gerar_Upload!E2218)),\"erro\")","v":"00:00:00"},{"$f":"IFERROR(Gerar_Upload!F2218,\"erro\")","v":0},{"$f":"IFERROR(IF(Gerar_Upload!G2218<44,REPT(0,44-LEN(Gerar_Upload!G2218))&Gerar_Upload!G2218,Gerar_Upload!G2218),\"erro\")","v":"00000000000000000000000000000000000000000000"}]
[{"$f":"IFERROR(LEFT(Gerar_Upload!A2219,120),\"erro\")","v":""},{"$f":"IFERROR(SUBSTITUTE(SUBSTITUTE(SUBSTITUTE(Gerar_Upload!B2219,\".\",\"\"),\"-\",\"\"),\"/\",\"\"),\"erro\")","v":""},{"$f":"IFERROR(Gerar_Upload!C2219,\"erro\")","v":0},{"$f":"IFERROR(Gerar_Upload!D2219,\"erro\")","v":0},{"$f":"IFERROR(DATE(YEAR(Gerar_Upload!E2219),MONTH(Gerar_Upload!E2219),DAY(Gerar_Upload!E2219)),\"erro\")","v":"00:00:00"},{"$f":"IFERROR(Gerar_Upload!F2219,\"erro\")","v":0},{"$f":"IFERROR(IF(Gerar_Upload!G2219<44,REPT(0,44-LEN(Gerar_Upload!G2219))&Gerar_Upload!G2219,Gerar_Upload!G2219),\"erro\")","v":"00000000000000000000000000000000000000000000"}]
[{"$f":"IFERROR(LEFT(Gerar_Upload!A2220,120),\"erro\")","v":""},{"$f":"IFERROR(SUBSTITUTE(SUBSTITUTE(SUBSTITUTE(Gerar_Upload!B2220,\".\",\"\"),\"-\",\"\"),\"/\",\"\"),\"erro\")","v":""},{"$f":"IFERROR(Gerar_Upload!C2220,\"erro\")","v":0},{"$f":"IFERROR(Gerar_Upload!D2220,\"erro\")","v":0},{"$f":"IFERROR(DATE(YEAR(Gerar_Upload!E2220),MONTH(Gerar_Upload!E2220),DAY(Gerar_Upload!E2220)),\"erro\")","v":"00:00:00"},{"$f":"IFERROR(Gerar_Upload!F2220,\"erro\")","v":0},{"$f":"IFERROR(IF(Gerar_Upload!G2220<44,REPT(0,44-LEN(Gerar_Upload!G2220))&Gerar_Upload!G2220,Gerar_Upload!G2220),\"erro\")","v":"00000000000000000000000000000000000000000000"}]
[{"$f":"IFERROR(LEFT(Gerar_Upload!A2221,120),\"erro\")","v":""},{"$f":"IFERROR(SUBSTITUTE(SUBSTITUTE(SUBSTITUTE(Gerar_Upload!B2221,\".\",\"\"),\"-\",\"\"),\"/\",\"\"),\"erro\")","v":""},{"$f":"IFERROR(Gerar_Upload!C2221,\"erro\")","v":0},{"$f":"IFERROR(Gerar_Upload!D2221,\"erro\")","v":0},{"$f":"IFERROR(DATE(YEAR(Gerar_Upload!E2221),MONTH(Gerar_Upload!E2221),DAY(Gerar_Upload!E2221)),\"erro\")","v":"00:00:00"},{"$f":"IFERROR(Gerar_Upload!F2221,\"erro\")","v":0},{"$f":"IFERROR(IF(Gerar_Upload!G2221<44,REPT(0,44-LEN(Gerar_Upload!G2221))&Gerar_Upload!G2221,Gerar_Upload!G2221),\"erro\")","v":"00000000000000000000000000000000000000000000"}]
[{"$f":"IFERROR(LEFT(Gerar_Upload!A2222,120),\"erro\")","v":""},{"$f":"IFERROR(SUBSTITUTE(SUBSTITUTE(SUBSTITUTE(Gerar_Upload!B2222,\".\",\"\"),\"-\",\"\"),\"/\",\"\"),\"erro\")","v":""},{"$f":"IFERROR(Gerar_Upload!C2222,\"erro\")","v":0},{"$f":"IFERROR(Gerar_Upload!D2222,\"erro\")","v":0},{"$f":"IFERROR(DATE(YEAR(Gerar_Upload!E2222),MONTH(Gerar_Upload!E2222),DAY(Gerar_Upload!E2222)),\"erro\")","v":"00:00:00"},{"$f":"IFERROR(Gerar_Upload!F2222,\"erro\")","v":0},{"$f":"IFERROR(IF(Gerar_Upload!G2222<44,REPT(0,44-LEN(Gerar_Upload!G2222))&Gerar_Upload!G2222,Gerar_Upload!G2222),\"erro\")","v":"00000000000000000000000000000000000000000000"}]
[{"$f":"IFERROR(LEFT(Gerar_Upload!A2223,120),\"erro\")","v":""},{"$f":"IFERROR(SUBSTITUTE(SUBSTITUTE(SUBSTITUTE(Gerar_Upload!B2223,\".\",\"\"),\"-\",\"\"),\"/\",\"\"),\"erro\")","v":""},{"$f":"IFERROR(Gerar_Upload!C2223,\"erro\")","v":0},{"$f":"IFERROR(Gerar_Upload!D2223,\"erro\")","v":0},{"$f":"IFERROR(DATE(YEAR(Gerar_Upload!E2223),MONTH(Gerar_Upload!E2223),DAY(Gerar_Upload!E2223)),\"erro\")","v":"00:00:00"},{"$f":"IFERROR(Gerar_Upload!F2223,\"erro\")","v":0},{"$f":"IFERROR(IF(Gerar_Upload!G2223<44,REPT(0,44-LEN(Gerar_Upload!G2223))&Gerar_Upload!G2223,Gerar_Upload!G2223),\"erro\")","v":"00000000000000000000000000000000000000000000"}]
[{"$f":"IFERROR(LEFT(Gerar_Upload!A2224,120),\"erro\")","v":""},{"$f":"IFERROR(SUBSTITUTE(SUBSTITUTE(SUBSTITUTE(Gerar_Upload!B2224,\".\",\"\"),\"-\",\"\"),\"/\",\"\"),\"erro\")","v":""},{"$f":"IFERROR(Gerar_Upload!C2224,\"erro\")","v":0},{"$f":"IFERROR(Gerar_Upload!D2224,\"erro\")","v":0},{"$f":"IFERROR(DATE(YEAR(Gerar_Upload!E2224),MONTH(Gerar_Upload!E2224),DAY(Gerar_Upload!E2224)),\"erro\")","v":"00:00:00"},{"$f":"IFERROR(Gerar_Upload!F2224,\"erro\")","v":0},{"$f":"IFERROR(IF(Gerar_Upload!G2224<44,REPT(0,44-LEN(Gerar_Upload!G2224))&Gerar_Upload!G2224,Gerar_Upload!G2224),\"erro\")","v":"00000000000000000000000000000000000000000000"}]
[{"$f":"IFERROR(LEFT(Gerar_Upload!A2225,120),\"erro\")","v":""},{"$f":"IFERROR(SUBSTITUTE(SUBSTITUTE(SUBSTITUTE(Gerar_Upload!B2225,\".\",\"\"),\"-\",\"\"),\"/\",\"\"),\"erro\")","v":""},{"$f":"IFERROR(Gerar_Upload!C2225,\"erro\")","v":0},{"$f":"IFERROR(Gerar_Upload!D2225,\"erro\")","v":0},{"$f":"IFERROR(DATE(YEAR(Gerar_Upload!E2225),MONTH(Gerar_Upload!E2225),DAY(Gerar_Upload!E2225)),\"erro\")","v":"00:00:00"},{"$f":"IFERROR(Gerar_Upload!F2225,\"erro\")","v":0},{"$f":"IFERROR(IF(Gerar_Upload!G2225<44,REPT(0,44-LEN(Gerar_Upload!G2225))&Gerar_Upload!G2225,Gerar_Upload!G2225),\"erro\")","v":"00000000000000000000000000000000000000000000"}]
[{"$f":"IFERROR(LEFT(Gerar_Upload!A2226,120),\"erro\")","v":""},{"$f":"IFERROR(SUBSTITUTE(SUBSTITUTE(SUBSTITUTE(Gerar_Upload!B2226,\".\",\"\"),\"-\",\"\"),\"/\",\"\"),\"erro\")","v":""},{"$f":"IFERROR(Gerar_Upload!C2226,\"erro\")","v":0},{"$f":"IFERROR(Gerar_Upload!D2226,\"erro\")","v":0},{"$f":"IFERROR(DATE(YEAR(Gerar_Upload!E2226),MONTH(Gerar_Upload!E2226),DAY(Gerar_Upload!E2226)),\"erro\")","v":"00:00:00"},{"$f":"IFERROR(Gerar_Upload!F2226,\"erro\")","v":0},{"$f":"IFERROR(IF(Gerar_Upload!G2226<44,REPT(0,44-LEN(Gerar_Upload!G2226))&Gerar_Upload!G2226,Gerar_Upload!G2226),\"erro\")","v":"00000000000000000000000000000000000000000000"}]
[{"$f":"IFERROR(LEFT(Gerar_Upload!A2227,120),\"erro\")","v":""},{"$f":"IFERROR(SUBSTITUTE(SUBSTITUTE(SUBSTITUTE(Gerar_Upload!B2227,\".\",\"\"),\"-\",\"\"),\"/\",\"\"),\"erro\")","v":""},{"$f":"IFERROR(Gerar_Upload!C2227,\"erro\")","v":0},{"$f":"IFERROR(Gerar_Upload!D2227,\"erro\")","v":0},{"$f":"IFERROR(DATE(YEAR(Gerar_Upload!E2227),MONTH(Gerar_Upload!E2227),DAY(Gerar_Upload!E2227)),\"erro\")","v":"00:00:00"},{"$f":"IFERROR(Gerar_Upload!F2227,\"erro\")","v":0},{"$f":"IFERROR(IF(Gerar_Upload!G2227<44,REPT(0,44-LEN(Gerar_Upload!G2227))&Gerar_Upload!G2227,Gerar_Upload!G2227),\"erro\")","v":"00000000000000000000000000000000000000000000"}]
[{"$f":"IFERROR(LEFT(Gerar_Upload!A2228,120),\"erro\")","v":""},{"$f":"IFERROR(SUBSTITUTE(SUBSTITUTE(SUBSTITUTE(Gerar_Upload!B2228,\".\",\"\"),\"-\",\"\"),\"/\",\"\"),\"erro\")","v":""},{"$f":"IFERROR(Gerar_Upload!C2228,\"erro\")","v":0},{"$f":"IFERROR(Gerar_Upload!D2228,\"erro\")","v":0},{"$f":"IFERROR(DATE(YEAR(Gerar_Upload!E2228),MONTH(Gerar_Upload!E2228),DAY(Gerar_Upload!E2228)),\"erro\")","v":"00:00:00"},{"$f":"IFERROR(Gerar_Upload!F2228,\"erro\")","v":0},{"$f":"IFERROR(IF(Gerar_Upload!G2228<44,REPT(0,44-LEN(Gerar_Upload!G2228))&Gerar_Upload!G2228,Gerar_Upload!G2228),\"erro\")","v":"00000000000000000000000000000000000000000000"}]
[{"$f":"IFERROR(LEFT(Gerar_Upload!A2229,120),\"erro\")","v":""},{"$f":"IFERROR(SUBSTITUTE(SUBSTITUTE(SUBSTITUTE(Gerar_Upload!B2229,\".\",\"\"),\"-\",\"\"),\"/\",\"\"),\"erro\")","v":""},{"$f":"IFERROR(Gerar_Upload!C2229,\"erro\")","v":0},{"$f":"IFERROR(Gerar_Upload!D2229,\"erro\")","v":0},{"$f":"IFERROR(DATE(YEAR(Gerar_Upload!E2229),MONTH(Gerar_Upload!E2229),DAY(Gerar_Upload!E2229)),\"erro\")","v":"00:00:00"},{"$f":"IFERROR(Gerar_Upload!F2229,\"erro\")","v":0},{"$f":"IFERROR(IF(Gerar_Upload!G2229<44,REPT(0,44-LEN(Gerar_Upload!G2229))&Gerar_Upload!G2229,Gerar_Upload!G2229),\"erro\")","v":"00000000000000000000000000000000000000000000"}]
[{"$f":"IFERROR(LEFT(Gerar_Upload!A2230,120),\"erro\")","v":""},{"$f":"IFERROR(SUBSTITUTE(SUBSTITUTE(SUBSTITUTE(Gerar_Upload!B2230,\".\",\"\"),\"-\",\"\"),\"/\",\"\"),\"erro\")","v":""},{"$f":"IFERROR(Gerar_Upload!C2230,\"erro\")","v":0},{"$f":"IFERROR(Gerar_Upload!D2230,\"erro\")","v":0},{"$f":"IFERROR(DATE(YEAR(Gerar_Upload!E2230),MONTH(Gerar_Upload!E2230),DAY(Gerar_Upload!E2230)),\"erro\")","v":"00:00:00"},{"$f":"IFERROR(Gerar_Upload!F2230,\"erro\")","v":0},{"$f":"IFERROR(IF(Gerar_Upload!G2230<44,REPT(0,44-LEN(Gerar_Upload!G2230))&Gerar_Upload!G2230,Gerar_Upload!G2230),\"erro\")","v":"00000000000000000000000000000000000000000000"}]
[{"$f":"IFERROR(LEFT(Gerar_Upload!A2231,120),\"erro\")","v":""},{"$f":"IFERROR(SUBSTITUTE(SUBSTITUTE(SUBSTITUTE(Gerar_Upload!B2231,\".\",\"\"),\"-\",\"\"),\"/\",\"\"),\"erro\")","v":""},{"$f":"IFERROR(Gerar_Upload!C2231,\"erro\")","v":0},{"$f":"IFERROR(Gerar_Upload!D2231,\"erro\")","v":0},{"$f":"IFERROR(DATE(YEAR(Gerar_Upload!E2231),MONTH(Gerar_Upload!E2231),DAY(Gerar_Upload!E2231)),\"erro\")","v":"00:00:00"},{"$f":"IFERROR(Gerar_Upload!F2231,\"erro\")","v":0},{"$f":"IFERROR(IF(Gerar_Upload!G2231<44,REPT(0,44-LEN(Gerar_Upload!G2231))&Gerar_Upload!G2231,Gerar_Upload!G2231),\"erro\")","v":"00000000000000000000000000000000000000000000"}]
[{"$f":"IFERROR(LEFT(Gerar_Upload!A2232,120),\"erro\")","v":""},{"$f":"IFERROR(SUBSTITUTE(SUBSTITUTE(SUBSTITUTE(Gerar_Upload!B2232,\".\",\"\"),\"-\",\"\"),\"/\",\"\"),\"erro\")","v":""},{"$f":"IFERROR(Gerar_Upload!C2232,\"erro\")","v":0},{"$f":"IFERROR(Gerar_Upload!D2232,\"erro\")","v":0},{"$f":"IFERROR(DATE(YEAR(Gerar_Upload!E2232),MONTH(Gerar_Upload!E2232),DAY(Gerar_Upload!E2232)),\"erro\")","v":"00:00:00"},{"$f":"IFERROR(Gerar_Upload!F2232,\"erro\")","v":0},{"$f":"IFERROR(IF(Gerar_Upload!G2232<44,REPT(0,44-LEN(Gerar_Upload!G2232))&Gerar_Upload!G2232,Gerar_Upload!G2232),\"erro\")","v":"00000000000000000000000000000000000000000000"}]
[{"$f":"IFERROR(LEFT(Gerar_Upload!A2233,120),\"erro\")","v":""},{"$f":"IFERROR(SUBSTITUTE(SUBSTITUTE(SUBSTITUTE(Gerar_Upload!B2233,\".\",\"\"),\"-\",\"\"),\"/\",\"\"),\"erro\")","v":""},{"$f":"IFERROR(Gerar_Upload!C2233,\"erro\")","v":0},{"$f":"IFERROR(Gerar_Upload!D2233,\"erro\")","v":0},{"$f":"IFERROR(DATE(YEAR(Gerar_Upload!E2233),MONTH(Gerar_Upload!E2233),DAY(Gerar_Upload!E2233)),\"erro\")","v":"00:00:00"},{"$f":"IFERROR(Gerar_Upload!F2233,\"erro\")","v":0},{"$f":"IFERROR(IF(Gerar_Upload!G2233<44,REPT(0,44-LEN(Gerar_Upload!G2233))&Gerar_Upload!G2233,Gerar_Upload!G2233),\"erro\")","v":"00000000000000000000000000000000000000000000"}]
[{"$f":"IFERROR(LEFT(Gerar_Upload!A2234,120),\"erro\")","v":""},{"$f":"IFERROR(SUBSTITUTE(SUBSTITUTE(SUBSTITUTE(Gerar_Upload!B2234,\".\",\"\"),\"-\",\"\"),\"/\",\"\"),\"erro\")","v":""},{"$f":"IFERROR(Gerar_Upload!C2234,\"erro\")","v":0},{"$f":"IFERROR(Gerar_Upload!D2234,\"erro\")","v":0},{"$f":"IFERROR(DATE(YEAR(Gerar_Upload!E2234),MONTH(Gerar_Upload!E2234),DAY(Gerar_Upload!E2234)),\"erro\")","v":"00:00:00"},{"$f":"IFERROR(Gerar_Upload!F2234,\"erro\")","v":0},{"$f":"IFERROR(IF(Gerar_Upload!G2234<44,REPT(0,44-LEN(Gerar_Upload!G2234))&Gerar_Upload!G2234,Gerar_Upload!G2234),\"erro\")","v":"00000000000000000000000000000000000000000000"}]
[{"$f":"IFERROR(LEFT(Gerar_Upload!A2235,120),\"erro\")","v":""},{"$f":"IFERROR(SUBSTITUTE(SUBSTITUTE(SUBSTITUTE(Gerar_Upload!B2235,\".\",\"\"),\"-\",\"\"),\"/\",\"\"),\"erro\")","v":""},{"$f":"IFERROR(Gerar_Upload!C2235,\"erro\")","v":0},{"$f":"IFERROR(Gerar_Upload!D2235,\"erro\")","v":0},{"$f":"IFERROR(DATE(YEAR(Gerar_Upload!E2235),MONTH(Gerar_Upload!E2235),DAY(Gerar_Upload!E2235)),\"erro\")","v":"00:00:00"},{"$f":"IFERROR(Gerar_Upload!F2235,\"erro\")","v":0},{"$f":"IFERROR(IF(Gerar_Upload!G2235<44,REPT(0,44-LEN(Gerar_Upload!G2235))&Gerar_Upload!G2235,Gerar_Upload!G2235),\"erro\")","v":"00000000000000000000000000000000000000000000"}]
[{"$f":"IFERROR(LEFT(Gerar_Upload!A2236,120),\"erro\")","v":""},{"$f":"IFERROR(SUBSTITUTE(SUBSTITUTE(SUBSTITUTE(Gerar_Upload!B2236,\".\",\"\"),\"-\",\"\"),\"/\",\"\"),\"erro\")","v":""},{"$f":"IFERROR(Gerar_Upload!C2236,\"erro\")","v":0},{"$f":"IFERROR(Gerar_Upload!D2236,\"erro\")","v":0},{"$f":"IFERROR(DATE(YEAR(Gerar_Upload!E2236),MONTH(Gerar_Upload!E2236),DAY(Gerar_Upload!E2236)),\"erro\")","v":"00:00:00"},{"$f":"IFERROR(Gerar_Upload!F2236,\"erro\")","v":0},{"$f":"IFERROR(IF(Gerar_Upload!G2236<44,REPT(0,44-LEN(Gerar_Upload!G2236))&Gerar_Upload!G2236,Gerar_Upload!G2236),\"erro\")","v":"00000000000000000000000000000000000000000000"}]
[{"$f":"IFERROR(LEFT(Gerar_Upload!A2237,120),\"erro\")","v":""},{"$f":"IFERROR(SUBSTITUTE(SUBSTITUTE(SUBSTITUTE(Gerar_Upload!B2237,\".\",\"\"),\"-\",\"\"),\"/\",\"\"),\"erro\")","v":""},{"$f":"IFERROR(Gerar_Upload!C2237,\"erro\")","v":0},{"$f":"IFERROR(Gerar_Upload!D2237,\"erro\")","v":0},{"$f":"IFERROR(DATE(YEAR(Gerar_Upload!E2237),MONTH(Gerar_Upload!E2237),DAY(Gerar_Upload!E2237)),\"erro\")","v":"00:00:00"},{"$f":"IFERROR(Gerar_Upload!F2237,\"erro\")","v":0},{"$f":"IFERROR(IF(Gerar_Upload!G2237<44,REPT(0,44-LEN(Gerar_Upload!G2237))&Gerar_Upload!G2237,Gerar_Upload!G2237),\"erro\")","v":"00000000000000000000000000000000000000000000"}]
[{"$f":"IFERROR(LEFT(Gerar_Upload!A2238,120),\"erro\")","v":""},{"$f":"IFERROR(SUBSTITUTE(SUBSTITUTE(SUBSTITUTE(Gerar_Upload!B2238,\".\",\"\"),\"-\",\"\"),\"/\",\"\"),\"erro\")","v":""},{"$f":"IFERROR(Gerar_Upload!C2238,\"erro\")","v":0},{"$f":"IFERROR(Gerar_Upload!D2238,\"erro\")","v":0},{"$f":"IFERROR(DATE(YEAR(Gerar_Upload!E2238),MONTH(Gerar_Upload!E2238),DAY(Gerar_Upload!E2238)),\"erro\")","v":"00:00:00"},{"$f":"IFERROR(Gerar_Upload!F2238,\"erro\")","v":0},{"$f":"IFERROR(IF(Gerar_Upload!G2238<44,REPT(0,44-LEN(Gerar_Upload!G2238))&Gerar_Upload!G2238,Gerar_Upload!G2238),\"erro\")","v":"00000000000000000000000000000000000000000000"}]
[{"$f":"IFERROR(LEFT(Gerar_Upload!A2239,120),\"erro\")","v":""},{"$f":"IFERROR(SUBSTITUTE(SUBSTITUTE(SUBSTITUTE(Gerar_Upload!B2239,\".\",\"\"),\"-\",\"\"),\"/\",\"\"),\"erro\")","v":""},{"$f":"IFERROR(Gerar_Upload!C2239,\"erro\")","v":0},{"$f":"IFERROR(Gerar_Upload!D2239,\"erro\")","v":0},{"$f":"IFERROR(DATE(YEAR(Gerar_Upload!E2239),MONTH(Gerar_Upload!E2239),DAY(Gerar_Upload!E2239)),\"erro\")","v":"00:00:00"},{"$f":"IFERROR(Gerar_Upload!F2239,\"erro\")","v":0},{"$f":"IFERROR(IF(Gerar_Upload!G2239<44,REPT(0,44-LEN(Gerar_Upload!G2239))&Gerar_Upload!G2239,Gerar_Upload!G2239),\"erro\")","v":"00000000000000000000000000000000000000000000"}]
[{"$f":"IFERROR(LEFT(Gerar_Upload!A2240,120),\"erro\")","v":""},{"$f":"IFERROR(SUBSTITUTE(SUBSTITUTE(SUBSTITUTE(Gerar_Upload!B2240,\".\",\"\"),\"-\",\"\"),\"/\",\"\"),\"erro\")","v":""},{"$f":"IFERROR(Gerar_Upload!C2240,\"erro\")","v":0},{"$f":"IFERROR(Gerar_Upload!D2240,\"erro\")","v":0},{"$f":"IFERROR(DATE(YEAR(Gerar_Upload!E2240),MONTH(Gerar_Upload!E2240),DAY(Gerar_Upload!E2240)),\"erro\")","v":"00:00:00"},{"$f":"IFERROR(Gerar_Upload!F2240,\"erro\")","v":0},{"$f":"IFERROR(IF(Gerar_Upload!G2240<44,REPT(0,44-LEN(Gerar_Upload!G2240))&Gerar_Upload!G2240,Gerar_Upload!G2240),\"erro\")","v":"00000000000000000000000000000000000000000000"}]
[{"$f":"IFERROR(LEFT(Gerar_Upload!A2241,120),\"erro\")","v":""},{"$f":"IFERROR(SUBSTITUTE(SUBSTITUTE(SUBSTITUTE(Gerar_Upload!B2241,\".\",\"\"),\"-\",\"\"),\"/\",\"\"),\"erro\")","v":""},{"$f":"IFERROR(Gerar_Upload!C2241,\"erro\")","v":0},{"$f":"IFERROR(Gerar_Upload!D2241,\"erro\")","v":0},{"$f":"IFERROR(DATE(YEAR(Gerar_Upload!E2241),MONTH(Gerar_Upload!E2241),DAY(Gerar_Upload!E2241)),\"erro\")","v":"00:00:00"},{"$f":"IFERROR(Gerar_Upload!F2241,\"erro\")","v":0},{"$f":"IFERROR(IF(Gerar_Upload!G2241<44,REPT(0,44-LEN(Gerar_Upload!G2241))&Gerar_Upload!G2241,Gerar_Upload!G2241),\"erro\")","v":"00000000000000000000000000000000000000000000"}]
[{"$f":"IFERROR(LEFT(Gerar_Upload!A2242,120),\"erro\")","v":""},{"$f":"IFERROR(SUBSTITUTE(SUBSTITUTE(SUBSTITUTE(Gerar_Upload!B2242,\".\",\"\"),\"-\",\"\"),\"/\",\"\"),\"erro\")","v":""},{"$f":"IFERROR(Gerar_Upload!C2242,\"erro\")","v":0},{"$f":"IFERROR(Gerar_Upload!D2242,\"erro\")","v":0},{"$f":"IFERROR(DATE(YEAR(Gerar_Upload!E2242),MONTH(Gerar_Upload!E2242),DAY(Gerar_Upload!E2242)),\"erro\")","v":"00:00:00"},{"$f":"IFERROR(Gerar_Upload!F2242,\"erro\")","v":0},{"$f":"IFERROR(IF(Gerar_Upload!G2242<44,REPT(0,44-LEN(Gerar_Upload!G2242))&Gerar_Upload!G2242,Gerar_Upload!G2242),\"erro\")","v":"00000000000000000000000000000000000000000000"}]
[{"$f":"IFERROR(LEFT(Gerar_Upload!A2243,120),\"erro\")","v":""},{"$f":"IFERROR(SUBSTITUTE(SUBSTITUTE(SUBSTITUTE(Gerar_Upload!B2243,\".\",\"\"),\"-\",\"\"),\"/\",\"\"),\"erro\")","v":""},{"$f":"IFERROR(Gerar_Upload!C2243,\"erro\")","v":0},{"$f":"IFERROR(Gerar_Upload!D2243,\"erro\")","v":0},{"$f":"IFERROR(DATE(YEAR(Gerar_Upload!E2243),MONTH(Gerar_Upload!E2243),DAY(Gerar_Upload!E2243)),\"erro\")","v":"00:00:00"},{"$f":"IFERROR(Gerar_Upload!F2243,\"erro\")","v":0},{"$f":"IFERROR(IF(Gerar_Upload!G2243<44,REPT(0,44-LEN(Gerar_Upload!G2243))&Gerar_Upload!G2243,Gerar_Upload!G2243),\"erro\")","v":"00000000000000000000000000000000000000000000"}]
[{"$f":"IFERROR(LEFT(Gerar_Upload!A2244,120),\"erro\")","v":""},{"$f":"IFERROR(SUBSTITUTE(SUBSTITUTE(SUBSTITUTE(Gerar_Upload!B2244,\".\",\"\"),\"-\",\"\"),\"/\",\"\"),\"erro\")","v":""},{"$f":"IFERROR(Gerar_Upload!C2244,\"erro\")","v":0},{"$f":"IFERROR(Gerar_Upload!D2244,\"erro\")","v":0},{"$f":"IFERROR(DATE(YEAR(Gerar_Upload!E2244),MONTH(Gerar_Upload!E2244),DAY(Gerar_Upload!E2244)),\"erro\")","v":"00:00:00"},{"$f":"IFERROR(Gerar_Upload!F2244,\"erro\")","v":0},{"$f":"IFERROR(IF(Gerar_Upload!G2244<44,REPT(0,44-LEN(Gerar_Upload!G2244))&Gerar_Upload!G2244,Gerar_Upload!G2244),\"erro\")","v":"00000000000000000000000000000000000000000000"}]
[{"$f":"IFERROR(LEFT(Gerar_Upload!A2245,120),\"erro\")","v":""},{"$f":"IFERROR(SUBSTITUTE(SUBSTITUTE(SUBSTITUTE(Gerar_Upload!B2245,\".\",\"\"),\"-\",\"\"),\"/\",\"\"),\"erro\")","v":""},{"$f":"IFERROR(Gerar_Upload!C2245,\"erro\")","v":0},{"$f":"IFERROR(Gerar_Upload!D2245,\"erro\")","v":0},{"$f":"IFERROR(DATE(YEAR(Gerar_Upload!E2245),MONTH(Gerar_Upload!E2245),DAY(Gerar_Upload!E2245)),\"erro\")","v":"00:00:00"},{"$f":"IFERROR(Gerar_Upload!F2245,\"erro\")","v":0},{"$f":"IFERROR(IF(Gerar_Upload!G2245<44,REPT(0,44-LEN(Gerar_Upload!G2245))&Gerar_Upload!G2245,Gerar_Upload!G2245),\"erro\")","v":"00000000000000000000000000000000000000000000"}]
[{"$f":"IFERROR(LEFT(Gerar_Upload!A2246,120),\"erro\")","v":""},{"$f":"IFERROR(SUBSTITUTE(SUBSTITUTE(SUBSTITUTE(Gerar_Upload!B2246,\".\",\"\"),\"-\",\"\"),\"/\",\"\"),\"erro\")","v":""},{"$f":"IFERROR(Gerar_Upload!C2246,\"erro\")","v":0},{"$f":"IFERROR(Gerar_Upload!D2246,\"erro\")","v":0},{"$f":"IFERROR(DATE(YEAR(Gerar_Upload!E2246),MONTH(Gerar_Upload!E2246),DAY(Gerar_Upload!E2246)),\"erro\")","v":"00:00:00"},{"$f":"IFERROR(Gerar_Upload!F2246,\"erro\")","v":0},{"$f":"IFERROR(IF(Gerar_Upload!G2246<44,REPT(0,44-LEN(Gerar_Upload!G2246))&Gerar_Upload!G2246,Gerar_Upload!G2246),\"erro\")","v":"00000000000000000000000000000000000000000000"}]
[{"$f":"IFERROR(LEFT(Gerar_Upload!A2247,120),\"erro\")","v":""},{"$f":"IFERROR(SUBSTITUTE(SUBSTITUTE(SUBSTITUTE(Gerar_Upload!B2247,\".\",\"\"),\"-\",\"\"),\"/\",\"\"),\"erro\")","v":""},{"$f":"IFERROR(Gerar_Upload!C2247,\"erro\")","v":0},{"$f":"IFERROR(Gerar_Upload!D2247,\"erro\")","v":0},{"$f":"IFERROR(DATE(YEAR(Gerar_Upload!E2247),MONTH(Gerar_Upload!E2247),DAY(Gerar_Upload!E2247)),\"erro\")","v":"00:00:00"},{"$f":"IFERROR(Gerar_Upload!F2247,\"erro\")","v":0},{"$f":"IFERROR(IF(Gerar_Upload!G2247<44,REPT(0,44-LEN(Gerar_Upload!G2247))&Gerar_Upload!G2247,Gerar_Upload!G2247),\"erro\")","v":"00000000000000000000000000000000000000000000"}]
[{"$f":"IFERROR(LEFT(Gerar_Upload!A2248,120),\"erro\")","v":""},{"$f":"IFERROR(SUBSTITUTE(SUBSTITUTE(SUBSTITUTE(Gerar_Upload!B2248,\".\",\"\"),\"-\",\"\"),\"/\",\"\"),\"erro\")","v":""},{"$f":"IFERROR(Gerar_Upload!C2248,\"erro\")","v":0},{"$f":"IFERROR(Gerar_Upload!D2248,\"erro\")","v":0},{"$f":"IFERROR(DATE(YEAR(Gerar_Upload!E2248),MONTH(Gerar_Upload!E2248),DAY(Gerar_Upload!E2248)),\"erro\")","v":"00:00:00"},{"$f":"IFERROR(Gerar_Upload!F2248,\"erro\")","v":0},{"$f":"IFERROR(IF(Gerar_Upload!G2248<44,REPT(0,44-LEN(Gerar_Upload!G2248))&Gerar_Upload!G2248,Gerar_Upload!G2248),\"erro\")","v":"00000000000000000000000000000000000000000000"}]
[{"$f":"IFERROR(LEFT(Gerar_Upload!A2249,120),\"erro\")","v":""},{"$f":"IFERROR(SUBSTITUTE(SUBSTITUTE(SUBSTITUTE(Gerar_Upload!B2249,\".\",\"\"),\"-\",\"\"),\"/\",\"\"),\"erro\")","v":""},{"$f":"IFERROR(Gerar_Upload!C2249,\"erro\")","v":0},{"$f":"IFERROR(Gerar_Upload!D2249,\"erro\")","v":0},{"$f":"IFERROR(DATE(YEAR(Gerar_Upload!E2249),MONTH(Gerar_Upload!E2249),DAY(Gerar_Upload!E2249)),\"erro\")","v":"00:00:00"},{"$f":"IFERROR(Gerar_Upload!F2249,\"erro\")","v":0},{"$f":"IFERROR(IF(Gerar_Upload!G2249<44,REPT(0,44-LEN(Gerar_Upload!G2249))&Gerar_Upload!G2249,Gerar_Upload!G2249),\"erro\")","v":"00000000000000000000000000000000000000000000"}]
[{"$f":"IFERROR(LEFT(Gerar_Upload!A2250,120),\"erro\")","v":""},{"$f":"IFERROR(SUBSTITUTE(SUBSTITUTE(SUBSTITUTE(Gerar_Upload!B2250,\".\",\"\"),\"-\",\"\"),\"/\",\"\"),\"erro\")","v":""},{"$f":"IFERROR(Gerar_Upload!C2250,\"erro\")","v":0},{"$f":"IFERROR(Gerar_Upload!D2250,\"erro\")","v":0},{"$f":"IFERROR(DATE(YEAR(Gerar_Upload!E2250),MONTH(Gerar_Upload!E2250),DAY(Gerar_Upload!E2250)),\"erro\")","v":"00:00:00"},{"$f":"IFERROR(Gerar_Upload!F2250,\"erro\")","v":0},{"$f":"IFERROR(IF(Gerar_Upload!G2250<44,REPT(0,44-LEN(Gerar_Upload!G2250))&Gerar_Upload!G2250,Gerar_Upload!G2250),\"erro\")","v":"00000000000000000000000000000000000000000000"}]
[{"$f":"IFERROR(LEFT(Gerar_Upload!A2251,120),\"erro\")","v":""},{"$f":"IFERROR(SUBSTITUTE(SUBSTITUTE(SUBSTITUTE(Gerar_Upload!B2251,\".\",\"\"),\"-\",\"\"),\"/\",\"\"),\"erro\")","v":""},{"$f":"IFERROR(Gerar_Upload!C2251,\"erro\")","v":0},{"$f":"IFERROR(Gerar_Upload!D2251,\"erro\")","v":0},{"$f":"IFERROR(DATE(YEAR(Gerar_Upload!E2251),MONTH(Gerar_Upload!E2251),DAY(Gerar_Upload!E2251)),\"erro\")","v":"00:00:00"},{"$f":"IFERROR(Gerar_Upload!F2251,\"erro\")","v":0},{"$f":"IFERROR(IF(Gerar_Upload!G2251<44,REPT(0,44-LEN(Gerar_Upload!G2251))&Gerar_Upload!G2251,Gerar_Upload!G2251),\"erro\")","v":"00000000000000000000000000000000000000000000"}]
[{"$f":"IFERROR(LEFT(Gerar_Upload!A2252,120),\"erro\")","v":""},{"$f":"IFERROR(SUBSTITUTE(SUBSTITUTE(SUBSTITUTE(Gerar_Upload!B2252,\".\",\"\"),\"-\",\"\"),\"/\",\"\"),\"erro\")","v":""},{"$f":"IFERROR(Gerar_Upload!C2252,\"erro\")","v":0},{"$f":"IFERROR(Gerar_Upload!D2252,\"erro\")","v":0},{"$f":"IFERROR(DATE(YEAR(Gerar_Upload!E2252),MONTH(Gerar_Upload!E2252),DAY(Gerar_Upload!E2252)),\"erro\")","v":"00:00:00"},{"$f":"IFERROR(Gerar_Upload!F2252,\"erro\")","v":0},{"$f":"IFERROR(IF(Gerar_Upload!G2252<44,REPT(0,44-LEN(Gerar_Upload!G2252))&Gerar_Upload!G2252,Gerar_Upload!G2252),\"erro\")","v":"00000000000000000000000000000000000000000000"}]
[{"$f":"IFERROR(LEFT(Gerar_Upload!A2253,120),\"erro\")","v":""},{"$f":"IFERROR(SUBSTITUTE(SUBSTITUTE(SUBSTITUTE(Gerar_Upload!B2253,\".\",\"\"),\"-\",\"\"),\"/\",\"\"),\"erro\")","v":""},{"$f":"IFERROR(Gerar_Upload!C2253,\"erro\")","v":0},{"$f":"IFERROR(Gerar_Upload!D2253,\"erro\")","v":0},{"$f":"IFERROR(DATE(YEAR(Gerar_Upload!E2253),MONTH(Gerar_Upload!E2253),DAY(Gerar_Upload!E2253)),\"erro\")","v":"00:00:00"},{"$f":"IFERROR(Gerar_Upload!F2253,\"erro\")","v":0},{"$f":"IFERROR(IF(Gerar_Upload!G2253<44,REPT(0,44-LEN(Gerar_Upload!G2253))&Gerar_Upload!G2253,Gerar_Upload!G2253),\"erro\")","v":"00000000000000000000000000000000000000000000"}]
[{"$f":"IFERROR(LEFT(Gerar_Upload!A2254,120),\"erro\")","v":""},{"$f":"IFERROR(SUBSTITUTE(SUBSTITUTE(SUBSTITUTE(Gerar_Upload!B2254,\".\",\"\"),\"-\",\"\"),\"/\",\"\"),\"erro\")","v":""},{"$f":"IFERROR(Gerar_Upload!C2254,\"erro\")","v":0},{"$f":"IFERROR(Gerar_Upload!D2254,\"erro\")","v":0},{"$f":"IFERROR(DATE(YEAR(Gerar_Upload!E2254),MONTH(Gerar_Upload!E2254),DAY(Gerar_Upload!E2254)),\"erro\")","v":"00:00:00"},{"$f":"IFERROR(Gerar_Upload!F2254,\"erro\")","v":0},{"$f":"IFERROR(IF(Gerar_Upload!G2254<44,REPT(0,44-LEN(Gerar_Upload!G2254))&Gerar_Upload!G2254,Gerar_Upload!G2254),\"erro\")","v":"00000000000000000000000000000000000000000000"}]
[{"$f":"IFERROR(LEFT(Gerar_Upload!A2255,120),\"erro\")","v":""},{"$f":"IFERROR(SUBSTITUTE(SUBSTITUTE(SUBSTITUTE(Gerar_Upload!B2255,\".\",\"\"),\"-\",\"\"),\"/\",\"\"),\"erro\")","v":""},{"$f":"IFERROR(Gerar_Upload!C2255,\"erro\")","v":0},{"$f":"IFERROR(Gerar_Upload!D2255,\"erro\")","v":0},{"$f":"IFERROR(DATE(YEAR(Gerar_Upload!E2255),MONTH(Gerar_Upload!E2255),DAY(Gerar_Upload!E2255)),\"erro\")","v":"00:00:00"},{"$f":"IFERROR(Gerar_Upload!F2255,\"erro\")","v":0},{"$f":"IFERROR(IF(Gerar_Upload!G2255<44,REPT(0,44-LEN(Gerar_Upload!G2255))&Gerar_Upload!G2255,Gerar_Upload!G2255),\"erro\")","v":"00000000000000000000000000000000000000000000"}]
[{"$f":"IFERROR(LEFT(Gerar_Upload!A2256,120),\"erro\")","v":""},{"$f":"IFERROR(SUBSTITUTE(SUBSTITUTE(SUBSTITUTE(Gerar_Upload!B2256,\".\",\"\"),\"-\",\"\"),\"/\",\"\"),\"erro\")","v":""},{"$f":"IFERROR(Gerar_Upload!C2256,\"erro\")","v":0},{"$f":"IFERROR(Gerar_Upload!D2256,\"erro\")","v":0},{"$f":"IFERROR(DATE(YEAR(Gerar_Upload!E2256),MONTH(Gerar_Upload!E2256),DAY(Gerar_Upload!E2256)),\"erro\")","v":"00:00:00"},{"$f":"IFERROR(Gerar_Upload!F2256,\"erro\")","v":0},{"$f":"IFERROR(IF(Gerar_Upload!G2256<44,REPT(0,44-LEN(Gerar_Upload!G2256))&Gerar_Upload!G2256,Gerar_Upload!G2256),\"erro\")","v":"00000000000000000000000000000000000000000000"}]
[{"$f":"IFERROR(LEFT(Gerar_Upload!A2257,120),\"erro\")","v":""},{"$f":"IFERROR(SUBSTITUTE(SUBSTITUTE(SUBSTITUTE(Gerar_Upload!B2257,\".\",\"\"),\"-\",\"\"),\"/\",\"\"),\"erro\")","v":""},{"$f":"IFERROR(Gerar_Upload!C2257,\"erro\")","v":0},{"$f":"IFERROR(Gerar_Upload!D2257,\"erro\")","v":0},{"$f":"IFERROR(DATE(YEAR(Gerar_Upload!E2257),MONTH(Gerar_Upload!E2257),DAY(Gerar_Upload!E2257)),\"erro\")","v":"00:00:00"},{"$f":"IFERROR(Gerar_Upload!F2257,\"erro\")","v":0},{"$f":"IFERROR(IF(Gerar_Upload!G2257<44,REPT(0,44-LEN(Gerar_Upload!G2257))&Gerar_Upload!G2257,Gerar_Upload!G2257),\"erro\")","v":"00000000000000000000000000000000000000000000"}]
[{"$f":"IFERROR(LEFT(Gerar_Upload!A2258,120),\"erro\")","v":""},{"$f":"IFERROR(SUBSTITUTE(SUBSTITUTE(SUBSTITUTE(Gerar_Upload!B2258,\".\",\"\"),\"-\",\"\"),\"/\",\"\"),\"erro\")","v":""},{"$f":"IFERROR(Gerar_Upload!C2258,\"erro\")","v":0},{"$f":"IFERROR(Gerar_Upload!D2258,\"erro\")","v":0},{"$f":"IFERROR(DATE(YEAR(Gerar_Upload!E2258),MONTH(Gerar_Upload!E2258),DAY(Gerar_Upload!E2258)),\"erro\")","v":"00:00:00"},{"$f":"IFERROR(Gerar_Upload!F2258,\"erro\")","v":0},{"$f":"IFERROR(IF(Gerar_Upload!G2258<44,REPT(0,44-LEN(Gerar_Upload!G2258))&Gerar_Upload!G2258,Gerar_Upload!G2258),\"erro\")","v":"00000000000000000000000000000000000000000000"}]
[{"$f":"IFERROR(LEFT(Gerar_Upload!A2259,120),\"erro\")","v":""},{"$f":"IFERROR(SUBSTITUTE(SUBSTITUTE(SUBSTITUTE(Gerar_Upload!B2259,\".\",\"\"),\"-\",\"\"),\"/\",\"\"),\"erro\")","v":""},{"$f":"IFERROR(Gerar_Upload!C2259,\"erro\")","v":0},{"$f":"IFERROR(Gerar_Upload!D2259,\"erro\")","v":0},{"$f":"IFERROR(DATE(YEAR(Gerar_Upload!E2259),MONTH(Gerar_Upload!E2259),DAY(Gerar_Upload!E2259)),\"erro\")","v":"00:00:00"},{"$f":"IFERROR(Gerar_Upload!F2259,\"erro\")","v":0},{"$f":"IFERROR(IF(Gerar_Upload!G2259<44,REPT(0,44-LEN(Gerar_Upload!G2259))&Gerar_Upload!G2259,Gerar_Upload!G2259),\"erro\")","v":"00000000000000000000000000000000000000000000"}]
[{"$f":"IFERROR(LEFT(Gerar_Upload!A2260,120),\"erro\")","v":""},{"$f":"IFERROR(SUBSTITUTE(SUBSTITUTE(SUBSTITUTE(Gerar_Upload!B2260,\".\",\"\"),\"-\",\"\"),\"/\",\"\"),\"erro\")","v":""},{"$f":"IFERROR(Gerar_Upload!C2260,\"erro\")","v":0},{"$f":"IFERROR(Gerar_Upload!D2260,\"erro\")","v":0},{"$f":"IFERROR(DATE(YEAR(Gerar_Upload!E2260),MONTH(Gerar_Upload!E2260),DAY(Gerar_Upload!E2260)),\"erro\")","v":"00:00:00"},{"$f":"IFERROR(Gerar_Upload!F2260,\"erro\")","v":0},{"$f":"IFERROR(IF(Gerar_Upload!G2260<44,REPT(0,44-LEN(Gerar_Upload!G2260))&Gerar_Upload!G2260,Gerar_Upload!G2260),\"erro\")","v":"00000000000000000000000000000000000000000000"}]
[{"$f":"IFERROR(LEFT(Gerar_Upload!A2261,120),\"erro\")","v":""},{"$f":"IFERROR(SUBSTITUTE(SUBSTITUTE(SUBSTITUTE(Gerar_Upload!B2261,\".\",\"\"),\"-\",\"\"),\"/\",\"\"),\"erro\")","v":""},{"$f":"IFERROR(Gerar_Upload!C2261,\"erro\")","v":0},{"$f":"IFERROR(Gerar_Upload!D2261,\"erro\")","v":0},{"$f":"IFERROR(DATE(YEAR(Gerar_Upload!E2261),MONTH(Gerar_Upload!E2261),DAY(Gerar_Upload!E2261)),\"erro\")","v":"00:00:00"},{"$f":"IFERROR(Gerar_Upload!F2261,\"erro\")","v":0},{"$f":"IFERROR(IF(Gerar_Upload!G2261<44,REPT(0,44-LEN(Gerar_Upload!G2261))&Gerar_Upload!G2261,Gerar_Upload!G2261),\"erro\")","v":"00000000000000000000000000000000000000000000"}]
[{"$f":"IFERROR(LEFT(Gerar_Upload!A2262,120),\"erro\")","v":""},{"$f":"IFERROR(SUBSTITUTE(SUBSTITUTE(SUBSTITUTE(Gerar_Upload!B2262,\".\",\"\"),\"-\",\"\"),\"/\",\"\"),\"erro\")","v":""},{"$f":"IFERROR(Gerar_Upload!C2262,\"erro\")","v":0},{"$f":"IFERROR(Gerar_Upload!D2262,\"erro\")","v":0},{"$f":"IFERROR(DATE(YEAR(Gerar_Upload!E2262),MONTH(Gerar_Upload!E2262),DAY(Gerar_Upload!E2262)),\"erro\")","v":"00:00:00"},{"$f":"IFERROR(Gerar_Upload!F2262,\"erro\")","v":0},{"$f":"IFERROR(IF(Gerar_Upload!G2262<44,REPT(0,44-LEN(Gerar_Upload!G2262))&Gerar_Upload!G2262,Gerar_Upload!G2262),\"erro\")","v":"00000000000000000000000000000000000000000000"}]
[{"$f":"IFERROR(LEFT(Gerar_Upload!A2263,120),\"erro\")","v":""},{"$f":"IFERROR(SUBSTITUTE(SUBSTITUTE(SUBSTITUTE(Gerar_Upload!B2263,\".\",\"\"),\"-\",\"\"),\"/\",\"\"),\"erro\")","v":""},{"$f":"IFERROR(Gerar_Upload!C2263,\"erro\")","v":0},{"$f":"IFERROR(Gerar_Upload!D2263,\"erro\")","v":0},{"$f":"IFERROR(DATE(YEAR(Gerar_Upload!E2263),MONTH(Gerar_Upload!E2263),DAY(Gerar_Upload!E2263)),\"erro\")","v":"00:00:00"},{"$f":"IFERROR(Gerar_Upload!F2263,\"erro\")","v":0},{"$f":"IFERROR(IF(Gerar_Upload!G2263<44,REPT(0,44-LEN(Gerar_Upload!G2263))&Gerar_Upload!G2263,Gerar_Upload!G2263),\"erro\")","v":"00000000000000000000000000000000000000000000"}]
[{"$f":"IFERROR(LEFT(Gerar_Upload!A2264,120),\"erro\")","v":""},{"$f":"IFERROR(SUBSTITUTE(SUBSTITUTE(SUBSTITUTE(Gerar_Upload!B2264,\".\",\"\"),\"-\",\"\"),\"/\",\"\"),\"erro\")","v":""},{"$f":"IFERROR(Gerar_Upload!C2264,\"erro\")","v":0},{"$f":"IFERROR(Gerar_Upload!D2264,\"erro\")","v":0},{"$f":"IFERROR(DATE(YEAR(Gerar_Upload!E2264),MONTH(Gerar_Upload!E2264),DAY(Gerar_Upload!E2264)),\"erro\")","v":"00:00:00"},{"$f":"IFERROR(Gerar_Upload!F2264,\"erro\")","v":0},{"$f":"IFERROR(IF(Gerar_Upload!G2264<44,REPT(0,44-LEN(Gerar_Upload!G2264))&Gerar_Upload!G2264,Gerar_Upload!G2264),\"erro\")","v":"00000000000000000000000000000000000000000000"}]
[{"$f":"IFERROR(LEFT(Gerar_Upload!A2265,120),\"erro\")","v":""},{"$f":"IFERROR(SUBSTITUTE(SUBSTITUTE(SUBSTITUTE(Gerar_Upload!B2265,\".\",\"\"),\"-\",\"\"),\"/\",\"\"),\"erro\")","v":""},{"$f":"IFERROR(Gerar_Upload!C2265,\"erro\")","v":0},{"$f":"IFERROR(Gerar_Upload!D2265,\"erro\")","v":0},{"$f":"IFERROR(DATE(YEAR(Gerar_Upload!E2265),MONTH(Gerar_Upload!E2265),DAY(Gerar_Upload!E2265)),\"erro\")","v":"00:00:00"},{"$f":"IFERROR(Gerar_Upload!F2265,\"erro\")","v":0},{"$f":"IFERROR(IF(Gerar_Upload!G2265<44,REPT(0,44-LEN(Gerar_Upload!G2265))&Gerar_Upload!G2265,Gerar_Upload!G2265),\"erro\")","v":"00000000000000000000000000000000000000000000"}]
[{"$f":"IFERROR(LEFT(Gerar_Upload!A2266,120),\"erro\")","v":""},{"$f":"IFERROR(SUBSTITUTE(SUBSTITUTE(SUBSTITUTE(Gerar_Upload!B2266,\".\",\"\"),\"-\",\"\"),\"/\",\"\"),\"erro\")","v":""},{"$f":"IFERROR(Gerar_Upload!C2266,\"erro\")","v":0},{"$f":"IFERROR(Gerar_Upload!D2266,\"erro\")","v":0},{"$f":"IFERROR(DATE(YEAR(Gerar_Upload!E2266),MONTH(Gerar_Upload!E2266),DAY(Gerar_Upload!E2266)),\"erro\")","v":"00:00:00"},{"$f":"IFERROR(Gerar_Upload!F2266,\"erro\")","v":0},{"$f":"IFERROR(IF(Gerar_Upload!G2266<44,REPT(0,44-LEN(Gerar_Upload!G2266))&Gerar_Upload!G2266,Gerar_Upload!G2266),\"erro\")","v":"00000000000000000000000000000000000000000000"}]
[{"$f":"IFERROR(LEFT(Gerar_Upload!A2267,120),\"erro\")","v":""},{"$f":"IFERROR(SUBSTITUTE(SUBSTITUTE(SUBSTITUTE(Gerar_Upload!B2267,\".\",\"\"),\"-\",\"\"),\"/\",\"\"),\"erro\")","v":""},{"$f":"IFERROR(Gerar_Upload!C2267,\"erro\")","v":0},{"$f":"IFERROR(Gerar_Upload!D2267,\"erro\")","v":0},{"$f":"IFERROR(DATE(YEAR(Gerar_Upload!E2267),MONTH(Gerar_Upload!E2267),DAY(Gerar_Upload!E2267)),\"erro\")","v":"00:00:00"},{"$f":"IFERROR(Gerar_Upload!F2267,\"erro\")","v":0},{"$f":"IFERROR(IF(Gerar_Upload!G2267<44,REPT(0,44-LEN(Gerar_Upload!G2267))&Gerar_Upload!G2267,Gerar_Upload!G2267),\"erro\")","v":"00000000000000000000000000000000000000000000"}]
[{"$f":"IFERROR(LEFT(Gerar_Upload!A2268,120),\"erro\")","v":""},{"$f":"IFERROR(SUBSTITUTE(SUBSTITUTE(SUBSTITUTE(Gerar_Upload!B2268,\".\",\"\"),\"-\",\"\"),\"/\",\"\"),\"erro\")","v":""},{"$f":"IFERROR(Gerar_Upload!C2268,\"erro\")","v":0},{"$f":"IFERROR(Gerar_Upload!D2268,\"erro\")","v":0},{"$f":"IFERROR(DATE(YEAR(Gerar_Upload!E2268),MONTH(Gerar_Upload!E2268),DAY(Gerar_Upload!E2268)),\"erro\")","v":"00:00:00"},{"$f":"IFERROR(Gerar_Upload!F2268,\"erro\")","v":0},{"$f":"IFERROR(IF(Gerar_Upload!G2268<44,REPT(0,44-LEN(Gerar_Upload!G2268))&Gerar_Upload!G2268,Gerar_Upload!G2268),\"erro\")","v":"00000000000000000000000000000000000000000000"}]
[{"$f":"IFERROR(LEFT(Gerar_Upload!A2269,120),\"erro\")","v":""},{"$f":"IFERROR(SUBSTITUTE(SUBSTITUTE(SUBSTITUTE(Gerar_Upload!B2269,\".\",\"\"),\"-\",\"\"),\"/\",\"\"),\"erro\")","v":""},{"$f":"IFERROR(Gerar_Upload!C2269,\"erro\")","v":0},{"$f":"IFERROR(Gerar_Upload!D2269,\"erro\")","v":0},{"$f":"IFERROR(DATE(YEAR(Gerar_Upload!E2269),MONTH(Gerar_Upload!E2269),DAY(Gerar_Upload!E2269)),\"erro\")","v":"00:00:00"},{"$f":"IFERROR(Gerar_Upload!F2269,\"erro\")","v":0},{"$f":"IFERROR(IF(Gerar_Upload!G2269<44,REPT(0,44-LEN(Gerar_Upload!G2269))&Gerar_Upload!G2269,Gerar_Upload!G2269),\"erro\")","v":"00000000000000000000000000000000000000000000"}]
[{"$f":"IFERROR(LEFT(Gerar_Upload!A2270,120),\"erro\")","v":""},{"$f":"IFERROR(SUBSTITUTE(SUBSTITUTE(SUBSTITUTE(Gerar_Upload!B2270,\".\",\"\"),\"-\",\"\"),\"/\",\"\"),\"erro\")","v":""},{"$f":"IFERROR(Gerar_Upload!C2270,\"erro\")","v":0},{"$f":"IFERROR(Gerar_Upload!D2270,\"erro\")","v":0},{"$f":"IFERROR(DATE(YEAR(Gerar_Upload!E2270),MONTH(Gerar_Upload!E2270),DAY(Gerar_Upload!E2270)),\"erro\")","v":"00:00:00"},{"$f":"IFERROR(Gerar_Upload!F2270,\"erro\")","v":0},{"$f":"IFERROR(IF(Gerar_Upload!G2270<44,REPT(0,44-LEN(Gerar_Upload!G2270))&Gerar_Upload!G2270,Gerar_Upload!G2270),\"erro\")","v":"00000000000000000000000000000000000000000000"}]
[{"$f":"IFERROR(LEFT(Gerar_Upload!A2271,120),\"erro\")","v":""},{"$f":"IFERROR(SUBSTITUTE(SUBSTITUTE(SUBSTITUTE(Gerar_Upload!B2271,\".\",\"\"),\"-\",\"\"),\"/\",\"\"),\"erro\")","v":""},{"$f":"IFERROR(Gerar_Upload!C2271,\"erro\")","v":0},{"$f":"IFERROR(Gerar_Upload!D2271,\"erro\")","v":0},{"$f":"IFERROR(DATE(YEAR(Gerar_Upload!E2271),MONTH(Gerar_Upload!E2271),DAY(Gerar_Upload!E2271)),\"erro\")","v":"00:00:00"},{"$f":"IFERROR(Gerar_Upload!F2271,\"erro\")","v":0},{"$f":"IFERROR(IF(Gerar_Upload!G2271<44,REPT(0,44-LEN(Gerar_Upload!G2271))&Gerar_Upload!G2271,Gerar_Upload!G2271),\"erro\")","v":"00000000000000000000000000000000000000000000"}]
[{"$f":"IFERROR(LEFT(Gerar_Upload!A2272,120),\"erro\")","v":""},{"$f":"IFERROR(SUBSTITUTE(SUBSTITUTE(SUBSTITUTE(Gerar_Upload!B2272,\".\",\"\"),\"-\",\"\"),\"/\",\"\"),\"erro\")","v":""},{"$f":"IFERROR(Gerar_Upload!C2272,\"erro\")","v":0},{"$f":"IFERROR(Gerar_Upload!D2272,\"erro\")","v":0},{"$f":"IFERROR(DATE(YEAR(Gerar_Upload!E2272),MONTH(Gerar_Upload!E2272),DAY(Gerar_Upload!E2272)),\"erro\")","v":"00:00:00"},{"$f":"IFERROR(Gerar_Upload!F2272,\"erro\")","v":0},{"$f":"IFERROR(IF(Gerar_Upload!G2272<44,REPT(0,44-LEN(Gerar_Upload!G2272))&Gerar_Upload!G2272,Gerar_Upload!G2272),\"erro\")","v":"00000000000000000000000000000000000000000000"}]
[{"$f":"IFERROR(LEFT(Gerar_Upload!A2273,120),\"erro\")","v":""},{"$f":"IFERROR(SUBSTITUTE(SUBSTITUTE(SUBSTITUTE(Gerar_Upload!B2273,\".\",\"\"),\"-\",\"\"),\"/\",\"\"),\"erro\")","v":""},{"$f":"IFERROR(Gerar_Upload!C2273,\"erro\")","v":0},{"$f":"IFERROR(Gerar_Upload!D2273,\"erro\")","v":0},{"$f":"IFERROR(DATE(YEAR(Gerar_Upload!E2273),MONTH(Gerar_Upload!E2273),DAY(Gerar_Upload!E2273)),\"erro\")","v":"00:00:00"},{"$f":"IFERROR(Gerar_Upload!F2273,\"erro\")","v":0},{"$f":"IFERROR(IF(Gerar_Upload!G2273<44,REPT(0,44-LEN(Gerar_Upload!G2273))&Gerar_Upload!G2273,Gerar_Upload!G2273),\"erro\")","v":"00000000000000000000000000000000000000000000"}]
[{"$f":"IFERROR(LEFT(Gerar_Upload!A2274,120),\"erro\")","v":""},{"$f":"IFERROR(SUBSTITUTE(SUBSTITUTE(SUBSTITUTE(Gerar_Upload!B2274,\".\",\"\"),\"-\",\"\"),\"/\",\"\"),\"erro\")","v":""},{"$f":"IFERROR(Gerar_Upload!C2274,\"erro\")","v":0},{"$f":"IFERROR(Gerar_Upload!D2274,\"erro\")","v":0},{"$f":"IFERROR(DATE(YEAR(Gerar_Upload!E2274),MONTH(Gerar_Upload!E2274),DAY(Gerar_Upload!E2274)),\"erro\")","v":"00:00:00"},{"$f":"IFERROR(Gerar_Upload!F2274,\"erro\")","v":0},{"$f":"IFERROR(IF(Gerar_Upload!G2274<44,REPT(0,44-LEN(Gerar_Upload!G2274))&Gerar_Upload!G2274,Gerar_Upload!G2274),\"erro\")","v":"00000000000000000000000000000000000000000000"}]
[{"$f":"IFERROR(LEFT(Gerar_Upload!A2275,120),\"erro\")","v":""},{"$f":"IFERROR(SUBSTITUTE(SUBSTITUTE(SUBSTITUTE(Gerar_Upload!B2275,\".\",\"\"),\"-\",\"\"),\"/\",\"\"),\"erro\")","v":""},{"$f":"IFERROR(Gerar_Upload!C2275,\"erro\")","v":0},{"$f":"IFERROR(Gerar_Upload!D2275,\"erro\")","v":0},{"$f":"IFERROR(DATE(YEAR(Gerar_Upload!E2275),MONTH(Gerar_Upload!E2275),DAY(Gerar_Upload!E2275)),\"erro\")","v":"00:00:00"},{"$f":"IFERROR(Gerar_Upload!F2275,\"erro\")","v":0},{"$f":"IFERROR(IF(Gerar_Upload!G2275<44,REPT(0,44-LEN(Gerar_Upload!G2275))&Gerar_Upload!G2275,Gerar_Upload!G2275),\"erro\")","v":"00000000000000000000000000000000000000000000"}]
[{"$f":"IFERROR(LEFT(Gerar_Upload!A2276,120),\"erro\")","v":""},{"$f":"IFERROR(SUBSTITUTE(SUBSTITUTE(SUBSTITUTE(Gerar_Upload!B2276,\".\",\"\"),\"-\",\"\"),\"/\",\"\"),\"erro\")","v":""},{"$f":"IFERROR(Gerar_Upload!C2276,\"erro\")","v":0},{"$f":"IFERROR(Gerar_Upload!D2276,\"erro\")","v":0},{"$f":"IFERROR(DATE(YEAR(Gerar_Upload!E2276),MONTH(Gerar_Upload!E2276),DAY(Gerar_Upload!E2276)),\"erro\")","v":"00:00:00"},{"$f":"IFERROR(Gerar_Upload!F2276,\"erro\")","v":0},{"$f":"IFERROR(IF(Gerar_Upload!G2276<44,REPT(0,44-LEN(Gerar_Upload!G2276))&Gerar_Upload!G2276,Gerar_Upload!G2276),\"erro\")","v":"00000000000000000000000000000000000000000000"}]
[{"$f":"IFERROR(LEFT(Gerar_Upload!A2277,120),\"erro\")","v":""},{"$f":"IFERROR(SUBSTITUTE(SUBSTITUTE(SUBSTITUTE(Gerar_Upload!B2277,\".\",\"\"),\"-\",\"\"),\"/\",\"\"),\"erro\")","v":""},{"$f":"IFERROR(Gerar_Upload!C2277,\"erro\")","v":0},{"$f":"IFERROR(Gerar_Upload!D2277,\"erro\")","v":0},{"$f":"IFERROR(DATE(YEAR(Gerar_Upload!E2277),MONTH(Gerar_Upload!E2277),DAY(Gerar_Upload!E2277)),\"erro\")","v":"00:00:00"},{"$f":"IFERROR(Gerar_Upload!F2277,\"erro\")","v":0},{"$f":"IFERROR(IF(Gerar_Upload!G2277<44,REPT(0,44-LEN(Gerar_Upload!G2277))&Gerar_Upload!G2277,Gerar_Upload!G2277),\"erro\")","v":"00000000000000000000000000000000000000000000"}]
[{"$f":"IFERROR(LEFT(Gerar_Upload!A2278,120),\"erro\")","v":""},{"$f":"IFERROR(SUBSTITUTE(SUBSTITUTE(SUBSTITUTE(Gerar_Upload!B2278,\".\",\"\"),\"-\",\"\"),\"/\",\"\"),\"erro\")","v":""},{"$f":"IFERROR(Gerar_Upload!C2278,\"erro\")","v":0},{"$f":"IFERROR(Gerar_Upload!D2278,\"erro\")","v":0},{"$f":"IFERROR(DATE(YEAR(Gerar_Upload!E2278),MONTH(Gerar_Upload!E2278),DAY(Gerar_Upload!E2278)),\"erro\")","v":"00:00:00"},{"$f":"IFERROR(Gerar_Upload!F2278,\"erro\")","v":0},{"$f":"IFERROR(IF(Gerar_Upload!G2278<44,REPT(0,44-LEN(Gerar_Upload!G2278))&Gerar_Upload!G2278,Gerar_Upload!G2278),\"erro\")","v":"00000000000000000000000000000000000000000000"}]
[{"$f":"IFERROR(LEFT(Gerar_Upload!A2279,120),\"erro\")","v":""},{"$f":"IFERROR(SUBSTITUTE(SUBSTITUTE(SUBSTITUTE(Gerar_Upload!B2279,\".\",\"\"),\"-\",\"\"),\"/\",\"\"),\"erro\")","v":""},{"$f":"IFERROR(Gerar_Upload!C2279,\"erro\")","v":0},{"$f":"IFERROR(Gerar_Upload!D2279,\"erro\")","v":0},{"$f":"IFERROR(DATE(YEAR(Gerar_Upload!E2279),MONTH(Gerar_Upload!E2279),DAY(Gerar_Upload!E2279)),\"erro\")","v":"00:00:00"},{"$f":"IFERROR(Gerar_Upload!F2279,\"erro\")","v":0},{"$f":"IFERROR(IF(Gerar_Upload!G2279<44,REPT(0,44-LEN(Gerar_Upload!G2279))&Gerar_Upload!G2279,Gerar_Upload!G2279),\"erro\")","v":"00000000000000000000000000000000000000000000"}]
[{"$f":"IFERROR(LEFT(Gerar_Upload!A2280,120),\"erro\")","v":""},{"$f":"IFERROR(SUBSTITUTE(SUBSTITUTE(SUBSTITUTE(Gerar_Upload!B2280,\".\",\"\"),\"-\",\"\"),\"/\",\"\"),\"erro\")","v":""},{"$f":"IFERROR(Gerar_Upload!C2280,\"erro\")","v":0},{"$f":"IFERROR(Gerar_Upload!D2280,\"erro\")","v":0},{"$f":"IFERROR(DATE(YEAR(Gerar_Upload!E2280),MONTH(Gerar_Upload!E2280),DAY(Gerar_Upload!E2280)),\"erro\")","v":"00:00:00"},{"$f":"IFERROR(Gerar_Upload!F2280,\"erro\")","v":0},{"$f":"IFERROR(IF(Gerar_Upload!G2280<44,REPT(0,44-LEN(Gerar_Upload!G2280))&Gerar_Upload!G2280,Gerar_Upload!G2280),\"erro\")","v":"00000000000000000000000000000000000000000000"}]
[{"$f":"IFERROR(LEFT(Gerar_Upload!A2281,120),\"erro\")","v":""},{"$f":"IFERROR(SUBSTITUTE(SUBSTITUTE(SUBSTITUTE(Gerar_Upload!B2281,\".\",\"\"),\"-\",\"\"),\"/\",\"\"),\"erro\")","v":""},{"$f":"IFERROR(Gerar_Upload!C2281,\"erro\")","v":0},{"$f":"IFERROR(Gerar_Upload!D2281,\"erro\")","v":0},{"$f":"IFERROR(DATE(YEAR(Gerar_Upload!E2281),MONTH(Gerar_Upload!E2281),DAY(Gerar_Upload!E2281)),\"erro\")","v":"00:00:00"},{"$f":"IFERROR(Gerar_Upload!F2281,\"erro\")","v":0},{"$f":"IFERROR(IF(Gerar_Upload!G2281<44,REPT(0,44-LEN(Gerar_Upload!G2281))&Gerar_Upload!G2281,Gerar_Upload!G2281),\"erro\")","v":"00000000000000000000000000000000000000000000"}]
[{"$f":"IFERROR(LEFT(Gerar_Upload!A2282,120),\"erro\")","v":""},{"$f":"IFERROR(SUBSTITUTE(SUBSTITUTE(SUBSTITUTE(Gerar_Upload!B2282,\".\",\"\"),\"-\",\"\"),\"/\",\"\"),\"erro\")","v":""},{"$f":"IFERROR(Gerar_Upload!C2282,\"erro\")","v":0},{"$f":"IFERROR(Gerar_Upload!D2282,\"erro\")","v":0},{"$f":"IFERROR(DATE(YEAR(Gerar_Upload!E2282),MONTH(Gerar_Upload!E2282),DAY(Gerar_Upload!E2282)),\"erro\")","v":"00:00:00"},{"$f":"IFERROR(Gerar_Upload!F2282,\"erro\")","v":0},{"$f":"IFERROR(IF(Gerar_Upload!G2282<44,REPT(0,44-LEN(Gerar_Upload!G2282))&Gerar_Upload!G2282,Gerar_Upload!G2282),\"erro\")","v":"00000000000000000000000000000000000000000000"}]
[{"$f":"IFERROR(LEFT(Gerar_Upload!A2283,120),\"erro\")","v":""},{"$f":"IFERROR(SUBSTITUTE(SUBSTITUTE(SUBSTITUTE(Gerar_Upload!B2283,\".\",\"\"),\"-\",\"\"),\"/\",\"\"),\"erro\")","v":""},{"$f":"IFERROR(Gerar_Upload!C2283,\"erro\")","v":0},{"$f":"IFERROR(Gerar_Upload!D2283,\"erro\")","v":0},{"$f":"IFERROR(DATE(YEAR(Gerar_Upload!E2283),MONTH(Gerar_Upload!E2283),DAY(Gerar_Upload!E2283)),\"erro\")","v":"00:00:00"},{"$f":"IFERROR(Gerar_Upload!F2283,\"erro\")","v":0},{"$f":"IFERROR(IF(Gerar_Upload!G2283<44,REPT(0,44-LEN(Gerar_Upload!G2283))&Gerar_Upload!G2283,Gerar_Upload!G2283),\"erro\")","v":"00000000000000000000000000000000000000000000"}]
[{"$f":"IFERROR(LEFT(Gerar_Upload!A2284,120),\"erro\")","v":""},{"$f":"IFERROR(SUBSTITUTE(SUBSTITUTE(SUBSTITUTE(Gerar_Upload!B2284,\".\",\"\"),\"-\",\"\"),\"/\",\"\"),\"erro\")","v":""},{"$f":"IFERROR(Gerar_Upload!C2284,\"erro\")","v":0},{"$f":"IFERROR(Gerar_Upload!D2284,\"erro\")","v":0},{"$f":"IFERROR(DATE(YEAR(Gerar_Upload!E2284),MONTH(Gerar_Upload!E2284),DAY(Gerar_Upload!E2284)),\"erro\")","v":"00:00:00"},{"$f":"IFERROR(Gerar_Upload!F2284,\"erro\")","v":0},{"$f":"IFERROR(IF(Gerar_Upload!G2284<44,REPT(0,44-LEN(Gerar_Upload!G2284))&Gerar_Upload!G2284,Gerar_Upload!G2284),\"erro\")","v":"00000000000000000000000000000000000000000000"}]
[{"$f":"IFERROR(LEFT(Gerar_Upload!A2285,120),\"erro\")","v":""},{"$f":"IFERROR(SUBSTITUTE(SUBSTITUTE(SUBSTITUTE(Gerar_Upload!B2285,\".\",\"\"),\"-\",\"\"),\"/\",\"\"),\"erro\")","v":""},{"$f":"IFERROR(Gerar_Upload!C2285,\"erro\")","v":0},{"$f":"IFERROR(Gerar_Upload!D2285,\"erro\")","v":0},{"$f":"IFERROR(DATE(YEAR(Gerar_Upload!E2285),MONTH(Gerar_Upload!E2285),DAY(Gerar_Upload!E2285)),\"erro\")","v":"00:00:00"},{"$f":"IFERROR(Gerar_Upload!F2285,\"erro\")","v":0},{"$f":"IFERROR(IF(Gerar_Upload!G2285<44,REPT(0,44-LEN(Gerar_Upload!G2285))&Gerar_Upload!G2285,Gerar_Upload!G2285),\"erro\")","v":"00000000000000000000000000000000000000000000"}]
[{"$f":"IFERROR(LEFT(Gerar_Upload!A2286,120),\"erro\")","v":""},{"$f":"IFERROR(SUBSTITUTE(SUBSTITUTE(SUBSTITUTE(Gerar_Upload!B2286,\".\",\"\"),\"-\",\"\"),\"/\",\"\"),\"erro\")","v":""},{"$f":"IFERROR(Gerar_Upload!C2286,\"erro\")","v":0},{"$f":"IFERROR(Gerar_Upload!D2286,\"erro\")","v":0},{"$f":"IFERROR(DATE(YEAR(Gerar_Upload!E2286),MONTH(Gerar_Upload!E2286),DAY(Gerar_Upload!E2286)),\"erro\")","v":"00:00:00"},{"$f":"IFERROR(Gerar_Upload!F2286,\"erro\")","v":0},{"$f":"IFERROR(IF(Gerar_Upload!G2286<44,REPT(0,44-LEN(Gerar_Upload!G2286))&Gerar_Upload!G2286,Gerar_Upload!G2286),\"erro\")","v":"00000000000000000000000000000000000000000000"}]
[{"$f":"IFERROR(LEFT(Gerar_Upload!A2287,120),\"erro\")","v":""},{"$f":"IFERROR(SUBSTITUTE(SUBSTITUTE(SUBSTITUTE(Gerar_Upload!B2287,\".\",\"\"),\"-\",\"\"),\"/\",\"\"),\"erro\")","v":""},{"$f":"IFERROR(Gerar_Upload!C2287,\"erro\")","v":0},{"$f":"IFERROR(Gerar_Upload!D2287,\"erro\")","v":0},{"$f":"IFERROR(DATE(YEAR(Gerar_Upload!E2287),MONTH(Gerar_Upload!E2287),DAY(Gerar_Upload!E2287)),\"erro\")","v":"00:00:00"},{"$f":"IFERROR(Gerar_Upload!F2287,\"erro\")","v":0},{"$f":"IFERROR(IF(Gerar_Upload!G2287<44,REPT(0,44-LEN(Gerar_Upload!G2287))&Gerar_Upload!G2287,Gerar_Upload!G2287),\"erro\")","v":"00000000000000000000000000000000000000000000"}]
[{"$f":"IFERROR(LEFT(Gerar_Upload!A2288,120),\"erro\")","v":""},{"$f":"IFERROR(SUBSTITUTE(SUBSTITUTE(SUBSTITUTE(Gerar_Upload!B2288,\".\",\"\"),\"-\",\"\"),\"/\",\"\"),\"erro\")","v":""},{"$f":"IFERROR(Gerar_Upload!C2288,\"erro\")","v":0},{"$f":"IFERROR(Gerar_Upload!D2288,\"erro\")","v":0},{"$f":"IFERROR(DATE(YEAR(Gerar_Upload!E2288),MONTH(Gerar_Upload!E2288),DAY(Gerar_Upload!E2288)),\"erro\")","v":"00:00:00"},{"$f":"IFERROR(Gerar_Upload!F2288,\"erro\")","v":0},{"$f":"IFERROR(IF(Gerar_Upload!G2288<44,REPT(0,44-LEN(Gerar_Upload!G2288))&Gerar_Upload!G2288,Gerar_Upload!G2288),\"erro\")","v":"00000000000000000000000000000000000000000000"}]
[{"$f":"IFERROR(LEFT(Gerar_Upload!A2289,120),\"erro\")","v":""},{"$f":"IFERROR(SUBSTITUTE(SUBSTITUTE(SUBSTITUTE(Gerar_Upload!B2289,\".\",\"\"),\"-\",\"\"),\"/\",\"\"),\"erro\")","v":""},{"$f":"IFERROR(Gerar_Upload!C2289,\"erro\")","v":0},{"$f":"IFERROR(Gerar_Upload!D2289,\"erro\")","v":0},{"$f":"IFERROR(DATE(YEAR(Gerar_Upload!E2289),MONTH(Gerar_Upload!E2289),DAY(Gerar_Upload!E2289)),\"erro\")","v":"00:00:00"},{"$f":"IFERROR(Gerar_Upload!F2289,\"erro\")","v":0},{"$f":"IFERROR(IF(Gerar_Upload!G2289<44,REPT(0,44-LEN(Gerar_Upload!G2289))&Gerar_Upload!G2289,Gerar_Upload!G2289),\"erro\")","v":"00000000000000000000000000000000000000000000"}]
[{"$f":"IFERROR(LEFT(Gerar_Upload!A2290,120),\"erro\")","v":""},{"$f":"IFERROR(SUBSTITUTE(SUBSTITUTE(SUBSTITUTE(Gerar_Upload!B2290,\".\",\"\"),\"-\",\"\"),\"/\",\"\"),\"erro\")","v":""},{"$f":"IFERROR(Gerar_Upload!C2290,\"erro\")","v":0},{"$f":"IFERROR(Gerar_Upload!D2290,\"erro\")","v":0},{"$f":"IFERROR(DATE(YEAR(Gerar_Upload!E2290),MONTH(Gerar_Upload!E2290),DAY(Gerar_Upload!E2290)),\"erro\")","v":"00:00:00"},{"$f":"IFERROR(Gerar_Upload!F2290,\"erro\")","v":0},{"$f":"IFERROR(IF(Gerar_Upload!G2290<44,REPT(0,44-LEN(Gerar_Upload!G2290))&Gerar_Upload!G2290,Gerar_Upload!G2290),\"erro\")","v":"00000000000000000000000000000000000000000000"}]
[{"$f":"IFERROR(LEFT(Gerar_Upload!A2291,120),\"erro\")","v":""},{"$f":"IFERROR(SUBSTITUTE(SUBSTITUTE(SUBSTITUTE(Gerar_Upload!B2291,\".\",\"\"),\"-\",\"\"),\"/\",\"\"),\"erro\")","v":""},{"$f":"IFERROR(Gerar_Upload!C2291,\"erro\")","v":0},{"$f":"IFERROR(Gerar_Upload!D2291,\"erro\")","v":0},{"$f":"IFERROR(DATE(YEAR(Gerar_Upload!E2291),MONTH(Gerar_Upload!E2291),DAY(Gerar_Upload!E2291)),\"erro\")","v":"00:00:00"},{"$f":"IFERROR(Gerar_Upload!F2291,\"erro\")","v":0},{"$f":"IFERROR(IF(Gerar_Upload!G2291<44,REPT(0,44-LEN(Gerar_Upload!G2291))&Gerar_Upload!G2291,Gerar_Upload!G2291),\"erro\")","v":"00000000000000000000000000000000000000000000"}]
[{"$f":"IFERROR(LEFT(Gerar_Upload!A2292,120),\"erro\")","v":""},{"$f":"IFERROR(SUBSTITUTE(SUBSTITUTE(SUBSTITUTE(Gerar_Upload!B2292,\".\",\"\"),\"-\",\"\"),\"/\",\"\"),\"erro\")","v":""},{"$f":"IFERROR(Gerar_Upload!C2292,\"erro\")","v":0},{"$f":"IFERROR(Gerar_Upload!D2292,\"erro\")","v":0},{"$f":"IFERROR(DATE(YEAR(Gerar_Upload!E2292),MONTH(Gerar_Upload!E2292),DAY(Gerar_Upload!E2292)),\"erro\")","v":"00:00:00"},{"$f":"IFERROR(Gerar_Upload!F2292,\"erro\")","v":0},{"$f":"IFERROR(IF(Gerar_Upload!G2292<44,REPT(0,44-LEN(Gerar_Upload!G2292))&Gerar_Upload!G2292,Gerar_Upload!G2292),\"erro\")","v":"00000000000000000000000000000000000000000000"}]
[{"$f":"IFERROR(LEFT(Gerar_Upload!A2293,120),\"erro\")","v":""},{"$f":"IFERROR(SUBSTITUTE(SUBSTITUTE(SUBSTITUTE(Gerar_Upload!B2293,\".\",\"\"),\"-\",\"\"),\"/\",\"\"),\"erro\")","v":""},{"$f":"IFERROR(Gerar_Upload!C2293,\"erro\")","v":0},{"$f":"IFERROR(Gerar_Upload!D2293,\"erro\")","v":0},{"$f":"IFERROR(DATE(YEAR(Gerar_Upload!E2293),MONTH(Gerar_Upload!E2293),DAY(Gerar_Upload!E2293)),\"erro\")","v":"00:00:00"},{"$f":"IFERROR(Gerar_Upload!F2293,\"erro\")","v":0},{"$f":"IFERROR(IF(Gerar_Upload!G2293<44,REPT(0,44-LEN(Gerar_Upload!G2293))&Gerar_Upload!G2293,Gerar_Upload!G2293),\"erro\")","v":"00000000000000000000000000000000000000000000"}]
[{"$f":"IFERROR(LEFT(Gerar_Upload!A2294,120),\"erro\")","v":""},{"$f":"IFERROR(SUBSTITUTE(SUBSTITUTE(SUBSTITUTE(Gerar_Upload!B2294,\".\",\"\"),\"-\",\"\"),\"/\",\"\"),\"erro\")","v":""},{"$f":"IFERROR(Gerar_Upload!C2294,\"erro\")","v":0},{"$f":"IFERROR(Gerar_Upload!D2294,\"erro\")","v":0},{"$f":"IFERROR(DATE(YEAR(Gerar_Upload!E2294),MONTH(Gerar_Upload!E2294),DAY(Gerar_Upload!E2294)),\"erro\")","v":"00:00:00"},{"$f":"IFERROR(Gerar_Upload!F2294,\"erro\")","v":0},{"$f":"IFERROR(IF(Gerar_Upload!G2294<44,REPT(0,44-LEN(Gerar_Upload!G2294))&Gerar_Upload!G2294,Gerar_Upload!G2294),\"erro\")","v":"00000000000000000000000000000000000000000000"}]
[{"$f":"IFERROR(LEFT(Gerar_Upload!A2295,120),\"erro\")","v":""},{"$f":"IFERROR(SUBSTITUTE(SUBSTITUTE(SUBSTITUTE(Gerar_Upload!B2295,\".\",\"\"),\"-\",\"\"),\"/\",\"\"),\"erro\")","v":""},{"$f":"IFERROR(Gerar_Upload!C2295,\"erro\")","v":0},{"$f":"IFERROR(Gerar_Upload!D2295,\"erro\")","v":0},{"$f":"IFERROR(DATE(YEAR(Gerar_Upload!E2295),MONTH(Gerar_Upload!E2295),DAY(Gerar_Upload!E2295)),\"erro\")","v":"00:00:00"},{"$f":"IFERROR(Gerar_Upload!F2295,\"erro\")","v":0},{"$f":"IFERROR(IF(Gerar_Upload!G2295<44,REPT(0,44-LEN(Gerar_Upload!G2295))&Gerar_Upload!G2295,Gerar_Upload!G2295),\"erro\")","v":"00000000000000000000000000000000000000000000"}]
[{"$f":"IFERROR(LEFT(Gerar_Upload!A2296,120),\"erro\")","v":""},{"$f":"IFERROR(SUBSTITUTE(SUBSTITUTE(SUBSTITUTE(Gerar_Upload!B2296,\".\",\"\"),\"-\",\"\"),\"/\",\"\"),\"erro\")","v":""},{"$f":"IFERROR(Gerar_Upload!C2296,\"erro\")","v":0},{"$f":"IFERROR(Gerar_Upload!D2296,\"erro\")","v":0},{"$f":"IFERROR(DATE(YEAR(Gerar_Upload!E2296),MONTH(Gerar_Upload!E2296),DAY(Gerar_Upload!E2296)),\"erro\")","v":"00:00:00"},{"$f":"IFERROR(Gerar_Upload!F2296,\"erro\")","v":0},{"$f":"IFERROR(IF(Gerar_Upload!G2296<44,REPT(0,44-LEN(Gerar_Upload!G2296))&Gerar_Upload!G2296,Gerar_Upload!G2296),\"erro\")","v":"00000000000000000000000000000000000000000000"}]
[{"$f":"IFERROR(LEFT(Gerar_Upload!A2297,120),\"erro\")","v":""},{"$f":"IFERROR(SUBSTITUTE(SUBSTITUTE(SUBSTITUTE(Gerar_Upload!B2297,\".\",\"\"),\"-\",\"\"),\"/\",\"\"),\"erro\")","v":""},{"$f":"IFERROR(Gerar_Upload!C2297,\"erro\")","v":0},{"$f":"IFERROR(Gerar_Upload!D2297,\"erro\")","v":0},{"$f":"IFERROR(DATE(YEAR(Gerar_Upload!E2297),MONTH(Gerar_Upload!E2297),DAY(Gerar_Upload!E2297)),\"erro\")","v":"00:00:00"},{"$f":"IFERROR(Gerar_Upload!F2297,\"erro\")","v":0},{"$f":"IFERROR(IF(Gerar_Upload!G2297<44,REPT(0,44-LEN(Gerar_Upload!G2297))&Gerar_Upload!G2297,Gerar_Upload!G2297),\"erro\")","v":"00000000000000000000000000000000000000000000"}]
[{"$f":"IFERROR(LEFT(Gerar_Upload!A2298,120),\"erro\")","v":""},{"$f":"IFERROR(SUBSTITUTE(SUBSTITUTE(SUBSTITUTE(Gerar_Upload!B2298,\".\",\"\"),\"-\",\"\"),\"/\",\"\"),\"erro\")","v":""},{"$f":"IFERROR(Gerar_Upload!C2298,\"erro\")","v":0},{"$f":"IFERROR(Gerar_Upload!D2298,\"erro\")","v":0},{"$f":"IFERROR(DATE(YEAR(Gerar_Upload!E2298),MONTH(Gerar_Upload!E2298),DAY(Gerar_Upload!E2298)),\"erro\")","v":"00:00:00"},{"$f":"IFERROR(Gerar_Upload!F2298,\"erro\")","v":0},{"$f":"IFERROR(IF(Gerar_Upload!G2298<44,REPT(0,44-LEN(Gerar_Upload!G2298))&Gerar_Upload!G2298,Gerar_Upload!G2298),\"erro\")","v":"00000000000000000000000000000000000000000000"}]
[{"$f":"IFERROR(LEFT(Gerar_Upload!A2299,120),\"erro\")","v":""},{"$f":"IFERROR(SUBSTITUTE(SUBSTITUTE(SUBSTITUTE(Gerar_Upload!B2299,\".\",\"\"),\"-\",\"\"),\"/\",\"\"),\"erro\")","v":""},{"$f":"IFERROR(Gerar_Upload!C2299,\"erro\")","v":0},{"$f":"IFERROR(Gerar_Upload!D2299,\"erro\")","v":0},{"$f":"IFERROR(DATE(YEAR(Gerar_Upload!E2299),MONTH(Gerar_Upload!E2299),DAY(Gerar_Upload!E2299)),\"erro\")","v":"00:00:00"},{"$f":"IFERROR(Gerar_Upload!F2299,\"erro\")","v":0},{"$f":"IFERROR(IF(Gerar_Upload!G2299<44,REPT(0,44-LEN(Gerar_Upload!G2299))&Gerar_Upload!G2299,Gerar_Upload!G2299),\"erro\")","v":"00000000000000000000000000000000000000000000"}]
[{"$f":"IFERROR(LEFT(Gerar_Upload!A2300,120),\"erro\")","v":""},{"$f":"IFERROR(SUBSTITUTE(SUBSTITUTE(SUBSTITUTE(Gerar_Upload!B2300,\".\",\"\"),\"-\",\"\"),\"/\",\"\"),\"erro\")","v":""},{"$f":"IFERROR(Gerar_Upload!C2300,\"erro\")","v":0},{"$f":"IFERROR(Gerar_Upload!D2300,\"erro\")","v":0},{"$f":"IFERROR(DATE(YEAR(Gerar_Upload!E2300),MONTH(Gerar_Upload!E2300),DAY(Gerar_Upload!E2300)),\"erro\")","v":"00:00:00"},{"$f":"IFERROR(Gerar_Upload!F2300,\"erro\")","v":0},{"$f":"IFERROR(IF(Gerar_Upload!G2300<44,REPT(0,44-LEN(Gerar_Upload!G2300))&Gerar_Upload!G2300,Gerar_Upload!G2300),\"erro\")","v":"00000000000000000000000000000000000000000000"}]
[{"$f":"IFERROR(LEFT(Gerar_Upload!A2301,120),\"erro\")","v":""},{"$f":"IFERROR(SUBSTITUTE(SUBSTITUTE(SUBSTITUTE(Gerar_Upload!B2301,\".\",\"\"),\"-\",\"\"),\"/\",\"\"),\"erro\")","v":""},{"$f":"IFERROR(Gerar_Upload!C2301,\"erro\")","v":0},{"$f":"IFERROR(Gerar_Upload!D2301,\"erro\")","v":0},{"$f":"IFERROR(DATE(YEAR(Gerar_Upload!E2301),MONTH(Gerar_Upload!E2301),DAY(Gerar_Upload!E2301)),\"erro\")","v":"00:00:00"},{"$f":"IFERROR(Gerar_Upload!F2301,\"erro\")","v":0},{"$f":"IFERROR(IF(Gerar_Upload!G2301<44,REPT(0,44-LEN(Gerar_Upload!G2301))&Gerar_Upload!G2301,Gerar_Upload!G2301),\"erro\")","v":"00000000000000000000000000000000000000000000"}]
[{"$f":"IFERROR(LEFT(Gerar_Upload!A2302,120),\"erro\")","v":""},{"$f":"IFERROR(SUBSTITUTE(SUBSTITUTE(SUBSTITUTE(Gerar_Upload!B2302,\".\",\"\"),\"-\",\"\"),\"/\",\"\"),\"erro\")","v":""},{"$f":"IFERROR(Gerar_Upload!C2302,\"erro\")","v":0},{"$f":"IFERROR(Gerar_Upload!D2302,\"erro\")","v":0},{"$f":"IFERROR(DATE(YEAR(Gerar_Upload!E2302),MONTH(Gerar_Upload!E2302),DAY(Gerar_Upload!E2302)),\"erro\")","v":"00:00:00"},{"$f":"IFERROR(Gerar_Upload!F2302,\"erro\")","v":0},{"$f":"IFERROR(IF(Gerar_Upload!G2302<44,REPT(0,44-LEN(Gerar_Upload!G2302))&Gerar_Upload!G2302,Gerar_Upload!G2302),\"erro\")","v":"00000000000000000000000000000000000000000000"}]
[{"$f":"IFERROR(LEFT(Gerar_Upload!A2303,120),\"erro\")","v":""},{"$f":"IFERROR(SUBSTITUTE(SUBSTITUTE(SUBSTITUTE(Gerar_Upload!B2303,\".\",\"\"),\"-\",\"\"),\"/\",\"\"),\"erro\")","v":""},{"$f":"IFERROR(Gerar_Upload!C2303,\"erro\")","v":0},{"$f":"IFERROR(Gerar_Upload!D2303,\"erro\")","v":0},{"$f":"IFERROR(DATE(YEAR(Gerar_Upload!E2303),MONTH(Gerar_Upload!E2303),DAY(Gerar_Upload!E2303)),\"erro\")","v":"00:00:00"},{"$f":"IFERROR(Gerar_Upload!F2303,\"erro\")","v":0},{"$f":"IFERROR(IF(Gerar_Upload!G2303<44,REPT(0,44-LEN(Gerar_Upload!G2303))&Gerar_Upload!G2303,Gerar_Upload!G2303),\"erro\")","v":"00000000000000000000000000000000000000000000"}]
[{"$f":"IFERROR(LEFT(Gerar_Upload!A2304,120),\"erro\")","v":""},{"$f":"IFERROR(SUBSTITUTE(SUBSTITUTE(SUBSTITUTE(Gerar_Upload!B2304,\".\",\"\"),\"-\",\"\"),\"/\",\"\"),\"erro\")","v":""},{"$f":"IFERROR(Gerar_Upload!C2304,\"erro\")","v":0},{"$f":"IFERROR(Gerar_Upload!D2304,\"erro\")","v":0},{"$f":"IFERROR(DATE(YEAR(Gerar_Upload!E2304),MONTH(Gerar_Upload!E2304),DAY(Gerar_Upload!E2304)),\"erro\")","v":"00:00:00"},{"$f":"IFERROR(Gerar_Upload!F2304,\"erro\")","v":0},{"$f":"IFERROR(IF(Gerar_Upload!G2304<44,REPT(0,44-LEN(Gerar_Upload!G2304))&Gerar_Upload!G2304,Gerar_Upload!G2304),\"erro\")","v":"00000000000000000000000000000000000000000000"}]
[{"$f":"IFERROR(LEFT(Gerar_Upload!A2305,120),\"erro\")","v":""},{"$f":"IFERROR(SUBSTITUTE(SUBSTITUTE(SUBSTITUTE(Gerar_Upload!B2305,\".\",\"\"),\"-\",\"\"),\"/\",\"\"),\"erro\")","v":""},{"$f":"IFERROR(Gerar_Upload!C2305,\"erro\")","v":0},{"$f":"IFERROR(Gerar_Upload!D2305,\"erro\")","v":0},{"$f":"IFERROR(DATE(YEAR(Gerar_Upload!E2305),MONTH(Gerar_Upload!E2305),DAY(Gerar_Upload!E2305)),\"erro\")","v":"00:00:00"},{"$f":"IFERROR(Gerar_Upload!F2305,\"erro\")","v":0},{"$f":"IFERROR(IF(Gerar_Upload!G2305<44,REPT(0,44-LEN(Gerar_Upload!G2305))&Gerar_Upload!G2305,Gerar_Upload!G2305),\"erro\")","v":"00000000000000000000000000000000000000000000"}]
[{"$f":"IFERROR(LEFT(Gerar_Upload!A2306,120),\"erro\")","v":""},{"$f":"IFERROR(SUBSTITUTE(SUBSTITUTE(SUBSTITUTE(Gerar_Upload!B2306,\".\",\"\"),\"-\",\"\"),\"/\",\"\"),\"erro\")","v":""},{"$f":"IFERROR(Gerar_Upload!C2306,\"erro\")","v":0},{"$f":"IFERROR(Gerar_Upload!D2306,\"erro\")","v":0},{"$f":"IFERROR(DATE(YEAR(Gerar_Upload!E2306),MONTH(Gerar_Upload!E2306),DAY(Gerar_Upload!E2306)),\"erro\")","v":"00:00:00"},{"$f":"IFERROR(Gerar_Upload!F2306,\"erro\")","v":0},{"$f":"IFERROR(IF(Gerar_Upload!G2306<44,REPT(0,44-LEN(Gerar_Upload!G2306))&Gerar_Upload!G2306,Gerar_Upload!G2306),\"erro\")","v":"00000000000000000000000000000000000000000000"}]
[{"$f":"IFERROR(LEFT(Gerar_Upload!A2307,120),\"erro\")","v":""},{"$f":"IFERROR(SUBSTITUTE(SUBSTITUTE(SUBSTITUTE(Gerar_Upload!B2307,\".\",\"\"),\"-\",\"\"),\"/\",\"\"),\"erro\")","v":""},{"$f":"IFERROR(Gerar_Upload!C2307,\"erro\")","v":0},{"$f":"IFERROR(Gerar_Upload!D2307,\"erro\")","v":0},{"$f":"IFERROR(DATE(YEAR(Gerar_Upload!E2307),MONTH(Gerar_Upload!E2307),DAY(Gerar_Upload!E2307)),\"erro\")","v":"00:00:00"},{"$f":"IFERROR(Gerar_Upload!F2307,\"erro\")","v":0},{"$f":"IFERROR(IF(Gerar_Upload!G2307<44,REPT(0,44-LEN(Gerar_Upload!G2307))&Gerar_Upload!G2307,Gerar_Upload!G2307),\"erro\")","v":"00000000000000000000000000000000000000000000"}]
[{"$f":"IFERROR(LEFT(Gerar_Upload!A2308,120),\"erro\")","v":""},{"$f":"IFERROR(SUBSTITUTE(SUBSTITUTE(SUBSTITUTE(Gerar_Upload!B2308,\".\",\"\"),\"-\",\"\"),\"/\",\"\"),\"erro\")","v":""},{"$f":"IFERROR(Gerar_Upload!C2308,\"erro\")","v":0},{"$f":"IFERROR(Gerar_Upload!D2308,\"erro\")","v":0},{"$f":"IFERROR(DATE(YEAR(Gerar_Upload!E2308),MONTH(Gerar_Upload!E2308),DAY(Gerar_Upload!E2308)),\"erro\")","v":"00:00:00"},{"$f":"IFERROR(Gerar_Upload!F2308,\"erro\")","v":0},{"$f":"IFERROR(IF(Gerar_Upload!G2308<44,REPT(0,44-LEN(Gerar_Upload!G2308))&Gerar_Upload!G2308,Gerar_Upload!G2308),\"erro\")","v":"00000000000000000000000000000000000000000000"}]
[{"$f":"IFERROR(LEFT(Gerar_Upload!A2309,120),\"erro\")","v":""},{"$f":"IFERROR(SUBSTITUTE(SUBSTITUTE(SUBSTITUTE(Gerar_Upload!B2309,\".\",\"\"),\"-\",\"\"),\"/\",\"\"),\"erro\")","v":""},{"$f":"IFERROR(Gerar_Upload!C2309,\"erro\")","v":0},{"$f":"IFERROR(Gerar_Upload!D2309,\"erro\")","v":0},{"$f":"IFERROR(DATE(YEAR(Gerar_Upload!E2309),MONTH(Gerar_Upload!E2309),DAY(Gerar_Upload!E2309)),\"erro\")","v":"00:00:00"},{"$f":"IFERROR(Gerar_Upload!F2309,\"erro\")","v":0},{"$f":"IFERROR(IF(Gerar_Upload!G2309<44,REPT(0,44-LEN(Gerar_Upload!G2309))&Gerar_Upload!G2309,Gerar_Upload!G2309),\"erro\")","v":"00000000000000000000000000000000000000000000"}]
[{"$f":"IFERROR(LEFT(Gerar_Upload!A2310,120),\"erro\")","v":""},{"$f":"IFERROR(SUBSTITUTE(SUBSTITUTE(SUBSTITUTE(Gerar_Upload!B2310,\".\",\"\"),\"-\",\"\"),\"/\",\"\"),\"erro\")","v":""},{"$f":"IFERROR(Gerar_Upload!C2310,\"erro\")","v":0},{"$f":"IFERROR(Gerar_Upload!D2310,\"erro\")","v":0},{"$f":"IFERROR(DATE(YEAR(Gerar_Upload!E2310),MONTH(Gerar_Upload!E2310),DAY(Gerar_Upload!E2310)),\"erro\")","v":"00:00:00"},{"$f":"IFERROR(Gerar_Upload!F2310,\"erro\")","v":0},{"$f":"IFERROR(IF(Gerar_Upload!G2310<44,REPT(0,44-LEN(Gerar_Upload!G2310))&Gerar_Upload!G2310,Gerar_Upload!G2310),\"erro\")","v":"00000000000000000000000000000000000000000000"}]
[{"$f":"IFERROR(LEFT(Gerar_Upload!A2311,120),\"erro\")","v":""},{"$f":"IFERROR(SUBSTITUTE(SUBSTITUTE(SUBSTITUTE(Gerar_Upload!B2311,\".\",\"\"),\"-\",\"\"),\"/\",\"\"),\"erro\")","v":""},{"$f":"IFERROR(Gerar_Upload!C2311,\"erro\")","v":0},{"$f":"IFERROR(Gerar_Upload!D2311,\"erro\")","v":0},{"$f":"IFERROR(DATE(YEAR(Gerar_Upload!E2311),MONTH(Gerar_Upload!E2311),DAY(Gerar_Upload!E2311)),\"erro\")","v":"00:00:00"},{"$f":"IFERROR(Gerar_Upload!F2311,\"erro\")","v":0},{"$f":"IFERROR(IF(Gerar_Upload!G2311<44,REPT(0,44-LEN(Gerar_Upload!G2311))&Gerar_Upload!G2311,Gerar_Upload!G2311),\"erro\")","v":"00000000000000000000000000000000000000000000"}]
[{"$f":"IFERROR(LEFT(Gerar_Upload!A2312,120),\"erro\")","v":""},{"$f":"IFERROR(SUBSTITUTE(SUBSTITUTE(SUBSTITUTE(Gerar_Upload!B2312,\".\",\"\"),\"-\",\"\"),\"/\",\"\"),\"erro\")","v":""},{"$f":"IFERROR(Gerar_Upload!C2312,\"erro\")","v":0},{"$f":"IFERROR(Gerar_Upload!D2312,\"erro\")","v":0},{"$f":"IFERROR(DATE(YEAR(Gerar_Upload!E2312),MONTH(Gerar_Upload!E2312),DAY(Gerar_Upload!E2312)),\"erro\")","v":"00:00:00"},{"$f":"IFERROR(Gerar_Upload!F2312,\"erro\")","v":0},{"$f":"IFERROR(IF(Gerar_Upload!G2312<44,REPT(0,44-LEN(Gerar_Upload!G2312))&Gerar_Upload!G2312,Gerar_Upload!G2312),\"erro\")","v":"00000000000000000000000000000000000000000000"}]
[{"$f":"IFERROR(LEFT(Gerar_Upload!A2313,120),\"erro\")","v":""},{"$f":"IFERROR(SUBSTITUTE(SUBSTITUTE(SUBSTITUTE(Gerar_Upload!B2313,\".\",\"\"),\"-\",\"\"),\"/\",\"\"),\"erro\")","v":""},{"$f":"IFERROR(Gerar_Upload!C2313,\"erro\")","v":0},{"$f":"IFERROR(Gerar_Upload!D2313,\"erro\")","v":0},{"$f":"IFERROR(DATE(YEAR(Gerar_Upload!E2313),MONTH(Gerar_Upload!E2313),DAY(Gerar_Upload!E2313)),\"erro\")","v":"00:00:00"},{"$f":"IFERROR(Gerar_Upload!F2313,\"erro\")","v":0},{"$f":"IFERROR(IF(Gerar_Upload!G2313<44,REPT(0,44-LEN(Gerar_Upload!G2313))&Gerar_Upload!G2313,Gerar_Upload!G2313),\"erro\")","v":"00000000000000000000000000000000000000000000"}]
[{"$f":"IFERROR(LEFT(Gerar_Upload!A2314,120),\"erro\")","v":""},{"$f":"IFERROR(SUBSTITUTE(SUBSTITUTE(SUBSTITUTE(Gerar_Upload!B2314,\".\",\"\"),\"-\",\"\"),\"/\",\"\"),\"erro\")","v":""},{"$f":"IFERROR(Gerar_Upload!C2314,\"erro\")","v":0},{"$f":"IFERROR(Gerar_Upload!D2314,\"erro\")","v":0},{"$f":"IFERROR(DATE(YEAR(Gerar_Upload!E2314),MONTH(Gerar_Upload!E2314),DAY(Gerar_Upload!E2314)),\"erro\")","v":"00:00:00"},{"$f":"IFERROR(Gerar_Upload!F2314,\"erro\")","v":0},{"$f":"IFERROR(IF(Gerar_Upload!G2314<44,REPT(0,44-LEN(Gerar_Upload!G2314))&Gerar_Upload!G2314,Gerar_Upload!G2314),\"erro\")","v":"00000000000000000000000000000000000000000000"}]
[{"$f":"IFERROR(LEFT(Gerar_Upload!A2315,120),\"erro\")","v":""},{"$f":"IFERROR(SUBSTITUTE(SUBSTITUTE(SUBSTITUTE(Gerar_Upload!B2315,\".\",\"\"),\"-\",\"\"),\"/\",\"\"),\"erro\")","v":""},{"$f":"IFERROR(Gerar_Upload!C2315,\"erro\")","v":0},{"$f":"IFERROR(Gerar_Upload!D2315,\"erro\")","v":0},{"$f":"IFERROR(DATE(YEAR(Gerar_Upload!E2315),MONTH(Gerar_Upload!E2315),DAY(Gerar_Upload!E2315)),\"erro\")","v":"00:00:00"},{"$f":"IFERROR(Gerar_Upload!F2315,\"erro\")","v":0},{"$f":"IFERROR(IF(Gerar_Upload!G2315<44,REPT(0,44-LEN(Gerar_Upload!G2315))&Gerar_Upload!G2315,Gerar_Upload!G2315),\"erro\")","v":"00000000000000000000000000000000000000000000"}]
[{"$f":"IFERROR(LEFT(Gerar_Upload!A2316,120),\"erro\")","v":""},{"$f":"IFERROR(SUBSTITUTE(SUBSTITUTE(SUBSTITUTE(Gerar_Upload!B2316,\".\",\"\"),\"-\",\"\"),\"/\",\"\"),\"erro\")","v":""},{"$f":"IFERROR(Gerar_Upload!C2316,\"erro\")","v":0},{"$f":"IFERROR(Gerar_Upload!D2316,\"erro\")","v":0},{"$f":"IFERROR(DATE(YEAR(Gerar_Upload!E2316),MONTH(Gerar_Upload!E2316),DAY(Gerar_Upload!E2316)),\"erro\")","v":"00:00:00"},{"$f":"IFERROR(Gerar_Upload!F2316,\"erro\")","v":0},{"$f":"IFERROR(IF(Gerar_Upload!G2316<44,REPT(0,44-LEN(Gerar_Upload!G2316))&Gerar_Upload!G2316,Gerar_Upload!G2316),\"erro\")","v":"00000000000000000000000000000000000000000000"}]
[{"$f":"IFERROR(LEFT(Gerar_Upload!A2317,120),\"erro\")","v":""},{"$f":"IFERROR(SUBSTITUTE(SUBSTITUTE(SUBSTITUTE(Gerar_Upload!B2317,\".\",\"\"),\"-\",\"\"),\"/\",\"\"),\"erro\")","v":""},{"$f":"IFERROR(Gerar_Upload!C2317,\"erro\")","v":0},{"$f":"IFERROR(Gerar_Upload!D2317,\"erro\")","v":0},{"$f":"IFERROR(DATE(YEAR(Gerar_Upload!E2317),MONTH(Gerar_Upload!E2317),DAY(Gerar_Upload!E2317)),\"erro\")","v":"00:00:00"},{"$f":"IFERROR(Gerar_Upload!F2317,\"erro\")","v":0},{"$f":"IFERROR(IF(Gerar_Upload!G2317<44,REPT(0,44-LEN(Gerar_Upload!G2317))&Gerar_Upload!G2317,Gerar_Upload!G2317),\"erro\")","v":"00000000000000000000000000000000000000000000"}]
[{"$f":"IFERROR(LEFT(Gerar_Upload!A2318,120),\"erro\")","v":""},{"$f":"IFERROR(SUBSTITUTE(SUBSTITUTE(SUBSTITUTE(Gerar_Upload!B2318,\".\",\"\"),\"-\",\"\"),\"/\",\"\"),\"erro\")","v":""},{"$f":"IFERROR(Gerar_Upload!C2318,\"erro\")","v":0},{"$f":"IFERROR(Gerar_Upload!D2318,\"erro\")","v":0},{"$f":"IFERROR(DATE(YEAR(Gerar_Upload!E2318),MONTH(Gerar_Upload!E2318),DAY(Gerar_Upload!E2318)),\"erro\")","v":"00:00:00"},{"$f":"IFERROR(Gerar_Upload!F2318,\"erro\")","v":0},{"$f":"IFERROR(IF(Gerar_Upload!G2318<44,REPT(0,44-LEN(Gerar_Upload!G2318))&Gerar_Upload!G2318,Gerar_Upload!G2318),\"erro\")","v":"00000000000000000000000000000000000000000000"}]
[{"$f":"IFERROR(LEFT(Gerar_Upload!A2319,120),\"erro\")","v":""},{"$f":"IFERROR(SUBSTITUTE(SUBSTITUTE(SUBSTITUTE(Gerar_Upload!B2319,\".\",\"\"),\"-\",\"\"),\"/\",\"\"),\"erro\")","v":""},{"$f":"IFERROR(Gerar_Upload!C2319,\"erro\")","v":0},{"$f":"IFERROR(Gerar_Upload!D2319,\"erro\")","v":0},{"$f":"IFERROR(DATE(YEAR(Gerar_Upload!E2319),MONTH(Gerar_Upload!E2319),DAY(Gerar_Upload!E2319)),\"erro\")","v":"00:00:00"},{"$f":"IFERROR(Gerar_Upload!F2319,\"erro\")","v":0},{"$f":"IFERROR(IF(Gerar_Upload!G2319<44,REPT(0,44-LEN(Gerar_Upload!G2319))&Gerar_Upload!G2319,Gerar_Upload!G2319),\"erro\")","v":"00000000000000000000000000000000000000000000"}]
[{"$f":"IFERROR(LEFT(Gerar_Upload!A2320,120),\"erro\")","v":""},{"$f":"IFERROR(SUBSTITUTE(SUBSTITUTE(SUBSTITUTE(Gerar_Upload!B2320,\".\",\"\"),\"-\",\"\"),\"/\",\"\"),\"erro\")","v":""},{"$f":"IFERROR(Gerar_Upload!C2320,\"erro\")","v":0},{"$f":"IFERROR(Gerar_Upload!D2320,\"erro\")","v":0},{"$f":"IFERROR(DATE(YEAR(Gerar_Upload!E2320),MONTH(Gerar_Upload!E2320),DAY(Gerar_Upload!E2320)),\"erro\")","v":"00:00:00"},{"$f":"IFERROR(Gerar_Upload!F2320,\"erro\")","v":0},{"$f":"IFERROR(IF(Gerar_Upload!G2320<44,REPT(0,44-LEN(Gerar_Upload!G2320))&Gerar_Upload!G2320,Gerar_Upload!G2320),\"erro\")","v":"00000000000000000000000000000000000000000000"}]
[{"$f":"IFERROR(LEFT(Gerar_Upload!A2321,120),\"erro\")","v":""},{"$f":"IFERROR(SUBSTITUTE(SUBSTITUTE(SUBSTITUTE(Gerar_Upload!B2321,\".\",\"\"),\"-\",\"\"),\"/\",\"\"),\"erro\")","v":""},{"$f":"IFERROR(Gerar_Upload!C2321,\"erro\")","v":0},{"$f":"IFERROR(Gerar_Upload!D2321,\"erro\")","v":0},{"$f":"IFERROR(DATE(YEAR(Gerar_Upload!E2321),MONTH(Gerar_Upload!E2321),DAY(Gerar_Upload!E2321)),\"erro\")","v":"00:00:00"},{"$f":"IFERROR(Gerar_Upload!F2321,\"erro\")","v":0},{"$f":"IFERROR(IF(Gerar_Upload!G2321<44,REPT(0,44-LEN(Gerar_Upload!G2321))&Gerar_Upload!G2321,Gerar_Upload!G2321),\"erro\")","v":"00000000000000000000000000000000000000000000"}]
[{"$f":"IFERROR(LEFT(Gerar_Upload!A2322,120),\"erro\")","v":""},{"$f":"IFERROR(SUBSTITUTE(SUBSTITUTE(SUBSTITUTE(Gerar_Upload!B2322,\".\",\"\"),\"-\",\"\"),\"/\",\"\"),\"erro\")","v":""},{"$f":"IFERROR(Gerar_Upload!C2322,\"erro\")","v":0},{"$f":"IFERROR(Gerar_Upload!D2322,\"erro\")","v":0},{"$f":"IFERROR(DATE(YEAR(Gerar_Upload!E2322),MONTH(Gerar_Upload!E2322),DAY(Gerar_Upload!E2322)),\"erro\")","v":"00:00:00"},{"$f":"IFERROR(Gerar_Upload!F2322,\"erro\")","v":0},{"$f":"IFERROR(IF(Gerar_Upload!G2322<44,REPT(0,44-LEN(Gerar_Upload!G2322))&Gerar_Upload!G2322,Gerar_Upload!G2322),\"erro\")","v":"00000000000000000000000000000000000000000000"}]
[{"$f":"IFERROR(LEFT(Gerar_Upload!A2323,120),\"erro\")","v":""},{"$f":"IFERROR(SUBSTITUTE(SUBSTITUTE(SUBSTITUTE(Gerar_Upload!B2323,\".\",\"\"),\"-\",\"\"),\"/\",\"\"),\"erro\")","v":""},{"$f":"IFERROR(Gerar_Upload!C2323,\"erro\")","v":0},{"$f":"IFERROR(Gerar_Upload!D2323,\"erro\")","v":0},{"$f":"IFERROR(DATE(YEAR(Gerar_Upload!E2323),MONTH(Gerar_Upload!E2323),DAY(Gerar_Upload!E2323)),\"erro\")","v":"00:00:00"},{"$f":"IFERROR(Gerar_Upload!F2323,\"erro\")","v":0},{"$f":"IFERROR(IF(Gerar_Upload!G2323<44,REPT(0,44-LEN(Gerar_Upload!G2323))&Gerar_Upload!G2323,Gerar_Upload!G2323),\"erro\")","v":"00000000000000000000000000000000000000000000"}]
[{"$f":"IFERROR(LEFT(Gerar_Upload!A2324,120),\"erro\")","v":""},{"$f":"IFERROR(SUBSTITUTE(SUBSTITUTE(SUBSTITUTE(Gerar_Upload!B2324,\".\",\"\"),\"-\",\"\"),\"/\",\"\"),\"erro\")","v":""},{"$f":"IFERROR(Gerar_Upload!C2324,\"erro\")","v":0},{"$f":"IFERROR(Gerar_Upload!D2324,\"erro\")","v":0},{"$f":"IFERROR(DATE(YEAR(Gerar_Upload!E2324),MONTH(Gerar_Upload!E2324),DAY(Gerar_Upload!E2324)),\"erro\")","v":"00:00:00"},{"$f":"IFERROR(Gerar_Upload!F2324,\"erro\")","v":0},{"$f":"IFERROR(IF(Gerar_Upload!G2324<44,REPT(0,44-LEN(Gerar_Upload!G2324))&Gerar_Upload!G2324,Gerar_Upload!G2324),\"erro\")","v":"00000000000000000000000000000000000000000000"}]
[{"$f":"IFERROR(LEFT(Gerar_Upload!A2325,120),\"erro\")","v":""},{"$f":"IFERROR(SUBSTITUTE(SUBSTITUTE(SUBSTITUTE(Gerar_Upload!B2325,\".\",\"\"),\"-\",\"\"),\"/\",\"\"),\"erro\")","v":""},{"$f":"IFERROR(Gerar_Upload!C2325,\"erro\")","v":0},{"$f":"IFERROR(Gerar_Upload!D2325,\"erro\")","v":0},{"$f":"IFERROR(DATE(YEAR(Gerar_Upload!E2325),MONTH(Gerar_Upload!E2325),DAY(Gerar_Upload!E2325)),\"erro\")","v":"00:00:00"},{"$f":"IFERROR(Gerar_Upload!F2325,\"erro\")","v":0},{"$f":"IFERROR(IF(Gerar_Upload!G2325<44,REPT(0,44-LEN(Gerar_Upload!G2325))&Gerar_Upload!G2325,Gerar_Upload!G2325),\"erro\")","v":"00000000000000000000000000000000000000000000"}]
[{"$f":"IFERROR(LEFT(Gerar_Upload!A2326,120),\"erro\")","v":""},{"$f":"IFERROR(SUBSTITUTE(SUBSTITUTE(SUBSTITUTE(Gerar_Upload!B2326,\".\",\"\"),\"-\",\"\"),\"/\",\"\"),\"erro\")","v":""},{"$f":"IFERROR(Gerar_Upload!C2326,\"erro\")","v":0},{"$f":"IFERROR(Gerar_Upload!D2326,\"erro\")","v":0},{"$f":"IFERROR(DATE(YEAR(Gerar_Upload!E2326),MONTH(Gerar_Upload!E2326),DAY(Gerar_Upload!E2326)),\"erro\")","v":"00:00:00"},{"$f":"IFERROR(Gerar_Upload!F2326,\"erro\")","v":0},{"$f":"IFERROR(IF(Gerar_Upload!G2326<44,REPT(0,44-LEN(Gerar_Upload!G2326))&Gerar_Upload!G2326,Gerar_Upload!G2326),\"erro\")","v":"00000000000000000000000000000000000000000000"}]
[{"$f":"IFERROR(LEFT(Gerar_Upload!A2327,120),\"erro\")","v":""},{"$f":"IFERROR(SUBSTITUTE(SUBSTITUTE(SUBSTITUTE(Gerar_Upload!B2327,\".\",\"\"),\"-\",\"\"),\"/\",\"\"),\"erro\")","v":""},{"$f":"IFERROR(Gerar_Upload!C2327,\"erro\")","v":0},{"$f":"IFERROR(Gerar_Upload!D2327,\"erro\")","v":0},{"$f":"IFERROR(DATE(YEAR(Gerar_Upload!E2327),MONTH(Gerar_Upload!E2327),DAY(Gerar_Upload!E2327)),\"erro\")","v":"00:00:00"},{"$f":"IFERROR(Gerar_Upload!F2327,\"erro\")","v":0},{"$f":"IFERROR(IF(Gerar_Upload!G2327<44,REPT(0,44-LEN(Gerar_Upload!G2327))&Gerar_Upload!G2327,Gerar_Upload!G2327),\"erro\")","v":"00000000000000000000000000000000000000000000"}]
[{"$f":"IFERROR(LEFT(Gerar_Upload!A2328,120),\"erro\")","v":""},{"$f":"IFERROR(SUBSTITUTE(SUBSTITUTE(SUBSTITUTE(Gerar_Upload!B2328,\".\",\"\"),\"-\",\"\"),\"/\",\"\"),\"erro\")","v":""},{"$f":"IFERROR(Gerar_Upload!C2328,\"erro\")","v":0},{"$f":"IFERROR(Gerar_Upload!D2328,\"erro\")","v":0},{"$f":"IFERROR(DATE(YEAR(Gerar_Upload!E2328),MONTH(Gerar_Upload!E2328),DAY(Gerar_Upload!E2328)),\"erro\")","v":"00:00:00"},{"$f":"IFERROR(Gerar_Upload!F2328,\"erro\")","v":0},{"$f":"IFERROR(IF(Gerar_Upload!G2328<44,REPT(0,44-LEN(Gerar_Upload!G2328))&Gerar_Upload!G2328,Gerar_Upload!G2328),\"erro\")","v":"00000000000000000000000000000000000000000000"}]
[{"$f":"IFERROR(LEFT(Gerar_Upload!A2329,120),\"erro\")","v":""},{"$f":"IFERROR(SUBSTITUTE(SUBSTITUTE(SUBSTITUTE(Gerar_Upload!B2329,\".\",\"\"),\"-\",\"\"),\"/\",\"\"),\"erro\")","v":""},{"$f":"IFERROR(Gerar_Upload!C2329,\"erro\")","v":0},{"$f":"IFERROR(Gerar_Upload!D2329,\"erro\")","v":0},{"$f":"IFERROR(DATE(YEAR(Gerar_Upload!E2329),MONTH(Gerar_Upload!E2329),DAY(Gerar_Upload!E2329)),\"erro\")","v":"00:00:00"},{"$f":"IFERROR(Gerar_Upload!F2329,\"erro\")","v":0},{"$f":"IFERROR(IF(Gerar_Upload!G2329<44,REPT(0,44-LEN(Gerar_Upload!G2329))&Gerar_Upload!G2329,Gerar_Upload!G2329),\"erro\")","v":"00000000000000000000000000000000000000000000"}]
[{"$f":"IFERROR(LEFT(Gerar_Upload!A2330,120),\"erro\")","v":""},{"$f":"IFERROR(SUBSTITUTE(SUBSTITUTE(SUBSTITUTE(Gerar_Upload!B2330,\".\",\"\"),\"-\",\"\"),\"/\",\"\"),\"erro\")","v":""},{"$f":"IFERROR(Gerar_Upload!C2330,\"erro\")","v":0},{"$f":"IFERROR(Gerar_Upload!D2330,\"erro\")","v":0},{"$f":"IFERROR(DATE(YEAR(Gerar_Upload!E2330),MONTH(Gerar_Upload!E2330),DAY(Gerar_Upload!E2330)),\"erro\")","v":"00:00:00"},{"$f":"IFERROR(Gerar_Upload!F2330,\"erro\")","v":0},{"$f":"IFERROR(IF(Gerar_Upload!G2330<44,REPT(0,44-LEN(Gerar_Upload!G2330))&Gerar_Upload!G2330,Gerar_Upload!G2330),\"erro\")","v":"00000000000000000000000000000000000000000000"}]
[{"$f":"IFERROR(LEFT(Gerar_Upload!A2331,120),\"erro\")","v":""},{"$f":"IFERROR(SUBSTITUTE(SUBSTITUTE(SUBSTITUTE(Gerar_Upload!B2331,\".\",\"\"),\"-\",\"\"),\"/\",\"\"),\"erro\")","v":""},{"$f":"IFERROR(Gerar_Upload!C2331,\"erro\")","v":0},{"$f":"IFERROR(Gerar_Upload!D2331,\"erro\")","v":0},{"$f":"IFERROR(DATE(YEAR(Gerar_Upload!E2331),MONTH(Gerar_Upload!E2331),DAY(Gerar_Upload!E2331)),\"erro\")","v":"00:00:00"},{"$f":"IFERROR(Gerar_Upload!F2331,\"erro\")","v":0},{"$f":"IFERROR(IF(Gerar_Upload!G2331<44,REPT(0,44-LEN(Gerar_Upload!G2331))&Gerar_Upload!G2331,Gerar_Upload!G2331),\"erro\")","v":"00000000000000000000000000000000000000000000"}]
[{"$f":"IFERROR(LEFT(Gerar_Upload!A2332,120),\"erro\")","v":""},{"$f":"IFERROR(SUBSTITUTE(SUBSTITUTE(SUBSTITUTE(Gerar_Upload!B2332,\".\",\"\"),\"-\",\"\"),\"/\",\"\"),\"erro\")","v":""},{"$f":"IFERROR(Gerar_Upload!C2332,\"erro\")","v":0},{"$f":"IFERROR(Gerar_Upload!D2332,\"erro\")","v":0},{"$f":"IFERROR(DATE(YEAR(Gerar_Upload!E2332),MONTH(Gerar_Upload!E2332),DAY(Gerar_Upload!E2332)),\"erro\")","v":"00:00:00"},{"$f":"IFERROR(Gerar_Upload!F2332,\"erro\")","v":0},{"$f":"IFERROR(IF(Gerar_Upload!G2332<44,REPT(0,44-LEN(Gerar_Upload!G2332))&Gerar_Upload!G2332,Gerar_Upload!G2332),\"erro\")","v":"00000000000000000000000000000000000000000000"}]
[{"$f":"IFERROR(LEFT(Gerar_Upload!A2333,120),\"erro\")","v":""},{"$f":"IFERROR(SUBSTITUTE(SUBSTITUTE(SUBSTITUTE(Gerar_Upload!B2333,\".\",\"\"),\"-\",\"\"),\"/\",\"\"),\"erro\")","v":""},{"$f":"IFERROR(Gerar_Upload!C2333,\"erro\")","v":0},{"$f":"IFERROR(Gerar_Upload!D2333,\"erro\")","v":0},{"$f":"IFERROR(DATE(YEAR(Gerar_Upload!E2333),MONTH(Gerar_Upload!E2333),DAY(Gerar_Upload!E2333)),\"erro\")","v":"00:00:00"},{"$f":"IFERROR(Gerar_Upload!F2333,\"erro\")","v":0},{"$f":"IFERROR(IF(Gerar_Upload!G2333<44,REPT(0,44-LEN(Gerar_Upload!G2333))&Gerar_Upload!G2333,Gerar_Upload!G2333),\"erro\")","v":"00000000000000000000000000000000000000000000"}]
[{"$f":"IFERROR(LEFT(Gerar_Upload!A2334,120),\"erro\")","v":""},{"$f":"IFERROR(SUBSTITUTE(SUBSTITUTE(SUBSTITUTE(Gerar_Upload!B2334,\".\",\"\"),\"-\",\"\"),\"/\",\"\"),\"erro\")","v":""},{"$f":"IFERROR(Gerar_Upload!C2334,\"erro\")","v":0},{"$f":"IFERROR(Gerar_Upload!D2334,\"erro\")","v":0},{"$f":"IFERROR(DATE(YEAR(Gerar_Upload!E2334),MONTH(Gerar_Upload!E2334),DAY(Gerar_Upload!E2334)),\"erro\")","v":"00:00:00"},{"$f":"IFERROR(Gerar_Upload!F2334,\"erro\")","v":0},{"$f":"IFERROR(IF(Gerar_Upload!G2334<44,REPT(0,44-LEN(Gerar_Upload!G2334))&Gerar_Upload!G2334,Gerar_Upload!G2334),\"erro\")","v":"00000000000000000000000000000000000000000000"}]
[{"$f":"IFERROR(LEFT(Gerar_Upload!A2335,120),\"erro\")","v":""},{"$f":"IFERROR(SUBSTITUTE(SUBSTITUTE(SUBSTITUTE(Gerar_Upload!B2335,\".\",\"\"),\"-\",\"\"),\"/\",\"\"),\"erro\")","v":""},{"$f":"IFERROR(Gerar_Upload!C2335,\"erro\")","v":0},{"$f":"IFERROR(Gerar_Upload!D2335,\"erro\")","v":0},{"$f":"IFERROR(DATE(YEAR(Gerar_Upload!E2335),MONTH(Gerar_Upload!E2335),DAY(Gerar_Upload!E2335)),\"erro\")","v":"00:00:00"},{"$f":"IFERROR(Gerar_Upload!F2335,\"erro\")","v":0},{"$f":"IFERROR(IF(Gerar_Upload!G2335<44,REPT(0,44-LEN(Gerar_Upload!G2335))&Gerar_Upload!G2335,Gerar_Upload!G2335),\"erro\")","v":"00000000000000000000000000000000000000000000"}]
[{"$f":"IFERROR(LEFT(Gerar_Upload!A2336,120),\"erro\")","v":""},{"$f":"IFERROR(SUBSTITUTE(SUBSTITUTE(SUBSTITUTE(Gerar_Upload!B2336,\".\",\"\"),\"-\",\"\"),\"/\",\"\"),\"erro\")","v":""},{"$f":"IFERROR(Gerar_Upload!C2336,\"erro\")","v":0},{"$f":"IFERROR(Gerar_Upload!D2336,\"erro\")","v":0},{"$f":"IFERROR(DATE(YEAR(Gerar_Upload!E2336),MONTH(Gerar_Upload!E2336),DAY(Gerar_Upload!E2336)),\"erro\")","v":"00:00:00"},{"$f":"IFERROR(Gerar_Upload!F2336,\"erro\")","v":0},{"$f":"IFERROR(IF(Gerar_Upload!G2336<44,REPT(0,44-LEN(Gerar_Upload!G2336))&Gerar_Upload!G2336,Gerar_Upload!G2336),\"erro\")","v":"00000000000000000000000000000000000000000000"}]
[{"$f":"IFERROR(LEFT(Gerar_Upload!A2337,120),\"erro\")","v":""},{"$f":"IFERROR(SUBSTITUTE(SUBSTITUTE(SUBSTITUTE(Gerar_Upload!B2337,\".\",\"\"),\"-\",\"\"),\"/\",\"\"),\"erro\")","v":""},{"$f":"IFERROR(Gerar_Upload!C2337,\"erro\")","v":0},{"$f":"IFERROR(Gerar_Upload!D2337,\"erro\")","v":0},{"$f":"IFERROR(DATE(YEAR(Gerar_Upload!E2337),MONTH(Gerar_Upload!E2337),DAY(Gerar_Upload!E2337)),\"erro\")","v":"00:00:00"},{"$f":"IFERROR(Gerar_Upload!F2337,\"erro\")","v":0},{"$f":"IFERROR(IF(Gerar_Upload!G2337<44,REPT(0,44-LEN(Gerar_Upload!G2337))&Gerar_Upload!G2337,Gerar_Upload!G2337),\"erro\")","v":"00000000000000000000000000000000000000000000"}]
[{"$f":"IFERROR(LEFT(Gerar_Upload!A2338,120),\"erro\")","v":""},{"$f":"IFERROR(SUBSTITUTE(SUBSTITUTE(SUBSTITUTE(Gerar_Upload!B2338,\".\",\"\"),\"-\",\"\"),\"/\",\"\"),\"erro\")","v":""},{"$f":"IFERROR(Gerar_Upload!C2338,\"erro\")","v":0},{"$f":"IFERROR(Gerar_Upload!D2338,\"erro\")","v":0},{"$f":"IFERROR(DATE(YEAR(Gerar_Upload!E2338),MONTH(Gerar_Upload!E2338),DAY(Gerar_Upload!E2338)),\"erro\")","v":"00:00:00"},{"$f":"IFERROR(Gerar_Upload!F2338,\"erro\")","v":0},{"$f":"IFERROR(IF(Gerar_Upload!G2338<44,REPT(0,44-LEN(Gerar_Upload!G2338))&Gerar_Upload!G2338,Gerar_Upload!G2338),\"erro\")","v":"00000000000000000000000000000000000000000000"}]
[{"$f":"IFERROR(LEFT(Gerar_Upload!A2339,120),\"erro\")","v":""},{"$f":"IFERROR(SUBSTITUTE(SUBSTITUTE(SUBSTITUTE(Gerar_Upload!B2339,\".\",\"\"),\"-\",\"\"),\"/\",\"\"),\"erro\")","v":""},{"$f":"IFERROR(Gerar_Upload!C2339,\"erro\")","v":0},{"$f":"IFERROR(Gerar_Upload!D2339,\"erro\")","v":0},{"$f":"IFERROR(DATE(YEAR(Gerar_Upload!E2339),MONTH(Gerar_Upload!E2339),DAY(Gerar_Upload!E2339)),\"erro\")","v":"00:00:00"},{"$f":"IFERROR(Gerar_Upload!F2339,\"erro\")","v":0},{"$f":"IFERROR(IF(Gerar_Upload!G2339<44,REPT(0,44-LEN(Gerar_Upload!G2339))&Gerar_Upload!G2339,Gerar_Upload!G2339),\"erro\")","v":"00000000000000000000000000000000000000000000"}]
[{"$f":"IFERROR(LEFT(Gerar_Upload!A2340,120),\"erro\")","v":""},{"$f":"IFERROR(SUBSTITUTE(SUBSTITUTE(SUBSTITUTE(Gerar_Upload!B2340,\".\",\"\"),\"-\",\"\"),\"/\",\"\"),\"erro\")","v":""},{"$f":"IFERROR(Gerar_Upload!C2340,\"erro\")","v":0},{"$f":"IFERROR(Gerar_Upload!D2340,\"erro\")","v":0},{"$f":"IFERROR(DATE(YEAR(Gerar_Upload!E2340),MONTH(Gerar_Upload!E2340),DAY(Gerar_Upload!E2340)),\"erro\")","v":"00:00:00"},{"$f":"IFERROR(Gerar_Upload!F2340,\"erro\")","v":0},{"$f":"IFERROR(IF(Gerar_Upload!G2340<44,REPT(0,44-LEN(Gerar_Upload!G2340))&Gerar_Upload!G2340,Gerar_Upload!G2340),\"erro\")","v":"00000000000000000000000000000000000000000000"}]
[{"$f":"IFERROR(LEFT(Gerar_Upload!A2341,120),\"erro\")","v":""},{"$f":"IFERROR(SUBSTITUTE(SUBSTITUTE(SUBSTITUTE(Gerar_Upload!B2341,\".\",\"\"),\"-\",\"\"),\"/\",\"\"),\"erro\")","v":""},{"$f":"IFERROR(Gerar_Upload!C2341,\"erro\")","v":0},{"$f":"IFERROR(Gerar_Upload!D2341,\"erro\")","v":0},{"$f":"IFERROR(DATE(YEAR(Gerar_Upload!E2341),MONTH(Gerar_Upload!E2341),DAY(Gerar_Upload!E2341)),\"erro\")","v":"00:00:00"},{"$f":"IFERROR(Gerar_Upload!F2341,\"erro\")","v":0},{"$f":"IFERROR(IF(Gerar_Upload!G2341<44,REPT(0,44-LEN(Gerar_Upload!G2341))&Gerar_Upload!G2341,Gerar_Upload!G2341),\"erro\")","v":"00000000000000000000000000000000000000000000"}]
[{"$f":"IFERROR(LEFT(Gerar_Upload!A2342,120),\"erro\")","v":""},{"$f":"IFERROR(SUBSTITUTE(SUBSTITUTE(SUBSTITUTE(Gerar_Upload!B2342,\".\",\"\"),\"-\",\"\"),\"/\",\"\"),\"erro\")","v":""},{"$f":"IFERROR(Gerar_Upload!C2342,\"erro\")","v":0},{"$f":"IFERROR(Gerar_Upload!D2342,\"erro\")","v":0},{"$f":"IFERROR(DATE(YEAR(Gerar_Upload!E2342),MONTH(Gerar_Upload!E2342),DAY(Gerar_Upload!E2342)),\"erro\")","v":"00:00:00"},{"$f":"IFERROR(Gerar_Upload!F2342,\"erro\")","v":0},{"$f":"IFERROR(IF(Gerar_Upload!G2342<44,REPT(0,44-LEN(Gerar_Upload!G2342))&Gerar_Upload!G2342,Gerar_Upload!G2342),\"erro\")","v":"00000000000000000000000000000000000000000000"}]
[{"$f":"IFERROR(LEFT(Gerar_Upload!A2343,120),\"erro\")","v":""},{"$f":"IFERROR(SUBSTITUTE(SUBSTITUTE(SUBSTITUTE(Gerar_Upload!B2343,\".\",\"\"),\"-\",\"\"),\"/\",\"\"),\"erro\")","v":""},{"$f":"IFERROR(Gerar_Upload!C2343,\"erro\")","v":0},{"$f":"IFERROR(Gerar_Upload!D2343,\"erro\")","v":0},{"$f":"IFERROR(DATE(YEAR(Gerar_Upload!E2343),MONTH(Gerar_Upload!E2343),DAY(Gerar_Upload!E2343)),\"erro\")","v":"00:00:00"},{"$f":"IFERROR(Gerar_Upload!F2343,\"erro\")","v":0},{"$f":"IFERROR(IF(Gerar_Upload!G2343<44,REPT(0,44-LEN(Gerar_Upload!G2343))&Gerar_Upload!G2343,Gerar_Upload!G2343),\"erro\")","v":"00000000000000000000000000000000000000000000"}]
[{"$f":"IFERROR(LEFT(Gerar_Upload!A2344,120),\"erro\")","v":""},{"$f":"IFERROR(SUBSTITUTE(SUBSTITUTE(SUBSTITUTE(Gerar_Upload!B2344,\".\",\"\"),\"-\",\"\"),\"/\",\"\"),\"erro\")","v":""},{"$f":"IFERROR(Gerar_Upload!C2344,\"erro\")","v":0},{"$f":"IFERROR(Gerar_Upload!D2344,\"erro\")","v":0},{"$f":"IFERROR(DATE(YEAR(Gerar_Upload!E2344),MONTH(Gerar_Upload!E2344),DAY(Gerar_Upload!E2344)),\"erro\")","v":"00:00:00"},{"$f":"IFERROR(Gerar_Upload!F2344,\"erro\")","v":0},{"$f":"IFERROR(IF(Gerar_Upload!G2344<44,REPT(0,44-LEN(Gerar_Upload!G2344))&Gerar_Upload!G2344,Gerar_Upload!G2344),\"erro\")","v":"00000000000000000000000000000000000000000000"}]
[{"$f":"IFERROR(LEFT(Gerar_Upload!A2345,120),\"erro\")","v":""},{"$f":"IFERROR(SUBSTITUTE(SUBSTITUTE(SUBSTITUTE(Gerar_Upload!B2345,\".\",\"\"),\"-\",\"\"),\"/\",\"\"),\"erro\")","v":""},{"$f":"IFERROR(Gerar_Upload!C2345,\"erro\")","v":0},{"$f":"IFERROR(Gerar_Upload!D2345,\"erro\")","v":0},{"$f":"IFERROR(DATE(YEAR(Gerar_Upload!E2345),MONTH(Gerar_Upload!E2345),DAY(Gerar_Upload!E2345)),\"erro\")","v":"00:00:00"},{"$f":"IFERROR(Gerar_Upload!F2345,\"erro\")","v":0},{"$f":"IFERROR(IF(Gerar_Upload!G2345<44,REPT(0,44-LEN(Gerar_Upload!G2345))&Gerar_Upload!G2345,Gerar_Upload!G2345),\"erro\")","v":"00000000000000000000000000000000000000000000"}]
[{"$f":"IFERROR(LEFT(Gerar_Upload!A2346,120),\"erro\")","v":""},{"$f":"IFERROR(SUBSTITUTE(SUBSTITUTE(SUBSTITUTE(Gerar_Upload!B2346,\".\",\"\"),\"-\",\"\"),\"/\",\"\"),\"erro\")","v":""},{"$f":"IFERROR(Gerar_Upload!C2346,\"erro\")","v":0},{"$f":"IFERROR(Gerar_Upload!D2346,\"erro\")","v":0},{"$f":"IFERROR(DATE(YEAR(Gerar_Upload!E2346),MONTH(Gerar_Upload!E2346),DAY(Gerar_Upload!E2346)),\"erro\")","v":"00:00:00"},{"$f":"IFERROR(Gerar_Upload!F2346,\"erro\")","v":0},{"$f":"IFERROR(IF(Gerar_Upload!G2346<44,REPT(0,44-LEN(Gerar_Upload!G2346))&Gerar_Upload!G2346,Gerar_Upload!G2346),\"erro\")","v":"00000000000000000000000000000000000000000000"}]
[{"$f":"IFERROR(LEFT(Gerar_Upload!A2347,120),\"erro\")","v":""},{"$f":"IFERROR(SUBSTITUTE(SUBSTITUTE(SUBSTITUTE(Gerar_Upload!B2347,\".\",\"\"),\"-\",\"\"),\"/\",\"\"),\"erro\")","v":""},{"$f":"IFERROR(Gerar_Upload!C2347,\"erro\")","v":0},{"$f":"IFERROR(Gerar_Upload!D2347,\"erro\")","v":0},{"$f":"IFERROR(DATE(YEAR(Gerar_Upload!E2347),MONTH(Gerar_Upload!E2347),DAY(Gerar_Upload!E2347)),\"erro\")","v":"00:00:00"},{"$f":"IFERROR(Gerar_Upload!F2347,\"erro\")","v":0},{"$f":"IFERROR(IF(Gerar_Upload!G2347<44,REPT(0,44-LEN(Gerar_Upload!G2347))&Gerar_Upload!G2347,Gerar_Upload!G2347),\"erro\")","v":"00000000000000000000000000000000000000000000"}]
[{"$f":"IFERROR(LEFT(Gerar_Upload!A2348,120),\"erro\")","v":""},{"$f":"IFERROR(SUBSTITUTE(SUBSTITUTE(SUBSTITUTE(Gerar_Upload!B2348,\".\",\"\"),\"-\",\"\"),\"/\",\"\"),\"erro\")","v":""},{"$f":"IFERROR(Gerar_Upload!C2348,\"erro\")","v":0},{"$f":"IFERROR(Gerar_Upload!D2348,\"erro\")","v":0},{"$f":"IFERROR(DATE(YEAR(Gerar_Upload!E2348),MONTH(Gerar_Upload!E2348),DAY(Gerar_Upload!E2348)),\"erro\")","v":"00:00:00"},{"$f":"IFERROR(Gerar_Upload!F2348,\"erro\")","v":0},{"$f":"IFERROR(IF(Gerar_Upload!G2348<44,REPT(0,44-LEN(Gerar_Upload!G2348))&Gerar_Upload!G2348,Gerar_Upload!G2348),\"erro\")","v":"00000000000000000000000000000000000000000000"}]
[{"$f":"IFERROR(LEFT(Gerar_Upload!A2349,120),\"erro\")","v":""},{"$f":"IFERROR(SUBSTITUTE(SUBSTITUTE(SUBSTITUTE(Gerar_Upload!B2349,\".\",\"\"),\"-\",\"\"),\"/\",\"\"),\"erro\")","v":""},{"$f":"IFERROR(Gerar_Upload!C2349,\"erro\")","v":0},{"$f":"IFERROR(Gerar_Upload!D2349,\"erro\")","v":0},{"$f":"IFERROR(DATE(YEAR(Gerar_Upload!E2349),MONTH(Gerar_Upload!E2349),DAY(Gerar_Upload!E2349)),\"erro\")","v":"00:00:00"},{"$f":"IFERROR(Gerar_Upload!F2349,\"erro\")","v":0},{"$f":"IFERROR(IF(Gerar_Upload!G2349<44,REPT(0,44-LEN(Gerar_Upload!G2349))&Gerar_Upload!G2349,Gerar_Upload!G2349),\"erro\")","v":"00000000000000000000000000000000000000000000"}]
[{"$f":"IFERROR(LEFT(Gerar_Upload!A2350,120),\"erro\")","v":""},{"$f":"IFERROR(SUBSTITUTE(SUBSTITUTE(SUBSTITUTE(Gerar_Upload!B2350,\".\",\"\"),\"-\",\"\"),\"/\",\"\"),\"erro\")","v":""},{"$f":"IFERROR(Gerar_Upload!C2350,\"erro\")","v":0},{"$f":"IFERROR(Gerar_Upload!D2350,\"erro\")","v":0},{"$f":"IFERROR(DATE(YEAR(Gerar_Upload!E2350),MONTH(Gerar_Upload!E2350),DAY(Gerar_Upload!E2350)),\"erro\")","v":"00:00:00"},{"$f":"IFERROR(Gerar_Upload!F2350,\"erro\")","v":0},{"$f":"IFERROR(IF(Gerar_Upload!G2350<44,REPT(0,44-LEN(Gerar_Upload!G2350))&Gerar_Upload!G2350,Gerar_Upload!G2350),\"erro\")","v":"00000000000000000000000000000000000000000000"}]
[{"$f":"IFERROR(LEFT(Gerar_Upload!A2351,120),\"erro\")","v":""},{"$f":"IFERROR(SUBSTITUTE(SUBSTITUTE(SUBSTITUTE(Gerar_Upload!B2351,\".\",\"\"),\"-\",\"\"),\"/\",\"\"),\"erro\")","v":""},{"$f":"IFERROR(Gerar_Upload!C2351,\"erro\")","v":0},{"$f":"IFERROR(Gerar_Upload!D2351,\"erro\")","v":0},{"$f":"IFERROR(DATE(YEAR(Gerar_Upload!E2351),MONTH(Gerar_Upload!E2351),DAY(Gerar_Upload!E2351)),\"erro\")","v":"00:00:00"},{"$f":"IFERROR(Gerar_Upload!F2351,\"erro\")","v":0},{"$f":"IFERROR(IF(Gerar_Upload!G2351<44,REPT(0,44-LEN(Gerar_Upload!G2351))&Gerar_Upload!G2351,Gerar_Upload!G2351),\"erro\")","v":"00000000000000000000000000000000000000000000"}]
[{"$f":"IFERROR(LEFT(Gerar_Upload!A2352,120),\"erro\")","v":""},{"$f":"IFERROR(SUBSTITUTE(SUBSTITUTE(SUBSTITUTE(Gerar_Upload!B2352,\".\",\"\"),\"-\",\"\"),\"/\",\"\"),\"erro\")","v":""},{"$f":"IFERROR(Gerar_Upload!C2352,\"erro\")","v":0},{"$f":"IFERROR(Gerar_Upload!D2352,\"erro\")","v":0},{"$f":"IFERROR(DATE(YEAR(Gerar_Upload!E2352),MONTH(Gerar_Upload!E2352),DAY(Gerar_Upload!E2352)),\"erro\")","v":"00:00:00"},{"$f":"IFERROR(Gerar_Upload!F2352,\"erro\")","v":0},{"$f":"IFERROR(IF(Gerar_Upload!G2352<44,REPT(0,44-LEN(Gerar_Upload!G2352))&Gerar_Upload!G2352,Gerar_Upload!G2352),\"erro\")","v":"00000000000000000000000000000000000000000000"}]
[{"$f":"IFERROR(LEFT(Gerar_Upload!A2353,120),\"erro\")","v":""},{"$f":"IFERROR(SUBSTITUTE(SUBSTITUTE(SUBSTITUTE(Gerar_Upload!B2353,\".\",\"\"),\"-\",\"\"),\"/\",\"\"),\"erro\")","v":""},{"$f":"IFERROR(Gerar_Upload!C2353,\"erro\")","v":0},{"$f":"IFERROR(Gerar_Upload!D2353,\"erro\")","v":0},{"$f":"IFERROR(DATE(YEAR(Gerar_Upload!E2353),MONTH(Gerar_Upload!E2353),DAY(Gerar_Upload!E2353)),\"erro\")","v":"00:00:00"},{"$f":"IFERROR(Gerar_Upload!F2353,\"erro\")","v":0},{"$f":"IFERROR(IF(Gerar_Upload!G2353<44,REPT(0,44-LEN(Gerar_Upload!G2353))&Gerar_Upload!G2353,Gerar_Upload!G2353),\"erro\")","v":"00000000000000000000000000000000000000000000"}]
[{"$f":"IFERROR(LEFT(Gerar_Upload!A2354,120),\"erro\")","v":""},{"$f":"IFERROR(SUBSTITUTE(SUBSTITUTE(SUBSTITUTE(Gerar_Upload!B2354,\".\",\"\"),\"-\",\"\"),\"/\",\"\"),\"erro\")","v":""},{"$f":"IFERROR(Gerar_Upload!C2354,\"erro\")","v":0},{"$f":"IFERROR(Gerar_Upload!D2354,\"erro\")","v":0},{"$f":"IFERROR(DATE(YEAR(Gerar_Upload!E2354),MONTH(Gerar_Upload!E2354),DAY(Gerar_Upload!E2354)),\"erro\")","v":"00:00:00"},{"$f":"IFERROR(Gerar_Upload!F2354,\"erro\")","v":0},{"$f":"IFERROR(IF(Gerar_Upload!G2354<44,REPT(0,44-LEN(Gerar_Upload!G2354))&Gerar_Upload!G2354,Gerar_Upload!G2354),\"erro\")","v":"00000000000000000000000000000000000000000000"}]
[{"$f":"IFERROR(LEFT(Gerar_Upload!A2355,120),\"erro\")","v":""},{"$f":"IFERROR(SUBSTITUTE(SUBSTITUTE(SUBSTITUTE(Gerar_Upload!B2355,\".\",\"\"),\"-\",\"\"),\"/\",\"\"),\"erro\")","v":""},{"$f":"IFERROR(Gerar_Upload!C2355,\"erro\")","v":0},{"$f":"IFERROR(Gerar_Upload!D2355,\"erro\")","v":0},{"$f":"IFERROR(DATE(YEAR(Gerar_Upload!E2355),MONTH(Gerar_Upload!E2355),DAY(Gerar_Upload!E2355)),\"erro\")","v":"00:00:00"},{"$f":"IFERROR(Gerar_Upload!F2355,\"erro\")","v":0},{"$f":"IFERROR(IF(Gerar_Upload!G2355<44,REPT(0,44-LEN(Gerar_Upload!G2355))&Gerar_Upload!G2355,Gerar_Upload!G2355),\"erro\")","v":"00000000000000000000000000000000000000000000"}]
[{"$f":"IFERROR(LEFT(Gerar_Upload!A2356,120),\"erro\")","v":""},{"$f":"IFERROR(SUBSTITUTE(SUBSTITUTE(SUBSTITUTE(Gerar_Upload!B2356,\".\",\"\"),\"-\",\"\"),\"/\",\"\"),\"erro\")","v":""},{"$f":"IFERROR(Gerar_Upload!C2356,\"erro\")","v":0},{"$f":"IFERROR(Gerar_Upload!D2356,\"erro\")","v":0},{"$f":"IFERROR(DATE(YEAR(Gerar_Upload!E2356),MONTH(Gerar_Upload!E2356),DAY(Gerar_Upload!E2356)),\"erro\")","v":"00:00:00"},{"$f":"IFERROR(Gerar_Upload!F2356,\"erro\")","v":0},{"$f":"IFERROR(IF(Gerar_Upload!G2356<44,REPT(0,44-LEN(Gerar_Upload!G2356))&Gerar_Upload!G2356,Gerar_Upload!G2356),\"erro\")","v":"00000000000000000000000000000000000000000000"}]
[{"$f":"IFERROR(LEFT(Gerar_Upload!A2357,120),\"erro\")","v":""},{"$f":"IFERROR(SUBSTITUTE(SUBSTITUTE(SUBSTITUTE(Gerar_Upload!B2357,\".\",\"\"),\"-\",\"\"),\"/\",\"\"),\"erro\")","v":""},{"$f":"IFERROR(Gerar_Upload!C2357,\"erro\")","v":0},{"$f":"IFERROR(Gerar_Upload!D2357,\"erro\")","v":0},{"$f":"IFERROR(DATE(YEAR(Gerar_Upload!E2357),MONTH(Gerar_Upload!E2357),DAY(Gerar_Upload!E2357)),\"erro\")","v":"00:00:00"},{"$f":"IFERROR(Gerar_Upload!F2357,\"erro\")","v":0},{"$f":"IFERROR(IF(Gerar_Upload!G2357<44,REPT(0,44-LEN(Gerar_Upload!G2357))&Gerar_Upload!G2357,Gerar_Upload!G2357),\"erro\")","v":"00000000000000000000000000000000000000000000"}]
[{"$f":"IFERROR(LEFT(Gerar_Upload!A2358,120),\"erro\")","v":""},{"$f":"IFERROR(SUBSTITUTE(SUBSTITUTE(SUBSTITUTE(Gerar_Upload!B2358,\".\",\"\"),\"-\",\"\"),\"/\",\"\"),\"erro\")","v":""},{"$f":"IFERROR(Gerar_Upload!C2358,\"erro\")","v":0},{"$f":"IFERROR(Gerar_Upload!D2358,\"erro\")","v":0},{"$f":"IFERROR(DATE(YEAR(Gerar_Upload!E2358),MONTH(Gerar_Upload!E2358),DAY(Gerar_Upload!E2358)),\"erro\")","v":"00:00:00"},{"$f":"IFERROR(Gerar_Upload!F2358,\"erro\")","v":0},{"$f":"IFERROR(IF(Gerar_Upload!G2358<44,REPT(0,44-LEN(Gerar_Upload!G2358))&Gerar_Upload!G2358,Gerar_Upload!G2358),\"erro\")","v":"00000000000000000000000000000000000000000000"}]
[{"$f":"IFERROR(LEFT(Gerar_Upload!A2359,120),\"erro\")","v":""},{"$f":"IFERROR(SUBSTITUTE(SUBSTITUTE(SUBSTITUTE(Gerar_Upload!B2359,\".\",\"\"),\"-\",\"\"),\"/\",\"\"),\"erro\")","v":""},{"$f":"IFERROR(Gerar_Upload!C2359,\"erro\")","v":0},{"$f":"IFERROR(Gerar_Upload!D2359,\"erro\")","v":0},{"$f":"IFERROR(DATE(YEAR(Gerar_Upload!E2359),MONTH(Gerar_Upload!E2359),DAY(Gerar_Upload!E2359)),\"erro\")","v":"00:00:00"},{"$f":"IFERROR(Gerar_Upload!F2359,\"erro\")","v":0},{"$f":"IFERROR(IF(Gerar_Upload!G2359<44,REPT(0,44-LEN(Gerar_Upload!G2359))&Gerar_Upload!G2359,Gerar_Upload!G2359),\"erro\")","v":"00000000000000000000000000000000000000000000"}]
[{"$f":"IFERROR(LEFT(Gerar_Upload!A2360,120),\"erro\")","v":""},{"$f":"IFERROR(SUBSTITUTE(SUBSTITUTE(SUBSTITUTE(Gerar_Upload!B2360,\".\",\"\"),\"-\",\"\"),\"/\",\"\"),\"erro\")","v":""},{"$f":"IFERROR(Gerar_Upload!C2360,\"erro\")","v":0},{"$f":"IFERROR(Gerar_Upload!D2360,\"erro\")","v":0},{"$f":"IFERROR(DATE(YEAR(Gerar_Upload!E2360),MONTH(Gerar_Upload!E2360),DAY(Gerar_Upload!E2360)),\"erro\")","v":"00:00:00"},{"$f":"IFERROR(Gerar_Upload!F2360,\"erro\")","v":0},{"$f":"IFERROR(IF(Gerar_Upload!G2360<44,REPT(0,44-LEN(Gerar_Upload!G2360))&Gerar_Upload!G2360,Gerar_Upload!G2360),\"erro\")","v":"00000000000000000000000000000000000000000000"}]
[{"$f":"IFERROR(LEFT(Gerar_Upload!A2361,120),\"erro\")","v":""},{"$f":"IFERROR(SUBSTITUTE(SUBSTITUTE(SUBSTITUTE(Gerar_Upload!B2361,\".\",\"\"),\"-\",\"\"),\"/\",\"\"),\"erro\")","v":""},{"$f":"IFERROR(Gerar_Upload!C2361,\"erro\")","v":0},{"$f":"IFERROR(Gerar_Upload!D2361,\"erro\")","v":0},{"$f":"IFERROR(DATE(YEAR(Gerar_Upload!E2361),MONTH(Gerar_Upload!E2361),DAY(Gerar_Upload!E2361)),\"erro\")","v":"00:00:00"},{"$f":"IFERROR(Gerar_Upload!F2361,\"erro\")","v":0},{"$f":"IFERROR(IF(Gerar_Upload!G2361<44,REPT(0,44-LEN(Gerar_Upload!G2361))&Gerar_Upload!G2361,Gerar_Upload!G2361),\"erro\")","v":"00000000000000000000000000000000000000000000"}]
[{"$f":"IFERROR(LEFT(Gerar_Upload!A2362,120),\"erro\")","v":""},{"$f":"IFERROR(SUBSTITUTE(SUBSTITUTE(SUBSTITUTE(Gerar_Upload!B2362,\".\",\"\"),\"-\",\"\"),\"/\",\"\"),\"erro\")","v":""},{"$f":"IFERROR(Gerar_Upload!C2362,\"erro\")","v":0},{"$f":"IFERROR(Gerar_Upload!D2362,\"erro\")","v":0},{"$f":"IFERROR(DATE(YEAR(Gerar_Upload!E2362),MONTH(Gerar_Upload!E2362),DAY(Gerar_Upload!E2362)),\"erro\")","v":"00:00:00"},{"$f":"IFERROR(Gerar_Upload!F2362,\"erro\")","v":0},{"$f":"IFERROR(IF(Gerar_Upload!G2362<44,REPT(0,44-LEN(Gerar_Upload!G2362))&Gerar_Upload!G2362,Gerar_Upload!G2362),\"erro\")","v":"00000000000000000000000000000000000000000000"}]
[{"$f":"IFERROR(LEFT(Gerar_Upload!A2363,120),\"erro\")","v":""},{"$f":"IFERROR(SUBSTITUTE(SUBSTITUTE(SUBSTITUTE(Gerar_Upload!B2363,\".\",\"\"),\"-\",\"\"),\"/\",\"\"),\"erro\")","v":""},{"$f":"IFERROR(Gerar_Upload!C2363,\"erro\")","v":0},{"$f":"IFERROR(Gerar_Upload!D2363,\"erro\")","v":0},{"$f":"IFERROR(DATE(YEAR(Gerar_Upload!E2363),MONTH(Gerar_Upload!E2363),DAY(Gerar_Upload!E2363)),\"erro\")","v":"00:00:00"},{"$f":"IFERROR(Gerar_Upload!F2363,\"erro\")","v":0},{"$f":"IFERROR(IF(Gerar_Upload!G2363<44,REPT(0,44-LEN(Gerar_Upload!G2363))&Gerar_Upload!G2363,Gerar_Upload!G2363),\"erro\")","v":"00000000000000000000000000000000000000000000"}]
[{"$f":"IFERROR(LEFT(Gerar_Upload!A2364,120),\"erro\")","v":""},{"$f":"IFERROR(SUBSTITUTE(SUBSTITUTE(SUBSTITUTE(Gerar_Upload!B2364,\".\",\"\"),\"-\",\"\"),\"/\",\"\"),\"erro\")","v":""},{"$f":"IFERROR(Gerar_Upload!C2364,\"erro\")","v":0},{"$f":"IFERROR(Gerar_Upload!D2364,\"erro\")","v":0},{"$f":"IFERROR(DATE(YEAR(Gerar_Upload!E2364),MONTH(Gerar_Upload!E2364),DAY(Gerar_Upload!E2364)),\"erro\")","v":"00:00:00"},{"$f":"IFERROR(Gerar_Upload!F2364,\"erro\")","v":0},{"$f":"IFERROR(IF(Gerar_Upload!G2364<44,REPT(0,44-LEN(Gerar_Upload!G2364))&Gerar_Upload!G2364,Gerar_Upload!G2364),\"erro\")","v":"00000000000000000000000000000000000000000000"}]
[{"$f":"IFERROR(LEFT(Gerar_Upload!A2365,120),\"erro\")","v":""},{"$f":"IFERROR(SUBSTITUTE(SUBSTITUTE(SUBSTITUTE(Gerar_Upload!B2365,\".\",\"\"),\"-\",\"\"),\"/\",\"\"),\"erro\")","v":""},{"$f":"IFERROR(Gerar_Upload!C2365,\"erro\")","v":0},{"$f":"IFERROR(Gerar_Upload!D2365,\"erro\")","v":0},{"$f":"IFERROR(DATE(YEAR(Gerar_Upload!E2365),MONTH(Gerar_Upload!E2365),DAY(Gerar_Upload!E2365)),\"erro\")","v":"00:00:00"},{"$f":"IFERROR(Gerar_Upload!F2365,\"erro\")","v":0},{"$f":"IFERROR(IF(Gerar_Upload!G2365<44,REPT(0,44-LEN(Gerar_Upload!G2365))&Gerar_Upload!G2365,Gerar_Upload!G2365),\"erro\")","v":"00000000000000000000000000000000000000000000"}]
[{"$f":"IFERROR(LEFT(Gerar_Upload!A2366,120),\"erro\")","v":""},{"$f":"IFERROR(SUBSTITUTE(SUBSTITUTE(SUBSTITUTE(Gerar_Upload!B2366,\".\",\"\"),\"-\",\"\"),\"/\",\"\"),\"erro\")","v":""},{"$f":"IFERROR(Gerar_Upload!C2366,\"erro\")","v":0},{"$f":"IFERROR(Gerar_Upload!D2366,\"erro\")","v":0},{"$f":"IFERROR(DATE(YEAR(Gerar_Upload!E2366),MONTH(Gerar_Upload!E2366),DAY(Gerar_Upload!E2366)),\"erro\")","v":"00:00:00"},{"$f":"IFERROR(Gerar_Upload!F2366,\"erro\")","v":0},{"$f":"IFERROR(IF(Gerar_Upload!G2366<44,REPT(0,44-LEN(Gerar_Upload!G2366))&Gerar_Upload!G2366,Gerar_Upload!G2366),\"erro\")","v":"00000000000000000000000000000000000000000000"}]
[{"$f":"IFERROR(LEFT(Gerar_Upload!A2367,120),\"erro\")","v":""},{"$f":"IFERROR(SUBSTITUTE(SUBSTITUTE(SUBSTITUTE(Gerar_Upload!B2367,\".\",\"\"),\"-\",\"\"),\"/\",\"\"),\"erro\")","v":""},{"$f":"IFERROR(Gerar_Upload!C2367,\"erro\")","v":0},{"$f":"IFERROR(Gerar_Upload!D2367,\"erro\")","v":0},{"$f":"IFERROR(DATE(YEAR(Gerar_Upload!E2367),MONTH(Gerar_Upload!E2367),DAY(Gerar_Upload!E2367)),\"erro\")","v":"00:00:00"},{"$f":"IFERROR(Gerar_Upload!F2367,\"erro\")","v":0},{"$f":"IFERROR(IF(Gerar_Upload!G2367<44,REPT(0,44-LEN(Gerar_Upload!G2367))&Gerar_Upload!G2367,Gerar_Upload!G2367),\"erro\")","v":"00000000000000000000000000000000000000000000"}]
[{"$f":"IFERROR(LEFT(Gerar_Upload!A2368,120),\"erro\")","v":""},{"$f":"IFERROR(SUBSTITUTE(SUBSTITUTE(SUBSTITUTE(Gerar_Upload!B2368,\".\",\"\"),\"-\",\"\"),\"/\",\"\"),\"erro\")","v":""},{"$f":"IFERROR(Gerar_Upload!C2368,\"erro\")","v":0},{"$f":"IFERROR(Gerar_Upload!D2368,\"erro\")","v":0},{"$f":"IFERROR(DATE(YEAR(Gerar_Upload!E2368),MONTH(Gerar_Upload!E2368),DAY(Gerar_Upload!E2368)),\"erro\")","v":"00:00:00"},{"$f":"IFERROR(Gerar_Upload!F2368,\"erro\")","v":0},{"$f":"IFERROR(IF(Gerar_Upload!G2368<44,REPT(0,44-LEN(Gerar_Upload!G2368))&Gerar_Upload!G2368,Gerar_Upload!G2368),\"erro\")","v":"00000000000000000000000000000000000000000000"}]
[{"$f":"IFERROR(LEFT(Gerar_Upload!A2369,120),\"erro\")","v":""},{"$f":"IFERROR(SUBSTITUTE(SUBSTITUTE(SUBSTITUTE(Gerar_Upload!B2369,\".\",\"\"),\"-\",\"\"),\"/\",\"\"),\"erro\")","v":""},{"$f":"IFERROR(Gerar_Upload!C2369,\"erro\")","v":0},{"$f":"IFERROR(Gerar_Upload!D2369,\"erro\")","v":0},{"$f":"IFERROR(DATE(YEAR(Gerar_Upload!E2369),MONTH(Gerar_Upload!E2369),DAY(Gerar_Upload!E2369)),\"erro\")","v":"00:00:00"},{"$f":"IFERROR(Gerar_Upload!F2369,\"erro\")","v":0},{"$f":"IFERROR(IF(Gerar_Upload!G2369<44,REPT(0,44-LEN(Gerar_Upload!G2369))&Gerar_Upload!G2369,Gerar_Upload!G2369),\"erro\")","v":"00000000000000000000000000000000000000000000"}]
[{"$f":"IFERROR(LEFT(Gerar_Upload!A2370,120),\"erro\")","v":""},{"$f":"IFERROR(SUBSTITUTE(SUBSTITUTE(SUBSTITUTE(Gerar_Upload!B2370,\".\",\"\"),\"-\",\"\"),\"/\",\"\"),\"erro\")","v":""},{"$f":"IFERROR(Gerar_Upload!C2370,\"erro\")","v":0},{"$f":"IFERROR(Gerar_Upload!D2370,\"erro\")","v":0},{"$f":"IFERROR(DATE(YEAR(Gerar_Upload!E2370),MONTH(Gerar_Upload!E2370),DAY(Gerar_Upload!E2370)),\"erro\")","v":"00:00:00"},{"$f":"IFERROR(Gerar_Upload!F2370,\"erro\")","v":0},{"$f":"IFERROR(IF(Gerar_Upload!G2370<44,REPT(0,44-LEN(Gerar_Upload!G2370))&Gerar_Upload!G2370,Gerar_Upload!G2370),\"erro\")","v":"00000000000000000000000000000000000000000000"}]
[{"$f":"IFERROR(LEFT(Gerar_Upload!A2371,120),\"erro\")","v":""},{"$f":"IFERROR(SUBSTITUTE(SUBSTITUTE(SUBSTITUTE(Gerar_Upload!B2371,\".\",\"\"),\"-\",\"\"),\"/\",\"\"),\"erro\")","v":""},{"$f":"IFERROR(Gerar_Upload!C2371,\"erro\")","v":0},{"$f":"IFERROR(Gerar_Upload!D2371,\"erro\")","v":0},{"$f":"IFERROR(DATE(YEAR(Gerar_Upload!E2371),MONTH(Gerar_Upload!E2371),DAY(Gerar_Upload!E2371)),\"erro\")","v":"00:00:00"},{"$f":"IFERROR(Gerar_Upload!F2371,\"erro\")","v":0},{"$f":"IFERROR(IF(Gerar_Upload!G2371<44,REPT(0,44-LEN(Gerar_Upload!G2371))&Gerar_Upload!G2371,Gerar_Upload!G2371),\"erro\")","v":"00000000000000000000000000000000000000000000"}]
[{"$f":"IFERROR(LEFT(Gerar_Upload!A2372,120),\"erro\")","v":""},{"$f":"IFERROR(SUBSTITUTE(SUBSTITUTE(SUBSTITUTE(Gerar_Upload!B2372,\".\",\"\"),\"-\",\"\"),\"/\",\"\"),\"erro\")","v":""},{"$f":"IFERROR(Gerar_Upload!C2372,\"erro\")","v":0},{"$f":"IFERROR(Gerar_Upload!D2372,\"erro\")","v":0},{"$f":"IFERROR(DATE(YEAR(Gerar_Upload!E2372),MONTH(Gerar_Upload!E2372),DAY(Gerar_Upload!E2372)),\"erro\")","v":"00:00:00"},{"$f":"IFERROR(Gerar_Upload!F2372,\"erro\")","v":0},{"$f":"IFERROR(IF(Gerar_Upload!G2372<44,REPT(0,44-LEN(Gerar_Upload!G2372))&Gerar_Upload!G2372,Gerar_Upload!G2372),\"erro\")","v":"00000000000000000000000000000000000000000000"}]
[{"$f":"IFERROR(LEFT(Gerar_Upload!A2373,120),\"erro\")","v":""},{"$f":"IFERROR(SUBSTITUTE(SUBSTITUTE(SUBSTITUTE(Gerar_Upload!B2373,\".\",\"\"),\"-\",\"\"),\"/\",\"\"),\"erro\")","v":""},{"$f":"IFERROR(Gerar_Upload!C2373,\"erro\")","v":0},{"$f":"IFERROR(Gerar_Upload!D2373,\"erro\")","v":0},{"$f":"IFERROR(DATE(YEAR(Gerar_Upload!E2373),MONTH(Gerar_Upload!E2373),DAY(Gerar_Upload!E2373)),\"erro\")","v":"00:00:00"},{"$f":"IFERROR(Gerar_Upload!F2373,\"erro\")","v":0},{"$f":"IFERROR(IF(Gerar_Upload!G2373<44,REPT(0,44-LEN(Gerar_Upload!G2373))&Gerar_Upload!G2373,Gerar_Upload!G2373),\"erro\")","v":"00000000000000000000000000000000000000000000"}]
[{"$f":"IFERROR(LEFT(Gerar_Upload!A2374,120),\"erro\")","v":""},{"$f":"IFERROR(SUBSTITUTE(SUBSTITUTE(SUBSTITUTE(Gerar_Upload!B2374,\".\",\"\"),\"-\",\"\"),\"/\",\"\"),\"erro\")","v":""},{"$f":"IFERROR(Gerar_Upload!C2374,\"erro\")","v":0},{"$f":"IFERROR(Gerar_Upload!D2374,\"erro\")","v":0},{"$f":"IFERROR(DATE(YEAR(Gerar_Upload!E2374),MONTH(Gerar_Upload!E2374),DAY(Gerar_Upload!E2374)),\"erro\")","v":"00:00:00"},{"$f":"IFERROR(Gerar_Upload!F2374,\"erro\")","v":0},{"$f":"IFERROR(IF(Gerar_Upload!G2374<44,REPT(0,44-LEN(Gerar_Upload!G2374))&Gerar_Upload!G2374,Gerar_Upload!G2374),\"erro\")","v":"00000000000000000000000000000000000000000000"}]
[{"$f":"IFERROR(LEFT(Gerar_Upload!A2375,120),\"erro\")","v":""},{"$f":"IFERROR(SUBSTITUTE(SUBSTITUTE(SUBSTITUTE(Gerar_Upload!B2375,\".\",\"\"),\"-\",\"\"),\"/\",\"\"),\"erro\")","v":""},{"$f":"IFERROR(Gerar_Upload!C2375,\"erro\")","v":0},{"$f":"IFERROR(Gerar_Upload!D2375,\"erro\")","v":0},{"$f":"IFERROR(DATE(YEAR(Gerar_Upload!E2375),MONTH(Gerar_Upload!E2375),DAY(Gerar_Upload!E2375)),\"erro\")","v":"00:00:00"},{"$f":"IFERROR(Gerar_Upload!F2375,\"erro\")","v":0},{"$f":"IFERROR(IF(Gerar_Upload!G2375<44,REPT(0,44-LEN(Gerar_Upload!G2375))&Gerar_Upload!G2375,Gerar_Upload!G2375),\"erro\")","v":"00000000000000000000000000000000000000000000"}]
[{"$f":"IFERROR(LEFT(Gerar_Upload!A2376,120),\"erro\")","v":""},{"$f":"IFERROR(SUBSTITUTE(SUBSTITUTE(SUBSTITUTE(Gerar_Upload!B2376,\".\",\"\"),\"-\",\"\"),\"/\",\"\"),\"erro\")","v":""},{"$f":"IFERROR(Gerar_Upload!C2376,\"erro\")","v":0},{"$f":"IFERROR(Gerar_Upload!D2376,\"erro\")","v":0},{"$f":"IFERROR(DATE(YEAR(Gerar_Upload!E2376),MONTH(Gerar_Upload!E2376),DAY(Gerar_Upload!E2376)),\"erro\")","v":"00:00:00"},{"$f":"IFERROR(Gerar_Upload!F2376,\"erro\")","v":0},{"$f":"IFERROR(IF(Gerar_Upload!G2376<44,REPT(0,44-LEN(Gerar_Upload!G2376))&Gerar_Upload!G2376,Gerar_Upload!G2376),\"erro\")","v":"00000000000000000000000000000000000000000000"}]
[{"$f":"IFERROR(LEFT(Gerar_Upload!A2377,120),\"erro\")","v":""},{"$f":"IFERROR(SUBSTITUTE(SUBSTITUTE(SUBSTITUTE(Gerar_Upload!B2377,\".\",\"\"),\"-\",\"\"),\"/\",\"\"),\"erro\")","v":""},{"$f":"IFERROR(Gerar_Upload!C2377,\"erro\")","v":0},{"$f":"IFERROR(Gerar_Upload!D2377,\"erro\")","v":0},{"$f":"IFERROR(DATE(YEAR(Gerar_Upload!E2377),MONTH(Gerar_Upload!E2377),DAY(Gerar_Upload!E2377)),\"erro\")","v":"00:00:00"},{"$f":"IFERROR(Gerar_Upload!F2377,\"erro\")","v":0},{"$f":"IFERROR(IF(Gerar_Upload!G2377<44,REPT(0,44-LEN(Gerar_Upload!G2377))&Gerar_Upload!G2377,Gerar_Upload!G2377),\"erro\")","v":"00000000000000000000000000000000000000000000"}]
[{"$f":"IFERROR(LEFT(Gerar_Upload!A2378,120),\"erro\")","v":""},{"$f":"IFERROR(SUBSTITUTE(SUBSTITUTE(SUBSTITUTE(Gerar_Upload!B2378,\".\",\"\"),\"-\",\"\"),\"/\",\"\"),\"erro\")","v":""},{"$f":"IFERROR(Gerar_Upload!C2378,\"erro\")","v":0},{"$f":"IFERROR(Gerar_Upload!D2378,\"erro\")","v":0},{"$f":"IFERROR(DATE(YEAR(Gerar_Upload!E2378),MONTH(Gerar_Upload!E2378),DAY(Gerar_Upload!E2378)),\"erro\")","v":"00:00:00"},{"$f":"IFERROR(Gerar_Upload!F2378,\"erro\")","v":0},{"$f":"IFERROR(IF(Gerar_Upload!G2378<44,REPT(0,44-LEN(Gerar_Upload!G2378))&Gerar_Upload!G2378,Gerar_Upload!G2378),\"erro\")","v":"00000000000000000000000000000000000000000000"}]
[{"$f":"IFERROR(LEFT(Gerar_Upload!A2379,120),\"erro\")","v":""},{"$f":"IFERROR(SUBSTITUTE(SUBSTITUTE(SUBSTITUTE(Gerar_Upload!B2379,\".\",\"\"),\"-\",\"\"),\"/\",\"\"),\"erro\")","v":""},{"$f":"IFERROR(Gerar_Upload!C2379,\"erro\")","v":0},{"$f":"IFERROR(Gerar_Upload!D2379,\"erro\")","v":0},{"$f":"IFERROR(DATE(YEAR(Gerar_Upload!E2379),MONTH(Gerar_Upload!E2379),DAY(Gerar_Upload!E2379)),\"erro\")","v":"00:00:00"},{"$f":"IFERROR(Gerar_Upload!F2379,\"erro\")","v":0},{"$f":"IFERROR(IF(Gerar_Upload!G2379<44,REPT(0,44-LEN(Gerar_Upload!G2379))&Gerar_Upload!G2379,Gerar_Upload!G2379),\"erro\")","v":"00000000000000000000000000000000000000000000"}]
[{"$f":"IFERROR(LEFT(Gerar_Upload!A2380,120),\"erro\")","v":""},{"$f":"IFERROR(SUBSTITUTE(SUBSTITUTE(SUBSTITUTE(Gerar_Upload!B2380,\".\",\"\"),\"-\",\"\"),\"/\",\"\"),\"erro\")","v":""},{"$f":"IFERROR(Gerar_Upload!C2380,\"erro\")","v":0},{"$f":"IFERROR(Gerar_Upload!D2380,\"erro\")","v":0},{"$f":"IFERROR(DATE(YEAR(Gerar_Upload!E2380),MONTH(Gerar_Upload!E2380),DAY(Gerar_Upload!E2380)),\"erro\")","v":"00:00:00"},{"$f":"IFERROR(Gerar_Upload!F2380,\"erro\")","v":0},{"$f":"IFERROR(IF(Gerar_Upload!G2380<44,REPT(0,44-LEN(Gerar_Upload!G2380))&Gerar_Upload!G2380,Gerar_Upload!G2380),\"erro\")","v":"00000000000000000000000000000000000000000000"}]
[{"$f":"IFERROR(LEFT(Gerar_Upload!A2381,120),\"erro\")","v":""},{"$f":"IFERROR(SUBSTITUTE(SUBSTITUTE(SUBSTITUTE(Gerar_Upload!B2381,\".\",\"\"),\"-\",\"\"),\"/\",\"\"),\"erro\")","v":""},{"$f":"IFERROR(Gerar_Upload!C2381,\"erro\")","v":0},{"$f":"IFERROR(Gerar_Upload!D2381,\"erro\")","v":0},{"$f":"IFERROR(DATE(YEAR(Gerar_Upload!E2381),MONTH(Gerar_Upload!E2381),DAY(Gerar_Upload!E2381)),\"erro\")","v":"00:00:00"},{"$f":"IFERROR(Gerar_Upload!F2381,\"erro\")","v":0},{"$f":"IFERROR(IF(Gerar_Upload!G2381<44,REPT(0,44-LEN(Gerar_Upload!G2381))&Gerar_Upload!G2381,Gerar_Upload!G2381),\"erro\")","v":"00000000000000000000000000000000000000000000"}]
[{"$f":"IFERROR(LEFT(Gerar_Upload!A2382,120),\"erro\")","v":""},{"$f":"IFERROR(SUBSTITUTE(SUBSTITUTE(SUBSTITUTE(Gerar_Upload!B2382,\".\",\"\"),\"-\",\"\"),\"/\",\"\"),\"erro\")","v":""},{"$f":"IFERROR(Gerar_Upload!C2382,\"erro\")","v":0},{"$f":"IFERROR(Gerar_Upload!D2382,\"erro\")","v":0},{"$f":"IFERROR(DATE(YEAR(Gerar_Upload!E2382),MONTH(Gerar_Upload!E2382),DAY(Gerar_Upload!E2382)),\"erro\")","v":"00:00:00"},{"$f":"IFERROR(Gerar_Upload!F2382,\"erro\")","v":0},{"$f":"IFERROR(IF(Gerar_Upload!G2382<44,REPT(0,44-LEN(Gerar_Upload!G2382))&Gerar_Upload!G2382,Gerar_Upload!G2382),\"erro\")","v":"00000000000000000000000000000000000000000000"}]
[{"$f":"IFERROR(LEFT(Gerar_Upload!A2383,120),\"erro\")","v":""},{"$f":"IFERROR(SUBSTITUTE(SUBSTITUTE(SUBSTITUTE(Gerar_Upload!B2383,\".\",\"\"),\"-\",\"\"),\"/\",\"\"),\"erro\")","v":""},{"$f":"IFERROR(Gerar_Upload!C2383,\"erro\")","v":0},{"$f":"IFERROR(Gerar_Upload!D2383,\"erro\")","v":0},{"$f":"IFERROR(DATE(YEAR(Gerar_Upload!E2383),MONTH(Gerar_Upload!E2383),DAY(Gerar_Upload!E2383)),\"erro\")","v":"00:00:00"},{"$f":"IFERROR(Gerar_Upload!F2383,\"erro\")","v":0},{"$f":"IFERROR(IF(Gerar_Upload!G2383<44,REPT(0,44-LEN(Gerar_Upload!G2383))&Gerar_Upload!G2383,Gerar_Upload!G2383),\"erro\")","v":"00000000000000000000000000000000000000000000"}]
[{"$f":"IFERROR(LEFT(Gerar_Upload!A2384,120),\"erro\")","v":""},{"$f":"IFERROR(SUBSTITUTE(SUBSTITUTE(SUBSTITUTE(Gerar_Upload!B2384,\".\",\"\"),\"-\",\"\"),\"/\",\"\"),\"erro\")","v":""},{"$f":"IFERROR(Gerar_Upload!C2384,\"erro\")","v":0},{"$f":"IFERROR(Gerar_Upload!D2384,\"erro\")","v":0},{"$f":"IFERROR(DATE(YEAR(Gerar_Upload!E2384),MONTH(Gerar_Upload!E2384),DAY(Gerar_Upload!E2384)),\"erro\")","v":"00:00:00"},{"$f":"IFERROR(Gerar_Upload!F2384,\"erro\")","v":0},{"$f":"IFERROR(IF(Gerar_Upload!G2384<44,REPT(0,44-LEN(Gerar_Upload!G2384))&Gerar_Upload!G2384,Gerar_Upload!G2384),\"erro\")","v":"00000000000000000000000000000000000000000000"}]
[{"$f":"IFERROR(LEFT(Gerar_Upload!A2385,120),\"erro\")","v":""},{"$f":"IFERROR(SUBSTITUTE(SUBSTITUTE(SUBSTITUTE(Gerar_Upload!B2385,\".\",\"\"),\"-\",\"\"),\"/\",\"\"),\"erro\")","v":""},{"$f":"IFERROR(Gerar_Upload!C2385,\"erro\")","v":0},{"$f":"IFERROR(Gerar_Upload!D2385,\"erro\")","v":0},{"$f":"IFERROR(DATE(YEAR(Gerar_Upload!E2385),MONTH(Gerar_Upload!E2385),DAY(Gerar_Upload!E2385)),\"erro\")","v":"00:00:00"},{"$f":"IFERROR(Gerar_Upload!F2385,\"erro\")","v":0},{"$f":"IFERROR(IF(Gerar_Upload!G2385<44,REPT(0,44-LEN(Gerar_Upload!G2385))&Gerar_Upload!G2385,Gerar_Upload!G2385),\"erro\")","v":"00000000000000000000000000000000000000000000"}]
[{"$f":"IFERROR(LEFT(Gerar_Upload!A2386,120),\"erro\")","v":""},{"$f":"IFERROR(SUBSTITUTE(SUBSTITUTE(SUBSTITUTE(Gerar_Upload!B2386,\".\",\"\"),\"-\",\"\"),\"/\",\"\"),\"erro\")","v":""},{"$f":"IFERROR(Gerar_Upload!C2386,\"erro\")","v":0},{"$f":"IFERROR(Gerar_Upload!D2386,\"erro\")","v":0},{"$f":"IFERROR(DATE(YEAR(Gerar_Upload!E2386),MONTH(Gerar_Upload!E2386),DAY(Gerar_Upload!E2386)),\"erro\")","v":"00:00:00"},{"$f":"IFERROR(Gerar_Upload!F2386,\"erro\")","v":0},{"$f":"IFERROR(IF(Gerar_Upload!G2386<44,REPT(0,44-LEN(Gerar_Upload!G2386))&Gerar_Upload!G2386,Gerar_Upload!G2386),\"erro\")","v":"00000000000000000000000000000000000000000000"}]
[{"$f":"IFERROR(LEFT(Gerar_Upload!A2387,120),\"erro\")","v":""},{"$f":"IFERROR(SUBSTITUTE(SUBSTITUTE(SUBSTITUTE(Gerar_Upload!B2387,\".\",\"\"),\"-\",\"\"),\"/\",\"\"),\"erro\")","v":""},{"$f":"IFERROR(Gerar_Upload!C2387,\"erro\")","v":0},{"$f":"IFERROR(Gerar_Upload!D2387,\"erro\")","v":0},{"$f":"IFERROR(DATE(YEAR(Gerar_Upload!E2387),MONTH(Gerar_Upload!E2387),DAY(Gerar_Upload!E2387)),\"erro\")","v":"00:00:00"},{"$f":"IFERROR(Gerar_Upload!F2387,\"erro\")","v":0},{"$f":"IFERROR(IF(Gerar_Upload!G2387<44,REPT(0,44-LEN(Gerar_Upload!G2387))&Gerar_Upload!G2387,Gerar_Upload!G2387),\"erro\")","v":"00000000000000000000000000000000000000000000"}]
[{"$f":"IFERROR(LEFT(Gerar_Upload!A2388,120),\"erro\")","v":""},{"$f":"IFERROR(SUBSTITUTE(SUBSTITUTE(SUBSTITUTE(Gerar_Upload!B2388,\".\",\"\"),\"-\",\"\"),\"/\",\"\"),\"erro\")","v":""},{"$f":"IFERROR(Gerar_Upload!C2388,\"erro\")","v":0},{"$f":"IFERROR(Gerar_Upload!D2388,\"erro\")","v":0},{"$f":"IFERROR(DATE(YEAR(Gerar_Upload!E2388),MONTH(Gerar_Upload!E2388),DAY(Gerar_Upload!E2388)),\"erro\")","v":"00:00:00"},{"$f":"IFERROR(Gerar_Upload!F2388,\"erro\")","v":0},{"$f":"IFERROR(IF(Gerar_Upload!G2388<44,REPT(0,44-LEN(Gerar_Upload!G2388))&Gerar_Upload!G2388,Gerar_Upload!G2388),\"erro\")","v":"00000000000000000000000000000000000000000000"}]
[{"$f":"IFERROR(LEFT(Gerar_Upload!A2389,120),\"erro\")","v":""},{"$f":"IFERROR(SUBSTITUTE(SUBSTITUTE(SUBSTITUTE(Gerar_Upload!B2389,\".\",\"\"),\"-\",\"\"),\"/\",\"\"),\"erro\")","v":""},{"$f":"IFERROR(Gerar_Upload!C2389,\"erro\")","v":0},{"$f":"IFERROR(Gerar_Upload!D2389,\"erro\")","v":0},{"$f":"IFERROR(DATE(YEAR(Gerar_Upload!E2389),MONTH(Gerar_Upload!E2389),DAY(Gerar_Upload!E2389)),\"erro\")","v":"00:00:00"},{"$f":"IFERROR(Gerar_Upload!F2389,\"erro\")","v":0},{"$f":"IFERROR(IF(Gerar_Upload!G2389<44,REPT(0,44-LEN(Gerar_Upload!G2389))&Gerar_Upload!G2389,Gerar_Upload!G2389),\"erro\")","v":"00000000000000000000000000000000000000000000"}]
[{"$f":"IFERROR(LEFT(Gerar_Upload!A2390,120),\"erro\")","v":""},{"$f":"IFERROR(SUBSTITUTE(SUBSTITUTE(SUBSTITUTE(Gerar_Upload!B2390,\".\",\"\"),\"-\",\"\"),\"/\",\"\"),\"erro\")","v":""},{"$f":"IFERROR(Gerar_Upload!C2390,\"erro\")","v":0},{"$f":"IFERROR(Gerar_Upload!D2390,\"erro\")","v":0},{"$f":"IFERROR(DATE(YEAR(Gerar_Upload!E2390),MONTH(Gerar_Upload!E2390),DAY(Gerar_Upload!E2390)),\"erro\")","v":"00:00:00"},{"$f":"IFERROR(Gerar_Upload!F2390,\"erro\")","v":0},{"$f":"IFERROR(IF(Gerar_Upload!G2390<44,REPT(0,44-LEN(Gerar_Upload!G2390))&Gerar_Upload!G2390,Gerar_Upload!G2390),\"erro\")","v":"00000000000000000000000000000000000000000000"}]
[{"$f":"IFERROR(LEFT(Gerar_Upload!A2391,120),\"erro\")","v":""},{"$f":"IFERROR(SUBSTITUTE(SUBSTITUTE(SUBSTITUTE(Gerar_Upload!B2391,\".\",\"\"),\"-\",\"\"),\"/\",\"\"),\"erro\")","v":""},{"$f":"IFERROR(Gerar_Upload!C2391,\"erro\")","v":0},{"$f":"IFERROR(Gerar_Upload!D2391,\"erro\")","v":0},{"$f":"IFERROR(DATE(YEAR(Gerar_Upload!E2391),MONTH(Gerar_Upload!E2391),DAY(Gerar_Upload!E2391)),\"erro\")","v":"00:00:00"},{"$f":"IFERROR(Gerar_Upload!F2391,\"erro\")","v":0},{"$f":"IFERROR(IF(Gerar_Upload!G2391<44,REPT(0,44-LEN(Gerar_Upload!G2391))&Gerar_Upload!G2391,Gerar_Upload!G2391),\"erro\")","v":"00000000000000000000000000000000000000000000"}]
[{"$f":"IFERROR(LEFT(Gerar_Upload!A2392,120),\"erro\")","v":""},{"$f":"IFERROR(SUBSTITUTE(SUBSTITUTE(SUBSTITUTE(Gerar_Upload!B2392,\".\",\"\"),\"-\",\"\"),\"/\",\"\"),\"erro\")","v":""},{"$f":"IFERROR(Gerar_Upload!C2392,\"erro\")","v":0},{"$f":"IFERROR(Gerar_Upload!D2392,\"erro\")","v":0},{"$f":"IFERROR(DATE(YEAR(Gerar_Upload!E2392),MONTH(Gerar_Upload!E2392),DAY(Gerar_Upload!E2392)),\"erro\")","v":"00:00:00"},{"$f":"IFERROR(Gerar_Upload!F2392,\"erro\")","v":0},{"$f":"IFERROR(IF(Gerar_Upload!G2392<44,REPT(0,44-LEN(Gerar_Upload!G2392))&Gerar_Upload!G2392,Gerar_Upload!G2392),\"erro\")","v":"00000000000000000000000000000000000000000000"}]
[{"$f":"IFERROR(LEFT(Gerar_Upload!A2393,120),\"erro\")","v":""},{"$f":"IFERROR(SUBSTITUTE(SUBSTITUTE(SUBSTITUTE(Gerar_Upload!B2393,\".\",\"\"),\"-\",\"\"),\"/\",\"\"),\"erro\")","v":""},{"$f":"IFERROR(Gerar_Upload!C2393,\"erro\")","v":0},{"$f":"IFERROR(Gerar_Upload!D2393,\"erro\")","v":0},{"$f":"IFERROR(DATE(YEAR(Gerar_Upload!E2393),MONTH(Gerar_Upload!E2393),DAY(Gerar_Upload!E2393)),\"erro\")","v":"00:00:00"},{"$f":"IFERROR(Gerar_Upload!F2393,\"erro\")","v":0},{"$f":"IFERROR(IF(Gerar_Upload!G2393<44,REPT(0,44-LEN(Gerar_Upload!G2393))&Gerar_Upload!G2393,Gerar_Upload!G2393),\"erro\")","v":"00000000000000000000000000000000000000000000"}]
[{"$f":"IFERROR(LEFT(Gerar_Upload!A2394,120),\"erro\")","v":""},{"$f":"IFERROR(SUBSTITUTE(SUBSTITUTE(SUBSTITUTE(Gerar_Upload!B2394,\".\",\"\"),\"-\",\"\"),\"/\",\"\"),\"erro\")","v":""},{"$f":"IFERROR(Gerar_Upload!C2394,\"erro\")","v":0},{"$f":"IFERROR(Gerar_Upload!D2394,\"erro\")","v":0},{"$f":"IFERROR(DATE(YEAR(Gerar_Upload!E2394),MONTH(Gerar_Upload!E2394),DAY(Gerar_Upload!E2394)),\"erro\")","v":"00:00:00"},{"$f":"IFERROR(Gerar_Upload!F2394,\"erro\")","v":0},{"$f":"IFERROR(IF(Gerar_Upload!G2394<44,REPT(0,44-LEN(Gerar_Upload!G2394))&Gerar_Upload!G2394,Gerar_Upload!G2394),\"erro\")","v":"00000000000000000000000000000000000000000000"}]
[{"$f":"IFERROR(LEFT(Gerar_Upload!A2395,120),\"erro\")","v":""},{"$f":"IFERROR(SUBSTITUTE(SUBSTITUTE(SUBSTITUTE(Gerar_Upload!B2395,\".\",\"\"),\"-\",\"\"),\"/\",\"\"),\"erro\")","v":""},{"$f":"IFERROR(Gerar_Upload!C2395,\"erro\")","v":0},{"$f":"IFERROR(Gerar_Upload!D2395,\"erro\")","v":0},{"$f":"IFERROR(DATE(YEAR(Gerar_Upload!E2395),MONTH(Gerar_Upload!E2395),DAY(Gerar_Upload!E2395)),\"erro\")","v":"00:00:00"},{"$f":"IFERROR(Gerar_Upload!F2395,\"erro\")","v":0},{"$f":"IFERROR(IF(Gerar_Upload!G2395<44,REPT(0,44-LEN(Gerar_Upload!G2395))&Gerar_Upload!G2395,Gerar_Upload!G2395),\"erro\")","v":"00000000000000000000000000000000000000000000"}]
[{"$f":"IFERROR(LEFT(Gerar_Upload!A2396,120),\"erro\")","v":""},{"$f":"IFERROR(SUBSTITUTE(SUBSTITUTE(SUBSTITUTE(Gerar_Upload!B2396,\".\",\"\"),\"-\",\"\"),\"/\",\"\"),\"erro\")","v":""},{"$f":"IFERROR(Gerar_Upload!C2396,\"erro\")","v":0},{"$f":"IFERROR(Gerar_Upload!D2396,\"erro\")","v":0},{"$f":"IFERROR(DATE(YEAR(Gerar_Upload!E2396),MONTH(Gerar_Upload!E2396),DAY(Gerar_Upload!E2396)),\"erro\")","v":"00:00:00"},{"$f":"IFERROR(Gerar_Upload!F2396,\"erro\")","v":0},{"$f":"IFERROR(IF(Gerar_Upload!G2396<44,REPT(0,44-LEN(Gerar_Upload!G2396))&Gerar_Upload!G2396,Gerar_Upload!G2396),\"erro\")","v":"00000000000000000000000000000000000000000000"}]
[{"$f":"IFERROR(LEFT(Gerar_Upload!A2397,120),\"erro\")","v":""},{"$f":"IFERROR(SUBSTITUTE(SUBSTITUTE(SUBSTITUTE(Gerar_Upload!B2397,\".\",\"\"),\"-\",\"\"),\"/\",\"\"),\"erro\")","v":""},{"$f":"IFERROR(Gerar_Upload!C2397,\"erro\")","v":0},{"$f":"IFERROR(Gerar_Upload!D2397,\"erro\")","v":0},{"$f":"IFERROR(DATE(YEAR(Gerar_Upload!E2397),MONTH(Gerar_Upload!E2397),DAY(Gerar_Upload!E2397)),\"erro\")","v":"00:00:00"},{"$f":"IFERROR(Gerar_Upload!F2397,\"erro\")","v":0},{"$f":"IFERROR(IF(Gerar_Upload!G2397<44,REPT(0,44-LEN(Gerar_Upload!G2397))&Gerar_Upload!G2397,Gerar_Upload!G2397),\"erro\")","v":"00000000000000000000000000000000000000000000"}]
[{"$f":"IFERROR(LEFT(Gerar_Upload!A2398,120),\"erro\")","v":""},{"$f":"IFERROR(SUBSTITUTE(SUBSTITUTE(SUBSTITUTE(Gerar_Upload!B2398,\".\",\"\"),\"-\",\"\"),\"/\",\"\"),\"erro\")","v":""},{"$f":"IFERROR(Gerar_Upload!C2398,\"erro\")","v":0},{"$f":"IFERROR(Gerar_Upload!D2398,\"erro\")","v":0},{"$f":"IFERROR(DATE(YEAR(Gerar_Upload!E2398),MONTH(Gerar_Upload!E2398),DAY(Gerar_Upload!E2398)),\"erro\")","v":"00:00:00"},{"$f":"IFERROR(Gerar_Upload!F2398,\"erro\")","v":0},{"$f":"IFERROR(IF(Gerar_Upload!G2398<44,REPT(0,44-LEN(Gerar_Upload!G2398))&Gerar_Upload!G2398,Gerar_Upload!G2398),\"erro\")","v":"00000000000000000000000000000000000000000000"}]
[{"$f":"IFERROR(LEFT(Gerar_Upload!A2399,120),\"erro\")","v":""},{"$f":"IFERROR(SUBSTITUTE(SUBSTITUTE(SUBSTITUTE(Gerar_Upload!B2399,\".\",\"\"),\"-\",\"\"),\"/\",\"\"),\"erro\")","v":""},{"$f":"IFERROR(Gerar_Upload!C2399,\"erro\")","v":0},{"$f":"IFERROR(Gerar_Upload!D2399,\"erro\")","v":0},{"$f":"IFERROR(DATE(YEAR(Gerar_Upload!E2399),MONTH(Gerar_Upload!E2399),DAY(Gerar_Upload!E2399)),\"erro\")","v":"00:00:00"},{"$f":"IFERROR(Gerar_Upload!F2399,\"erro\")","v":0},{"$f":"IFERROR(IF(Gerar_Upload!G2399<44,REPT(0,44-LEN(Gerar_Upload!G2399))&Gerar_Upload!G2399,Gerar_Upload!G2399),\"erro\")","v":"00000000000000000000000000000000000000000000"}]
[{"$f":"IFERROR(LEFT(Gerar_Upload!A2400,120),\"erro\")","v":""},{"$f":"IFERROR(SUBSTITUTE(SUBSTITUTE(SUBSTITUTE(Gerar_Upload!B2400,\".\",\"\"),\"-\",\"\"),\"/\",\"\"),\"erro\")","v":""},{"$f":"IFERROR(Gerar_Upload!C2400,\"erro\")","v":0},{"$f":"IFERROR(Gerar_Upload!D2400,\"erro\")","v":0},{"$f":"IFERROR(DATE(YEAR(Gerar_Upload!E2400),MONTH(Gerar_Upload!E2400),DAY(Gerar_Upload!E2400)),\"erro\")","v":"00:00:00"},{"$f":"IFERROR(Gerar_Upload!F2400,\"erro\")","v":0},{"$f":"IFERROR(IF(Gerar_Upload!G2400<44,REPT(0,44-LEN(Gerar_Upload!G2400))&Gerar_Upload!G2400,Gerar_Upload!G2400),\"erro\")","v":"00000000000000000000000000000000000000000000"}]
[{"$f":"IFERROR(LEFT(Gerar_Upload!A2401,120),\"erro\")","v":""},{"$f":"IFERROR(SUBSTITUTE(SUBSTITUTE(SUBSTITUTE(Gerar_Upload!B2401,\".\",\"\"),\"-\",\"\"),\"/\",\"\"),\"erro\")","v":""},{"$f":"IFERROR(Gerar_Upload!C2401,\"erro\")","v":0},{"$f":"IFERROR(Gerar_Upload!D2401,\"erro\")","v":0},{"$f":"IFERROR(DATE(YEAR(Gerar_Upload!E2401),MONTH(Gerar_Upload!E2401),DAY(Gerar_Upload!E2401)),\"erro\")","v":"00:00:00"},{"$f":"IFERROR(Gerar_Upload!F2401,\"erro\")","v":0},{"$f":"IFERROR(IF(Gerar_Upload!G2401<44,REPT(0,44-LEN(Gerar_Upload!G2401))&Gerar_Upload!G2401,Gerar_Upload!G2401),\"erro\")","v":"00000000000000000000000000000000000000000000"}]
[{"$f":"IFERROR(LEFT(Gerar_Upload!A2402,120),\"erro\")","v":""},{"$f":"IFERROR(SUBSTITUTE(SUBSTITUTE(SUBSTITUTE(Gerar_Upload!B2402,\".\",\"\"),\"-\",\"\"),\"/\",\"\"),\"erro\")","v":""},{"$f":"IFERROR(Gerar_Upload!C2402,\"erro\")","v":0},{"$f":"IFERROR(Gerar_Upload!D2402,\"erro\")","v":0},{"$f":"IFERROR(DATE(YEAR(Gerar_Upload!E2402),MONTH(Gerar_Upload!E2402),DAY(Gerar_Upload!E2402)),\"erro\")","v":"00:00:00"},{"$f":"IFERROR(Gerar_Upload!F2402,\"erro\")","v":0},{"$f":"IFERROR(IF(Gerar_Upload!G2402<44,REPT(0,44-LEN(Gerar_Upload!G2402))&Gerar_Upload!G2402,Gerar_Upload!G2402),\"erro\")","v":"00000000000000000000000000000000000000000000"}]
[{"$f":"IFERROR(LEFT(Gerar_Upload!A2403,120),\"erro\")","v":""},{"$f":"IFERROR(SUBSTITUTE(SUBSTITUTE(SUBSTITUTE(Gerar_Upload!B2403,\".\",\"\"),\"-\",\"\"),\"/\",\"\"),\"erro\")","v":""},{"$f":"IFERROR(Gerar_Upload!C2403,\"erro\")","v":0},{"$f":"IFERROR(Gerar_Upload!D2403,\"erro\")","v":0},{"$f":"IFERROR(DATE(YEAR(Gerar_Upload!E2403),MONTH(Gerar_Upload!E2403),DAY(Gerar_Upload!E2403)),\"erro\")","v":"00:00:00"},{"$f":"IFERROR(Gerar_Upload!F2403,\"erro\")","v":0},{"$f":"IFERROR(IF(Gerar_Upload!G2403<44,REPT(0,44-LEN(Gerar_Upload!G2403))&Gerar_Upload!G2403,Gerar_Upload!G2403),\"erro\")","v":"00000000000000000000000000000000000000000000"}]
[{"$f":"IFERROR(LEFT(Gerar_Upload!A2404,120),\"erro\")","v":""},{"$f":"IFERROR(SUBSTITUTE(SUBSTITUTE(SUBSTITUTE(Gerar_Upload!B2404,\".\",\"\"),\"-\",\"\"),\"/\",\"\"),\"erro\")","v":""},{"$f":"IFERROR(Gerar_Upload!C2404,\"erro\")","v":0},{"$f":"IFERROR(Gerar_Upload!D2404,\"erro\")","v":0},{"$f":"IFERROR(DATE(YEAR(Gerar_Upload!E2404),MONTH(Gerar_Upload!E2404),DAY(Gerar_Upload!E2404)),\"erro\")","v":"00:00:00"},{"$f":"IFERROR(Gerar_Upload!F2404,\"erro\")","v":0},{"$f":"IFERROR(IF(Gerar_Upload!G2404<44,REPT(0,44-LEN(Gerar_Upload!G2404))&Gerar_Upload!G2404,Gerar_Upload!G2404),\"erro\")","v":"00000000000000000000000000000000000000000000"}]
[{"$f":"IFERROR(LEFT(Gerar_Upload!A2405,120),\"erro\")","v":""},{"$f":"IFERROR(SUBSTITUTE(SUBSTITUTE(SUBSTITUTE(Gerar_Upload!B2405,\".\",\"\"),\"-\",\"\"),\"/\",\"\"),\"erro\")","v":""},{"$f":"IFERROR(Gerar_Upload!C2405,\"erro\")","v":0},{"$f":"IFERROR(Gerar_Upload!D2405,\"erro\")","v":0},{"$f":"IFERROR(DATE(YEAR(Gerar_Upload!E2405),MONTH(Gerar_Upload!E2405),DAY(Gerar_Upload!E2405)),\"erro\")","v":"00:00:00"},{"$f":"IFERROR(Gerar_Upload!F2405,\"erro\")","v":0},{"$f":"IFERROR(IF(Gerar_Upload!G2405<44,REPT(0,44-LEN(Gerar_Upload!G2405))&Gerar_Upload!G2405,Gerar_Upload!G2405),\"erro\")","v":"00000000000000000000000000000000000000000000"}]
[{"$f":"IFERROR(LEFT(Gerar_Upload!A2406,120),\"erro\")","v":""},{"$f":"IFERROR(SUBSTITUTE(SUBSTITUTE(SUBSTITUTE(Gerar_Upload!B2406,\".\",\"\"),\"-\",\"\"),\"/\",\"\"),\"erro\")","v":""},{"$f":"IFERROR(Gerar_Upload!C2406,\"erro\")","v":0},{"$f":"IFERROR(Gerar_Upload!D2406,\"erro\")","v":0},{"$f":"IFERROR(DATE(YEAR(Gerar_Upload!E2406),MONTH(Gerar_Upload!E2406),DAY(Gerar_Upload!E2406)),\"erro\")","v":"00:00:00"},{"$f":"IFERROR(Gerar_Upload!F2406,\"erro\")","v":0},{"$f":"IFERROR(IF(Gerar_Upload!G2406<44,REPT(0,44-LEN(Gerar_Upload!G2406))&Gerar_Upload!G2406,Gerar_Upload!G2406),\"erro\")","v":"00000000000000000000000000000000000000000000"}]
[{"$f":"IFERROR(LEFT(Gerar_Upload!A2407,120),\"erro\")","v":""},{"$f":"IFERROR(SUBSTITUTE(SUBSTITUTE(SUBSTITUTE(Gerar_Upload!B2407,\".\",\"\"),\"-\",\"\"),\"/\",\"\"),\"erro\")","v":""},{"$f":"IFERROR(Gerar_Upload!C2407,\"erro\")","v":0},{"$f":"IFERROR(Gerar_Upload!D2407,\"erro\")","v":0},{"$f":"IFERROR(DATE(YEAR(Gerar_Upload!E2407),MONTH(Gerar_Upload!E2407),DAY(Gerar_Upload!E2407)),\"erro\")","v":"00:00:00"},{"$f":"IFERROR(Gerar_Upload!F2407,\"erro\")","v":0},{"$f":"IFERROR(IF(Gerar_Upload!G2407<44,REPT(0,44-LEN(Gerar_Upload!G2407))&Gerar_Upload!G2407,Gerar_Upload!G2407),\"erro\")","v":"00000000000000000000000000000000000000000000"}]
[{"$f":"IFERROR(LEFT(Gerar_Upload!A2408,120),\"erro\")","v":""},{"$f":"IFERROR(SUBSTITUTE(SUBSTITUTE(SUBSTITUTE(Gerar_Upload!B2408,\".\",\"\"),\"-\",\"\"),\"/\",\"\"),\"erro\")","v":""},{"$f":"IFERROR(Gerar_Upload!C2408,\"erro\")","v":0},{"$f":"IFERROR(Gerar_Upload!D2408,\"erro\")","v":0},{"$f":"IFERROR(DATE(YEAR(Gerar_Upload!E2408),MONTH(Gerar_Upload!E2408),DAY(Gerar_Upload!E2408)),\"erro\")","v":"00:00:00"},{"$f":"IFERROR(Gerar_Upload!F2408,\"erro\")","v":0},{"$f":"IFERROR(IF(Gerar_Upload!G2408<44,REPT(0,44-LEN(Gerar_Upload!G2408))&Gerar_Upload!G2408,Gerar_Upload!G2408),\"erro\")","v":"00000000000000000000000000000000000000000000"}]
[{"$f":"IFERROR(LEFT(Gerar_Upload!A2409,120),\"erro\")","v":""},{"$f":"IFERROR(SUBSTITUTE(SUBSTITUTE(SUBSTITUTE(Gerar_Upload!B2409,\".\",\"\"),\"-\",\"\"),\"/\",\"\"),\"erro\")","v":""},{"$f":"IFERROR(Gerar_Upload!C2409,\"erro\")","v":0},{"$f":"IFERROR(Gerar_Upload!D2409,\"erro\")","v":0},{"$f":"IFERROR(DATE(YEAR(Gerar_Upload!E2409),MONTH(Gerar_Upload!E2409),DAY(Gerar_Upload!E2409)),\"erro\")","v":"00:00:00"},{"$f":"IFERROR(Gerar_Upload!F2409,\"erro\")","v":0},{"$f":"IFERROR(IF(Gerar_Upload!G2409<44,REPT(0,44-LEN(Gerar_Upload!G2409))&Gerar_Upload!G2409,Gerar_Upload!G2409),\"erro\")","v":"00000000000000000000000000000000000000000000"}]
[{"$f":"IFERROR(LEFT(Gerar_Upload!A2410,120),\"erro\")","v":""},{"$f":"IFERROR(SUBSTITUTE(SUBSTITUTE(SUBSTITUTE(Gerar_Upload!B2410,\".\",\"\"),\"-\",\"\"),\"/\",\"\"),\"erro\")","v":""},{"$f":"IFERROR(Gerar_Upload!C2410,\"erro\")","v":0},{"$f":"IFERROR(Gerar_Upload!D2410,\"erro\")","v":0},{"$f":"IFERROR(DATE(YEAR(Gerar_Upload!E2410),MONTH(Gerar_Upload!E2410),DAY(Gerar_Upload!E2410)),\"erro\")","v":"00:00:00"},{"$f":"IFERROR(Gerar_Upload!F2410,\"erro\")","v":0},{"$f":"IFERROR(IF(Gerar_Upload!G2410<44,REPT(0,44-LEN(Gerar_Upload!G2410))&Gerar_Upload!G2410,Gerar_Upload!G2410),\"erro\")","v":"00000000000000000000000000000000000000000000"}]
[{"$f":"IFERROR(LEFT(Gerar_Upload!A2411,120),\"erro\")","v":""},{"$f":"IFERROR(SUBSTITUTE(SUBSTITUTE(SUBSTITUTE(Gerar_Upload!B2411,\".\",\"\"),\"-\",\"\"),\"/\",\"\"),\"erro\")","v":""},{"$f":"IFERROR(Gerar_Upload!C2411,\"erro\")","v":0},{"$f":"IFERROR(Gerar_Upload!D2411,\"erro\")","v":0},{"$f":"IFERROR(DATE(YEAR(Gerar_Upload!E2411),MONTH(Gerar_Upload!E2411),DAY(Gerar_Upload!E2411)),\"erro\")","v":"00:00:00"},{"$f":"IFERROR(Gerar_Upload!F2411,\"erro\")","v":0},{"$f":"IFERROR(IF(Gerar_Upload!G2411<44,REPT(0,44-LEN(Gerar_Upload!G2411))&Gerar_Upload!G2411,Gerar_Upload!G2411),\"erro\")","v":"00000000000000000000000000000000000000000000"}]
[{"$f":"IFERROR(LEFT(Gerar_Upload!A2412,120),\"erro\")","v":""},{"$f":"IFERROR(SUBSTITUTE(SUBSTITUTE(SUBSTITUTE(Gerar_Upload!B2412,\".\",\"\"),\"-\",\"\"),\"/\",\"\"),\"erro\")","v":""},{"$f":"IFERROR(Gerar_Upload!C2412,\"erro\")","v":0},{"$f":"IFERROR(Gerar_Upload!D2412,\"erro\")","v":0},{"$f":"IFERROR(DATE(YEAR(Gerar_Upload!E2412),MONTH(Gerar_Upload!E2412),DAY(Gerar_Upload!E2412)),\"erro\")","v":"00:00:00"},{"$f":"IFERROR(Gerar_Upload!F2412,\"erro\")","v":0},{"$f":"IFERROR(IF(Gerar_Upload!G2412<44,REPT(0,44-LEN(Gerar_Upload!G2412))&Gerar_Upload!G2412,Gerar_Upload!G2412),\"erro\")","v":"00000000000000000000000000000000000000000000"}]
[{"$f":"IFERROR(LEFT(Gerar_Upload!A2413,120),\"erro\")","v":""},{"$f":"IFERROR(SUBSTITUTE(SUBSTITUTE(SUBSTITUTE(Gerar_Upload!B2413,\".\",\"\"),\"-\",\"\"),\"/\",\"\"),\"erro\")","v":""},{"$f":"IFERROR(Gerar_Upload!C2413,\"erro\")","v":0},{"$f":"IFERROR(Gerar_Upload!D2413,\"erro\")","v":0},{"$f":"IFERROR(DATE(YEAR(Gerar_Upload!E2413),MONTH(Gerar_Upload!E2413),DAY(Gerar_Upload!E2413)),\"erro\")","v":"00:00:00"},{"$f":"IFERROR(Gerar_Upload!F2413,\"erro\")","v":0},{"$f":"IFERROR(IF(Gerar_Upload!G2413<44,REPT(0,44-LEN(Gerar_Upload!G2413))&Gerar_Upload!G2413,Gerar_Upload!G2413),\"erro\")","v":"00000000000000000000000000000000000000000000"}]
[{"$f":"IFERROR(LEFT(Gerar_Upload!A2414,120),\"erro\")","v":""},{"$f":"IFERROR(SUBSTITUTE(SUBSTITUTE(SUBSTITUTE(Gerar_Upload!B2414,\".\",\"\"),\"-\",\"\"),\"/\",\"\"),\"erro\")","v":""},{"$f":"IFERROR(Gerar_Upload!C2414,\"erro\")","v":0},{"$f":"IFERROR(Gerar_Upload!D2414,\"erro\")","v":0},{"$f":"IFERROR(DATE(YEAR(Gerar_Upload!E2414),MONTH(Gerar_Upload!E2414),DAY(Gerar_Upload!E2414)),\"erro\")","v":"00:00:00"},{"$f":"IFERROR(Gerar_Upload!F2414,\"erro\")","v":0},{"$f":"IFERROR(IF(Gerar_Upload!G2414<44,REPT(0,44-LEN(Gerar_Upload!G2414))&Gerar_Upload!G2414,Gerar_Upload!G2414),\"erro\")","v":"00000000000000000000000000000000000000000000"}]
[{"$f":"IFERROR(LEFT(Gerar_Upload!A2415,120),\"erro\")","v":""},{"$f":"IFERROR(SUBSTITUTE(SUBSTITUTE(SUBSTITUTE(Gerar_Upload!B2415,\".\",\"\"),\"-\",\"\"),\"/\",\"\"),\"erro\")","v":""},{"$f":"IFERROR(Gerar_Upload!C2415,\"erro\")","v":0},{"$f":"IFERROR(Gerar_Upload!D2415,\"erro\")","v":0},{"$f":"IFERROR(DATE(YEAR(Gerar_Upload!E2415),MONTH(Gerar_Upload!E2415),DAY(Gerar_Upload!E2415)),\"erro\")","v":"00:00:00"},{"$f":"IFERROR(Gerar_Upload!F2415,\"erro\")","v":0},{"$f":"IFERROR(IF(Gerar_Upload!G2415<44,REPT(0,44-LEN(Gerar_Upload!G2415))&Gerar_Upload!G2415,Gerar_Upload!G2415),\"erro\")","v":"00000000000000000000000000000000000000000000"}]
[{"$f":"IFERROR(LEFT(Gerar_Upload!A2416,120),\"erro\")","v":""},{"$f":"IFERROR(SUBSTITUTE(SUBSTITUTE(SUBSTITUTE(Gerar_Upload!B2416,\".\",\"\"),\"-\",\"\"),\"/\",\"\"),\"erro\")","v":""},{"$f":"IFERROR(Gerar_Upload!C2416,\"erro\")","v":0},{"$f":"IFERROR(Gerar_Upload!D2416,\"erro\")","v":0},{"$f":"IFERROR(DATE(YEAR(Gerar_Upload!E2416),MONTH(Gerar_Upload!E2416),DAY(Gerar_Upload!E2416)),\"erro\")","v":"00:00:00"},{"$f":"IFERROR(Gerar_Upload!F2416,\"erro\")","v":0},{"$f":"IFERROR(IF(Gerar_Upload!G2416<44,REPT(0,44-LEN(Gerar_Upload!G2416))&Gerar_Upload!G2416,Gerar_Upload!G2416),\"erro\")","v":"00000000000000000000000000000000000000000000"}]
[{"$f":"IFERROR(LEFT(Gerar_Upload!A2417,120),\"erro\")","v":""},{"$f":"IFERROR(SUBSTITUTE(SUBSTITUTE(SUBSTITUTE(Gerar_Upload!B2417,\".\",\"\"),\"-\",\"\"),\"/\",\"\"),\"erro\")","v":""},{"$f":"IFERROR(Gerar_Upload!C2417,\"erro\")","v":0},{"$f":"IFERROR(Gerar_Upload!D2417,\"erro\")","v":0},{"$f":"IFERROR(DATE(YEAR(Gerar_Upload!E2417),MONTH(Gerar_Upload!E2417),DAY(Gerar_Upload!E2417)),\"erro\")","v":"00:00:00"},{"$f":"IFERROR(Gerar_Upload!F2417,\"erro\")","v":0},{"$f":"IFERROR(IF(Gerar_Upload!G2417<44,REPT(0,44-LEN(Gerar_Upload!G2417))&Gerar_Upload!G2417,Gerar_Upload!G2417),\"erro\")","v":"00000000000000000000000000000000000000000000"}]
[{"$f":"IFERROR(LEFT(Gerar_Upload!A2418,120),\"erro\")","v":""},{"$f":"IFERROR(SUBSTITUTE(SUBSTITUTE(SUBSTITUTE(Gerar_Upload!B2418,\".\",\"\"),\"-\",\"\"),\"/\",\"\"),\"erro\")","v":""},{"$f":"IFERROR(Gerar_Upload!C2418,\"erro\")","v":0},{"$f":"IFERROR(Gerar_Upload!D2418,\"erro\")","v":0},{"$f":"IFERROR(DATE(YEAR(Gerar_Upload!E2418),MONTH(Gerar_Upload!E2418),DAY(Gerar_Upload!E2418)),\"erro\")","v":"00:00:00"},{"$f":"IFERROR(Gerar_Upload!F2418,\"erro\")","v":0},{"$f":"IFERROR(IF(Gerar_Upload!G2418<44,REPT(0,44-LEN(Gerar_Upload!G2418))&Gerar_Upload!G2418,Gerar_Upload!G2418),\"erro\")","v":"00000000000000000000000000000000000000000000"}]
[{"$f":"IFERROR(LEFT(Gerar_Upload!A2419,120),\"erro\")","v":""},{"$f":"IFERROR(SUBSTITUTE(SUBSTITUTE(SUBSTITUTE(Gerar_Upload!B2419,\".\",\"\"),\"-\",\"\"),\"/\",\"\"),\"erro\")","v":""},{"$f":"IFERROR(Gerar_Upload!C2419,\"erro\")","v":0},{"$f":"IFERROR(Gerar_Upload!D2419,\"erro\")","v":0},{"$f":"IFERROR(DATE(YEAR(Gerar_Upload!E2419),MONTH(Gerar_Upload!E2419),DAY(Gerar_Upload!E2419)),\"erro\")","v":"00:00:00"},{"$f":"IFERROR(Gerar_Upload!F2419,\"erro\")","v":0},{"$f":"IFERROR(IF(Gerar_Upload!G2419<44,REPT(0,44-LEN(Gerar_Upload!G2419))&Gerar_Upload!G2419,Gerar_Upload!G2419),\"erro\")","v":"00000000000000000000000000000000000000000000"}]
[{"$f":"IFERROR(LEFT(Gerar_Upload!A2420,120),\"erro\")","v":""},{"$f":"IFERROR(SUBSTITUTE(SUBSTITUTE(SUBSTITUTE(Gerar_Upload!B2420,\".\",\"\"),\"-\",\"\"),\"/\",\"\"),\"erro\")","v":""},{"$f":"IFERROR(Gerar_Upload!C2420,\"erro\")","v":0},{"$f":"IFERROR(Gerar_Upload!D2420,\"erro\")","v":0},{"$f":"IFERROR(DATE(YEAR(Gerar_Upload!E2420),MONTH(Gerar_Upload!E2420),DAY(Gerar_Upload!E2420)),\"erro\")","v":"00:00:00"},{"$f":"IFERROR(Gerar_Upload!F2420,\"erro\")","v":0},{"$f":"IFERROR(IF(Gerar_Upload!G2420<44,REPT(0,44-LEN(Gerar_Upload!G2420))&Gerar_Upload!G2420,Gerar_Upload!G2420),\"erro\")","v":"00000000000000000000000000000000000000000000"}]
[{"$f":"IFERROR(LEFT(Gerar_Upload!A2421,120),\"erro\")","v":""},{"$f":"IFERROR(SUBSTITUTE(SUBSTITUTE(SUBSTITUTE(Gerar_Upload!B2421,\".\",\"\"),\"-\",\"\"),\"/\",\"\"),\"erro\")","v":""},{"$f":"IFERROR(Gerar_Upload!C2421,\"erro\")","v":0},{"$f":"IFERROR(Gerar_Upload!D2421,\"erro\")","v":0},{"$f":"IFERROR(DATE(YEAR(Gerar_Upload!E2421),MONTH(Gerar_Upload!E2421),DAY(Gerar_Upload!E2421)),\"erro\")","v":"00:00:00"},{"$f":"IFERROR(Gerar_Upload!F2421,\"erro\")","v":0},{"$f":"IFERROR(IF(Gerar_Upload!G2421<44,REPT(0,44-LEN(Gerar_Upload!G2421))&Gerar_Upload!G2421,Gerar_Upload!G2421),\"erro\")","v":"00000000000000000000000000000000000000000000"}]
[{"$f":"IFERROR(LEFT(Gerar_Upload!A2422,120),\"erro\")","v":""},{"$f":"IFERROR(SUBSTITUTE(SUBSTITUTE(SUBSTITUTE(Gerar_Upload!B2422,\".\",\"\"),\"-\",\"\"),\"/\",\"\"),\"erro\")","v":""},{"$f":"IFERROR(Gerar_Upload!C2422,\"erro\")","v":0},{"$f":"IFERROR(Gerar_Upload!D2422,\"erro\")","v":0},{"$f":"IFERROR(DATE(YEAR(Gerar_Upload!E2422),MONTH(Gerar_Upload!E2422),DAY(Gerar_Upload!E2422)),\"erro\")","v":"00:00:00"},{"$f":"IFERROR(Gerar_Upload!F2422,\"erro\")","v":0},{"$f":"IFERROR(IF(Gerar_Upload!G2422<44,REPT(0,44-LEN(Gerar_Upload!G2422))&Gerar_Upload!G2422,Gerar_Upload!G2422),\"erro\")","v":"00000000000000000000000000000000000000000000"}]
[{"$f":"IFERROR(LEFT(Gerar_Upload!A2423,120),\"erro\")","v":""},{"$f":"IFERROR(SUBSTITUTE(SUBSTITUTE(SUBSTITUTE(Gerar_Upload!B2423,\".\",\"\"),\"-\",\"\"),\"/\",\"\"),\"erro\")","v":""},{"$f":"IFERROR(Gerar_Upload!C2423,\"erro\")","v":0},{"$f":"IFERROR(Gerar_Upload!D2423,\"erro\")","v":0},{"$f":"IFERROR(DATE(YEAR(Gerar_Upload!E2423),MONTH(Gerar_Upload!E2423),DAY(Gerar_Upload!E2423)),\"erro\")","v":"00:00:00"},{"$f":"IFERROR(Gerar_Upload!F2423,\"erro\")","v":0},{"$f":"IFERROR(IF(Gerar_Upload!G2423<44,REPT(0,44-LEN(Gerar_Upload!G2423))&Gerar_Upload!G2423,Gerar_Upload!G2423),\"erro\")","v":"00000000000000000000000000000000000000000000"}]
[{"$f":"IFERROR(LEFT(Gerar_Upload!A2424,120),\"erro\")","v":""},{"$f":"IFERROR(SUBSTITUTE(SUBSTITUTE(SUBSTITUTE(Gerar_Upload!B2424,\".\",\"\"),\"-\",\"\"),\"/\",\"\"),\"erro\")","v":""},{"$f":"IFERROR(Gerar_Upload!C2424,\"erro\")","v":0},{"$f":"IFERROR(Gerar_Upload!D2424,\"erro\")","v":0},{"$f":"IFERROR(DATE(YEAR(Gerar_Upload!E2424),MONTH(Gerar_Upload!E2424),DAY(Gerar_Upload!E2424)),\"erro\")","v":"00:00:00"},{"$f":"IFERROR(Gerar_Upload!F2424,\"erro\")","v":0},{"$f":"IFERROR(IF(Gerar_Upload!G2424<44,REPT(0,44-LEN(Gerar_Upload!G2424))&Gerar_Upload!G2424,Gerar_Upload!G2424),\"erro\")","v":"00000000000000000000000000000000000000000000"}]
[{"$f":"IFERROR(LEFT(Gerar_Upload!A2425,120),\"erro\")","v":""},{"$f":"IFERROR(SUBSTITUTE(SUBSTITUTE(SUBSTITUTE(Gerar_Upload!B2425,\".\",\"\"),\"-\",\"\"),\"/\",\"\"),\"erro\")","v":""},{"$f":"IFERROR(Gerar_Upload!C2425,\"erro\")","v":0},{"$f":"IFERROR(Gerar_Upload!D2425,\"erro\")","v":0},{"$f":"IFERROR(DATE(YEAR(Gerar_Upload!E2425),MONTH(Gerar_Upload!E2425),DAY(Gerar_Upload!E2425)),\"erro\")","v":"00:00:00"},{"$f":"IFERROR(Gerar_Upload!F2425,\"erro\")","v":0},{"$f":"IFERROR(IF(Gerar_Upload!G2425<44,REPT(0,44-LEN(Gerar_Upload!G2425))&Gerar_Upload!G2425,Gerar_Upload!G2425),\"erro\")","v":"00000000000000000000000000000000000000000000"}]
[{"$f":"IFERROR(LEFT(Gerar_Upload!A2426,120),\"erro\")","v":""},{"$f":"IFERROR(SUBSTITUTE(SUBSTITUTE(SUBSTITUTE(Gerar_Upload!B2426,\".\",\"\"),\"-\",\"\"),\"/\",\"\"),\"erro\")","v":""},{"$f":"IFERROR(Gerar_Upload!C2426,\"erro\")","v":0},{"$f":"IFERROR(Gerar_Upload!D2426,\"erro\")","v":0},{"$f":"IFERROR(DATE(YEAR(Gerar_Upload!E2426),MONTH(Gerar_Upload!E2426),DAY(Gerar_Upload!E2426)),\"erro\")","v":"00:00:00"},{"$f":"IFERROR(Gerar_Upload!F2426,\"erro\")","v":0},{"$f":"IFERROR(IF(Gerar_Upload!G2426<44,REPT(0,44-LEN(Gerar_Upload!G2426))&Gerar_Upload!G2426,Gerar_Upload!G2426),\"erro\")","v":"00000000000000000000000000000000000000000000"}]
[{"$f":"IFERROR(LEFT(Gerar_Upload!A2427,120),\"erro\")","v":""},{"$f":"IFERROR(SUBSTITUTE(SUBSTITUTE(SUBSTITUTE(Gerar_Upload!B2427,\".\",\"\"),\"-\",\"\"),\"/\",\"\"),\"erro\")","v":""},{"$f":"IFERROR(Gerar_Upload!C2427,\"erro\")","v":0},{"$f":"IFERROR(Gerar_Upload!D2427,\"erro\")","v":0},{"$f":"IFERROR(DATE(YEAR(Gerar_Upload!E2427),MONTH(Gerar_Upload!E2427),DAY(Gerar_Upload!E2427)),\"erro\")","v":"00:00:00"},{"$f":"IFERROR(Gerar_Upload!F2427,\"erro\")","v":0},{"$f":"IFERROR(IF(Gerar_Upload!G2427<44,REPT(0,44-LEN(Gerar_Upload!G2427))&Gerar_Upload!G2427,Gerar_Upload!G2427),\"erro\")","v":"00000000000000000000000000000000000000000000"}]
[{"$f":"IFERROR(LEFT(Gerar_Upload!A2428,120),\"erro\")","v":""},{"$f":"IFERROR(SUBSTITUTE(SUBSTITUTE(SUBSTITUTE(Gerar_Upload!B2428,\".\",\"\"),\"-\",\"\"),\"/\",\"\"),\"erro\")","v":""},{"$f":"IFERROR(Gerar_Upload!C2428,\"erro\")","v":0},{"$f":"IFERROR(Gerar_Upload!D2428,\"erro\")","v":0},{"$f":"IFERROR(DATE(YEAR(Gerar_Upload!E2428),MONTH(Gerar_Upload!E2428),DAY(Gerar_Upload!E2428)),\"erro\")","v":"00:00:00"},{"$f":"IFERROR(Gerar_Upload!F2428,\"erro\")","v":0},{"$f":"IFERROR(IF(Gerar_Upload!G2428<44,REPT(0,44-LEN(Gerar_Upload!G2428))&Gerar_Upload!G2428,Gerar_Upload!G2428),\"erro\")","v":"00000000000000000000000000000000000000000000"}]
[{"$f":"IFERROR(LEFT(Gerar_Upload!A2429,120),\"erro\")","v":""},{"$f":"IFERROR(SUBSTITUTE(SUBSTITUTE(SUBSTITUTE(Gerar_Upload!B2429,\".\",\"\"),\"-\",\"\"),\"/\",\"\"),\"erro\")","v":""},{"$f":"IFERROR(Gerar_Upload!C2429,\"erro\")","v":0},{"$f":"IFERROR(Gerar_Upload!D2429,\"erro\")","v":0},{"$f":"IFERROR(DATE(YEAR(Gerar_Upload!E2429),MONTH(Gerar_Upload!E2429),DAY(Gerar_Upload!E2429)),\"erro\")","v":"00:00:00"},{"$f":"IFERROR(Gerar_Upload!F2429,\"erro\")","v":0},{"$f":"IFERROR(IF(Gerar_Upload!G2429<44,REPT(0,44-LEN(Gerar_Upload!G2429))&Gerar_Upload!G2429,Gerar_Upload!G2429),\"erro\")","v":"00000000000000000000000000000000000000000000"}]
[{"$f":"IFERROR(LEFT(Gerar_Upload!A2430,120),\"erro\")","v":""},{"$f":"IFERROR(SUBSTITUTE(SUBSTITUTE(SUBSTITUTE(Gerar_Upload!B2430,\".\",\"\"),\"-\",\"\"),\"/\",\"\"),\"erro\")","v":""},{"$f":"IFERROR(Gerar_Upload!C2430,\"erro\")","v":0},{"$f":"IFERROR(Gerar_Upload!D2430,\"erro\")","v":0},{"$f":"IFERROR(DATE(YEAR(Gerar_Upload!E2430),MONTH(Gerar_Upload!E2430),DAY(Gerar_Upload!E2430)),\"erro\")","v":"00:00:00"},{"$f":"IFERROR(Gerar_Upload!F2430,\"erro\")","v":0},{"$f":"IFERROR(IF(Gerar_Upload!G2430<44,REPT(0,44-LEN(Gerar_Upload!G2430))&Gerar_Upload!G2430,Gerar_Upload!G2430),\"erro\")","v":"00000000000000000000000000000000000000000000"}]
[{"$f":"IFERROR(LEFT(Gerar_Upload!A2431,120),\"erro\")","v":""},{"$f":"IFERROR(SUBSTITUTE(SUBSTITUTE(SUBSTITUTE(Gerar_Upload!B2431,\".\",\"\"),\"-\",\"\"),\"/\",\"\"),\"erro\")","v":""},{"$f":"IFERROR(Gerar_Upload!C2431,\"erro\")","v":0},{"$f":"IFERROR(Gerar_Upload!D2431,\"erro\")","v":0},{"$f":"IFERROR(DATE(YEAR(Gerar_Upload!E2431),MONTH(Gerar_Upload!E2431),DAY(Gerar_Upload!E2431)),\"erro\")","v":"00:00:00"},{"$f":"IFERROR(Gerar_Upload!F2431,\"erro\")","v":0},{"$f":"IFERROR(IF(Gerar_Upload!G2431<44,REPT(0,44-LEN(Gerar_Upload!G2431))&Gerar_Upload!G2431,Gerar_Upload!G2431),\"erro\")","v":"00000000000000000000000000000000000000000000"}]
[{"$f":"IFERROR(LEFT(Gerar_Upload!A2432,120),\"erro\")","v":""},{"$f":"IFERROR(SUBSTITUTE(SUBSTITUTE(SUBSTITUTE(Gerar_Upload!B2432,\".\",\"\"),\"-\",\"\"),\"/\",\"\"),\"erro\")","v":""},{"$f":"IFERROR(Gerar_Upload!C2432,\"erro\")","v":0},{"$f":"IFERROR(Gerar_Upload!D2432,\"erro\")","v":0},{"$f":"IFERROR(DATE(YEAR(Gerar_Upload!E2432),MONTH(Gerar_Upload!E2432),DAY(Gerar_Upload!E2432)),\"erro\")","v":"00:00:00"},{"$f":"IFERROR(Gerar_Upload!F2432,\"erro\")","v":0},{"$f":"IFERROR(IF(Gerar_Upload!G2432<44,REPT(0,44-LEN(Gerar_Upload!G2432))&Gerar_Upload!G2432,Gerar_Upload!G2432),\"erro\")","v":"00000000000000000000000000000000000000000000"}]
[{"$f":"IFERROR(LEFT(Gerar_Upload!A2433,120),\"erro\")","v":""},{"$f":"IFERROR(SUBSTITUTE(SUBSTITUTE(SUBSTITUTE(Gerar_Upload!B2433,\".\",\"\"),\"-\",\"\"),\"/\",\"\"),\"erro\")","v":""},{"$f":"IFERROR(Gerar_Upload!C2433,\"erro\")","v":0},{"$f":"IFERROR(Gerar_Upload!D2433,\"erro\")","v":0},{"$f":"IFERROR(DATE(YEAR(Gerar_Upload!E2433),MONTH(Gerar_Upload!E2433),DAY(Gerar_Upload!E2433)),\"erro\")","v":"00:00:00"},{"$f":"IFERROR(Gerar_Upload!F2433,\"erro\")","v":0},{"$f":"IFERROR(IF(Gerar_Upload!G2433<44,REPT(0,44-LEN(Gerar_Upload!G2433))&Gerar_Upload!G2433,Gerar_Upload!G2433),\"erro\")","v":"00000000000000000000000000000000000000000000"}]
[{"$f":"IFERROR(LEFT(Gerar_Upload!A2434,120),\"erro\")","v":""},{"$f":"IFERROR(SUBSTITUTE(SUBSTITUTE(SUBSTITUTE(Gerar_Upload!B2434,\".\",\"\"),\"-\",\"\"),\"/\",\"\"),\"erro\")","v":""},{"$f":"IFERROR(Gerar_Upload!C2434,\"erro\")","v":0},{"$f":"IFERROR(Gerar_Upload!D2434,\"erro\")","v":0},{"$f":"IFERROR(DATE(YEAR(Gerar_Upload!E2434),MONTH(Gerar_Upload!E2434),DAY(Gerar_Upload!E2434)),\"erro\")","v":"00:00:00"},{"$f":"IFERROR(Gerar_Upload!F2434,\"erro\")","v":0},{"$f":"IFERROR(IF(Gerar_Upload!G2434<44,REPT(0,44-LEN(Gerar_Upload!G2434))&Gerar_Upload!G2434,Gerar_Upload!G2434),\"erro\")","v":"00000000000000000000000000000000000000000000"}]
[{"$f":"IFERROR(LEFT(Gerar_Upload!A2435,120),\"erro\")","v":""},{"$f":"IFERROR(SUBSTITUTE(SUBSTITUTE(SUBSTITUTE(Gerar_Upload!B2435,\".\",\"\"),\"-\",\"\"),\"/\",\"\"),\"erro\")","v":""},{"$f":"IFERROR(Gerar_Upload!C2435,\"erro\")","v":0},{"$f":"IFERROR(Gerar_Upload!D2435,\"erro\")","v":0},{"$f":"IFERROR(DATE(YEAR(Gerar_Upload!E2435),MONTH(Gerar_Upload!E2435),DAY(Gerar_Upload!E2435)),\"erro\")","v":"00:00:00"},{"$f":"IFERROR(Gerar_Upload!F2435,\"erro\")","v":0},{"$f":"IFERROR(IF(Gerar_Upload!G2435<44,REPT(0,44-LEN(Gerar_Upload!G2435))&Gerar_Upload!G2435,Gerar_Upload!G2435),\"erro\")","v":"00000000000000000000000000000000000000000000"}]
[{"$f":"IFERROR(LEFT(Gerar_Upload!A2436,120),\"erro\")","v":""},{"$f":"IFERROR(SUBSTITUTE(SUBSTITUTE(SUBSTITUTE(Gerar_Upload!B2436,\".\",\"\"),\"-\",\"\"),\"/\",\"\"),\"erro\")","v":""},{"$f":"IFERROR(Gerar_Upload!C2436,\"erro\")","v":0},{"$f":"IFERROR(Gerar_Upload!D2436,\"erro\")","v":0},{"$f":"IFERROR(DATE(YEAR(Gerar_Upload!E2436),MONTH(Gerar_Upload!E2436),DAY(Gerar_Upload!E2436)),\"erro\")","v":"00:00:00"},{"$f":"IFERROR(Gerar_Upload!F2436,\"erro\")","v":0},{"$f":"IFERROR(IF(Gerar_Upload!G2436<44,REPT(0,44-LEN(Gerar_Upload!G2436))&Gerar_Upload!G2436,Gerar_Upload!G2436),\"erro\")","v":"00000000000000000000000000000000000000000000"}]
[{"$f":"IFERROR(LEFT(Gerar_Upload!A2437,120),\"erro\")","v":""},{"$f":"IFERROR(SUBSTITUTE(SUBSTITUTE(SUBSTITUTE(Gerar_Upload!B2437,\".\",\"\"),\"-\",\"\"),\"/\",\"\"),\"erro\")","v":""},{"$f":"IFERROR(Gerar_Upload!C2437,\"erro\")","v":0},{"$f":"IFERROR(Gerar_Upload!D2437,\"erro\")","v":0},{"$f":"IFERROR(DATE(YEAR(Gerar_Upload!E2437),MONTH(Gerar_Upload!E2437),DAY(Gerar_Upload!E2437)),\"erro\")","v":"00:00:00"},{"$f":"IFERROR(Gerar_Upload!F2437,\"erro\")","v":0},{"$f":"IFERROR(IF(Gerar_Upload!G2437<44,REPT(0,44-LEN(Gerar_Upload!G2437))&Gerar_Upload!G2437,Gerar_Upload!G2437),\"erro\")","v":"00000000000000000000000000000000000000000000"}]
[{"$f":"IFERROR(LEFT(Gerar_Upload!A2438,120),\"erro\")","v":""},{"$f":"IFERROR(SUBSTITUTE(SUBSTITUTE(SUBSTITUTE(Gerar_Upload!B2438,\".\",\"\"),\"-\",\"\"),\"/\",\"\"),\"erro\")","v":""},{"$f":"IFERROR(Gerar_Upload!C2438,\"erro\")","v":0},{"$f":"IFERROR(Gerar_Upload!D2438,\"erro\")","v":0},{"$f":"IFERROR(DATE(YEAR(Gerar_Upload!E2438),MONTH(Gerar_Upload!E2438),DAY(Gerar_Upload!E2438)),\"erro\")","v":"00:00:00"},{"$f":"IFERROR(Gerar_Upload!F2438,\"erro\")","v":0},{"$f":"IFERROR(IF(Gerar_Upload!G2438<44,REPT(0,44-LEN(Gerar_Upload!G2438))&Gerar_Upload!G2438,Gerar_Upload!G2438),\"erro\")","v":"00000000000000000000000000000000000000000000"}]
[{"$f":"IFERROR(LEFT(Gerar_Upload!A2439,120),\"erro\")","v":""},{"$f":"IFERROR(SUBSTITUTE(SUBSTITUTE(SUBSTITUTE(Gerar_Upload!B2439,\".\",\"\"),\"-\",\"\"),\"/\",\"\"),\"erro\")","v":""},{"$f":"IFERROR(Gerar_Upload!C2439,\"erro\")","v":0},{"$f":"IFERROR(Gerar_Upload!D2439,\"erro\")","v":0},{"$f":"IFERROR(DATE(YEAR(Gerar_Upload!E2439),MONTH(Gerar_Upload!E2439),DAY(Gerar_Upload!E2439)),\"erro\")","v":"00:00:00"},{"$f":"IFERROR(Gerar_Upload!F2439,\"erro\")","v":0},{"$f":"IFERROR(IF(Gerar_Upload!G2439<44,REPT(0,44-LEN(Gerar_Upload!G2439))&Gerar_Upload!G2439,Gerar_Upload!G2439),\"erro\")","v":"00000000000000000000000000000000000000000000"}]
[{"$f":"IFERROR(LEFT(Gerar_Upload!A2440,120),\"erro\")","v":""},{"$f":"IFERROR(SUBSTITUTE(SUBSTITUTE(SUBSTITUTE(Gerar_Upload!B2440,\".\",\"\"),\"-\",\"\"),\"/\",\"\"),\"erro\")","v":""},{"$f":"IFERROR(Gerar_Upload!C2440,\"erro\")","v":0},{"$f":"IFERROR(Gerar_Upload!D2440,\"erro\")","v":0},{"$f":"IFERROR(DATE(YEAR(Gerar_Upload!E2440),MONTH(Gerar_Upload!E2440),DAY(Gerar_Upload!E2440)),\"erro\")","v":"00:00:00"},{"$f":"IFERROR(Gerar_Upload!F2440,\"erro\")","v":0},{"$f":"IFERROR(IF(Gerar_Upload!G2440<44,REPT(0,44-LEN(Gerar_Upload!G2440))&Gerar_Upload!G2440,Gerar_Upload!G2440),\"erro\")","v":"00000000000000000000000000000000000000000000"}]
[{"$f":"IFERROR(LEFT(Gerar_Upload!A2441,120),\"erro\")","v":""},{"$f":"IFERROR(SUBSTITUTE(SUBSTITUTE(SUBSTITUTE(Gerar_Upload!B2441,\".\",\"\"),\"-\",\"\"),\"/\",\"\"),\"erro\")","v":""},{"$f":"IFERROR(Gerar_Upload!C2441,\"erro\")","v":0},{"$f":"IFERROR(Gerar_Upload!D2441,\"erro\")","v":0},{"$f":"IFERROR(DATE(YEAR(Gerar_Upload!E2441),MONTH(Gerar_Upload!E2441),DAY(Gerar_Upload!E2441)),\"erro\")","v":"00:00:00"},{"$f":"IFERROR(Gerar_Upload!F2441,\"erro\")","v":0},{"$f":"IFERROR(IF(Gerar_Upload!G2441<44,REPT(0,44-LEN(Gerar_Upload!G2441))&Gerar_Upload!G2441,Gerar_Upload!G2441),\"erro\")","v":"00000000000000000000000000000000000000000000"}]
[{"$f":"IFERROR(LEFT(Gerar_Upload!A2442,120),\"erro\")","v":""},{"$f":"IFERROR(SUBSTITUTE(SUBSTITUTE(SUBSTITUTE(Gerar_Upload!B2442,\".\",\"\"),\"-\",\"\"),\"/\",\"\"),\"erro\")","v":""},{"$f":"IFERROR(Gerar_Upload!C2442,\"erro\")","v":0},{"$f":"IFERROR(Gerar_Upload!D2442,\"erro\")","v":0},{"$f":"IFERROR(DATE(YEAR(Gerar_Upload!E2442),MONTH(Gerar_Upload!E2442),DAY(Gerar_Upload!E2442)),\"erro\")","v":"00:00:00"},{"$f":"IFERROR(Gerar_Upload!F2442,\"erro\")","v":0},{"$f":"IFERROR(IF(Gerar_Upload!G2442<44,REPT(0,44-LEN(Gerar_Upload!G2442))&Gerar_Upload!G2442,Gerar_Upload!G2442),\"erro\")","v":"00000000000000000000000000000000000000000000"}]
[{"$f":"IFERROR(LEFT(Gerar_Upload!A2443,120),\"erro\")","v":""},{"$f":"IFERROR(SUBSTITUTE(SUBSTITUTE(SUBSTITUTE(Gerar_Upload!B2443,\".\",\"\"),\"-\",\"\"),\"/\",\"\"),\"erro\")","v":""},{"$f":"IFERROR(Gerar_Upload!C2443,\"erro\")","v":0},{"$f":"IFERROR(Gerar_Upload!D2443,\"erro\")","v":0},{"$f":"IFERROR(DATE(YEAR(Gerar_Upload!E2443),MONTH(Gerar_Upload!E2443),DAY(Gerar_Upload!E2443)),\"erro\")","v":"00:00:00"},{"$f":"IFERROR(Gerar_Upload!F2443,\"erro\")","v":0},{"$f":"IFERROR(IF(Gerar_Upload!G2443<44,REPT(0,44-LEN(Gerar_Upload!G2443))&Gerar_Upload!G2443,Gerar_Upload!G2443),\"erro\")","v":"00000000000000000000000000000000000000000000"}]
[{"$f":"IFERROR(LEFT(Gerar_Upload!A2444,120),\"erro\")","v":""},{"$f":"IFERROR(SUBSTITUTE(SUBSTITUTE(SUBSTITUTE(Gerar_Upload!B2444,\".\",\"\"),\"-\",\"\"),\"/\",\"\"),\"erro\")","v":""},{"$f":"IFERROR(Gerar_Upload!C2444,\"erro\")","v":0},{"$f":"IFERROR(Gerar_Upload!D2444,\"erro\")","v":0},{"$f":"IFERROR(DATE(YEAR(Gerar_Upload!E2444),MONTH(Gerar_Upload!E2444),DAY(Gerar_Upload!E2444)),\"erro\")","v":"00:00:00"},{"$f":"IFERROR(Gerar_Upload!F2444,\"erro\")","v":0},{"$f":"IFERROR(IF(Gerar_Upload!G2444<44,REPT(0,44-LEN(Gerar_Upload!G2444))&Gerar_Upload!G2444,Gerar_Upload!G2444),\"erro\")","v":"00000000000000000000000000000000000000000000"}]
[{"$f":"IFERROR(LEFT(Gerar_Upload!A2445,120),\"erro\")","v":""},{"$f":"IFERROR(SUBSTITUTE(SUBSTITUTE(SUBSTITUTE(Gerar_Upload!B2445,\".\",\"\"),\"-\",\"\"),\"/\",\"\"),\"erro\")","v":""},{"$f":"IFERROR(Gerar_Upload!C2445,\"erro\")","v":0},{"$f":"IFERROR(Gerar_Upload!D2445,\"erro\")","v":0},{"$f":"IFERROR(DATE(YEAR(Gerar_Upload!E2445),MONTH(Gerar_Upload!E2445),DAY(Gerar_Upload!E2445)),\"erro\")","v":"00:00:00"},{"$f":"IFERROR(Gerar_Upload!F2445,\"erro\")","v":0},{"$f":"IFERROR(IF(Gerar_Upload!G2445<44,REPT(0,44-LEN(Gerar_Upload!G2445))&Gerar_Upload!G2445,Gerar_Upload!G2445),\"erro\")","v":"00000000000000000000000000000000000000000000"}]
[{"$f":"IFERROR(LEFT(Gerar_Upload!A2446,120),\"erro\")","v":""},{"$f":"IFERROR(SUBSTITUTE(SUBSTITUTE(SUBSTITUTE(Gerar_Upload!B2446,\".\",\"\"),\"-\",\"\"),\"/\",\"\"),\"erro\")","v":""},{"$f":"IFERROR(Gerar_Upload!C2446,\"erro\")","v":0},{"$f":"IFERROR(Gerar_Upload!D2446,\"erro\")","v":0},{"$f":"IFERROR(DATE(YEAR(Gerar_Upload!E2446),MONTH(Gerar_Upload!E2446),DAY(Gerar_Upload!E2446)),\"erro\")","v":"00:00:00"},{"$f":"IFERROR(Gerar_Upload!F2446,\"erro\")","v":0},{"$f":"IFERROR(IF(Gerar_Upload!G2446<44,REPT(0,44-LEN(Gerar_Upload!G2446))&Gerar_Upload!G2446,Gerar_Upload!G2446),\"erro\")","v":"00000000000000000000000000000000000000000000"}]
[{"$f":"IFERROR(LEFT(Gerar_Upload!A2447,120),\"erro\")","v":""},{"$f":"IFERROR(SUBSTITUTE(SUBSTITUTE(SUBSTITUTE(Gerar_Upload!B2447,\".\",\"\"),\"-\",\"\"),\"/\",\"\"),\"erro\")","v":""},{"$f":"IFERROR(Gerar_Upload!C2447,\"erro\")","v":0},{"$f":"IFERROR(Gerar_Upload!D2447,\"erro\")","v":0},{"$f":"IFERROR(DATE(YEAR(Gerar_Upload!E2447),MONTH(Gerar_Upload!E2447),DAY(Gerar_Upload!E2447)),\"erro\")","v":"00:00:00"},{"$f":"IFERROR(Gerar_Upload!F2447,\"erro\")","v":0},{"$f":"IFERROR(IF(Gerar_Upload!G2447<44,REPT(0,44-LEN(Gerar_Upload!G2447))&Gerar_Upload!G2447,Gerar_Upload!G2447),\"erro\")","v":"00000000000000000000000000000000000000000000"}]
[{"$f":"IFERROR(LEFT(Gerar_Upload!A2448,120),\"erro\")","v":""},{"$f":"IFERROR(SUBSTITUTE(SUBSTITUTE(SUBSTITUTE(Gerar_Upload!B2448,\".\",\"\"),\"-\",\"\"),\"/\",\"\"),\"erro\")","v":""},{"$f":"IFERROR(Gerar_Upload!C2448,\"erro\")","v":0},{"$f":"IFERROR(Gerar_Upload!D2448,\"erro\")","v":0},{"$f":"IFERROR(DATE(YEAR(Gerar_Upload!E2448),MONTH(Gerar_Upload!E2448),DAY(Gerar_Upload!E2448)),\"erro\")","v":"00:00:00"},{"$f":"IFERROR(Gerar_Upload!F2448,\"erro\")","v":0},{"$f":"IFERROR(IF(Gerar_Upload!G2448<44,REPT(0,44-LEN(Gerar_Upload!G2448))&Gerar_Upload!G2448,Gerar_Upload!G2448),\"erro\")","v":"00000000000000000000000000000000000000000000"}]
[{"$f":"IFERROR(LEFT(Gerar_Upload!A2449,120),\"erro\")","v":""},{"$f":"IFERROR(SUBSTITUTE(SUBSTITUTE(SUBSTITUTE(Gerar_Upload!B2449,\".\",\"\"),\"-\",\"\"),\"/\",\"\"),\"erro\")","v":""},{"$f":"IFERROR(Gerar_Upload!C2449,\"erro\")","v":0},{"$f":"IFERROR(Gerar_Upload!D2449,\"erro\")","v":0},{"$f":"IFERROR(DATE(YEAR(Gerar_Upload!E2449),MONTH(Gerar_Upload!E2449),DAY(Gerar_Upload!E2449)),\"erro\")","v":"00:00:00"},{"$f":"IFERROR(Gerar_Upload!F2449,\"erro\")","v":0},{"$f":"IFERROR(IF(Gerar_Upload!G2449<44,REPT(0,44-LEN(Gerar_Upload!G2449))&Gerar_Upload!G2449,Gerar_Upload!G2449),\"erro\")","v":"00000000000000000000000000000000000000000000"}]
[{"$f":"IFERROR(LEFT(Gerar_Upload!A2450,120),\"erro\")","v":""},{"$f":"IFERROR(SUBSTITUTE(SUBSTITUTE(SUBSTITUTE(Gerar_Upload!B2450,\".\",\"\"),\"-\",\"\"),\"/\",\"\"),\"erro\")","v":""},{"$f":"IFERROR(Gerar_Upload!C2450,\"erro\")","v":0},{"$f":"IFERROR(Gerar_Upload!D2450,\"erro\")","v":0},{"$f":"IFERROR(DATE(YEAR(Gerar_Upload!E2450),MONTH(Gerar_Upload!E2450),DAY(Gerar_Upload!E2450)),\"erro\")","v":"00:00:00"},{"$f":"IFERROR(Gerar_Upload!F2450,\"erro\")","v":0},{"$f":"IFERROR(IF(Gerar_Upload!G2450<44,REPT(0,44-LEN(Gerar_Upload!G2450))&Gerar_Upload!G2450,Gerar_Upload!G2450),\"erro\")","v":"00000000000000000000000000000000000000000000"}]
[{"$f":"IFERROR(LEFT(Gerar_Upload!A2451,120),\"erro\")","v":""},{"$f":"IFERROR(SUBSTITUTE(SUBSTITUTE(SUBSTITUTE(Gerar_Upload!B2451,\".\",\"\"),\"-\",\"\"),\"/\",\"\"),\"erro\")","v":""},{"$f":"IFERROR(Gerar_Upload!C2451,\"erro\")","v":0},{"$f":"IFERROR(Gerar_Upload!D2451,\"erro\")","v":0},{"$f":"IFERROR(DATE(YEAR(Gerar_Upload!E2451),MONTH(Gerar_Upload!E2451),DAY(Gerar_Upload!E2451)),\"erro\")","v":"00:00:00"},{"$f":"IFERROR(Gerar_Upload!F2451,\"erro\")","v":0},{"$f":"IFERROR(IF(Gerar_Upload!G2451<44,REPT(0,44-LEN(Gerar_Upload!G2451))&Gerar_Upload!G2451,Gerar_Upload!G2451),\"erro\")","v":"00000000000000000000000000000000000000000000"}]
[{"$f":"IFERROR(LEFT(Gerar_Upload!A2452,120),\"erro\")","v":""},{"$f":"IFERROR(SUBSTITUTE(SUBSTITUTE(SUBSTITUTE(Gerar_Upload!B2452,\".\",\"\"),\"-\",\"\"),\"/\",\"\"),\"erro\")","v":""},{"$f":"IFERROR(Gerar_Upload!C2452,\"erro\")","v":0},{"$f":"IFERROR(Gerar_Upload!D2452,\"erro\")","v":0},{"$f":"IFERROR(DATE(YEAR(Gerar_Upload!E2452),MONTH(Gerar_Upload!E2452),DAY(Gerar_Upload!E2452)),\"erro\")","v":"00:00:00"},{"$f":"IFERROR(Gerar_Upload!F2452,\"erro\")","v":0},{"$f":"IFERROR(IF(Gerar_Upload!G2452<44,REPT(0,44-LEN(Gerar_Upload!G2452))&Gerar_Upload!G2452,Gerar_Upload!G2452),\"erro\")","v":"00000000000000000000000000000000000000000000"}]
[{"$f":"IFERROR(LEFT(Gerar_Upload!A2453,120),\"erro\")","v":""},{"$f":"IFERROR(SUBSTITUTE(SUBSTITUTE(SUBSTITUTE(Gerar_Upload!B2453,\".\",\"\"),\"-\",\"\"),\"/\",\"\"),\"erro\")","v":""},{"$f":"IFERROR(Gerar_Upload!C2453,\"erro\")","v":0},{"$f":"IFERROR(Gerar_Upload!D2453,\"erro\")","v":0},{"$f":"IFERROR(DATE(YEAR(Gerar_Upload!E2453),MONTH(Gerar_Upload!E2453),DAY(Gerar_Upload!E2453)),\"erro\")","v":"00:00:00"},{"$f":"IFERROR(Gerar_Upload!F2453,\"erro\")","v":0},{"$f":"IFERROR(IF(Gerar_Upload!G2453<44,REPT(0,44-LEN(Gerar_Upload!G2453))&Gerar_Upload!G2453,Gerar_Upload!G2453),\"erro\")","v":"00000000000000000000000000000000000000000000"}]
[{"$f":"IFERROR(LEFT(Gerar_Upload!A2454,120),\"erro\")","v":""},{"$f":"IFERROR(SUBSTITUTE(SUBSTITUTE(SUBSTITUTE(Gerar_Upload!B2454,\".\",\"\"),\"-\",\"\"),\"/\",\"\"),\"erro\")","v":""},{"$f":"IFERROR(Gerar_Upload!C2454,\"erro\")","v":0},{"$f":"IFERROR(Gerar_Upload!D2454,\"erro\")","v":0},{"$f":"IFERROR(DATE(YEAR(Gerar_Upload!E2454),MONTH(Gerar_Upload!E2454),DAY(Gerar_Upload!E2454)),\"erro\")","v":"00:00:00"},{"$f":"IFERROR(Gerar_Upload!F2454,\"erro\")","v":0},{"$f":"IFERROR(IF(Gerar_Upload!G2454<44,REPT(0,44-LEN(Gerar_Upload!G2454))&Gerar_Upload!G2454,Gerar_Upload!G2454),\"erro\")","v":"00000000000000000000000000000000000000000000"}]
[{"$f":"IFERROR(LEFT(Gerar_Upload!A2455,120),\"erro\")","v":""},{"$f":"IFERROR(SUBSTITUTE(SUBSTITUTE(SUBSTITUTE(Gerar_Upload!B2455,\".\",\"\"),\"-\",\"\"),\"/\",\"\"),\"erro\")","v":""},{"$f":"IFERROR(Gerar_Upload!C2455,\"erro\")","v":0},{"$f":"IFERROR(Gerar_Upload!D2455,\"erro\")","v":0},{"$f":"IFERROR(DATE(YEAR(Gerar_Upload!E2455),MONTH(Gerar_Upload!E2455),DAY(Gerar_Upload!E2455)),\"erro\")","v":"00:00:00"},{"$f":"IFERROR(Gerar_Upload!F2455,\"erro\")","v":0},{"$f":"IFERROR(IF(Gerar_Upload!G2455<44,REPT(0,44-LEN(Gerar_Upload!G2455))&Gerar_Upload!G2455,Gerar_Upload!G2455),\"erro\")","v":"00000000000000000000000000000000000000000000"}]
[{"$f":"IFERROR(LEFT(Gerar_Upload!A2456,120),\"erro\")","v":""},{"$f":"IFERROR(SUBSTITUTE(SUBSTITUTE(SUBSTITUTE(Gerar_Upload!B2456,\".\",\"\"),\"-\",\"\"),\"/\",\"\"),\"erro\")","v":""},{"$f":"IFERROR(Gerar_Upload!C2456,\"erro\")","v":0},{"$f":"IFERROR(Gerar_Upload!D2456,\"erro\")","v":0},{"$f":"IFERROR(DATE(YEAR(Gerar_Upload!E2456),MONTH(Gerar_Upload!E2456),DAY(Gerar_Upload!E2456)),\"erro\")","v":"00:00:00"},{"$f":"IFERROR(Gerar_Upload!F2456,\"erro\")","v":0},{"$f":"IFERROR(IF(Gerar_Upload!G2456<44,REPT(0,44-LEN(Gerar_Upload!G2456))&Gerar_Upload!G2456,Gerar_Upload!G2456),\"erro\")","v":"00000000000000000000000000000000000000000000"}]
[{"$f":"IFERROR(LEFT(Gerar_Upload!A2457,120),\"erro\")","v":""},{"$f":"IFERROR(SUBSTITUTE(SUBSTITUTE(SUBSTITUTE(Gerar_Upload!B2457,\".\",\"\"),\"-\",\"\"),\"/\",\"\"),\"erro\")","v":""},{"$f":"IFERROR(Gerar_Upload!C2457,\"erro\")","v":0},{"$f":"IFERROR(Gerar_Upload!D2457,\"erro\")","v":0},{"$f":"IFERROR(DATE(YEAR(Gerar_Upload!E2457),MONTH(Gerar_Upload!E2457),DAY(Gerar_Upload!E2457)),\"erro\")","v":"00:00:00"},{"$f":"IFERROR(Gerar_Upload!F2457,\"erro\")","v":0},{"$f":"IFERROR(IF(Gerar_Upload!G2457<44,REPT(0,44-LEN(Gerar_Upload!G2457))&Gerar_Upload!G2457,Gerar_Upload!G2457),\"erro\")","v":"00000000000000000000000000000000000000000000"}]
[{"$f":"IFERROR(LEFT(Gerar_Upload!A2458,120),\"erro\")","v":""},{"$f":"IFERROR(SUBSTITUTE(SUBSTITUTE(SUBSTITUTE(Gerar_Upload!B2458,\".\",\"\"),\"-\",\"\"),\"/\",\"\"),\"erro\")","v":""},{"$f":"IFERROR(Gerar_Upload!C2458,\"erro\")","v":0},{"$f":"IFERROR(Gerar_Upload!D2458,\"erro\")","v":0},{"$f":"IFERROR(DATE(YEAR(Gerar_Upload!E2458),MONTH(Gerar_Upload!E2458),DAY(Gerar_Upload!E2458)),\"erro\")","v":"00:00:00"},{"$f":"IFERROR(Gerar_Upload!F2458,\"erro\")","v":0},{"$f":"IFERROR(IF(Gerar_Upload!G2458<44,REPT(0,44-LEN(Gerar_Upload!G2458))&Gerar_Upload!G2458,Gerar_Upload!G2458),\"erro\")","v":"00000000000000000000000000000000000000000000"}]
[{"$f":"IFERROR(LEFT(Gerar_Upload!A2459,120),\"erro\")","v":""},{"$f":"IFERROR(SUBSTITUTE(SUBSTITUTE(SUBSTITUTE(Gerar_Upload!B2459,\".\",\"\"),\"-\",\"\"),\"/\",\"\"),\"erro\")","v":""},{"$f":"IFERROR(Gerar_Upload!C2459,\"erro\")","v":0},{"$f":"IFERROR(Gerar_Upload!D2459,\"erro\")","v":0},{"$f":"IFERROR(DATE(YEAR(Gerar_Upload!E2459),MONTH(Gerar_Upload!E2459),DAY(Gerar_Upload!E2459)),\"erro\")","v":"00:00:00"},{"$f":"IFERROR(Gerar_Upload!F2459,\"erro\")","v":0},{"$f":"IFERROR(IF(Gerar_Upload!G2459<44,REPT(0,44-LEN(Gerar_Upload!G2459))&Gerar_Upload!G2459,Gerar_Upload!G2459),\"erro\")","v":"00000000000000000000000000000000000000000000"}]
[{"$f":"IFERROR(LEFT(Gerar_Upload!A2460,120),\"erro\")","v":""},{"$f":"IFERROR(SUBSTITUTE(SUBSTITUTE(SUBSTITUTE(Gerar_Upload!B2460,\".\",\"\"),\"-\",\"\"),\"/\",\"\"),\"erro\")","v":""},{"$f":"IFERROR(Gerar_Upload!C2460,\"erro\")","v":0},{"$f":"IFERROR(Gerar_Upload!D2460,\"erro\")","v":0},{"$f":"IFERROR(DATE(YEAR(Gerar_Upload!E2460),MONTH(Gerar_Upload!E2460),DAY(Gerar_Upload!E2460)),\"erro\")","v":"00:00:00"},{"$f":"IFERROR(Gerar_Upload!F2460,\"erro\")","v":0},{"$f":"IFERROR(IF(Gerar_Upload!G2460<44,REPT(0,44-LEN(Gerar_Upload!G2460))&Gerar_Upload!G2460,Gerar_Upload!G2460),\"erro\")","v":"00000000000000000000000000000000000000000000"}]
[{"$f":"IFERROR(LEFT(Gerar_Upload!A2461,120),\"erro\")","v":""},{"$f":"IFERROR(SUBSTITUTE(SUBSTITUTE(SUBSTITUTE(Gerar_Upload!B2461,\".\",\"\"),\"-\",\"\"),\"/\",\"\"),\"erro\")","v":""},{"$f":"IFERROR(Gerar_Upload!C2461,\"erro\")","v":0},{"$f":"IFERROR(Gerar_Upload!D2461,\"erro\")","v":0},{"$f":"IFERROR(DATE(YEAR(Gerar_Upload!E2461),MONTH(Gerar_Upload!E2461),DAY(Gerar_Upload!E2461)),\"erro\")","v":"00:00:00"},{"$f":"IFERROR(Gerar_Upload!F2461,\"erro\")","v":0},{"$f":"IFERROR(IF(Gerar_Upload!G2461<44,REPT(0,44-LEN(Gerar_Upload!G2461))&Gerar_Upload!G2461,Gerar_Upload!G2461),\"erro\")","v":"00000000000000000000000000000000000000000000"}]
[{"$f":"IFERROR(LEFT(Gerar_Upload!A2462,120),\"erro\")","v":""},{"$f":"IFERROR(SUBSTITUTE(SUBSTITUTE(SUBSTITUTE(Gerar_Upload!B2462,\".\",\"\"),\"-\",\"\"),\"/\",\"\"),\"erro\")","v":""},{"$f":"IFERROR(Gerar_Upload!C2462,\"erro\")","v":0},{"$f":"IFERROR(Gerar_Upload!D2462,\"erro\")","v":0},{"$f":"IFERROR(DATE(YEAR(Gerar_Upload!E2462),MONTH(Gerar_Upload!E2462),DAY(Gerar_Upload!E2462)),\"erro\")","v":"00:00:00"},{"$f":"IFERROR(Gerar_Upload!F2462,\"erro\")","v":0},{"$f":"IFERROR(IF(Gerar_Upload!G2462<44,REPT(0,44-LEN(Gerar_Upload!G2462))&Gerar_Upload!G2462,Gerar_Upload!G2462),\"erro\")","v":"00000000000000000000000000000000000000000000"}]
[{"$f":"IFERROR(LEFT(Gerar_Upload!A2463,120),\"erro\")","v":""},{"$f":"IFERROR(SUBSTITUTE(SUBSTITUTE(SUBSTITUTE(Gerar_Upload!B2463,\".\",\"\"),\"-\",\"\"),\"/\",\"\"),\"erro\")","v":""},{"$f":"IFERROR(Gerar_Upload!C2463,\"erro\")","v":0},{"$f":"IFERROR(Gerar_Upload!D2463,\"erro\")","v":0},{"$f":"IFERROR(DATE(YEAR(Gerar_Upload!E2463),MONTH(Gerar_Upload!E2463),DAY(Gerar_Upload!E2463)),\"erro\")","v":"00:00:00"},{"$f":"IFERROR(Gerar_Upload!F2463,\"erro\")","v":0},{"$f":"IFERROR(IF(Gerar_Upload!G2463<44,REPT(0,44-LEN(Gerar_Upload!G2463))&Gerar_Upload!G2463,Gerar_Upload!G2463),\"erro\")","v":"00000000000000000000000000000000000000000000"}]
[{"$f":"IFERROR(LEFT(Gerar_Upload!A2464,120),\"erro\")","v":""},{"$f":"IFERROR(SUBSTITUTE(SUBSTITUTE(SUBSTITUTE(Gerar_Upload!B2464,\".\",\"\"),\"-\",\"\"),\"/\",\"\"),\"erro\")","v":""},{"$f":"IFERROR(Gerar_Upload!C2464,\"erro\")","v":0},{"$f":"IFERROR(Gerar_Upload!D2464,\"erro\")","v":0},{"$f":"IFERROR(DATE(YEAR(Gerar_Upload!E2464),MONTH(Gerar_Upload!E2464),DAY(Gerar_Upload!E2464)),\"erro\")","v":"00:00:00"},{"$f":"IFERROR(Gerar_Upload!F2464,\"erro\")","v":0},{"$f":"IFERROR(IF(Gerar_Upload!G2464<44,REPT(0,44-LEN(Gerar_Upload!G2464))&Gerar_Upload!G2464,Gerar_Upload!G2464),\"erro\")","v":"00000000000000000000000000000000000000000000"}]
[{"$f":"IFERROR(LEFT(Gerar_Upload!A2465,120),\"erro\")","v":""},{"$f":"IFERROR(SUBSTITUTE(SUBSTITUTE(SUBSTITUTE(Gerar_Upload!B2465,\".\",\"\"),\"-\",\"\"),\"/\",\"\"),\"erro\")","v":""},{"$f":"IFERROR(Gerar_Upload!C2465,\"erro\")","v":0},{"$f":"IFERROR(Gerar_Upload!D2465,\"erro\")","v":0},{"$f":"IFERROR(DATE(YEAR(Gerar_Upload!E2465),MONTH(Gerar_Upload!E2465),DAY(Gerar_Upload!E2465)),\"erro\")","v":"00:00:00"},{"$f":"IFERROR(Gerar_Upload!F2465,\"erro\")","v":0},{"$f":"IFERROR(IF(Gerar_Upload!G2465<44,REPT(0,44-LEN(Gerar_Upload!G2465))&Gerar_Upload!G2465,Gerar_Upload!G2465),\"erro\")","v":"00000000000000000000000000000000000000000000"}]
[{"$f":"IFERROR(LEFT(Gerar_Upload!A2466,120),\"erro\")","v":""},{"$f":"IFERROR(SUBSTITUTE(SUBSTITUTE(SUBSTITUTE(Gerar_Upload!B2466,\".\",\"\"),\"-\",\"\"),\"/\",\"\"),\"erro\")","v":""},{"$f":"IFERROR(Gerar_Upload!C2466,\"erro\")","v":0},{"$f":"IFERROR(Gerar_Upload!D2466,\"erro\")","v":0},{"$f":"IFERROR(DATE(YEAR(Gerar_Upload!E2466),MONTH(Gerar_Upload!E2466),DAY(Gerar_Upload!E2466)),\"erro\")","v":"00:00:00"},{"$f":"IFERROR(Gerar_Upload!F2466,\"erro\")","v":0},{"$f":"IFERROR(IF(Gerar_Upload!G2466<44,REPT(0,44-LEN(Gerar_Upload!G2466))&Gerar_Upload!G2466,Gerar_Upload!G2466),\"erro\")","v":"00000000000000000000000000000000000000000000"}]
[{"$f":"IFERROR(LEFT(Gerar_Upload!A2467,120),\"erro\")","v":""},{"$f":"IFERROR(SUBSTITUTE(SUBSTITUTE(SUBSTITUTE(Gerar_Upload!B2467,\".\",\"\"),\"-\",\"\"),\"/\",\"\"),\"erro\")","v":""},{"$f":"IFERROR(Gerar_Upload!C2467,\"erro\")","v":0},{"$f":"IFERROR(Gerar_Upload!D2467,\"erro\")","v":0},{"$f":"IFERROR(DATE(YEAR(Gerar_Upload!E2467),MONTH(Gerar_Upload!E2467),DAY(Gerar_Upload!E2467)),\"erro\")","v":"00:00:00"},{"$f":"IFERROR(Gerar_Upload!F2467,\"erro\")","v":0},{"$f":"IFERROR(IF(Gerar_Upload!G2467<44,REPT(0,44-LEN(Gerar_Upload!G2467))&Gerar_Upload!G2467,Gerar_Upload!G2467),\"erro\")","v":"00000000000000000000000000000000000000000000"}]
[{"$f":"IFERROR(LEFT(Gerar_Upload!A2468,120),\"erro\")","v":""},{"$f":"IFERROR(SUBSTITUTE(SUBSTITUTE(SUBSTITUTE(Gerar_Upload!B2468,\".\",\"\"),\"-\",\"\"),\"/\",\"\"),\"erro\")","v":""},{"$f":"IFERROR(Gerar_Upload!C2468,\"erro\")","v":0},{"$f":"IFERROR(Gerar_Upload!D2468,\"erro\")","v":0},{"$f":"IFERROR(DATE(YEAR(Gerar_Upload!E2468),MONTH(Gerar_Upload!E2468),DAY(Gerar_Upload!E2468)),\"erro\")","v":"00:00:00"},{"$f":"IFERROR(Gerar_Upload!F2468,\"erro\")","v":0},{"$f":"IFERROR(IF(Gerar_Upload!G2468<44,REPT(0,44-LEN(Gerar_Upload!G2468))&Gerar_Upload!G2468,Gerar_Upload!G2468),\"erro\")","v":"00000000000000000000000000000000000000000000"}]
[{"$f":"IFERROR(LEFT(Gerar_Upload!A2469,120),\"erro\")","v":""},{"$f":"IFERROR(SUBSTITUTE(SUBSTITUTE(SUBSTITUTE(Gerar_Upload!B2469,\".\",\"\"),\"-\",\"\"),\"/\",\"\"),\"erro\")","v":""},{"$f":"IFERROR(Gerar_Upload!C2469,\"erro\")","v":0},{"$f":"IFERROR(Gerar_Upload!D2469,\"erro\")","v":0},{"$f":"IFERROR(DATE(YEAR(Gerar_Upload!E2469),MONTH(Gerar_Upload!E2469),DAY(Gerar_Upload!E2469)),\"erro\")","v":"00:00:00"},{"$f":"IFERROR(Gerar_Upload!F2469,\"erro\")","v":0},{"$f":"IFERROR(IF(Gerar_Upload!G2469<44,REPT(0,44-LEN(Gerar_Upload!G2469))&Gerar_Upload!G2469,Gerar_Upload!G2469),\"erro\")","v":"00000000000000000000000000000000000000000000"}]
[{"$f":"IFERROR(LEFT(Gerar_Upload!A2470,120),\"erro\")","v":""},{"$f":"IFERROR(SUBSTITUTE(SUBSTITUTE(SUBSTITUTE(Gerar_Upload!B2470,\".\",\"\"),\"-\",\"\"),\"/\",\"\"),\"erro\")","v":""},{"$f":"IFERROR(Gerar_Upload!C2470,\"erro\")","v":0},{"$f":"IFERROR(Gerar_Upload!D2470,\"erro\")","v":0},{"$f":"IFERROR(DATE(YEAR(Gerar_Upload!E2470),MONTH(Gerar_Upload!E2470),DAY(Gerar_Upload!E2470)),\"erro\")","v":"00:00:00"},{"$f":"IFERROR(Gerar_Upload!F2470,\"erro\")","v":0},{"$f":"IFERROR(IF(Gerar_Upload!G2470<44,REPT(0,44-LEN(Gerar_Upload!G2470))&Gerar_Upload!G2470,Gerar_Upload!G2470),\"erro\")","v":"00000000000000000000000000000000000000000000"}]
[{"$f":"IFERROR(LEFT(Gerar_Upload!A2471,120),\"erro\")","v":""},{"$f":"IFERROR(SUBSTITUTE(SUBSTITUTE(SUBSTITUTE(Gerar_Upload!B2471,\".\",\"\"),\"-\",\"\"),\"/\",\"\"),\"erro\")","v":""},{"$f":"IFERROR(Gerar_Upload!C2471,\"erro\")","v":0},{"$f":"IFERROR(Gerar_Upload!D2471,\"erro\")","v":0},{"$f":"IFERROR(DATE(YEAR(Gerar_Upload!E2471),MONTH(Gerar_Upload!E2471),DAY(Gerar_Upload!E2471)),\"erro\")","v":"00:00:00"},{"$f":"IFERROR(Gerar_Upload!F2471,\"erro\")","v":0},{"$f":"IFERROR(IF(Gerar_Upload!G2471<44,REPT(0,44-LEN(Gerar_Upload!G2471))&Gerar_Upload!G2471,Gerar_Upload!G2471),\"erro\")","v":"00000000000000000000000000000000000000000000"}]
[{"$f":"IFERROR(LEFT(Gerar_Upload!A2472,120),\"erro\")","v":""},{"$f":"IFERROR(SUBSTITUTE(SUBSTITUTE(SUBSTITUTE(Gerar_Upload!B2472,\".\",\"\"),\"-\",\"\"),\"/\",\"\"),\"erro\")","v":""},{"$f":"IFERROR(Gerar_Upload!C2472,\"erro\")","v":0},{"$f":"IFERROR(Gerar_Upload!D2472,\"erro\")","v":0},{"$f":"IFERROR(DATE(YEAR(Gerar_Upload!E2472),MONTH(Gerar_Upload!E2472),DAY(Gerar_Upload!E2472)),\"erro\")","v":"00:00:00"},{"$f":"IFERROR(Gerar_Upload!F2472,\"erro\")","v":0},{"$f":"IFERROR(IF(Gerar_Upload!G2472<44,REPT(0,44-LEN(Gerar_Upload!G2472))&Gerar_Upload!G2472,Gerar_Upload!G2472),\"erro\")","v":"00000000000000000000000000000000000000000000"}]
[{"$f":"IFERROR(LEFT(Gerar_Upload!A2473,120),\"erro\")","v":""},{"$f":"IFERROR(SUBSTITUTE(SUBSTITUTE(SUBSTITUTE(Gerar_Upload!B2473,\".\",\"\"),\"-\",\"\"),\"/\",\"\"),\"erro\")","v":""},{"$f":"IFERROR(Gerar_Upload!C2473,\"erro\")","v":0},{"$f":"IFERROR(Gerar_Upload!D2473,\"erro\")","v":0},{"$f":"IFERROR(DATE(YEAR(Gerar_Upload!E2473),MONTH(Gerar_Upload!E2473),DAY(Gerar_Upload!E2473)),\"erro\")","v":"00:00:00"},{"$f":"IFERROR(Gerar_Upload!F2473,\"erro\")","v":0},{"$f":"IFERROR(IF(Gerar_Upload!G2473<44,REPT(0,44-LEN(Gerar_Upload!G2473))&Gerar_Upload!G2473,Gerar_Upload!G2473),\"erro\")","v":"00000000000000000000000000000000000000000000"}]
[{"$f":"IFERROR(LEFT(Gerar_Upload!A2474,120),\"erro\")","v":""},{"$f":"IFERROR(SUBSTITUTE(SUBSTITUTE(SUBSTITUTE(Gerar_Upload!B2474,\".\",\"\"),\"-\",\"\"),\"/\",\"\"),\"erro\")","v":""},{"$f":"IFERROR(Gerar_Upload!C2474,\"erro\")","v":0},{"$f":"IFERROR(Gerar_Upload!D2474,\"erro\")","v":0},{"$f":"IFERROR(DATE(YEAR(Gerar_Upload!E2474),MONTH(Gerar_Upload!E2474),DAY(Gerar_Upload!E2474)),\"erro\")","v":"00:00:00"},{"$f":"IFERROR(Gerar_Upload!F2474,\"erro\")","v":0},{"$f":"IFERROR(IF(Gerar_Upload!G2474<44,REPT(0,44-LEN(Gerar_Upload!G2474))&Gerar_Upload!G2474,Gerar_Upload!G2474),\"erro\")","v":"00000000000000000000000000000000000000000000"}]
[{"$f":"IFERROR(LEFT(Gerar_Upload!A2475,120),\"erro\")","v":""},{"$f":"IFERROR(SUBSTITUTE(SUBSTITUTE(SUBSTITUTE(Gerar_Upload!B2475,\".\",\"\"),\"-\",\"\"),\"/\",\"\"),\"erro\")","v":""},{"$f":"IFERROR(Gerar_Upload!C2475,\"erro\")","v":0},{"$f":"IFERROR(Gerar_Upload!D2475,\"erro\")","v":0},{"$f":"IFERROR(DATE(YEAR(Gerar_Upload!E2475),MONTH(Gerar_Upload!E2475),DAY(Gerar_Upload!E2475)),\"erro\")","v":"00:00:00"},{"$f":"IFERROR(Gerar_Upload!F2475,\"erro\")","v":0},{"$f":"IFERROR(IF(Gerar_Upload!G2475<44,REPT(0,44-LEN(Gerar_Upload!G2475))&Gerar_Upload!G2475,Gerar_Upload!G2475),\"erro\")","v":"00000000000000000000000000000000000000000000"}]
[{"$f":"IFERROR(LEFT(Gerar_Upload!A2476,120),\"erro\")","v":""},{"$f":"IFERROR(SUBSTITUTE(SUBSTITUTE(SUBSTITUTE(Gerar_Upload!B2476,\".\",\"\"),\"-\",\"\"),\"/\",\"\"),\"erro\")","v":""},{"$f":"IFERROR(Gerar_Upload!C2476,\"erro\")","v":0},{"$f":"IFERROR(Gerar_Upload!D2476,\"erro\")","v":0},{"$f":"IFERROR(DATE(YEAR(Gerar_Upload!E2476),MONTH(Gerar_Upload!E2476),DAY(Gerar_Upload!E2476)),\"erro\")","v":"00:00:00"},{"$f":"IFERROR(Gerar_Upload!F2476,\"erro\")","v":0},{"$f":"IFERROR(IF(Gerar_Upload!G2476<44,REPT(0,44-LEN(Gerar_Upload!G2476))&Gerar_Upload!G2476,Gerar_Upload!G2476),\"erro\")","v":"00000000000000000000000000000000000000000000"}]
[{"$f":"IFERROR(LEFT(Gerar_Upload!A2477,120),\"erro\")","v":""},{"$f":"IFERROR(SUBSTITUTE(SUBSTITUTE(SUBSTITUTE(Gerar_Upload!B2477,\".\",\"\"),\"-\",\"\"),\"/\",\"\"),\"erro\")","v":""},{"$f":"IFERROR(Gerar_Upload!C2477,\"erro\")","v":0},{"$f":"IFERROR(Gerar_Upload!D2477,\"erro\")","v":0},{"$f":"IFERROR(DATE(YEAR(Gerar_Upload!E2477),MONTH(Gerar_Upload!E2477),DAY(Gerar_Upload!E2477)),\"erro\")","v":"00:00:00"},{"$f":"IFERROR(Gerar_Upload!F2477,\"erro\")","v":0},{"$f":"IFERROR(IF(Gerar_Upload!G2477<44,REPT(0,44-LEN(Gerar_Upload!G2477))&Gerar_Upload!G2477,Gerar_Upload!G2477),\"erro\")","v":"00000000000000000000000000000000000000000000"}]
[{"$f":"IFERROR(LEFT(Gerar_Upload!A2478,120),\"erro\")","v":""},{"$f":"IFERROR(SUBSTITUTE(SUBSTITUTE(SUBSTITUTE(Gerar_Upload!B2478,\".\",\"\"),\"-\",\"\"),\"/\",\"\"),\"erro\")","v":""},{"$f":"IFERROR(Gerar_Upload!C2478,\"erro\")","v":0},{"$f":"IFERROR(Gerar_Upload!D2478,\"erro\")","v":0},{"$f":"IFERROR(DATE(YEAR(Gerar_Upload!E2478),MONTH(Gerar_Upload!E2478),DAY(Gerar_Upload!E2478)),\"erro\")","v":"00:00:00"},{"$f":"IFERROR(Gerar_Upload!F2478,\"erro\")","v":0},{"$f":"IFERROR(IF(Gerar_Upload!G2478<44,REPT(0,44-LEN(Gerar_Upload!G2478))&Gerar_Upload!G2478,Gerar_Upload!G2478),\"erro\")","v":"00000000000000000000000000000000000000000000"}]
[{"$f":"IFERROR(LEFT(Gerar_Upload!A2479,120),\"erro\")","v":""},{"$f":"IFERROR(SUBSTITUTE(SUBSTITUTE(SUBSTITUTE(Gerar_Upload!B2479,\".\",\"\"),\"-\",\"\"),\"/\",\"\"),\"erro\")","v":""},{"$f":"IFERROR(Gerar_Upload!C2479,\"erro\")","v":0},{"$f":"IFERROR(Gerar_Upload!D2479,\"erro\")","v":0},{"$f":"IFERROR(DATE(YEAR(Gerar_Upload!E2479),MONTH(Gerar_Upload!E2479),DAY(Gerar_Upload!E2479)),\"erro\")","v":"00:00:00"},{"$f":"IFERROR(Gerar_Upload!F2479,\"erro\")","v":0},{"$f":"IFERROR(IF(Gerar_Upload!G2479<44,REPT(0,44-LEN(Gerar_Upload!G2479))&Gerar_Upload!G2479,Gerar_Upload!G2479),\"erro\")","v":"00000000000000000000000000000000000000000000"}]
[{"$f":"IFERROR(LEFT(Gerar_Upload!A2480,120),\"erro\")","v":""},{"$f":"IFERROR(SUBSTITUTE(SUBSTITUTE(SUBSTITUTE(Gerar_Upload!B2480,\".\",\"\"),\"-\",\"\"),\"/\",\"\"),\"erro\")","v":""},{"$f":"IFERROR(Gerar_Upload!C2480,\"erro\")","v":0},{"$f":"IFERROR(Gerar_Upload!D2480,\"erro\")","v":0},{"$f":"IFERROR(DATE(YEAR(Gerar_Upload!E2480),MONTH(Gerar_Upload!E2480),DAY(Gerar_Upload!E2480)),\"erro\")","v":"00:00:00"},{"$f":"IFERROR(Gerar_Upload!F2480,\"erro\")","v":0},{"$f":"IFERROR(IF(Gerar_Upload!G2480<44,REPT(0,44-LEN(Gerar_Upload!G2480))&Gerar_Upload!G2480,Gerar_Upload!G2480),\"erro\")","v":"00000000000000000000000000000000000000000000"}]
[{"$f":"IFERROR(LEFT(Gerar_Upload!A2481,120),\"erro\")","v":""},{"$f":"IFERROR(SUBSTITUTE(SUBSTITUTE(SUBSTITUTE(Gerar_Upload!B2481,\".\",\"\"),\"-\",\"\"),\"/\",\"\"),\"erro\")","v":""},{"$f":"IFERROR(Gerar_Upload!C2481,\"erro\")","v":0},{"$f":"IFERROR(Gerar_Upload!D2481,\"erro\")","v":0},{"$f":"IFERROR(DATE(YEAR(Gerar_Upload!E2481),MONTH(Gerar_Upload!E2481),DAY(Gerar_Upload!E2481)),\"erro\")","v":"00:00:00"},{"$f":"IFERROR(Gerar_Upload!F2481,\"erro\")","v":0},{"$f":"IFERROR(IF(Gerar_Upload!G2481<44,REPT(0,44-LEN(Gerar_Upload!G2481))&Gerar_Upload!G2481,Gerar_Upload!G2481),\"erro\")","v":"00000000000000000000000000000000000000000000"}]
[{"$f":"IFERROR(LEFT(Gerar_Upload!A2482,120),\"erro\")","v":""},{"$f":"IFERROR(SUBSTITUTE(SUBSTITUTE(SUBSTITUTE(Gerar_Upload!B2482,\".\",\"\"),\"-\",\"\"),\"/\",\"\"),\"erro\")","v":""},{"$f":"IFERROR(Gerar_Upload!C2482,\"erro\")","v":0},{"$f":"IFERROR(Gerar_Upload!D2482,\"erro\")","v":0},{"$f":"IFERROR(DATE(YEAR(Gerar_Upload!E2482),MONTH(Gerar_Upload!E2482),DAY(Gerar_Upload!E2482)),\"erro\")","v":"00:00:00"},{"$f":"IFERROR(Gerar_Upload!F2482,\"erro\")","v":0},{"$f":"IFERROR(IF(Gerar_Upload!G2482<44,REPT(0,44-LEN(Gerar_Upload!G2482))&Gerar_Upload!G2482,Gerar_Upload!G2482),\"erro\")","v":"00000000000000000000000000000000000000000000"}]
[{"$f":"IFERROR(LEFT(Gerar_Upload!A2483,120),\"erro\")","v":""},{"$f":"IFERROR(SUBSTITUTE(SUBSTITUTE(SUBSTITUTE(Gerar_Upload!B2483,\".\",\"\"),\"-\",\"\"),\"/\",\"\"),\"erro\")","v":""},{"$f":"IFERROR(Gerar_Upload!C2483,\"erro\")","v":0},{"$f":"IFERROR(Gerar_Upload!D2483,\"erro\")","v":0},{"$f":"IFERROR(DATE(YEAR(Gerar_Upload!E2483),MONTH(Gerar_Upload!E2483),DAY(Gerar_Upload!E2483)),\"erro\")","v":"00:00:00"},{"$f":"IFERROR(Gerar_Upload!F2483,\"erro\")","v":0},{"$f":"IFERROR(IF(Gerar_Upload!G2483<44,REPT(0,44-LEN(Gerar_Upload!G2483))&Gerar_Upload!G2483,Gerar_Upload!G2483),\"erro\")","v":"00000000000000000000000000000000000000000000"}]
[{"$f":"IFERROR(LEFT(Gerar_Upload!A2484,120),\"erro\")","v":""},{"$f":"IFERROR(SUBSTITUTE(SUBSTITUTE(SUBSTITUTE(Gerar_Upload!B2484,\".\",\"\"),\"-\",\"\"),\"/\",\"\"),\"erro\")","v":""},{"$f":"IFERROR(Gerar_Upload!C2484,\"erro\")","v":0},{"$f":"IFERROR(Gerar_Upload!D2484,\"erro\")","v":0},{"$f":"IFERROR(DATE(YEAR(Gerar_Upload!E2484),MONTH(Gerar_Upload!E2484),DAY(Gerar_Upload!E2484)),\"erro\")","v":"00:00:00"},{"$f":"IFERROR(Gerar_Upload!F2484,\"erro\")","v":0},{"$f":"IFERROR(IF(Gerar_Upload!G2484<44,REPT(0,44-LEN(Gerar_Upload!G2484))&Gerar_Upload!G2484,Gerar_Upload!G2484),\"erro\")","v":"00000000000000000000000000000000000000000000"}]
[{"$f":"IFERROR(LEFT(Gerar_Upload!A2485,120),\"erro\")","v":""},{"$f":"IFERROR(SUBSTITUTE(SUBSTITUTE(SUBSTITUTE(Gerar_Upload!B2485,\".\",\"\"),\"-\",\"\"),\"/\",\"\"),\"erro\")","v":""},{"$f":"IFERROR(Gerar_Upload!C2485,\"erro\")","v":0},{"$f":"IFERROR(Gerar_Upload!D2485,\"erro\")","v":0},{"$f":"IFERROR(DATE(YEAR(Gerar_Upload!E2485),MONTH(Gerar_Upload!E2485),DAY(Gerar_Upload!E2485)),\"erro\")","v":"00:00:00"},{"$f":"IFERROR(Gerar_Upload!F2485,\"erro\")","v":0},{"$f":"IFERROR(IF(Gerar_Upload!G2485<44,REPT(0,44-LEN(Gerar_Upload!G2485))&Gerar_Upload!G2485,Gerar_Upload!G2485),\"erro\")","v":"00000000000000000000000000000000000000000000"}]
[{"$f":"IFERROR(LEFT(Gerar_Upload!A2486,120),\"erro\")","v":""},{"$f":"IFERROR(SUBSTITUTE(SUBSTITUTE(SUBSTITUTE(Gerar_Upload!B2486,\".\",\"\"),\"-\",\"\"),\"/\",\"\"),\"erro\")","v":""},{"$f":"IFERROR(Gerar_Upload!C2486,\"erro\")","v":0},{"$f":"IFERROR(Gerar_Upload!D2486,\"erro\")","v":0},{"$f":"IFERROR(DATE(YEAR(Gerar_Upload!E2486),MONTH(Gerar_Upload!E2486),DAY(Gerar_Upload!E2486)),\"erro\")","v":"00:00:00"},{"$f":"IFERROR(Gerar_Upload!F2486,\"erro\")","v":0},{"$f":"IFERROR(IF(Gerar_Upload!G2486<44,REPT(0,44-LEN(Gerar_Upload!G2486))&Gerar_Upload!G2486,Gerar_Upload!G2486),\"erro\")","v":"00000000000000000000000000000000000000000000"}]
[{"$f":"IFERROR(LEFT(Gerar_Upload!A2487,120),\"erro\")","v":""},{"$f":"IFERROR(SUBSTITUTE(SUBSTITUTE(SUBSTITUTE(Gerar_Upload!B2487,\".\",\"\"),\"-\",\"\"),\"/\",\"\"),\"erro\")","v":""},{"$f":"IFERROR(Gerar_Upload!C2487,\"erro\")","v":0},{"$f":"IFERROR(Gerar_Upload!D2487,\"erro\")","v":0},{"$f":"IFERROR(DATE(YEAR(Gerar_Upload!E2487),MONTH(Gerar_Upload!E2487),DAY(Gerar_Upload!E2487)),\"erro\")","v":"00:00:00"},{"$f":"IFERROR(Gerar_Upload!F2487,\"erro\")","v":0},{"$f":"IFERROR(IF(Gerar_Upload!G2487<44,REPT(0,44-LEN(Gerar_Upload!G2487))&Gerar_Upload!G2487,Gerar_Upload!G2487),\"erro\")","v":"00000000000000000000000000000000000000000000"}]
[{"$f":"IFERROR(LEFT(Gerar_Upload!A2488,120),\"erro\")","v":""},{"$f":"IFERROR(SUBSTITUTE(SUBSTITUTE(SUBSTITUTE(Gerar_Upload!B2488,\".\",\"\"),\"-\",\"\"),\"/\",\"\"),\"erro\")","v":""},{"$f":"IFERROR(Gerar_Upload!C2488,\"erro\")","v":0},{"$f":"IFERROR(Gerar_Upload!D2488,\"erro\")","v":0},{"$f":"IFERROR(DATE(YEAR(Gerar_Upload!E2488),MONTH(Gerar_Upload!E2488),DAY(Gerar_Upload!E2488)),\"erro\")","v":"00:00:00"},{"$f":"IFERROR(Gerar_Upload!F2488,\"erro\")","v":0},{"$f":"IFERROR(IF(Gerar_Upload!G2488<44,REPT(0,44-LEN(Gerar_Upload!G2488))&Gerar_Upload!G2488,Gerar_Upload!G2488),\"erro\")","v":"00000000000000000000000000000000000000000000"}]
[{"$f":"IFERROR(LEFT(Gerar_Upload!A2489,120),\"erro\")","v":""},{"$f":"IFERROR(SUBSTITUTE(SUBSTITUTE(SUBSTITUTE(Gerar_Upload!B2489,\".\",\"\"),\"-\",\"\"),\"/\",\"\"),\"erro\")","v":""},{"$f":"IFERROR(Gerar_Upload!C2489,\"erro\")","v":0},{"$f":"IFERROR(Gerar_Upload!D2489,\"erro\")","v":0},{"$f":"IFERROR(DATE(YEAR(Gerar_Upload!E2489),MONTH(Gerar_Upload!E2489),DAY(Gerar_Upload!E2489)),\"erro\")","v":"00:00:00"},{"$f":"IFERROR(Gerar_Upload!F2489,\"erro\")","v":0},{"$f":"IFERROR(IF(Gerar_Upload!G2489<44,REPT(0,44-LEN(Gerar_Upload!G2489))&Gerar_Upload!G2489,Gerar_Upload!G2489),\"erro\")","v":"00000000000000000000000000000000000000000000"}]
[{"$f":"IFERROR(LEFT(Gerar_Upload!A2490,120),\"erro\")","v":""},{"$f":"IFERROR(SUBSTITUTE(SUBSTITUTE(SUBSTITUTE(Gerar_Upload!B2490,\".\",\"\"),\"-\",\"\"),\"/\",\"\"),\"erro\")","v":""},{"$f":"IFERROR(Gerar_Upload!C2490,\"erro\")","v":0},{"$f":"IFERROR(Gerar_Upload!D2490,\"erro\")","v":0},{"$f":"IFERROR(DATE(YEAR(Gerar_Upload!E2490),MONTH(Gerar_Upload!E2490),DAY(Gerar_Upload!E2490)),\"erro\")","v":"00:00:00"},{"$f":"IFERROR(Gerar_Upload!F2490,\"erro\")","v":0},{"$f":"IFERROR(IF(Gerar_Upload!G2490<44,REPT(0,44-LEN(Gerar_Upload!G2490))&Gerar_Upload!G2490,Gerar_Upload!G2490),\"erro\")","v":"00000000000000000000000000000000000000000000"}]
[{"$f":"IFERROR(LEFT(Gerar_Upload!A2491,120),\"erro\")","v":""},{"$f":"IFERROR(SUBSTITUTE(SUBSTITUTE(SUBSTITUTE(Gerar_Upload!B2491,\".\",\"\"),\"-\",\"\"),\"/\",\"\"),\"erro\")","v":""},{"$f":"IFERROR(Gerar_Upload!C2491,\"erro\")","v":0},{"$f":"IFERROR(Gerar_Upload!D2491,\"erro\")","v":0},{"$f":"IFERROR(DATE(YEAR(Gerar_Upload!E2491),MONTH(Gerar_Upload!E2491),DAY(Gerar_Upload!E2491)),\"erro\")","v":"00:00:00"},{"$f":"IFERROR(Gerar_Upload!F2491,\"erro\")","v":0},{"$f":"IFERROR(IF(Gerar_Upload!G2491<44,REPT(0,44-LEN(Gerar_Upload!G2491))&Gerar_Upload!G2491,Gerar_Upload!G2491),\"erro\")","v":"00000000000000000000000000000000000000000000"}]
[{"$f":"IFERROR(LEFT(Gerar_Upload!A2492,120),\"erro\")","v":""},{"$f":"IFERROR(SUBSTITUTE(SUBSTITUTE(SUBSTITUTE(Gerar_Upload!B2492,\".\",\"\"),\"-\",\"\"),\"/\",\"\"),\"erro\")","v":""},{"$f":"IFERROR(Gerar_Upload!C2492,\"erro\")","v":0},{"$f":"IFERROR(Gerar_Upload!D2492,\"erro\")","v":0},{"$f":"IFERROR(DATE(YEAR(Gerar_Upload!E2492),MONTH(Gerar_Upload!E2492),DAY(Gerar_Upload!E2492)),\"erro\")","v":"00:00:00"},{"$f":"IFERROR(Gerar_Upload!F2492,\"erro\")","v":0},{"$f":"IFERROR(IF(Gerar_Upload!G2492<44,REPT(0,44-LEN(Gerar_Upload!G2492))&Gerar_Upload!G2492,Gerar_Upload!G2492),\"erro\")","v":"00000000000000000000000000000000000000000000"}]
[{"$f":"IFERROR(LEFT(Gerar_Upload!A2493,120),\"erro\")","v":""},{"$f":"IFERROR(SUBSTITUTE(SUBSTITUTE(SUBSTITUTE(Gerar_Upload!B2493,\".\",\"\"),\"-\",\"\"),\"/\",\"\"),\"erro\")","v":""},{"$f":"IFERROR(Gerar_Upload!C2493,\"erro\")","v":0},{"$f":"IFERROR(Gerar_Upload!D2493,\"erro\")","v":0},{"$f":"IFERROR(DATE(YEAR(Gerar_Upload!E2493),MONTH(Gerar_Upload!E2493),DAY(Gerar_Upload!E2493)),\"erro\")","v":"00:00:00"},{"$f":"IFERROR(Gerar_Upload!F2493,\"erro\")","v":0},{"$f":"IFERROR(IF(Gerar_Upload!G2493<44,REPT(0,44-LEN(Gerar_Upload!G2493))&Gerar_Upload!G2493,Gerar_Upload!G2493),\"erro\")","v":"00000000000000000000000000000000000000000000"}]
[{"$f":"IFERROR(LEFT(Gerar_Upload!A2494,120),\"erro\")","v":""},{"$f":"IFERROR(SUBSTITUTE(SUBSTITUTE(SUBSTITUTE(Gerar_Upload!B2494,\".\",\"\"),\"-\",\"\"),\"/\",\"\"),\"erro\")","v":""},{"$f":"IFERROR(Gerar_Upload!C2494,\"erro\")","v":0},{"$f":"IFERROR(Gerar_Upload!D2494,\"erro\")","v":0},{"$f":"IFERROR(DATE(YEAR(Gerar_Upload!E2494),MONTH(Gerar_Upload!E2494),DAY(Gerar_Upload!E2494)),\"erro\")","v":"00:00:00"},{"$f":"IFERROR(Gerar_Upload!F2494,\"erro\")","v":0},{"$f":"IFERROR(IF(Gerar_Upload!G2494<44,REPT(0,44-LEN(Gerar_Upload!G2494))&Gerar_Upload!G2494,Gerar_Upload!G2494),\"erro\")","v":"00000000000000000000000000000000000000000000"}]
[{"$f":"IFERROR(LEFT(Gerar_Upload!A2495,120),\"erro\")","v":""},{"$f":"IFERROR(SUBSTITUTE(SUBSTITUTE(SUBSTITUTE(Gerar_Upload!B2495,\".\",\"\"),\"-\",\"\"),\"/\",\"\"),\"erro\")","v":""},{"$f":"IFERROR(Gerar_Upload!C2495,\"erro\")","v":0},{"$f":"IFERROR(Gerar_Upload!D2495,\"erro\")","v":0},{"$f":"IFERROR(DATE(YEAR(Gerar_Upload!E2495),MONTH(Gerar_Upload!E2495),DAY(Gerar_Upload!E2495)),\"erro\")","v":"00:00:00"},{"$f":"IFERROR(Gerar_Upload!F2495,\"erro\")","v":0},{"$f":"IFERROR(IF(Gerar_Upload!G2495<44,REPT(0,44-LEN(Gerar_Upload!G2495))&Gerar_Upload!G2495,Gerar_Upload!G2495),\"erro\")","v":"00000000000000000000000000000000000000000000"}]
[{"$f":"IFERROR(LEFT(Gerar_Upload!A2496,120),\"erro\")","v":""},{"$f":"IFERROR(SUBSTITUTE(SUBSTITUTE(SUBSTITUTE(Gerar_Upload!B2496,\".\",\"\"),\"-\",\"\"),\"/\",\"\"),\"erro\")","v":""},{"$f":"IFERROR(Gerar_Upload!C2496,\"erro\")","v":0},{"$f":"IFERROR(Gerar_Upload!D2496,\"erro\")","v":0},{"$f":"IFERROR(DATE(YEAR(Gerar_Upload!E2496),MONTH(Gerar_Upload!E2496),DAY(Gerar_Upload!E2496)),\"erro\")","v":"00:00:00"},{"$f":"IFERROR(Gerar_Upload!F2496,\"erro\")","v":0},{"$f":"IFERROR(IF(Gerar_Upload!G2496<44,REPT(0,44-LEN(Gerar_Upload!G2496))&Gerar_Upload!G2496,Gerar_Upload!G2496),\"erro\")","v":"00000000000000000000000000000000000000000000"}]
[{"$f":"IFERROR(LEFT(Gerar_Upload!A2497,120),\"erro\")","v":""},{"$f":"IFERROR(SUBSTITUTE(SUBSTITUTE(SUBSTITUTE(Gerar_Upload!B2497,\".\",\"\"),\"-\",\"\"),\"/\",\"\"),\"erro\")","v":""},{"$f":"IFERROR(Gerar_Upload!C2497,\"erro\")","v":0},{"$f":"IFERROR(Gerar_Upload!D2497,\"erro\")","v":0},{"$f":"IFERROR(DATE(YEAR(Gerar_Upload!E2497),MONTH(Gerar_Upload!E2497),DAY(Gerar_Upload!E2497)),\"erro\")","v":"00:00:00"},{"$f":"IFERROR(Gerar_Upload!F2497,\"erro\")","v":0},{"$f":"IFERROR(IF(Gerar_Upload!G2497<44,REPT(0,44-LEN(Gerar_Upload!G2497))&Gerar_Upload!G2497,Gerar_Upload!G2497),\"erro\")","v":"00000000000000000000000000000000000000000000"}]
[{"$f":"IFERROR(LEFT(Gerar_Upload!A2498,120),\"erro\")","v":""},{"$f":"IFERROR(SUBSTITUTE(SUBSTITUTE(SUBSTITUTE(Gerar_Upload!B2498,\".\",\"\"),\"-\",\"\"),\"/\",\"\"),\"erro\")","v":""},{"$f":"IFERROR(Gerar_Upload!C2498,\"erro\")","v":0},{"$f":"IFERROR(Gerar_Upload!D2498,\"erro\")","v":0},{"$f":"IFERROR(DATE(YEAR(Gerar_Upload!E2498),MONTH(Gerar_Upload!E2498),DAY(Gerar_Upload!E2498)),\"erro\")","v":"00:00:00"},{"$f":"IFERROR(Gerar_Upload!F2498,\"erro\")","v":0},{"$f":"IFERROR(IF(Gerar_Upload!G2498<44,REPT(0,44-LEN(Gerar_Upload!G2498))&Gerar_Upload!G2498,Gerar_Upload!G2498),\"erro\")","v":"00000000000000000000000000000000000000000000"}]
[{"$f":"IFERROR(LEFT(Gerar_Upload!A2499,120),\"erro\")","v":""},{"$f":"IFERROR(SUBSTITUTE(SUBSTITUTE(SUBSTITUTE(Gerar_Upload!B2499,\".\",\"\"),\"-\",\"\"),\"/\",\"\"),\"erro\")","v":""},{"$f":"IFERROR(Gerar_Upload!C2499,\"erro\")","v":0},{"$f":"IFERROR(Gerar_Upload!D2499,\"erro\")","v":0},{"$f":"IFERROR(DATE(YEAR(Gerar_Upload!E2499),MONTH(Gerar_Upload!E2499),DAY(Gerar_Upload!E2499)),\"erro\")","v":"00:00:00"},{"$f":"IFERROR(Gerar_Upload!F2499,\"erro\")","v":0},{"$f":"IFERROR(IF(Gerar_Upload!G2499<44,REPT(0,44-LEN(Gerar_Upload!G2499))&Gerar_Upload!G2499,Gerar_Upload!G2499),\"erro\")","v":"00000000000000000000000000000000000000000000"}]
[{"$f":"IFERROR(LEFT(Gerar_Upload!A2500,120),\"erro\")","v":""},{"$f":"IFERROR(SUBSTITUTE(SUBSTITUTE(SUBSTITUTE(Gerar_Upload!B2500,\".\",\"\"),\"-\",\"\"),\"/\",\"\"),\"erro\")","v":""},{"$f":"IFERROR(Gerar_Upload!C2500,\"erro\")","v":0},{"$f":"IFERROR(Gerar_Upload!D2500,\"erro\")","v":0},{"$f":"IFERROR(DATE(YEAR(Gerar_Upload!E2500),MONTH(Gerar_Upload!E2500),DAY(Gerar_Upload!E2500)),\"erro\")","v":"00:00:00"},{"$f":"IFERROR(Gerar_Upload!F2500,\"erro\")","v":0},{"$f":"IFERROR(IF(Gerar_Upload!G2500<44,REPT(0,44-LEN(Gerar_Upload!G2500))&Gerar_Upload!G2500,Gerar_Upload!G2500),\"erro\")","v":"00000000000000000000000000000000000000000000"}]
[{"$f":"IFERROR(LEFT(Gerar_Upload!A2501,120),\"erro\")","v":""},{"$f":"IFERROR(SUBSTITUTE(SUBSTITUTE(SUBSTITUTE(Gerar_Upload!B2501,\".\",\"\"),\"-\",\"\"),\"/\",\"\"),\"erro\")","v":""},{"$f":"IFERROR(Gerar_Upload!C2501,\"erro\")","v":0},{"$f":"IFERROR(Gerar_Upload!D2501,\"erro\")","v":0},{"$f":"IFERROR(DATE(YEAR(Gerar_Upload!E2501),MONTH(Gerar_Upload!E2501),DAY(Gerar_Upload!E2501)),\"erro\")","v":"00:00:00"},{"$f":"IFERROR(Gerar_Upload!F2501,\"erro\")","v":0},{"$f":"IFERROR(IF(Gerar_Upload!G2501<44,REPT(0,44-LEN(Gerar_Upload!G2501))&Gerar_Upload!G2501,Gerar_Upload!G2501),\"erro\")","v":"00000000000000000000000000000000000000000000"}]
[{"$f":"IFERROR(LEFT(Gerar_Upload!A2502,120),\"erro\")","v":""},{"$f":"IFERROR(SUBSTITUTE(SUBSTITUTE(SUBSTITUTE(Gerar_Upload!B2502,\".\",\"\"),\"-\",\"\"),\"/\",\"\"),\"erro\")","v":""},{"$f":"IFERROR(Gerar_Upload!C2502,\"erro\")","v":0},{"$f":"IFERROR(Gerar_Upload!D2502,\"erro\")","v":0},{"$f":"IFERROR(DATE(YEAR(Gerar_Upload!E2502),MONTH(Gerar_Upload!E2502),DAY(Gerar_Upload!E2502)),\"erro\")","v":"00:00:00"},{"$f":"IFERROR(Gerar_Upload!F2502,\"erro\")","v":0},{"$f":"IFERROR(IF(Gerar_Upload!G2502<44,REPT(0,44-LEN(Gerar_Upload!G2502))&Gerar_Upload!G2502,Gerar_Upload!G2502),\"erro\")","v":"00000000000000000000000000000000000000000000"}]
[{"$f":"IFERROR(LEFT(Gerar_Upload!A2503,120),\"erro\")","v":""},{"$f":"IFERROR(SUBSTITUTE(SUBSTITUTE(SUBSTITUTE(Gerar_Upload!B2503,\".\",\"\"),\"-\",\"\"),\"/\",\"\"),\"erro\")","v":""},{"$f":"IFERROR(Gerar_Upload!C2503,\"erro\")","v":0},{"$f":"IFERROR(Gerar_Upload!D2503,\"erro\")","v":0},{"$f":"IFERROR(DATE(YEAR(Gerar_Upload!E2503),MONTH(Gerar_Upload!E2503),DAY(Gerar_Upload!E2503)),\"erro\")","v":"00:00:00"},{"$f":"IFERROR(Gerar_Upload!F2503,\"erro\")","v":0},{"$f":"IFERROR(IF(Gerar_Upload!G2503<44,REPT(0,44-LEN(Gerar_Upload!G2503))&Gerar_Upload!G2503,Gerar_Upload!G2503),\"erro\")","v":"00000000000000000000000000000000000000000000"}]
[{"$f":"IFERROR(LEFT(Gerar_Upload!A2504,120),\"erro\")","v":""},{"$f":"IFERROR(SUBSTITUTE(SUBSTITUTE(SUBSTITUTE(Gerar_Upload!B2504,\".\",\"\"),\"-\",\"\"),\"/\",\"\"),\"erro\")","v":""},{"$f":"IFERROR(Gerar_Upload!C2504,\"erro\")","v":0},{"$f":"IFERROR(Gerar_Upload!D2504,\"erro\")","v":0},{"$f":"IFERROR(DATE(YEAR(Gerar_Upload!E2504),MONTH(Gerar_Upload!E2504),DAY(Gerar_Upload!E2504)),\"erro\")","v":"00:00:00"},{"$f":"IFERROR(Gerar_Upload!F2504,\"erro\")","v":0},{"$f":"IFERROR(IF(Gerar_Upload!G2504<44,REPT(0,44-LEN(Gerar_Upload!G2504))&Gerar_Upload!G2504,Gerar_Upload!G2504),\"erro\")","v":"00000000000000000000000000000000000000000000"}]
[{"$f":"IFERROR(LEFT(Gerar_Upload!A2505,120),\"erro\")","v":""},{"$f":"IFERROR(SUBSTITUTE(SUBSTITUTE(SUBSTITUTE(Gerar_Upload!B2505,\".\",\"\"),\"-\",\"\"),\"/\",\"\"),\"erro\")","v":""},{"$f":"IFERROR(Gerar_Upload!C2505,\"erro\")","v":0},{"$f":"IFERROR(Gerar_Upload!D2505,\"erro\")","v":0},{"$f":"IFERROR(DATE(YEAR(Gerar_Upload!E2505),MONTH(Gerar_Upload!E2505),DAY(Gerar_Upload!E2505)),\"erro\")","v":"00:00:00"},{"$f":"IFERROR(Gerar_Upload!F2505,\"erro\")","v":0},{"$f":"IFERROR(IF(Gerar_Upload!G2505<44,REPT(0,44-LEN(Gerar_Upload!G2505))&Gerar_Upload!G2505,Gerar_Upload!G2505),\"erro\")","v":"00000000000000000000000000000000000000000000"}]
[{"$f":"IFERROR(LEFT(Gerar_Upload!A2506,120),\"erro\")","v":""},{"$f":"IFERROR(SUBSTITUTE(SUBSTITUTE(SUBSTITUTE(Gerar_Upload!B2506,\".\",\"\"),\"-\",\"\"),\"/\",\"\"),\"erro\")","v":""},{"$f":"IFERROR(Gerar_Upload!C2506,\"erro\")","v":0},{"$f":"IFERROR(Gerar_Upload!D2506,\"erro\")","v":0},{"$f":"IFERROR(DATE(YEAR(Gerar_Upload!E2506),MONTH(Gerar_Upload!E2506),DAY(Gerar_Upload!E2506)),\"erro\")","v":"00:00:00"},{"$f":"IFERROR(Gerar_Upload!F2506,\"erro\")","v":0},{"$f":"IFERROR(IF(Gerar_Upload!G2506<44,REPT(0,44-LEN(Gerar_Upload!G2506))&Gerar_Upload!G2506,Gerar_Upload!G2506),\"erro\")","v":"00000000000000000000000000000000000000000000"}]
[{"$f":"IFERROR(LEFT(Gerar_Upload!A2507,120),\"erro\")","v":""},{"$f":"IFERROR(SUBSTITUTE(SUBSTITUTE(SUBSTITUTE(Gerar_Upload!B2507,\".\",\"\"),\"-\",\"\"),\"/\",\"\"),\"erro\")","v":""},{"$f":"IFERROR(Gerar_Upload!C2507,\"erro\")","v":0},{"$f":"IFERROR(Gerar_Upload!D2507,\"erro\")","v":0},{"$f":"IFERROR(DATE(YEAR(Gerar_Upload!E2507),MONTH(Gerar_Upload!E2507),DAY(Gerar_Upload!E2507)),\"erro\")","v":"00:00:00"},{"$f":"IFERROR(Gerar_Upload!F2507,\"erro\")","v":0},{"$f":"IFERROR(IF(Gerar_Upload!G2507<44,REPT(0,44-LEN(Gerar_Upload!G2507))&Gerar_Upload!G2507,Gerar_Upload!G2507),\"erro\")","v":"00000000000000000000000000000000000000000000"}]
[{"$f":"IFERROR(LEFT(Gerar_Upload!A2508,120),\"erro\")","v":""},{"$f":"IFERROR(SUBSTITUTE(SUBSTITUTE(SUBSTITUTE(Gerar_Upload!B2508,\".\",\"\"),\"-\",\"\"),\"/\",\"\"),\"erro\")","v":""},{"$f":"IFERROR(Gerar_Upload!C2508,\"erro\")","v":0},{"$f":"IFERROR(Gerar_Upload!D2508,\"erro\")","v":0},{"$f":"IFERROR(DATE(YEAR(Gerar_Upload!E2508),MONTH(Gerar_Upload!E2508),DAY(Gerar_Upload!E2508)),\"erro\")","v":"00:00:00"},{"$f":"IFERROR(Gerar_Upload!F2508,\"erro\")","v":0},{"$f":"IFERROR(IF(Gerar_Upload!G2508<44,REPT(0,44-LEN(Gerar_Upload!G2508))&Gerar_Upload!G2508,Gerar_Upload!G2508),\"erro\")","v":"00000000000000000000000000000000000000000000"}]
[{"$f":"IFERROR(LEFT(Gerar_Upload!A2509,120),\"erro\")","v":""},{"$f":"IFERROR(SUBSTITUTE(SUBSTITUTE(SUBSTITUTE(Gerar_Upload!B2509,\".\",\"\"),\"-\",\"\"),\"/\",\"\"),\"erro\")","v":""},{"$f":"IFERROR(Gerar_Upload!C2509,\"erro\")","v":0},{"$f":"IFERROR(Gerar_Upload!D2509,\"erro\")","v":0},{"$f":"IFERROR(DATE(YEAR(Gerar_Upload!E2509),MONTH(Gerar_Upload!E2509),DAY(Gerar_Upload!E2509)),\"erro\")","v":"00:00:00"},{"$f":"IFERROR(Gerar_Upload!F2509,\"erro\")","v":0},{"$f":"IFERROR(IF(Gerar_Upload!G2509<44,REPT(0,44-LEN(Gerar_Upload!G2509))&Gerar_Upload!G2509,Gerar_Upload!G2509),\"erro\")","v":"00000000000000000000000000000000000000000000"}]
[{"$f":"IFERROR(LEFT(Gerar_Upload!A2510,120),\"erro\")","v":""},{"$f":"IFERROR(SUBSTITUTE(SUBSTITUTE(SUBSTITUTE(Gerar_Upload!B2510,\".\",\"\"),\"-\",\"\"),\"/\",\"\"),\"erro\")","v":""},{"$f":"IFERROR(Gerar_Upload!C2510,\"erro\")","v":0},{"$f":"IFERROR(Gerar_Upload!D2510,\"erro\")","v":0},{"$f":"IFERROR(DATE(YEAR(Gerar_Upload!E2510),MONTH(Gerar_Upload!E2510),DAY(Gerar_Upload!E2510)),\"erro\")","v":"00:00:00"},{"$f":"IFERROR(Gerar_Upload!F2510,\"erro\")","v":0},{"$f":"IFERROR(IF(Gerar_Upload!G2510<44,REPT(0,44-LEN(Gerar_Upload!G2510))&Gerar_Upload!G2510,Gerar_Upload!G2510),\"erro\")","v":"00000000000000000000000000000000000000000000"}]
[{"$f":"IFERROR(LEFT(Gerar_Upload!A2511,120),\"erro\")","v":""},{"$f":"IFERROR(SUBSTITUTE(SUBSTITUTE(SUBSTITUTE(Gerar_Upload!B2511,\".\",\"\"),\"-\",\"\"),\"/\",\"\"),\"erro\")","v":""},{"$f":"IFERROR(Gerar_Upload!C2511,\"erro\")","v":0},{"$f":"IFERROR(Gerar_Upload!D2511,\"erro\")","v":0},{"$f":"IFERROR(DATE(YEAR(Gerar_Upload!E2511),MONTH(Gerar_Upload!E2511),DAY(Gerar_Upload!E2511)),\"erro\")","v":"00:00:00"},{"$f":"IFERROR(Gerar_Upload!F2511,\"erro\")","v":0},{"$f":"IFERROR(IF(Gerar_Upload!G2511<44,REPT(0,44-LEN(Gerar_Upload!G2511))&Gerar_Upload!G2511,Gerar_Upload!G2511),\"erro\")","v":"00000000000000000000000000000000000000000000"}]
[{"$f":"IFERROR(LEFT(Gerar_Upload!A2512,120),\"erro\")","v":""},{"$f":"IFERROR(SUBSTITUTE(SUBSTITUTE(SUBSTITUTE(Gerar_Upload!B2512,\".\",\"\"),\"-\",\"\"),\"/\",\"\"),\"erro\")","v":""},{"$f":"IFERROR(Gerar_Upload!C2512,\"erro\")","v":0},{"$f":"IFERROR(Gerar_Upload!D2512,\"erro\")","v":0},{"$f":"IFERROR(DATE(YEAR(Gerar_Upload!E2512),MONTH(Gerar_Upload!E2512),DAY(Gerar_Upload!E2512)),\"erro\")","v":"00:00:00"},{"$f":"IFERROR(Gerar_Upload!F2512,\"erro\")","v":0},{"$f":"IFERROR(IF(Gerar_Upload!G2512<44,REPT(0,44-LEN(Gerar_Upload!G2512))&Gerar_Upload!G2512,Gerar_Upload!G2512),\"erro\")","v":"00000000000000000000000000000000000000000000"}]
[{"$f":"IFERROR(LEFT(Gerar_Upload!A2513,120),\"erro\")","v":""},{"$f":"IFERROR(SUBSTITUTE(SUBSTITUTE(SUBSTITUTE(Gerar_Upload!B2513,\".\",\"\"),\"-\",\"\"),\"/\",\"\"),\"erro\")","v":""},{"$f":"IFERROR(Gerar_Upload!C2513,\"erro\")","v":0},{"$f":"IFERROR(Gerar_Upload!D2513,\"erro\")","v":0},{"$f":"IFERROR(DATE(YEAR(Gerar_Upload!E2513),MONTH(Gerar_Upload!E2513),DAY(Gerar_Upload!E2513)),\"erro\")","v":"00:00:00"},{"$f":"IFERROR(Gerar_Upload!F2513,\"erro\")","v":0},{"$f":"IFERROR(IF(Gerar_Upload!G2513<44,REPT(0,44-LEN(Gerar_Upload!G2513))&Gerar_Upload!G2513,Gerar_Upload!G2513),\"erro\")","v":"00000000000000000000000000000000000000000000"}]
[{"$f":"IFERROR(LEFT(Gerar_Upload!A2514,120),\"erro\")","v":""},{"$f":"IFERROR(SUBSTITUTE(SUBSTITUTE(SUBSTITUTE(Gerar_Upload!B2514,\".\",\"\"),\"-\",\"\"),\"/\",\"\"),\"erro\")","v":""},{"$f":"IFERROR(Gerar_Upload!C2514,\"erro\")","v":0},{"$f":"IFERROR(Gerar_Upload!D2514,\"erro\")","v":0},{"$f":"IFERROR(DATE(YEAR(Gerar_Upload!E2514),MONTH(Gerar_Upload!E2514),DAY(Gerar_Upload!E2514)),\"erro\")","v":"00:00:00"},{"$f":"IFERROR(Gerar_Upload!F2514,\"erro\")","v":0},{"$f":"IFERROR(IF(Gerar_Upload!G2514<44,REPT(0,44-LEN(Gerar_Upload!G2514))&Gerar_Upload!G2514,Gerar_Upload!G2514),\"erro\")","v":"00000000000000000000000000000000000000000000"}]
[{"$f":"IFERROR(LEFT(Gerar_Upload!A2515,120),\"erro\")","v":""},{"$f":"IFERROR(SUBSTITUTE(SUBSTITUTE(SUBSTITUTE(Gerar_Upload!B2515,\".\",\"\"),\"-\",\"\"),\"/\",\"\"),\"erro\")","v":""},{"$f":"IFERROR(Gerar_Upload!C2515,\"erro\")","v":0},{"$f":"IFERROR(Gerar_Upload!D2515,\"erro\")","v":0},{"$f":"IFERROR(DATE(YEAR(Gerar_Upload!E2515),MONTH(Gerar_Upload!E2515),DAY(Gerar_Upload!E2515)),\"erro\")","v":"00:00:00"},{"$f":"IFERROR(Gerar_Upload!F2515,\"erro\")","v":0},{"$f":"IFERROR(IF(Gerar_Upload!G2515<44,REPT(0,44-LEN(Gerar_Upload!G2515))&Gerar_Upload!G2515,Gerar_Upload!G2515),\"erro\")","v":"00000000000000000000000000000000000000000000"}]
[{"$f":"IFERROR(LEFT(Gerar_Upload!A2516,120),\"erro\")","v":""},{"$f":"IFERROR(SUBSTITUTE(SUBSTITUTE(SUBSTITUTE(Gerar_Upload!B2516,\".\",\"\"),\"-\",\"\"),\"/\",\"\"),\"erro\")","v":""},{"$f":"IFERROR(Gerar_Upload!C2516,\"erro\")","v":0},{"$f":"IFERROR(Gerar_Upload!D2516,\"erro\")","v":0},{"$f":"IFERROR(DATE(YEAR(Gerar_Upload!E2516),MONTH(Gerar_Upload!E2516),DAY(Gerar_Upload!E2516)),\"erro\")","v":"00:00:00"},{"$f":"IFERROR(Gerar_Upload!F2516,\"erro\")","v":0},{"$f":"IFERROR(IF(Gerar_Upload!G2516<44,REPT(0,44-LEN(Gerar_Upload!G2516))&Gerar_Upload!G2516,Gerar_Upload!G2516),\"erro\")","v":"00000000000000000000000000000000000000000000"}]
[{"$f":"IFERROR(LEFT(Gerar_Upload!A2517,120),\"erro\")","v":""},{"$f":"IFERROR(SUBSTITUTE(SUBSTITUTE(SUBSTITUTE(Gerar_Upload!B2517,\".\",\"\"),\"-\",\"\"),\"/\",\"\"),\"erro\")","v":""},{"$f":"IFERROR(Gerar_Upload!C2517,\"erro\")","v":0},{"$f":"IFERROR(Gerar_Upload!D2517,\"erro\")","v":0},{"$f":"IFERROR(DATE(YEAR(Gerar_Upload!E2517),MONTH(Gerar_Upload!E2517),DAY(Gerar_Upload!E2517)),\"erro\")","v":"00:00:00"},{"$f":"IFERROR(Gerar_Upload!F2517,\"erro\")","v":0},{"$f":"IFERROR(IF(Gerar_Upload!G2517<44,REPT(0,44-LEN(Gerar_Upload!G2517))&Gerar_Upload!G2517,Gerar_Upload!G2517),\"erro\")","v":"00000000000000000000000000000000000000000000"}]
[{"$f":"IFERROR(LEFT(Gerar_Upload!A2518,120),\"erro\")","v":""},{"$f":"IFERROR(SUBSTITUTE(SUBSTITUTE(SUBSTITUTE(Gerar_Upload!B2518,\".\",\"\"),\"-\",\"\"),\"/\",\"\"),\"erro\")","v":""},{"$f":"IFERROR(Gerar_Upload!C2518,\"erro\")","v":0},{"$f":"IFERROR(Gerar_Upload!D2518,\"erro\")","v":0},{"$f":"IFERROR(DATE(YEAR(Gerar_Upload!E2518),MONTH(Gerar_Upload!E2518),DAY(Gerar_Upload!E2518)),\"erro\")","v":"00:00:00"},{"$f":"IFERROR(Gerar_Upload!F2518,\"erro\")","v":0},{"$f":"IFERROR(IF(Gerar_Upload!G2518<44,REPT(0,44-LEN(Gerar_Upload!G2518))&Gerar_Upload!G2518,Gerar_Upload!G2518),\"erro\")","v":"00000000000000000000000000000000000000000000"}]
[{"$f":"IFERROR(LEFT(Gerar_Upload!A2519,120),\"erro\")","v":""},{"$f":"IFERROR(SUBSTITUTE(SUBSTITUTE(SUBSTITUTE(Gerar_Upload!B2519,\".\",\"\"),\"-\",\"\"),\"/\",\"\"),\"erro\")","v":""},{"$f":"IFERROR(Gerar_Upload!C2519,\"erro\")","v":0},{"$f":"IFERROR(Gerar_Upload!D2519,\"erro\")","v":0},{"$f":"IFERROR(DATE(YEAR(Gerar_Upload!E2519),MONTH(Gerar_Upload!E2519),DAY(Gerar_Upload!E2519)),\"erro\")","v":"00:00:00"},{"$f":"IFERROR(Gerar_Upload!F2519,\"erro\")","v":0},{"$f":"IFERROR(IF(Gerar_Upload!G2519<44,REPT(0,44-LEN(Gerar_Upload!G2519))&Gerar_Upload!G2519,Gerar_Upload!G2519),\"erro\")","v":"00000000000000000000000000000000000000000000"}]
[{"$f":"IFERROR(LEFT(Gerar_Upload!A2520,120),\"erro\")","v":""},{"$f":"IFERROR(SUBSTITUTE(SUBSTITUTE(SUBSTITUTE(Gerar_Upload!B2520,\".\",\"\"),\"-\",\"\"),\"/\",\"\"),\"erro\")","v":""},{"$f":"IFERROR(Gerar_Upload!C2520,\"erro\")","v":0},{"$f":"IFERROR(Gerar_Upload!D2520,\"erro\")","v":0},{"$f":"IFERROR(DATE(YEAR(Gerar_Upload!E2520),MONTH(Gerar_Upload!E2520),DAY(Gerar_Upload!E2520)),\"erro\")","v":"00:00:00"},{"$f":"IFERROR(Gerar_Upload!F2520,\"erro\")","v":0},{"$f":"IFERROR(IF(Gerar_Upload!G2520<44,REPT(0,44-LEN(Gerar_Upload!G2520))&Gerar_Upload!G2520,Gerar_Upload!G2520),\"erro\")","v":"00000000000000000000000000000000000000000000"}]
[{"$f":"IFERROR(LEFT(Gerar_Upload!A2521,120),\"erro\")","v":""},{"$f":"IFERROR(SUBSTITUTE(SUBSTITUTE(SUBSTITUTE(Gerar_Upload!B2521,\".\",\"\"),\"-\",\"\"),\"/\",\"\"),\"erro\")","v":""},{"$f":"IFERROR(Gerar_Upload!C2521,\"erro\")","v":0},{"$f":"IFERROR(Gerar_Upload!D2521,\"erro\")","v":0},{"$f":"IFERROR(DATE(YEAR(Gerar_Upload!E2521),MONTH(Gerar_Upload!E2521),DAY(Gerar_Upload!E2521)),\"erro\")","v":"00:00:00"},{"$f":"IFERROR(Gerar_Upload!F2521,\"erro\")","v":0},{"$f":"IFERROR(IF(Gerar_Upload!G2521<44,REPT(0,44-LEN(Gerar_Upload!G2521))&Gerar_Upload!G2521,Gerar_Upload!G2521),\"erro\")","v":"00000000000000000000000000000000000000000000"}]
[{"$f":"IFERROR(LEFT(Gerar_Upload!A2522,120),\"erro\")","v":""},{"$f":"IFERROR(SUBSTITUTE(SUBSTITUTE(SUBSTITUTE(Gerar_Upload!B2522,\".\",\"\"),\"-\",\"\"),\"/\",\"\"),\"erro\")","v":""},{"$f":"IFERROR(Gerar_Upload!C2522,\"erro\")","v":0},{"$f":"IFERROR(Gerar_Upload!D2522,\"erro\")","v":0},{"$f":"IFERROR(DATE(YEAR(Gerar_Upload!E2522),MONTH(Gerar_Upload!E2522),DAY(Gerar_Upload!E2522)),\"erro\")","v":"00:00:00"},{"$f":"IFERROR(Gerar_Upload!F2522,\"erro\")","v":0},{"$f":"IFERROR(IF(Gerar_Upload!G2522<44,REPT(0,44-LEN(Gerar_Upload!G2522))&Gerar_Upload!G2522,Gerar_Upload!G2522),\"erro\")","v":"00000000000000000000000000000000000000000000"}]
[{"$f":"IFERROR(LEFT(Gerar_Upload!A2523,120),\"erro\")","v":""},{"$f":"IFERROR(SUBSTITUTE(SUBSTITUTE(SUBSTITUTE(Gerar_Upload!B2523,\".\",\"\"),\"-\",\"\"),\"/\",\"\"),\"erro\")","v":""},{"$f":"IFERROR(Gerar_Upload!C2523,\"erro\")","v":0},{"$f":"IFERROR(Gerar_Upload!D2523,\"erro\")","v":0},{"$f":"IFERROR(DATE(YEAR(Gerar_Upload!E2523),MONTH(Gerar_Upload!E2523),DAY(Gerar_Upload!E2523)),\"erro\")","v":"00:00:00"},{"$f":"IFERROR(Gerar_Upload!F2523,\"erro\")","v":0},{"$f":"IFERROR(IF(Gerar_Upload!G2523<44,REPT(0,44-LEN(Gerar_Upload!G2523))&Gerar_Upload!G2523,Gerar_Upload!G2523),\"erro\")","v":"00000000000000000000000000000000000000000000"}]
[{"$f":"IFERROR(LEFT(Gerar_Upload!A2524,120),\"erro\")","v":""},{"$f":"IFERROR(SUBSTITUTE(SUBSTITUTE(SUBSTITUTE(Gerar_Upload!B2524,\".\",\"\"),\"-\",\"\"),\"/\",\"\"),\"erro\")","v":""},{"$f":"IFERROR(Gerar_Upload!C2524,\"erro\")","v":0},{"$f":"IFERROR(Gerar_Upload!D2524,\"erro\")","v":0},{"$f":"IFERROR(DATE(YEAR(Gerar_Upload!E2524),MONTH(Gerar_Upload!E2524),DAY(Gerar_Upload!E2524)),\"erro\")","v":"00:00:00"},{"$f":"IFERROR(Gerar_Upload!F2524,\"erro\")","v":0},{"$f":"IFERROR(IF(Gerar_Upload!G2524<44,REPT(0,44-LEN(Gerar_Upload!G2524))&Gerar_Upload!G2524,Gerar_Upload!G2524),\"erro\")","v":"00000000000000000000000000000000000000000000"}]
[{"$f":"IFERROR(LEFT(Gerar_Upload!A2525,120),\"erro\")","v":""},{"$f":"IFERROR(SUBSTITUTE(SUBSTITUTE(SUBSTITUTE(Gerar_Upload!B2525,\".\",\"\"),\"-\",\"\"),\"/\",\"\"),\"erro\")","v":""},{"$f":"IFERROR(Gerar_Upload!C2525,\"erro\")","v":0},{"$f":"IFERROR(Gerar_Upload!D2525,\"erro\")","v":0},{"$f":"IFERROR(DATE(YEAR(Gerar_Upload!E2525),MONTH(Gerar_Upload!E2525),DAY(Gerar_Upload!E2525)),\"erro\")","v":"00:00:00"},{"$f":"IFERROR(Gerar_Upload!F2525,\"erro\")","v":0},{"$f":"IFERROR(IF(Gerar_Upload!G2525<44,REPT(0,44-LEN(Gerar_Upload!G2525))&Gerar_Upload!G2525,Gerar_Upload!G2525),\"erro\")","v":"00000000000000000000000000000000000000000000"}]
[{"$f":"IFERROR(LEFT(Gerar_Upload!A2526,120),\"erro\")","v":""},{"$f":"IFERROR(SUBSTITUTE(SUBSTITUTE(SUBSTITUTE(Gerar_Upload!B2526,\".\",\"\"),\"-\",\"\"),\"/\",\"\"),\"erro\")","v":""},{"$f":"IFERROR(Gerar_Upload!C2526,\"erro\")","v":0},{"$f":"IFERROR(Gerar_Upload!D2526,\"erro\")","v":0},{"$f":"IFERROR(DATE(YEAR(Gerar_Upload!E2526),MONTH(Gerar_Upload!E2526),DAY(Gerar_Upload!E2526)),\"erro\")","v":"00:00:00"},{"$f":"IFERROR(Gerar_Upload!F2526,\"erro\")","v":0},{"$f":"IFERROR(IF(Gerar_Upload!G2526<44,REPT(0,44-LEN(Gerar_Upload!G2526))&Gerar_Upload!G2526,Gerar_Upload!G2526),\"erro\")","v":"00000000000000000000000000000000000000000000"}]
[{"$f":"IFERROR(LEFT(Gerar_Upload!A2527,120),\"erro\")","v":""},{"$f":"IFERROR(SUBSTITUTE(SUBSTITUTE(SUBSTITUTE(Gerar_Upload!B2527,\".\",\"\"),\"-\",\"\"),\"/\",\"\"),\"erro\")","v":""},{"$f":"IFERROR(Gerar_Upload!C2527,\"erro\")","v":0},{"$f":"IFERROR(Gerar_Upload!D2527,\"erro\")","v":0},{"$f":"IFERROR(DATE(YEAR(Gerar_Upload!E2527),MONTH(Gerar_Upload!E2527),DAY(Gerar_Upload!E2527)),\"erro\")","v":"00:00:00"},{"$f":"IFERROR(Gerar_Upload!F2527,\"erro\")","v":0},{"$f":"IFERROR(IF(Gerar_Upload!G2527<44,REPT(0,44-LEN(Gerar_Upload!G2527))&Gerar_Upload!G2527,Gerar_Upload!G2527),\"erro\")","v":"00000000000000000000000000000000000000000000"}]
[{"$f":"IFERROR(LEFT(Gerar_Upload!A2528,120),\"erro\")","v":""},{"$f":"IFERROR(SUBSTITUTE(SUBSTITUTE(SUBSTITUTE(Gerar_Upload!B2528,\".\",\"\"),\"-\",\"\"),\"/\",\"\"),\"erro\")","v":""},{"$f":"IFERROR(Gerar_Upload!C2528,\"erro\")","v":0},{"$f":"IFERROR(Gerar_Upload!D2528,\"erro\")","v":0},{"$f":"IFERROR(DATE(YEAR(Gerar_Upload!E2528),MONTH(Gerar_Upload!E2528),DAY(Gerar_Upload!E2528)),\"erro\")","v":"00:00:00"},{"$f":"IFERROR(Gerar_Upload!F2528,\"erro\")","v":0},{"$f":"IFERROR(IF(Gerar_Upload!G2528<44,REPT(0,44-LEN(Gerar_Upload!G2528))&Gerar_Upload!G2528,Gerar_Upload!G2528),\"erro\")","v":"00000000000000000000000000000000000000000000"}]
[{"$f":"IFERROR(LEFT(Gerar_Upload!A2529,120),\"erro\")","v":""},{"$f":"IFERROR(SUBSTITUTE(SUBSTITUTE(SUBSTITUTE(Gerar_Upload!B2529,\".\",\"\"),\"-\",\"\"),\"/\",\"\"),\"erro\")","v":""},{"$f":"IFERROR(Gerar_Upload!C2529,\"erro\")","v":0},{"$f":"IFERROR(Gerar_Upload!D2529,\"erro\")","v":0},{"$f":"IFERROR(DATE(YEAR(Gerar_Upload!E2529),MONTH(Gerar_Upload!E2529),DAY(Gerar_Upload!E2529)),\"erro\")","v":"00:00:00"},{"$f":"IFERROR(Gerar_Upload!F2529,\"erro\")","v":0},{"$f":"IFERROR(IF(Gerar_Upload!G2529<44,REPT(0,44-LEN(Gerar_Upload!G2529))&Gerar_Upload!G2529,Gerar_Upload!G2529),\"erro\")","v":"00000000000000000000000000000000000000000000"}]
[{"$f":"IFERROR(LEFT(Gerar_Upload!A2530,120),\"erro\")","v":""},{"$f":"IFERROR(SUBSTITUTE(SUBSTITUTE(SUBSTITUTE(Gerar_Upload!B2530,\".\",\"\"),\"-\",\"\"),\"/\",\"\"),\"erro\")","v":""},{"$f":"IFERROR(Gerar_Upload!C2530,\"erro\")","v":0},{"$f":"IFERROR(Gerar_Upload!D2530,\"erro\")","v":0},{"$f":"IFERROR(DATE(YEAR(Gerar_Upload!E2530),MONTH(Gerar_Upload!E2530),DAY(Gerar_Upload!E2530)),\"erro\")","v":"00:00:00"},{"$f":"IFERROR(Gerar_Upload!F2530,\"erro\")","v":0},{"$f":"IFERROR(IF(Gerar_Upload!G2530<44,REPT(0,44-LEN(Gerar_Upload!G2530))&Gerar_Upload!G2530,Gerar_Upload!G2530),\"erro\")","v":"00000000000000000000000000000000000000000000"}]
[{"$f":"IFERROR(LEFT(Gerar_Upload!A2531,120),\"erro\")","v":""},{"$f":"IFERROR(SUBSTITUTE(SUBSTITUTE(SUBSTITUTE(Gerar_Upload!B2531,\".\",\"\"),\"-\",\"\"),\"/\",\"\"),\"erro\")","v":""},{"$f":"IFERROR(Gerar_Upload!C2531,\"erro\")","v":0},{"$f":"IFERROR(Gerar_Upload!D2531,\"erro\")","v":0},{"$f":"IFERROR(DATE(YEAR(Gerar_Upload!E2531),MONTH(Gerar_Upload!E2531),DAY(Gerar_Upload!E2531)),\"erro\")","v":"00:00:00"},{"$f":"IFERROR(Gerar_Upload!F2531,\"erro\")","v":0},{"$f":"IFERROR(IF(Gerar_Upload!G2531<44,REPT(0,44-LEN(Gerar_Upload!G2531))&Gerar_Upload!G2531,Gerar_Upload!G2531),\"erro\")","v":"00000000000000000000000000000000000000000000"}]
[{"$f":"IFERROR(LEFT(Gerar_Upload!A2532,120),\"erro\")","v":""},{"$f":"IFERROR(SUBSTITUTE(SUBSTITUTE(SUBSTITUTE(Gerar_Upload!B2532,\".\",\"\"),\"-\",\"\"),\"/\",\"\"),\"erro\")","v":""},{"$f":"IFERROR(Gerar_Upload!C2532,\"erro\")","v":0},{"$f":"IFERROR(Gerar_Upload!D2532,\"erro\")","v":0},{"$f":"IFERROR(DATE(YEAR(Gerar_Upload!E2532),MONTH(Gerar_Upload!E2532),DAY(Gerar_Upload!E2532)),\"erro\")","v":"00:00:00"},{"$f":"IFERROR(Gerar_Upload!F2532,\"erro\")","v":0},{"$f":"IFERROR(IF(Gerar_Upload!G2532<44,REPT(0,44-LEN(Gerar_Upload!G2532))&Gerar_Upload!G2532,Gerar_Upload!G2532),\"erro\")","v":"00000000000000000000000000000000000000000000"}]
[{"$f":"IFERROR(LEFT(Gerar_Upload!A2533,120),\"erro\")","v":""},{"$f":"IFERROR(SUBSTITUTE(SUBSTITUTE(SUBSTITUTE(Gerar_Upload!B2533,\".\",\"\"),\"-\",\"\"),\"/\",\"\"),\"erro\")","v":""},{"$f":"IFERROR(Gerar_Upload!C2533,\"erro\")","v":0},{"$f":"IFERROR(Gerar_Upload!D2533,\"erro\")","v":0},{"$f":"IFERROR(DATE(YEAR(Gerar_Upload!E2533),MONTH(Gerar_Upload!E2533),DAY(Gerar_Upload!E2533)),\"erro\")","v":"00:00:00"},{"$f":"IFERROR(Gerar_Upload!F2533,\"erro\")","v":0},{"$f":"IFERROR(IF(Gerar_Upload!G2533<44,REPT(0,44-LEN(Gerar_Upload!G2533))&Gerar_Upload!G2533,Gerar_Upload!G2533),\"erro\")","v":"00000000000000000000000000000000000000000000"}]
[{"$f":"IFERROR(LEFT(Gerar_Upload!A2534,120),\"erro\")","v":""},{"$f":"IFERROR(SUBSTITUTE(SUBSTITUTE(SUBSTITUTE(Gerar_Upload!B2534,\".\",\"\"),\"-\",\"\"),\"/\",\"\"),\"erro\")","v":""},{"$f":"IFERROR(Gerar_Upload!C2534,\"erro\")","v":0},{"$f":"IFERROR(Gerar_Upload!D2534,\"erro\")","v":0},{"$f":"IFERROR(DATE(YEAR(Gerar_Upload!E2534),MONTH(Gerar_Upload!E2534),DAY(Gerar_Upload!E2534)),\"erro\")","v":"00:00:00"},{"$f":"IFERROR(Gerar_Upload!F2534,\"erro\")","v":0},{"$f":"IFERROR(IF(Gerar_Upload!G2534<44,REPT(0,44-LEN(Gerar_Upload!G2534))&Gerar_Upload!G2534,Gerar_Upload!G2534),\"erro\")","v":"00000000000000000000000000000000000000000000"}]
[{"$f":"IFERROR(LEFT(Gerar_Upload!A2535,120),\"erro\")","v":""},{"$f":"IFERROR(SUBSTITUTE(SUBSTITUTE(SUBSTITUTE(Gerar_Upload!B2535,\".\",\"\"),\"-\",\"\"),\"/\",\"\"),\"erro\")","v":""},{"$f":"IFERROR(Gerar_Upload!C2535,\"erro\")","v":0},{"$f":"IFERROR(Gerar_Upload!D2535,\"erro\")","v":0},{"$f":"IFERROR(DATE(YEAR(Gerar_Upload!E2535),MONTH(Gerar_Upload!E2535),DAY(Gerar_Upload!E2535)),\"erro\")","v":"00:00:00"},{"$f":"IFERROR(Gerar_Upload!F2535,\"erro\")","v":0},{"$f":"IFERROR(IF(Gerar_Upload!G2535<44,REPT(0,44-LEN(Gerar_Upload!G2535))&Gerar_Upload!G2535,Gerar_Upload!G2535),\"erro\")","v":"00000000000000000000000000000000000000000000"}]
[{"$f":"IFERROR(LEFT(Gerar_Upload!A2536,120),\"erro\")","v":""},{"$f":"IFERROR(SUBSTITUTE(SUBSTITUTE(SUBSTITUTE(Gerar_Upload!B2536,\".\",\"\"),\"-\",\"\"),\"/\",\"\"),\"erro\")","v":""},{"$f":"IFERROR(Gerar_Upload!C2536,\"erro\")","v":0},{"$f":"IFERROR(Gerar_Upload!D2536,\"erro\")","v":0},{"$f":"IFERROR(DATE(YEAR(Gerar_Upload!E2536),MONTH(Gerar_Upload!E2536),DAY(Gerar_Upload!E2536)),\"erro\")","v":"00:00:00"},{"$f":"IFERROR(Gerar_Upload!F2536,\"erro\")","v":0},{"$f":"IFERROR(IF(Gerar_Upload!G2536<44,REPT(0,44-LEN(Gerar_Upload!G2536))&Gerar_Upload!G2536,Gerar_Upload!G2536),\"erro\")","v":"00000000000000000000000000000000000000000000"}]
[{"$f":"IFERROR(LEFT(Gerar_Upload!A2537,120),\"erro\")","v":""},{"$f":"IFERROR(SUBSTITUTE(SUBSTITUTE(SUBSTITUTE(Gerar_Upload!B2537,\".\",\"\"),\"-\",\"\"),\"/\",\"\"),\"erro\")","v":""},{"$f":"IFERROR(Gerar_Upload!C2537,\"erro\")","v":0},{"$f":"IFERROR(Gerar_Upload!D2537,\"erro\")","v":0},{"$f":"IFERROR(DATE(YEAR(Gerar_Upload!E2537),MONTH(Gerar_Upload!E2537),DAY(Gerar_Upload!E2537)),\"erro\")","v":"00:00:00"},{"$f":"IFERROR(Gerar_Upload!F2537,\"erro\")","v":0},{"$f":"IFERROR(IF(Gerar_Upload!G2537<44,REPT(0,44-LEN(Gerar_Upload!G2537))&Gerar_Upload!G2537,Gerar_Upload!G2537),\"erro\")","v":"00000000000000000000000000000000000000000000"}]
[{"$f":"IFERROR(LEFT(Gerar_Upload!A2538,120),\"erro\")","v":""},{"$f":"IFERROR(SUBSTITUTE(SUBSTITUTE(SUBSTITUTE(Gerar_Upload!B2538,\".\",\"\"),\"-\",\"\"),\"/\",\"\"),\"erro\")","v":""},{"$f":"IFERROR(Gerar_Upload!C2538,\"erro\")","v":0},{"$f":"IFERROR(Gerar_Upload!D2538,\"erro\")","v":0},{"$f":"IFERROR(DATE(YEAR(Gerar_Upload!E2538),MONTH(Gerar_Upload!E2538),DAY(Gerar_Upload!E2538)),\"erro\")","v":"00:00:00"},{"$f":"IFERROR(Gerar_Upload!F2538,\"erro\")","v":0},{"$f":"IFERROR(IF(Gerar_Upload!G2538<44,REPT(0,44-LEN(Gerar_Upload!G2538))&Gerar_Upload!G2538,Gerar_Upload!G2538),\"erro\")","v":"00000000000000000000000000000000000000000000"}]
[{"$f":"IFERROR(LEFT(Gerar_Upload!A2539,120),\"erro\")","v":""},{"$f":"IFERROR(SUBSTITUTE(SUBSTITUTE(SUBSTITUTE(Gerar_Upload!B2539,\".\",\"\"),\"-\",\"\"),\"/\",\"\"),\"erro\")","v":""},{"$f":"IFERROR(Gerar_Upload!C2539,\"erro\")","v":0},{"$f":"IFERROR(Gerar_Upload!D2539,\"erro\")","v":0},{"$f":"IFERROR(DATE(YEAR(Gerar_Upload!E2539),MONTH(Gerar_Upload!E2539),DAY(Gerar_Upload!E2539)),\"erro\")","v":"00:00:00"},{"$f":"IFERROR(Gerar_Upload!F2539,\"erro\")","v":0},{"$f":"IFERROR(IF(Gerar_Upload!G2539<44,REPT(0,44-LEN(Gerar_Upload!G2539))&Gerar_Upload!G2539,Gerar_Upload!G2539),\"erro\")","v":"00000000000000000000000000000000000000000000"}]
[{"$f":"IFERROR(LEFT(Gerar_Upload!A2540,120),\"erro\")","v":""},{"$f":"IFERROR(SUBSTITUTE(SUBSTITUTE(SUBSTITUTE(Gerar_Upload!B2540,\".\",\"\"),\"-\",\"\"),\"/\",\"\"),\"erro\")","v":""},{"$f":"IFERROR(Gerar_Upload!C2540,\"erro\")","v":0},{"$f":"IFERROR(Gerar_Upload!D2540,\"erro\")","v":0},{"$f":"IFERROR(DATE(YEAR(Gerar_Upload!E2540),MONTH(Gerar_Upload!E2540),DAY(Gerar_Upload!E2540)),\"erro\")","v":"00:00:00"},{"$f":"IFERROR(Gerar_Upload!F2540,\"erro\")","v":0},{"$f":"IFERROR(IF(Gerar_Upload!G2540<44,REPT(0,44-LEN(Gerar_Upload!G2540))&Gerar_Upload!G2540,Gerar_Upload!G2540),\"erro\")","v":"00000000000000000000000000000000000000000000"}]
[{"$f":"IFERROR(LEFT(Gerar_Upload!A2541,120),\"erro\")","v":""},{"$f":"IFERROR(SUBSTITUTE(SUBSTITUTE(SUBSTITUTE(Gerar_Upload!B2541,\".\",\"\"),\"-\",\"\"),\"/\",\"\"),\"erro\")","v":""},{"$f":"IFERROR(Gerar_Upload!C2541,\"erro\")","v":0},{"$f":"IFERROR(Gerar_Upload!D2541,\"erro\")","v":0},{"$f":"IFERROR(DATE(YEAR(Gerar_Upload!E2541),MONTH(Gerar_Upload!E2541),DAY(Gerar_Upload!E2541)),\"erro\")","v":"00:00:00"},{"$f":"IFERROR(Gerar_Upload!F2541,\"erro\")","v":0},{"$f":"IFERROR(IF(Gerar_Upload!G2541<44,REPT(0,44-LEN(Gerar_Upload!G2541))&Gerar_Upload!G2541,Gerar_Upload!G2541),\"erro\")","v":"00000000000000000000000000000000000000000000"}]
[{"$f":"IFERROR(LEFT(Gerar_Upload!A2542,120),\"erro\")","v":""},{"$f":"IFERROR(SUBSTITUTE(SUBSTITUTE(SUBSTITUTE(Gerar_Upload!B2542,\".\",\"\"),\"-\",\"\"),\"/\",\"\"),\"erro\")","v":""},{"$f":"IFERROR(Gerar_Upload!C2542,\"erro\")","v":0},{"$f":"IFERROR(Gerar_Upload!D2542,\"erro\")","v":0},{"$f":"IFERROR(DATE(YEAR(Gerar_Upload!E2542),MONTH(Gerar_Upload!E2542),DAY(Gerar_Upload!E2542)),\"erro\")","v":"00:00:00"},{"$f":"IFERROR(Gerar_Upload!F2542,\"erro\")","v":0},{"$f":"IFERROR(IF(Gerar_Upload!G2542<44,REPT(0,44-LEN(Gerar_Upload!G2542))&Gerar_Upload!G2542,Gerar_Upload!G2542),\"erro\")","v":"00000000000000000000000000000000000000000000"}]
[{"$f":"IFERROR(LEFT(Gerar_Upload!A2543,120),\"erro\")","v":""},{"$f":"IFERROR(SUBSTITUTE(SUBSTITUTE(SUBSTITUTE(Gerar_Upload!B2543,\".\",\"\"),\"-\",\"\"),\"/\",\"\"),\"erro\")","v":""},{"$f":"IFERROR(Gerar_Upload!C2543,\"erro\")","v":0},{"$f":"IFERROR(Gerar_Upload!D2543,\"erro\")","v":0},{"$f":"IFERROR(DATE(YEAR(Gerar_Upload!E2543),MONTH(Gerar_Upload!E2543),DAY(Gerar_Upload!E2543)),\"erro\")","v":"00:00:00"},{"$f":"IFERROR(Gerar_Upload!F2543,\"erro\")","v":0},{"$f":"IFERROR(IF(Gerar_Upload!G2543<44,REPT(0,44-LEN(Gerar_Upload!G2543))&Gerar_Upload!G2543,Gerar_Upload!G2543),\"erro\")","v":"00000000000000000000000000000000000000000000"}]
[{"$f":"IFERROR(LEFT(Gerar_Upload!A2544,120),\"erro\")","v":""},{"$f":"IFERROR(SUBSTITUTE(SUBSTITUTE(SUBSTITUTE(Gerar_Upload!B2544,\".\",\"\"),\"-\",\"\"),\"/\",\"\"),\"erro\")","v":""},{"$f":"IFERROR(Gerar_Upload!C2544,\"erro\")","v":0},{"$f":"IFERROR(Gerar_Upload!D2544,\"erro\")","v":0},{"$f":"IFERROR(DATE(YEAR(Gerar_Upload!E2544),MONTH(Gerar_Upload!E2544),DAY(Gerar_Upload!E2544)),\"erro\")","v":"00:00:00"},{"$f":"IFERROR(Gerar_Upload!F2544,\"erro\")","v":0},{"$f":"IFERROR(IF(Gerar_Upload!G2544<44,REPT(0,44-LEN(Gerar_Upload!G2544))&Gerar_Upload!G2544,Gerar_Upload!G2544),\"erro\")","v":"00000000000000000000000000000000000000000000"}]
[{"$f":"IFERROR(LEFT(Gerar_Upload!A2545,120),\"erro\")","v":""},{"$f":"IFERROR(SUBSTITUTE(SUBSTITUTE(SUBSTITUTE(Gerar_Upload!B2545,\".\",\"\"),\"-\",\"\"),\"/\",\"\"),\"erro\")","v":""},{"$f":"IFERROR(Gerar_Upload!C2545,\"erro\")","v":0},{"$f":"IFERROR(Gerar_Upload!D2545,\"erro\")","v":0},{"$f":"IFERROR(DATE(YEAR(Gerar_Upload!E2545),MONTH(Gerar_Upload!E2545),DAY(Gerar_Upload!E2545)),\"erro\")","v":"00:00:00"},{"$f":"IFERROR(Gerar_Upload!F2545,\"erro\")","v":0},{"$f":"IFERROR(IF(Gerar_Upload!G2545<44,REPT(0,44-LEN(Gerar_Upload!G2545))&Gerar_Upload!G2545,Gerar_Upload!G2545),\"erro\")","v":"00000000000000000000000000000000000000000000"}]
[{"$f":"IFERROR(LEFT(Gerar_Upload!A2546,120),\"erro\")","v":""},{"$f":"IFERROR(SUBSTITUTE(SUBSTITUTE(SUBSTITUTE(Gerar_Upload!B2546,\".\",\"\"),\"-\",\"\"),\"/\",\"\"),\"erro\")","v":""},{"$f":"IFERROR(Gerar_Upload!C2546,\"erro\")","v":0},{"$f":"IFERROR(Gerar_Upload!D2546,\"erro\")","v":0},{"$f":"IFERROR(DATE(YEAR(Gerar_Upload!E2546),MONTH(Gerar_Upload!E2546),DAY(Gerar_Upload!E2546)),\"erro\")","v":"00:00:00"},{"$f":"IFERROR(Gerar_Upload!F2546,\"erro\")","v":0},{"$f":"IFERROR(IF(Gerar_Upload!G2546<44,REPT(0,44-LEN(Gerar_Upload!G2546))&Gerar_Upload!G2546,Gerar_Upload!G2546),\"erro\")","v":"00000000000000000000000000000000000000000000"}]
[{"$f":"IFERROR(LEFT(Gerar_Upload!A2547,120),\"erro\")","v":""},{"$f":"IFERROR(SUBSTITUTE(SUBSTITUTE(SUBSTITUTE(Gerar_Upload!B2547,\".\",\"\"),\"-\",\"\"),\"/\",\"\"),\"erro\")","v":""},{"$f":"IFERROR(Gerar_Upload!C2547,\"erro\")","v":0},{"$f":"IFERROR(Gerar_Upload!D2547,\"erro\")","v":0},{"$f":"IFERROR(DATE(YEAR(Gerar_Upload!E2547),MONTH(Gerar_Upload!E2547),DAY(Gerar_Upload!E2547)),\"erro\")","v":"00:00:00"},{"$f":"IFERROR(Gerar_Upload!F2547,\"erro\")","v":0},{"$f":"IFERROR(IF(Gerar_Upload!G2547<44,REPT(0,44-LEN(Gerar_Upload!G2547))&Gerar_Upload!G2547,Gerar_Upload!G2547),\"erro\")","v":"00000000000000000000000000000000000000000000"}]
[{"$f":"IFERROR(LEFT(Gerar_Upload!A2548,120),\"erro\")","v":""},{"$f":"IFERROR(SUBSTITUTE(SUBSTITUTE(SUBSTITUTE(Gerar_Upload!B2548,\".\",\"\"),\"-\",\"\"),\"/\",\"\"),\"erro\")","v":""},{"$f":"IFERROR(Gerar_Upload!C2548,\"erro\")","v":0},{"$f":"IFERROR(Gerar_Upload!D2548,\"erro\")","v":0},{"$f":"IFERROR(DATE(YEAR(Gerar_Upload!E2548),MONTH(Gerar_Upload!E2548),DAY(Gerar_Upload!E2548)),\"erro\")","v":"00:00:00"},{"$f":"IFERROR(Gerar_Upload!F2548,\"erro\")","v":0},{"$f":"IFERROR(IF(Gerar_Upload!G2548<44,REPT(0,44-LEN(Gerar_Upload!G2548))&Gerar_Upload!G2548,Gerar_Upload!G2548),\"erro\")","v":"00000000000000000000000000000000000000000000"}]
[{"$f":"IFERROR(LEFT(Gerar_Upload!A2549,120),\"erro\")","v":""},{"$f":"IFERROR(SUBSTITUTE(SUBSTITUTE(SUBSTITUTE(Gerar_Upload!B2549,\".\",\"\"),\"-\",\"\"),\"/\",\"\"),\"erro\")","v":""},{"$f":"IFERROR(Gerar_Upload!C2549,\"erro\")","v":0},{"$f":"IFERROR(Gerar_Upload!D2549,\"erro\")","v":0},{"$f":"IFERROR(DATE(YEAR(Gerar_Upload!E2549),MONTH(Gerar_Upload!E2549),DAY(Gerar_Upload!E2549)),\"erro\")","v":"00:00:00"},{"$f":"IFERROR(Gerar_Upload!F2549,\"erro\")","v":0},{"$f":"IFERROR(IF(Gerar_Upload!G2549<44,REPT(0,44-LEN(Gerar_Upload!G2549))&Gerar_Upload!G2549,Gerar_Upload!G2549),\"erro\")","v":"00000000000000000000000000000000000000000000"}]
[{"$f":"IFERROR(LEFT(Gerar_Upload!A2550,120),\"erro\")","v":""},{"$f":"IFERROR(SUBSTITUTE(SUBSTITUTE(SUBSTITUTE(Gerar_Upload!B2550,\".\",\"\"),\"-\",\"\"),\"/\",\"\"),\"erro\")","v":""},{"$f":"IFERROR(Gerar_Upload!C2550,\"erro\")","v":0},{"$f":"IFERROR(Gerar_Upload!D2550,\"erro\")","v":0},{"$f":"IFERROR(DATE(YEAR(Gerar_Upload!E2550),MONTH(Gerar_Upload!E2550),DAY(Gerar_Upload!E2550)),\"erro\")","v":"00:00:00"},{"$f":"IFERROR(Gerar_Upload!F2550,\"erro\")","v":0},{"$f":"IFERROR(IF(Gerar_Upload!G2550<44,REPT(0,44-LEN(Gerar_Upload!G2550))&Gerar_Upload!G2550,Gerar_Upload!G2550),\"erro\")","v":"00000000000000000000000000000000000000000000"}]
[{"$f":"IFERROR(LEFT(Gerar_Upload!A2551,120),\"erro\")","v":""},{"$f":"IFERROR(SUBSTITUTE(SUBSTITUTE(SUBSTITUTE(Gerar_Upload!B2551,\".\",\"\"),\"-\",\"\"),\"/\",\"\"),\"erro\")","v":""},{"$f":"IFERROR(Gerar_Upload!C2551,\"erro\")","v":0},{"$f":"IFERROR(Gerar_Upload!D2551,\"erro\")","v":0},{"$f":"IFERROR(DATE(YEAR(Gerar_Upload!E2551),MONTH(Gerar_Upload!E2551),DAY(Gerar_Upload!E2551)),\"erro\")","v":"00:00:00"},{"$f":"IFERROR(Gerar_Upload!F2551,\"erro\")","v":0},{"$f":"IFERROR(IF(Gerar_Upload!G2551<44,REPT(0,44-LEN(Gerar_Upload!G2551))&Gerar_Upload!G2551,Gerar_Upload!G2551),\"erro\")","v":"00000000000000000000000000000000000000000000"}]
[{"$f":"IFERROR(LEFT(Gerar_Upload!A2552,120),\"erro\")","v":""},{"$f":"IFERROR(SUBSTITUTE(SUBSTITUTE(SUBSTITUTE(Gerar_Upload!B2552,\".\",\"\"),\"-\",\"\"),\"/\",\"\"),\"erro\")","v":""},{"$f":"IFERROR(Gerar_Upload!C2552,\"erro\")","v":0},{"$f":"IFERROR(Gerar_Upload!D2552,\"erro\")","v":0},{"$f":"IFERROR(DATE(YEAR(Gerar_Upload!E2552),MONTH(Gerar_Upload!E2552),DAY(Gerar_Upload!E2552)),\"erro\")","v":"00:00:00"},{"$f":"IFERROR(Gerar_Upload!F2552,\"erro\")","v":0},{"$f":"IFERROR(IF(Gerar_Upload!G2552<44,REPT(0,44-LEN(Gerar_Upload!G2552))&Gerar_Upload!G2552,Gerar_Upload!G2552),\"erro\")","v":"00000000000000000000000000000000000000000000"}]
[{"$f":"IFERROR(LEFT(Gerar_Upload!A2553,120),\"erro\")","v":""},{"$f":"IFERROR(SUBSTITUTE(SUBSTITUTE(SUBSTITUTE(Gerar_Upload!B2553,\".\",\"\"),\"-\",\"\"),\"/\",\"\"),\"erro\")","v":""},{"$f":"IFERROR(Gerar_Upload!C2553,\"erro\")","v":0},{"$f":"IFERROR(Gerar_Upload!D2553,\"erro\")","v":0},{"$f":"IFERROR(DATE(YEAR(Gerar_Upload!E2553),MONTH(Gerar_Upload!E2553),DAY(Gerar_Upload!E2553)),\"erro\")","v":"00:00:00"},{"$f":"IFERROR(Gerar_Upload!F2553,\"erro\")","v":0},{"$f":"IFERROR(IF(Gerar_Upload!G2553<44,REPT(0,44-LEN(Gerar_Upload!G2553))&Gerar_Upload!G2553,Gerar_Upload!G2553),\"erro\")","v":"00000000000000000000000000000000000000000000"}]
[{"$f":"IFERROR(LEFT(Gerar_Upload!A2554,120),\"erro\")","v":""},{"$f":"IFERROR(SUBSTITUTE(SUBSTITUTE(SUBSTITUTE(Gerar_Upload!B2554,\".\",\"\"),\"-\",\"\"),\"/\",\"\"),\"erro\")","v":""},{"$f":"IFERROR(Gerar_Upload!C2554,\"erro\")","v":0},{"$f":"IFERROR(Gerar_Upload!D2554,\"erro\")","v":0},{"$f":"IFERROR(DATE(YEAR(Gerar_Upload!E2554),MONTH(Gerar_Upload!E2554),DAY(Gerar_Upload!E2554)),\"erro\")","v":"00:00:00"},{"$f":"IFERROR(Gerar_Upload!F2554,\"erro\")","v":0},{"$f":"IFERROR(IF(Gerar_Upload!G2554<44,REPT(0,44-LEN(Gerar_Upload!G2554))&Gerar_Upload!G2554,Gerar_Upload!G2554),\"erro\")","v":"00000000000000000000000000000000000000000000"}]
[{"$f":"IFERROR(LEFT(Gerar_Upload!A2555,120),\"erro\")","v":""},{"$f":"IFERROR(SUBSTITUTE(SUBSTITUTE(SUBSTITUTE(Gerar_Upload!B2555,\".\",\"\"),\"-\",\"\"),\"/\",\"\"),\"erro\")","v":""},{"$f":"IFERROR(Gerar_Upload!C2555,\"erro\")","v":0},{"$f":"IFERROR(Gerar_Upload!D2555,\"erro\")","v":0},{"$f":"IFERROR(DATE(YEAR(Gerar_Upload!E2555),MONTH(Gerar_Upload!E2555),DAY(Gerar_Upload!E2555)),\"erro\")","v":"00:00:00"},{"$f":"IFERROR(Gerar_Upload!F2555,\"erro\")","v":0},{"$f":"IFERROR(IF(Gerar_Upload!G2555<44,REPT(0,44-LEN(Gerar_Upload!G2555))&Gerar_Upload!G2555,Gerar_Upload!G2555),\"erro\")","v":"00000000000000000000000000000000000000000000"}]
[{"$f":"IFERROR(LEFT(Gerar_Upload!A2556,120),\"erro\")","v":""},{"$f":"IFERROR(SUBSTITUTE(SUBSTITUTE(SUBSTITUTE(Gerar_Upload!B2556,\".\",\"\"),\"-\",\"\"),\"/\",\"\"),\"erro\")","v":""},{"$f":"IFERROR(Gerar_Upload!C2556,\"erro\")","v":0},{"$f":"IFERROR(Gerar_Upload!D2556,\"erro\")","v":0},{"$f":"IFERROR(DATE(YEAR(Gerar_Upload!E2556),MONTH(Gerar_Upload!E2556),DAY(Gerar_Upload!E2556)),\"erro\")","v":"00:00:00"},{"$f":"IFERROR(Gerar_Upload!F2556,\"erro\")","v":0},{"$f":"IFERROR(IF(Gerar_Upload!G2556<44,REPT(0,44-LEN(Gerar_Upload!G2556))&Gerar_Upload!G2556,Gerar_Upload!G2556),\"erro\")","v":"00000000000000000000000000000000000000000000"}]
[{"$f":"IFERROR(LEFT(Gerar_Upload!A2557,120),\"erro\")","v":""},{"$f":"IFERROR(SUBSTITUTE(SUBSTITUTE(SUBSTITUTE(Gerar_Upload!B2557,\".\",\"\"),\"-\",\"\"),\"/\",\"\"),\"erro\")","v":""},{"$f":"IFERROR(Gerar_Upload!C2557,\"erro\")","v":0},{"$f":"IFERROR(Gerar_Upload!D2557,\"erro\")","v":0},{"$f":"IFERROR(DATE(YEAR(Gerar_Upload!E2557),MONTH(Gerar_Upload!E2557),DAY(Gerar_Upload!E2557)),\"erro\")","v":"00:00:00"},{"$f":"IFERROR(Gerar_Upload!F2557,\"erro\")","v":0},{"$f":"IFERROR(IF(Gerar_Upload!G2557<44,REPT(0,44-LEN(Gerar_Upload!G2557))&Gerar_Upload!G2557,Gerar_Upload!G2557),\"erro\")","v":"00000000000000000000000000000000000000000000"}]
[{"$f":"IFERROR(LEFT(Gerar_Upload!A2558,120),\"erro\")","v":""},{"$f":"IFERROR(SUBSTITUTE(SUBSTITUTE(SUBSTITUTE(Gerar_Upload!B2558,\".\",\"\"),\"-\",\"\"),\"/\",\"\"),\"erro\")","v":""},{"$f":"IFERROR(Gerar_Upload!C2558,\"erro\")","v":0},{"$f":"IFERROR(Gerar_Upload!D2558,\"erro\")","v":0},{"$f":"IFERROR(DATE(YEAR(Gerar_Upload!E2558),MONTH(Gerar_Upload!E2558),DAY(Gerar_Upload!E2558)),\"erro\")","v":"00:00:00"},{"$f":"IFERROR(Gerar_Upload!F2558,\"erro\")","v":0},{"$f":"IFERROR(IF(Gerar_Upload!G2558<44,REPT(0,44-LEN(Gerar_Upload!G2558))&Gerar_Upload!G2558,Gerar_Upload!G2558),\"erro\")","v":"00000000000000000000000000000000000000000000"}]
[{"$f":"IFERROR(LEFT(Gerar_Upload!A2559,120),\"erro\")","v":""},{"$f":"IFERROR(SUBSTITUTE(SUBSTITUTE(SUBSTITUTE(Gerar_Upload!B2559,\".\",\"\"),\"-\",\"\"),\"/\",\"\"),\"erro\")","v":""},{"$f":"IFERROR(Gerar_Upload!C2559,\"erro\")","v":0},{"$f":"IFERROR(Gerar_Upload!D2559,\"erro\")","v":0},{"$f":"IFERROR(DATE(YEAR(Gerar_Upload!E2559),MONTH(Gerar_Upload!E2559),DAY(Gerar_Upload!E2559)),\"erro\")","v":"00:00:00"},{"$f":"IFERROR(Gerar_Upload!F2559,\"erro\")","v":0},{"$f":"IFERROR(IF(Gerar_Upload!G2559<44,REPT(0,44-LEN(Gerar_Upload!G2559))&Gerar_Upload!G2559,Gerar_Upload!G2559),\"erro\")","v":"00000000000000000000000000000000000000000000"}]
[{"$f":"IFERROR(LEFT(Gerar_Upload!A2560,120),\"erro\")","v":""},{"$f":"IFERROR(SUBSTITUTE(SUBSTITUTE(SUBSTITUTE(Gerar_Upload!B2560,\".\",\"\"),\"-\",\"\"),\"/\",\"\"),\"erro\")","v":""},{"$f":"IFERROR(Gerar_Upload!C2560,\"erro\")","v":0},{"$f":"IFERROR(Gerar_Upload!D2560,\"erro\")","v":0},{"$f":"IFERROR(DATE(YEAR(Gerar_Upload!E2560),MONTH(Gerar_Upload!E2560),DAY(Gerar_Upload!E2560)),\"erro\")","v":"00:00:00"},{"$f":"IFERROR(Gerar_Upload!F2560,\"erro\")","v":0},{"$f":"IFERROR(IF(Gerar_Upload!G2560<44,REPT(0,44-LEN(Gerar_Upload!G2560))&Gerar_Upload!G2560,Gerar_Upload!G2560),\"erro\")","v":"00000000000000000000000000000000000000000000"}]
[{"$f":"IFERROR(LEFT(Gerar_Upload!A2561,120),\"erro\")","v":""},{"$f":"IFERROR(SUBSTITUTE(SUBSTITUTE(SUBSTITUTE(Gerar_Upload!B2561,\".\",\"\"),\"-\",\"\"),\"/\",\"\"),\"erro\")","v":""},{"$f":"IFERROR(Gerar_Upload!C2561,\"erro\")","v":0},{"$f":"IFERROR(Gerar_Upload!D2561,\"erro\")","v":0},{"$f":"IFERROR(DATE(YEAR(Gerar_Upload!E2561),MONTH(Gerar_Upload!E2561),DAY(Gerar_Upload!E2561)),\"erro\")","v":"00:00:00"},{"$f":"IFERROR(Gerar_Upload!F2561,\"erro\")","v":0},{"$f":"IFERROR(IF(Gerar_Upload!G2561<44,REPT(0,44-LEN(Gerar_Upload!G2561))&Gerar_Upload!G2561,Gerar_Upload!G2561),\"erro\")","v":"00000000000000000000000000000000000000000000"}]
[{"$f":"IFERROR(LEFT(Gerar_Upload!A2562,120),\"erro\")","v":""},{"$f":"IFERROR(SUBSTITUTE(SUBSTITUTE(SUBSTITUTE(Gerar_Upload!B2562,\".\",\"\"),\"-\",\"\"),\"/\",\"\"),\"erro\")","v":""},{"$f":"IFERROR(Gerar_Upload!C2562,\"erro\")","v":0},{"$f":"IFERROR(Gerar_Upload!D2562,\"erro\")","v":0},{"$f":"IFERROR(DATE(YEAR(Gerar_Upload!E2562),MONTH(Gerar_Upload!E2562),DAY(Gerar_Upload!E2562)),\"erro\")","v":"00:00:00"},{"$f":"IFERROR(Gerar_Upload!F2562,\"erro\")","v":0},{"$f":"IFERROR(IF(Gerar_Upload!G2562<44,REPT(0,44-LEN(Gerar_Upload!G2562))&Gerar_Upload!G2562,Gerar_Upload!G2562),\"erro\")","v":"00000000000000000000000000000000000000000000"}]
[{"$f":"IFERROR(LEFT(Gerar_Upload!A2563,120),\"erro\")","v":""},{"$f":"IFERROR(SUBSTITUTE(SUBSTITUTE(SUBSTITUTE(Gerar_Upload!B2563,\".\",\"\"),\"-\",\"\"),\"/\",\"\"),\"erro\")","v":""},{"$f":"IFERROR(Gerar_Upload!C2563,\"erro\")","v":0},{"$f":"IFERROR(Gerar_Upload!D2563,\"erro\")","v":0},{"$f":"IFERROR(DATE(YEAR(Gerar_Upload!E2563),MONTH(Gerar_Upload!E2563),DAY(Gerar_Upload!E2563)),\"erro\")","v":"00:00:00"},{"$f":"IFERROR(Gerar_Upload!F2563,\"erro\")","v":0},{"$f":"IFERROR(IF(Gerar_Upload!G2563<44,REPT(0,44-LEN(Gerar_Upload!G2563))&Gerar_Upload!G2563,Gerar_Upload!G2563),\"erro\")","v":"00000000000000000000000000000000000000000000"}]
[{"$f":"IFERROR(LEFT(Gerar_Upload!A2564,120),\"erro\")","v":""},{"$f":"IFERROR(SUBSTITUTE(SUBSTITUTE(SUBSTITUTE(Gerar_Upload!B2564,\".\",\"\"),\"-\",\"\"),\"/\",\"\"),\"erro\")","v":""},{"$f":"IFERROR(Gerar_Upload!C2564,\"erro\")","v":0},{"$f":"IFERROR(Gerar_Upload!D2564,\"erro\")","v":0},{"$f":"IFERROR(DATE(YEAR(Gerar_Upload!E2564),MONTH(Gerar_Upload!E2564),DAY(Gerar_Upload!E2564)),\"erro\")","v":"00:00:00"},{"$f":"IFERROR(Gerar_Upload!F2564,\"erro\")","v":0},{"$f":"IFERROR(IF(Gerar_Upload!G2564<44,REPT(0,44-LEN(Gerar_Upload!G2564))&Gerar_Upload!G2564,Gerar_Upload!G2564),\"erro\")","v":"00000000000000000000000000000000000000000000"}]
[{"$f":"IFERROR(LEFT(Gerar_Upload!A2565,120),\"erro\")","v":""},{"$f":"IFERROR(SUBSTITUTE(SUBSTITUTE(SUBSTITUTE(Gerar_Upload!B2565,\".\",\"\"),\"-\",\"\"),\"/\",\"\"),\"erro\")","v":""},{"$f":"IFERROR(Gerar_Upload!C2565,\"erro\")","v":0},{"$f":"IFERROR(Gerar_Upload!D2565,\"erro\")","v":0},{"$f":"IFERROR(DATE(YEAR(Gerar_Upload!E2565),MONTH(Gerar_Upload!E2565),DAY(Gerar_Upload!E2565)),\"erro\")","v":"00:00:00"},{"$f":"IFERROR(Gerar_Upload!F2565,\"erro\")","v":0},{"$f":"IFERROR(IF(Gerar_Upload!G2565<44,REPT(0,44-LEN(Gerar_Upload!G2565))&Gerar_Upload!G2565,Gerar_Upload!G2565),\"erro\")","v":"00000000000000000000000000000000000000000000"}]
[{"$f":"IFERROR(LEFT(Gerar_Upload!A2566,120),\"erro\")","v":""},{"$f":"IFERROR(SUBSTITUTE(SUBSTITUTE(SUBSTITUTE(Gerar_Upload!B2566,\".\",\"\"),\"-\",\"\"),\"/\",\"\"),\"erro\")","v":""},{"$f":"IFERROR(Gerar_Upload!C2566,\"erro\")","v":0},{"$f":"IFERROR(Gerar_Upload!D2566,\"erro\")","v":0},{"$f":"IFERROR(DATE(YEAR(Gerar_Upload!E2566),MONTH(Gerar_Upload!E2566),DAY(Gerar_Upload!E2566)),\"erro\")","v":"00:00:00"},{"$f":"IFERROR(Gerar_Upload!F2566,\"erro\")","v":0},{"$f":"IFERROR(IF(Gerar_Upload!G2566<44,REPT(0,44-LEN(Gerar_Upload!G2566))&Gerar_Upload!G2566,Gerar_Upload!G2566),\"erro\")","v":"00000000000000000000000000000000000000000000"}]
[{"$f":"IFERROR(LEFT(Gerar_Upload!A2567,120),\"erro\")","v":""},{"$f":"IFERROR(SUBSTITUTE(SUBSTITUTE(SUBSTITUTE(Gerar_Upload!B2567,\".\",\"\"),\"-\",\"\"),\"/\",\"\"),\"erro\")","v":""},{"$f":"IFERROR(Gerar_Upload!C2567,\"erro\")","v":0},{"$f":"IFERROR(Gerar_Upload!D2567,\"erro\")","v":0},{"$f":"IFERROR(DATE(YEAR(Gerar_Upload!E2567),MONTH(Gerar_Upload!E2567),DAY(Gerar_Upload!E2567)),\"erro\")","v":"00:00:00"},{"$f":"IFERROR(Gerar_Upload!F2567,\"erro\")","v":0},{"$f":"IFERROR(IF(Gerar_Upload!G2567<44,REPT(0,44-LEN(Gerar_Upload!G2567))&Gerar_Upload!G2567,Gerar_Upload!G2567),\"erro\")","v":"00000000000000000000000000000000000000000000"}]
[{"$f":"IFERROR(LEFT(Gerar_Upload!A2568,120),\"erro\")","v":""},{"$f":"IFERROR(SUBSTITUTE(SUBSTITUTE(SUBSTITUTE(Gerar_Upload!B2568,\".\",\"\"),\"-\",\"\"),\"/\",\"\"),\"erro\")","v":""},{"$f":"IFERROR(Gerar_Upload!C2568,\"erro\")","v":0},{"$f":"IFERROR(Gerar_Upload!D2568,\"erro\")","v":0},{"$f":"IFERROR(DATE(YEAR(Gerar_Upload!E2568),MONTH(Gerar_Upload!E2568),DAY(Gerar_Upload!E2568)),\"erro\")","v":"00:00:00"},{"$f":"IFERROR(Gerar_Upload!F2568,\"erro\")","v":0},{"$f":"IFERROR(IF(Gerar_Upload!G2568<44,REPT(0,44-LEN(Gerar_Upload!G2568))&Gerar_Upload!G2568,Gerar_Upload!G2568),\"erro\")","v":"00000000000000000000000000000000000000000000"}]
[{"$f":"IFERROR(LEFT(Gerar_Upload!A2569,120),\"erro\")","v":""},{"$f":"IFERROR(SUBSTITUTE(SUBSTITUTE(SUBSTITUTE(Gerar_Upload!B2569,\".\",\"\"),\"-\",\"\"),\"/\",\"\"),\"erro\")","v":""},{"$f":"IFERROR(Gerar_Upload!C2569,\"erro\")","v":0},{"$f":"IFERROR(Gerar_Upload!D2569,\"erro\")","v":0},{"$f":"IFERROR(DATE(YEAR(Gerar_Upload!E2569),MONTH(Gerar_Upload!E2569),DAY(Gerar_Upload!E2569)),\"erro\")","v":"00:00:00"},{"$f":"IFERROR(Gerar_Upload!F2569,\"erro\")","v":0},{"$f":"IFERROR(IF(Gerar_Upload!G2569<44,REPT(0,44-LEN(Gerar_Upload!G2569))&Gerar_Upload!G2569,Gerar_Upload!G2569),\"erro\")","v":"00000000000000000000000000000000000000000000"}]
[{"$f":"IFERROR(LEFT(Gerar_Upload!A2570,120),\"erro\")","v":""},{"$f":"IFERROR(SUBSTITUTE(SUBSTITUTE(SUBSTITUTE(Gerar_Upload!B2570,\".\",\"\"),\"-\",\"\"),\"/\",\"\"),\"erro\")","v":""},{"$f":"IFERROR(Gerar_Upload!C2570,\"erro\")","v":0},{"$f":"IFERROR(Gerar_Upload!D2570,\"erro\")","v":0},{"$f":"IFERROR(DATE(YEAR(Gerar_Upload!E2570),MONTH(Gerar_Upload!E2570),DAY(Gerar_Upload!E2570)),\"erro\")","v":"00:00:00"},{"$f":"IFERROR(Gerar_Upload!F2570,\"erro\")","v":0},{"$f":"IFERROR(IF(Gerar_Upload!G2570<44,REPT(0,44-LEN(Gerar_Upload!G2570))&Gerar_Upload!G2570,Gerar_Upload!G2570),\"erro\")","v":"00000000000000000000000000000000000000000000"}]
[{"$f":"IFERROR(LEFT(Gerar_Upload!A2571,120),\"erro\")","v":""},{"$f":"IFERROR(SUBSTITUTE(SUBSTITUTE(SUBSTITUTE(Gerar_Upload!B2571,\".\",\"\"),\"-\",\"\"),\"/\",\"\"),\"erro\")","v":""},{"$f":"IFERROR(Gerar_Upload!C2571,\"erro\")","v":0},{"$f":"IFERROR(Gerar_Upload!D2571,\"erro\")","v":0},{"$f":"IFERROR(DATE(YEAR(Gerar_Upload!E2571),MONTH(Gerar_Upload!E2571),DAY(Gerar_Upload!E2571)),\"erro\")","v":"00:00:00"},{"$f":"IFERROR(Gerar_Upload!F2571,\"erro\")","v":0},{"$f":"IFERROR(IF(Gerar_Upload!G2571<44,REPT(0,44-LEN(Gerar_Upload!G2571))&Gerar_Upload!G2571,Gerar_Upload!G2571),\"erro\")","v":"00000000000000000000000000000000000000000000"}]
[{"$f":"IFERROR(LEFT(Gerar_Upload!A2572,120),\"erro\")","v":""},{"$f":"IFERROR(SUBSTITUTE(SUBSTITUTE(SUBSTITUTE(Gerar_Upload!B2572,\".\",\"\"),\"-\",\"\"),\"/\",\"\"),\"erro\")","v":""},{"$f":"IFERROR(Gerar_Upload!C2572,\"erro\")","v":0},{"$f":"IFERROR(Gerar_Upload!D2572,\"erro\")","v":0},{"$f":"IFERROR(DATE(YEAR(Gerar_Upload!E2572),MONTH(Gerar_Upload!E2572),DAY(Gerar_Upload!E2572)),\"erro\")","v":"00:00:00"},{"$f":"IFERROR(Gerar_Upload!F2572,\"erro\")","v":0},{"$f":"IFERROR(IF(Gerar_Upload!G2572<44,REPT(0,44-LEN(Gerar_Upload!G2572))&Gerar_Upload!G2572,Gerar_Upload!G2572),\"erro\")","v":"00000000000000000000000000000000000000000000"}]
[{"$f":"IFERROR(LEFT(Gerar_Upload!A2573,120),\"erro\")","v":""},{"$f":"IFERROR(SUBSTITUTE(SUBSTITUTE(SUBSTITUTE(Gerar_Upload!B2573,\".\",\"\"),\"-\",\"\"),\"/\",\"\"),\"erro\")","v":""},{"$f":"IFERROR(Gerar_Upload!C2573,\"erro\")","v":0},{"$f":"IFERROR(Gerar_Upload!D2573,\"erro\")","v":0},{"$f":"IFERROR(DATE(YEAR(Gerar_Upload!E2573),MONTH(Gerar_Upload!E2573),DAY(Gerar_Upload!E2573)),\"erro\")","v":"00:00:00"},{"$f":"IFERROR(Gerar_Upload!F2573,\"erro\")","v":0},{"$f":"IFERROR(IF(Gerar_Upload!G2573<44,REPT(0,44-LEN(Gerar_Upload!G2573))&Gerar_Upload!G2573,Gerar_Upload!G2573),\"erro\")","v":"00000000000000000000000000000000000000000000"}]
[{"$f":"IFERROR(LEFT(Gerar_Upload!A2574,120),\"erro\")","v":""},{"$f":"IFERROR(SUBSTITUTE(SUBSTITUTE(SUBSTITUTE(Gerar_Upload!B2574,\".\",\"\"),\"-\",\"\"),\"/\",\"\"),\"erro\")","v":""},{"$f":"IFERROR(Gerar_Upload!C2574,\"erro\")","v":0},{"$f":"IFERROR(Gerar_Upload!D2574,\"erro\")","v":0},{"$f":"IFERROR(DATE(YEAR(Gerar_Upload!E2574),MONTH(Gerar_Upload!E2574),DAY(Gerar_Upload!E2574)),\"erro\")","v":"00:00:00"},{"$f":"IFERROR(Gerar_Upload!F2574,\"erro\")","v":0},{"$f":"IFERROR(IF(Gerar_Upload!G2574<44,REPT(0,44-LEN(Gerar_Upload!G2574))&Gerar_Upload!G2574,Gerar_Upload!G2574),\"erro\")","v":"00000000000000000000000000000000000000000000"}]
[{"$f":"IFERROR(LEFT(Gerar_Upload!A2575,120),\"erro\")","v":""},{"$f":"IFERROR(SUBSTITUTE(SUBSTITUTE(SUBSTITUTE(Gerar_Upload!B2575,\".\",\"\"),\"-\",\"\"),\"/\",\"\"),\"erro\")","v":""},{"$f":"IFERROR(Gerar_Upload!C2575,\"erro\")","v":0},{"$f":"IFERROR(Gerar_Upload!D2575,\"erro\")","v":0},{"$f":"IFERROR(DATE(YEAR(Gerar_Upload!E2575),MONTH(Gerar_Upload!E2575),DAY(Gerar_Upload!E2575)),\"erro\")","v":"00:00:00"},{"$f":"IFERROR(Gerar_Upload!F2575,\"erro\")","v":0},{"$f":"IFERROR(IF(Gerar_Upload!G2575<44,REPT(0,44-LEN(Gerar_Upload!G2575))&Gerar_Upload!G2575,Gerar_Upload!G2575),\"erro\")","v":"00000000000000000000000000000000000000000000"}]
[{"$f":"IFERROR(LEFT(Gerar_Upload!A2576,120),\"erro\")","v":""},{"$f":"IFERROR(SUBSTITUTE(SUBSTITUTE(SUBSTITUTE(Gerar_Upload!B2576,\".\",\"\"),\"-\",\"\"),\"/\",\"\"),\"erro\")","v":""},{"$f":"IFERROR(Gerar_Upload!C2576,\"erro\")","v":0},{"$f":"IFERROR(Gerar_Upload!D2576,\"erro\")","v":0},{"$f":"IFERROR(DATE(YEAR(Gerar_Upload!E2576),MONTH(Gerar_Upload!E2576),DAY(Gerar_Upload!E2576)),\"erro\")","v":"00:00:00"},{"$f":"IFERROR(Gerar_Upload!F2576,\"erro\")","v":0},{"$f":"IFERROR(IF(Gerar_Upload!G2576<44,REPT(0,44-LEN(Gerar_Upload!G2576))&Gerar_Upload!G2576,Gerar_Upload!G2576),\"erro\")","v":"00000000000000000000000000000000000000000000"}]
[{"$f":"IFERROR(LEFT(Gerar_Upload!A2577,120),\"erro\")","v":""},{"$f":"IFERROR(SUBSTITUTE(SUBSTITUTE(SUBSTITUTE(Gerar_Upload!B2577,\".\",\"\"),\"-\",\"\"),\"/\",\"\"),\"erro\")","v":""},{"$f":"IFERROR(Gerar_Upload!C2577,\"erro\")","v":0},{"$f":"IFERROR(Gerar_Upload!D2577,\"erro\")","v":0},{"$f":"IFERROR(DATE(YEAR(Gerar_Upload!E2577),MONTH(Gerar_Upload!E2577),DAY(Gerar_Upload!E2577)),\"erro\")","v":"00:00:00"},{"$f":"IFERROR(Gerar_Upload!F2577,\"erro\")","v":0},{"$f":"IFERROR(IF(Gerar_Upload!G2577<44,REPT(0,44-LEN(Gerar_Upload!G2577))&Gerar_Upload!G2577,Gerar_Upload!G2577),\"erro\")","v":"00000000000000000000000000000000000000000000"}]
[{"$f":"IFERROR(LEFT(Gerar_Upload!A2578,120),\"erro\")","v":""},{"$f":"IFERROR(SUBSTITUTE(SUBSTITUTE(SUBSTITUTE(Gerar_Upload!B2578,\".\",\"\"),\"-\",\"\"),\"/\",\"\"),\"erro\")","v":""},{"$f":"IFERROR(Gerar_Upload!C2578,\"erro\")","v":0},{"$f":"IFERROR(Gerar_Upload!D2578,\"erro\")","v":0},{"$f":"IFERROR(DATE(YEAR(Gerar_Upload!E2578),MONTH(Gerar_Upload!E2578),DAY(Gerar_Upload!E2578)),\"erro\")","v":"00:00:00"},{"$f":"IFERROR(Gerar_Upload!F2578,\"erro\")","v":0},{"$f":"IFERROR(IF(Gerar_Upload!G2578<44,REPT(0,44-LEN(Gerar_Upload!G2578))&Gerar_Upload!G2578,Gerar_Upload!G2578),\"erro\")","v":"00000000000000000000000000000000000000000000"}]
[{"$f":"IFERROR(LEFT(Gerar_Upload!A2579,120),\"erro\")","v":""},{"$f":"IFERROR(SUBSTITUTE(SUBSTITUTE(SUBSTITUTE(Gerar_Upload!B2579,\".\",\"\"),\"-\",\"\"),\"/\",\"\"),\"erro\")","v":""},{"$f":"IFERROR(Gerar_Upload!C2579,\"erro\")","v":0},{"$f":"IFERROR(Gerar_Upload!D2579,\"erro\")","v":0},{"$f":"IFERROR(DATE(YEAR(Gerar_Upload!E2579),MONTH(Gerar_Upload!E2579),DAY(Gerar_Upload!E2579)),\"erro\")","v":"00:00:00"},{"$f":"IFERROR(Gerar_Upload!F2579,\"erro\")","v":0},{"$f":"IFERROR(IF(Gerar_Upload!G2579<44,REPT(0,44-LEN(Gerar_Upload!G2579))&Gerar_Upload!G2579,Gerar_Upload!G2579),\"erro\")","v":"00000000000000000000000000000000000000000000"}]
[{"$f":"IFERROR(LEFT(Gerar_Upload!A2580,120),\"erro\")","v":""},{"$f":"IFERROR(SUBSTITUTE(SUBSTITUTE(SUBSTITUTE(Gerar_Upload!B2580,\".\",\"\"),\"-\",\"\"),\"/\",\"\"),\"erro\")","v":""},{"$f":"IFERROR(Gerar_Upload!C2580,\"erro\")","v":0},{"$f":"IFERROR(Gerar_Upload!D2580,\"erro\")","v":0},{"$f":"IFERROR(DATE(YEAR(Gerar_Upload!E2580),MONTH(Gerar_Upload!E2580),DAY(Gerar_Upload!E2580)),\"erro\")","v":"00:00:00"},{"$f":"IFERROR(Gerar_Upload!F2580,\"erro\")","v":0},{"$f":"IFERROR(IF(Gerar_Upload!G2580<44,REPT(0,44-LEN(Gerar_Upload!G2580))&Gerar_Upload!G2580,Gerar_Upload!G2580),\"erro\")","v":"00000000000000000000000000000000000000000000"}]
[{"$f":"IFERROR(LEFT(Gerar_Upload!A2581,120),\"erro\")","v":""},{"$f":"IFERROR(SUBSTITUTE(SUBSTITUTE(SUBSTITUTE(Gerar_Upload!B2581,\".\",\"\"),\"-\",\"\"),\"/\",\"\"),\"erro\")","v":""},{"$f":"IFERROR(Gerar_Upload!C2581,\"erro\")","v":0},{"$f":"IFERROR(Gerar_Upload!D2581,\"erro\")","v":0},{"$f":"IFERROR(DATE(YEAR(Gerar_Upload!E2581),MONTH(Gerar_Upload!E2581),DAY(Gerar_Upload!E2581)),\"erro\")","v":"00:00:00"},{"$f":"IFERROR(Gerar_Upload!F2581,\"erro\")","v":0},{"$f":"IFERROR(IF(Gerar_Upload!G2581<44,REPT(0,44-LEN(Gerar_Upload!G2581))&Gerar_Upload!G2581,Gerar_Upload!G2581),\"erro\")","v":"00000000000000000000000000000000000000000000"}]
[{"$f":"IFERROR(LEFT(Gerar_Upload!A2582,120),\"erro\")","v":""},{"$f":"IFERROR(SUBSTITUTE(SUBSTITUTE(SUBSTITUTE(Gerar_Upload!B2582,\".\",\"\"),\"-\",\"\"),\"/\",\"\"),\"erro\")","v":""},{"$f":"IFERROR(Gerar_Upload!C2582,\"erro\")","v":0},{"$f":"IFERROR(Gerar_Upload!D2582,\"erro\")","v":0},{"$f":"IFERROR(DATE(YEAR(Gerar_Upload!E2582),MONTH(Gerar_Upload!E2582),DAY(Gerar_Upload!E2582)),\"erro\")","v":"00:00:00"},{"$f":"IFERROR(Gerar_Upload!F2582,\"erro\")","v":0},{"$f":"IFERROR(IF(Gerar_Upload!G2582<44,REPT(0,44-LEN(Gerar_Upload!G2582))&Gerar_Upload!G2582,Gerar_Upload!G2582),\"erro\")","v":"00000000000000000000000000000000000000000000"}]
[{"$f":"IFERROR(LEFT(Gerar_Upload!A2583,120),\"erro\")","v":""},{"$f":"IFERROR(SUBSTITUTE(SUBSTITUTE(SUBSTITUTE(Gerar_Upload!B2583,\".\",\"\"),\"-\",\"\"),\"/\",\"\"),\"erro\")","v":""},{"$f":"IFERROR(Gerar_Upload!C2583,\"erro\")","v":0},{"$f":"IFERROR(Gerar_Upload!D2583,\"erro\")","v":0},{"$f":"IFERROR(DATE(YEAR(Gerar_Upload!E2583),MONTH(Gerar_Upload!E2583),DAY(Gerar_Upload!E2583)),\"erro\")","v":"00:00:00"},{"$f":"IFERROR(Gerar_Upload!F2583,\"erro\")","v":0},{"$f":"IFERROR(IF(Gerar_Upload!G2583<44,REPT(0,44-LEN(Gerar_Upload!G2583))&Gerar_Upload!G2583,Gerar_Upload!G2583),\"erro\")","v":"00000000000000000000000000000000000000000000"}]
[{"$f":"IFERROR(LEFT(Gerar_Upload!A2584,120),\"erro\")","v":""},{"$f":"IFERROR(SUBSTITUTE(SUBSTITUTE(SUBSTITUTE(Gerar_Upload!B2584,\".\",\"\"),\"-\",\"\"),\"/\",\"\"),\"erro\")","v":""},{"$f":"IFERROR(Gerar_Upload!C2584,\"erro\")","v":0},{"$f":"IFERROR(Gerar_Upload!D2584,\"erro\")","v":0},{"$f":"IFERROR(DATE(YEAR(Gerar_Upload!E2584),MONTH(Gerar_Upload!E2584),DAY(Gerar_Upload!E2584)),\"erro\")","v":"00:00:00"},{"$f":"IFERROR(Gerar_Upload!F2584,\"erro\")","v":0},{"$f":"IFERROR(IF(Gerar_Upload!G2584<44,REPT(0,44-LEN(Gerar_Upload!G2584))&Gerar_Upload!G2584,Gerar_Upload!G2584),\"erro\")","v":"00000000000000000000000000000000000000000000"}]
[{"$f":"IFERROR(LEFT(Gerar_Upload!A2585,120),\"erro\")","v":""},{"$f":"IFERROR(SUBSTITUTE(SUBSTITUTE(SUBSTITUTE(Gerar_Upload!B2585,\".\",\"\"),\"-\",\"\"),\"/\",\"\"),\"erro\")","v":""},{"$f":"IFERROR(Gerar_Upload!C2585,\"erro\")","v":0},{"$f":"IFERROR(Gerar_Upload!D2585,\"erro\")","v":0},{"$f":"IFERROR(DATE(YEAR(Gerar_Upload!E2585),MONTH(Gerar_Upload!E2585),DAY(Gerar_Upload!E2585)),\"erro\")","v":"00:00:00"},{"$f":"IFERROR(Gerar_Upload!F2585,\"erro\")","v":0},{"$f":"IFERROR(IF(Gerar_Upload!G2585<44,REPT(0,44-LEN(Gerar_Upload!G2585))&Gerar_Upload!G2585,Gerar_Upload!G2585),\"erro\")","v":"00000000000000000000000000000000000000000000"}]
[{"$f":"IFERROR(LEFT(Gerar_Upload!A2586,120),\"erro\")","v":""},{"$f":"IFERROR(SUBSTITUTE(SUBSTITUTE(SUBSTITUTE(Gerar_Upload!B2586,\".\",\"\"),\"-\",\"\"),\"/\",\"\"),\"erro\")","v":""},{"$f":"IFERROR(Gerar_Upload!C2586,\"erro\")","v":0},{"$f":"IFERROR(Gerar_Upload!D2586,\"erro\")","v":0},{"$f":"IFERROR(DATE(YEAR(Gerar_Upload!E2586),MONTH(Gerar_Upload!E2586),DAY(Gerar_Upload!E2586)),\"erro\")","v":"00:00:00"},{"$f":"IFERROR(Gerar_Upload!F2586,\"erro\")","v":0},{"$f":"IFERROR(IF(Gerar_Upload!G2586<44,REPT(0,44-LEN(Gerar_Upload!G2586))&Gerar_Upload!G2586,Gerar_Upload!G2586),\"erro\")","v":"00000000000000000000000000000000000000000000"}]
[{"$f":"IFERROR(LEFT(Gerar_Upload!A2587,120),\"erro\")","v":""},{"$f":"IFERROR(SUBSTITUTE(SUBSTITUTE(SUBSTITUTE(Gerar_Upload!B2587,\".\",\"\"),\"-\",\"\"),\"/\",\"\"),\"erro\")","v":""},{"$f":"IFERROR(Gerar_Upload!C2587,\"erro\")","v":0},{"$f":"IFERROR(Gerar_Upload!D2587,\"erro\")","v":0},{"$f":"IFERROR(DATE(YEAR(Gerar_Upload!E2587),MONTH(Gerar_Upload!E2587),DAY(Gerar_Upload!E2587)),\"erro\")","v":"00:00:00"},{"$f":"IFERROR(Gerar_Upload!F2587,\"erro\")","v":0},{"$f":"IFERROR(IF(Gerar_Upload!G2587<44,REPT(0,44-LEN(Gerar_Upload!G2587))&Gerar_Upload!G2587,Gerar_Upload!G2587),\"erro\")","v":"00000000000000000000000000000000000000000000"}]
[{"$f":"IFERROR(LEFT(Gerar_Upload!A2588,120),\"erro\")","v":""},{"$f":"IFERROR(SUBSTITUTE(SUBSTITUTE(SUBSTITUTE(Gerar_Upload!B2588,\".\",\"\"),\"-\",\"\"),\"/\",\"\"),\"erro\")","v":""},{"$f":"IFERROR(Gerar_Upload!C2588,\"erro\")","v":0},{"$f":"IFERROR(Gerar_Upload!D2588,\"erro\")","v":0},{"$f":"IFERROR(DATE(YEAR(Gerar_Upload!E2588),MONTH(Gerar_Upload!E2588),DAY(Gerar_Upload!E2588)),\"erro\")","v":"00:00:00"},{"$f":"IFERROR(Gerar_Upload!F2588,\"erro\")","v":0},{"$f":"IFERROR(IF(Gerar_Upload!G2588<44,REPT(0,44-LEN(Gerar_Upload!G2588))&Gerar_Upload!G2588,Gerar_Upload!G2588),\"erro\")","v":"00000000000000000000000000000000000000000000"}]
[{"$f":"IFERROR(LEFT(Gerar_Upload!A2589,120),\"erro\")","v":""},{"$f":"IFERROR(SUBSTITUTE(SUBSTITUTE(SUBSTITUTE(Gerar_Upload!B2589,\".\",\"\"),\"-\",\"\"),\"/\",\"\"),\"erro\")","v":""},{"$f":"IFERROR(Gerar_Upload!C2589,\"erro\")","v":0},{"$f":"IFERROR(Gerar_Upload!D2589,\"erro\")","v":0},{"$f":"IFERROR(DATE(YEAR(Gerar_Upload!E2589),MONTH(Gerar_Upload!E2589),DAY(Gerar_Upload!E2589)),\"erro\")","v":"00:00:00"},{"$f":"IFERROR(Gerar_Upload!F2589,\"erro\")","v":0},{"$f":"IFERROR(IF(Gerar_Upload!G2589<44,REPT(0,44-LEN(Gerar_Upload!G2589))&Gerar_Upload!G2589,Gerar_Upload!G2589),\"erro\")","v":"00000000000000000000000000000000000000000000"}]
[{"$f":"IFERROR(LEFT(Gerar_Upload!A2590,120),\"erro\")","v":""},{"$f":"IFERROR(SUBSTITUTE(SUBSTITUTE(SUBSTITUTE(Gerar_Upload!B2590,\".\",\"\"),\"-\",\"\"),\"/\",\"\"),\"erro\")","v":""},{"$f":"IFERROR(Gerar_Upload!C2590,\"erro\")","v":0},{"$f":"IFERROR(Gerar_Upload!D2590,\"erro\")","v":0},{"$f":"IFERROR(DATE(YEAR(Gerar_Upload!E2590),MONTH(Gerar_Upload!E2590),DAY(Gerar_Upload!E2590)),\"erro\")","v":"00:00:00"},{"$f":"IFERROR(Gerar_Upload!F2590,\"erro\")","v":0},{"$f":"IFERROR(IF(Gerar_Upload!G2590<44,REPT(0,44-LEN(Gerar_Upload!G2590))&Gerar_Upload!G2590,Gerar_Upload!G2590),\"erro\")","v":"00000000000000000000000000000000000000000000"}]
[{"$f":"IFERROR(LEFT(Gerar_Upload!A2591,120),\"erro\")","v":""},{"$f":"IFERROR(SUBSTITUTE(SUBSTITUTE(SUBSTITUTE(Gerar_Upload!B2591,\".\",\"\"),\"-\",\"\"),\"/\",\"\"),\"erro\")","v":""},{"$f":"IFERROR(Gerar_Upload!C2591,\"erro\")","v":0},{"$f":"IFERROR(Gerar_Upload!D2591,\"erro\")","v":0},{"$f":"IFERROR(DATE(YEAR(Gerar_Upload!E2591),MONTH(Gerar_Upload!E2591),DAY(Gerar_Upload!E2591)),\"erro\")","v":"00:00:00"},{"$f":"IFERROR(Gerar_Upload!F2591,\"erro\")","v":0},{"$f":"IFERROR(IF(Gerar_Upload!G2591<44,REPT(0,44-LEN(Gerar_Upload!G2591))&Gerar_Upload!G2591,Gerar_Upload!G2591),\"erro\")","v":"00000000000000000000000000000000000000000000"}]
[{"$f":"IFERROR(LEFT(Gerar_Upload!A2592,120),\"erro\")","v":""},{"$f":"IFERROR(SUBSTITUTE(SUBSTITUTE(SUBSTITUTE(Gerar_Upload!B2592,\".\",\"\"),\"-\",\"\"),\"/\",\"\"),\"erro\")","v":""},{"$f":"IFERROR(Gerar_Upload!C2592,\"erro\")","v":0},{"$f":"IFERROR(Gerar_Upload!D2592,\"erro\")","v":0},{"$f":"IFERROR(DATE(YEAR(Gerar_Upload!E2592),MONTH(Gerar_Upload!E2592),DAY(Gerar_Upload!E2592)),\"erro\")","v":"00:00:00"},{"$f":"IFERROR(Gerar_Upload!F2592,\"erro\")","v":0},{"$f":"IFERROR(IF(Gerar_Upload!G2592<44,REPT(0,44-LEN(Gerar_Upload!G2592))&Gerar_Upload!G2592,Gerar_Upload!G2592),\"erro\")","v":"00000000000000000000000000000000000000000000"}]
[{"$f":"IFERROR(LEFT(Gerar_Upload!A2593,120),\"erro\")","v":""},{"$f":"IFERROR(SUBSTITUTE(SUBSTITUTE(SUBSTITUTE(Gerar_Upload!B2593,\".\",\"\"),\"-\",\"\"),\"/\",\"\"),\"erro\")","v":""},{"$f":"IFERROR(Gerar_Upload!C2593,\"erro\")","v":0},{"$f":"IFERROR(Gerar_Upload!D2593,\"erro\")","v":0},{"$f":"IFERROR(DATE(YEAR(Gerar_Upload!E2593),MONTH(Gerar_Upload!E2593),DAY(Gerar_Upload!E2593)),\"erro\")","v":"00:00:00"},{"$f":"IFERROR(Gerar_Upload!F2593,\"erro\")","v":0},{"$f":"IFERROR(IF(Gerar_Upload!G2593<44,REPT(0,44-LEN(Gerar_Upload!G2593))&Gerar_Upload!G2593,Gerar_Upload!G2593),\"erro\")","v":"00000000000000000000000000000000000000000000"}]
[{"$f":"IFERROR(LEFT(Gerar_Upload!A2594,120),\"erro\")","v":""},{"$f":"IFERROR(SUBSTITUTE(SUBSTITUTE(SUBSTITUTE(Gerar_Upload!B2594,\".\",\"\"),\"-\",\"\"),\"/\",\"\"),\"erro\")","v":""},{"$f":"IFERROR(Gerar_Upload!C2594,\"erro\")","v":0},{"$f":"IFERROR(Gerar_Upload!D2594,\"erro\")","v":0},{"$f":"IFERROR(DATE(YEAR(Gerar_Upload!E2594),MONTH(Gerar_Upload!E2594),DAY(Gerar_Upload!E2594)),\"erro\")","v":"00:00:00"},{"$f":"IFERROR(Gerar_Upload!F2594,\"erro\")","v":0},{"$f":"IFERROR(IF(Gerar_Upload!G2594<44,REPT(0,44-LEN(Gerar_Upload!G2594))&Gerar_Upload!G2594,Gerar_Upload!G2594),\"erro\")","v":"00000000000000000000000000000000000000000000"}]
[{"$f":"IFERROR(LEFT(Gerar_Upload!A2595,120),\"erro\")","v":""},{"$f":"IFERROR(SUBSTITUTE(SUBSTITUTE(SUBSTITUTE(Gerar_Upload!B2595,\".\",\"\"),\"-\",\"\"),\"/\",\"\"),\"erro\")","v":""},{"$f":"IFERROR(Gerar_Upload!C2595,\"erro\")","v":0},{"$f":"IFERROR(Gerar_Upload!D2595,\"erro\")","v":0},{"$f":"IFERROR(DATE(YEAR(Gerar_Upload!E2595),MONTH(Gerar_Upload!E2595),DAY(Gerar_Upload!E2595)),\"erro\")","v":"00:00:00"},{"$f":"IFERROR(Gerar_Upload!F2595,\"erro\")","v":0},{"$f":"IFERROR(IF(Gerar_Upload!G2595<44,REPT(0,44-LEN(Gerar_Upload!G2595))&Gerar_Upload!G2595,Gerar_Upload!G2595),\"erro\")","v":"00000000000000000000000000000000000000000000"}]
[{"$f":"IFERROR(LEFT(Gerar_Upload!A2596,120),\"erro\")","v":""},{"$f":"IFERROR(SUBSTITUTE(SUBSTITUTE(SUBSTITUTE(Gerar_Upload!B2596,\".\",\"\"),\"-\",\"\"),\"/\",\"\"),\"erro\")","v":""},{"$f":"IFERROR(Gerar_Upload!C2596,\"erro\")","v":0},{"$f":"IFERROR(Gerar_Upload!D2596,\"erro\")","v":0},{"$f":"IFERROR(DATE(YEAR(Gerar_Upload!E2596),MONTH(Gerar_Upload!E2596),DAY(Gerar_Upload!E2596)),\"erro\")","v":"00:00:00"},{"$f":"IFERROR(Gerar_Upload!F2596,\"erro\")","v":0},{"$f":"IFERROR(IF(Gerar_Upload!G2596<44,REPT(0,44-LEN(Gerar_Upload!G2596))&Gerar_Upload!G2596,Gerar_Upload!G2596),\"erro\")","v":"00000000000000000000000000000000000000000000"}]
[{"$f":"IFERROR(LEFT(Gerar_Upload!A2597,120),\"erro\")","v":""},{"$f":"IFERROR(SUBSTITUTE(SUBSTITUTE(SUBSTITUTE(Gerar_Upload!B2597,\".\",\"\"),\"-\",\"\"),\"/\",\"\"),\"erro\")","v":""},{"$f":"IFERROR(Gerar_Upload!C2597,\"erro\")","v":0},{"$f":"IFERROR(Gerar_Upload!D2597,\"erro\")","v":0},{"$f":"IFERROR(DATE(YEAR(Gerar_Upload!E2597),MONTH(Gerar_Upload!E2597),DAY(Gerar_Upload!E2597)),\"erro\")","v":"00:00:00"},{"$f":"IFERROR(Gerar_Upload!F2597,\"erro\")","v":0},{"$f":"IFERROR(IF(Gerar_Upload!G2597<44,REPT(0,44-LEN(Gerar_Upload!G2597))&Gerar_Upload!G2597,Gerar_Upload!G2597),\"erro\")","v":"00000000000000000000000000000000000000000000"}]
[{"$f":"IFERROR(LEFT(Gerar_Upload!A2598,120),\"erro\")","v":""},{"$f":"IFERROR(SUBSTITUTE(SUBSTITUTE(SUBSTITUTE(Gerar_Upload!B2598,\".\",\"\"),\"-\",\"\"),\"/\",\"\"),\"erro\")","v":""},{"$f":"IFERROR(Gerar_Upload!C2598,\"erro\")","v":0},{"$f":"IFERROR(Gerar_Upload!D2598,\"erro\")","v":0},{"$f":"IFERROR(DATE(YEAR(Gerar_Upload!E2598),MONTH(Gerar_Upload!E2598),DAY(Gerar_Upload!E2598)),\"erro\")","v":"00:00:00"},{"$f":"IFERROR(Gerar_Upload!F2598,\"erro\")","v":0},{"$f":"IFERROR(IF(Gerar_Upload!G2598<44,REPT(0,44-LEN(Gerar_Upload!G2598))&Gerar_Upload!G2598,Gerar_Upload!G2598),\"erro\")","v":"00000000000000000000000000000000000000000000"}]
[{"$f":"IFERROR(LEFT(Gerar_Upload!A2599,120),\"erro\")","v":""},{"$f":"IFERROR(SUBSTITUTE(SUBSTITUTE(SUBSTITUTE(Gerar_Upload!B2599,\".\",\"\"),\"-\",\"\"),\"/\",\"\"),\"erro\")","v":""},{"$f":"IFERROR(Gerar_Upload!C2599,\"erro\")","v":0},{"$f":"IFERROR(Gerar_Upload!D2599,\"erro\")","v":0},{"$f":"IFERROR(DATE(YEAR(Gerar_Upload!E2599),MONTH(Gerar_Upload!E2599),DAY(Gerar_Upload!E2599)),\"erro\")","v":"00:00:00"},{"$f":"IFERROR(Gerar_Upload!F2599,\"erro\")","v":0},{"$f":"IFERROR(IF(Gerar_Upload!G2599<44,REPT(0,44-LEN(Gerar_Upload!G2599))&Gerar_Upload!G2599,Gerar_Upload!G2599),\"erro\")","v":"00000000000000000000000000000000000000000000"}]
[{"$f":"IFERROR(LEFT(Gerar_Upload!A2600,120),\"erro\")","v":""},{"$f":"IFERROR(SUBSTITUTE(SUBSTITUTE(SUBSTITUTE(Gerar_Upload!B2600,\".\",\"\"),\"-\",\"\"),\"/\",\"\"),\"erro\")","v":""},{"$f":"IFERROR(Gerar_Upload!C2600,\"erro\")","v":0},{"$f":"IFERROR(Gerar_Upload!D2600,\"erro\")","v":0},{"$f":"IFERROR(DATE(YEAR(Gerar_Upload!E2600),MONTH(Gerar_Upload!E2600),DAY(Gerar_Upload!E2600)),\"erro\")","v":"00:00:00"},{"$f":"IFERROR(Gerar_Upload!F2600,\"erro\")","v":0},{"$f":"IFERROR(IF(Gerar_Upload!G2600<44,REPT(0,44-LEN(Gerar_Upload!G2600))&Gerar_Upload!G2600,Gerar_Upload!G2600),\"erro\")","v":"00000000000000000000000000000000000000000000"}]
[{"$f":"IFERROR(LEFT(Gerar_Upload!A2601,120),\"erro\")","v":""},{"$f":"IFERROR(SUBSTITUTE(SUBSTITUTE(SUBSTITUTE(Gerar_Upload!B2601,\".\",\"\"),\"-\",\"\"),\"/\",\"\"),\"erro\")","v":""},{"$f":"IFERROR(Gerar_Upload!C2601,\"erro\")","v":0},{"$f":"IFERROR(Gerar_Upload!D2601,\"erro\")","v":0},{"$f":"IFERROR(DATE(YEAR(Gerar_Upload!E2601),MONTH(Gerar_Upload!E2601),DAY(Gerar_Upload!E2601)),\"erro\")","v":"00:00:00"},{"$f":"IFERROR(Gerar_Upload!F2601,\"erro\")","v":0},{"$f":"IFERROR(IF(Gerar_Upload!G2601<44,REPT(0,44-LEN(Gerar_Upload!G2601))&Gerar_Upload!G2601,Gerar_Upload!G2601),\"erro\")","v":"00000000000000000000000000000000000000000000"}]
[{"$f":"IFERROR(LEFT(Gerar_Upload!A2602,120),\"erro\")","v":""},{"$f":"IFERROR(SUBSTITUTE(SUBSTITUTE(SUBSTITUTE(Gerar_Upload!B2602,\".\",\"\"),\"-\",\"\"),\"/\",\"\"),\"erro\")","v":""},{"$f":"IFERROR(Gerar_Upload!C2602,\"erro\")","v":0},{"$f":"IFERROR(Gerar_Upload!D2602,\"erro\")","v":0},{"$f":"IFERROR(DATE(YEAR(Gerar_Upload!E2602),MONTH(Gerar_Upload!E2602),DAY(Gerar_Upload!E2602)),\"erro\")","v":"00:00:00"},{"$f":"IFERROR(Gerar_Upload!F2602,\"erro\")","v":0},{"$f":"IFERROR(IF(Gerar_Upload!G2602<44,REPT(0,44-LEN(Gerar_Upload!G2602))&Gerar_Upload!G2602,Gerar_Upload!G2602),\"erro\")","v":"00000000000000000000000000000000000000000000"}]
[{"$f":"IFERROR(LEFT(Gerar_Upload!A2603,120),\"erro\")","v":""},{"$f":"IFERROR(SUBSTITUTE(SUBSTITUTE(SUBSTITUTE(Gerar_Upload!B2603,\".\",\"\"),\"-\",\"\"),\"/\",\"\"),\"erro\")","v":""},{"$f":"IFERROR(Gerar_Upload!C2603,\"erro\")","v":0},{"$f":"IFERROR(Gerar_Upload!D2603,\"erro\")","v":0},{"$f":"IFERROR(DATE(YEAR(Gerar_Upload!E2603),MONTH(Gerar_Upload!E2603),DAY(Gerar_Upload!E2603)),\"erro\")","v":"00:00:00"},{"$f":"IFERROR(Gerar_Upload!F2603,\"erro\")","v":0},{"$f":"IFERROR(IF(Gerar_Upload!G2603<44,REPT(0,44-LEN(Gerar_Upload!G2603))&Gerar_Upload!G2603,Gerar_Upload!G2603),\"erro\")","v":"00000000000000000000000000000000000000000000"}]
[{"$f":"IFERROR(LEFT(Gerar_Upload!A2604,120),\"erro\")","v":""},{"$f":"IFERROR(SUBSTITUTE(SUBSTITUTE(SUBSTITUTE(Gerar_Upload!B2604,\".\",\"\"),\"-\",\"\"),\"/\",\"\"),\"erro\")","v":""},{"$f":"IFERROR(Gerar_Upload!C2604,\"erro\")","v":0},{"$f":"IFERROR(Gerar_Upload!D2604,\"erro\")","v":0},{"$f":"IFERROR(DATE(YEAR(Gerar_Upload!E2604),MONTH(Gerar_Upload!E2604),DAY(Gerar_Upload!E2604)),\"erro\")","v":"00:00:00"},{"$f":"IFERROR(Gerar_Upload!F2604,\"erro\")","v":0},{"$f":"IFERROR(IF(Gerar_Upload!G2604<44,REPT(0,44-LEN(Gerar_Upload!G2604))&Gerar_Upload!G2604,Gerar_Upload!G2604),\"erro\")","v":"00000000000000000000000000000000000000000000"}]
[{"$f":"IFERROR(LEFT(Gerar_Upload!A2605,120),\"erro\")","v":""},{"$f":"IFERROR(SUBSTITUTE(SUBSTITUTE(SUBSTITUTE(Gerar_Upload!B2605,\".\",\"\"),\"-\",\"\"),\"/\",\"\"),\"erro\")","v":""},{"$f":"IFERROR(Gerar_Upload!C2605,\"erro\")","v":0},{"$f":"IFERROR(Gerar_Upload!D2605,\"erro\")","v":0},{"$f":"IFERROR(DATE(YEAR(Gerar_Upload!E2605),MONTH(Gerar_Upload!E2605),DAY(Gerar_Upload!E2605)),\"erro\")","v":"00:00:00"},{"$f":"IFERROR(Gerar_Upload!F2605,\"erro\")","v":0},{"$f":"IFERROR(IF(Gerar_Upload!G2605<44,REPT(0,44-LEN(Gerar_Upload!G2605))&Gerar_Upload!G2605,Gerar_Upload!G2605),\"erro\")","v":"00000000000000000000000000000000000000000000"}]
[{"$f":"IFERROR(LEFT(Gerar_Upload!A2606,120),\"erro\")","v":""},{"$f":"IFERROR(SUBSTITUTE(SUBSTITUTE(SUBSTITUTE(Gerar_Upload!B2606,\".\",\"\"),\"-\",\"\"),\"/\",\"\"),\"erro\")","v":""},{"$f":"IFERROR(Gerar_Upload!C2606,\"erro\")","v":0},{"$f":"IFERROR(Gerar_Upload!D2606,\"erro\")","v":0},{"$f":"IFERROR(DATE(YEAR(Gerar_Upload!E2606),MONTH(Gerar_Upload!E2606),DAY(Gerar_Upload!E2606)),\"erro\")","v":"00:00:00"},{"$f":"IFERROR(Gerar_Upload!F2606,\"erro\")","v":0},{"$f":"IFERROR(IF(Gerar_Upload!G2606<44,REPT(0,44-LEN(Gerar_Upload!G2606))&Gerar_Upload!G2606,Gerar_Upload!G2606),\"erro\")","v":"00000000000000000000000000000000000000000000"}]
[{"$f":"IFERROR(LEFT(Gerar_Upload!A2607,120),\"erro\")","v":""},{"$f":"IFERROR(SUBSTITUTE(SUBSTITUTE(SUBSTITUTE(Gerar_Upload!B2607,\".\",\"\"),\"-\",\"\"),\"/\",\"\"),\"erro\")","v":""},{"$f":"IFERROR(Gerar_Upload!C2607,\"erro\")","v":0},{"$f":"IFERROR(Gerar_Upload!D2607,\"erro\")","v":0},{"$f":"IFERROR(DATE(YEAR(Gerar_Upload!E2607),MONTH(Gerar_Upload!E2607),DAY(Gerar_Upload!E2607)),\"erro\")","v":"00:00:00"},{"$f":"IFERROR(Gerar_Upload!F2607,\"erro\")","v":0},{"$f":"IFERROR(IF(Gerar_Upload!G2607<44,REPT(0,44-LEN(Gerar_Upload!G2607))&Gerar_Upload!G2607,Gerar_Upload!G2607),\"erro\")","v":"00000000000000000000000000000000000000000000"}]
[{"$f":"IFERROR(LEFT(Gerar_Upload!A2608,120),\"erro\")","v":""},{"$f":"IFERROR(SUBSTITUTE(SUBSTITUTE(SUBSTITUTE(Gerar_Upload!B2608,\".\",\"\"),\"-\",\"\"),\"/\",\"\"),\"erro\")","v":""},{"$f":"IFERROR(Gerar_Upload!C2608,\"erro\")","v":0},{"$f":"IFERROR(Gerar_Upload!D2608,\"erro\")","v":0},{"$f":"IFERROR(DATE(YEAR(Gerar_Upload!E2608),MONTH(Gerar_Upload!E2608),DAY(Gerar_Upload!E2608)),\"erro\")","v":"00:00:00"},{"$f":"IFERROR(Gerar_Upload!F2608,\"erro\")","v":0},{"$f":"IFERROR(IF(Gerar_Upload!G2608<44,REPT(0,44-LEN(Gerar_Upload!G2608))&Gerar_Upload!G2608,Gerar_Upload!G2608),\"erro\")","v":"00000000000000000000000000000000000000000000"}]
[{"$f":"IFERROR(LEFT(Gerar_Upload!A2609,120),\"erro\")","v":""},{"$f":"IFERROR(SUBSTITUTE(SUBSTITUTE(SUBSTITUTE(Gerar_Upload!B2609,\".\",\"\"),\"-\",\"\"),\"/\",\"\"),\"erro\")","v":""},{"$f":"IFERROR(Gerar_Upload!C2609,\"erro\")","v":0},{"$f":"IFERROR(Gerar_Upload!D2609,\"erro\")","v":0},{"$f":"IFERROR(DATE(YEAR(Gerar_Upload!E2609),MONTH(Gerar_Upload!E2609),DAY(Gerar_Upload!E2609)),\"erro\")","v":"00:00:00"},{"$f":"IFERROR(Gerar_Upload!F2609,\"erro\")","v":0},{"$f":"IFERROR(IF(Gerar_Upload!G2609<44,REPT(0,44-LEN(Gerar_Upload!G2609))&Gerar_Upload!G2609,Gerar_Upload!G2609),\"erro\")","v":"00000000000000000000000000000000000000000000"}]
[{"$f":"IFERROR(LEFT(Gerar_Upload!A2610,120),\"erro\")","v":""},{"$f":"IFERROR(SUBSTITUTE(SUBSTITUTE(SUBSTITUTE(Gerar_Upload!B2610,\".\",\"\"),\"-\",\"\"),\"/\",\"\"),\"erro\")","v":""},{"$f":"IFERROR(Gerar_Upload!C2610,\"erro\")","v":0},{"$f":"IFERROR(Gerar_Upload!D2610,\"erro\")","v":0},{"$f":"IFERROR(DATE(YEAR(Gerar_Upload!E2610),MONTH(Gerar_Upload!E2610),DAY(Gerar_Upload!E2610)),\"erro\")","v":"00:00:00"},{"$f":"IFERROR(Gerar_Upload!F2610,\"erro\")","v":0},{"$f":"IFERROR(IF(Gerar_Upload!G2610<44,REPT(0,44-LEN(Gerar_Upload!G2610))&Gerar_Upload!G2610,Gerar_Upload!G2610),\"erro\")","v":"00000000000000000000000000000000000000000000"}]
[{"$f":"IFERROR(LEFT(Gerar_Upload!A2611,120),\"erro\")","v":""},{"$f":"IFERROR(SUBSTITUTE(SUBSTITUTE(SUBSTITUTE(Gerar_Upload!B2611,\".\",\"\"),\"-\",\"\"),\"/\",\"\"),\"erro\")","v":""},{"$f":"IFERROR(Gerar_Upload!C2611,\"erro\")","v":0},{"$f":"IFERROR(Gerar_Upload!D2611,\"erro\")","v":0},{"$f":"IFERROR(DATE(YEAR(Gerar_Upload!E2611),MONTH(Gerar_Upload!E2611),DAY(Gerar_Upload!E2611)),\"erro\")","v":"00:00:00"},{"$f":"IFERROR(Gerar_Upload!F2611,\"erro\")","v":0},{"$f":"IFERROR(IF(Gerar_Upload!G2611<44,REPT(0,44-LEN(Gerar_Upload!G2611))&Gerar_Upload!G2611,Gerar_Upload!G2611),\"erro\")","v":"00000000000000000000000000000000000000000000"}]
[{"$f":"IFERROR(LEFT(Gerar_Upload!A2612,120),\"erro\")","v":""},{"$f":"IFERROR(SUBSTITUTE(SUBSTITUTE(SUBSTITUTE(Gerar_Upload!B2612,\".\",\"\"),\"-\",\"\"),\"/\",\"\"),\"erro\")","v":""},{"$f":"IFERROR(Gerar_Upload!C2612,\"erro\")","v":0},{"$f":"IFERROR(Gerar_Upload!D2612,\"erro\")","v":0},{"$f":"IFERROR(DATE(YEAR(Gerar_Upload!E2612),MONTH(Gerar_Upload!E2612),DAY(Gerar_Upload!E2612)),\"erro\")","v":"00:00:00"},{"$f":"IFERROR(Gerar_Upload!F2612,\"erro\")","v":0},{"$f":"IFERROR(IF(Gerar_Upload!G2612<44,REPT(0,44-LEN(Gerar_Upload!G2612))&Gerar_Upload!G2612,Gerar_Upload!G2612),\"erro\")","v":"00000000000000000000000000000000000000000000"}]
[{"$f":"IFERROR(LEFT(Gerar_Upload!A2613,120),\"erro\")","v":""},{"$f":"IFERROR(SUBSTITUTE(SUBSTITUTE(SUBSTITUTE(Gerar_Upload!B2613,\".\",\"\"),\"-\",\"\"),\"/\",\"\"),\"erro\")","v":""},{"$f":"IFERROR(Gerar_Upload!C2613,\"erro\")","v":0},{"$f":"IFERROR(Gerar_Upload!D2613,\"erro\")","v":0},{"$f":"IFERROR(DATE(YEAR(Gerar_Upload!E2613),MONTH(Gerar_Upload!E2613),DAY(Gerar_Upload!E2613)),\"erro\")","v":"00:00:00"},{"$f":"IFERROR(Gerar_Upload!F2613,\"erro\")","v":0},{"$f":"IFERROR(IF(Gerar_Upload!G2613<44,REPT(0,44-LEN(Gerar_Upload!G2613))&Gerar_Upload!G2613,Gerar_Upload!G2613),\"erro\")","v":"00000000000000000000000000000000000000000000"}]
[{"$f":"IFERROR(LEFT(Gerar_Upload!A2614,120),\"erro\")","v":""},{"$f":"IFERROR(SUBSTITUTE(SUBSTITUTE(SUBSTITUTE(Gerar_Upload!B2614,\".\",\"\"),\"-\",\"\"),\"/\",\"\"),\"erro\")","v":""},{"$f":"IFERROR(Gerar_Upload!C2614,\"erro\")","v":0},{"$f":"IFERROR(Gerar_Upload!D2614,\"erro\")","v":0},{"$f":"IFERROR(DATE(YEAR(Gerar_Upload!E2614),MONTH(Gerar_Upload!E2614),DAY(Gerar_Upload!E2614)),\"erro\")","v":"00:00:00"},{"$f":"IFERROR(Gerar_Upload!F2614,\"erro\")","v":0},{"$f":"IFERROR(IF(Gerar_Upload!G2614<44,REPT(0,44-LEN(Gerar_Upload!G2614))&Gerar_Upload!G2614,Gerar_Upload!G2614),\"erro\")","v":"00000000000000000000000000000000000000000000"}]
[{"$f":"IFERROR(LEFT(Gerar_Upload!A2615,120),\"erro\")","v":""},{"$f":"IFERROR(SUBSTITUTE(SUBSTITUTE(SUBSTITUTE(Gerar_Upload!B2615,\".\",\"\"),\"-\",\"\"),\"/\",\"\"),\"erro\")","v":""},{"$f":"IFERROR(Gerar_Upload!C2615,\"erro\")","v":0},{"$f":"IFERROR(Gerar_Upload!D2615,\"erro\")","v":0},{"$f":"IFERROR(DATE(YEAR(Gerar_Upload!E2615),MONTH(Gerar_Upload!E2615),DAY(Gerar_Upload!E2615)),\"erro\")","v":"00:00:00"},{"$f":"IFERROR(Gerar_Upload!F2615,\"erro\")","v":0},{"$f":"IFERROR(IF(Gerar_Upload!G2615<44,REPT(0,44-LEN(Gerar_Upload!G2615))&Gerar_Upload!G2615,Gerar_Upload!G2615),\"erro\")","v":"00000000000000000000000000000000000000000000"}]
[{"$f":"IFERROR(LEFT(Gerar_Upload!A2616,120),\"erro\")","v":""},{"$f":"IFERROR(SUBSTITUTE(SUBSTITUTE(SUBSTITUTE(Gerar_Upload!B2616,\".\",\"\"),\"-\",\"\"),\"/\",\"\"),\"erro\")","v":""},{"$f":"IFERROR(Gerar_Upload!C2616,\"erro\")","v":0},{"$f":"IFERROR(Gerar_Upload!D2616,\"erro\")","v":0},{"$f":"IFERROR(DATE(YEAR(Gerar_Upload!E2616),MONTH(Gerar_Upload!E2616),DAY(Gerar_Upload!E2616)),\"erro\")","v":"00:00:00"},{"$f":"IFERROR(Gerar_Upload!F2616,\"erro\")","v":0},{"$f":"IFERROR(IF(Gerar_Upload!G2616<44,REPT(0,44-LEN(Gerar_Upload!G2616))&Gerar_Upload!G2616,Gerar_Upload!G2616),\"erro\")","v":"00000000000000000000000000000000000000000000"}]
[{"$f":"IFERROR(LEFT(Gerar_Upload!A2617,120),\"erro\")","v":""},{"$f":"IFERROR(SUBSTITUTE(SUBSTITUTE(SUBSTITUTE(Gerar_Upload!B2617,\".\",\"\"),\"-\",\"\"),\"/\",\"\"),\"erro\")","v":""},{"$f":"IFERROR(Gerar_Upload!C2617,\"erro\")","v":0},{"$f":"IFERROR(Gerar_Upload!D2617,\"erro\")","v":0},{"$f":"IFERROR(DATE(YEAR(Gerar_Upload!E2617),MONTH(Gerar_Upload!E2617),DAY(Gerar_Upload!E2617)),\"erro\")","v":"00:00:00"},{"$f":"IFERROR(Gerar_Upload!F2617,\"erro\")","v":0},{"$f":"IFERROR(IF(Gerar_Upload!G2617<44,REPT(0,44-LEN(Gerar_Upload!G2617))&Gerar_Upload!G2617,Gerar_Upload!G2617),\"erro\")","v":"00000000000000000000000000000000000000000000"}]
[{"$f":"IFERROR(LEFT(Gerar_Upload!A2618,120),\"erro\")","v":""},{"$f":"IFERROR(SUBSTITUTE(SUBSTITUTE(SUBSTITUTE(Gerar_Upload!B2618,\".\",\"\"),\"-\",\"\"),\"/\",\"\"),\"erro\")","v":""},{"$f":"IFERROR(Gerar_Upload!C2618,\"erro\")","v":0},{"$f":"IFERROR(Gerar_Upload!D2618,\"erro\")","v":0},{"$f":"IFERROR(DATE(YEAR(Gerar_Upload!E2618),MONTH(Gerar_Upload!E2618),DAY(Gerar_Upload!E2618)),\"erro\")","v":"00:00:00"},{"$f":"IFERROR(Gerar_Upload!F2618,\"erro\")","v":0},{"$f":"IFERROR(IF(Gerar_Upload!G2618<44,REPT(0,44-LEN(Gerar_Upload!G2618))&Gerar_Upload!G2618,Gerar_Upload!G2618),\"erro\")","v":"00000000000000000000000000000000000000000000"}]
[{"$f":"IFERROR(LEFT(Gerar_Upload!A2619,120),\"erro\")","v":""},{"$f":"IFERROR(SUBSTITUTE(SUBSTITUTE(SUBSTITUTE(Gerar_Upload!B2619,\".\",\"\"),\"-\",\"\"),\"/\",\"\"),\"erro\")","v":""},{"$f":"IFERROR(Gerar_Upload!C2619,\"erro\")","v":0},{"$f":"IFERROR(Gerar_Upload!D2619,\"erro\")","v":0},{"$f":"IFERROR(DATE(YEAR(Gerar_Upload!E2619),MONTH(Gerar_Upload!E2619),DAY(Gerar_Upload!E2619)),\"erro\")","v":"00:00:00"},{"$f":"IFERROR(Gerar_Upload!F2619,\"erro\")","v":0},{"$f":"IFERROR(IF(Gerar_Upload!G2619<44,REPT(0,44-LEN(Gerar_Upload!G2619))&Gerar_Upload!G2619,Gerar_Upload!G2619),\"erro\")","v":"00000000000000000000000000000000000000000000"}]
[{"$f":"IFERROR(LEFT(Gerar_Upload!A2620,120),\"erro\")","v":""},{"$f":"IFERROR(SUBSTITUTE(SUBSTITUTE(SUBSTITUTE(Gerar_Upload!B2620,\".\",\"\"),\"-\",\"\"),\"/\",\"\"),\"erro\")","v":""},{"$f":"IFERROR(Gerar_Upload!C2620,\"erro\")","v":0},{"$f":"IFERROR(Gerar_Upload!D2620,\"erro\")","v":0},{"$f":"IFERROR(DATE(YEAR(Gerar_Upload!E2620),MONTH(Gerar_Upload!E2620),DAY(Gerar_Upload!E2620)),\"erro\")","v":"00:00:00"},{"$f":"IFERROR(Gerar_Upload!F2620,\"erro\")","v":0},{"$f":"IFERROR(IF(Gerar_Upload!G2620<44,REPT(0,44-LEN(Gerar_Upload!G2620))&Gerar_Upload!G2620,Gerar_Upload!G2620),\"erro\")","v":"00000000000000000000000000000000000000000000"}]
[{"$f":"IFERROR(LEFT(Gerar_Upload!A2621,120),\"erro\")","v":""},{"$f":"IFERROR(SUBSTITUTE(SUBSTITUTE(SUBSTITUTE(Gerar_Upload!B2621,\".\",\"\"),\"-\",\"\"),\"/\",\"\"),\"erro\")","v":""},{"$f":"IFERROR(Gerar_Upload!C2621,\"erro\")","v":0},{"$f":"IFERROR(Gerar_Upload!D2621,\"erro\")","v":0},{"$f":"IFERROR(DATE(YEAR(Gerar_Upload!E2621),MONTH(Gerar_Upload!E2621),DAY(Gerar_Upload!E2621)),\"erro\")","v":"00:00:00"},{"$f":"IFERROR(Gerar_Upload!F2621,\"erro\")","v":0},{"$f":"IFERROR(IF(Gerar_Upload!G2621<44,REPT(0,44-LEN(Gerar_Upload!G2621))&Gerar_Upload!G2621,Gerar_Upload!G2621),\"erro\")","v":"00000000000000000000000000000000000000000000"}]
[{"$f":"IFERROR(LEFT(Gerar_Upload!A2622,120),\"erro\")","v":""},{"$f":"IFERROR(SUBSTITUTE(SUBSTITUTE(SUBSTITUTE(Gerar_Upload!B2622,\".\",\"\"),\"-\",\"\"),\"/\",\"\"),\"erro\")","v":""},{"$f":"IFERROR(Gerar_Upload!C2622,\"erro\")","v":0},{"$f":"IFERROR(Gerar_Upload!D2622,\"erro\")","v":0},{"$f":"IFERROR(DATE(YEAR(Gerar_Upload!E2622),MONTH(Gerar_Upload!E2622),DAY(Gerar_Upload!E2622)),\"erro\")","v":"00:00:00"},{"$f":"IFERROR(Gerar_Upload!F2622,\"erro\")","v":0},{"$f":"IFERROR(IF(Gerar_Upload!G2622<44,REPT(0,44-LEN(Gerar_Upload!G2622))&Gerar_Upload!G2622,Gerar_Upload!G2622),\"erro\")","v":"00000000000000000000000000000000000000000000"}]
[{"$f":"IFERROR(LEFT(Gerar_Upload!A2623,120),\"erro\")","v":""},{"$f":"IFERROR(SUBSTITUTE(SUBSTITUTE(SUBSTITUTE(Gerar_Upload!B2623,\".\",\"\"),\"-\",\"\"),\"/\",\"\"),\"erro\")","v":""},{"$f":"IFERROR(Gerar_Upload!C2623,\"erro\")","v":0},{"$f":"IFERROR(Gerar_Upload!D2623,\"erro\")","v":0},{"$f":"IFERROR(DATE(YEAR(Gerar_Upload!E2623),MONTH(Gerar_Upload!E2623),DAY(Gerar_Upload!E2623)),\"erro\")","v":"00:00:00"},{"$f":"IFERROR(Gerar_Upload!F2623,\"erro\")","v":0},{"$f":"IFERROR(IF(Gerar_Upload!G2623<44,REPT(0,44-LEN(Gerar_Upload!G2623))&Gerar_Upload!G2623,Gerar_Upload!G2623),\"erro\")","v":"00000000000000000000000000000000000000000000"}]
[{"$f":"IFERROR(LEFT(Gerar_Upload!A2624,120),\"erro\")","v":""},{"$f":"IFERROR(SUBSTITUTE(SUBSTITUTE(SUBSTITUTE(Gerar_Upload!B2624,\".\",\"\"),\"-\",\"\"),\"/\",\"\"),\"erro\")","v":""},{"$f":"IFERROR(Gerar_Upload!C2624,\"erro\")","v":0},{"$f":"IFERROR(Gerar_Upload!D2624,\"erro\")","v":0},{"$f":"IFERROR(DATE(YEAR(Gerar_Upload!E2624),MONTH(Gerar_Upload!E2624),DAY(Gerar_Upload!E2624)),\"erro\")","v":"00:00:00"},{"$f":"IFERROR(Gerar_Upload!F2624,\"erro\")","v":0},{"$f":"IFERROR(IF(Gerar_Upload!G2624<44,REPT(0,44-LEN(Gerar_Upload!G2624))&Gerar_Upload!G2624,Gerar_Upload!G2624),\"erro\")","v":"00000000000000000000000000000000000000000000"}]
[{"$f":"IFERROR(LEFT(Gerar_Upload!A2625,120),\"erro\")","v":""},{"$f":"IFERROR(SUBSTITUTE(SUBSTITUTE(SUBSTITUTE(Gerar_Upload!B2625,\".\",\"\"),\"-\",\"\"),\"/\",\"\"),\"erro\")","v":""},{"$f":"IFERROR(Gerar_Upload!C2625,\"erro\")","v":0},{"$f":"IFERROR(Gerar_Upload!D2625,\"erro\")","v":0},{"$f":"IFERROR(DATE(YEAR(Gerar_Upload!E2625),MONTH(Gerar_Upload!E2625),DAY(Gerar_Upload!E2625)),\"erro\")","v":"00:00:00"},{"$f":"IFERROR(Gerar_Upload!F2625,\"erro\")","v":0},{"$f":"IFERROR(IF(Gerar_Upload!G2625<44,REPT(0,44-LEN(Gerar_Upload!G2625))&Gerar_Upload!G2625,Gerar_Upload!G2625),\"erro\")","v":"00000000000000000000000000000000000000000000"}]
[{"$f":"IFERROR(LEFT(Gerar_Upload!A2626,120),\"erro\")","v":""},{"$f":"IFERROR(SUBSTITUTE(SUBSTITUTE(SUBSTITUTE(Gerar_Upload!B2626,\".\",\"\"),\"-\",\"\"),\"/\",\"\"),\"erro\")","v":""},{"$f":"IFERROR(Gerar_Upload!C2626,\"erro\")","v":0},{"$f":"IFERROR(Gerar_Upload!D2626,\"erro\")","v":0},{"$f":"IFERROR(DATE(YEAR(Gerar_Upload!E2626),MONTH(Gerar_Upload!E2626),DAY(Gerar_Upload!E2626)),\"erro\")","v":"00:00:00"},{"$f":"IFERROR(Gerar_Upload!F2626,\"erro\")","v":0},{"$f":"IFERROR(IF(Gerar_Upload!G2626<44,REPT(0,44-LEN(Gerar_Upload!G2626))&Gerar_Upload!G2626,Gerar_Upload!G2626),\"erro\")","v":"00000000000000000000000000000000000000000000"}]
[{"$f":"IFERROR(LEFT(Gerar_Upload!A2627,120),\"erro\")","v":""},{"$f":"IFERROR(SUBSTITUTE(SUBSTITUTE(SUBSTITUTE(Gerar_Upload!B2627,\".\",\"\"),\"-\",\"\"),\"/\",\"\"),\"erro\")","v":""},{"$f":"IFERROR(Gerar_Upload!C2627,\"erro\")","v":0},{"$f":"IFERROR(Gerar_Upload!D2627,\"erro\")","v":0},{"$f":"IFERROR(DATE(YEAR(Gerar_Upload!E2627),MONTH(Gerar_Upload!E2627),DAY(Gerar_Upload!E2627)),\"erro\")","v":"00:00:00"},{"$f":"IFERROR(Gerar_Upload!F2627,\"erro\")","v":0},{"$f":"IFERROR(IF(Gerar_Upload!G2627<44,REPT(0,44-LEN(Gerar_Upload!G2627))&Gerar_Upload!G2627,Gerar_Upload!G2627),\"erro\")","v":"00000000000000000000000000000000000000000000"}]
[{"$f":"IFERROR(LEFT(Gerar_Upload!A2628,120),\"erro\")","v":""},{"$f":"IFERROR(SUBSTITUTE(SUBSTITUTE(SUBSTITUTE(Gerar_Upload!B2628,\".\",\"\"),\"-\",\"\"),\"/\",\"\"),\"erro\")","v":""},{"$f":"IFERROR(Gerar_Upload!C2628,\"erro\")","v":0},{"$f":"IFERROR(Gerar_Upload!D2628,\"erro\")","v":0},{"$f":"IFERROR(DATE(YEAR(Gerar_Upload!E2628),MONTH(Gerar_Upload!E2628),DAY(Gerar_Upload!E2628)),\"erro\")","v":"00:00:00"},{"$f":"IFERROR(Gerar_Upload!F2628,\"erro\")","v":0},{"$f":"IFERROR(IF(Gerar_Upload!G2628<44,REPT(0,44-LEN(Gerar_Upload!G2628))&Gerar_Upload!G2628,Gerar_Upload!G2628),\"erro\")","v":"00000000000000000000000000000000000000000000"}]
[{"$f":"IFERROR(LEFT(Gerar_Upload!A2629,120),\"erro\")","v":""},{"$f":"IFERROR(SUBSTITUTE(SUBSTITUTE(SUBSTITUTE(Gerar_Upload!B2629,\".\",\"\"),\"-\",\"\"),\"/\",\"\"),\"erro\")","v":""},{"$f":"IFERROR(Gerar_Upload!C2629,\"erro\")","v":0},{"$f":"IFERROR(Gerar_Upload!D2629,\"erro\")","v":0},{"$f":"IFERROR(DATE(YEAR(Gerar_Upload!E2629),MONTH(Gerar_Upload!E2629),DAY(Gerar_Upload!E2629)),\"erro\")","v":"00:00:00"},{"$f":"IFERROR(Gerar_Upload!F2629,\"erro\")","v":0},{"$f":"IFERROR(IF(Gerar_Upload!G2629<44,REPT(0,44-LEN(Gerar_Upload!G2629))&Gerar_Upload!G2629,Gerar_Upload!G2629),\"erro\")","v":"00000000000000000000000000000000000000000000"}]
[{"$f":"IFERROR(LEFT(Gerar_Upload!A2630,120),\"erro\")","v":""},{"$f":"IFERROR(SUBSTITUTE(SUBSTITUTE(SUBSTITUTE(Gerar_Upload!B2630,\".\",\"\"),\"-\",\"\"),\"/\",\"\"),\"erro\")","v":""},{"$f":"IFERROR(Gerar_Upload!C2630,\"erro\")","v":0},{"$f":"IFERROR(Gerar_Upload!D2630,\"erro\")","v":0},{"$f":"IFERROR(DATE(YEAR(Gerar_Upload!E2630),MONTH(Gerar_Upload!E2630),DAY(Gerar_Upload!E2630)),\"erro\")","v":"00:00:00"},{"$f":"IFERROR(Gerar_Upload!F2630,\"erro\")","v":0},{"$f":"IFERROR(IF(Gerar_Upload!G2630<44,REPT(0,44-LEN(Gerar_Upload!G2630))&Gerar_Upload!G2630,Gerar_Upload!G2630),\"erro\")","v":"00000000000000000000000000000000000000000000"}]
[{"$f":"IFERROR(LEFT(Gerar_Upload!A2631,120),\"erro\")","v":""},{"$f":"IFERROR(SUBSTITUTE(SUBSTITUTE(SUBSTITUTE(Gerar_Upload!B2631,\".\",\"\"),\"-\",\"\"),\"/\",\"\"),\"erro\")","v":""},{"$f":"IFERROR(Gerar_Upload!C2631,\"erro\")","v":0},{"$f":"IFERROR(Gerar_Upload!D2631,\"erro\")","v":0},{"$f":"IFERROR(DATE(YEAR(Gerar_Upload!E2631),MONTH(Gerar_Upload!E2631),DAY(Gerar_Upload!E2631)),\"erro\")","v":"00:00:00"},{"$f":"IFERROR(Gerar_Upload!F2631,\"erro\")","v":0},{"$f":"IFERROR(IF(Gerar_Upload!G2631<44,REPT(0,44-LEN(Gerar_Upload!G2631))&Gerar_Upload!G2631,Gerar_Upload!G2631),\"erro\")","v":"00000000000000000000000000000000000000000000"}]
[{"$f":"IFERROR(LEFT(Gerar_Upload!A2632,120),\"erro\")","v":""},{"$f":"IFERROR(SUBSTITUTE(SUBSTITUTE(SUBSTITUTE(Gerar_Upload!B2632,\".\",\"\"),\"-\",\"\"),\"/\",\"\"),\"erro\")","v":""},{"$f":"IFERROR(Gerar_Upload!C2632,\"erro\")","v":0},{"$f":"IFERROR(Gerar_Upload!D2632,\"erro\")","v":0},{"$f":"IFERROR(DATE(YEAR(Gerar_Upload!E2632),MONTH(Gerar_Upload!E2632),DAY(Gerar_Upload!E2632)),\"erro\")","v":"00:00:00"},{"$f":"IFERROR(Gerar_Upload!F2632,\"erro\")","v":0},{"$f":"IFERROR(IF(Gerar_Upload!G2632<44,REPT(0,44-LEN(Gerar_Upload!G2632))&Gerar_Upload!G2632,Gerar_Upload!G2632),\"erro\")","v":"00000000000000000000000000000000000000000000"}]
[{"$f":"IFERROR(LEFT(Gerar_Upload!A2633,120),\"erro\")","v":""},{"$f":"IFERROR(SUBSTITUTE(SUBSTITUTE(SUBSTITUTE(Gerar_Upload!B2633,\".\",\"\"),\"-\",\"\"),\"/\",\"\"),\"erro\")","v":""},{"$f":"IFERROR(Gerar_Upload!C2633,\"erro\")","v":0},{"$f":"IFERROR(Gerar_Upload!D2633,\"erro\")","v":0},{"$f":"IFERROR(DATE(YEAR(Gerar_Upload!E2633),MONTH(Gerar_Upload!E2633),DAY(Gerar_Upload!E2633)),\"erro\")","v":"00:00:00"},{"$f":"IFERROR(Gerar_Upload!F2633,\"erro\")","v":0},{"$f":"IFERROR(IF(Gerar_Upload!G2633<44,REPT(0,44-LEN(Gerar_Upload!G2633))&Gerar_Upload!G2633,Gerar_Upload!G2633),\"erro\")","v":"00000000000000000000000000000000000000000000"}]
[{"$f":"IFERROR(LEFT(Gerar_Upload!A2634,120),\"erro\")","v":""},{"$f":"IFERROR(SUBSTITUTE(SUBSTITUTE(SUBSTITUTE(Gerar_Upload!B2634,\".\",\"\"),\"-\",\"\"),\"/\",\"\"),\"erro\")","v":""},{"$f":"IFERROR(Gerar_Upload!C2634,\"erro\")","v":0},{"$f":"IFERROR(Gerar_Upload!D2634,\"erro\")","v":0},{"$f":"IFERROR(DATE(YEAR(Gerar_Upload!E2634),MONTH(Gerar_Upload!E2634),DAY(Gerar_Upload!E2634)),\"erro\")","v":"00:00:00"},{"$f":"IFERROR(Gerar_Upload!F2634,\"erro\")","v":0},{"$f":"IFERROR(IF(Gerar_Upload!G2634<44,REPT(0,44-LEN(Gerar_Upload!G2634))&Gerar_Upload!G2634,Gerar_Upload!G2634),\"erro\")","v":"00000000000000000000000000000000000000000000"}]
[{"$f":"IFERROR(LEFT(Gerar_Upload!A2635,120),\"erro\")","v":""},{"$f":"IFERROR(SUBSTITUTE(SUBSTITUTE(SUBSTITUTE(Gerar_Upload!B2635,\".\",\"\"),\"-\",\"\"),\"/\",\"\"),\"erro\")","v":""},{"$f":"IFERROR(Gerar_Upload!C2635,\"erro\")","v":0},{"$f":"IFERROR(Gerar_Upload!D2635,\"erro\")","v":0},{"$f":"IFERROR(DATE(YEAR(Gerar_Upload!E2635),MONTH(Gerar_Upload!E2635),DAY(Gerar_Upload!E2635)),\"erro\")","v":"00:00:00"},{"$f":"IFERROR(Gerar_Upload!F2635,\"erro\")","v":0},{"$f":"IFERROR(IF(Gerar_Upload!G2635<44,REPT(0,44-LEN(Gerar_Upload!G2635))&Gerar_Upload!G2635,Gerar_Upload!G2635),\"erro\")","v":"00000000000000000000000000000000000000000000"}]
[{"$f":"IFERROR(LEFT(Gerar_Upload!A2636,120),\"erro\")","v":""},{"$f":"IFERROR(SUBSTITUTE(SUBSTITUTE(SUBSTITUTE(Gerar_Upload!B2636,\".\",\"\"),\"-\",\"\"),\"/\",\"\"),\"erro\")","v":""},{"$f":"IFERROR(Gerar_Upload!C2636,\"erro\")","v":0},{"$f":"IFERROR(Gerar_Upload!D2636,\"erro\")","v":0},{"$f":"IFERROR(DATE(YEAR(Gerar_Upload!E2636),MONTH(Gerar_Upload!E2636),DAY(Gerar_Upload!E2636)),\"erro\")","v":"00:00:00"},{"$f":"IFERROR(Gerar_Upload!F2636,\"erro\")","v":0},{"$f":"IFERROR(IF(Gerar_Upload!G2636<44,REPT(0,44-LEN(Gerar_Upload!G2636))&Gerar_Upload!G2636,Gerar_Upload!G2636),\"erro\")","v":"00000000000000000000000000000000000000000000"}]
[{"$f":"IFERROR(LEFT(Gerar_Upload!A2637,120),\"erro\")","v":""},{"$f":"IFERROR(SUBSTITUTE(SUBSTITUTE(SUBSTITUTE(Gerar_Upload!B2637,\".\",\"\"),\"-\",\"\"),\"/\",\"\"),\"erro\")","v":""},{"$f":"IFERROR(Gerar_Upload!C2637,\"erro\")","v":0},{"$f":"IFERROR(Gerar_Upload!D2637,\"erro\")","v":0},{"$f":"IFERROR(DATE(YEAR(Gerar_Upload!E2637),MONTH(Gerar_Upload!E2637),DAY(Gerar_Upload!E2637)),\"erro\")","v":"00:00:00"},{"$f":"IFERROR(Gerar_Upload!F2637,\"erro\")","v":0},{"$f":"IFERROR(IF(Gerar_Upload!G2637<44,REPT(0,44-LEN(Gerar_Upload!G2637))&Gerar_Upload!G2637,Gerar_Upload!G2637),\"erro\")","v":"00000000000000000000000000000000000000000000"}]
[{"$f":"IFERROR(LEFT(Gerar_Upload!A2638,120),\"erro\")","v":""},{"$f":"IFERROR(SUBSTITUTE(SUBSTITUTE(SUBSTITUTE(Gerar_Upload!B2638,\".\",\"\"),\"-\",\"\"),\"/\",\"\"),\"erro\")","v":""},{"$f":"IFERROR(Gerar_Upload!C2638,\"erro\")","v":0},{"$f":"IFERROR(Gerar_Upload!D2638,\"erro\")","v":0},{"$f":"IFERROR(DATE(YEAR(Gerar_Upload!E2638),MONTH(Gerar_Upload!E2638),DAY(Gerar_Upload!E2638)),\"erro\")","v":"00:00:00"},{"$f":"IFERROR(Gerar_Upload!F2638,\"erro\")","v":0},{"$f":"IFERROR(IF(Gerar_Upload!G2638<44,REPT(0,44-LEN(Gerar_Upload!G2638))&Gerar_Upload!G2638,Gerar_Upload!G2638),\"erro\")","v":"00000000000000000000000000000000000000000000"}]
[{"$f":"IFERROR(LEFT(Gerar_Upload!A2639,120),\"erro\")","v":""},{"$f":"IFERROR(SUBSTITUTE(SUBSTITUTE(SUBSTITUTE(Gerar_Upload!B2639,\".\",\"\"),\"-\",\"\"),\"/\",\"\"),\"erro\")","v":""},{"$f":"IFERROR(Gerar_Upload!C2639,\"erro\")","v":0},{"$f":"IFERROR(Gerar_Upload!D2639,\"erro\")","v":0},{"$f":"IFERROR(DATE(YEAR(Gerar_Upload!E2639),MONTH(Gerar_Upload!E2639),DAY(Gerar_Upload!E2639)),\"erro\")","v":"00:00:00"},{"$f":"IFERROR(Gerar_Upload!F2639,\"erro\")","v":0},{"$f":"IFERROR(IF(Gerar_Upload!G2639<44,REPT(0,44-LEN(Gerar_Upload!G2639))&Gerar_Upload!G2639,Gerar_Upload!G2639),\"erro\")","v":"00000000000000000000000000000000000000000000"}]
[{"$f":"IFERROR(LEFT(Gerar_Upload!A2640,120),\"erro\")","v":""},{"$f":"IFERROR(SUBSTITUTE(SUBSTITUTE(SUBSTITUTE(Gerar_Upload!B2640,\".\",\"\"),\"-\",\"\"),\"/\",\"\"),\"erro\")","v":""},{"$f":"IFERROR(Gerar_Upload!C2640,\"erro\")","v":0},{"$f":"IFERROR(Gerar_Upload!D2640,\"erro\")","v":0},{"$f":"IFERROR(DATE(YEAR(Gerar_Upload!E2640),MONTH(Gerar_Upload!E2640),DAY(Gerar_Upload!E2640)),\"erro\")","v":"00:00:00"},{"$f":"IFERROR(Gerar_Upload!F2640,\"erro\")","v":0},{"$f":"IFERROR(IF(Gerar_Upload!G2640<44,REPT(0,44-LEN(Gerar_Upload!G2640))&Gerar_Upload!G2640,Gerar_Upload!G2640),\"erro\")","v":"00000000000000000000000000000000000000000000"}]
[{"$f":"IFERROR(LEFT(Gerar_Upload!A2641,120),\"erro\")","v":""},{"$f":"IFERROR(SUBSTITUTE(SUBSTITUTE(SUBSTITUTE(Gerar_Upload!B2641,\".\",\"\"),\"-\",\"\"),\"/\",\"\"),\"erro\")","v":""},{"$f":"IFERROR(Gerar_Upload!C2641,\"erro\")","v":0},{"$f":"IFERROR(Gerar_Upload!D2641,\"erro\")","v":0},{"$f":"IFERROR(DATE(YEAR(Gerar_Upload!E2641),MONTH(Gerar_Upload!E2641),DAY(Gerar_Upload!E2641)),\"erro\")","v":"00:00:00"},{"$f":"IFERROR(Gerar_Upload!F2641,\"erro\")","v":0},{"$f":"IFERROR(IF(Gerar_Upload!G2641<44,REPT(0,44-LEN(Gerar_Upload!G2641))&Gerar_Upload!G2641,Gerar_Upload!G2641),\"erro\")","v":"00000000000000000000000000000000000000000000"}]
[{"$f":"IFERROR(LEFT(Gerar_Upload!A2642,120),\"erro\")","v":""},{"$f":"IFERROR(SUBSTITUTE(SUBSTITUTE(SUBSTITUTE(Gerar_Upload!B2642,\".\",\"\"),\"-\",\"\"),\"/\",\"\"),\"erro\")","v":""},{"$f":"IFERROR(Gerar_Upload!C2642,\"erro\")","v":0},{"$f":"IFERROR(Gerar_Upload!D2642,\"erro\")","v":0},{"$f":"IFERROR(DATE(YEAR(Gerar_Upload!E2642),MONTH(Gerar_Upload!E2642),DAY(Gerar_Upload!E2642)),\"erro\")","v":"00:00:00"},{"$f":"IFERROR(Gerar_Upload!F2642,\"erro\")","v":0},{"$f":"IFERROR(IF(Gerar_Upload!G2642<44,REPT(0,44-LEN(Gerar_Upload!G2642))&Gerar_Upload!G2642,Gerar_Upload!G2642),\"erro\")","v":"00000000000000000000000000000000000000000000"}]
[{"$f":"IFERROR(LEFT(Gerar_Upload!A2643,120),\"erro\")","v":""},{"$f":"IFERROR(SUBSTITUTE(SUBSTITUTE(SUBSTITUTE(Gerar_Upload!B2643,\".\",\"\"),\"-\",\"\"),\"/\",\"\"),\"erro\")","v":""},{"$f":"IFERROR(Gerar_Upload!C2643,\"erro\")","v":0},{"$f":"IFERROR(Gerar_Upload!D2643,\"erro\")","v":0},{"$f":"IFERROR(DATE(YEAR(Gerar_Upload!E2643),MONTH(Gerar_Upload!E2643),DAY(Gerar_Upload!E2643)),\"erro\")","v":"00:00:00"},{"$f":"IFERROR(Gerar_Upload!F2643,\"erro\")","v":0},{"$f":"IFERROR(IF(Gerar_Upload!G2643<44,REPT(0,44-LEN(Gerar_Upload!G2643))&Gerar_Upload!G2643,Gerar_Upload!G2643),\"erro\")","v":"00000000000000000000000000000000000000000000"}]
[{"$f":"IFERROR(LEFT(Gerar_Upload!A2644,120),\"erro\")","v":""},{"$f":"IFERROR(SUBSTITUTE(SUBSTITUTE(SUBSTITUTE(Gerar_Upload!B2644,\".\",\"\"),\"-\",\"\"),\"/\",\"\"),\"erro\")","v":""},{"$f":"IFERROR(Gerar_Upload!C2644,\"erro\")","v":0},{"$f":"IFERROR(Gerar_Upload!D2644,\"erro\")","v":0},{"$f":"IFERROR(DATE(YEAR(Gerar_Upload!E2644),MONTH(Gerar_Upload!E2644),DAY(Gerar_Upload!E2644)),\"erro\")","v":"00:00:00"},{"$f":"IFERROR(Gerar_Upload!F2644,\"erro\")","v":0},{"$f":"IFERROR(IF(Gerar_Upload!G2644<44,REPT(0,44-LEN(Gerar_Upload!G2644))&Gerar_Upload!G2644,Gerar_Upload!G2644),\"erro\")","v":"00000000000000000000000000000000000000000000"}]
[{"$f":"IFERROR(LEFT(Gerar_Upload!A2645,120),\"erro\")","v":""},{"$f":"IFERROR(SUBSTITUTE(SUBSTITUTE(SUBSTITUTE(Gerar_Upload!B2645,\".\",\"\"),\"-\",\"\"),\"/\",\"\"),\"erro\")","v":""},{"$f":"IFERROR(Gerar_Upload!C2645,\"erro\")","v":0},{"$f":"IFERROR(Gerar_Upload!D2645,\"erro\")","v":0},{"$f":"IFERROR(DATE(YEAR(Gerar_Upload!E2645),MONTH(Gerar_Upload!E2645),DAY(Gerar_Upload!E2645)),\"erro\")","v":"00:00:00"},{"$f":"IFERROR(Gerar_Upload!F2645,\"erro\")","v":0},{"$f":"IFERROR(IF(Gerar_Upload!G2645<44,REPT(0,44-LEN(Gerar_Upload!G2645))&Gerar_Upload!G2645,Gerar_Upload!G2645),\"erro\")","v":"00000000000000000000000000000000000000000000"}]
[{"$f":"IFERROR(LEFT(Gerar_Upload!A2646,120),\"erro\")","v":""},{"$f":"IFERROR(SUBSTITUTE(SUBSTITUTE(SUBSTITUTE(Gerar_Upload!B2646,\".\",\"\"),\"-\",\"\"),\"/\",\"\"),\"erro\")","v":""},{"$f":"IFERROR(Gerar_Upload!C2646,\"erro\")","v":0},{"$f":"IFERROR(Gerar_Upload!D2646,\"erro\")","v":0},{"$f":"IFERROR(DATE(YEAR(Gerar_Upload!E2646),MONTH(Gerar_Upload!E2646),DAY(Gerar_Upload!E2646)),\"erro\")","v":"00:00:00"},{"$f":"IFERROR(Gerar_Upload!F2646,\"erro\")","v":0},{"$f":"IFERROR(IF(Gerar_Upload!G2646<44,REPT(0,44-LEN(Gerar_Upload!G2646))&Gerar_Upload!G2646,Gerar_Upload!G2646),\"erro\")","v":"00000000000000000000000000000000000000000000"}]
[{"$f":"IFERROR(LEFT(Gerar_Upload!A2647,120),\"erro\")","v":""},{"$f":"IFERROR(SUBSTITUTE(SUBSTITUTE(SUBSTITUTE(Gerar_Upload!B2647,\".\",\"\"),\"-\",\"\"),\"/\",\"\"),\"erro\")","v":""},{"$f":"IFERROR(Gerar_Upload!C2647,\"erro\")","v":0},{"$f":"IFERROR(Gerar_Upload!D2647,\"erro\")","v":0},{"$f":"IFERROR(DATE(YEAR(Gerar_Upload!E2647),MONTH(Gerar_Upload!E2647),DAY(Gerar_Upload!E2647)),\"erro\")","v":"00:00:00"},{"$f":"IFERROR(Gerar_Upload!F2647,\"erro\")","v":0},{"$f":"IFERROR(IF(Gerar_Upload!G2647<44,REPT(0,44-LEN(Gerar_Upload!G2647))&Gerar_Upload!G2647,Gerar_Upload!G2647),\"erro\")","v":"00000000000000000000000000000000000000000000"}]
[{"$f":"IFERROR(LEFT(Gerar_Upload!A2648,120),\"erro\")","v":""},{"$f":"IFERROR(SUBSTITUTE(SUBSTITUTE(SUBSTITUTE(Gerar_Upload!B2648,\".\",\"\"),\"-\",\"\"),\"/\",\"\"),\"erro\")","v":""},{"$f":"IFERROR(Gerar_Upload!C2648,\"erro\")","v":0},{"$f":"IFERROR(Gerar_Upload!D2648,\"erro\")","v":0},{"$f":"IFERROR(DATE(YEAR(Gerar_Upload!E2648),MONTH(Gerar_Upload!E2648),DAY(Gerar_Upload!E2648)),\"erro\")","v":"00:00:00"},{"$f":"IFERROR(Gerar_Upload!F2648,\"erro\")","v":0},{"$f":"IFERROR(IF(Gerar_Upload!G2648<44,REPT(0,44-LEN(Gerar_Upload!G2648))&Gerar_Upload!G2648,Gerar_Upload!G2648),\"erro\")","v":"00000000000000000000000000000000000000000000"}]
[{"$f":"IFERROR(LEFT(Gerar_Upload!A2649,120),\"erro\")","v":""},{"$f":"IFERROR(SUBSTITUTE(SUBSTITUTE(SUBSTITUTE(Gerar_Upload!B2649,\".\",\"\"),\"-\",\"\"),\"/\",\"\"),\"erro\")","v":""},{"$f":"IFERROR(Gerar_Upload!C2649,\"erro\")","v":0},{"$f":"IFERROR(Gerar_Upload!D2649,\"erro\")","v":0},{"$f":"IFERROR(DATE(YEAR(Gerar_Upload!E2649),MONTH(Gerar_Upload!E2649),DAY(Gerar_Upload!E2649)),\"erro\")","v":"00:00:00"},{"$f":"IFERROR(Gerar_Upload!F2649,\"erro\")","v":0},{"$f":"IFERROR(IF(Gerar_Upload!G2649<44,REPT(0,44-LEN(Gerar_Upload!G2649))&Gerar_Upload!G2649,Gerar_Upload!G2649),\"erro\")","v":"00000000000000000000000000000000000000000000"}]
[{"$f":"IFERROR(LEFT(Gerar_Upload!A2650,120),\"erro\")","v":""},{"$f":"IFERROR(SUBSTITUTE(SUBSTITUTE(SUBSTITUTE(Gerar_Upload!B2650,\".\",\"\"),\"-\",\"\"),\"/\",\"\"),\"erro\")","v":""},{"$f":"IFERROR(Gerar_Upload!C2650,\"erro\")","v":0},{"$f":"IFERROR(Gerar_Upload!D2650,\"erro\")","v":0},{"$f":"IFERROR(DATE(YEAR(Gerar_Upload!E2650),MONTH(Gerar_Upload!E2650),DAY(Gerar_Upload!E2650)),\"erro\")","v":"00:00:00"},{"$f":"IFERROR(Gerar_Upload!F2650,\"erro\")","v":0},{"$f":"IFERROR(IF(Gerar_Upload!G2650<44,REPT(0,44-LEN(Gerar_Upload!G2650))&Gerar_Upload!G2650,Gerar_Upload!G2650),\"erro\")","v":"00000000000000000000000000000000000000000000"}]
[{"$f":"IFERROR(LEFT(Gerar_Upload!A2651,120),\"erro\")","v":""},{"$f":"IFERROR(SUBSTITUTE(SUBSTITUTE(SUBSTITUTE(Gerar_Upload!B2651,\".\",\"\"),\"-\",\"\"),\"/\",\"\"),\"erro\")","v":""},{"$f":"IFERROR(Gerar_Upload!C2651,\"erro\")","v":0},{"$f":"IFERROR(Gerar_Upload!D2651,\"erro\")","v":0},{"$f":"IFERROR(DATE(YEAR(Gerar_Upload!E2651),MONTH(Gerar_Upload!E2651),DAY(Gerar_Upload!E2651)),\"erro\")","v":"00:00:00"},{"$f":"IFERROR(Gerar_Upload!F2651,\"erro\")","v":0},{"$f":"IFERROR(IF(Gerar_Upload!G2651<44,REPT(0,44-LEN(Gerar_Upload!G2651))&Gerar_Upload!G2651,Gerar_Upload!G2651),\"erro\")","v":"00000000000000000000000000000000000000000000"}]
[{"$f":"IFERROR(LEFT(Gerar_Upload!A2652,120),\"erro\")","v":""},{"$f":"IFERROR(SUBSTITUTE(SUBSTITUTE(SUBSTITUTE(Gerar_Upload!B2652,\".\",\"\"),\"-\",\"\"),\"/\",\"\"),\"erro\")","v":""},{"$f":"IFERROR(Gerar_Upload!C2652,\"erro\")","v":0},{"$f":"IFERROR(Gerar_Upload!D2652,\"erro\")","v":0},{"$f":"IFERROR(DATE(YEAR(Gerar_Upload!E2652),MONTH(Gerar_Upload!E2652),DAY(Gerar_Upload!E2652)),\"erro\")","v":"00:00:00"},{"$f":"IFERROR(Gerar_Upload!F2652,\"erro\")","v":0},{"$f":"IFERROR(IF(Gerar_Upload!G2652<44,REPT(0,44-LEN(Gerar_Upload!G2652))&Gerar_Upload!G2652,Gerar_Upload!G2652),\"erro\")","v":"00000000000000000000000000000000000000000000"}]
[{"$f":"IFERROR(LEFT(Gerar_Upload!A2653,120),\"erro\")","v":""},{"$f":"IFERROR(SUBSTITUTE(SUBSTITUTE(SUBSTITUTE(Gerar_Upload!B2653,\".\",\"\"),\"-\",\"\"),\"/\",\"\"),\"erro\")","v":""},{"$f":"IFERROR(Gerar_Upload!C2653,\"erro\")","v":0},{"$f":"IFERROR(Gerar_Upload!D2653,\"erro\")","v":0},{"$f":"IFERROR(DATE(YEAR(Gerar_Upload!E2653),MONTH(Gerar_Upload!E2653),DAY(Gerar_Upload!E2653)),\"erro\")","v":"00:00:00"},{"$f":"IFERROR(Gerar_Upload!F2653,\"erro\")","v":0},{"$f":"IFERROR(IF(Gerar_Upload!G2653<44,REPT(0,44-LEN(Gerar_Upload!G2653))&Gerar_Upload!G2653,Gerar_Upload!G2653),\"erro\")","v":"00000000000000000000000000000000000000000000"}]
[{"$f":"IFERROR(LEFT(Gerar_Upload!A2654,120),\"erro\")","v":""},{"$f":"IFERROR(SUBSTITUTE(SUBSTITUTE(SUBSTITUTE(Gerar_Upload!B2654,\".\",\"\"),\"-\",\"\"),\"/\",\"\"),\"erro\")","v":""},{"$f":"IFERROR(Gerar_Upload!C2654,\"erro\")","v":0},{"$f":"IFERROR(Gerar_Upload!D2654,\"erro\")","v":0},{"$f":"IFERROR(DATE(YEAR(Gerar_Upload!E2654),MONTH(Gerar_Upload!E2654),DAY(Gerar_Upload!E2654)),\"erro\")","v":"00:00:00"},{"$f":"IFERROR(Gerar_Upload!F2654,\"erro\")","v":0},{"$f":"IFERROR(IF(Gerar_Upload!G2654<44,REPT(0,44-LEN(Gerar_Upload!G2654))&Gerar_Upload!G2654,Gerar_Upload!G2654),\"erro\")","v":"00000000000000000000000000000000000000000000"}]
[{"$f":"IFERROR(LEFT(Gerar_Upload!A2655,120),\"erro\")","v":""},{"$f":"IFERROR(SUBSTITUTE(SUBSTITUTE(SUBSTITUTE(Gerar_Upload!B2655,\".\",\"\"),\"-\",\"\"),\"/\",\"\"),\"erro\")","v":""},{"$f":"IFERROR(Gerar_Upload!C2655,\"erro\")","v":0},{"$f":"IFERROR(Gerar_Upload!D2655,\"erro\")","v":0},{"$f":"IFERROR(DATE(YEAR(Gerar_Upload!E2655),MONTH(Gerar_Upload!E2655),DAY(Gerar_Upload!E2655)),\"erro\")","v":"00:00:00"},{"$f":"IFERROR(Gerar_Upload!F2655,\"erro\")","v":0},{"$f":"IFERROR(IF(Gerar_Upload!G2655<44,REPT(0,44-LEN(Gerar_Upload!G2655))&Gerar_Upload!G2655,Gerar_Upload!G2655),\"erro\")","v":"00000000000000000000000000000000000000000000"}]
[{"$f":"IFERROR(LEFT(Gerar_Upload!A2656,120),\"erro\")","v":""},{"$f":"IFERROR(SUBSTITUTE(SUBSTITUTE(SUBSTITUTE(Gerar_Upload!B2656,\".\",\"\"),\"-\",\"\"),\"/\",\"\"),\"erro\")","v":""},{"$f":"IFERROR(Gerar_Upload!C2656,\"erro\")","v":0},{"$f":"IFERROR(Gerar_Upload!D2656,\"erro\")","v":0},{"$f":"IFERROR(DATE(YEAR(Gerar_Upload!E2656),MONTH(Gerar_Upload!E2656),DAY(Gerar_Upload!E2656)),\"erro\")","v":"00:00:00"},{"$f":"IFERROR(Gerar_Upload!F2656,\"erro\")","v":0},{"$f":"IFERROR(IF(Gerar_Upload!G2656<44,REPT(0,44-LEN(Gerar_Upload!G2656))&Gerar_Upload!G2656,Gerar_Upload!G2656),\"erro\")","v":"00000000000000000000000000000000000000000000"}]
[{"$f":"IFERROR(LEFT(Gerar_Upload!A2657,120),\"erro\")","v":""},{"$f":"IFERROR(SUBSTITUTE(SUBSTITUTE(SUBSTITUTE(Gerar_Upload!B2657,\".\",\"\"),\"-\",\"\"),\"/\",\"\"),\"erro\")","v":""},{"$f":"IFERROR(Gerar_Upload!C2657,\"erro\")","v":0},{"$f":"IFERROR(Gerar_Upload!D2657,\"erro\")","v":0},{"$f":"IFERROR(DATE(YEAR(Gerar_Upload!E2657),MONTH(Gerar_Upload!E2657),DAY(Gerar_Upload!E2657)),\"erro\")","v":"00:00:00"},{"$f":"IFERROR(Gerar_Upload!F2657,\"erro\")","v":0},{"$f":"IFERROR(IF(Gerar_Upload!G2657<44,REPT(0,44-LEN(Gerar_Upload!G2657))&Gerar_Upload!G2657,Gerar_Upload!G2657),\"erro\")","v":"00000000000000000000000000000000000000000000"}]
[{"$f":"IFERROR(LEFT(Gerar_Upload!A2658,120),\"erro\")","v":""},{"$f":"IFERROR(SUBSTITUTE(SUBSTITUTE(SUBSTITUTE(Gerar_Upload!B2658,\".\",\"\"),\"-\",\"\"),\"/\",\"\"),\"erro\")","v":""},{"$f":"IFERROR(Gerar_Upload!C2658,\"erro\")","v":0},{"$f":"IFERROR(Gerar_Upload!D2658,\"erro\")","v":0},{"$f":"IFERROR(DATE(YEAR(Gerar_Upload!E2658),MONTH(Gerar_Upload!E2658),DAY(Gerar_Upload!E2658)),\"erro\")","v":"00:00:00"},{"$f":"IFERROR(Gerar_Upload!F2658,\"erro\")","v":0},{"$f":"IFERROR(IF(Gerar_Upload!G2658<44,REPT(0,44-LEN(Gerar_Upload!G2658))&Gerar_Upload!G2658,Gerar_Upload!G2658),\"erro\")","v":"00000000000000000000000000000000000000000000"}]
[{"$f":"IFERROR(LEFT(Gerar_Upload!A2659,120),\"erro\")","v":""},{"$f":"IFERROR(SUBSTITUTE(SUBSTITUTE(SUBSTITUTE(Gerar_Upload!B2659,\".\",\"\"),\"-\",\"\"),\"/\",\"\"),\"erro\")","v":""},{"$f":"IFERROR(Gerar_Upload!C2659,\"erro\")","v":0},{"$f":"IFERROR(Gerar_Upload!D2659,\"erro\")","v":0},{"$f":"IFERROR(DATE(YEAR(Gerar_Upload!E2659),MONTH(Gerar_Upload!E2659),DAY(Gerar_Upload!E2659)),\"erro\")","v":"00:00:00"},{"$f":"IFERROR(Gerar_Upload!F2659,\"erro\")","v":0},{"$f":"IFERROR(IF(Gerar_Upload!G2659<44,REPT(0,44-LEN(Gerar_Upload!G2659))&Gerar_Upload!G2659,Gerar_Upload!G2659),\"erro\")","v":"00000000000000000000000000000000000000000000"}]
[{"$f":"IFERROR(LEFT(Gerar_Upload!A2660,120),\"erro\")","v":""},{"$f":"IFERROR(SUBSTITUTE(SUBSTITUTE(SUBSTITUTE(Gerar_Upload!B2660,\".\",\"\"),\"-\",\"\"),\"/\",\"\"),\"erro\")","v":""},{"$f":"IFERROR(Gerar_Upload!C2660,\"erro\")","v":0},{"$f":"IFERROR(Gerar_Upload!D2660,\"erro\")","v":0},{"$f":"IFERROR(DATE(YEAR(Gerar_Upload!E2660),MONTH(Gerar_Upload!E2660),DAY(Gerar_Upload!E2660)),\"erro\")","v":"00:00:00"},{"$f":"IFERROR(Gerar_Upload!F2660,\"erro\")","v":0},{"$f":"IFERROR(IF(Gerar_Upload!G2660<44,REPT(0,44-LEN(Gerar_Upload!G2660))&Gerar_Upload!G2660,Gerar_Upload!G2660),\"erro\")","v":"00000000000000000000000000000000000000000000"}]
[{"$f":"IFERROR(LEFT(Gerar_Upload!A2661,120),\"erro\")","v":""},{"$f":"IFERROR(SUBSTITUTE(SUBSTITUTE(SUBSTITUTE(Gerar_Upload!B2661,\".\",\"\"),\"-\",\"\"),\"/\",\"\"),\"erro\")","v":""},{"$f":"IFERROR(Gerar_Upload!C2661,\"erro\")","v":0},{"$f":"IFERROR(Gerar_Upload!D2661,\"erro\")","v":0},{"$f":"IFERROR(DATE(YEAR(Gerar_Upload!E2661),MONTH(Gerar_Upload!E2661),DAY(Gerar_Upload!E2661)),\"erro\")","v":"00:00:00"},{"$f":"IFERROR(Gerar_Upload!F2661,\"erro\")","v":0},{"$f":"IFERROR(IF(Gerar_Upload!G2661<44,REPT(0,44-LEN(Gerar_Upload!G2661))&Gerar_Upload!G2661,Gerar_Upload!G2661),\"erro\")","v":"00000000000000000000000000000000000000000000"}]
[{"$f":"IFERROR(LEFT(Gerar_Upload!A2662,120),\"erro\")","v":""},{"$f":"IFERROR(SUBSTITUTE(SUBSTITUTE(SUBSTITUTE(Gerar_Upload!B2662,\".\",\"\"),\"-\",\"\"),\"/\",\"\"),\"erro\")","v":""},{"$f":"IFERROR(Gerar_Upload!C2662,\"erro\")","v":0},{"$f":"IFERROR(Gerar_Upload!D2662,\"erro\")","v":0},{"$f":"IFERROR(DATE(YEAR(Gerar_Upload!E2662),MONTH(Gerar_Upload!E2662),DAY(Gerar_Upload!E2662)),\"erro\")","v":"00:00:00"},{"$f":"IFERROR(Gerar_Upload!F2662,\"erro\")","v":0},{"$f":"IFERROR(IF(Gerar_Upload!G2662<44,REPT(0,44-LEN(Gerar_Upload!G2662))&Gerar_Upload!G2662,Gerar_Upload!G2662),\"erro\")","v":"00000000000000000000000000000000000000000000"}]
[{"$f":"IFERROR(LEFT(Gerar_Upload!A2663,120),\"erro\")","v":""},{"$f":"IFERROR(SUBSTITUTE(SUBSTITUTE(SUBSTITUTE(Gerar_Upload!B2663,\".\",\"\"),\"-\",\"\"),\"/\",\"\"),\"erro\")","v":""},{"$f":"IFERROR(Gerar_Upload!C2663,\"erro\")","v":0},{"$f":"IFERROR(Gerar_Upload!D2663,\"erro\")","v":0},{"$f":"IFERROR(DATE(YEAR(Gerar_Upload!E2663),MONTH(Gerar_Upload!E2663),DAY(Gerar_Upload!E2663)),\"erro\")","v":"00:00:00"},{"$f":"IFERROR(Gerar_Upload!F2663,\"erro\")","v":0},{"$f":"IFERROR(IF(Gerar_Upload!G2663<44,REPT(0,44-LEN(Gerar_Upload!G2663))&Gerar_Upload!G2663,Gerar_Upload!G2663),\"erro\")","v":"00000000000000000000000000000000000000000000"}]
[{"$f":"IFERROR(LEFT(Gerar_Upload!A2664,120),\"erro\")","v":""},{"$f":"IFERROR(SUBSTITUTE(SUBSTITUTE(SUBSTITUTE(Gerar_Upload!B2664,\".\",\"\"),\"-\",\"\"),\"/\",\"\"),\"erro\")","v":""},{"$f":"IFERROR(Gerar_Upload!C2664,\"erro\")","v":0},{"$f":"IFERROR(Gerar_Upload!D2664,\"erro\")","v":0},{"$f":"IFERROR(DATE(YEAR(Gerar_Upload!E2664),MONTH(Gerar_Upload!E2664),DAY(Gerar_Upload!E2664)),\"erro\")","v":"00:00:00"},{"$f":"IFERROR(Gerar_Upload!F2664,\"erro\")","v":0},{"$f":"IFERROR(IF(Gerar_Upload!G2664<44,REPT(0,44-LEN(Gerar_Upload!G2664))&Gerar_Upload!G2664,Gerar_Upload!G2664),\"erro\")","v":"00000000000000000000000000000000000000000000"}]
[{"$f":"IFERROR(LEFT(Gerar_Upload!A2665,120),\"erro\")","v":""},{"$f":"IFERROR(SUBSTITUTE(SUBSTITUTE(SUBSTITUTE(Gerar_Upload!B2665,\".\",\"\"),\"-\",\"\"),\"/\",\"\"),\"erro\")","v":""},{"$f":"IFERROR(Gerar_Upload!C2665,\"erro\")","v":0},{"$f":"IFERROR(Gerar_Upload!D2665,\"erro\")","v":0},{"$f":"IFERROR(DATE(YEAR(Gerar_Upload!E2665),MONTH(Gerar_Upload!E2665),DAY(Gerar_Upload!E2665)),\"erro\")","v":"00:00:00"},{"$f":"IFERROR(Gerar_Upload!F2665,\"erro\")","v":0},{"$f":"IFERROR(IF(Gerar_Upload!G2665<44,REPT(0,44-LEN(Gerar_Upload!G2665))&Gerar_Upload!G2665,Gerar_Upload!G2665),\"erro\")","v":"00000000000000000000000000000000000000000000"}]
[{"$f":"IFERROR(LEFT(Gerar_Upload!A2666,120),\"erro\")","v":""},{"$f":"IFERROR(SUBSTITUTE(SUBSTITUTE(SUBSTITUTE(Gerar_Upload!B2666,\".\",\"\"),\"-\",\"\"),\"/\",\"\"),\"erro\")","v":""},{"$f":"IFERROR(Gerar_Upload!C2666,\"erro\")","v":0},{"$f":"IFERROR(Gerar_Upload!D2666,\"erro\")","v":0},{"$f":"IFERROR(DATE(YEAR(Gerar_Upload!E2666),MONTH(Gerar_Upload!E2666),DAY(Gerar_Upload!E2666)),\"erro\")","v":"00:00:00"},{"$f":"IFERROR(Gerar_Upload!F2666,\"erro\")","v":0},{"$f":"IFERROR(IF(Gerar_Upload!G2666<44,REPT(0,44-LEN(Gerar_Upload!G2666))&Gerar_Upload!G2666,Gerar_Upload!G2666),\"erro\")","v":"00000000000000000000000000000000000000000000"}]
[{"$f":"IFERROR(LEFT(Gerar_Upload!A2667,120),\"erro\")","v":""},{"$f":"IFERROR(SUBSTITUTE(SUBSTITUTE(SUBSTITUTE(Gerar_Upload!B2667,\".\",\"\"),\"-\",\"\"),\"/\",\"\"),\"erro\")","v":""},{"$f":"IFERROR(Gerar_Upload!C2667,\"erro\")","v":0},{"$f":"IFERROR(Gerar_Upload!D2667,\"erro\")","v":0},{"$f":"IFERROR(DATE(YEAR(Gerar_Upload!E2667),MONTH(Gerar_Upload!E2667),DAY(Gerar_Upload!E2667)),\"erro\")","v":"00:00:00"},{"$f":"IFERROR(Gerar_Upload!F2667,\"erro\")","v":0},{"$f":"IFERROR(IF(Gerar_Upload!G2667<44,REPT(0,44-LEN(Gerar_Upload!G2667))&Gerar_Upload!G2667,Gerar_Upload!G2667),\"erro\")","v":"00000000000000000000000000000000000000000000"}]
[{"$f":"IFERROR(LEFT(Gerar_Upload!A2668,120),\"erro\")","v":""},{"$f":"IFERROR(SUBSTITUTE(SUBSTITUTE(SUBSTITUTE(Gerar_Upload!B2668,\".\",\"\"),\"-\",\"\"),\"/\",\"\"),\"erro\")","v":""},{"$f":"IFERROR(Gerar_Upload!C2668,\"erro\")","v":0},{"$f":"IFERROR(Gerar_Upload!D2668,\"erro\")","v":0},{"$f":"IFERROR(DATE(YEAR(Gerar_Upload!E2668),MONTH(Gerar_Upload!E2668),DAY(Gerar_Upload!E2668)),\"erro\")","v":"00:00:00"},{"$f":"IFERROR(Gerar_Upload!F2668,\"erro\")","v":0},{"$f":"IFERROR(IF(Gerar_Upload!G2668<44,REPT(0,44-LEN(Gerar_Upload!G2668))&Gerar_Upload!G2668,Gerar_Upload!G2668),\"erro\")","v":"00000000000000000000000000000000000000000000"}]
[{"$f":"IFERROR(LEFT(Gerar_Upload!A2669,120),\"erro\")","v":""},{"$f":"IFERROR(SUBSTITUTE(SUBSTITUTE(SUBSTITUTE(Gerar_Upload!B2669,\".\",\"\"),\"-\",\"\"),\"/\",\"\"),\"erro\")","v":""},{"$f":"IFERROR(Gerar_Upload!C2669,\"erro\")","v":0},{"$f":"IFERROR(Gerar_Upload!D2669,\"erro\")","v":0},{"$f":"IFERROR(DATE(YEAR(Gerar_Upload!E2669),MONTH(Gerar_Upload!E2669),DAY(Gerar_Upload!E2669)),\"erro\")","v":"00:00:00"},{"$f":"IFERROR(Gerar_Upload!F2669,\"erro\")","v":0},{"$f":"IFERROR(IF(Gerar_Upload!G2669<44,REPT(0,44-LEN(Gerar_Upload!G2669))&Gerar_Upload!G2669,Gerar_Upload!G2669),\"erro\")","v":"00000000000000000000000000000000000000000000"}]
[{"$f":"IFERROR(LEFT(Gerar_Upload!A2670,120),\"erro\")","v":""},{"$f":"IFERROR(SUBSTITUTE(SUBSTITUTE(SUBSTITUTE(Gerar_Upload!B2670,\".\",\"\"),\"-\",\"\"),\"/\",\"\"),\"erro\")","v":""},{"$f":"IFERROR(Gerar_Upload!C2670,\"erro\")","v":0},{"$f":"IFERROR(Gerar_Upload!D2670,\"erro\")","v":0},{"$f":"IFERROR(DATE(YEAR(Gerar_Upload!E2670),MONTH(Gerar_Upload!E2670),DAY(Gerar_Upload!E2670)),\"erro\")","v":"00:00:00"},{"$f":"IFERROR(Gerar_Upload!F2670,\"erro\")","v":0},{"$f":"IFERROR(IF(Gerar_Upload!G2670<44,REPT(0,44-LEN(Gerar_Upload!G2670))&Gerar_Upload!G2670,Gerar_Upload!G2670),\"erro\")","v":"00000000000000000000000000000000000000000000"}]
[{"$f":"IFERROR(LEFT(Gerar_Upload!A2671,120),\"erro\")","v":""},{"$f":"IFERROR(SUBSTITUTE(SUBSTITUTE(SUBSTITUTE(Gerar_Upload!B2671,\".\",\"\"),\"-\",\"\"),\"/\",\"\"),\"erro\")","v":""},{"$f":"IFERROR(Gerar_Upload!C2671,\"erro\")","v":0},{"$f":"IFERROR(Gerar_Upload!D2671,\"erro\")","v":0},{"$f":"IFERROR(DATE(YEAR(Gerar_Upload!E2671),MONTH(Gerar_Upload!E2671),DAY(Gerar_Upload!E2671)),\"erro\")","v":"00:00:00"},{"$f":"IFERROR(Gerar_Upload!F2671,\"erro\")","v":0},{"$f":"IFERROR(IF(Gerar_Upload!G2671<44,REPT(0,44-LEN(Gerar_Upload!G2671))&Gerar_Upload!G2671,Gerar_Upload!G2671),\"erro\")","v":"00000000000000000000000000000000000000000000"}]
[{"$f":"IFERROR(LEFT(Gerar_Upload!A2672,120),\"erro\")","v":""},{"$f":"IFERROR(SUBSTITUTE(SUBSTITUTE(SUBSTITUTE(Gerar_Upload!B2672,\".\",\"\"),\"-\",\"\"),\"/\",\"\"),\"erro\")","v":""},{"$f":"IFERROR(Gerar_Upload!C2672,\"erro\")","v":0},{"$f":"IFERROR(Gerar_Upload!D2672,\"erro\")","v":0},{"$f":"IFERROR(DATE(YEAR(Gerar_Upload!E2672),MONTH(Gerar_Upload!E2672),DAY(Gerar_Upload!E2672)),\"erro\")","v":"00:00:00"},{"$f":"IFERROR(Gerar_Upload!F2672,\"erro\")","v":0},{"$f":"IFERROR(IF(Gerar_Upload!G2672<44,REPT(0,44-LEN(Gerar_Upload!G2672))&Gerar_Upload!G2672,Gerar_Upload!G2672),\"erro\")","v":"00000000000000000000000000000000000000000000"}]
[{"$f":"IFERROR(LEFT(Gerar_Upload!A2673,120),\"erro\")","v":""},{"$f":"IFERROR(SUBSTITUTE(SUBSTITUTE(SUBSTITUTE(Gerar_Upload!B2673,\".\",\"\"),\"-\",\"\"),\"/\",\"\"),\"erro\")","v":""},{"$f":"IFERROR(Gerar_Upload!C2673,\"erro\")","v":0},{"$f":"IFERROR(Gerar_Upload!D2673,\"erro\")","v":0},{"$f":"IFERROR(DATE(YEAR(Gerar_Upload!E2673),MONTH(Gerar_Upload!E2673),DAY(Gerar_Upload!E2673)),\"erro\")","v":"00:00:00"},{"$f":"IFERROR(Gerar_Upload!F2673,\"erro\")","v":0},{"$f":"IFERROR(IF(Gerar_Upload!G2673<44,REPT(0,44-LEN(Gerar_Upload!G2673))&Gerar_Upload!G2673,Gerar_Upload!G2673),\"erro\")","v":"00000000000000000000000000000000000000000000"}]
[{"$f":"IFERROR(LEFT(Gerar_Upload!A2674,120),\"erro\")","v":""},{"$f":"IFERROR(SUBSTITUTE(SUBSTITUTE(SUBSTITUTE(Gerar_Upload!B2674,\".\",\"\"),\"-\",\"\"),\"/\",\"\"),\"erro\")","v":""},{"$f":"IFERROR(Gerar_Upload!C2674,\"erro\")","v":0},{"$f":"IFERROR(Gerar_Upload!D2674,\"erro\")","v":0},{"$f":"IFERROR(DATE(YEAR(Gerar_Upload!E2674),MONTH(Gerar_Upload!E2674),DAY(Gerar_Upload!E2674)),\"erro\")","v":"00:00:00"},{"$f":"IFERROR(Gerar_Upload!F2674,\"erro\")","v":0},{"$f":"IFERROR(IF(Gerar_Upload!G2674<44,REPT(0,44-LEN(Gerar_Upload!G2674))&Gerar_Upload!G2674,Gerar_Upload!G2674),\"erro\")","v":"00000000000000000000000000000000000000000000"}]
[{"$f":"IFERROR(LEFT(Gerar_Upload!A2675,120),\"erro\")","v":""},{"$f":"IFERROR(SUBSTITUTE(SUBSTITUTE(SUBSTITUTE(Gerar_Upload!B2675,\".\",\"\"),\"-\",\"\"),\"/\",\"\"),\"erro\")","v":""},{"$f":"IFERROR(Gerar_Upload!C2675,\"erro\")","v":0},{"$f":"IFERROR(Gerar_Upload!D2675,\"erro\")","v":0},{"$f":"IFERROR(DATE(YEAR(Gerar_Upload!E2675),MONTH(Gerar_Upload!E2675),DAY(Gerar_Upload!E2675)),\"erro\")","v":"00:00:00"},{"$f":"IFERROR(Gerar_Upload!F2675,\"erro\")","v":0},{"$f":"IFERROR(IF(Gerar_Upload!G2675<44,REPT(0,44-LEN(Gerar_Upload!G2675))&Gerar_Upload!G2675,Gerar_Upload!G2675),\"erro\")","v":"00000000000000000000000000000000000000000000"}]
[{"$f":"IFERROR(LEFT(Gerar_Upload!A2676,120),\"erro\")","v":""},{"$f":"IFERROR(SUBSTITUTE(SUBSTITUTE(SUBSTITUTE(Gerar_Upload!B2676,\".\",\"\"),\"-\",\"\"),\"/\",\"\"),\"erro\")","v":""},{"$f":"IFERROR(Gerar_Upload!C2676,\"erro\")","v":0},{"$f":"IFERROR(Gerar_Upload!D2676,\"erro\")","v":0},{"$f":"IFERROR(DATE(YEAR(Gerar_Upload!E2676),MONTH(Gerar_Upload!E2676),DAY(Gerar_Upload!E2676)),\"erro\")","v":"00:00:00"},{"$f":"IFERROR(Gerar_Upload!F2676,\"erro\")","v":0},{"$f":"IFERROR(IF(Gerar_Upload!G2676<44,REPT(0,44-LEN(Gerar_Upload!G2676))&Gerar_Upload!G2676,Gerar_Upload!G2676),\"erro\")","v":"00000000000000000000000000000000000000000000"}]
[{"$f":"IFERROR(LEFT(Gerar_Upload!A2677,120),\"erro\")","v":""},{"$f":"IFERROR(SUBSTITUTE(SUBSTITUTE(SUBSTITUTE(Gerar_Upload!B2677,\".\",\"\"),\"-\",\"\"),\"/\",\"\"),\"erro\")","v":""},{"$f":"IFERROR(Gerar_Upload!C2677,\"erro\")","v":0},{"$f":"IFERROR(Gerar_Upload!D2677,\"erro\")","v":0},{"$f":"IFERROR(DATE(YEAR(Gerar_Upload!E2677),MONTH(Gerar_Upload!E2677),DAY(Gerar_Upload!E2677)),\"erro\")","v":"00:00:00"},{"$f":"IFERROR(Gerar_Upload!F2677,\"erro\")","v":0},{"$f":"IFERROR(IF(Gerar_Upload!G2677<44,REPT(0,44-LEN(Gerar_Upload!G2677))&Gerar_Upload!G2677,Gerar_Upload!G2677),\"erro\")","v":"00000000000000000000000000000000000000000000"}]
[{"$f":"IFERROR(LEFT(Gerar_Upload!A2678,120),\"erro\")","v":""},{"$f":"IFERROR(SUBSTITUTE(SUBSTITUTE(SUBSTITUTE(Gerar_Upload!B2678,\".\",\"\"),\"-\",\"\"),\"/\",\"\"),\"erro\")","v":""},{"$f":"IFERROR(Gerar_Upload!C2678,\"erro\")","v":0},{"$f":"IFERROR(Gerar_Upload!D2678,\"erro\")","v":0},{"$f":"IFERROR(DATE(YEAR(Gerar_Upload!E2678),MONTH(Gerar_Upload!E2678),DAY(Gerar_Upload!E2678)),\"erro\")","v":"00:00:00"},{"$f":"IFERROR(Gerar_Upload!F2678,\"erro\")","v":0},{"$f":"IFERROR(IF(Gerar_Upload!G2678<44,REPT(0,44-LEN(Gerar_Upload!G2678))&Gerar_Upload!G2678,Gerar_Upload!G2678),\"erro\")","v":"00000000000000000000000000000000000000000000"}]
[{"$f":"IFERROR(LEFT(Gerar_Upload!A2679,120),\"erro\")","v":""},{"$f":"IFERROR(SUBSTITUTE(SUBSTITUTE(SUBSTITUTE(Gerar_Upload!B2679,\".\",\"\"),\"-\",\"\"),\"/\",\"\"),\"erro\")","v":""},{"$f":"IFERROR(Gerar_Upload!C2679,\"erro\")","v":0},{"$f":"IFERROR(Gerar_Upload!D2679,\"erro\")","v":0},{"$f":"IFERROR(DATE(YEAR(Gerar_Upload!E2679),MONTH(Gerar_Upload!E2679),DAY(Gerar_Upload!E2679)),\"erro\")","v":"00:00:00"},{"$f":"IFERROR(Gerar_Upload!F2679,\"erro\")","v":0},{"$f":"IFERROR(IF(Gerar_Upload!G2679<44,REPT(0,44-LEN(Gerar_Upload!G2679))&Gerar_Upload!G2679,Gerar_Upload!G2679),\"erro\")","v":"00000000000000000000000000000000000000000000"}]
[{"$f":"IFERROR(LEFT(Gerar_Upload!A2680,120),\"erro\")","v":""},{"$f":"IFERROR(SUBSTITUTE(SUBSTITUTE(SUBSTITUTE(Gerar_Upload!B2680,\".\",\"\"),\"-\",\"\"),\"/\",\"\"),\"erro\")","v":""},{"$f":"IFERROR(Gerar_Upload!C2680,\"erro\")","v":0},{"$f":"IFERROR(Gerar_Upload!D2680,\"erro\")","v":0},{"$f":"IFERROR(DATE(YEAR(Gerar_Upload!E2680),MONTH(Gerar_Upload!E2680),DAY(Gerar_Upload!E2680)),\"erro\")","v":"00:00:00"},{"$f":"IFERROR(Gerar_Upload!F2680,\"erro\")","v":0},{"$f":"IFERROR(IF(Gerar_Upload!G2680<44,REPT(0,44-LEN(Gerar_Upload!G2680))&Gerar_Upload!G2680,Gerar_Upload!G2680),\"erro\")","v":"00000000000000000000000000000000000000000000"}]
[{"$f":"IFERROR(LEFT(Gerar_Upload!A2681,120),\"erro\")","v":""},{"$f":"IFERROR(SUBSTITUTE(SUBSTITUTE(SUBSTITUTE(Gerar_Upload!B2681,\".\",\"\"),\"-\",\"\"),\"/\",\"\"),\"erro\")","v":""},{"$f":"IFERROR(Gerar_Upload!C2681,\"erro\")","v":0},{"$f":"IFERROR(Gerar_Upload!D2681,\"erro\")","v":0},{"$f":"IFERROR(DATE(YEAR(Gerar_Upload!E2681),MONTH(Gerar_Upload!E2681),DAY(Gerar_Upload!E2681)),\"erro\")","v":"00:00:00"},{"$f":"IFERROR(Gerar_Upload!F2681,\"erro\")","v":0},{"$f":"IFERROR(IF(Gerar_Upload!G2681<44,REPT(0,44-LEN(Gerar_Upload!G2681))&Gerar_Upload!G2681,Gerar_Upload!G2681),\"erro\")","v":"00000000000000000000000000000000000000000000"}]
[{"$f":"IFERROR(LEFT(Gerar_Upload!A2682,120),\"erro\")","v":""},{"$f":"IFERROR(SUBSTITUTE(SUBSTITUTE(SUBSTITUTE(Gerar_Upload!B2682,\".\",\"\"),\"-\",\"\"),\"/\",\"\"),\"erro\")","v":""},{"$f":"IFERROR(Gerar_Upload!C2682,\"erro\")","v":0},{"$f":"IFERROR(Gerar_Upload!D2682,\"erro\")","v":0},{"$f":"IFERROR(DATE(YEAR(Gerar_Upload!E2682),MONTH(Gerar_Upload!E2682),DAY(Gerar_Upload!E2682)),\"erro\")","v":"00:00:00"},{"$f":"IFERROR(Gerar_Upload!F2682,\"erro\")","v":0},{"$f":"IFERROR(IF(Gerar_Upload!G2682<44,REPT(0,44-LEN(Gerar_Upload!G2682))&Gerar_Upload!G2682,Gerar_Upload!G2682),\"erro\")","v":"00000000000000000000000000000000000000000000"}]
[{"$f":"IFERROR(LEFT(Gerar_Upload!A2683,120),\"erro\")","v":""},{"$f":"IFERROR(SUBSTITUTE(SUBSTITUTE(SUBSTITUTE(Gerar_Upload!B2683,\".\",\"\"),\"-\",\"\"),\"/\",\"\"),\"erro\")","v":""},{"$f":"IFERROR(Gerar_Upload!C2683,\"erro\")","v":0},{"$f":"IFERROR(Gerar_Upload!D2683,\"erro\")","v":0},{"$f":"IFERROR(DATE(YEAR(Gerar_Upload!E2683),MONTH(Gerar_Upload!E2683),DAY(Gerar_Upload!E2683)),\"erro\")","v":"00:00:00"},{"$f":"IFERROR(Gerar_Upload!F2683,\"erro\")","v":0},{"$f":"IFERROR(IF(Gerar_Upload!G2683<44,REPT(0,44-LEN(Gerar_Upload!G2683))&Gerar_Upload!G2683,Gerar_Upload!G2683),\"erro\")","v":"00000000000000000000000000000000000000000000"}]
[{"$f":"IFERROR(LEFT(Gerar_Upload!A2684,120),\"erro\")","v":""},{"$f":"IFERROR(SUBSTITUTE(SUBSTITUTE(SUBSTITUTE(Gerar_Upload!B2684,\".\",\"\"),\"-\",\"\"),\"/\",\"\"),\"erro\")","v":""},{"$f":"IFERROR(Gerar_Upload!C2684,\"erro\")","v":0},{"$f":"IFERROR(Gerar_Upload!D2684,\"erro\")","v":0},{"$f":"IFERROR(DATE(YEAR(Gerar_Upload!E2684),MONTH(Gerar_Upload!E2684),DAY(Gerar_Upload!E2684)),\"erro\")","v":"00:00:00"},{"$f":"IFERROR(Gerar_Upload!F2684,\"erro\")","v":0},{"$f":"IFERROR(IF(Gerar_Upload!G2684<44,REPT(0,44-LEN(Gerar_Upload!G2684))&Gerar_Upload!G2684,Gerar_Upload!G2684),\"erro\")","v":"00000000000000000000000000000000000000000000"}]
[{"$f":"IFERROR(LEFT(Gerar_Upload!A2685,120),\"erro\")","v":""},{"$f":"IFERROR(SUBSTITUTE(SUBSTITUTE(SUBSTITUTE(Gerar_Upload!B2685,\".\",\"\"),\"-\",\"\"),\"/\",\"\"),\"erro\")","v":""},{"$f":"IFERROR(Gerar_Upload!C2685,\"erro\")","v":0},{"$f":"IFERROR(Gerar_Upload!D2685,\"erro\")","v":0},{"$f":"IFERROR(DATE(YEAR(Gerar_Upload!E2685),MONTH(Gerar_Upload!E2685),DAY(Gerar_Upload!E2685)),\"erro\")","v":"00:00:00"},{"$f":"IFERROR(Gerar_Upload!F2685,\"erro\")","v":0},{"$f":"IFERROR(IF(Gerar_Upload!G2685<44,REPT(0,44-LEN(Gerar_Upload!G2685))&Gerar_Upload!G2685,Gerar_Upload!G2685),\"erro\")","v":"00000000000000000000000000000000000000000000"}]
[{"$f":"IFERROR(LEFT(Gerar_Upload!A2686,120),\"erro\")","v":""},{"$f":"IFERROR(SUBSTITUTE(SUBSTITUTE(SUBSTITUTE(Gerar_Upload!B2686,\".\",\"\"),\"-\",\"\"),\"/\",\"\"),\"erro\")","v":""},{"$f":"IFERROR(Gerar_Upload!C2686,\"erro\")","v":0},{"$f":"IFERROR(Gerar_Upload!D2686,\"erro\")","v":0},{"$f":"IFERROR(DATE(YEAR(Gerar_Upload!E2686),MONTH(Gerar_Upload!E2686),DAY(Gerar_Upload!E2686)),\"erro\")","v":"00:00:00"},{"$f":"IFERROR(Gerar_Upload!F2686,\"erro\")","v":0},{"$f":"IFERROR(IF(Gerar_Upload!G2686<44,REPT(0,44-LEN(Gerar_Upload!G2686))&Gerar_Upload!G2686,Gerar_Upload!G2686),\"erro\")","v":"00000000000000000000000000000000000000000000"}]
[{"$f":"IFERROR(LEFT(Gerar_Upload!A2687,120),\"erro\")","v":""},{"$f":"IFERROR(SUBSTITUTE(SUBSTITUTE(SUBSTITUTE(Gerar_Upload!B2687,\".\",\"\"),\"-\",\"\"),\"/\",\"\"),\"erro\")","v":""},{"$f":"IFERROR(Gerar_Upload!C2687,\"erro\")","v":0},{"$f":"IFERROR(Gerar_Upload!D2687,\"erro\")","v":0},{"$f":"IFERROR(DATE(YEAR(Gerar_Upload!E2687),MONTH(Gerar_Upload!E2687),DAY(Gerar_Upload!E2687)),\"erro\")","v":"00:00:00"},{"$f":"IFERROR(Gerar_Upload!F2687,\"erro\")","v":0},{"$f":"IFERROR(IF(Gerar_Upload!G2687<44,REPT(0,44-LEN(Gerar_Upload!G2687))&Gerar_Upload!G2687,Gerar_Upload!G2687),\"erro\")","v":"00000000000000000000000000000000000000000000"}]
[{"$f":"IFERROR(LEFT(Gerar_Upload!A2688,120),\"erro\")","v":""},{"$f":"IFERROR(SUBSTITUTE(SUBSTITUTE(SUBSTITUTE(Gerar_Upload!B2688,\".\",\"\"),\"-\",\"\"),\"/\",\"\"),\"erro\")","v":""},{"$f":"IFERROR(Gerar_Upload!C2688,\"erro\")","v":0},{"$f":"IFERROR(Gerar_Upload!D2688,\"erro\")","v":0},{"$f":"IFERROR(DATE(YEAR(Gerar_Upload!E2688),MONTH(Gerar_Upload!E2688),DAY(Gerar_Upload!E2688)),\"erro\")","v":"00:00:00"},{"$f":"IFERROR(Gerar_Upload!F2688,\"erro\")","v":0},{"$f":"IFERROR(IF(Gerar_Upload!G2688<44,REPT(0,44-LEN(Gerar_Upload!G2688))&Gerar_Upload!G2688,Gerar_Upload!G2688),\"erro\")","v":"00000000000000000000000000000000000000000000"}]
[{"$f":"IFERROR(LEFT(Gerar_Upload!A2689,120),\"erro\")","v":""},{"$f":"IFERROR(SUBSTITUTE(SUBSTITUTE(SUBSTITUTE(Gerar_Upload!B2689,\".\",\"\"),\"-\",\"\"),\"/\",\"\"),\"erro\")","v":""},{"$f":"IFERROR(Gerar_Upload!C2689,\"erro\")","v":0},{"$f":"IFERROR(Gerar_Upload!D2689,\"erro\")","v":0},{"$f":"IFERROR(DATE(YEAR(Gerar_Upload!E2689),MONTH(Gerar_Upload!E2689),DAY(Gerar_Upload!E2689)),\"erro\")","v":"00:00:00"},{"$f":"IFERROR(Gerar_Upload!F2689,\"erro\")","v":0},{"$f":"IFERROR(IF(Gerar_Upload!G2689<44,REPT(0,44-LEN(Gerar_Upload!G2689))&Gerar_Upload!G2689,Gerar_Upload!G2689),\"erro\")","v":"00000000000000000000000000000000000000000000"}]
[{"$f":"IFERROR(LEFT(Gerar_Upload!A2690,120),\"erro\")","v":""},{"$f":"IFERROR(SUBSTITUTE(SUBSTITUTE(SUBSTITUTE(Gerar_Upload!B2690,\".\",\"\"),\"-\",\"\"),\"/\",\"\"),\"erro\")","v":""},{"$f":"IFERROR(Gerar_Upload!C2690,\"erro\")","v":0},{"$f":"IFERROR(Gerar_Upload!D2690,\"erro\")","v":0},{"$f":"IFERROR(DATE(YEAR(Gerar_Upload!E2690),MONTH(Gerar_Upload!E2690),DAY(Gerar_Upload!E2690)),\"erro\")","v":"00:00:00"},{"$f":"IFERROR(Gerar_Upload!F2690,\"erro\")","v":0},{"$f":"IFERROR(IF(Gerar_Upload!G2690<44,REPT(0,44-LEN(Gerar_Upload!G2690))&Gerar_Upload!G2690,Gerar_Upload!G2690),\"erro\")","v":"00000000000000000000000000000000000000000000"}]
[{"$f":"IFERROR(LEFT(Gerar_Upload!A2691,120),\"erro\")","v":""},{"$f":"IFERROR(SUBSTITUTE(SUBSTITUTE(SUBSTITUTE(Gerar_Upload!B2691,\".\",\"\"),\"-\",\"\"),\"/\",\"\"),\"erro\")","v":""},{"$f":"IFERROR(Gerar_Upload!C2691,\"erro\")","v":0},{"$f":"IFERROR(Gerar_Upload!D2691,\"erro\")","v":0},{"$f":"IFERROR(DATE(YEAR(Gerar_Upload!E2691),MONTH(Gerar_Upload!E2691),DAY(Gerar_Upload!E2691)),\"erro\")","v":"00:00:00"},{"$f":"IFERROR(Gerar_Upload!F2691,\"erro\")","v":0},{"$f":"IFERROR(IF(Gerar_Upload!G2691<44,REPT(0,44-LEN(Gerar_Upload!G2691))&Gerar_Upload!G2691,Gerar_Upload!G2691),\"erro\")","v":"00000000000000000000000000000000000000000000"}]
[{"$f":"IFERROR(LEFT(Gerar_Upload!A2692,120),\"erro\")","v":""},{"$f":"IFERROR(SUBSTITUTE(SUBSTITUTE(SUBSTITUTE(Gerar_Upload!B2692,\".\",\"\"),\"-\",\"\"),\"/\",\"\"),\"erro\")","v":""},{"$f":"IFERROR(Gerar_Upload!C2692,\"erro\")","v":0},{"$f":"IFERROR(Gerar_Upload!D2692,\"erro\")","v":0},{"$f":"IFERROR(DATE(YEAR(Gerar_Upload!E2692),MONTH(Gerar_Upload!E2692),DAY(Gerar_Upload!E2692)),\"erro\")","v":"00:00:00"},{"$f":"IFERROR(Gerar_Upload!F2692,\"erro\")","v":0},{"$f":"IFERROR(IF(Gerar_Upload!G2692<44,REPT(0,44-LEN(Gerar_Upload!G2692))&Gerar_Upload!G2692,Gerar_Upload!G2692),\"erro\")","v":"00000000000000000000000000000000000000000000"}]
[{"$f":"IFERROR(LEFT(Gerar_Upload!A2693,120),\"erro\")","v":""},{"$f":"IFERROR(SUBSTITUTE(SUBSTITUTE(SUBSTITUTE(Gerar_Upload!B2693,\".\",\"\"),\"-\",\"\"),\"/\",\"\"),\"erro\")","v":""},{"$f":"IFERROR(Gerar_Upload!C2693,\"erro\")","v":0},{"$f":"IFERROR(Gerar_Upload!D2693,\"erro\")","v":0},{"$f":"IFERROR(DATE(YEAR(Gerar_Upload!E2693),MONTH(Gerar_Upload!E2693),DAY(Gerar_Upload!E2693)),\"erro\")","v":"00:00:00"},{"$f":"IFERROR(Gerar_Upload!F2693,\"erro\")","v":0},{"$f":"IFERROR(IF(Gerar_Upload!G2693<44,REPT(0,44-LEN(Gerar_Upload!G2693))&Gerar_Upload!G2693,Gerar_Upload!G2693),\"erro\")","v":"00000000000000000000000000000000000000000000"}]
[{"$f":"IFERROR(LEFT(Gerar_Upload!A2694,120),\"erro\")","v":""},{"$f":"IFERROR(SUBSTITUTE(SUBSTITUTE(SUBSTITUTE(Gerar_Upload!B2694,\".\",\"\"),\"-\",\"\"),\"/\",\"\"),\"erro\")","v":""},{"$f":"IFERROR(Gerar_Upload!C2694,\"erro\")","v":0},{"$f":"IFERROR(Gerar_Upload!D2694,\"erro\")","v":0},{"$f":"IFERROR(DATE(YEAR(Gerar_Upload!E2694),MONTH(Gerar_Upload!E2694),DAY(Gerar_Upload!E2694)),\"erro\")","v":"00:00:00"},{"$f":"IFERROR(Gerar_Upload!F2694,\"erro\")","v":0},{"$f":"IFERROR(IF(Gerar_Upload!G2694<44,REPT(0,44-LEN(Gerar_Upload!G2694))&Gerar_Upload!G2694,Gerar_Upload!G2694),\"erro\")","v":"00000000000000000000000000000000000000000000"}]
[{"$f":"IFERROR(LEFT(Gerar_Upload!A2695,120),\"erro\")","v":""},{"$f":"IFERROR(SUBSTITUTE(SUBSTITUTE(SUBSTITUTE(Gerar_Upload!B2695,\".\",\"\"),\"-\",\"\"),\"/\",\"\"),\"erro\")","v":""},{"$f":"IFERROR(Gerar_Upload!C2695,\"erro\")","v":0},{"$f":"IFERROR(Gerar_Upload!D2695,\"erro\")","v":0},{"$f":"IFERROR(DATE(YEAR(Gerar_Upload!E2695),MONTH(Gerar_Upload!E2695),DAY(Gerar_Upload!E2695)),\"erro\")","v":"00:00:00"},{"$f":"IFERROR(Gerar_Upload!F2695,\"erro\")","v":0},{"$f":"IFERROR(IF(Gerar_Upload!G2695<44,REPT(0,44-LEN(Gerar_Upload!G2695))&Gerar_Upload!G2695,Gerar_Upload!G2695),\"erro\")","v":"00000000000000000000000000000000000000000000"}]
[{"$f":"IFERROR(LEFT(Gerar_Upload!A2696,120),\"erro\")","v":""},{"$f":"IFERROR(SUBSTITUTE(SUBSTITUTE(SUBSTITUTE(Gerar_Upload!B2696,\".\",\"\"),\"-\",\"\"),\"/\",\"\"),\"erro\")","v":""},{"$f":"IFERROR(Gerar_Upload!C2696,\"erro\")","v":0},{"$f":"IFERROR(Gerar_Upload!D2696,\"erro\")","v":0},{"$f":"IFERROR(DATE(YEAR(Gerar_Upload!E2696),MONTH(Gerar_Upload!E2696),DAY(Gerar_Upload!E2696)),\"erro\")","v":"00:00:00"},{"$f":"IFERROR(Gerar_Upload!F2696,\"erro\")","v":0},{"$f":"IFERROR(IF(Gerar_Upload!G2696<44,REPT(0,44-LEN(Gerar_Upload!G2696))&Gerar_Upload!G2696,Gerar_Upload!G2696),\"erro\")","v":"00000000000000000000000000000000000000000000"}]
[{"$f":"IFERROR(LEFT(Gerar_Upload!A2697,120),\"erro\")","v":""},{"$f":"IFERROR(SUBSTITUTE(SUBSTITUTE(SUBSTITUTE(Gerar_Upload!B2697,\".\",\"\"),\"-\",\"\"),\"/\",\"\"),\"erro\")","v":""},{"$f":"IFERROR(Gerar_Upload!C2697,\"erro\")","v":0},{"$f":"IFERROR(Gerar_Upload!D2697,\"erro\")","v":0},{"$f":"IFERROR(DATE(YEAR(Gerar_Upload!E2697),MONTH(Gerar_Upload!E2697),DAY(Gerar_Upload!E2697)),\"erro\")","v":"00:00:00"},{"$f":"IFERROR(Gerar_Upload!F2697,\"erro\")","v":0},{"$f":"IFERROR(IF(Gerar_Upload!G2697<44,REPT(0,44-LEN(Gerar_Upload!G2697))&Gerar_Upload!G2697,Gerar_Upload!G2697),\"erro\")","v":"00000000000000000000000000000000000000000000"}]
[{"$f":"IFERROR(LEFT(Gerar_Upload!A2698,120),\"erro\")","v":""},{"$f":"IFERROR(SUBSTITUTE(SUBSTITUTE(SUBSTITUTE(Gerar_Upload!B2698,\".\",\"\"),\"-\",\"\"),\"/\",\"\"),\"erro\")","v":""},{"$f":"IFERROR(Gerar_Upload!C2698,\"erro\")","v":0},{"$f":"IFERROR(Gerar_Upload!D2698,\"erro\")","v":0},{"$f":"IFERROR(DATE(YEAR(Gerar_Upload!E2698),MONTH(Gerar_Upload!E2698),DAY(Gerar_Upload!E2698)),\"erro\")","v":"00:00:00"},{"$f":"IFERROR(Gerar_Upload!F2698,\"erro\")","v":0},{"$f":"IFERROR(IF(Gerar_Upload!G2698<44,REPT(0,44-LEN(Gerar_Upload!G2698))&Gerar_Upload!G2698,Gerar_Upload!G2698),\"erro\")","v":"00000000000000000000000000000000000000000000"}]
[{"$f":"IFERROR(LEFT(Gerar_Upload!A2699,120),\"erro\")","v":""},{"$f":"IFERROR(SUBSTITUTE(SUBSTITUTE(SUBSTITUTE(Gerar_Upload!B2699,\".\",\"\"),\"-\",\"\"),\"/\",\"\"),\"erro\")","v":""},{"$f":"IFERROR(Gerar_Upload!C2699,\"erro\")","v":0},{"$f":"IFERROR(Gerar_Upload!D2699,\"erro\")","v":0},{"$f":"IFERROR(DATE(YEAR(Gerar_Upload!E2699),MONTH(Gerar_Upload!E2699),DAY(Gerar_Upload!E2699)),\"erro\")","v":"00:00:00"},{"$f":"IFERROR(Gerar_Upload!F2699,\"erro\")","v":0},{"$f":"IFERROR(IF(Gerar_Upload!G2699<44,REPT(0,44-LEN(Gerar_Upload!G2699))&Gerar_Upload!G2699,Gerar_Upload!G2699),\"erro\")","v":"00000000000000000000000000000000000000000000"}]
[{"$f":"IFERROR(LEFT(Gerar_Upload!A2700,120),\"erro\")","v":""},{"$f":"IFERROR(SUBSTITUTE(SUBSTITUTE(SUBSTITUTE(Gerar_Upload!B2700,\".\",\"\"),\"-\",\"\"),\"/\",\"\"),\"erro\")","v":""},{"$f":"IFERROR(Gerar_Upload!C2700,\"erro\")","v":0},{"$f":"IFERROR(Gerar_Upload!D2700,\"erro\")","v":0},{"$f":"IFERROR(DATE(YEAR(Gerar_Upload!E2700),MONTH(Gerar_Upload!E2700),DAY(Gerar_Upload!E2700)),\"erro\")","v":"00:00:00"},{"$f":"IFERROR(Gerar_Upload!F2700,\"erro\")","v":0},{"$f":"IFERROR(IF(Gerar_Upload!G2700<44,REPT(0,44-LEN(Gerar_Upload!G2700))&Gerar_Upload!G2700,Gerar_Upload!G2700),\"erro\")","v":"00000000000000000000000000000000000000000000"}]
[{"$f":"IFERROR(LEFT(Gerar_Upload!A2701,120),\"erro\")","v":""},{"$f":"IFERROR(SUBSTITUTE(SUBSTITUTE(SUBSTITUTE(Gerar_Upload!B2701,\".\",\"\"),\"-\",\"\"),\"/\",\"\"),\"erro\")","v":""},{"$f":"IFERROR(Gerar_Upload!C2701,\"erro\")","v":0},{"$f":"IFERROR(Gerar_Upload!D2701,\"erro\")","v":0},{"$f":"IFERROR(DATE(YEAR(Gerar_Upload!E2701),MONTH(Gerar_Upload!E2701),DAY(Gerar_Upload!E2701)),\"erro\")","v":"00:00:00"},{"$f":"IFERROR(Gerar_Upload!F2701,\"erro\")","v":0},{"$f":"IFERROR(IF(Gerar_Upload!G2701<44,REPT(0,44-LEN(Gerar_Upload!G2701))&Gerar_Upload!G2701,Gerar_Upload!G2701),\"erro\")","v":"00000000000000000000000000000000000000000000"}]
[{"$f":"IFERROR(LEFT(Gerar_Upload!A2702,120),\"erro\")","v":""},{"$f":"IFERROR(SUBSTITUTE(SUBSTITUTE(SUBSTITUTE(Gerar_Upload!B2702,\".\",\"\"),\"-\",\"\"),\"/\",\"\"),\"erro\")","v":""},{"$f":"IFERROR(Gerar_Upload!C2702,\"erro\")","v":0},{"$f":"IFERROR(Gerar_Upload!D2702,\"erro\")","v":0},{"$f":"IFERROR(DATE(YEAR(Gerar_Upload!E2702),MONTH(Gerar_Upload!E2702),DAY(Gerar_Upload!E2702)),\"erro\")","v":"00:00:00"},{"$f":"IFERROR(Gerar_Upload!F2702,\"erro\")","v":0},{"$f":"IFERROR(IF(Gerar_Upload!G2702<44,REPT(0,44-LEN(Gerar_Upload!G2702))&Gerar_Upload!G2702,Gerar_Upload!G2702),\"erro\")","v":"00000000000000000000000000000000000000000000"}]
[{"$f":"IFERROR(LEFT(Gerar_Upload!A2703,120),\"erro\")","v":""},{"$f":"IFERROR(SUBSTITUTE(SUBSTITUTE(SUBSTITUTE(Gerar_Upload!B2703,\".\",\"\"),\"-\",\"\"),\"/\",\"\"),\"erro\")","v":""},{"$f":"IFERROR(Gerar_Upload!C2703,\"erro\")","v":0},{"$f":"IFERROR(Gerar_Upload!D2703,\"erro\")","v":0},{"$f":"IFERROR(DATE(YEAR(Gerar_Upload!E2703),MONTH(Gerar_Upload!E2703),DAY(Gerar_Upload!E2703)),\"erro\")","v":"00:00:00"},{"$f":"IFERROR(Gerar_Upload!F2703,\"erro\")","v":0},{"$f":"IFERROR(IF(Gerar_Upload!G2703<44,REPT(0,44-LEN(Gerar_Upload!G2703))&Gerar_Upload!G2703,Gerar_Upload!G2703),\"erro\")","v":"00000000000000000000000000000000000000000000"}]
[{"$f":"IFERROR(LEFT(Gerar_Upload!A2704,120),\"erro\")","v":""},{"$f":"IFERROR(SUBSTITUTE(SUBSTITUTE(SUBSTITUTE(Gerar_Upload!B2704,\".\",\"\"),\"-\",\"\"),\"/\",\"\"),\"erro\")","v":""},{"$f":"IFERROR(Gerar_Upload!C2704,\"erro\")","v":0},{"$f":"IFERROR(Gerar_Upload!D2704,\"erro\")","v":0},{"$f":"IFERROR(DATE(YEAR(Gerar_Upload!E2704),MONTH(Gerar_Upload!E2704),DAY(Gerar_Upload!E2704)),\"erro\")","v":"00:00:00"},{"$f":"IFERROR(Gerar_Upload!F2704,\"erro\")","v":0},{"$f":"IFERROR(IF(Gerar_Upload!G2704<44,REPT(0,44-LEN(Gerar_Upload!G2704))&Gerar_Upload!G2704,Gerar_Upload!G2704),\"erro\")","v":"00000000000000000000000000000000000000000000"}]
[{"$f":"IFERROR(LEFT(Gerar_Upload!A2705,120),\"erro\")","v":""},{"$f":"IFERROR(SUBSTITUTE(SUBSTITUTE(SUBSTITUTE(Gerar_Upload!B2705,\".\",\"\"),\"-\",\"\"),\"/\",\"\"),\"erro\")","v":""},{"$f":"IFERROR(Gerar_Upload!C2705,\"erro\")","v":0},{"$f":"IFERROR(Gerar_Upload!D2705,\"erro\")","v":0},{"$f":"IFERROR(DATE(YEAR(Gerar_Upload!E2705),MONTH(Gerar_Upload!E2705),DAY(Gerar_Upload!E2705)),\"erro\")","v":"00:00:00"},{"$f":"IFERROR(Gerar_Upload!F2705,\"erro\")","v":0},{"$f":"IFERROR(IF(Gerar_Upload!G2705<44,REPT(0,44-LEN(Gerar_Upload!G2705))&Gerar_Upload!G2705,Gerar_Upload!G2705),\"erro\")","v":"00000000000000000000000000000000000000000000"}]
[{"$f":"IFERROR(LEFT(Gerar_Upload!A2706,120),\"erro\")","v":""},{"$f":"IFERROR(SUBSTITUTE(SUBSTITUTE(SUBSTITUTE(Gerar_Upload!B2706,\".\",\"\"),\"-\",\"\"),\"/\",\"\"),\"erro\")","v":""},{"$f":"IFERROR(Gerar_Upload!C2706,\"erro\")","v":0},{"$f":"IFERROR(Gerar_Upload!D2706,\"erro\")","v":0},{"$f":"IFERROR(DATE(YEAR(Gerar_Upload!E2706),MONTH(Gerar_Upload!E2706),DAY(Gerar_Upload!E2706)),\"erro\")","v":"00:00:00"},{"$f":"IFERROR(Gerar_Upload!F2706,\"erro\")","v":0},{"$f":"IFERROR(IF(Gerar_Upload!G2706<44,REPT(0,44-LEN(Gerar_Upload!G2706))&Gerar_Upload!G2706,Gerar_Upload!G2706),\"erro\")","v":"00000000000000000000000000000000000000000000"}]
[{"$f":"IFERROR(LEFT(Gerar_Upload!A2707,120),\"erro\")","v":""},{"$f":"IFERROR(SUBSTITUTE(SUBSTITUTE(SUBSTITUTE(Gerar_Upload!B2707,\".\",\"\"),\"-\",\"\"),\"/\",\"\"),\"erro\")","v":""},{"$f":"IFERROR(Gerar_Upload!C2707,\"erro\")","v":0},{"$f":"IFERROR(Gerar_Upload!D2707,\"erro\")","v":0},{"$f":"IFERROR(DATE(YEAR(Gerar_Upload!E2707),MONTH(Gerar_Upload!E2707),DAY(Gerar_Upload!E2707)),\"erro\")","v":"00:00:00"},{"$f":"IFERROR(Gerar_Upload!F2707,\"erro\")","v":0},{"$f":"IFERROR(IF(Gerar_Upload!G2707<44,REPT(0,44-LEN(Gerar_Upload!G2707))&Gerar_Upload!G2707,Gerar_Upload!G2707),\"erro\")","v":"00000000000000000000000000000000000000000000"}]
[{"$f":"IFERROR(LEFT(Gerar_Upload!A2708,120),\"erro\")","v":""},{"$f":"IFERROR(SUBSTITUTE(SUBSTITUTE(SUBSTITUTE(Gerar_Upload!B2708,\".\",\"\"),\"-\",\"\"),\"/\",\"\"),\"erro\")","v":""},{"$f":"IFERROR(Gerar_Upload!C2708,\"erro\")","v":0},{"$f":"IFERROR(Gerar_Upload!D2708,\"erro\")","v":0},{"$f":"IFERROR(DATE(YEAR(Gerar_Upload!E2708),MONTH(Gerar_Upload!E2708),DAY(Gerar_Upload!E2708)),\"erro\")","v":"00:00:00"},{"$f":"IFERROR(Gerar_Upload!F2708,\"erro\")","v":0},{"$f":"IFERROR(IF(Gerar_Upload!G2708<44,REPT(0,44-LEN(Gerar_Upload!G2708))&Gerar_Upload!G2708,Gerar_Upload!G2708),\"erro\")","v":"00000000000000000000000000000000000000000000"}]
[{"$f":"IFERROR(LEFT(Gerar_Upload!A2709,120),\"erro\")","v":""},{"$f":"IFERROR(SUBSTITUTE(SUBSTITUTE(SUBSTITUTE(Gerar_Upload!B2709,\".\",\"\"),\"-\",\"\"),\"/\",\"\"),\"erro\")","v":""},{"$f":"IFERROR(Gerar_Upload!C2709,\"erro\")","v":0},{"$f":"IFERROR(Gerar_Upload!D2709,\"erro\")","v":0},{"$f":"IFERROR(DATE(YEAR(Gerar_Upload!E2709),MONTH(Gerar_Upload!E2709),DAY(Gerar_Upload!E2709)),\"erro\")","v":"00:00:00"},{"$f":"IFERROR(Gerar_Upload!F2709,\"erro\")","v":0},{"$f":"IFERROR(IF(Gerar_Upload!G2709<44,REPT(0,44-LEN(Gerar_Upload!G2709))&Gerar_Upload!G2709,Gerar_Upload!G2709),\"erro\")","v":"00000000000000000000000000000000000000000000"}]
[{"$f":"IFERROR(LEFT(Gerar_Upload!A2710,120),\"erro\")","v":""},{"$f":"IFERROR(SUBSTITUTE(SUBSTITUTE(SUBSTITUTE(Gerar_Upload!B2710,\".\",\"\"),\"-\",\"\"),\"/\",\"\"),\"erro\")","v":""},{"$f":"IFERROR(Gerar_Upload!C2710,\"erro\")","v":0},{"$f":"IFERROR(Gerar_Upload!D2710,\"erro\")","v":0},{"$f":"IFERROR(DATE(YEAR(Gerar_Upload!E2710),MONTH(Gerar_Upload!E2710),DAY(Gerar_Upload!E2710)),\"erro\")","v":"00:00:00"},{"$f":"IFERROR(Gerar_Upload!F2710,\"erro\")","v":0},{"$f":"IFERROR(IF(Gerar_Upload!G2710<44,REPT(0,44-LEN(Gerar_Upload!G2710))&Gerar_Upload!G2710,Gerar_Upload!G2710),\"erro\")","v":"00000000000000000000000000000000000000000000"}]
[{"$f":"IFERROR(LEFT(Gerar_Upload!A2711,120),\"erro\")","v":""},{"$f":"IFERROR(SUBSTITUTE(SUBSTITUTE(SUBSTITUTE(Gerar_Upload!B2711,\".\",\"\"),\"-\",\"\"),\"/\",\"\"),\"erro\")","v":""},{"$f":"IFERROR(Gerar_Upload!C2711,\"erro\")","v":0},{"$f":"IFERROR(Gerar_Upload!D2711,\"erro\")","v":0},{"$f":"IFERROR(DATE(YEAR(Gerar_Upload!E2711),MONTH(Gerar_Upload!E2711),DAY(Gerar_Upload!E2711)),\"erro\")","v":"00:00:00"},{"$f":"IFERROR(Gerar_Upload!F2711,\"erro\")","v":0},{"$f":"IFERROR(IF(Gerar_Upload!G2711<44,REPT(0,44-LEN(Gerar_Upload!G2711))&Gerar_Upload!G2711,Gerar_Upload!G2711),\"erro\")","v":"00000000000000000000000000000000000000000000"}]
[{"$f":"IFERROR(LEFT(Gerar_Upload!A2712,120),\"erro\")","v":""},{"$f":"IFERROR(SUBSTITUTE(SUBSTITUTE(SUBSTITUTE(Gerar_Upload!B2712,\".\",\"\"),\"-\",\"\"),\"/\",\"\"),\"erro\")","v":""},{"$f":"IFERROR(Gerar_Upload!C2712,\"erro\")","v":0},{"$f":"IFERROR(Gerar_Upload!D2712,\"erro\")","v":0},{"$f":"IFERROR(DATE(YEAR(Gerar_Upload!E2712),MONTH(Gerar_Upload!E2712),DAY(Gerar_Upload!E2712)),\"erro\")","v":"00:00:00"},{"$f":"IFERROR(Gerar_Upload!F2712,\"erro\")","v":0},{"$f":"IFERROR(IF(Gerar_Upload!G2712<44,REPT(0,44-LEN(Gerar_Upload!G2712))&Gerar_Upload!G2712,Gerar_Upload!G2712),\"erro\")","v":"00000000000000000000000000000000000000000000"}]
[{"$f":"IFERROR(LEFT(Gerar_Upload!A2713,120),\"erro\")","v":""},{"$f":"IFERROR(SUBSTITUTE(SUBSTITUTE(SUBSTITUTE(Gerar_Upload!B2713,\".\",\"\"),\"-\",\"\"),\"/\",\"\"),\"erro\")","v":""},{"$f":"IFERROR(Gerar_Upload!C2713,\"erro\")","v":0},{"$f":"IFERROR(Gerar_Upload!D2713,\"erro\")","v":0},{"$f":"IFERROR(DATE(YEAR(Gerar_Upload!E2713),MONTH(Gerar_Upload!E2713),DAY(Gerar_Upload!E2713)),\"erro\")","v":"00:00:00"},{"$f":"IFERROR(Gerar_Upload!F2713,\"erro\")","v":0},{"$f":"IFERROR(IF(Gerar_Upload!G2713<44,REPT(0,44-LEN(Gerar_Upload!G2713))&Gerar_Upload!G2713,Gerar_Upload!G2713),\"erro\")","v":"00000000000000000000000000000000000000000000"}]
[{"$f":"IFERROR(LEFT(Gerar_Upload!A2714,120),\"erro\")","v":""},{"$f":"IFERROR(SUBSTITUTE(SUBSTITUTE(SUBSTITUTE(Gerar_Upload!B2714,\".\",\"\"),\"-\",\"\"),\"/\",\"\"),\"erro\")","v":""},{"$f":"IFERROR(Gerar_Upload!C2714,\"erro\")","v":0},{"$f":"IFERROR(Gerar_Upload!D2714,\"erro\")","v":0},{"$f":"IFERROR(DATE(YEAR(Gerar_Upload!E2714),MONTH(Gerar_Upload!E2714),DAY(Gerar_Upload!E2714)),\"erro\")","v":"00:00:00"},{"$f":"IFERROR(Gerar_Upload!F2714,\"erro\")","v":0},{"$f":"IFERROR(IF(Gerar_Upload!G2714<44,REPT(0,44-LEN(Gerar_Upload!G2714))&Gerar_Upload!G2714,Gerar_Upload!G2714),\"erro\")","v":"00000000000000000000000000000000000000000000"}]
[{"$f":"IFERROR(LEFT(Gerar_Upload!A2715,120),\"erro\")","v":""},{"$f":"IFERROR(SUBSTITUTE(SUBSTITUTE(SUBSTITUTE(Gerar_Upload!B2715,\".\",\"\"),\"-\",\"\"),\"/\",\"\"),\"erro\")","v":""},{"$f":"IFERROR(Gerar_Upload!C2715,\"erro\")","v":0},{"$f":"IFERROR(Gerar_Upload!D2715,\"erro\")","v":0},{"$f":"IFERROR(DATE(YEAR(Gerar_Upload!E2715),MONTH(Gerar_Upload!E2715),DAY(Gerar_Upload!E2715)),\"erro\")","v":"00:00:00"},{"$f":"IFERROR(Gerar_Upload!F2715,\"erro\")","v":0},{"$f":"IFERROR(IF(Gerar_Upload!G2715<44,REPT(0,44-LEN(Gerar_Upload!G2715))&Gerar_Upload!G2715,Gerar_Upload!G2715),\"erro\")","v":"00000000000000000000000000000000000000000000"}]
[{"$f":"IFERROR(LEFT(Gerar_Upload!A2716,120),\"erro\")","v":""},{"$f":"IFERROR(SUBSTITUTE(SUBSTITUTE(SUBSTITUTE(Gerar_Upload!B2716,\".\",\"\"),\"-\",\"\"),\"/\",\"\"),\"erro\")","v":""},{"$f":"IFERROR(Gerar_Upload!C2716,\"erro\")","v":0},{"$f":"IFERROR(Gerar_Upload!D2716,\"erro\")","v":0},{"$f":"IFERROR(DATE(YEAR(Gerar_Upload!E2716),MONTH(Gerar_Upload!E2716),DAY(Gerar_Upload!E2716)),\"erro\")","v":"00:00:00"},{"$f":"IFERROR(Gerar_Upload!F2716,\"erro\")","v":0},{"$f":"IFERROR(IF(Gerar_Upload!G2716<44,REPT(0,44-LEN(Gerar_Upload!G2716))&Gerar_Upload!G2716,Gerar_Upload!G2716),\"erro\")","v":"00000000000000000000000000000000000000000000"}]
[{"$f":"IFERROR(LEFT(Gerar_Upload!A2717,120),\"erro\")","v":""},{"$f":"IFERROR(SUBSTITUTE(SUBSTITUTE(SUBSTITUTE(Gerar_Upload!B2717,\".\",\"\"),\"-\",\"\"),\"/\",\"\"),\"erro\")","v":""},{"$f":"IFERROR(Gerar_Upload!C2717,\"erro\")","v":0},{"$f":"IFERROR(Gerar_Upload!D2717,\"erro\")","v":0},{"$f":"IFERROR(DATE(YEAR(Gerar_Upload!E2717),MONTH(Gerar_Upload!E2717),DAY(Gerar_Upload!E2717)),\"erro\")","v":"00:00:00"},{"$f":"IFERROR(Gerar_Upload!F2717,\"erro\")","v":0},{"$f":"IFERROR(IF(Gerar_Upload!G2717<44,REPT(0,44-LEN(Gerar_Upload!G2717))&Gerar_Upload!G2717,Gerar_Upload!G2717),\"erro\")","v":"00000000000000000000000000000000000000000000"}]
[{"$f":"IFERROR(LEFT(Gerar_Upload!A2718,120),\"erro\")","v":""},{"$f":"IFERROR(SUBSTITUTE(SUBSTITUTE(SUBSTITUTE(Gerar_Upload!B2718,\".\",\"\"),\"-\",\"\"),\"/\",\"\"),\"erro\")","v":""},{"$f":"IFERROR(Gerar_Upload!C2718,\"erro\")","v":0},{"$f":"IFERROR(Gerar_Upload!D2718,\"erro\")","v":0},{"$f":"IFERROR(DATE(YEAR(Gerar_Upload!E2718),MONTH(Gerar_Upload!E2718),DAY(Gerar_Upload!E2718)),\"erro\")","v":"00:00:00"},{"$f":"IFERROR(Gerar_Upload!F2718,\"erro\")","v":0},{"$f":"IFERROR(IF(Gerar_Upload!G2718<44,REPT(0,44-LEN(Gerar_Upload!G2718))&Gerar_Upload!G2718,Gerar_Upload!G2718),\"erro\")","v":"00000000000000000000000000000000000000000000"}]
[{"$f":"IFERROR(LEFT(Gerar_Upload!A2719,120),\"erro\")","v":""},{"$f":"IFERROR(SUBSTITUTE(SUBSTITUTE(SUBSTITUTE(Gerar_Upload!B2719,\".\",\"\"),\"-\",\"\"),\"/\",\"\"),\"erro\")","v":""},{"$f":"IFERROR(Gerar_Upload!C2719,\"erro\")","v":0},{"$f":"IFERROR(Gerar_Upload!D2719,\"erro\")","v":0},{"$f":"IFERROR(DATE(YEAR(Gerar_Upload!E2719),MONTH(Gerar_Upload!E2719),DAY(Gerar_Upload!E2719)),\"erro\")","v":"00:00:00"},{"$f":"IFERROR(Gerar_Upload!F2719,\"erro\")","v":0},{"$f":"IFERROR(IF(Gerar_Upload!G2719<44,REPT(0,44-LEN(Gerar_Upload!G2719))&Gerar_Upload!G2719,Gerar_Upload!G2719),\"erro\")","v":"00000000000000000000000000000000000000000000"}]
[{"$f":"IFERROR(LEFT(Gerar_Upload!A2720,120),\"erro\")","v":""},{"$f":"IFERROR(SUBSTITUTE(SUBSTITUTE(SUBSTITUTE(Gerar_Upload!B2720,\".\",\"\"),\"-\",\"\"),\"/\",\"\"),\"erro\")","v":""},{"$f":"IFERROR(Gerar_Upload!C2720,\"erro\")","v":0},{"$f":"IFERROR(Gerar_Upload!D2720,\"erro\")","v":0},{"$f":"IFERROR(DATE(YEAR(Gerar_Upload!E2720),MONTH(Gerar_Upload!E2720),DAY(Gerar_Upload!E2720)),\"erro\")","v":"00:00:00"},{"$f":"IFERROR(Gerar_Upload!F2720,\"erro\")","v":0},{"$f":"IFERROR(IF(Gerar_Upload!G2720<44,REPT(0,44-LEN(Gerar_Upload!G2720))&Gerar_Upload!G2720,Gerar_Upload!G2720),\"erro\")","v":"00000000000000000000000000000000000000000000"}]
[{"$f":"IFERROR(LEFT(Gerar_Upload!A2721,120),\"erro\")","v":""},{"$f":"IFERROR(SUBSTITUTE(SUBSTITUTE(SUBSTITUTE(Gerar_Upload!B2721,\".\",\"\"),\"-\",\"\"),\"/\",\"\"),\"erro\")","v":""},{"$f":"IFERROR(Gerar_Upload!C2721,\"erro\")","v":0},{"$f":"IFERROR(Gerar_Upload!D2721,\"erro\")","v":0},{"$f":"IFERROR(DATE(YEAR(Gerar_Upload!E2721),MONTH(Gerar_Upload!E2721),DAY(Gerar_Upload!E2721)),\"erro\")","v":"00:00:00"},{"$f":"IFERROR(Gerar_Upload!F2721,\"erro\")","v":0},{"$f":"IFERROR(IF(Gerar_Upload!G2721<44,REPT(0,44-LEN(Gerar_Upload!G2721))&Gerar_Upload!G2721,Gerar_Upload!G2721),\"erro\")","v":"00000000000000000000000000000000000000000000"}]
[{"$f":"IFERROR(LEFT(Gerar_Upload!A2722,120),\"erro\")","v":""},{"$f":"IFERROR(SUBSTITUTE(SUBSTITUTE(SUBSTITUTE(Gerar_Upload!B2722,\".\",\"\"),\"-\",\"\"),\"/\",\"\"),\"erro\")","v":""},{"$f":"IFERROR(Gerar_Upload!C2722,\"erro\")","v":0},{"$f":"IFERROR(Gerar_Upload!D2722,\"erro\")","v":0},{"$f":"IFERROR(DATE(YEAR(Gerar_Upload!E2722),MONTH(Gerar_Upload!E2722),DAY(Gerar_Upload!E2722)),\"erro\")","v":"00:00:00"},{"$f":"IFERROR(Gerar_Upload!F2722,\"erro\")","v":0},{"$f":"IFERROR(IF(Gerar_Upload!G2722<44,REPT(0,44-LEN(Gerar_Upload!G2722))&Gerar_Upload!G2722,Gerar_Upload!G2722),\"erro\")","v":"00000000000000000000000000000000000000000000"}]
[{"$f":"IFERROR(LEFT(Gerar_Upload!A2723,120),\"erro\")","v":""},{"$f":"IFERROR(SUBSTITUTE(SUBSTITUTE(SUBSTITUTE(Gerar_Upload!B2723,\".\",\"\"),\"-\",\"\"),\"/\",\"\"),\"erro\")","v":""},{"$f":"IFERROR(Gerar_Upload!C2723,\"erro\")","v":0},{"$f":"IFERROR(Gerar_Upload!D2723,\"erro\")","v":0},{"$f":"IFERROR(DATE(YEAR(Gerar_Upload!E2723),MONTH(Gerar_Upload!E2723),DAY(Gerar_Upload!E2723)),\"erro\")","v":"00:00:00"},{"$f":"IFERROR(Gerar_Upload!F2723,\"erro\")","v":0},{"$f":"IFERROR(IF(Gerar_Upload!G2723<44,REPT(0,44-LEN(Gerar_Upload!G2723))&Gerar_Upload!G2723,Gerar_Upload!G2723),\"erro\")","v":"00000000000000000000000000000000000000000000"}]
[{"$f":"IFERROR(LEFT(Gerar_Upload!A2724,120),\"erro\")","v":""},{"$f":"IFERROR(SUBSTITUTE(SUBSTITUTE(SUBSTITUTE(Gerar_Upload!B2724,\".\",\"\"),\"-\",\"\"),\"/\",\"\"),\"erro\")","v":""},{"$f":"IFERROR(Gerar_Upload!C2724,\"erro\")","v":0},{"$f":"IFERROR(Gerar_Upload!D2724,\"erro\")","v":0},{"$f":"IFERROR(DATE(YEAR(Gerar_Upload!E2724),MONTH(Gerar_Upload!E2724),DAY(Gerar_Upload!E2724)),\"erro\")","v":"00:00:00"},{"$f":"IFERROR(Gerar_Upload!F2724,\"erro\")","v":0},{"$f":"IFERROR(IF(Gerar_Upload!G2724<44,REPT(0,44-LEN(Gerar_Upload!G2724))&Gerar_Upload!G2724,Gerar_Upload!G2724),\"erro\")","v":"00000000000000000000000000000000000000000000"}]
[{"$f":"IFERROR(LEFT(Gerar_Upload!A2725,120),\"erro\")","v":""},{"$f":"IFERROR(SUBSTITUTE(SUBSTITUTE(SUBSTITUTE(Gerar_Upload!B2725,\".\",\"\"),\"-\",\"\"),\"/\",\"\"),\"erro\")","v":""},{"$f":"IFERROR(Gerar_Upload!C2725,\"erro\")","v":0},{"$f":"IFERROR(Gerar_Upload!D2725,\"erro\")","v":0},{"$f":"IFERROR(DATE(YEAR(Gerar_Upload!E2725),MONTH(Gerar_Upload!E2725),DAY(Gerar_Upload!E2725)),\"erro\")","v":"00:00:00"},{"$f":"IFERROR(Gerar_Upload!F2725,\"erro\")","v":0},{"$f":"IFERROR(IF(Gerar_Upload!G2725<44,REPT(0,44-LEN(Gerar_Upload!G2725))&Gerar_Upload!G2725,Gerar_Upload!G2725),\"erro\")","v":"00000000000000000000000000000000000000000000"}]
[{"$f":"IFERROR(LEFT(Gerar_Upload!A2726,120),\"erro\")","v":""},{"$f":"IFERROR(SUBSTITUTE(SUBSTITUTE(SUBSTITUTE(Gerar_Upload!B2726,\".\",\"\"),\"-\",\"\"),\"/\",\"\"),\"erro\")","v":""},{"$f":"IFERROR(Gerar_Upload!C2726,\"erro\")","v":0},{"$f":"IFERROR(Gerar_Upload!D2726,\"erro\")","v":0},{"$f":"IFERROR(DATE(YEAR(Gerar_Upload!E2726),MONTH(Gerar_Upload!E2726),DAY(Gerar_Upload!E2726)),\"erro\")","v":"00:00:00"},{"$f":"IFERROR(Gerar_Upload!F2726,\"erro\")","v":0},{"$f":"IFERROR(IF(Gerar_Upload!G2726<44,REPT(0,44-LEN(Gerar_Upload!G2726))&Gerar_Upload!G2726,Gerar_Upload!G2726),\"erro\")","v":"00000000000000000000000000000000000000000000"}]
[{"$f":"IFERROR(LEFT(Gerar_Upload!A2727,120),\"erro\")","v":""},{"$f":"IFERROR(SUBSTITUTE(SUBSTITUTE(SUBSTITUTE(Gerar_Upload!B2727,\".\",\"\"),\"-\",\"\"),\"/\",\"\"),\"erro\")","v":""},{"$f":"IFERROR(Gerar_Upload!C2727,\"erro\")","v":0},{"$f":"IFERROR(Gerar_Upload!D2727,\"erro\")","v":0},{"$f":"IFERROR(DATE(YEAR(Gerar_Upload!E2727),MONTH(Gerar_Upload!E2727),DAY(Gerar_Upload!E2727)),\"erro\")","v":"00:00:00"},{"$f":"IFERROR(Gerar_Upload!F2727,\"erro\")","v":0},{"$f":"IFERROR(IF(Gerar_Upload!G2727<44,REPT(0,44-LEN(Gerar_Upload!G2727))&Gerar_Upload!G2727,Gerar_Upload!G2727),\"erro\")","v":"00000000000000000000000000000000000000000000"}]
[{"$f":"IFERROR(LEFT(Gerar_Upload!A2728,120),\"erro\")","v":""},{"$f":"IFERROR(SUBSTITUTE(SUBSTITUTE(SUBSTITUTE(Gerar_Upload!B2728,\".\",\"\"),\"-\",\"\"),\"/\",\"\"),\"erro\")","v":""},{"$f":"IFERROR(Gerar_Upload!C2728,\"erro\")","v":0},{"$f":"IFERROR(Gerar_Upload!D2728,\"erro\")","v":0},{"$f":"IFERROR(DATE(YEAR(Gerar_Upload!E2728),MONTH(Gerar_Upload!E2728),DAY(Gerar_Upload!E2728)),\"erro\")","v":"00:00:00"},{"$f":"IFERROR(Gerar_Upload!F2728,\"erro\")","v":0},{"$f":"IFERROR(IF(Gerar_Upload!G2728<44,REPT(0,44-LEN(Gerar_Upload!G2728))&Gerar_Upload!G2728,Gerar_Upload!G2728),\"erro\")","v":"00000000000000000000000000000000000000000000"}]
[{"$f":"IFERROR(LEFT(Gerar_Upload!A2729,120),\"erro\")","v":""},{"$f":"IFERROR(SUBSTITUTE(SUBSTITUTE(SUBSTITUTE(Gerar_Upload!B2729,\".\",\"\"),\"-\",\"\"),\"/\",\"\"),\"erro\")","v":""},{"$f":"IFERROR(Gerar_Upload!C2729,\"erro\")","v":0},{"$f":"IFERROR(Gerar_Upload!D2729,\"erro\")","v":0},{"$f":"IFERROR(DATE(YEAR(Gerar_Upload!E2729),MONTH(Gerar_Upload!E2729),DAY(Gerar_Upload!E2729)),\"erro\")","v":"00:00:00"},{"$f":"IFERROR(Gerar_Upload!F2729,\"erro\")","v":0},{"$f":"IFERROR(IF(Gerar_Upload!G2729<44,REPT(0,44-LEN(Gerar_Upload!G2729))&Gerar_Upload!G2729,Gerar_Upload!G2729),\"erro\")","v":"00000000000000000000000000000000000000000000"}]
[{"$f":"IFERROR(LEFT(Gerar_Upload!A2730,120),\"erro\")","v":""},{"$f":"IFERROR(SUBSTITUTE(SUBSTITUTE(SUBSTITUTE(Gerar_Upload!B2730,\".\",\"\"),\"-\",\"\"),\"/\",\"\"),\"erro\")","v":""},{"$f":"IFERROR(Gerar_Upload!C2730,\"erro\")","v":0},{"$f":"IFERROR(Gerar_Upload!D2730,\"erro\")","v":0},{"$f":"IFERROR(DATE(YEAR(Gerar_Upload!E2730),MONTH(Gerar_Upload!E2730),DAY(Gerar_Upload!E2730)),\"erro\")","v":"00:00:00"},{"$f":"IFERROR(Gerar_Upload!F2730,\"erro\")","v":0},{"$f":"IFERROR(IF(Gerar_Upload!G2730<44,REPT(0,44-LEN(Gerar_Upload!G2730))&Gerar_Upload!G2730,Gerar_Upload!G2730),\"erro\")","v":"00000000000000000000000000000000000000000000"}]
[{"$f":"IFERROR(LEFT(Gerar_Upload!A2731,120),\"erro\")","v":""},{"$f":"IFERROR(SUBSTITUTE(SUBSTITUTE(SUBSTITUTE(Gerar_Upload!B2731,\".\",\"\"),\"-\",\"\"),\"/\",\"\"),\"erro\")","v":""},{"$f":"IFERROR(Gerar_Upload!C2731,\"erro\")","v":0},{"$f":"IFERROR(Gerar_Upload!D2731,\"erro\")","v":0},{"$f":"IFERROR(DATE(YEAR(Gerar_Upload!E2731),MONTH(Gerar_Upload!E2731),DAY(Gerar_Upload!E2731)),\"erro\")","v":"00:00:00"},{"$f":"IFERROR(Gerar_Upload!F2731,\"erro\")","v":0},{"$f":"IFERROR(IF(Gerar_Upload!G2731<44,REPT(0,44-LEN(Gerar_Upload!G2731))&Gerar_Upload!G2731,Gerar_Upload!G2731),\"erro\")","v":"00000000000000000000000000000000000000000000"}]
[{"$f":"IFERROR(LEFT(Gerar_Upload!A2732,120),\"erro\")","v":""},{"$f":"IFERROR(SUBSTITUTE(SUBSTITUTE(SUBSTITUTE(Gerar_Upload!B2732,\".\",\"\"),\"-\",\"\"),\"/\",\"\"),\"erro\")","v":""},{"$f":"IFERROR(Gerar_Upload!C2732,\"erro\")","v":0},{"$f":"IFERROR(Gerar_Upload!D2732,\"erro\")","v":0},{"$f":"IFERROR(DATE(YEAR(Gerar_Upload!E2732),MONTH(Gerar_Upload!E2732),DAY(Gerar_Upload!E2732)),\"erro\")","v":"00:00:00"},{"$f":"IFERROR(Gerar_Upload!F2732,\"erro\")","v":0},{"$f":"IFERROR(IF(Gerar_Upload!G2732<44,REPT(0,44-LEN(Gerar_Upload!G2732))&Gerar_Upload!G2732,Gerar_Upload!G2732),\"erro\")","v":"00000000000000000000000000000000000000000000"}]
[{"$f":"IFERROR(LEFT(Gerar_Upload!A2733,120),\"erro\")","v":""},{"$f":"IFERROR(SUBSTITUTE(SUBSTITUTE(SUBSTITUTE(Gerar_Upload!B2733,\".\",\"\"),\"-\",\"\"),\"/\",\"\"),\"erro\")","v":""},{"$f":"IFERROR(Gerar_Upload!C2733,\"erro\")","v":0},{"$f":"IFERROR(Gerar_Upload!D2733,\"erro\")","v":0},{"$f":"IFERROR(DATE(YEAR(Gerar_Upload!E2733),MONTH(Gerar_Upload!E2733),DAY(Gerar_Upload!E2733)),\"erro\")","v":"00:00:00"},{"$f":"IFERROR(Gerar_Upload!F2733,\"erro\")","v":0},{"$f":"IFERROR(IF(Gerar_Upload!G2733<44,REPT(0,44-LEN(Gerar_Upload!G2733))&Gerar_Upload!G2733,Gerar_Upload!G2733),\"erro\")","v":"00000000000000000000000000000000000000000000"}]
[{"$f":"IFERROR(LEFT(Gerar_Upload!A2734,120),\"erro\")","v":""},{"$f":"IFERROR(SUBSTITUTE(SUBSTITUTE(SUBSTITUTE(Gerar_Upload!B2734,\".\",\"\"),\"-\",\"\"),\"/\",\"\"),\"erro\")","v":""},{"$f":"IFERROR(Gerar_Upload!C2734,\"erro\")","v":0},{"$f":"IFERROR(Gerar_Upload!D2734,\"erro\")","v":0},{"$f":"IFERROR(DATE(YEAR(Gerar_Upload!E2734),MONTH(Gerar_Upload!E2734),DAY(Gerar_Upload!E2734)),\"erro\")","v":"00:00:00"},{"$f":"IFERROR(Gerar_Upload!F2734,\"erro\")","v":0},{"$f":"IFERROR(IF(Gerar_Upload!G2734<44,REPT(0,44-LEN(Gerar_Upload!G2734))&Gerar_Upload!G2734,Gerar_Upload!G2734),\"erro\")","v":"00000000000000000000000000000000000000000000"}]
[{"$f":"IFERROR(LEFT(Gerar_Upload!A2735,120),\"erro\")","v":""},{"$f":"IFERROR(SUBSTITUTE(SUBSTITUTE(SUBSTITUTE(Gerar_Upload!B2735,\".\",\"\"),\"-\",\"\"),\"/\",\"\"),\"erro\")","v":""},{"$f":"IFERROR(Gerar_Upload!C2735,\"erro\")","v":0},{"$f":"IFERROR(Gerar_Upload!D2735,\"erro\")","v":0},{"$f":"IFERROR(DATE(YEAR(Gerar_Upload!E2735),MONTH(Gerar_Upload!E2735),DAY(Gerar_Upload!E2735)),\"erro\")","v":"00:00:00"},{"$f":"IFERROR(Gerar_Upload!F2735,\"erro\")","v":0},{"$f":"IFERROR(IF(Gerar_Upload!G2735<44,REPT(0,44-LEN(Gerar_Upload!G2735))&Gerar_Upload!G2735,Gerar_Upload!G2735),\"erro\")","v":"00000000000000000000000000000000000000000000"}]
[{"$f":"IFERROR(LEFT(Gerar_Upload!A2736,120),\"erro\")","v":""},{"$f":"IFERROR(SUBSTITUTE(SUBSTITUTE(SUBSTITUTE(Gerar_Upload!B2736,\".\",\"\"),\"-\",\"\"),\"/\",\"\"),\"erro\")","v":""},{"$f":"IFERROR(Gerar_Upload!C2736,\"erro\")","v":0},{"$f":"IFERROR(Gerar_Upload!D2736,\"erro\")","v":0},{"$f":"IFERROR(DATE(YEAR(Gerar_Upload!E2736),MONTH(Gerar_Upload!E2736),DAY(Gerar_Upload!E2736)),\"erro\")","v":"00:00:00"},{"$f":"IFERROR(Gerar_Upload!F2736,\"erro\")","v":0},{"$f":"IFERROR(IF(Gerar_Upload!G2736<44,REPT(0,44-LEN(Gerar_Upload!G2736))&Gerar_Upload!G2736,Gerar_Upload!G2736),\"erro\")","v":"00000000000000000000000000000000000000000000"}]
[{"$f":"IFERROR(LEFT(Gerar_Upload!A2737,120),\"erro\")","v":""},{"$f":"IFERROR(SUBSTITUTE(SUBSTITUTE(SUBSTITUTE(Gerar_Upload!B2737,\".\",\"\"),\"-\",\"\"),\"/\",\"\"),\"erro\")","v":""},{"$f":"IFERROR(Gerar_Upload!C2737,\"erro\")","v":0},{"$f":"IFERROR(Gerar_Upload!D2737,\"erro\")","v":0},{"$f":"IFERROR(DATE(YEAR(Gerar_Upload!E2737),MONTH(Gerar_Upload!E2737),DAY(Gerar_Upload!E2737)),\"erro\")","v":"00:00:00"},{"$f":"IFERROR(Gerar_Upload!F2737,\"erro\")","v":0},{"$f":"IFERROR(IF(Gerar_Upload!G2737<44,REPT(0,44-LEN(Gerar_Upload!G2737))&Gerar_Upload!G2737,Gerar_Upload!G2737),\"erro\")","v":"00000000000000000000000000000000000000000000"}]
[{"$f":"IFERROR(LEFT(Gerar_Upload!A2738,120),\"erro\")","v":""},{"$f":"IFERROR(SUBSTITUTE(SUBSTITUTE(SUBSTITUTE(Gerar_Upload!B2738,\".\",\"\"),\"-\",\"\"),\"/\",\"\"),\"erro\")","v":""},{"$f":"IFERROR(Gerar_Upload!C2738,\"erro\")","v":0},{"$f":"IFERROR(Gerar_Upload!D2738,\"erro\")","v":0},{"$f":"IFERROR(DATE(YEAR(Gerar_Upload!E2738),MONTH(Gerar_Upload!E2738),DAY(Gerar_Upload!E2738)),\"erro\")","v":"00:00:00"},{"$f":"IFERROR(Gerar_Upload!F2738,\"erro\")","v":0},{"$f":"IFERROR(IF(Gerar_Upload!G2738<44,REPT(0,44-LEN(Gerar_Upload!G2738))&Gerar_Upload!G2738,Gerar_Upload!G2738),\"erro\")","v":"00000000000000000000000000000000000000000000"}]
[{"$f":"IFERROR(LEFT(Gerar_Upload!A2739,120),\"erro\")","v":""},{"$f":"IFERROR(SUBSTITUTE(SUBSTITUTE(SUBSTITUTE(Gerar_Upload!B2739,\".\",\"\"),\"-\",\"\"),\"/\",\"\"),\"erro\")","v":""},{"$f":"IFERROR(Gerar_Upload!C2739,\"erro\")","v":0},{"$f":"IFERROR(Gerar_Upload!D2739,\"erro\")","v":0},{"$f":"IFERROR(DATE(YEAR(Gerar_Upload!E2739),MONTH(Gerar_Upload!E2739),DAY(Gerar_Upload!E2739)),\"erro\")","v":"00:00:00"},{"$f":"IFERROR(Gerar_Upload!F2739,\"erro\")","v":0},{"$f":"IFERROR(IF(Gerar_Upload!G2739<44,REPT(0,44-LEN(Gerar_Upload!G2739))&Gerar_Upload!G2739,Gerar_Upload!G2739),\"erro\")","v":"00000000000000000000000000000000000000000000"}]
[{"$f":"IFERROR(LEFT(Gerar_Upload!A2740,120),\"erro\")","v":""},{"$f":"IFERROR(SUBSTITUTE(SUBSTITUTE(SUBSTITUTE(Gerar_Upload!B2740,\".\",\"\"),\"-\",\"\"),\"/\",\"\"),\"erro\")","v":""},{"$f":"IFERROR(Gerar_Upload!C2740,\"erro\")","v":0},{"$f":"IFERROR(Gerar_Upload!D2740,\"erro\")","v":0},{"$f":"IFERROR(DATE(YEAR(Gerar_Upload!E2740),MONTH(Gerar_Upload!E2740),DAY(Gerar_Upload!E2740)),\"erro\")","v":"00:00:00"},{"$f":"IFERROR(Gerar_Upload!F2740,\"erro\")","v":0},{"$f":"IFERROR(IF(Gerar_Upload!G2740<44,REPT(0,44-LEN(Gerar_Upload!G2740))&Gerar_Upload!G2740,Gerar_Upload!G2740),\"erro\")","v":"00000000000000000000000000000000000000000000"}]
[{"$f":"IFERROR(LEFT(Gerar_Upload!A2741,120),\"erro\")","v":""},{"$f":"IFERROR(SUBSTITUTE(SUBSTITUTE(SUBSTITUTE(Gerar_Upload!B2741,\".\",\"\"),\"-\",\"\"),\"/\",\"\"),\"erro\")","v":""},{"$f":"IFERROR(Gerar_Upload!C2741,\"erro\")","v":0},{"$f":"IFERROR(Gerar_Upload!D2741,\"erro\")","v":0},{"$f":"IFERROR(DATE(YEAR(Gerar_Upload!E2741),MONTH(Gerar_Upload!E2741),DAY(Gerar_Upload!E2741)),\"erro\")","v":"00:00:00"},{"$f":"IFERROR(Gerar_Upload!F2741,\"erro\")","v":0},{"$f":"IFERROR(IF(Gerar_Upload!G2741<44,REPT(0,44-LEN(Gerar_Upload!G2741))&Gerar_Upload!G2741,Gerar_Upload!G2741),\"erro\")","v":"00000000000000000000000000000000000000000000"}]
[{"$f":"IFERROR(LEFT(Gerar_Upload!A2742,120),\"erro\")","v":""},{"$f":"IFERROR(SUBSTITUTE(SUBSTITUTE(SUBSTITUTE(Gerar_Upload!B2742,\".\",\"\"),\"-\",\"\"),\"/\",\"\"),\"erro\")","v":""},{"$f":"IFERROR(Gerar_Upload!C2742,\"erro\")","v":0},{"$f":"IFERROR(Gerar_Upload!D2742,\"erro\")","v":0},{"$f":"IFERROR(DATE(YEAR(Gerar_Upload!E2742),MONTH(Gerar_Upload!E2742),DAY(Gerar_Upload!E2742)),\"erro\")","v":"00:00:00"},{"$f":"IFERROR(Gerar_Upload!F2742,\"erro\")","v":0},{"$f":"IFERROR(IF(Gerar_Upload!G2742<44,REPT(0,44-LEN(Gerar_Upload!G2742))&Gerar_Upload!G2742,Gerar_Upload!G2742),\"erro\")","v":"00000000000000000000000000000000000000000000"}]
[{"$f":"IFERROR(LEFT(Gerar_Upload!A2743,120),\"erro\")","v":""},{"$f":"IFERROR(SUBSTITUTE(SUBSTITUTE(SUBSTITUTE(Gerar_Upload!B2743,\".\",\"\"),\"-\",\"\"),\"/\",\"\"),\"erro\")","v":""},{"$f":"IFERROR(Gerar_Upload!C2743,\"erro\")","v":0},{"$f":"IFERROR(Gerar_Upload!D2743,\"erro\")","v":0},{"$f":"IFERROR(DATE(YEAR(Gerar_Upload!E2743),MONTH(Gerar_Upload!E2743),DAY(Gerar_Upload!E2743)),\"erro\")","v":"00:00:00"},{"$f":"IFERROR(Gerar_Upload!F2743,\"erro\")","v":0},{"$f":"IFERROR(IF(Gerar_Upload!G2743<44,REPT(0,44-LEN(Gerar_Upload!G2743))&Gerar_Upload!G2743,Gerar_Upload!G2743),\"erro\")","v":"00000000000000000000000000000000000000000000"}]
[{"$f":"IFERROR(LEFT(Gerar_Upload!A2744,120),\"erro\")","v":""},{"$f":"IFERROR(SUBSTITUTE(SUBSTITUTE(SUBSTITUTE(Gerar_Upload!B2744,\".\",\"\"),\"-\",\"\"),\"/\",\"\"),\"erro\")","v":""},{"$f":"IFERROR(Gerar_Upload!C2744,\"erro\")","v":0},{"$f":"IFERROR(Gerar_Upload!D2744,\"erro\")","v":0},{"$f":"IFERROR(DATE(YEAR(Gerar_Upload!E2744),MONTH(Gerar_Upload!E2744),DAY(Gerar_Upload!E2744)),\"erro\")","v":"00:00:00"},{"$f":"IFERROR(Gerar_Upload!F2744,\"erro\")","v":0},{"$f":"IFERROR(IF(Gerar_Upload!G2744<44,REPT(0,44-LEN(Gerar_Upload!G2744))&Gerar_Upload!G2744,Gerar_Upload!G2744),\"erro\")","v":"00000000000000000000000000000000000000000000"}]
[{"$f":"IFERROR(LEFT(Gerar_Upload!A2745,120),\"erro\")","v":""},{"$f":"IFERROR(SUBSTITUTE(SUBSTITUTE(SUBSTITUTE(Gerar_Upload!B2745,\".\",\"\"),\"-\",\"\"),\"/\",\"\"),\"erro\")","v":""},{"$f":"IFERROR(Gerar_Upload!C2745,\"erro\")","v":0},{"$f":"IFERROR(Gerar_Upload!D2745,\"erro\")","v":0},{"$f":"IFERROR(DATE(YEAR(Gerar_Upload!E2745),MONTH(Gerar_Upload!E2745),DAY(Gerar_Upload!E2745)),\"erro\")","v":"00:00:00"},{"$f":"IFERROR(Gerar_Upload!F2745,\"erro\")","v":0},{"$f":"IFERROR(IF(Gerar_Upload!G2745<44,REPT(0,44-LEN(Gerar_Upload!G2745))&Gerar_Upload!G2745,Gerar_Upload!G2745),\"erro\")","v":"00000000000000000000000000000000000000000000"}]
[{"$f":"IFERROR(LEFT(Gerar_Upload!A2746,120),\"erro\")","v":""},{"$f":"IFERROR(SUBSTITUTE(SUBSTITUTE(SUBSTITUTE(Gerar_Upload!B2746,\".\",\"\"),\"-\",\"\"),\"/\",\"\"),\"erro\")","v":""},{"$f":"IFERROR(Gerar_Upload!C2746,\"erro\")","v":0},{"$f":"IFERROR(Gerar_Upload!D2746,\"erro\")","v":0},{"$f":"IFERROR(DATE(YEAR(Gerar_Upload!E2746),MONTH(Gerar_Upload!E2746),DAY(Gerar_Upload!E2746)),\"erro\")","v":"00:00:00"},{"$f":"IFERROR(Gerar_Upload!F2746,\"erro\")","v":0},{"$f":"IFERROR(IF(Gerar_Upload!G2746<44,REPT(0,44-LEN(Gerar_Upload!G2746))&Gerar_Upload!G2746,Gerar_Upload!G2746),\"erro\")","v":"00000000000000000000000000000000000000000000"}]
[{"$f":"IFERROR(LEFT(Gerar_Upload!A2747,120),\"erro\")","v":""},{"$f":"IFERROR(SUBSTITUTE(SUBSTITUTE(SUBSTITUTE(Gerar_Upload!B2747,\".\",\"\"),\"-\",\"\"),\"/\",\"\"),\"erro\")","v":""},{"$f":"IFERROR(Gerar_Upload!C2747,\"erro\")","v":0},{"$f":"IFERROR(Gerar_Upload!D2747,\"erro\")","v":0},{"$f":"IFERROR(DATE(YEAR(Gerar_Upload!E2747),MONTH(Gerar_Upload!E2747),DAY(Gerar_Upload!E2747)),\"erro\")","v":"00:00:00"},{"$f":"IFERROR(Gerar_Upload!F2747,\"erro\")","v":0},{"$f":"IFERROR(IF(Gerar_Upload!G2747<44,REPT(0,44-LEN(Gerar_Upload!G2747))&Gerar_Upload!G2747,Gerar_Upload!G2747),\"erro\")","v":"00000000000000000000000000000000000000000000"}]
[{"$f":"IFERROR(LEFT(Gerar_Upload!A2748,120),\"erro\")","v":""},{"$f":"IFERROR(SUBSTITUTE(SUBSTITUTE(SUBSTITUTE(Gerar_Upload!B2748,\".\",\"\"),\"-\",\"\"),\"/\",\"\"),\"erro\")","v":""},{"$f":"IFERROR(Gerar_Upload!C2748,\"erro\")","v":0},{"$f":"IFERROR(Gerar_Upload!D2748,\"erro\")","v":0},{"$f":"IFERROR(DATE(YEAR(Gerar_Upload!E2748),MONTH(Gerar_Upload!E2748),DAY(Gerar_Upload!E2748)),\"erro\")","v":"00:00:00"},{"$f":"IFERROR(Gerar_Upload!F2748,\"erro\")","v":0},{"$f":"IFERROR(IF(Gerar_Upload!G2748<44,REPT(0,44-LEN(Gerar_Upload!G2748))&Gerar_Upload!G2748,Gerar_Upload!G2748),\"erro\")","v":"00000000000000000000000000000000000000000000"}]
[{"$f":"IFERROR(LEFT(Gerar_Upload!A2749,120),\"erro\")","v":""},{"$f":"IFERROR(SUBSTITUTE(SUBSTITUTE(SUBSTITUTE(Gerar_Upload!B2749,\".\",\"\"),\"-\",\"\"),\"/\",\"\"),\"erro\")","v":""},{"$f":"IFERROR(Gerar_Upload!C2749,\"erro\")","v":0},{"$f":"IFERROR(Gerar_Upload!D2749,\"erro\")","v":0},{"$f":"IFERROR(DATE(YEAR(Gerar_Upload!E2749),MONTH(Gerar_Upload!E2749),DAY(Gerar_Upload!E2749)),\"erro\")","v":"00:00:00"},{"$f":"IFERROR(Gerar_Upload!F2749,\"erro\")","v":0},{"$f":"IFERROR(IF(Gerar_Upload!G2749<44,REPT(0,44-LEN(Gerar_Upload!G2749))&Gerar_Upload!G2749,Gerar_Upload!G2749),\"erro\")","v":"00000000000000000000000000000000000000000000"}]
[{"$f":"IFERROR(LEFT(Gerar_Upload!A2750,120),\"erro\")","v":""},{"$f":"IFERROR(SUBSTITUTE(SUBSTITUTE(SUBSTITUTE(Gerar_Upload!B2750,\".\",\"\"),\"-\",\"\"),\"/\",\"\"),\"erro\")","v":""},{"$f":"IFERROR(Gerar_Upload!C2750,\"erro\")","v":0},{"$f":"IFERROR(Gerar_Upload!D2750,\"erro\")","v":0},{"$f":"IFERROR(DATE(YEAR(Gerar_Upload!E2750),MONTH(Gerar_Upload!E2750),DAY(Gerar_Upload!E2750)),\"erro\")","v":"00:00:00"},{"$f":"IFERROR(Gerar_Upload!F2750,\"erro\")","v":0},{"$f":"IFERROR(IF(Gerar_Upload!G2750<44,REPT(0,44-LEN(Gerar_Upload!G2750))&Gerar_Upload!G2750,Gerar_Upload!G2750),\"erro\")","v":"00000000000000000000000000000000000000000000"}]
[{"$f":"IFERROR(LEFT(Gerar_Upload!A2751,120),\"erro\")","v":""},{"$f":"IFERROR(SUBSTITUTE(SUBSTITUTE(SUBSTITUTE(Gerar_Upload!B2751,\".\",\"\"),\"-\",\"\"),\"/\",\"\"),\"erro\")","v":""},{"$f":"IFERROR(Gerar_Upload!C2751,\"erro\")","v":0},{"$f":"IFERROR(Gerar_Upload!D2751,\"erro\")","v":0},{"$f":"IFERROR(DATE(YEAR(Gerar_Upload!E2751),MONTH(Gerar_Upload!E2751),DAY(Gerar_Upload!E2751)),\"erro\")","v":"00:00:00"},{"$f":"IFERROR(Gerar_Upload!F2751,\"erro\")","v":0},{"$f":"IFERROR(IF(Gerar_Upload!G2751<44,REPT(0,44-LEN(Gerar_Upload!G2751))&Gerar_Upload!G2751,Gerar_Upload!G2751),\"erro\")","v":"00000000000000000000000000000000000000000000"}]
[{"$f":"IFERROR(LEFT(Gerar_Upload!A2752,120),\"erro\")","v":""},{"$f":"IFERROR(SUBSTITUTE(SUBSTITUTE(SUBSTITUTE(Gerar_Upload!B2752,\".\",\"\"),\"-\",\"\"),\"/\",\"\"),\"erro\")","v":""},{"$f":"IFERROR(Gerar_Upload!C2752,\"erro\")","v":0},{"$f":"IFERROR(Gerar_Upload!D2752,\"erro\")","v":0},{"$f":"IFERROR(DATE(YEAR(Gerar_Upload!E2752),MONTH(Gerar_Upload!E2752),DAY(Gerar_Upload!E2752)),\"erro\")","v":"00:00:00"},{"$f":"IFERROR(Gerar_Upload!F2752,\"erro\")","v":0},{"$f":"IFERROR(IF(Gerar_Upload!G2752<44,REPT(0,44-LEN(Gerar_Upload!G2752))&Gerar_Upload!G2752,Gerar_Upload!G2752),\"erro\")","v":"00000000000000000000000000000000000000000000"}]
[{"$f":"IFERROR(LEFT(Gerar_Upload!A2753,120),\"erro\")","v":""},{"$f":"IFERROR(SUBSTITUTE(SUBSTITUTE(SUBSTITUTE(Gerar_Upload!B2753,\".\",\"\"),\"-\",\"\"),\"/\",\"\"),\"erro\")","v":""},{"$f":"IFERROR(Gerar_Upload!C2753,\"erro\")","v":0},{"$f":"IFERROR(Gerar_Upload!D2753,\"erro\")","v":0},{"$f":"IFERROR(DATE(YEAR(Gerar_Upload!E2753),MONTH(Gerar_Upload!E2753),DAY(Gerar_Upload!E2753)),\"erro\")","v":"00:00:00"},{"$f":"IFERROR(Gerar_Upload!F2753,\"erro\")","v":0},{"$f":"IFERROR(IF(Gerar_Upload!G2753<44,REPT(0,44-LEN(Gerar_Upload!G2753))&Gerar_Upload!G2753,Gerar_Upload!G2753),\"erro\")","v":"00000000000000000000000000000000000000000000"}]
[{"$f":"IFERROR(LEFT(Gerar_Upload!A2754,120),\"erro\")","v":""},{"$f":"IFERROR(SUBSTITUTE(SUBSTITUTE(SUBSTITUTE(Gerar_Upload!B2754,\".\",\"\"),\"-\",\"\"),\"/\",\"\"),\"erro\")","v":""},{"$f":"IFERROR(Gerar_Upload!C2754,\"erro\")","v":0},{"$f":"IFERROR(Gerar_Upload!D2754,\"erro\")","v":0},{"$f":"IFERROR(DATE(YEAR(Gerar_Upload!E2754),MONTH(Gerar_Upload!E2754),DAY(Gerar_Upload!E2754)),\"erro\")","v":"00:00:00"},{"$f":"IFERROR(Gerar_Upload!F2754,\"erro\")","v":0},{"$f":"IFERROR(IF(Gerar_Upload!G2754<44,REPT(0,44-LEN(Gerar_Upload!G2754))&Gerar_Upload!G2754,Gerar_Upload!G2754),\"erro\")","v":"00000000000000000000000000000000000000000000"}]
[{"$f":"IFERROR(LEFT(Gerar_Upload!A2755,120),\"erro\")","v":""},{"$f":"IFERROR(SUBSTITUTE(SUBSTITUTE(SUBSTITUTE(Gerar_Upload!B2755,\".\",\"\"),\"-\",\"\"),\"/\",\"\"),\"erro\")","v":""},{"$f":"IFERROR(Gerar_Upload!C2755,\"erro\")","v":0},{"$f":"IFERROR(Gerar_Upload!D2755,\"erro\")","v":0},{"$f":"IFERROR(DATE(YEAR(Gerar_Upload!E2755),MONTH(Gerar_Upload!E2755),DAY(Gerar_Upload!E2755)),\"erro\")","v":"00:00:00"},{"$f":"IFERROR(Gerar_Upload!F2755,\"erro\")","v":0},{"$f":"IFERROR(IF(Gerar_Upload!G2755<44,REPT(0,44-LEN(Gerar_Upload!G2755))&Gerar_Upload!G2755,Gerar_Upload!G2755),\"erro\")","v":"00000000000000000000000000000000000000000000"}]
[{"$f":"IFERROR(LEFT(Gerar_Upload!A2756,120),\"erro\")","v":""},{"$f":"IFERROR(SUBSTITUTE(SUBSTITUTE(SUBSTITUTE(Gerar_Upload!B2756,\".\",\"\"),\"-\",\"\"),\"/\",\"\"),\"erro\")","v":""},{"$f":"IFERROR(Gerar_Upload!C2756,\"erro\")","v":0},{"$f":"IFERROR(Gerar_Upload!D2756,\"erro\")","v":0},{"$f":"IFERROR(DATE(YEAR(Gerar_Upload!E2756),MONTH(Gerar_Upload!E2756),DAY(Gerar_Upload!E2756)),\"erro\")","v":"00:00:00"},{"$f":"IFERROR(Gerar_Upload!F2756,\"erro\")","v":0},{"$f":"IFERROR(IF(Gerar_Upload!G2756<44,REPT(0,44-LEN(Gerar_Upload!G2756))&Gerar_Upload!G2756,Gerar_Upload!G2756),\"erro\")","v":"00000000000000000000000000000000000000000000"}]
[{"$f":"IFERROR(LEFT(Gerar_Upload!A2757,120),\"erro\")","v":""},{"$f":"IFERROR(SUBSTITUTE(SUBSTITUTE(SUBSTITUTE(Gerar_Upload!B2757,\".\",\"\"),\"-\",\"\"),\"/\",\"\"),\"erro\")","v":""},{"$f":"IFERROR(Gerar_Upload!C2757,\"erro\")","v":0},{"$f":"IFERROR(Gerar_Upload!D2757,\"erro\")","v":0},{"$f":"IFERROR(DATE(YEAR(Gerar_Upload!E2757),MONTH(Gerar_Upload!E2757),DAY(Gerar_Upload!E2757)),\"erro\")","v":"00:00:00"},{"$f":"IFERROR(Gerar_Upload!F2757,\"erro\")","v":0},{"$f":"IFERROR(IF(Gerar_Upload!G2757<44,REPT(0,44-LEN(Gerar_Upload!G2757))&Gerar_Upload!G2757,Gerar_Upload!G2757),\"erro\")","v":"00000000000000000000000000000000000000000000"}]
[{"$f":"IFERROR(LEFT(Gerar_Upload!A2758,120),\"erro\")","v":""},{"$f":"IFERROR(SUBSTITUTE(SUBSTITUTE(SUBSTITUTE(Gerar_Upload!B2758,\".\",\"\"),\"-\",\"\"),\"/\",\"\"),\"erro\")","v":""},{"$f":"IFERROR(Gerar_Upload!C2758,\"erro\")","v":0},{"$f":"IFERROR(Gerar_Upload!D2758,\"erro\")","v":0},{"$f":"IFERROR(DATE(YEAR(Gerar_Upload!E2758),MONTH(Gerar_Upload!E2758),DAY(Gerar_Upload!E2758)),\"erro\")","v":"00:00:00"},{"$f":"IFERROR(Gerar_Upload!F2758,\"erro\")","v":0},{"$f":"IFERROR(IF(Gerar_Upload!G2758<44,REPT(0,44-LEN(Gerar_Upload!G2758))&Gerar_Upload!G2758,Gerar_Upload!G2758),\"erro\")","v":"00000000000000000000000000000000000000000000"}]
[{"$f":"IFERROR(LEFT(Gerar_Upload!A2759,120),\"erro\")","v":""},{"$f":"IFERROR(SUBSTITUTE(SUBSTITUTE(SUBSTITUTE(Gerar_Upload!B2759,\".\",\"\"),\"-\",\"\"),\"/\",\"\"),\"erro\")","v":""},{"$f":"IFERROR(Gerar_Upload!C2759,\"erro\")","v":0},{"$f":"IFERROR(Gerar_Upload!D2759,\"erro\")","v":0},{"$f":"IFERROR(DATE(YEAR(Gerar_Upload!E2759),MONTH(Gerar_Upload!E2759),DAY(Gerar_Upload!E2759)),\"erro\")","v":"00:00:00"},{"$f":"IFERROR(Gerar_Upload!F2759,\"erro\")","v":0},{"$f":"IFERROR(IF(Gerar_Upload!G2759<44,REPT(0,44-LEN(Gerar_Upload!G2759))&Gerar_Upload!G2759,Gerar_Upload!G2759),\"erro\")","v":"00000000000000000000000000000000000000000000"}]
[{"$f":"IFERROR(LEFT(Gerar_Upload!A2760,120),\"erro\")","v":""},{"$f":"IFERROR(SUBSTITUTE(SUBSTITUTE(SUBSTITUTE(Gerar_Upload!B2760,\".\",\"\"),\"-\",\"\"),\"/\",\"\"),\"erro\")","v":""},{"$f":"IFERROR(Gerar_Upload!C2760,\"erro\")","v":0},{"$f":"IFERROR(Gerar_Upload!D2760,\"erro\")","v":0},{"$f":"IFERROR(DATE(YEAR(Gerar_Upload!E2760),MONTH(Gerar_Upload!E2760),DAY(Gerar_Upload!E2760)),\"erro\")","v":"00:00:00"},{"$f":"IFERROR(Gerar_Upload!F2760,\"erro\")","v":0},{"$f":"IFERROR(IF(Gerar_Upload!G2760<44,REPT(0,44-LEN(Gerar_Upload!G2760))&Gerar_Upload!G2760,Gerar_Upload!G2760),\"erro\")","v":"00000000000000000000000000000000000000000000"}]
[{"$f":"IFERROR(LEFT(Gerar_Upload!A2761,120),\"erro\")","v":""},{"$f":"IFERROR(SUBSTITUTE(SUBSTITUTE(SUBSTITUTE(Gerar_Upload!B2761,\".\",\"\"),\"-\",\"\"),\"/\",\"\"),\"erro\")","v":""},{"$f":"IFERROR(Gerar_Upload!C2761,\"erro\")","v":0},{"$f":"IFERROR(Gerar_Upload!D2761,\"erro\")","v":0},{"$f":"IFERROR(DATE(YEAR(Gerar_Upload!E2761),MONTH(Gerar_Upload!E2761),DAY(Gerar_Upload!E2761)),\"erro\")","v":"00:00:00"},{"$f":"IFERROR(Gerar_Upload!F2761,\"erro\")","v":0},{"$f":"IFERROR(IF(Gerar_Upload!G2761<44,REPT(0,44-LEN(Gerar_Upload!G2761))&Gerar_Upload!G2761,Gerar_Upload!G2761),\"erro\")","v":"00000000000000000000000000000000000000000000"}]
[{"$f":"IFERROR(LEFT(Gerar_Upload!A2762,120),\"erro\")","v":""},{"$f":"IFERROR(SUBSTITUTE(SUBSTITUTE(SUBSTITUTE(Gerar_Upload!B2762,\".\",\"\"),\"-\",\"\"),\"/\",\"\"),\"erro\")","v":""},{"$f":"IFERROR(Gerar_Upload!C2762,\"erro\")","v":0},{"$f":"IFERROR(Gerar_Upload!D2762,\"erro\")","v":0},{"$f":"IFERROR(DATE(YEAR(Gerar_Upload!E2762),MONTH(Gerar_Upload!E2762),DAY(Gerar_Upload!E2762)),\"erro\")","v":"00:00:00"},{"$f":"IFERROR(Gerar_Upload!F2762,\"erro\")","v":0},{"$f":"IFERROR(IF(Gerar_Upload!G2762<44,REPT(0,44-LEN(Gerar_Upload!G2762))&Gerar_Upload!G2762,Gerar_Upload!G2762),\"erro\")","v":"00000000000000000000000000000000000000000000"}]
[{"$f":"IFERROR(LEFT(Gerar_Upload!A2763,120),\"erro\")","v":""},{"$f":"IFERROR(SUBSTITUTE(SUBSTITUTE(SUBSTITUTE(Gerar_Upload!B2763,\".\",\"\"),\"-\",\"\"),\"/\",\"\"),\"erro\")","v":""},{"$f":"IFERROR(Gerar_Upload!C2763,\"erro\")","v":0},{"$f":"IFERROR(Gerar_Upload!D2763,\"erro\")","v":0},{"$f":"IFERROR(DATE(YEAR(Gerar_Upload!E2763),MONTH(Gerar_Upload!E2763),DAY(Gerar_Upload!E2763)),\"erro\")","v":"00:00:00"},{"$f":"IFERROR(Gerar_Upload!F2763,\"erro\")","v":0},{"$f":"IFERROR(IF(Gerar_Upload!G2763<44,REPT(0,44-LEN(Gerar_Upload!G2763))&Gerar_Upload!G2763,Gerar_Upload!G2763),\"erro\")","v":"00000000000000000000000000000000000000000000"}]
[{"$f":"IFERROR(LEFT(Gerar_Upload!A2764,120),\"erro\")","v":""},{"$f":"IFERROR(SUBSTITUTE(SUBSTITUTE(SUBSTITUTE(Gerar_Upload!B2764,\".\",\"\"),\"-\",\"\"),\"/\",\"\"),\"erro\")","v":""},{"$f":"IFERROR(Gerar_Upload!C2764,\"erro\")","v":0},{"$f":"IFERROR(Gerar_Upload!D2764,\"erro\")","v":0},{"$f":"IFERROR(DATE(YEAR(Gerar_Upload!E2764),MONTH(Gerar_Upload!E2764),DAY(Gerar_Upload!E2764)),\"erro\")","v":"00:00:00"},{"$f":"IFERROR(Gerar_Upload!F2764,\"erro\")","v":0},{"$f":"IFERROR(IF(Gerar_Upload!G2764<44,REPT(0,44-LEN(Gerar_Upload!G2764))&Gerar_Upload!G2764,Gerar_Upload!G2764),\"erro\")","v":"00000000000000000000000000000000000000000000"}]
[{"$f":"IFERROR(LEFT(Gerar_Upload!A2765,120),\"erro\")","v":""},{"$f":"IFERROR(SUBSTITUTE(SUBSTITUTE(SUBSTITUTE(Gerar_Upload!B2765,\".\",\"\"),\"-\",\"\"),\"/\",\"\"),\"erro\")","v":""},{"$f":"IFERROR(Gerar_Upload!C2765,\"erro\")","v":0},{"$f":"IFERROR(Gerar_Upload!D2765,\"erro\")","v":0},{"$f":"IFERROR(DATE(YEAR(Gerar_Upload!E2765),MONTH(Gerar_Upload!E2765),DAY(Gerar_Upload!E2765)),\"erro\")","v":"00:00:00"},{"$f":"IFERROR(Gerar_Upload!F2765,\"erro\")","v":0},{"$f":"IFERROR(IF(Gerar_Upload!G2765<44,REPT(0,44-LEN(Gerar_Upload!G2765))&Gerar_Upload!G2765,Gerar_Upload!G2765),\"erro\")","v":"00000000000000000000000000000000000000000000"}]
[{"$f":"IFERROR(LEFT(Gerar_Upload!A2766,120),\"erro\")","v":""},{"$f":"IFERROR(SUBSTITUTE(SUBSTITUTE(SUBSTITUTE(Gerar_Upload!B2766,\".\",\"\"),\"-\",\"\"),\"/\",\"\"),\"erro\")","v":""},{"$f":"IFERROR(Gerar_Upload!C2766,\"erro\")","v":0},{"$f":"IFERROR(Gerar_Upload!D2766,\"erro\")","v":0},{"$f":"IFERROR(DATE(YEAR(Gerar_Upload!E2766),MONTH(Gerar_Upload!E2766),DAY(Gerar_Upload!E2766)),\"erro\")","v":"00:00:00"},{"$f":"IFERROR(Gerar_Upload!F2766,\"erro\")","v":0},{"$f":"IFERROR(IF(Gerar_Upload!G2766<44,REPT(0,44-LEN(Gerar_Upload!G2766))&Gerar_Upload!G2766,Gerar_Upload!G2766),\"erro\")","v":"00000000000000000000000000000000000000000000"}]
[{"$f":"IFERROR(LEFT(Gerar_Upload!A2767,120),\"erro\")","v":""},{"$f":"IFERROR(SUBSTITUTE(SUBSTITUTE(SUBSTITUTE(Gerar_Upload!B2767,\".\",\"\"),\"-\",\"\"),\"/\",\"\"),\"erro\")","v":""},{"$f":"IFERROR(Gerar_Upload!C2767,\"erro\")","v":0},{"$f":"IFERROR(Gerar_Upload!D2767,\"erro\")","v":0},{"$f":"IFERROR(DATE(YEAR(Gerar_Upload!E2767),MONTH(Gerar_Upload!E2767),DAY(Gerar_Upload!E2767)),\"erro\")","v":"00:00:00"},{"$f":"IFERROR(Gerar_Upload!F2767,\"erro\")","v":0},{"$f":"IFERROR(IF(Gerar_Upload!G2767<44,REPT(0,44-LEN(Gerar_Upload!G2767))&Gerar_Upload!G2767,Gerar_Upload!G2767),\"erro\")","v":"00000000000000000000000000000000000000000000"}]
[{"$f":"IFERROR(LEFT(Gerar_Upload!A2768,120),\"erro\")","v":""},{"$f":"IFERROR(SUBSTITUTE(SUBSTITUTE(SUBSTITUTE(Gerar_Upload!B2768,\".\",\"\"),\"-\",\"\"),\"/\",\"\"),\"erro\")","v":""},{"$f":"IFERROR(Gerar_Upload!C2768,\"erro\")","v":0},{"$f":"IFERROR(Gerar_Upload!D2768,\"erro\")","v":0},{"$f":"IFERROR(DATE(YEAR(Gerar_Upload!E2768),MONTH(Gerar_Upload!E2768),DAY(Gerar_Upload!E2768)),\"erro\")","v":"00:00:00"},{"$f":"IFERROR(Gerar_Upload!F2768,\"erro\")","v":0},{"$f":"IFERROR(IF(Gerar_Upload!G2768<44,REPT(0,44-LEN(Gerar_Upload!G2768))&Gerar_Upload!G2768,Gerar_Upload!G2768),\"erro\")","v":"00000000000000000000000000000000000000000000"}]
[{"$f":"IFERROR(LEFT(Gerar_Upload!A2769,120),\"erro\")","v":""},{"$f":"IFERROR(SUBSTITUTE(SUBSTITUTE(SUBSTITUTE(Gerar_Upload!B2769,\".\",\"\"),\"-\",\"\"),\"/\",\"\"),\"erro\")","v":""},{"$f":"IFERROR(Gerar_Upload!C2769,\"erro\")","v":0},{"$f":"IFERROR(Gerar_Upload!D2769,\"erro\")","v":0},{"$f":"IFERROR(DATE(YEAR(Gerar_Upload!E2769),MONTH(Gerar_Upload!E2769),DAY(Gerar_Upload!E2769)),\"erro\")","v":"00:00:00"},{"$f":"IFERROR(Gerar_Upload!F2769,\"erro\")","v":0},{"$f":"IFERROR(IF(Gerar_Upload!G2769<44,REPT(0,44-LEN(Gerar_Upload!G2769))&Gerar_Upload!G2769,Gerar_Upload!G2769),\"erro\")","v":"00000000000000000000000000000000000000000000"}]
[{"$f":"IFERROR(LEFT(Gerar_Upload!A2770,120),\"erro\")","v":""},{"$f":"IFERROR(SUBSTITUTE(SUBSTITUTE(SUBSTITUTE(Gerar_Upload!B2770,\".\",\"\"),\"-\",\"\"),\"/\",\"\"),\"erro\")","v":""},{"$f":"IFERROR(Gerar_Upload!C2770,\"erro\")","v":0},{"$f":"IFERROR(Gerar_Upload!D2770,\"erro\")","v":0},{"$f":"IFERROR(DATE(YEAR(Gerar_Upload!E2770),MONTH(Gerar_Upload!E2770),DAY(Gerar_Upload!E2770)),\"erro\")","v":"00:00:00"},{"$f":"IFERROR(Gerar_Upload!F2770,\"erro\")","v":0},{"$f":"IFERROR(IF(Gerar_Upload!G2770<44,REPT(0,44-LEN(Gerar_Upload!G2770))&Gerar_Upload!G2770,Gerar_Upload!G2770),\"erro\")","v":"00000000000000000000000000000000000000000000"}]
[{"$f":"IFERROR(LEFT(Gerar_Upload!A2771,120),\"erro\")","v":""},{"$f":"IFERROR(SUBSTITUTE(SUBSTITUTE(SUBSTITUTE(Gerar_Upload!B2771,\".\",\"\"),\"-\",\"\"),\"/\",\"\"),\"erro\")","v":""},{"$f":"IFERROR(Gerar_Upload!C2771,\"erro\")","v":0},{"$f":"IFERROR(Gerar_Upload!D2771,\"erro\")","v":0},{"$f":"IFERROR(DATE(YEAR(Gerar_Upload!E2771),MONTH(Gerar_Upload!E2771),DAY(Gerar_Upload!E2771)),\"erro\")","v":"00:00:00"},{"$f":"IFERROR(Gerar_Upload!F2771,\"erro\")","v":0},{"$f":"IFERROR(IF(Gerar_Upload!G2771<44,REPT(0,44-LEN(Gerar_Upload!G2771))&Gerar_Upload!G2771,Gerar_Upload!G2771),\"erro\")","v":"00000000000000000000000000000000000000000000"}]
[{"$f":"IFERROR(LEFT(Gerar_Upload!A2772,120),\"erro\")","v":""},{"$f":"IFERROR(SUBSTITUTE(SUBSTITUTE(SUBSTITUTE(Gerar_Upload!B2772,\".\",\"\"),\"-\",\"\"),\"/\",\"\"),\"erro\")","v":""},{"$f":"IFERROR(Gerar_Upload!C2772,\"erro\")","v":0},{"$f":"IFERROR(Gerar_Upload!D2772,\"erro\")","v":0},{"$f":"IFERROR(DATE(YEAR(Gerar_Upload!E2772),MONTH(Gerar_Upload!E2772),DAY(Gerar_Upload!E2772)),\"erro\")","v":"00:00:00"},{"$f":"IFERROR(Gerar_Upload!F2772,\"erro\")","v":0},{"$f":"IFERROR(IF(Gerar_Upload!G2772<44,REPT(0,44-LEN(Gerar_Upload!G2772))&Gerar_Upload!G2772,Gerar_Upload!G2772),\"erro\")","v":"00000000000000000000000000000000000000000000"}]
[{"$f":"IFERROR(LEFT(Gerar_Upload!A2773,120),\"erro\")","v":""},{"$f":"IFERROR(SUBSTITUTE(SUBSTITUTE(SUBSTITUTE(Gerar_Upload!B2773,\".\",\"\"),\"-\",\"\"),\"/\",\"\"),\"erro\")","v":""},{"$f":"IFERROR(Gerar_Upload!C2773,\"erro\")","v":0},{"$f":"IFERROR(Gerar_Upload!D2773,\"erro\")","v":0},{"$f":"IFERROR(DATE(YEAR(Gerar_Upload!E2773),MONTH(Gerar_Upload!E2773),DAY(Gerar_Upload!E2773)),\"erro\")","v":"00:00:00"},{"$f":"IFERROR(Gerar_Upload!F2773,\"erro\")","v":0},{"$f":"IFERROR(IF(Gerar_Upload!G2773<44,REPT(0,44-LEN(Gerar_Upload!G2773))&Gerar_Upload!G2773,Gerar_Upload!G2773),\"erro\")","v":"00000000000000000000000000000000000000000000"}]
[{"$f":"IFERROR(LEFT(Gerar_Upload!A2774,120),\"erro\")","v":""},{"$f":"IFERROR(SUBSTITUTE(SUBSTITUTE(SUBSTITUTE(Gerar_Upload!B2774,\".\",\"\"),\"-\",\"\"),\"/\",\"\"),\"erro\")","v":""},{"$f":"IFERROR(Gerar_Upload!C2774,\"erro\")","v":0},{"$f":"IFERROR(Gerar_Upload!D2774,\"erro\")","v":0},{"$f":"IFERROR(DATE(YEAR(Gerar_Upload!E2774),MONTH(Gerar_Upload!E2774),DAY(Gerar_Upload!E2774)),\"erro\")","v":"00:00:00"},{"$f":"IFERROR(Gerar_Upload!F2774,\"erro\")","v":0},{"$f":"IFERROR(IF(Gerar_Upload!G2774<44,REPT(0,44-LEN(Gerar_Upload!G2774))&Gerar_Upload!G2774,Gerar_Upload!G2774),\"erro\")","v":"00000000000000000000000000000000000000000000"}]
[{"$f":"IFERROR(LEFT(Gerar_Upload!A2775,120),\"erro\")","v":""},{"$f":"IFERROR(SUBSTITUTE(SUBSTITUTE(SUBSTITUTE(Gerar_Upload!B2775,\".\",\"\"),\"-\",\"\"),\"/\",\"\"),\"erro\")","v":""},{"$f":"IFERROR(Gerar_Upload!C2775,\"erro\")","v":0},{"$f":"IFERROR(Gerar_Upload!D2775,\"erro\")","v":0},{"$f":"IFERROR(DATE(YEAR(Gerar_Upload!E2775),MONTH(Gerar_Upload!E2775),DAY(Gerar_Upload!E2775)),\"erro\")","v":"00:00:00"},{"$f":"IFERROR(Gerar_Upload!F2775,\"erro\")","v":0},{"$f":"IFERROR(IF(Gerar_Upload!G2775<44,REPT(0,44-LEN(Gerar_Upload!G2775))&Gerar_Upload!G2775,Gerar_Upload!G2775),\"erro\")","v":"00000000000000000000000000000000000000000000"}]
[{"$f":"IFERROR(LEFT(Gerar_Upload!A2776,120),\"erro\")","v":""},{"$f":"IFERROR(SUBSTITUTE(SUBSTITUTE(SUBSTITUTE(Gerar_Upload!B2776,\".\",\"\"),\"-\",\"\"),\"/\",\"\"),\"erro\")","v":""},{"$f":"IFERROR(Gerar_Upload!C2776,\"erro\")","v":0},{"$f":"IFERROR(Gerar_Upload!D2776,\"erro\")","v":0},{"$f":"IFERROR(DATE(YEAR(Gerar_Upload!E2776),MONTH(Gerar_Upload!E2776),DAY(Gerar_Upload!E2776)),\"erro\")","v":"00:00:00"},{"$f":"IFERROR(Gerar_Upload!F2776,\"erro\")","v":0},{"$f":"IFERROR(IF(Gerar_Upload!G2776<44,REPT(0,44-LEN(Gerar_Upload!G2776))&Gerar_Upload!G2776,Gerar_Upload!G2776),\"erro\")","v":"00000000000000000000000000000000000000000000"}]
[{"$f":"IFERROR(LEFT(Gerar_Upload!A2777,120),\"erro\")","v":""},{"$f":"IFERROR(SUBSTITUTE(SUBSTITUTE(SUBSTITUTE(Gerar_Upload!B2777,\".\",\"\"),\"-\",\"\"),\"/\",\"\"),\"erro\")","v":""},{"$f":"IFERROR(Gerar_Upload!C2777,\"erro\")","v":0},{"$f":"IFERROR(Gerar_Upload!D2777,\"erro\")","v":0},{"$f":"IFERROR(DATE(YEAR(Gerar_Upload!E2777),MONTH(Gerar_Upload!E2777),DAY(Gerar_Upload!E2777)),\"erro\")","v":"00:00:00"},{"$f":"IFERROR(Gerar_Upload!F2777,\"erro\")","v":0},{"$f":"IFERROR(IF(Gerar_Upload!G2777<44,REPT(0,44-LEN(Gerar_Upload!G2777))&Gerar_Upload!G2777,Gerar_Upload!G2777),\"erro\")","v":"00000000000000000000000000000000000000000000"}]
[{"$f":"IFERROR(LEFT(Gerar_Upload!A2778,120),\"erro\")","v":""},{"$f":"IFERROR(SUBSTITUTE(SUBSTITUTE(SUBSTITUTE(Gerar_Upload!B2778,\".\",\"\"),\"-\",\"\"),\"/\",\"\"),\"erro\")","v":""},{"$f":"IFERROR(Gerar_Upload!C2778,\"erro\")","v":0},{"$f":"IFERROR(Gerar_Upload!D2778,\"erro\")","v":0},{"$f":"IFERROR(DATE(YEAR(Gerar_Upload!E2778),MONTH(Gerar_Upload!E2778),DAY(Gerar_Upload!E2778)),\"erro\")","v":"00:00:00"},{"$f":"IFERROR(Gerar_Upload!F2778,\"erro\")","v":0},{"$f":"IFERROR(IF(Gerar_Upload!G2778<44,REPT(0,44-LEN(Gerar_Upload!G2778))&Gerar_Upload!G2778,Gerar_Upload!G2778),\"erro\")","v":"00000000000000000000000000000000000000000000"}]
[{"$f":"IFERROR(LEFT(Gerar_Upload!A2779,120),\"erro\")","v":""},{"$f":"IFERROR(SUBSTITUTE(SUBSTITUTE(SUBSTITUTE(Gerar_Upload!B2779,\".\",\"\"),\"-\",\"\"),\"/\",\"\"),\"erro\")","v":""},{"$f":"IFERROR(Gerar_Upload!C2779,\"erro\")","v":0},{"$f":"IFERROR(Gerar_Upload!D2779,\"erro\")","v":0},{"$f":"IFERROR(DATE(YEAR(Gerar_Upload!E2779),MONTH(Gerar_Upload!E2779),DAY(Gerar_Upload!E2779)),\"erro\")","v":"00:00:00"},{"$f":"IFERROR(Gerar_Upload!F2779,\"erro\")","v":0},{"$f":"IFERROR(IF(Gerar_Upload!G2779<44,REPT(0,44-LEN(Gerar_Upload!G2779))&Gerar_Upload!G2779,Gerar_Upload!G2779),\"erro\")","v":"00000000000000000000000000000000000000000000"}]
[{"$f":"IFERROR(LEFT(Gerar_Upload!A2780,120),\"erro\")","v":""},{"$f":"IFERROR(SUBSTITUTE(SUBSTITUTE(SUBSTITUTE(Gerar_Upload!B2780,\".\",\"\"),\"-\",\"\"),\"/\",\"\"),\"erro\")","v":""},{"$f":"IFERROR(Gerar_Upload!C2780,\"erro\")","v":0},{"$f":"IFERROR(Gerar_Upload!D2780,\"erro\")","v":0},{"$f":"IFERROR(DATE(YEAR(Gerar_Upload!E2780),MONTH(Gerar_Upload!E2780),DAY(Gerar_Upload!E2780)),\"erro\")","v":"00:00:00"},{"$f":"IFERROR(Gerar_Upload!F2780,\"erro\")","v":0},{"$f":"IFERROR(IF(Gerar_Upload!G2780<44,REPT(0,44-LEN(Gerar_Upload!G2780))&Gerar_Upload!G2780,Gerar_Upload!G2780),\"erro\")","v":"00000000000000000000000000000000000000000000"}]
[{"$f":"IFERROR(LEFT(Gerar_Upload!A2781,120),\"erro\")","v":""},{"$f":"IFERROR(SUBSTITUTE(SUBSTITUTE(SUBSTITUTE(Gerar_Upload!B2781,\".\",\"\"),\"-\",\"\"),\"/\",\"\"),\"erro\")","v":""},{"$f":"IFERROR(Gerar_Upload!C2781,\"erro\")","v":0},{"$f":"IFERROR(Gerar_Upload!D2781,\"erro\")","v":0},{"$f":"IFERROR(DATE(YEAR(Gerar_Upload!E2781),MONTH(Gerar_Upload!E2781),DAY(Gerar_Upload!E2781)),\"erro\")","v":"00:00:00"},{"$f":"IFERROR(Gerar_Upload!F2781,\"erro\")","v":0},{"$f":"IFERROR(IF(Gerar_Upload!G2781<44,REPT(0,44-LEN(Gerar_Upload!G2781))&Gerar_Upload!G2781,Gerar_Upload!G2781),\"erro\")","v":"00000000000000000000000000000000000000000000"}]
[{"$f":"IFERROR(LEFT(Gerar_Upload!A2782,120),\"erro\")","v":""},{"$f":"IFERROR(SUBSTITUTE(SUBSTITUTE(SUBSTITUTE(Gerar_Upload!B2782,\".\",\"\"),\"-\",\"\"),\"/\",\"\"),\"erro\")","v":""},{"$f":"IFERROR(Gerar_Upload!C2782,\"erro\")","v":0},{"$f":"IFERROR(Gerar_Upload!D2782,\"erro\")","v":0},{"$f":"IFERROR(DATE(YEAR(Gerar_Upload!E2782),MONTH(Gerar_Upload!E2782),DAY(Gerar_Upload!E2782)),\"erro\")","v":"00:00:00"},{"$f":"IFERROR(Gerar_Upload!F2782,\"erro\")","v":0},{"$f":"IFERROR(IF(Gerar_Upload!G2782<44,REPT(0,44-LEN(Gerar_Upload!G2782))&Gerar_Upload!G2782,Gerar_Upload!G2782),\"erro\")","v":"00000000000000000000000000000000000000000000"}]
[{"$f":"IFERROR(LEFT(Gerar_Upload!A2783,120),\"erro\")","v":""},{"$f":"IFERROR(SUBSTITUTE(SUBSTITUTE(SUBSTITUTE(Gerar_Upload!B2783,\".\",\"\"),\"-\",\"\"),\"/\",\"\"),\"erro\")","v":""},{"$f":"IFERROR(Gerar_Upload!C2783,\"erro\")","v":0},{"$f":"IFERROR(Gerar_Upload!D2783,\"erro\")","v":0},{"$f":"IFERROR(DATE(YEAR(Gerar_Upload!E2783),MONTH(Gerar_Upload!E2783),DAY(Gerar_Upload!E2783)),\"erro\")","v":"00:00:00"},{"$f":"IFERROR(Gerar_Upload!F2783,\"erro\")","v":0},{"$f":"IFERROR(IF(Gerar_Upload!G2783<44,REPT(0,44-LEN(Gerar_Upload!G2783))&Gerar_Upload!G2783,Gerar_Upload!G2783),\"erro\")","v":"00000000000000000000000000000000000000000000"}]
[{"$f":"IFERROR(LEFT(Gerar_Upload!A2784,120),\"erro\")","v":""},{"$f":"IFERROR(SUBSTITUTE(SUBSTITUTE(SUBSTITUTE(Gerar_Upload!B2784,\".\",\"\"),\"-\",\"\"),\"/\",\"\"),\"erro\")","v":""},{"$f":"IFERROR(Gerar_Upload!C2784,\"erro\")","v":0},{"$f":"IFERROR(Gerar_Upload!D2784,\"erro\")","v":0},{"$f":"IFERROR(DATE(YEAR(Gerar_Upload!E2784),MONTH(Gerar_Upload!E2784),DAY(Gerar_Upload!E2784)),\"erro\")","v":"00:00:00"},{"$f":"IFERROR(Gerar_Upload!F2784,\"erro\")","v":0},{"$f":"IFERROR(IF(Gerar_Upload!G2784<44,REPT(0,44-LEN(Gerar_Upload!G2784))&Gerar_Upload!G2784,Gerar_Upload!G2784),\"erro\")","v":"00000000000000000000000000000000000000000000"}]
[{"$f":"IFERROR(LEFT(Gerar_Upload!A2785,120),\"erro\")","v":""},{"$f":"IFERROR(SUBSTITUTE(SUBSTITUTE(SUBSTITUTE(Gerar_Upload!B2785,\".\",\"\"),\"-\",\"\"),\"/\",\"\"),\"erro\")","v":""},{"$f":"IFERROR(Gerar_Upload!C2785,\"erro\")","v":0},{"$f":"IFERROR(Gerar_Upload!D2785,\"erro\")","v":0},{"$f":"IFERROR(DATE(YEAR(Gerar_Upload!E2785),MONTH(Gerar_Upload!E2785),DAY(Gerar_Upload!E2785)),\"erro\")","v":"00:00:00"},{"$f":"IFERROR(Gerar_Upload!F2785,\"erro\")","v":0},{"$f":"IFERROR(IF(Gerar_Upload!G2785<44,REPT(0,44-LEN(Gerar_Upload!G2785))&Gerar_Upload!G2785,Gerar_Upload!G2785),\"erro\")","v":"00000000000000000000000000000000000000000000"}]
[{"$f":"IFERROR(LEFT(Gerar_Upload!A2786,120),\"erro\")","v":""},{"$f":"IFERROR(SUBSTITUTE(SUBSTITUTE(SUBSTITUTE(Gerar_Upload!B2786,\".\",\"\"),\"-\",\"\"),\"/\",\"\"),\"erro\")","v":""},{"$f":"IFERROR(Gerar_Upload!C2786,\"erro\")","v":0},{"$f":"IFERROR(Gerar_Upload!D2786,\"erro\")","v":0},{"$f":"IFERROR(DATE(YEAR(Gerar_Upload!E2786),MONTH(Gerar_Upload!E2786),DAY(Gerar_Upload!E2786)),\"erro\")","v":"00:00:00"},{"$f":"IFERROR(Gerar_Upload!F2786,\"erro\")","v":0},{"$f":"IFERROR(IF(Gerar_Upload!G2786<44,REPT(0,44-LEN(Gerar_Upload!G2786))&Gerar_Upload!G2786,Gerar_Upload!G2786),\"erro\")","v":"00000000000000000000000000000000000000000000"}]
[{"$f":"IFERROR(LEFT(Gerar_Upload!A2787,120),\"erro\")","v":""},{"$f":"IFERROR(SUBSTITUTE(SUBSTITUTE(SUBSTITUTE(Gerar_Upload!B2787,\".\",\"\"),\"-\",\"\"),\"/\",\"\"),\"erro\")","v":""},{"$f":"IFERROR(Gerar_Upload!C2787,\"erro\")","v":0},{"$f":"IFERROR(Gerar_Upload!D2787,\"erro\")","v":0},{"$f":"IFERROR(DATE(YEAR(Gerar_Upload!E2787),MONTH(Gerar_Upload!E2787),DAY(Gerar_Upload!E2787)),\"erro\")","v":"00:00:00"},{"$f":"IFERROR(Gerar_Upload!F2787,\"erro\")","v":0},{"$f":"IFERROR(IF(Gerar_Upload!G2787<44,REPT(0,44-LEN(Gerar_Upload!G2787))&Gerar_Upload!G2787,Gerar_Upload!G2787),\"erro\")","v":"00000000000000000000000000000000000000000000"}]
[{"$f":"IFERROR(LEFT(Gerar_Upload!A2788,120),\"erro\")","v":""},{"$f":"IFERROR(SUBSTITUTE(SUBSTITUTE(SUBSTITUTE(Gerar_Upload!B2788,\".\",\"\"),\"-\",\"\"),\"/\",\"\"),\"erro\")","v":""},{"$f":"IFERROR(Gerar_Upload!C2788,\"erro\")","v":0},{"$f":"IFERROR(Gerar_Upload!D2788,\"erro\")","v":0},{"$f":"IFERROR(DATE(YEAR(Gerar_Upload!E2788),MONTH(Gerar_Upload!E2788),DAY(Gerar_Upload!E2788)),\"erro\")","v":"00:00:00"},{"$f":"IFERROR(Gerar_Upload!F2788,\"erro\")","v":0},{"$f":"IFERROR(IF(Gerar_Upload!G2788<44,REPT(0,44-LEN(Gerar_Upload!G2788))&Gerar_Upload!G2788,Gerar_Upload!G2788),\"erro\")","v":"00000000000000000000000000000000000000000000"}]
[{"$f":"IFERROR(LEFT(Gerar_Upload!A2789,120),\"erro\")","v":""},{"$f":"IFERROR(SUBSTITUTE(SUBSTITUTE(SUBSTITUTE(Gerar_Upload!B2789,\".\",\"\"),\"-\",\"\"),\"/\",\"\"),\"erro\")","v":""},{"$f":"IFERROR(Gerar_Upload!C2789,\"erro\")","v":0},{"$f":"IFERROR(Gerar_Upload!D2789,\"erro\")","v":0},{"$f":"IFERROR(DATE(YEAR(Gerar_Upload!E2789),MONTH(Gerar_Upload!E2789),DAY(Gerar_Upload!E2789)),\"erro\")","v":"00:00:00"},{"$f":"IFERROR(Gerar_Upload!F2789,\"erro\")","v":0},{"$f":"IFERROR(IF(Gerar_Upload!G2789<44,REPT(0,44-LEN(Gerar_Upload!G2789))&Gerar_Upload!G2789,Gerar_Upload!G2789),\"erro\")","v":"00000000000000000000000000000000000000000000"}]
[{"$f":"IFERROR(LEFT(Gerar_Upload!A2790,120),\"erro\")","v":""},{"$f":"IFERROR(SUBSTITUTE(SUBSTITUTE(SUBSTITUTE(Gerar_Upload!B2790,\".\",\"\"),\"-\",\"\"),\"/\",\"\"),\"erro\")","v":""},{"$f":"IFERROR(Gerar_Upload!C2790,\"erro\")","v":0},{"$f":"IFERROR(Gerar_Upload!D2790,\"erro\")","v":0},{"$f":"IFERROR(DATE(YEAR(Gerar_Upload!E2790),MONTH(Gerar_Upload!E2790),DAY(Gerar_Upload!E2790)),\"erro\")","v":"00:00:00"},{"$f":"IFERROR(Gerar_Upload!F2790,\"erro\")","v":0},{"$f":"IFERROR(IF(Gerar_Upload!G2790<44,REPT(0,44-LEN(Gerar_Upload!G2790))&Gerar_Upload!G2790,Gerar_Upload!G2790),\"erro\")","v":"00000000000000000000000000000000000000000000"}]
[{"$f":"IFERROR(LEFT(Gerar_Upload!A2791,120),\"erro\")","v":""},{"$f":"IFERROR(SUBSTITUTE(SUBSTITUTE(SUBSTITUTE(Gerar_Upload!B2791,\".\",\"\"),\"-\",\"\"),\"/\",\"\"),\"erro\")","v":""},{"$f":"IFERROR(Gerar_Upload!C2791,\"erro\")","v":0},{"$f":"IFERROR(Gerar_Upload!D2791,\"erro\")","v":0},{"$f":"IFERROR(DATE(YEAR(Gerar_Upload!E2791),MONTH(Gerar_Upload!E2791),DAY(Gerar_Upload!E2791)),\"erro\")","v":"00:00:00"},{"$f":"IFERROR(Gerar_Upload!F2791,\"erro\")","v":0},{"$f":"IFERROR(IF(Gerar_Upload!G2791<44,REPT(0,44-LEN(Gerar_Upload!G2791))&Gerar_Upload!G2791,Gerar_Upload!G2791),\"erro\")","v":"00000000000000000000000000000000000000000000"}]
[{"$f":"IFERROR(LEFT(Gerar_Upload!A2792,120),\"erro\")","v":""},{"$f":"IFERROR(SUBSTITUTE(SUBSTITUTE(SUBSTITUTE(Gerar_Upload!B2792,\".\",\"\"),\"-\",\"\"),\"/\",\"\"),\"erro\")","v":""},{"$f":"IFERROR(Gerar_Upload!C2792,\"erro\")","v":0},{"$f":"IFERROR(Gerar_Upload!D2792,\"erro\")","v":0},{"$f":"IFERROR(DATE(YEAR(Gerar_Upload!E2792),MONTH(Gerar_Upload!E2792),DAY(Gerar_Upload!E2792)),\"erro\")","v":"00:00:00"},{"$f":"IFERROR(Gerar_Upload!F2792,\"erro\")","v":0},{"$f":"IFERROR(IF(Gerar_Upload!G2792<44,REPT(0,44-LEN(Gerar_Upload!G2792))&Gerar_Upload!G2792,Gerar_Upload!G2792),\"erro\")","v":"00000000000000000000000000000000000000000000"}]
[{"$f":"IFERROR(LEFT(Gerar_Upload!A2793,120),\"erro\")","v":""},{"$f":"IFERROR(SUBSTITUTE(SUBSTITUTE(SUBSTITUTE(Gerar_Upload!B2793,\".\",\"\"),\"-\",\"\"),\"/\",\"\"),\"erro\")","v":""},{"$f":"IFERROR(Gerar_Upload!C2793,\"erro\")","v":0},{"$f":"IFERROR(Gerar_Upload!D2793,\"erro\")","v":0},{"$f":"IFERROR(DATE(YEAR(Gerar_Upload!E2793),MONTH(Gerar_Upload!E2793),DAY(Gerar_Upload!E2793)),\"erro\")","v":"00:00:00"},{"$f":"IFERROR(Gerar_Upload!F2793,\"erro\")","v":0},{"$f":"IFERROR(IF(Gerar_Upload!G2793<44,REPT(0,44-LEN(Gerar_Upload!G2793))&Gerar_Upload!G2793,Gerar_Upload!G2793),\"erro\")","v":"00000000000000000000000000000000000000000000"}]
[{"$f":"IFERROR(LEFT(Gerar_Upload!A2794,120),\"erro\")","v":""},{"$f":"IFERROR(SUBSTITUTE(SUBSTITUTE(SUBSTITUTE(Gerar_Upload!B2794,\".\",\"\"),\"-\",\"\"),\"/\",\"\"),\"erro\")","v":""},{"$f":"IFERROR(Gerar_Upload!C2794,\"erro\")","v":0},{"$f":"IFERROR(Gerar_Upload!D2794,\"erro\")","v":0},{"$f":"IFERROR(DATE(YEAR(Gerar_Upload!E2794),MONTH(Gerar_Upload!E2794),DAY(Gerar_Upload!E2794)),\"erro\")","v":"00:00:00"},{"$f":"IFERROR(Gerar_Upload!F2794,\"erro\")","v":0},{"$f":"IFERROR(IF(Gerar_Upload!G2794<44,REPT(0,44-LEN(Gerar_Upload!G2794))&Gerar_Upload!G2794,Gerar_Upload!G2794),\"erro\")","v":"00000000000000000000000000000000000000000000"}]
[{"$f":"IFERROR(LEFT(Gerar_Upload!A2795,120),\"erro\")","v":""},{"$f":"IFERROR(SUBSTITUTE(SUBSTITUTE(SUBSTITUTE(Gerar_Upload!B2795,\".\",\"\"),\"-\",\"\"),\"/\",\"\"),\"erro\")","v":""},{"$f":"IFERROR(Gerar_Upload!C2795,\"erro\")","v":0},{"$f":"IFERROR(Gerar_Upload!D2795,\"erro\")","v":0},{"$f":"IFERROR(DATE(YEAR(Gerar_Upload!E2795),MONTH(Gerar_Upload!E2795),DAY(Gerar_Upload!E2795)),\"erro\")","v":"00:00:00"},{"$f":"IFERROR(Gerar_Upload!F2795,\"erro\")","v":0},{"$f":"IFERROR(IF(Gerar_Upload!G2795<44,REPT(0,44-LEN(Gerar_Upload!G2795))&Gerar_Upload!G2795,Gerar_Upload!G2795),\"erro\")","v":"00000000000000000000000000000000000000000000"}]
[{"$f":"IFERROR(LEFT(Gerar_Upload!A2796,120),\"erro\")","v":""},{"$f":"IFERROR(SUBSTITUTE(SUBSTITUTE(SUBSTITUTE(Gerar_Upload!B2796,\".\",\"\"),\"-\",\"\"),\"/\",\"\"),\"erro\")","v":""},{"$f":"IFERROR(Gerar_Upload!C2796,\"erro\")","v":0},{"$f":"IFERROR(Gerar_Upload!D2796,\"erro\")","v":0},{"$f":"IFERROR(DATE(YEAR(Gerar_Upload!E2796),MONTH(Gerar_Upload!E2796),DAY(Gerar_Upload!E2796)),\"erro\")","v":"00:00:00"},{"$f":"IFERROR(Gerar_Upload!F2796,\"erro\")","v":0},{"$f":"IFERROR(IF(Gerar_Upload!G2796<44,REPT(0,44-LEN(Gerar_Upload!G2796))&Gerar_Upload!G2796,Gerar_Upload!G2796),\"erro\")","v":"00000000000000000000000000000000000000000000"}]
[{"$f":"IFERROR(LEFT(Gerar_Upload!A2797,120),\"erro\")","v":""},{"$f":"IFERROR(SUBSTITUTE(SUBSTITUTE(SUBSTITUTE(Gerar_Upload!B2797,\".\",\"\"),\"-\",\"\"),\"/\",\"\"),\"erro\")","v":""},{"$f":"IFERROR(Gerar_Upload!C2797,\"erro\")","v":0},{"$f":"IFERROR(Gerar_Upload!D2797,\"erro\")","v":0},{"$f":"IFERROR(DATE(YEAR(Gerar_Upload!E2797),MONTH(Gerar_Upload!E2797),DAY(Gerar_Upload!E2797)),\"erro\")","v":"00:00:00"},{"$f":"IFERROR(Gerar_Upload!F2797,\"erro\")","v":0},{"$f":"IFERROR(IF(Gerar_Upload!G2797<44,REPT(0,44-LEN(Gerar_Upload!G2797))&Gerar_Upload!G2797,Gerar_Upload!G2797),\"erro\")","v":"00000000000000000000000000000000000000000000"}]
[{"$f":"IFERROR(LEFT(Gerar_Upload!A2798,120),\"erro\")","v":""},{"$f":"IFERROR(SUBSTITUTE(SUBSTITUTE(SUBSTITUTE(Gerar_Upload!B2798,\".\",\"\"),\"-\",\"\"),\"/\",\"\"),\"erro\")","v":""},{"$f":"IFERROR(Gerar_Upload!C2798,\"erro\")","v":0},{"$f":"IFERROR(Gerar_Upload!D2798,\"erro\")","v":0},{"$f":"IFERROR(DATE(YEAR(Gerar_Upload!E2798),MONTH(Gerar_Upload!E2798),DAY(Gerar_Upload!E2798)),\"erro\")","v":"00:00:00"},{"$f":"IFERROR(Gerar_Upload!F2798,\"erro\")","v":0},{"$f":"IFERROR(IF(Gerar_Upload!G2798<44,REPT(0,44-LEN(Gerar_Upload!G2798))&Gerar_Upload!G2798,Gerar_Upload!G2798),\"erro\")","v":"00000000000000000000000000000000000000000000"}]
[{"$f":"IFERROR(LEFT(Gerar_Upload!A2799,120),\"erro\")","v":""},{"$f":"IFERROR(SUBSTITUTE(SUBSTITUTE(SUBSTITUTE(Gerar_Upload!B2799,\".\",\"\"),\"-\",\"\"),\"/\",\"\"),\"erro\")","v":""},{"$f":"IFERROR(Gerar_Upload!C2799,\"erro\")","v":0},{"$f":"IFERROR(Gerar_Upload!D2799,\"erro\")","v":0},{"$f":"IFERROR(DATE(YEAR(Gerar_Upload!E2799),MONTH(Gerar_Upload!E2799),DAY(Gerar_Upload!E2799)),\"erro\")","v":"00:00:00"},{"$f":"IFERROR(Gerar_Upload!F2799,\"erro\")","v":0},{"$f":"IFERROR(IF(Gerar_Upload!G2799<44,REPT(0,44-LEN(Gerar_Upload!G2799))&Gerar_Upload!G2799,Gerar_Upload!G2799),\"erro\")","v":"00000000000000000000000000000000000000000000"}]
[{"$f":"IFERROR(LEFT(Gerar_Upload!A2800,120),\"erro\")","v":""},{"$f":"IFERROR(SUBSTITUTE(SUBSTITUTE(SUBSTITUTE(Gerar_Upload!B2800,\".\",\"\"),\"-\",\"\"),\"/\",\"\"),\"erro\")","v":""},{"$f":"IFERROR(Gerar_Upload!C2800,\"erro\")","v":0},{"$f":"IFERROR(Gerar_Upload!D2800,\"erro\")","v":0},{"$f":"IFERROR(DATE(YEAR(Gerar_Upload!E2800),MONTH(Gerar_Upload!E2800),DAY(Gerar_Upload!E2800)),\"erro\")","v":"00:00:00"},{"$f":"IFERROR(Gerar_Upload!F2800,\"erro\")","v":0},{"$f":"IFERROR(IF(Gerar_Upload!G2800<44,REPT(0,44-LEN(Gerar_Upload!G2800))&Gerar_Upload!G2800,Gerar_Upload!G2800),\"erro\")","v":"00000000000000000000000000000000000000000000"}]
[{"$f":"IFERROR(LEFT(Gerar_Upload!A2801,120),\"erro\")","v":""},{"$f":"IFERROR(SUBSTITUTE(SUBSTITUTE(SUBSTITUTE(Gerar_Upload!B2801,\".\",\"\"),\"-\",\"\"),\"/\",\"\"),\"erro\")","v":""},{"$f":"IFERROR(Gerar_Upload!C2801,\"erro\")","v":0},{"$f":"IFERROR(Gerar_Upload!D2801,\"erro\")","v":0},{"$f":"IFERROR(DATE(YEAR(Gerar_Upload!E2801),MONTH(Gerar_Upload!E2801),DAY(Gerar_Upload!E2801)),\"erro\")","v":"00:00:00"},{"$f":"IFERROR(Gerar_Upload!F2801,\"erro\")","v":0},{"$f":"IFERROR(IF(Gerar_Upload!G2801<44,REPT(0,44-LEN(Gerar_Upload!G2801))&Gerar_Upload!G2801,Gerar_Upload!G2801),\"erro\")","v":"00000000000000000000000000000000000000000000"}]
[{"$f":"IFERROR(LEFT(Gerar_Upload!A2802,120),\"erro\")","v":""},{"$f":"IFERROR(SUBSTITUTE(SUBSTITUTE(SUBSTITUTE(Gerar_Upload!B2802,\".\",\"\"),\"-\",\"\"),\"/\",\"\"),\"erro\")","v":""},{"$f":"IFERROR(Gerar_Upload!C2802,\"erro\")","v":0},{"$f":"IFERROR(Gerar_Upload!D2802,\"erro\")","v":0},{"$f":"IFERROR(DATE(YEAR(Gerar_Upload!E2802),MONTH(Gerar_Upload!E2802),DAY(Gerar_Upload!E2802)),\"erro\")","v":"00:00:00"},{"$f":"IFERROR(Gerar_Upload!F2802,\"erro\")","v":0},{"$f":"IFERROR(IF(Gerar_Upload!G2802<44,REPT(0,44-LEN(Gerar_Upload!G2802))&Gerar_Upload!G2802,Gerar_Upload!G2802),\"erro\")","v":"00000000000000000000000000000000000000000000"}]
[{"$f":"IFERROR(LEFT(Gerar_Upload!A2803,120),\"erro\")","v":""},{"$f":"IFERROR(SUBSTITUTE(SUBSTITUTE(SUBSTITUTE(Gerar_Upload!B2803,\".\",\"\"),\"-\",\"\"),\"/\",\"\"),\"erro\")","v":""},{"$f":"IFERROR(Gerar_Upload!C2803,\"erro\")","v":0},{"$f":"IFERROR(Gerar_Upload!D2803,\"erro\")","v":0},{"$f":"IFERROR(DATE(YEAR(Gerar_Upload!E2803),MONTH(Gerar_Upload!E2803),DAY(Gerar_Upload!E2803)),\"erro\")","v":"00:00:00"},{"$f":"IFERROR(Gerar_Upload!F2803,\"erro\")","v":0},{"$f":"IFERROR(IF(Gerar_Upload!G2803<44,REPT(0,44-LEN(Gerar_Upload!G2803))&Gerar_Upload!G2803,Gerar_Upload!G2803),\"erro\")","v":"00000000000000000000000000000000000000000000"}]
[{"$f":"IFERROR(LEFT(Gerar_Upload!A2804,120),\"erro\")","v":""},{"$f":"IFERROR(SUBSTITUTE(SUBSTITUTE(SUBSTITUTE(Gerar_Upload!B2804,\".\",\"\"),\"-\",\"\"),\"/\",\"\"),\"erro\")","v":""},{"$f":"IFERROR(Gerar_Upload!C2804,\"erro\")","v":0},{"$f":"IFERROR(Gerar_Upload!D2804,\"erro\")","v":0},{"$f":"IFERROR(DATE(YEAR(Gerar_Upload!E2804),MONTH(Gerar_Upload!E2804),DAY(Gerar_Upload!E2804)),\"erro\")","v":"00:00:00"},{"$f":"IFERROR(Gerar_Upload!F2804,\"erro\")","v":0},{"$f":"IFERROR(IF(Gerar_Upload!G2804<44,REPT(0,44-LEN(Gerar_Upload!G2804))&Gerar_Upload!G2804,Gerar_Upload!G2804),\"erro\")","v":"00000000000000000000000000000000000000000000"}]
[{"$f":"IFERROR(LEFT(Gerar_Upload!A2805,120),\"erro\")","v":""},{"$f":"IFERROR(SUBSTITUTE(SUBSTITUTE(SUBSTITUTE(Gerar_Upload!B2805,\".\",\"\"),\"-\",\"\"),\"/\",\"\"),\"erro\")","v":""},{"$f":"IFERROR(Gerar_Upload!C2805,\"erro\")","v":0},{"$f":"IFERROR(Gerar_Upload!D2805,\"erro\")","v":0},{"$f":"IFERROR(DATE(YEAR(Gerar_Upload!E2805),MONTH(Gerar_Upload!E2805),DAY(Gerar_Upload!E2805)),\"erro\")","v":"00:00:00"},{"$f":"IFERROR(Gerar_Upload!F2805,\"erro\")","v":0},{"$f":"IFERROR(IF(Gerar_Upload!G2805<44,REPT(0,44-LEN(Gerar_Upload!G2805))&Gerar_Upload!G2805,Gerar_Upload!G2805),\"erro\")","v":"00000000000000000000000000000000000000000000"}]
[{"$f":"IFERROR(LEFT(Gerar_Upload!A2806,120),\"erro\")","v":""},{"$f":"IFERROR(SUBSTITUTE(SUBSTITUTE(SUBSTITUTE(Gerar_Upload!B2806,\".\",\"\"),\"-\",\"\"),\"/\",\"\"),\"erro\")","v":""},{"$f":"IFERROR(Gerar_Upload!C2806,\"erro\")","v":0},{"$f":"IFERROR(Gerar_Upload!D2806,\"erro\")","v":0},{"$f":"IFERROR(DATE(YEAR(Gerar_Upload!E2806),MONTH(Gerar_Upload!E2806),DAY(Gerar_Upload!E2806)),\"erro\")","v":"00:00:00"},{"$f":"IFERROR(Gerar_Upload!F2806,\"erro\")","v":0},{"$f":"IFERROR(IF(Gerar_Upload!G2806<44,REPT(0,44-LEN(Gerar_Upload!G2806))&Gerar_Upload!G2806,Gerar_Upload!G2806),\"erro\")","v":"00000000000000000000000000000000000000000000"}]
[{"$f":"IFERROR(LEFT(Gerar_Upload!A2807,120),\"erro\")","v":""},{"$f":"IFERROR(SUBSTITUTE(SUBSTITUTE(SUBSTITUTE(Gerar_Upload!B2807,\".\",\"\"),\"-\",\"\"),\"/\",\"\"),\"erro\")","v":""},{"$f":"IFERROR(Gerar_Upload!C2807,\"erro\")","v":0},{"$f":"IFERROR(Gerar_Upload!D2807,\"erro\")","v":0},{"$f":"IFERROR(DATE(YEAR(Gerar_Upload!E2807),MONTH(Gerar_Upload!E2807),DAY(Gerar_Upload!E2807)),\"erro\")","v":"00:00:00"},{"$f":"IFERROR(Gerar_Upload!F2807,\"erro\")","v":0},{"$f":"IFERROR(IF(Gerar_Upload!G2807<44,REPT(0,44-LEN(Gerar_Upload!G2807))&Gerar_Upload!G2807,Gerar_Upload!G2807),\"erro\")","v":"00000000000000000000000000000000000000000000"}]
[{"$f":"IFERROR(LEFT(Gerar_Upload!A2808,120),\"erro\")","v":""},{"$f":"IFERROR(SUBSTITUTE(SUBSTITUTE(SUBSTITUTE(Gerar_Upload!B2808,\".\",\"\"),\"-\",\"\"),\"/\",\"\"),\"erro\")","v":""},{"$f":"IFERROR(Gerar_Upload!C2808,\"erro\")","v":0},{"$f":"IFERROR(Gerar_Upload!D2808,\"erro\")","v":0},{"$f":"IFERROR(DATE(YEAR(Gerar_Upload!E2808),MONTH(Gerar_Upload!E2808),DAY(Gerar_Upload!E2808)),\"erro\")","v":"00:00:00"},{"$f":"IFERROR(Gerar_Upload!F2808,\"erro\")","v":0},{"$f":"IFERROR(IF(Gerar_Upload!G2808<44,REPT(0,44-LEN(Gerar_Upload!G2808))&Gerar_Upload!G2808,Gerar_Upload!G2808),\"erro\")","v":"00000000000000000000000000000000000000000000"}]
[{"$f":"IFERROR(LEFT(Gerar_Upload!A2809,120),\"erro\")","v":""},{"$f":"IFERROR(SUBSTITUTE(SUBSTITUTE(SUBSTITUTE(Gerar_Upload!B2809,\".\",\"\"),\"-\",\"\"),\"/\",\"\"),\"erro\")","v":""},{"$f":"IFERROR(Gerar_Upload!C2809,\"erro\")","v":0},{"$f":"IFERROR(Gerar_Upload!D2809,\"erro\")","v":0},{"$f":"IFERROR(DATE(YEAR(Gerar_Upload!E2809),MONTH(Gerar_Upload!E2809),DAY(Gerar_Upload!E2809)),\"erro\")","v":"00:00:00"},{"$f":"IFERROR(Gerar_Upload!F2809,\"erro\")","v":0},{"$f":"IFERROR(IF(Gerar_Upload!G2809<44,REPT(0,44-LEN(Gerar_Upload!G2809))&Gerar_Upload!G2809,Gerar_Upload!G2809),\"erro\")","v":"00000000000000000000000000000000000000000000"}]
[{"$f":"IFERROR(LEFT(Gerar_Upload!A2810,120),\"erro\")","v":""},{"$f":"IFERROR(SUBSTITUTE(SUBSTITUTE(SUBSTITUTE(Gerar_Upload!B2810,\".\",\"\"),\"-\",\"\"),\"/\",\"\"),\"erro\")","v":""},{"$f":"IFERROR(Gerar_Upload!C2810,\"erro\")","v":0},{"$f":"IFERROR(Gerar_Upload!D2810,\"erro\")","v":0},{"$f":"IFERROR(DATE(YEAR(Gerar_Upload!E2810),MONTH(Gerar_Upload!E2810),DAY(Gerar_Upload!E2810)),\"erro\")","v":"00:00:00"},{"$f":"IFERROR(Gerar_Upload!F2810,\"erro\")","v":0},{"$f":"IFERROR(IF(Gerar_Upload!G2810<44,REPT(0,44-LEN(Gerar_Upload!G2810))&Gerar_Upload!G2810,Gerar_Upload!G2810),\"erro\")","v":"00000000000000000000000000000000000000000000"}]
[{"$f":"IFERROR(LEFT(Gerar_Upload!A2811,120),\"erro\")","v":""},{"$f":"IFERROR(SUBSTITUTE(SUBSTITUTE(SUBSTITUTE(Gerar_Upload!B2811,\".\",\"\"),\"-\",\"\"),\"/\",\"\"),\"erro\")","v":""},{"$f":"IFERROR(Gerar_Upload!C2811,\"erro\")","v":0},{"$f":"IFERROR(Gerar_Upload!D2811,\"erro\")","v":0},{"$f":"IFERROR(DATE(YEAR(Gerar_Upload!E2811),MONTH(Gerar_Upload!E2811),DAY(Gerar_Upload!E2811)),\"erro\")","v":"00:00:00"},{"$f":"IFERROR(Gerar_Upload!F2811,\"erro\")","v":0},{"$f":"IFERROR(IF(Gerar_Upload!G2811<44,REPT(0,44-LEN(Gerar_Upload!G2811))&Gerar_Upload!G2811,Gerar_Upload!G2811),\"erro\")","v":"00000000000000000000000000000000000000000000"}]
[{"$f":"IFERROR(LEFT(Gerar_Upload!A2812,120),\"erro\")","v":""},{"$f":"IFERROR(SUBSTITUTE(SUBSTITUTE(SUBSTITUTE(Gerar_Upload!B2812,\".\",\"\"),\"-\",\"\"),\"/\",\"\"),\"erro\")","v":""},{"$f":"IFERROR(Gerar_Upload!C2812,\"erro\")","v":0},{"$f":"IFERROR(Gerar_Upload!D2812,\"erro\")","v":0},{"$f":"IFERROR(DATE(YEAR(Gerar_Upload!E2812),MONTH(Gerar_Upload!E2812),DAY(Gerar_Upload!E2812)),\"erro\")","v":"00:00:00"},{"$f":"IFERROR(Gerar_Upload!F2812,\"erro\")","v":0},{"$f":"IFERROR(IF(Gerar_Upload!G2812<44,REPT(0,44-LEN(Gerar_Upload!G2812))&Gerar_Upload!G2812,Gerar_Upload!G2812),\"erro\")","v":"00000000000000000000000000000000000000000000"}]
[{"$f":"IFERROR(LEFT(Gerar_Upload!A2813,120),\"erro\")","v":""},{"$f":"IFERROR(SUBSTITUTE(SUBSTITUTE(SUBSTITUTE(Gerar_Upload!B2813,\".\",\"\"),\"-\",\"\"),\"/\",\"\"),\"erro\")","v":""},{"$f":"IFERROR(Gerar_Upload!C2813,\"erro\")","v":0},{"$f":"IFERROR(Gerar_Upload!D2813,\"erro\")","v":0},{"$f":"IFERROR(DATE(YEAR(Gerar_Upload!E2813),MONTH(Gerar_Upload!E2813),DAY(Gerar_Upload!E2813)),\"erro\")","v":"00:00:00"},{"$f":"IFERROR(Gerar_Upload!F2813,\"erro\")","v":0},{"$f":"IFERROR(IF(Gerar_Upload!G2813<44,REPT(0,44-LEN(Gerar_Upload!G2813))&Gerar_Upload!G2813,Gerar_Upload!G2813),\"erro\")","v":"00000000000000000000000000000000000000000000"}]
[{"$f":"IFERROR(LEFT(Gerar_Upload!A2814,120),\"erro\")","v":""},{"$f":"IFERROR(SUBSTITUTE(SUBSTITUTE(SUBSTITUTE(Gerar_Upload!B2814,\".\",\"\"),\"-\",\"\"),\"/\",\"\"),\"erro\")","v":""},{"$f":"IFERROR(Gerar_Upload!C2814,\"erro\")","v":0},{"$f":"IFERROR(Gerar_Upload!D2814,\"erro\")","v":0},{"$f":"IFERROR(DATE(YEAR(Gerar_Upload!E2814),MONTH(Gerar_Upload!E2814),DAY(Gerar_Upload!E2814)),\"erro\")","v":"00:00:00"},{"$f":"IFERROR(Gerar_Upload!F2814,\"erro\")","v":0},{"$f":"IFERROR(IF(Gerar_Upload!G2814<44,REPT(0,44-LEN(Gerar_Upload!G2814))&Gerar_Upload!G2814,Gerar_Upload!G2814),\"erro\")","v":"00000000000000000000000000000000000000000000"}]
[{"$f":"IFERROR(LEFT(Gerar_Upload!A2815,120),\"erro\")","v":""},{"$f":"IFERROR(SUBSTITUTE(SUBSTITUTE(SUBSTITUTE(Gerar_Upload!B2815,\".\",\"\"),\"-\",\"\"),\"/\",\"\"),\"erro\")","v":""},{"$f":"IFERROR(Gerar_Upload!C2815,\"erro\")","v":0},{"$f":"IFERROR(Gerar_Upload!D2815,\"erro\")","v":0},{"$f":"IFERROR(DATE(YEAR(Gerar_Upload!E2815),MONTH(Gerar_Upload!E2815),DAY(Gerar_Upload!E2815)),\"erro\")","v":"00:00:00"},{"$f":"IFERROR(Gerar_Upload!F2815,\"erro\")","v":0},{"$f":"IFERROR(IF(Gerar_Upload!G2815<44,REPT(0,44-LEN(Gerar_Upload!G2815))&Gerar_Upload!G2815,Gerar_Upload!G2815),\"erro\")","v":"00000000000000000000000000000000000000000000"}]
[{"$f":"IFERROR(LEFT(Gerar_Upload!A2816,120),\"erro\")","v":""},{"$f":"IFERROR(SUBSTITUTE(SUBSTITUTE(SUBSTITUTE(Gerar_Upload!B2816,\".\",\"\"),\"-\",\"\"),\"/\",\"\"),\"erro\")","v":""},{"$f":"IFERROR(Gerar_Upload!C2816,\"erro\")","v":0},{"$f":"IFERROR(Gerar_Upload!D2816,\"erro\")","v":0},{"$f":"IFERROR(DATE(YEAR(Gerar_Upload!E2816),MONTH(Gerar_Upload!E2816),DAY(Gerar_Upload!E2816)),\"erro\")","v":"00:00:00"},{"$f":"IFERROR(Gerar_Upload!F2816,\"erro\")","v":0},{"$f":"IFERROR(IF(Gerar_Upload!G2816<44,REPT(0,44-LEN(Gerar_Upload!G2816))&Gerar_Upload!G2816,Gerar_Upload!G2816),\"erro\")","v":"00000000000000000000000000000000000000000000"}]
[{"$f":"IFERROR(LEFT(Gerar_Upload!A2817,120),\"erro\")","v":""},{"$f":"IFERROR(SUBSTITUTE(SUBSTITUTE(SUBSTITUTE(Gerar_Upload!B2817,\".\",\"\"),\"-\",\"\"),\"/\",\"\"),\"erro\")","v":""},{"$f":"IFERROR(Gerar_Upload!C2817,\"erro\")","v":0},{"$f":"IFERROR(Gerar_Upload!D2817,\"erro\")","v":0},{"$f":"IFERROR(DATE(YEAR(Gerar_Upload!E2817),MONTH(Gerar_Upload!E2817),DAY(Gerar_Upload!E2817)),\"erro\")","v":"00:00:00"},{"$f":"IFERROR(Gerar_Upload!F2817,\"erro\")","v":0},{"$f":"IFERROR(IF(Gerar_Upload!G2817<44,REPT(0,44-LEN(Gerar_Upload!G2817))&Gerar_Upload!G2817,Gerar_Upload!G2817),\"erro\")","v":"00000000000000000000000000000000000000000000"}]
[{"$f":"IFERROR(LEFT(Gerar_Upload!A2818,120),\"erro\")","v":""},{"$f":"IFERROR(SUBSTITUTE(SUBSTITUTE(SUBSTITUTE(Gerar_Upload!B2818,\".\",\"\"),\"-\",\"\"),\"/\",\"\"),\"erro\")","v":""},{"$f":"IFERROR(Gerar_Upload!C2818,\"erro\")","v":0},{"$f":"IFERROR(Gerar_Upload!D2818,\"erro\")","v":0},{"$f":"IFERROR(DATE(YEAR(Gerar_Upload!E2818),MONTH(Gerar_Upload!E2818),DAY(Gerar_Upload!E2818)),\"erro\")","v":"00:00:00"},{"$f":"IFERROR(Gerar_Upload!F2818,\"erro\")","v":0},{"$f":"IFERROR(IF(Gerar_Upload!G2818<44,REPT(0,44-LEN(Gerar_Upload!G2818))&Gerar_Upload!G2818,Gerar_Upload!G2818),\"erro\")","v":"00000000000000000000000000000000000000000000"}]
[{"$f":"IFERROR(LEFT(Gerar_Upload!A2819,120),\"erro\")","v":""},{"$f":"IFERROR(SUBSTITUTE(SUBSTITUTE(SUBSTITUTE(Gerar_Upload!B2819,\".\",\"\"),\"-\",\"\"),\"/\",\"\"),\"erro\")","v":""},{"$f":"IFERROR(Gerar_Upload!C2819,\"erro\")","v":0},{"$f":"IFERROR(Gerar_Upload!D2819,\"erro\")","v":0},{"$f":"IFERROR(DATE(YEAR(Gerar_Upload!E2819),MONTH(Gerar_Upload!E2819),DAY(Gerar_Upload!E2819)),\"erro\")","v":"00:00:00"},{"$f":"IFERROR(Gerar_Upload!F2819,\"erro\")","v":0},{"$f":"IFERROR(IF(Gerar_Upload!G2819<44,REPT(0,44-LEN(Gerar_Upload!G2819))&Gerar_Upload!G2819,Gerar_Upload!G2819),\"erro\")","v":"00000000000000000000000000000000000000000000"}]
[{"$f":"IFERROR(LEFT(Gerar_Upload!A2820,120),\"erro\")","v":""},{"$f":"IFERROR(SUBSTITUTE(SUBSTITUTE(SUBSTITUTE(Gerar_Upload!B2820,\".\",\"\"),\"-\",\"\"),\"/\",\"\"),\"erro\")","v":""},{"$f":"IFERROR(Gerar_Upload!C2820,\"erro\")","v":0},{"$f":"IFERROR(Gerar_Upload!D2820,\"erro\")","v":0},{"$f":"IFERROR(DATE(YEAR(Gerar_Upload!E2820),MONTH(Gerar_Upload!E2820),DAY(Gerar_Upload!E2820)),\"erro\")","v":"00:00:00"},{"$f":"IFERROR(Gerar_Upload!F2820,\"erro\")","v":0},{"$f":"IFERROR(IF(Gerar_Upload!G2820<44,REPT(0,44-LEN(Gerar_Upload!G2820))&Gerar_Upload!G2820,Gerar_Upload!G2820),\"erro\")","v":"00000000000000000000000000000000000000000000"}]
[{"$f":"IFERROR(LEFT(Gerar_Upload!A2821,120),\"erro\")","v":""},{"$f":"IFERROR(SUBSTITUTE(SUBSTITUTE(SUBSTITUTE(Gerar_Upload!B2821,\".\",\"\"),\"-\",\"\"),\"/\",\"\"),\"erro\")","v":""},{"$f":"IFERROR(Gerar_Upload!C2821,\"erro\")","v":0},{"$f":"IFERROR(Gerar_Upload!D2821,\"erro\")","v":0},{"$f":"IFERROR(DATE(YEAR(Gerar_Upload!E2821),MONTH(Gerar_Upload!E2821),DAY(Gerar_Upload!E2821)),\"erro\")","v":"00:00:00"},{"$f":"IFERROR(Gerar_Upload!F2821,\"erro\")","v":0},{"$f":"IFERROR(IF(Gerar_Upload!G2821<44,REPT(0,44-LEN(Gerar_Upload!G2821))&Gerar_Upload!G2821,Gerar_Upload!G2821),\"erro\")","v":"00000000000000000000000000000000000000000000"}]
[{"$f":"IFERROR(LEFT(Gerar_Upload!A2822,120),\"erro\")","v":""},{"$f":"IFERROR(SUBSTITUTE(SUBSTITUTE(SUBSTITUTE(Gerar_Upload!B2822,\".\",\"\"),\"-\",\"\"),\"/\",\"\"),\"erro\")","v":""},{"$f":"IFERROR(Gerar_Upload!C2822,\"erro\")","v":0},{"$f":"IFERROR(Gerar_Upload!D2822,\"erro\")","v":0},{"$f":"IFERROR(DATE(YEAR(Gerar_Upload!E2822),MONTH(Gerar_Upload!E2822),DAY(Gerar_Upload!E2822)),\"erro\")","v":"00:00:00"},{"$f":"IFERROR(Gerar_Upload!F2822,\"erro\")","v":0},{"$f":"IFERROR(IF(Gerar_Upload!G2822<44,REPT(0,44-LEN(Gerar_Upload!G2822))&Gerar_Upload!G2822,Gerar_Upload!G2822),\"erro\")","v":"00000000000000000000000000000000000000000000"}]
[{"$f":"IFERROR(LEFT(Gerar_Upload!A2823,120),\"erro\")","v":""},{"$f":"IFERROR(SUBSTITUTE(SUBSTITUTE(SUBSTITUTE(Gerar_Upload!B2823,\".\",\"\"),\"-\",\"\"),\"/\",\"\"),\"erro\")","v":""},{"$f":"IFERROR(Gerar_Upload!C2823,\"erro\")","v":0},{"$f":"IFERROR(Gerar_Upload!D2823,\"erro\")","v":0},{"$f":"IFERROR(DATE(YEAR(Gerar_Upload!E2823),MONTH(Gerar_Upload!E2823),DAY(Gerar_Upload!E2823)),\"erro\")","v":"00:00:00"},{"$f":"IFERROR(Gerar_Upload!F2823,\"erro\")","v":0},{"$f":"IFERROR(IF(Gerar_Upload!G2823<44,REPT(0,44-LEN(Gerar_Upload!G2823))&Gerar_Upload!G2823,Gerar_Upload!G2823),\"erro\")","v":"00000000000000000000000000000000000000000000"}]
[{"$f":"IFERROR(LEFT(Gerar_Upload!A2824,120),\"erro\")","v":""},{"$f":"IFERROR(SUBSTITUTE(SUBSTITUTE(SUBSTITUTE(Gerar_Upload!B2824,\".\",\"\"),\"-\",\"\"),\"/\",\"\"),\"erro\")","v":""},{"$f":"IFERROR(Gerar_Upload!C2824,\"erro\")","v":0},{"$f":"IFERROR(Gerar_Upload!D2824,\"erro\")","v":0},{"$f":"IFERROR(DATE(YEAR(Gerar_Upload!E2824),MONTH(Gerar_Upload!E2824),DAY(Gerar_Upload!E2824)),\"erro\")","v":"00:00:00"},{"$f":"IFERROR(Gerar_Upload!F2824,\"erro\")","v":0},{"$f":"IFERROR(IF(Gerar_Upload!G2824<44,REPT(0,44-LEN(Gerar_Upload!G2824))&Gerar_Upload!G2824,Gerar_Upload!G2824),\"erro\")","v":"00000000000000000000000000000000000000000000"}]
[{"$f":"IFERROR(LEFT(Gerar_Upload!A2825,120),\"erro\")","v":""},{"$f":"IFERROR(SUBSTITUTE(SUBSTITUTE(SUBSTITUTE(Gerar_Upload!B2825,\".\",\"\"),\"-\",\"\"),\"/\",\"\"),\"erro\")","v":""},{"$f":"IFERROR(Gerar_Upload!C2825,\"erro\")","v":0},{"$f":"IFERROR(Gerar_Upload!D2825,\"erro\")","v":0},{"$f":"IFERROR(DATE(YEAR(Gerar_Upload!E2825),MONTH(Gerar_Upload!E2825),DAY(Gerar_Upload!E2825)),\"erro\")","v":"00:00:00"},{"$f":"IFERROR(Gerar_Upload!F2825,\"erro\")","v":0},{"$f":"IFERROR(IF(Gerar_Upload!G2825<44,REPT(0,44-LEN(Gerar_Upload!G2825))&Gerar_Upload!G2825,Gerar_Upload!G2825),\"erro\")","v":"00000000000000000000000000000000000000000000"}]
[{"$f":"IFERROR(LEFT(Gerar_Upload!A2826,120),\"erro\")","v":""},{"$f":"IFERROR(SUBSTITUTE(SUBSTITUTE(SUBSTITUTE(Gerar_Upload!B2826,\".\",\"\"),\"-\",\"\"),\"/\",\"\"),\"erro\")","v":""},{"$f":"IFERROR(Gerar_Upload!C2826,\"erro\")","v":0},{"$f":"IFERROR(Gerar_Upload!D2826,\"erro\")","v":0},{"$f":"IFERROR(DATE(YEAR(Gerar_Upload!E2826),MONTH(Gerar_Upload!E2826),DAY(Gerar_Upload!E2826)),\"erro\")","v":"00:00:00"},{"$f":"IFERROR(Gerar_Upload!F2826,\"erro\")","v":0},{"$f":"IFERROR(IF(Gerar_Upload!G2826<44,REPT(0,44-LEN(Gerar_Upload!G2826))&Gerar_Upload!G2826,Gerar_Upload!G2826),\"erro\")","v":"00000000000000000000000000000000000000000000"}]
[{"$f":"IFERROR(LEFT(Gerar_Upload!A2827,120),\"erro\")","v":""},{"$f":"IFERROR(SUBSTITUTE(SUBSTITUTE(SUBSTITUTE(Gerar_Upload!B2827,\".\",\"\"),\"-\",\"\"),\"/\",\"\"),\"erro\")","v":""},{"$f":"IFERROR(Gerar_Upload!C2827,\"erro\")","v":0},{"$f":"IFERROR(Gerar_Upload!D2827,\"erro\")","v":0},{"$f":"IFERROR(DATE(YEAR(Gerar_Upload!E2827),MONTH(Gerar_Upload!E2827),DAY(Gerar_Upload!E2827)),\"erro\")","v":"00:00:00"},{"$f":"IFERROR(Gerar_Upload!F2827,\"erro\")","v":0},{"$f":"IFERROR(IF(Gerar_Upload!G2827<44,REPT(0,44-LEN(Gerar_Upload!G2827))&Gerar_Upload!G2827,Gerar_Upload!G2827),\"erro\")","v":"00000000000000000000000000000000000000000000"}]
[{"$f":"IFERROR(LEFT(Gerar_Upload!A2828,120),\"erro\")","v":""},{"$f":"IFERROR(SUBSTITUTE(SUBSTITUTE(SUBSTITUTE(Gerar_Upload!B2828,\".\",\"\"),\"-\",\"\"),\"/\",\"\"),\"erro\")","v":""},{"$f":"IFERROR(Gerar_Upload!C2828,\"erro\")","v":0},{"$f":"IFERROR(Gerar_Upload!D2828,\"erro\")","v":0},{"$f":"IFERROR(DATE(YEAR(Gerar_Upload!E2828),MONTH(Gerar_Upload!E2828),DAY(Gerar_Upload!E2828)),\"erro\")","v":"00:00:00"},{"$f":"IFERROR(Gerar_Upload!F2828,\"erro\")","v":0},{"$f":"IFERROR(IF(Gerar_Upload!G2828<44,REPT(0,44-LEN(Gerar_Upload!G2828))&Gerar_Upload!G2828,Gerar_Upload!G2828),\"erro\")","v":"00000000000000000000000000000000000000000000"}]
[{"$f":"IFERROR(LEFT(Gerar_Upload!A2829,120),\"erro\")","v":""},{"$f":"IFERROR(SUBSTITUTE(SUBSTITUTE(SUBSTITUTE(Gerar_Upload!B2829,\".\",\"\"),\"-\",\"\"),\"/\",\"\"),\"erro\")","v":""},{"$f":"IFERROR(Gerar_Upload!C2829,\"erro\")","v":0},{"$f":"IFERROR(Gerar_Upload!D2829,\"erro\")","v":0},{"$f":"IFERROR(DATE(YEAR(Gerar_Upload!E2829),MONTH(Gerar_Upload!E2829),DAY(Gerar_Upload!E2829)),\"erro\")","v":"00:00:00"},{"$f":"IFERROR(Gerar_Upload!F2829,\"erro\")","v":0},{"$f":"IFERROR(IF(Gerar_Upload!G2829<44,REPT(0,44-LEN(Gerar_Upload!G2829))&Gerar_Upload!G2829,Gerar_Upload!G2829),\"erro\")","v":"00000000000000000000000000000000000000000000"}]
[{"$f":"IFERROR(LEFT(Gerar_Upload!A2830,120),\"erro\")","v":""},{"$f":"IFERROR(SUBSTITUTE(SUBSTITUTE(SUBSTITUTE(Gerar_Upload!B2830,\".\",\"\"),\"-\",\"\"),\"/\",\"\"),\"erro\")","v":""},{"$f":"IFERROR(Gerar_Upload!C2830,\"erro\")","v":0},{"$f":"IFERROR(Gerar_Upload!D2830,\"erro\")","v":0},{"$f":"IFERROR(DATE(YEAR(Gerar_Upload!E2830),MONTH(Gerar_Upload!E2830),DAY(Gerar_Upload!E2830)),\"erro\")","v":"00:00:00"},{"$f":"IFERROR(Gerar_Upload!F2830,\"erro\")","v":0},{"$f":"IFERROR(IF(Gerar_Upload!G2830<44,REPT(0,44-LEN(Gerar_Upload!G2830))&Gerar_Upload!G2830,Gerar_Upload!G2830),\"erro\")","v":"00000000000000000000000000000000000000000000"}]
[{"$f":"IFERROR(LEFT(Gerar_Upload!A2831,120),\"erro\")","v":""},{"$f":"IFERROR(SUBSTITUTE(SUBSTITUTE(SUBSTITUTE(Gerar_Upload!B2831,\".\",\"\"),\"-\",\"\"),\"/\",\"\"),\"erro\")","v":""},{"$f":"IFERROR(Gerar_Upload!C2831,\"erro\")","v":0},{"$f":"IFERROR(Gerar_Upload!D2831,\"erro\")","v":0},{"$f":"IFERROR(DATE(YEAR(Gerar_Upload!E2831),MONTH(Gerar_Upload!E2831),DAY(Gerar_Upload!E2831)),\"erro\")","v":"00:00:00"},{"$f":"IFERROR(Gerar_Upload!F2831,\"erro\")","v":0},{"$f":"IFERROR(IF(Gerar_Upload!G2831<44,REPT(0,44-LEN(Gerar_Upload!G2831))&Gerar_Upload!G2831,Gerar_Upload!G2831),\"erro\")","v":"00000000000000000000000000000000000000000000"}]
[{"$f":"IFERROR(LEFT(Gerar_Upload!A2832,120),\"erro\")","v":""},{"$f":"IFERROR(SUBSTITUTE(SUBSTITUTE(SUBSTITUTE(Gerar_Upload!B2832,\".\",\"\"),\"-\",\"\"),\"/\",\"\"),\"erro\")","v":""},{"$f":"IFERROR(Gerar_Upload!C2832,\"erro\")","v":0},{"$f":"IFERROR(Gerar_Upload!D2832,\"erro\")","v":0},{"$f":"IFERROR(DATE(YEAR(Gerar_Upload!E2832),MONTH(Gerar_Upload!E2832),DAY(Gerar_Upload!E2832)),\"erro\")","v":"00:00:00"},{"$f":"IFERROR(Gerar_Upload!F2832,\"erro\")","v":0},{"$f":"IFERROR(IF(Gerar_Upload!G2832<44,REPT(0,44-LEN(Gerar_Upload!G2832))&Gerar_Upload!G2832,Gerar_Upload!G2832),\"erro\")","v":"00000000000000000000000000000000000000000000"}]
[{"$f":"IFERROR(LEFT(Gerar_Upload!A2833,120),\"erro\")","v":""},{"$f":"IFERROR(SUBSTITUTE(SUBSTITUTE(SUBSTITUTE(Gerar_Upload!B2833,\".\",\"\"),\"-\",\"\"),\"/\",\"\"),\"erro\")","v":""},{"$f":"IFERROR(Gerar_Upload!C2833,\"erro\")","v":0},{"$f":"IFERROR(Gerar_Upload!D2833,\"erro\")","v":0},{"$f":"IFERROR(DATE(YEAR(Gerar_Upload!E2833),MONTH(Gerar_Upload!E2833),DAY(Gerar_Upload!E2833)),\"erro\")","v":"00:00:00"},{"$f":"IFERROR(Gerar_Upload!F2833,\"erro\")","v":0},{"$f":"IFERROR(IF(Gerar_Upload!G2833<44,REPT(0,44-LEN(Gerar_Upload!G2833))&Gerar_Upload!G2833,Gerar_Upload!G2833),\"erro\")","v":"00000000000000000000000000000000000000000000"}]
[{"$f":"IFERROR(LEFT(Gerar_Upload!A2834,120),\"erro\")","v":""},{"$f":"IFERROR(SUBSTITUTE(SUBSTITUTE(SUBSTITUTE(Gerar_Upload!B2834,\".\",\"\"),\"-\",\"\"),\"/\",\"\"),\"erro\")","v":""},{"$f":"IFERROR(Gerar_Upload!C2834,\"erro\")","v":0},{"$f":"IFERROR(Gerar_Upload!D2834,\"erro\")","v":0},{"$f":"IFERROR(DATE(YEAR(Gerar_Upload!E2834),MONTH(Gerar_Upload!E2834),DAY(Gerar_Upload!E2834)),\"erro\")","v":"00:00:00"},{"$f":"IFERROR(Gerar_Upload!F2834,\"erro\")","v":0},{"$f":"IFERROR(IF(Gerar_Upload!G2834<44,REPT(0,44-LEN(Gerar_Upload!G2834))&Gerar_Upload!G2834,Gerar_Upload!G2834),\"erro\")","v":"00000000000000000000000000000000000000000000"}]
[{"$f":"IFERROR(LEFT(Gerar_Upload!A2835,120),\"erro\")","v":""},{"$f":"IFERROR(SUBSTITUTE(SUBSTITUTE(SUBSTITUTE(Gerar_Upload!B2835,\".\",\"\"),\"-\",\"\"),\"/\",\"\"),\"erro\")","v":""},{"$f":"IFERROR(Gerar_Upload!C2835,\"erro\")","v":0},{"$f":"IFERROR(Gerar_Upload!D2835,\"erro\")","v":0},{"$f":"IFERROR(DATE(YEAR(Gerar_Upload!E2835),MONTH(Gerar_Upload!E2835),DAY(Gerar_Upload!E2835)),\"erro\")","v":"00:00:00"},{"$f":"IFERROR(Gerar_Upload!F2835,\"erro\")","v":0},{"$f":"IFERROR(IF(Gerar_Upload!G2835<44,REPT(0,44-LEN(Gerar_Upload!G2835))&Gerar_Upload!G2835,Gerar_Upload!G2835),\"erro\")","v":"00000000000000000000000000000000000000000000"}]
[{"$f":"IFERROR(LEFT(Gerar_Upload!A2836,120),\"erro\")","v":""},{"$f":"IFERROR(SUBSTITUTE(SUBSTITUTE(SUBSTITUTE(Gerar_Upload!B2836,\".\",\"\"),\"-\",\"\"),\"/\",\"\"),\"erro\")","v":""},{"$f":"IFERROR(Gerar_Upload!C2836,\"erro\")","v":0},{"$f":"IFERROR(Gerar_Upload!D2836,\"erro\")","v":0},{"$f":"IFERROR(DATE(YEAR(Gerar_Upload!E2836),MONTH(Gerar_Upload!E2836),DAY(Gerar_Upload!E2836)),\"erro\")","v":"00:00:00"},{"$f":"IFERROR(Gerar_Upload!F2836,\"erro\")","v":0},{"$f":"IFERROR(IF(Gerar_Upload!G2836<44,REPT(0,44-LEN(Gerar_Upload!G2836))&Gerar_Upload!G2836,Gerar_Upload!G2836),\"erro\")","v":"00000000000000000000000000000000000000000000"}]
[{"$f":"IFERROR(LEFT(Gerar_Upload!A2837,120),\"erro\")","v":""},{"$f":"IFERROR(SUBSTITUTE(SUBSTITUTE(SUBSTITUTE(Gerar_Upload!B2837,\".\",\"\"),\"-\",\"\"),\"/\",\"\"),\"erro\")","v":""},{"$f":"IFERROR(Gerar_Upload!C2837,\"erro\")","v":0},{"$f":"IFERROR(Gerar_Upload!D2837,\"erro\")","v":0},{"$f":"IFERROR(DATE(YEAR(Gerar_Upload!E2837),MONTH(Gerar_Upload!E2837),DAY(Gerar_Upload!E2837)),\"erro\")","v":"00:00:00"},{"$f":"IFERROR(Gerar_Upload!F2837,\"erro\")","v":0},{"$f":"IFERROR(IF(Gerar_Upload!G2837<44,REPT(0,44-LEN(Gerar_Upload!G2837))&Gerar_Upload!G2837,Gerar_Upload!G2837),\"erro\")","v":"00000000000000000000000000000000000000000000"}]
[{"$f":"IFERROR(LEFT(Gerar_Upload!A2838,120),\"erro\")","v":""},{"$f":"IFERROR(SUBSTITUTE(SUBSTITUTE(SUBSTITUTE(Gerar_Upload!B2838,\".\",\"\"),\"-\",\"\"),\"/\",\"\"),\"erro\")","v":""},{"$f":"IFERROR(Gerar_Upload!C2838,\"erro\")","v":0},{"$f":"IFERROR(Gerar_Upload!D2838,\"erro\")","v":0},{"$f":"IFERROR(DATE(YEAR(Gerar_Upload!E2838),MONTH(Gerar_Upload!E2838),DAY(Gerar_Upload!E2838)),\"erro\")","v":"00:00:00"},{"$f":"IFERROR(Gerar_Upload!F2838,\"erro\")","v":0},{"$f":"IFERROR(IF(Gerar_Upload!G2838<44,REPT(0,44-LEN(Gerar_Upload!G2838))&Gerar_Upload!G2838,Gerar_Upload!G2838),\"erro\")","v":"00000000000000000000000000000000000000000000"}]
[{"$f":"IFERROR(LEFT(Gerar_Upload!A2839,120),\"erro\")","v":""},{"$f":"IFERROR(SUBSTITUTE(SUBSTITUTE(SUBSTITUTE(Gerar_Upload!B2839,\".\",\"\"),\"-\",\"\"),\"/\",\"\"),\"erro\")","v":""},{"$f":"IFERROR(Gerar_Upload!C2839,\"erro\")","v":0},{"$f":"IFERROR(Gerar_Upload!D2839,\"erro\")","v":0},{"$f":"IFERROR(DATE(YEAR(Gerar_Upload!E2839),MONTH(Gerar_Upload!E2839),DAY(Gerar_Upload!E2839)),\"erro\")","v":"00:00:00"},{"$f":"IFERROR(Gerar_Upload!F2839,\"erro\")","v":0},{"$f":"IFERROR(IF(Gerar_Upload!G2839<44,REPT(0,44-LEN(Gerar_Upload!G2839))&Gerar_Upload!G2839,Gerar_Upload!G2839),\"erro\")","v":"00000000000000000000000000000000000000000000"}]
[{"$f":"IFERROR(LEFT(Gerar_Upload!A2840,120),\"erro\")","v":""},{"$f":"IFERROR(SUBSTITUTE(SUBSTITUTE(SUBSTITUTE(Gerar_Upload!B2840,\".\",\"\"),\"-\",\"\"),\"/\",\"\"),\"erro\")","v":""},{"$f":"IFERROR(Gerar_Upload!C2840,\"erro\")","v":0},{"$f":"IFERROR(Gerar_Upload!D2840,\"erro\")","v":0},{"$f":"IFERROR(DATE(YEAR(Gerar_Upload!E2840),MONTH(Gerar_Upload!E2840),DAY(Gerar_Upload!E2840)),\"erro\")","v":"00:00:00"},{"$f":"IFERROR(Gerar_Upload!F2840,\"erro\")","v":0},{"$f":"IFERROR(IF(Gerar_Upload!G2840<44,REPT(0,44-LEN(Gerar_Upload!G2840))&Gerar_Upload!G2840,Gerar_Upload!G2840),\"erro\")","v":"00000000000000000000000000000000000000000000"}]
[{"$f":"IFERROR(LEFT(Gerar_Upload!A2841,120),\"erro\")","v":""},{"$f":"IFERROR(SUBSTITUTE(SUBSTITUTE(SUBSTITUTE(Gerar_Upload!B2841,\".\",\"\"),\"-\",\"\"),\"/\",\"\"),\"erro\")","v":""},{"$f":"IFERROR(Gerar_Upload!C2841,\"erro\")","v":0},{"$f":"IFERROR(Gerar_Upload!D2841,\"erro\")","v":0},{"$f":"IFERROR(DATE(YEAR(Gerar_Upload!E2841),MONTH(Gerar_Upload!E2841),DAY(Gerar_Upload!E2841)),\"erro\")","v":"00:00:00"},{"$f":"IFERROR(Gerar_Upload!F2841,\"erro\")","v":0},{"$f":"IFERROR(IF(Gerar_Upload!G2841<44,REPT(0,44-LEN(Gerar_Upload!G2841))&Gerar_Upload!G2841,Gerar_Upload!G2841),\"erro\")","v":"00000000000000000000000000000000000000000000"}]
[{"$f":"IFERROR(LEFT(Gerar_Upload!A2842,120),\"erro\")","v":""},{"$f":"IFERROR(SUBSTITUTE(SUBSTITUTE(SUBSTITUTE(Gerar_Upload!B2842,\".\",\"\"),\"-\",\"\"),\"/\",\"\"),\"erro\")","v":""},{"$f":"IFERROR(Gerar_Upload!C2842,\"erro\")","v":0},{"$f":"IFERROR(Gerar_Upload!D2842,\"erro\")","v":0},{"$f":"IFERROR(DATE(YEAR(Gerar_Upload!E2842),MONTH(Gerar_Upload!E2842),DAY(Gerar_Upload!E2842)),\"erro\")","v":"00:00:00"},{"$f":"IFERROR(Gerar_Upload!F2842,\"erro\")","v":0},{"$f":"IFERROR(IF(Gerar_Upload!G2842<44,REPT(0,44-LEN(Gerar_Upload!G2842))&Gerar_Upload!G2842,Gerar_Upload!G2842),\"erro\")","v":"00000000000000000000000000000000000000000000"}]
[{"$f":"IFERROR(LEFT(Gerar_Upload!A2843,120),\"erro\")","v":""},{"$f":"IFERROR(SUBSTITUTE(SUBSTITUTE(SUBSTITUTE(Gerar_Upload!B2843,\".\",\"\"),\"-\",\"\"),\"/\",\"\"),\"erro\")","v":""},{"$f":"IFERROR(Gerar_Upload!C2843,\"erro\")","v":0},{"$f":"IFERROR(Gerar_Upload!D2843,\"erro\")","v":0},{"$f":"IFERROR(DATE(YEAR(Gerar_Upload!E2843),MONTH(Gerar_Upload!E2843),DAY(Gerar_Upload!E2843)),\"erro\")","v":"00:00:00"},{"$f":"IFERROR(Gerar_Upload!F2843,\"erro\")","v":0},{"$f":"IFERROR(IF(Gerar_Upload!G2843<44,REPT(0,44-LEN(Gerar_Upload!G2843))&Gerar_Upload!G2843,Gerar_Upload!G2843),\"erro\")","v":"00000000000000000000000000000000000000000000"}]
[{"$f":"IFERROR(LEFT(Gerar_Upload!A2844,120),\"erro\")","v":""},{"$f":"IFERROR(SUBSTITUTE(SUBSTITUTE(SUBSTITUTE(Gerar_Upload!B2844,\".\",\"\"),\"-\",\"\"),\"/\",\"\"),\"erro\")","v":""},{"$f":"IFERROR(Gerar_Upload!C2844,\"erro\")","v":0},{"$f":"IFERROR(Gerar_Upload!D2844,\"erro\")","v":0},{"$f":"IFERROR(DATE(YEAR(Gerar_Upload!E2844),MONTH(Gerar_Upload!E2844),DAY(Gerar_Upload!E2844)),\"erro\")","v":"00:00:00"},{"$f":"IFERROR(Gerar_Upload!F2844,\"erro\")","v":0},{"$f":"IFERROR(IF(Gerar_Upload!G2844<44,REPT(0,44-LEN(Gerar_Upload!G2844))&Gerar_Upload!G2844,Gerar_Upload!G2844),\"erro\")","v":"00000000000000000000000000000000000000000000"}]
[{"$f":"IFERROR(LEFT(Gerar_Upload!A2845,120),\"erro\")","v":""},{"$f":"IFERROR(SUBSTITUTE(SUBSTITUTE(SUBSTITUTE(Gerar_Upload!B2845,\".\",\"\"),\"-\",\"\"),\"/\",\"\"),\"erro\")","v":""},{"$f":"IFERROR(Gerar_Upload!C2845,\"erro\")","v":0},{"$f":"IFERROR(Gerar_Upload!D2845,\"erro\")","v":0},{"$f":"IFERROR(DATE(YEAR(Gerar_Upload!E2845),MONTH(Gerar_Upload!E2845),DAY(Gerar_Upload!E2845)),\"erro\")","v":"00:00:00"},{"$f":"IFERROR(Gerar_Upload!F2845,\"erro\")","v":0},{"$f":"IFERROR(IF(Gerar_Upload!G2845<44,REPT(0,44-LEN(Gerar_Upload!G2845))&Gerar_Upload!G2845,Gerar_Upload!G2845),\"erro\")","v":"00000000000000000000000000000000000000000000"}]
[{"$f":"IFERROR(LEFT(Gerar_Upload!A2846,120),\"erro\")","v":""},{"$f":"IFERROR(SUBSTITUTE(SUBSTITUTE(SUBSTITUTE(Gerar_Upload!B2846,\".\",\"\"),\"-\",\"\"),\"/\",\"\"),\"erro\")","v":""},{"$f":"IFERROR(Gerar_Upload!C2846,\"erro\")","v":0},{"$f":"IFERROR(Gerar_Upload!D2846,\"erro\")","v":0},{"$f":"IFERROR(DATE(YEAR(Gerar_Upload!E2846),MONTH(Gerar_Upload!E2846),DAY(Gerar_Upload!E2846)),\"erro\")","v":"00:00:00"},{"$f":"IFERROR(Gerar_Upload!F2846,\"erro\")","v":0},{"$f":"IFERROR(IF(Gerar_Upload!G2846<44,REPT(0,44-LEN(Gerar_Upload!G2846))&Gerar_Upload!G2846,Gerar_Upload!G2846),\"erro\")","v":"00000000000000000000000000000000000000000000"}]
[{"$f":"IFERROR(LEFT(Gerar_Upload!A2847,120),\"erro\")","v":""},{"$f":"IFERROR(SUBSTITUTE(SUBSTITUTE(SUBSTITUTE(Gerar_Upload!B2847,\".\",\"\"),\"-\",\"\"),\"/\",\"\"),\"erro\")","v":""},{"$f":"IFERROR(Gerar_Upload!C2847,\"erro\")","v":0},{"$f":"IFERROR(Gerar_Upload!D2847,\"erro\")","v":0},{"$f":"IFERROR(DATE(YEAR(Gerar_Upload!E2847),MONTH(Gerar_Upload!E2847),DAY(Gerar_Upload!E2847)),\"erro\")","v":"00:00:00"},{"$f":"IFERROR(Gerar_Upload!F2847,\"erro\")","v":0},{"$f":"IFERROR(IF(Gerar_Upload!G2847<44,REPT(0,44-LEN(Gerar_Upload!G2847))&Gerar_Upload!G2847,Gerar_Upload!G2847),\"erro\")","v":"00000000000000000000000000000000000000000000"}]
[{"$f":"IFERROR(LEFT(Gerar_Upload!A2848,120),\"erro\")","v":""},{"$f":"IFERROR(SUBSTITUTE(SUBSTITUTE(SUBSTITUTE(Gerar_Upload!B2848,\".\",\"\"),\"-\",\"\"),\"/\",\"\"),\"erro\")","v":""},{"$f":"IFERROR(Gerar_Upload!C2848,\"erro\")","v":0},{"$f":"IFERROR(Gerar_Upload!D2848,\"erro\")","v":0},{"$f":"IFERROR(DATE(YEAR(Gerar_Upload!E2848),MONTH(Gerar_Upload!E2848),DAY(Gerar_Upload!E2848)),\"erro\")","v":"00:00:00"},{"$f":"IFERROR(Gerar_Upload!F2848,\"erro\")","v":0},{"$f":"IFERROR(IF(Gerar_Upload!G2848<44,REPT(0,44-LEN(Gerar_Upload!G2848))&Gerar_Upload!G2848,Gerar_Upload!G2848),\"erro\")","v":"00000000000000000000000000000000000000000000"}]
[{"$f":"IFERROR(LEFT(Gerar_Upload!A2849,120),\"erro\")","v":""},{"$f":"IFERROR(SUBSTITUTE(SUBSTITUTE(SUBSTITUTE(Gerar_Upload!B2849,\".\",\"\"),\"-\",\"\"),\"/\",\"\"),\"erro\")","v":""},{"$f":"IFERROR(Gerar_Upload!C2849,\"erro\")","v":0},{"$f":"IFERROR(Gerar_Upload!D2849,\"erro\")","v":0},{"$f":"IFERROR(DATE(YEAR(Gerar_Upload!E2849),MONTH(Gerar_Upload!E2849),DAY(Gerar_Upload!E2849)),\"erro\")","v":"00:00:00"},{"$f":"IFERROR(Gerar_Upload!F2849,\"erro\")","v":0},{"$f":"IFERROR(IF(Gerar_Upload!G2849<44,REPT(0,44-LEN(Gerar_Upload!G2849))&Gerar_Upload!G2849,Gerar_Upload!G2849),\"erro\")","v":"00000000000000000000000000000000000000000000"}]
[{"$f":"IFERROR(LEFT(Gerar_Upload!A2850,120),\"erro\")","v":""},{"$f":"IFERROR(SUBSTITUTE(SUBSTITUTE(SUBSTITUTE(Gerar_Upload!B2850,\".\",\"\"),\"-\",\"\"),\"/\",\"\"),\"erro\")","v":""},{"$f":"IFERROR(Gerar_Upload!C2850,\"erro\")","v":0},{"$f":"IFERROR(Gerar_Upload!D2850,\"erro\")","v":0},{"$f":"IFERROR(DATE(YEAR(Gerar_Upload!E2850),MONTH(Gerar_Upload!E2850),DAY(Gerar_Upload!E2850)),\"erro\")","v":"00:00:00"},{"$f":"IFERROR(Gerar_Upload!F2850,\"erro\")","v":0},{"$f":"IFERROR(IF(Gerar_Upload!G2850<44,REPT(0,44-LEN(Gerar_Upload!G2850))&Gerar_Upload!G2850,Gerar_Upload!G2850),\"erro\")","v":"00000000000000000000000000000000000000000000"}]
[{"$f":"IFERROR(LEFT(Gerar_Upload!A2851,120),\"erro\")","v":""},{"$f":"IFERROR(SUBSTITUTE(SUBSTITUTE(SUBSTITUTE(Gerar_Upload!B2851,\".\",\"\"),\"-\",\"\"),\"/\",\"\"),\"erro\")","v":""},{"$f":"IFERROR(Gerar_Upload!C2851,\"erro\")","v":0},{"$f":"IFERROR(Gerar_Upload!D2851,\"erro\")","v":0},{"$f":"IFERROR(DATE(YEAR(Gerar_Upload!E2851),MONTH(Gerar_Upload!E2851),DAY(Gerar_Upload!E2851)),\"erro\")","v":"00:00:00"},{"$f":"IFERROR(Gerar_Upload!F2851,\"erro\")","v":0},{"$f":"IFERROR(IF(Gerar_Upload!G2851<44,REPT(0,44-LEN(Gerar_Upload!G2851))&Gerar_Upload!G2851,Gerar_Upload!G2851),\"erro\")","v":"00000000000000000000000000000000000000000000"}]
[{"$f":"IFERROR(LEFT(Gerar_Upload!A2852,120),\"erro\")","v":""},{"$f":"IFERROR(SUBSTITUTE(SUBSTITUTE(SUBSTITUTE(Gerar_Upload!B2852,\".\",\"\"),\"-\",\"\"),\"/\",\"\"),\"erro\")","v":""},{"$f":"IFERROR(Gerar_Upload!C2852,\"erro\")","v":0},{"$f":"IFERROR(Gerar_Upload!D2852,\"erro\")","v":0},{"$f":"IFERROR(DATE(YEAR(Gerar_Upload!E2852),MONTH(Gerar_Upload!E2852),DAY(Gerar_Upload!E2852)),\"erro\")","v":"00:00:00"},{"$f":"IFERROR(Gerar_Upload!F2852,\"erro\")","v":0},{"$f":"IFERROR(IF(Gerar_Upload!G2852<44,REPT(0,44-LEN(Gerar_Upload!G2852))&Gerar_Upload!G2852,Gerar_Upload!G2852),\"erro\")","v":"00000000000000000000000000000000000000000000"}]
[{"$f":"IFERROR(LEFT(Gerar_Upload!A2853,120),\"erro\")","v":""},{"$f":"IFERROR(SUBSTITUTE(SUBSTITUTE(SUBSTITUTE(Gerar_Upload!B2853,\".\",\"\"),\"-\",\"\"),\"/\",\"\"),\"erro\")","v":""},{"$f":"IFERROR(Gerar_Upload!C2853,\"erro\")","v":0},{"$f":"IFERROR(Gerar_Upload!D2853,\"erro\")","v":0},{"$f":"IFERROR(DATE(YEAR(Gerar_Upload!E2853),MONTH(Gerar_Upload!E2853),DAY(Gerar_Upload!E2853)),\"erro\")","v":"00:00:00"},{"$f":"IFERROR(Gerar_Upload!F2853,\"erro\")","v":0},{"$f":"IFERROR(IF(Gerar_Upload!G2853<44,REPT(0,44-LEN(Gerar_Upload!G2853))&Gerar_Upload!G2853,Gerar_Upload!G2853),\"erro\")","v":"00000000000000000000000000000000000000000000"}]
[{"$f":"IFERROR(LEFT(Gerar_Upload!A2854,120),\"erro\")","v":""},{"$f":"IFERROR(SUBSTITUTE(SUBSTITUTE(SUBSTITUTE(Gerar_Upload!B2854,\".\",\"\"),\"-\",\"\"),\"/\",\"\"),\"erro\")","v":""},{"$f":"IFERROR(Gerar_Upload!C2854,\"erro\")","v":0},{"$f":"IFERROR(Gerar_Upload!D2854,\"erro\")","v":0},{"$f":"IFERROR(DATE(YEAR(Gerar_Upload!E2854),MONTH(Gerar_Upload!E2854),DAY(Gerar_Upload!E2854)),\"erro\")","v":"00:00:00"},{"$f":"IFERROR(Gerar_Upload!F2854,\"erro\")","v":0},{"$f":"IFERROR(IF(Gerar_Upload!G2854<44,REPT(0,44-LEN(Gerar_Upload!G2854))&Gerar_Upload!G2854,Gerar_Upload!G2854),\"erro\")","v":"00000000000000000000000000000000000000000000"}]
[{"$f":"IFERROR(LEFT(Gerar_Upload!A2855,120),\"erro\")","v":""},{"$f":"IFERROR(SUBSTITUTE(SUBSTITUTE(SUBSTITUTE(Gerar_Upload!B2855,\".\",\"\"),\"-\",\"\"),\"/\",\"\"),\"erro\")","v":""},{"$f":"IFERROR(Gerar_Upload!C2855,\"erro\")","v":0},{"$f":"IFERROR(Gerar_Upload!D2855,\"erro\")","v":0},{"$f":"IFERROR(DATE(YEAR(Gerar_Upload!E2855),MONTH(Gerar_Upload!E2855),DAY(Gerar_Upload!E2855)),\"erro\")","v":"00:00:00"},{"$f":"IFERROR(Gerar_Upload!F2855,\"erro\")","v":0},{"$f":"IFERROR(IF(Gerar_Upload!G2855<44,REPT(0,44-LEN(Gerar_Upload!G2855))&Gerar_Upload!G2855,Gerar_Upload!G2855),\"erro\")","v":"00000000000000000000000000000000000000000000"}]
[{"$f":"IFERROR(LEFT(Gerar_Upload!A2856,120),\"erro\")","v":""},{"$f":"IFERROR(SUBSTITUTE(SUBSTITUTE(SUBSTITUTE(Gerar_Upload!B2856,\".\",\"\"),\"-\",\"\"),\"/\",\"\"),\"erro\")","v":""},{"$f":"IFERROR(Gerar_Upload!C2856,\"erro\")","v":0},{"$f":"IFERROR(Gerar_Upload!D2856,\"erro\")","v":0},{"$f":"IFERROR(DATE(YEAR(Gerar_Upload!E2856),MONTH(Gerar_Upload!E2856),DAY(Gerar_Upload!E2856)),\"erro\")","v":"00:00:00"},{"$f":"IFERROR(Gerar_Upload!F2856,\"erro\")","v":0},{"$f":"IFERROR(IF(Gerar_Upload!G2856<44,REPT(0,44-LEN(Gerar_Upload!G2856))&Gerar_Upload!G2856,Gerar_Upload!G2856),\"erro\")","v":"00000000000000000000000000000000000000000000"}]
[{"$f":"IFERROR(LEFT(Gerar_Upload!A2857,120),\"erro\")","v":""},{"$f":"IFERROR(SUBSTITUTE(SUBSTITUTE(SUBSTITUTE(Gerar_Upload!B2857,\".\",\"\"),\"-\",\"\"),\"/\",\"\"),\"erro\")","v":""},{"$f":"IFERROR(Gerar_Upload!C2857,\"erro\")","v":0},{"$f":"IFERROR(Gerar_Upload!D2857,\"erro\")","v":0},{"$f":"IFERROR(DATE(YEAR(Gerar_Upload!E2857),MONTH(Gerar_Upload!E2857),DAY(Gerar_Upload!E2857)),\"erro\")","v":"00:00:00"},{"$f":"IFERROR(Gerar_Upload!F2857,\"erro\")","v":0},{"$f":"IFERROR(IF(Gerar_Upload!G2857<44,REPT(0,44-LEN(Gerar_Upload!G2857))&Gerar_Upload!G2857,Gerar_Upload!G2857),\"erro\")","v":"00000000000000000000000000000000000000000000"}]
[{"$f":"IFERROR(LEFT(Gerar_Upload!A2858,120),\"erro\")","v":""},{"$f":"IFERROR(SUBSTITUTE(SUBSTITUTE(SUBSTITUTE(Gerar_Upload!B2858,\".\",\"\"),\"-\",\"\"),\"/\",\"\"),\"erro\")","v":""},{"$f":"IFERROR(Gerar_Upload!C2858,\"erro\")","v":0},{"$f":"IFERROR(Gerar_Upload!D2858,\"erro\")","v":0},{"$f":"IFERROR(DATE(YEAR(Gerar_Upload!E2858),MONTH(Gerar_Upload!E2858),DAY(Gerar_Upload!E2858)),\"erro\")","v":"00:00:00"},{"$f":"IFERROR(Gerar_Upload!F2858,\"erro\")","v":0},{"$f":"IFERROR(IF(Gerar_Upload!G2858<44,REPT(0,44-LEN(Gerar_Upload!G2858))&Gerar_Upload!G2858,Gerar_Upload!G2858),\"erro\")","v":"00000000000000000000000000000000000000000000"}]
[{"$f":"IFERROR(LEFT(Gerar_Upload!A2859,120),\"erro\")","v":""},{"$f":"IFERROR(SUBSTITUTE(SUBSTITUTE(SUBSTITUTE(Gerar_Upload!B2859,\".\",\"\"),\"-\",\"\"),\"/\",\"\"),\"erro\")","v":""},{"$f":"IFERROR(Gerar_Upload!C2859,\"erro\")","v":0},{"$f":"IFERROR(Gerar_Upload!D2859,\"erro\")","v":0},{"$f":"IFERROR(DATE(YEAR(Gerar_Upload!E2859),MONTH(Gerar_Upload!E2859),DAY(Gerar_Upload!E2859)),\"erro\")","v":"00:00:00"},{"$f":"IFERROR(Gerar_Upload!F2859,\"erro\")","v":0},{"$f":"IFERROR(IF(Gerar_Upload!G2859<44,REPT(0,44-LEN(Gerar_Upload!G2859))&Gerar_Upload!G2859,Gerar_Upload!G2859),\"erro\")","v":"00000000000000000000000000000000000000000000"}]
[{"$f":"IFERROR(LEFT(Gerar_Upload!A2860,120),\"erro\")","v":""},{"$f":"IFERROR(SUBSTITUTE(SUBSTITUTE(SUBSTITUTE(Gerar_Upload!B2860,\".\",\"\"),\"-\",\"\"),\"/\",\"\"),\"erro\")","v":""},{"$f":"IFERROR(Gerar_Upload!C2860,\"erro\")","v":0},{"$f":"IFERROR(Gerar_Upload!D2860,\"erro\")","v":0},{"$f":"IFERROR(DATE(YEAR(Gerar_Upload!E2860),MONTH(Gerar_Upload!E2860),DAY(Gerar_Upload!E2860)),\"erro\")","v":"00:00:00"},{"$f":"IFERROR(Gerar_Upload!F2860,\"erro\")","v":0},{"$f":"IFERROR(IF(Gerar_Upload!G2860<44,REPT(0,44-LEN(Gerar_Upload!G2860))&Gerar_Upload!G2860,Gerar_Upload!G2860),\"erro\")","v":"00000000000000000000000000000000000000000000"}]
[{"$f":"IFERROR(LEFT(Gerar_Upload!A2861,120),\"erro\")","v":""},{"$f":"IFERROR(SUBSTITUTE(SUBSTITUTE(SUBSTITUTE(Gerar_Upload!B2861,\".\",\"\"),\"-\",\"\"),\"/\",\"\"),\"erro\")","v":""},{"$f":"IFERROR(Gerar_Upload!C2861,\"erro\")","v":0},{"$f":"IFERROR(Gerar_Upload!D2861,\"erro\")","v":0},{"$f":"IFERROR(DATE(YEAR(Gerar_Upload!E2861),MONTH(Gerar_Upload!E2861),DAY(Gerar_Upload!E2861)),\"erro\")","v":"00:00:00"},{"$f":"IFERROR(Gerar_Upload!F2861,\"erro\")","v":0},{"$f":"IFERROR(IF(Gerar_Upload!G2861<44,REPT(0,44-LEN(Gerar_Upload!G2861))&Gerar_Upload!G2861,Gerar_Upload!G2861),\"erro\")","v":"00000000000000000000000000000000000000000000"}]
[{"$f":"IFERROR(LEFT(Gerar_Upload!A2862,120),\"erro\")","v":""},{"$f":"IFERROR(SUBSTITUTE(SUBSTITUTE(SUBSTITUTE(Gerar_Upload!B2862,\".\",\"\"),\"-\",\"\"),\"/\",\"\"),\"erro\")","v":""},{"$f":"IFERROR(Gerar_Upload!C2862,\"erro\")","v":0},{"$f":"IFERROR(Gerar_Upload!D2862,\"erro\")","v":0},{"$f":"IFERROR(DATE(YEAR(Gerar_Upload!E2862),MONTH(Gerar_Upload!E2862),DAY(Gerar_Upload!E2862)),\"erro\")","v":"00:00:00"},{"$f":"IFERROR(Gerar_Upload!F2862,\"erro\")","v":0},{"$f":"IFERROR(IF(Gerar_Upload!G2862<44,REPT(0,44-LEN(Gerar_Upload!G2862))&Gerar_Upload!G2862,Gerar_Upload!G2862),\"erro\")","v":"00000000000000000000000000000000000000000000"}]
[{"$f":"IFERROR(LEFT(Gerar_Upload!A2863,120),\"erro\")","v":""},{"$f":"IFERROR(SUBSTITUTE(SUBSTITUTE(SUBSTITUTE(Gerar_Upload!B2863,\".\",\"\"),\"-\",\"\"),\"/\",\"\"),\"erro\")","v":""},{"$f":"IFERROR(Gerar_Upload!C2863,\"erro\")","v":0},{"$f":"IFERROR(Gerar_Upload!D2863,\"erro\")","v":0},{"$f":"IFERROR(DATE(YEAR(Gerar_Upload!E2863),MONTH(Gerar_Upload!E2863),DAY(Gerar_Upload!E2863)),\"erro\")","v":"00:00:00"},{"$f":"IFERROR(Gerar_Upload!F2863,\"erro\")","v":0},{"$f":"IFERROR(IF(Gerar_Upload!G2863<44,REPT(0,44-LEN(Gerar_Upload!G2863))&Gerar_Upload!G2863,Gerar_Upload!G2863),\"erro\")","v":"00000000000000000000000000000000000000000000"}]
[{"$f":"IFERROR(LEFT(Gerar_Upload!A2864,120),\"erro\")","v":""},{"$f":"IFERROR(SUBSTITUTE(SUBSTITUTE(SUBSTITUTE(Gerar_Upload!B2864,\".\",\"\"),\"-\",\"\"),\"/\",\"\"),\"erro\")","v":""},{"$f":"IFERROR(Gerar_Upload!C2864,\"erro\")","v":0},{"$f":"IFERROR(Gerar_Upload!D2864,\"erro\")","v":0},{"$f":"IFERROR(DATE(YEAR(Gerar_Upload!E2864),MONTH(Gerar_Upload!E2864),DAY(Gerar_Upload!E2864)),\"erro\")","v":"00:00:00"},{"$f":"IFERROR(Gerar_Upload!F2864,\"erro\")","v":0},{"$f":"IFERROR(IF(Gerar_Upload!G2864<44,REPT(0,44-LEN(Gerar_Upload!G2864))&Gerar_Upload!G2864,Gerar_Upload!G2864),\"erro\")","v":"00000000000000000000000000000000000000000000"}]
[{"$f":"IFERROR(LEFT(Gerar_Upload!A2865,120),\"erro\")","v":""},{"$f":"IFERROR(SUBSTITUTE(SUBSTITUTE(SUBSTITUTE(Gerar_Upload!B2865,\".\",\"\"),\"-\",\"\"),\"/\",\"\"),\"erro\")","v":""},{"$f":"IFERROR(Gerar_Upload!C2865,\"erro\")","v":0},{"$f":"IFERROR(Gerar_Upload!D2865,\"erro\")","v":0},{"$f":"IFERROR(DATE(YEAR(Gerar_Upload!E2865),MONTH(Gerar_Upload!E2865),DAY(Gerar_Upload!E2865)),\"erro\")","v":"00:00:00"},{"$f":"IFERROR(Gerar_Upload!F2865,\"erro\")","v":0},{"$f":"IFERROR(IF(Gerar_Upload!G2865<44,REPT(0,44-LEN(Gerar_Upload!G2865))&Gerar_Upload!G2865,Gerar_Upload!G2865),\"erro\")","v":"00000000000000000000000000000000000000000000"}]
[{"$f":"IFERROR(LEFT(Gerar_Upload!A2866,120),\"erro\")","v":""},{"$f":"IFERROR(SUBSTITUTE(SUBSTITUTE(SUBSTITUTE(Gerar_Upload!B2866,\".\",\"\"),\"-\",\"\"),\"/\",\"\"),\"erro\")","v":""},{"$f":"IFERROR(Gerar_Upload!C2866,\"erro\")","v":0},{"$f":"IFERROR(Gerar_Upload!D2866,\"erro\")","v":0},{"$f":"IFERROR(DATE(YEAR(Gerar_Upload!E2866),MONTH(Gerar_Upload!E2866),DAY(Gerar_Upload!E2866)),\"erro\")","v":"00:00:00"},{"$f":"IFERROR(Gerar_Upload!F2866,\"erro\")","v":0},{"$f":"IFERROR(IF(Gerar_Upload!G2866<44,REPT(0,44-LEN(Gerar_Upload!G2866))&Gerar_Upload!G2866,Gerar_Upload!G2866),\"erro\")","v":"00000000000000000000000000000000000000000000"}]
[{"$f":"IFERROR(LEFT(Gerar_Upload!A2867,120),\"erro\")","v":""},{"$f":"IFERROR(SUBSTITUTE(SUBSTITUTE(SUBSTITUTE(Gerar_Upload!B2867,\".\",\"\"),\"-\",\"\"),\"/\",\"\"),\"erro\")","v":""},{"$f":"IFERROR(Gerar_Upload!C2867,\"erro\")","v":0},{"$f":"IFERROR(Gerar_Upload!D2867,\"erro\")","v":0},{"$f":"IFERROR(DATE(YEAR(Gerar_Upload!E2867),MONTH(Gerar_Upload!E2867),DAY(Gerar_Upload!E2867)),\"erro\")","v":"00:00:00"},{"$f":"IFERROR(Gerar_Upload!F2867,\"erro\")","v":0},{"$f":"IFERROR(IF(Gerar_Upload!G2867<44,REPT(0,44-LEN(Gerar_Upload!G2867))&Gerar_Upload!G2867,Gerar_Upload!G2867),\"erro\")","v":"00000000000000000000000000000000000000000000"}]
[{"$f":"IFERROR(LEFT(Gerar_Upload!A2868,120),\"erro\")","v":""},{"$f":"IFERROR(SUBSTITUTE(SUBSTITUTE(SUBSTITUTE(Gerar_Upload!B2868,\".\",\"\"),\"-\",\"\"),\"/\",\"\"),\"erro\")","v":""},{"$f":"IFERROR(Gerar_Upload!C2868,\"erro\")","v":0},{"$f":"IFERROR(Gerar_Upload!D2868,\"erro\")","v":0},{"$f":"IFERROR(DATE(YEAR(Gerar_Upload!E2868),MONTH(Gerar_Upload!E2868),DAY(Gerar_Upload!E2868)),\"erro\")","v":"00:00:00"},{"$f":"IFERROR(Gerar_Upload!F2868,\"erro\")","v":0},{"$f":"IFERROR(IF(Gerar_Upload!G2868<44,REPT(0,44-LEN(Gerar_Upload!G2868))&Gerar_Upload!G2868,Gerar_Upload!G2868),\"erro\")","v":"00000000000000000000000000000000000000000000"}]
[{"$f":"IFERROR(LEFT(Gerar_Upload!A2869,120),\"erro\")","v":""},{"$f":"IFERROR(SUBSTITUTE(SUBSTITUTE(SUBSTITUTE(Gerar_Upload!B2869,\".\",\"\"),\"-\",\"\"),\"/\",\"\"),\"erro\")","v":""},{"$f":"IFERROR(Gerar_Upload!C2869,\"erro\")","v":0},{"$f":"IFERROR(Gerar_Upload!D2869,\"erro\")","v":0},{"$f":"IFERROR(DATE(YEAR(Gerar_Upload!E2869),MONTH(Gerar_Upload!E2869),DAY(Gerar_Upload!E2869)),\"erro\")","v":"00:00:00"},{"$f":"IFERROR(Gerar_Upload!F2869,\"erro\")","v":0},{"$f":"IFERROR(IF(Gerar_Upload!G2869<44,REPT(0,44-LEN(Gerar_Upload!G2869))&Gerar_Upload!G2869,Gerar_Upload!G2869),\"erro\")","v":"00000000000000000000000000000000000000000000"}]
[{"$f":"IFERROR(LEFT(Gerar_Upload!A2870,120),\"erro\")","v":""},{"$f":"IFERROR(SUBSTITUTE(SUBSTITUTE(SUBSTITUTE(Gerar_Upload!B2870,\".\",\"\"),\"-\",\"\"),\"/\",\"\"),\"erro\")","v":""},{"$f":"IFERROR(Gerar_Upload!C2870,\"erro\")","v":0},{"$f":"IFERROR(Gerar_Upload!D2870,\"erro\")","v":0},{"$f":"IFERROR(DATE(YEAR(Gerar_Upload!E2870),MONTH(Gerar_Upload!E2870),DAY(Gerar_Upload!E2870)),\"erro\")","v":"00:00:00"},{"$f":"IFERROR(Gerar_Upload!F2870,\"erro\")","v":0},{"$f":"IFERROR(IF(Gerar_Upload!G2870<44,REPT(0,44-LEN(Gerar_Upload!G2870))&Gerar_Upload!G2870,Gerar_Upload!G2870),\"erro\")","v":"00000000000000000000000000000000000000000000"}]
[{"$f":"IFERROR(LEFT(Gerar_Upload!A2871,120),\"erro\")","v":""},{"$f":"IFERROR(SUBSTITUTE(SUBSTITUTE(SUBSTITUTE(Gerar_Upload!B2871,\".\",\"\"),\"-\",\"\"),\"/\",\"\"),\"erro\")","v":""},{"$f":"IFERROR(Gerar_Upload!C2871,\"erro\")","v":0},{"$f":"IFERROR(Gerar_Upload!D2871,\"erro\")","v":0},{"$f":"IFERROR(DATE(YEAR(Gerar_Upload!E2871),MONTH(Gerar_Upload!E2871),DAY(Gerar_Upload!E2871)),\"erro\")","v":"00:00:00"},{"$f":"IFERROR(Gerar_Upload!F2871,\"erro\")","v":0},{"$f":"IFERROR(IF(Gerar_Upload!G2871<44,REPT(0,44-LEN(Gerar_Upload!G2871))&Gerar_Upload!G2871,Gerar_Upload!G2871),\"erro\")","v":"00000000000000000000000000000000000000000000"}]
[{"$f":"IFERROR(LEFT(Gerar_Upload!A2872,120),\"erro\")","v":""},{"$f":"IFERROR(SUBSTITUTE(SUBSTITUTE(SUBSTITUTE(Gerar_Upload!B2872,\".\",\"\"),\"-\",\"\"),\"/\",\"\"),\"erro\")","v":""},{"$f":"IFERROR(Gerar_Upload!C2872,\"erro\")","v":0},{"$f":"IFERROR(Gerar_Upload!D2872,\"erro\")","v":0},{"$f":"IFERROR(DATE(YEAR(Gerar_Upload!E2872),MONTH(Gerar_Upload!E2872),DAY(Gerar_Upload!E2872)),\"erro\")","v":"00:00:00"},{"$f":"IFERROR(Gerar_Upload!F2872,\"erro\")","v":0},{"$f":"IFERROR(IF(Gerar_Upload!G2872<44,REPT(0,44-LEN(Gerar_Upload!G2872))&Gerar_Upload!G2872,Gerar_Upload!G2872),\"erro\")","v":"00000000000000000000000000000000000000000000"}]
[{"$f":"IFERROR(LEFT(Gerar_Upload!A2873,120),\"erro\")","v":""},{"$f":"IFERROR(SUBSTITUTE(SUBSTITUTE(SUBSTITUTE(Gerar_Upload!B2873,\".\",\"\"),\"-\",\"\"),\"/\",\"\"),\"erro\")","v":""},{"$f":"IFERROR(Gerar_Upload!C2873,\"erro\")","v":0},{"$f":"IFERROR(Gerar_Upload!D2873,\"erro\")","v":0},{"$f":"IFERROR(DATE(YEAR(Gerar_Upload!E2873),MONTH(Gerar_Upload!E2873),DAY(Gerar_Upload!E2873)),\"erro\")","v":"00:00:00"},{"$f":"IFERROR(Gerar_Upload!F2873,\"erro\")","v":0},{"$f":"IFERROR(IF(Gerar_Upload!G2873<44,REPT(0,44-LEN(Gerar_Upload!G2873))&Gerar_Upload!G2873,Gerar_Upload!G2873),\"erro\")","v":"00000000000000000000000000000000000000000000"}]
[{"$f":"IFERROR(LEFT(Gerar_Upload!A2874,120),\"erro\")","v":""},{"$f":"IFERROR(SUBSTITUTE(SUBSTITUTE(SUBSTITUTE(Gerar_Upload!B2874,\".\",\"\"),\"-\",\"\"),\"/\",\"\"),\"erro\")","v":""},{"$f":"IFERROR(Gerar_Upload!C2874,\"erro\")","v":0},{"$f":"IFERROR(Gerar_Upload!D2874,\"erro\")","v":0},{"$f":"IFERROR(DATE(YEAR(Gerar_Upload!E2874),MONTH(Gerar_Upload!E2874),DAY(Gerar_Upload!E2874)),\"erro\")","v":"00:00:00"},{"$f":"IFERROR(Gerar_Upload!F2874,\"erro\")","v":0},{"$f":"IFERROR(IF(Gerar_Upload!G2874<44,REPT(0,44-LEN(Gerar_Upload!G2874))&Gerar_Upload!G2874,Gerar_Upload!G2874),\"erro\")","v":"00000000000000000000000000000000000000000000"}]
[{"$f":"IFERROR(LEFT(Gerar_Upload!A2875,120),\"erro\")","v":""},{"$f":"IFERROR(SUBSTITUTE(SUBSTITUTE(SUBSTITUTE(Gerar_Upload!B2875,\".\",\"\"),\"-\",\"\"),\"/\",\"\"),\"erro\")","v":""},{"$f":"IFERROR(Gerar_Upload!C2875,\"erro\")","v":0},{"$f":"IFERROR(Gerar_Upload!D2875,\"erro\")","v":0},{"$f":"IFERROR(DATE(YEAR(Gerar_Upload!E2875),MONTH(Gerar_Upload!E2875),DAY(Gerar_Upload!E2875)),\"erro\")","v":"00:00:00"},{"$f":"IFERROR(Gerar_Upload!F2875,\"erro\")","v":0},{"$f":"IFERROR(IF(Gerar_Upload!G2875<44,REPT(0,44-LEN(Gerar_Upload!G2875))&Gerar_Upload!G2875,Gerar_Upload!G2875),\"erro\")","v":"00000000000000000000000000000000000000000000"}]
[{"$f":"IFERROR(LEFT(Gerar_Upload!A2876,120),\"erro\")","v":""},{"$f":"IFERROR(SUBSTITUTE(SUBSTITUTE(SUBSTITUTE(Gerar_Upload!B2876,\".\",\"\"),\"-\",\"\"),\"/\",\"\"),\"erro\")","v":""},{"$f":"IFERROR(Gerar_Upload!C2876,\"erro\")","v":0},{"$f":"IFERROR(Gerar_Upload!D2876,\"erro\")","v":0},{"$f":"IFERROR(DATE(YEAR(Gerar_Upload!E2876),MONTH(Gerar_Upload!E2876),DAY(Gerar_Upload!E2876)),\"erro\")","v":"00:00:00"},{"$f":"IFERROR(Gerar_Upload!F2876,\"erro\")","v":0},{"$f":"IFERROR(IF(Gerar_Upload!G2876<44,REPT(0,44-LEN(Gerar_Upload!G2876))&Gerar_Upload!G2876,Gerar_Upload!G2876),\"erro\")","v":"00000000000000000000000000000000000000000000"}]
[{"$f":"IFERROR(LEFT(Gerar_Upload!A2877,120),\"erro\")","v":""},{"$f":"IFERROR(SUBSTITUTE(SUBSTITUTE(SUBSTITUTE(Gerar_Upload!B2877,\".\",\"\"),\"-\",\"\"),\"/\",\"\"),\"erro\")","v":""},{"$f":"IFERROR(Gerar_Upload!C2877,\"erro\")","v":0},{"$f":"IFERROR(Gerar_Upload!D2877,\"erro\")","v":0},{"$f":"IFERROR(DATE(YEAR(Gerar_Upload!E2877),MONTH(Gerar_Upload!E2877),DAY(Gerar_Upload!E2877)),\"erro\")","v":"00:00:00"},{"$f":"IFERROR(Gerar_Upload!F2877,\"erro\")","v":0},{"$f":"IFERROR(IF(Gerar_Upload!G2877<44,REPT(0,44-LEN(Gerar_Upload!G2877))&Gerar_Upload!G2877,Gerar_Upload!G2877),\"erro\")","v":"00000000000000000000000000000000000000000000"}]
[{"$f":"IFERROR(LEFT(Gerar_Upload!A2878,120),\"erro\")","v":""},{"$f":"IFERROR(SUBSTITUTE(SUBSTITUTE(SUBSTITUTE(Gerar_Upload!B2878,\".\",\"\"),\"-\",\"\"),\"/\",\"\"),\"erro\")","v":""},{"$f":"IFERROR(Gerar_Upload!C2878,\"erro\")","v":0},{"$f":"IFERROR(Gerar_Upload!D2878,\"erro\")","v":0},{"$f":"IFERROR(DATE(YEAR(Gerar_Upload!E2878),MONTH(Gerar_Upload!E2878),DAY(Gerar_Upload!E2878)),\"erro\")","v":"00:00:00"},{"$f":"IFERROR(Gerar_Upload!F2878,\"erro\")","v":0},{"$f":"IFERROR(IF(Gerar_Upload!G2878<44,REPT(0,44-LEN(Gerar_Upload!G2878))&Gerar_Upload!G2878,Gerar_Upload!G2878),\"erro\")","v":"00000000000000000000000000000000000000000000"}]
[{"$f":"IFERROR(LEFT(Gerar_Upload!A2879,120),\"erro\")","v":""},{"$f":"IFERROR(SUBSTITUTE(SUBSTITUTE(SUBSTITUTE(Gerar_Upload!B2879,\".\",\"\"),\"-\",\"\"),\"/\",\"\"),\"erro\")","v":""},{"$f":"IFERROR(Gerar_Upload!C2879,\"erro\")","v":0},{"$f":"IFERROR(Gerar_Upload!D2879,\"erro\")","v":0},{"$f":"IFERROR(DATE(YEAR(Gerar_Upload!E2879),MONTH(Gerar_Upload!E2879),DAY(Gerar_Upload!E2879)),\"erro\")","v":"00:00:00"},{"$f":"IFERROR(Gerar_Upload!F2879,\"erro\")","v":0},{"$f":"IFERROR(IF(Gerar_Upload!G2879<44,REPT(0,44-LEN(Gerar_Upload!G2879))&Gerar_Upload!G2879,Gerar_Upload!G2879),\"erro\")","v":"00000000000000000000000000000000000000000000"}]
[{"$f":"IFERROR(LEFT(Gerar_Upload!A2880,120),\"erro\")","v":""},{"$f":"IFERROR(SUBSTITUTE(SUBSTITUTE(SUBSTITUTE(Gerar_Upload!B2880,\".\",\"\"),\"-\",\"\"),\"/\",\"\"),\"erro\")","v":""},{"$f":"IFERROR(Gerar_Upload!C2880,\"erro\")","v":0},{"$f":"IFERROR(Gerar_Upload!D2880,\"erro\")","v":0},{"$f":"IFERROR(DATE(YEAR(Gerar_Upload!E2880),MONTH(Gerar_Upload!E2880),DAY(Gerar_Upload!E2880)),\"erro\")","v":"00:00:00"},{"$f":"IFERROR(Gerar_Upload!F2880,\"erro\")","v":0},{"$f":"IFERROR(IF(Gerar_Upload!G2880<44,REPT(0,44-LEN(Gerar_Upload!G2880))&Gerar_Upload!G2880,Gerar_Upload!G2880),\"erro\")","v":"00000000000000000000000000000000000000000000"}]
[{"$f":"IFERROR(LEFT(Gerar_Upload!A2881,120),\"erro\")","v":""},{"$f":"IFERROR(SUBSTITUTE(SUBSTITUTE(SUBSTITUTE(Gerar_Upload!B2881,\".\",\"\"),\"-\",\"\"),\"/\",\"\"),\"erro\")","v":""},{"$f":"IFERROR(Gerar_Upload!C2881,\"erro\")","v":0},{"$f":"IFERROR(Gerar_Upload!D2881,\"erro\")","v":0},{"$f":"IFERROR(DATE(YEAR(Gerar_Upload!E2881),MONTH(Gerar_Upload!E2881),DAY(Gerar_Upload!E2881)),\"erro\")","v":"00:00:00"},{"$f":"IFERROR(Gerar_Upload!F2881,\"erro\")","v":0},{"$f":"IFERROR(IF(Gerar_Upload!G2881<44,REPT(0,44-LEN(Gerar_Upload!G2881))&Gerar_Upload!G2881,Gerar_Upload!G2881),\"erro\")","v":"00000000000000000000000000000000000000000000"}]
[{"$f":"IFERROR(LEFT(Gerar_Upload!A2882,120),\"erro\")","v":""},{"$f":"IFERROR(SUBSTITUTE(SUBSTITUTE(SUBSTITUTE(Gerar_Upload!B2882,\".\",\"\"),\"-\",\"\"),\"/\",\"\"),\"erro\")","v":""},{"$f":"IFERROR(Gerar_Upload!C2882,\"erro\")","v":0},{"$f":"IFERROR(Gerar_Upload!D2882,\"erro\")","v":0},{"$f":"IFERROR(DATE(YEAR(Gerar_Upload!E2882),MONTH(Gerar_Upload!E2882),DAY(Gerar_Upload!E2882)),\"erro\")","v":"00:00:00"},{"$f":"IFERROR(Gerar_Upload!F2882,\"erro\")","v":0},{"$f":"IFERROR(IF(Gerar_Upload!G2882<44,REPT(0,44-LEN(Gerar_Upload!G2882))&Gerar_Upload!G2882,Gerar_Upload!G2882),\"erro\")","v":"00000000000000000000000000000000000000000000"}]
[{"$f":"IFERROR(LEFT(Gerar_Upload!A2883,120),\"erro\")","v":""},{"$f":"IFERROR(SUBSTITUTE(SUBSTITUTE(SUBSTITUTE(Gerar_Upload!B2883,\".\",\"\"),\"-\",\"\"),\"/\",\"\"),\"erro\")","v":""},{"$f":"IFERROR(Gerar_Upload!C2883,\"erro\")","v":0},{"$f":"IFERROR(Gerar_Upload!D2883,\"erro\")","v":0},{"$f":"IFERROR(DATE(YEAR(Gerar_Upload!E2883),MONTH(Gerar_Upload!E2883),DAY(Gerar_Upload!E2883)),\"erro\")","v":"00:00:00"},{"$f":"IFERROR(Gerar_Upload!F2883,\"erro\")","v":0},{"$f":"IFERROR(IF(Gerar_Upload!G2883<44,REPT(0,44-LEN(Gerar_Upload!G2883))&Gerar_Upload!G2883,Gerar_Upload!G2883),\"erro\")","v":"00000000000000000000000000000000000000000000"}]
[{"$f":"IFERROR(LEFT(Gerar_Upload!A2884,120),\"erro\")","v":""},{"$f":"IFERROR(SUBSTITUTE(SUBSTITUTE(SUBSTITUTE(Gerar_Upload!B2884,\".\",\"\"),\"-\",\"\"),\"/\",\"\"),\"erro\")","v":""},{"$f":"IFERROR(Gerar_Upload!C2884,\"erro\")","v":0},{"$f":"IFERROR(Gerar_Upload!D2884,\"erro\")","v":0},{"$f":"IFERROR(DATE(YEAR(Gerar_Upload!E2884),MONTH(Gerar_Upload!E2884),DAY(Gerar_Upload!E2884)),\"erro\")","v":"00:00:00"},{"$f":"IFERROR(Gerar_Upload!F2884,\"erro\")","v":0},{"$f":"IFERROR(IF(Gerar_Upload!G2884<44,REPT(0,44-LEN(Gerar_Upload!G2884))&Gerar_Upload!G2884,Gerar_Upload!G2884),\"erro\")","v":"00000000000000000000000000000000000000000000"}]
[{"$f":"IFERROR(LEFT(Gerar_Upload!A2885,120),\"erro\")","v":""},{"$f":"IFERROR(SUBSTITUTE(SUBSTITUTE(SUBSTITUTE(Gerar_Upload!B2885,\".\",\"\"),\"-\",\"\"),\"/\",\"\"),\"erro\")","v":""},{"$f":"IFERROR(Gerar_Upload!C2885,\"erro\")","v":0},{"$f":"IFERROR(Gerar_Upload!D2885,\"erro\")","v":0},{"$f":"IFERROR(DATE(YEAR(Gerar_Upload!E2885),MONTH(Gerar_Upload!E2885),DAY(Gerar_Upload!E2885)),\"erro\")","v":"00:00:00"},{"$f":"IFERROR(Gerar_Upload!F2885,\"erro\")","v":0},{"$f":"IFERROR(IF(Gerar_Upload!G2885<44,REPT(0,44-LEN(Gerar_Upload!G2885))&Gerar_Upload!G2885,Gerar_Upload!G2885),\"erro\")","v":"00000000000000000000000000000000000000000000"}]
[{"$f":"IFERROR(LEFT(Gerar_Upload!A2886,120),\"erro\")","v":""},{"$f":"IFERROR(SUBSTITUTE(SUBSTITUTE(SUBSTITUTE(Gerar_Upload!B2886,\".\",\"\"),\"-\",\"\"),\"/\",\"\"),\"erro\")","v":""},{"$f":"IFERROR(Gerar_Upload!C2886,\"erro\")","v":0},{"$f":"IFERROR(Gerar_Upload!D2886,\"erro\")","v":0},{"$f":"IFERROR(DATE(YEAR(Gerar_Upload!E2886),MONTH(Gerar_Upload!E2886),DAY(Gerar_Upload!E2886)),\"erro\")","v":"00:00:00"},{"$f":"IFERROR(Gerar_Upload!F2886,\"erro\")","v":0},{"$f":"IFERROR(IF(Gerar_Upload!G2886<44,REPT(0,44-LEN(Gerar_Upload!G2886))&Gerar_Upload!G2886,Gerar_Upload!G2886),\"erro\")","v":"00000000000000000000000000000000000000000000"}]
[{"$f":"IFERROR(LEFT(Gerar_Upload!A2887,120),\"erro\")","v":""},{"$f":"IFERROR(SUBSTITUTE(SUBSTITUTE(SUBSTITUTE(Gerar_Upload!B2887,\".\",\"\"),\"-\",\"\"),\"/\",\"\"),\"erro\")","v":""},{"$f":"IFERROR(Gerar_Upload!C2887,\"erro\")","v":0},{"$f":"IFERROR(Gerar_Upload!D2887,\"erro\")","v":0},{"$f":"IFERROR(DATE(YEAR(Gerar_Upload!E2887),MONTH(Gerar_Upload!E2887),DAY(Gerar_Upload!E2887)),\"erro\")","v":"00:00:00"},{"$f":"IFERROR(Gerar_Upload!F2887,\"erro\")","v":0},{"$f":"IFERROR(IF(Gerar_Upload!G2887<44,REPT(0,44-LEN(Gerar_Upload!G2887))&Gerar_Upload!G2887,Gerar_Upload!G2887),\"erro\")","v":"00000000000000000000000000000000000000000000"}]
[{"$f":"IFERROR(LEFT(Gerar_Upload!A2888,120),\"erro\")","v":""},{"$f":"IFERROR(SUBSTITUTE(SUBSTITUTE(SUBSTITUTE(Gerar_Upload!B2888,\".\",\"\"),\"-\",\"\"),\"/\",\"\"),\"erro\")","v":""},{"$f":"IFERROR(Gerar_Upload!C2888,\"erro\")","v":0},{"$f":"IFERROR(Gerar_Upload!D2888,\"erro\")","v":0},{"$f":"IFERROR(DATE(YEAR(Gerar_Upload!E2888),MONTH(Gerar_Upload!E2888),DAY(Gerar_Upload!E2888)),\"erro\")","v":"00:00:00"},{"$f":"IFERROR(Gerar_Upload!F2888,\"erro\")","v":0},{"$f":"IFERROR(IF(Gerar_Upload!G2888<44,REPT(0,44-LEN(Gerar_Upload!G2888))&Gerar_Upload!G2888,Gerar_Upload!G2888),\"erro\")","v":"00000000000000000000000000000000000000000000"}]
[{"$f":"IFERROR(LEFT(Gerar_Upload!A2889,120),\"erro\")","v":""},{"$f":"IFERROR(SUBSTITUTE(SUBSTITUTE(SUBSTITUTE(Gerar_Upload!B2889,\".\",\"\"),\"-\",\"\"),\"/\",\"\"),\"erro\")","v":""},{"$f":"IFERROR(Gerar_Upload!C2889,\"erro\")","v":0},{"$f":"IFERROR(Gerar_Upload!D2889,\"erro\")","v":0},{"$f":"IFERROR(DATE(YEAR(Gerar_Upload!E2889),MONTH(Gerar_Upload!E2889),DAY(Gerar_Upload!E2889)),\"erro\")","v":"00:00:00"},{"$f":"IFERROR(Gerar_Upload!F2889,\"erro\")","v":0},{"$f":"IFERROR(IF(Gerar_Upload!G2889<44,REPT(0,44-LEN(Gerar_Upload!G2889))&Gerar_Upload!G2889,Gerar_Upload!G2889),\"erro\")","v":"00000000000000000000000000000000000000000000"}]
[{"$f":"IFERROR(LEFT(Gerar_Upload!A2890,120),\"erro\")","v":""},{"$f":"IFERROR(SUBSTITUTE(SUBSTITUTE(SUBSTITUTE(Gerar_Upload!B2890,\".\",\"\"),\"-\",\"\"),\"/\",\"\"),\"erro\")","v":""},{"$f":"IFERROR(Gerar_Upload!C2890,\"erro\")","v":0},{"$f":"IFERROR(Gerar_Upload!D2890,\"erro\")","v":0},{"$f":"IFERROR(DATE(YEAR(Gerar_Upload!E2890),MONTH(Gerar_Upload!E2890),DAY(Gerar_Upload!E2890)),\"erro\")","v":"00:00:00"},{"$f":"IFERROR(Gerar_Upload!F2890,\"erro\")","v":0},{"$f":"IFERROR(IF(Gerar_Upload!G2890<44,REPT(0,44-LEN(Gerar_Upload!G2890))&Gerar_Upload!G2890,Gerar_Upload!G2890),\"erro\")","v":"00000000000000000000000000000000000000000000"}]
[{"$f":"IFERROR(LEFT(Gerar_Upload!A2891,120),\"erro\")","v":""},{"$f":"IFERROR(SUBSTITUTE(SUBSTITUTE(SUBSTITUTE(Gerar_Upload!B2891,\".\",\"\"),\"-\",\"\"),\"/\",\"\"),\"erro\")","v":""},{"$f":"IFERROR(Gerar_Upload!C2891,\"erro\")","v":0},{"$f":"IFERROR(Gerar_Upload!D2891,\"erro\")","v":0},{"$f":"IFERROR(DATE(YEAR(Gerar_Upload!E2891),MONTH(Gerar_Upload!E2891),DAY(Gerar_Upload!E2891)),\"erro\")","v":"00:00:00"},{"$f":"IFERROR(Gerar_Upload!F2891,\"erro\")","v":0},{"$f":"IFERROR(IF(Gerar_Upload!G2891<44,REPT(0,44-LEN(Gerar_Upload!G2891))&Gerar_Upload!G2891,Gerar_Upload!G2891),\"erro\")","v":"00000000000000000000000000000000000000000000"}]
[{"$f":"IFERROR(LEFT(Gerar_Upload!A2892,120),\"erro\")","v":""},{"$f":"IFERROR(SUBSTITUTE(SUBSTITUTE(SUBSTITUTE(Gerar_Upload!B2892,\".\",\"\"),\"-\",\"\"),\"/\",\"\"),\"erro\")","v":""},{"$f":"IFERROR(Gerar_Upload!C2892,\"erro\")","v":0},{"$f":"IFERROR(Gerar_Upload!D2892,\"erro\")","v":0},{"$f":"IFERROR(DATE(YEAR(Gerar_Upload!E2892),MONTH(Gerar_Upload!E2892),DAY(Gerar_Upload!E2892)),\"erro\")","v":"00:00:00"},{"$f":"IFERROR(Gerar_Upload!F2892,\"erro\")","v":0},{"$f":"IFERROR(IF(Gerar_Upload!G2892<44,REPT(0,44-LEN(Gerar_Upload!G2892))&Gerar_Upload!G2892,Gerar_Upload!G2892),\"erro\")","v":"00000000000000000000000000000000000000000000"}]
[{"$f":"IFERROR(LEFT(Gerar_Upload!A2893,120),\"erro\")","v":""},{"$f":"IFERROR(SUBSTITUTE(SUBSTITUTE(SUBSTITUTE(Gerar_Upload!B2893,\".\",\"\"),\"-\",\"\"),\"/\",\"\"),\"erro\")","v":""},{"$f":"IFERROR(Gerar_Upload!C2893,\"erro\")","v":0},{"$f":"IFERROR(Gerar_Upload!D2893,\"erro\")","v":0},{"$f":"IFERROR(DATE(YEAR(Gerar_Upload!E2893),MONTH(Gerar_Upload!E2893),DAY(Gerar_Upload!E2893)),\"erro\")","v":"00:00:00"},{"$f":"IFERROR(Gerar_Upload!F2893,\"erro\")","v":0},{"$f":"IFERROR(IF(Gerar_Upload!G2893<44,REPT(0,44-LEN(Gerar_Upload!G2893))&Gerar_Upload!G2893,Gerar_Upload!G2893),\"erro\")","v":"00000000000000000000000000000000000000000000"}]
[{"$f":"IFERROR(LEFT(Gerar_Upload!A2894,120),\"erro\")","v":""},{"$f":"IFERROR(SUBSTITUTE(SUBSTITUTE(SUBSTITUTE(Gerar_Upload!B2894,\".\",\"\"),\"-\",\"\"),\"/\",\"\"),\"erro\")","v":""},{"$f":"IFERROR(Gerar_Upload!C2894,\"erro\")","v":0},{"$f":"IFERROR(Gerar_Upload!D2894,\"erro\")","v":0},{"$f":"IFERROR(DATE(YEAR(Gerar_Upload!E2894),MONTH(Gerar_Upload!E2894),DAY(Gerar_Upload!E2894)),\"erro\")","v":"00:00:00"},{"$f":"IFERROR(Gerar_Upload!F2894,\"erro\")","v":0},{"$f":"IFERROR(IF(Gerar_Upload!G2894<44,REPT(0,44-LEN(Gerar_Upload!G2894))&Gerar_Upload!G2894,Gerar_Upload!G2894),\"erro\")","v":"00000000000000000000000000000000000000000000"}]
[{"$f":"IFERROR(LEFT(Gerar_Upload!A2895,120),\"erro\")","v":""},{"$f":"IFERROR(SUBSTITUTE(SUBSTITUTE(SUBSTITUTE(Gerar_Upload!B2895,\".\",\"\"),\"-\",\"\"),\"/\",\"\"),\"erro\")","v":""},{"$f":"IFERROR(Gerar_Upload!C2895,\"erro\")","v":0},{"$f":"IFERROR(Gerar_Upload!D2895,\"erro\")","v":0},{"$f":"IFERROR(DATE(YEAR(Gerar_Upload!E2895),MONTH(Gerar_Upload!E2895),DAY(Gerar_Upload!E2895)),\"erro\")","v":"00:00:00"},{"$f":"IFERROR(Gerar_Upload!F2895,\"erro\")","v":0},{"$f":"IFERROR(IF(Gerar_Upload!G2895<44,REPT(0,44-LEN(Gerar_Upload!G2895))&Gerar_Upload!G2895,Gerar_Upload!G2895),\"erro\")","v":"00000000000000000000000000000000000000000000"}]
[{"$f":"IFERROR(LEFT(Gerar_Upload!A2896,120),\"erro\")","v":""},{"$f":"IFERROR(SUBSTITUTE(SUBSTITUTE(SUBSTITUTE(Gerar_Upload!B2896,\".\",\"\"),\"-\",\"\"),\"/\",\"\"),\"erro\")","v":""},{"$f":"IFERROR(Gerar_Upload!C2896,\"erro\")","v":0},{"$f":"IFERROR(Gerar_Upload!D2896,\"erro\")","v":0},{"$f":"IFERROR(DATE(YEAR(Gerar_Upload!E2896),MONTH(Gerar_Upload!E2896),DAY(Gerar_Upload!E2896)),\"erro\")","v":"00:00:00"},{"$f":"IFERROR(Gerar_Upload!F2896,\"erro\")","v":0},{"$f":"IFERROR(IF(Gerar_Upload!G2896<44,REPT(0,44-LEN(Gerar_Upload!G2896))&Gerar_Upload!G2896,Gerar_Upload!G2896),\"erro\")","v":"00000000000000000000000000000000000000000000"}]
[{"$f":"IFERROR(LEFT(Gerar_Upload!A2897,120),\"erro\")","v":""},{"$f":"IFERROR(SUBSTITUTE(SUBSTITUTE(SUBSTITUTE(Gerar_Upload!B2897,\".\",\"\"),\"-\",\"\"),\"/\",\"\"),\"erro\")","v":""},{"$f":"IFERROR(Gerar_Upload!C2897,\"erro\")","v":0},{"$f":"IFERROR(Gerar_Upload!D2897,\"erro\")","v":0},{"$f":"IFERROR(DATE(YEAR(Gerar_Upload!E2897),MONTH(Gerar_Upload!E2897),DAY(Gerar_Upload!E2897)),\"erro\")","v":"00:00:00"},{"$f":"IFERROR(Gerar_Upload!F2897,\"erro\")","v":0},{"$f":"IFERROR(IF(Gerar_Upload!G2897<44,REPT(0,44-LEN(Gerar_Upload!G2897))&Gerar_Upload!G2897,Gerar_Upload!G2897),\"erro\")","v":"00000000000000000000000000000000000000000000"}]
[{"$f":"IFERROR(LEFT(Gerar_Upload!A2898,120),\"erro\")","v":""},{"$f":"IFERROR(SUBSTITUTE(SUBSTITUTE(SUBSTITUTE(Gerar_Upload!B2898,\".\",\"\"),\"-\",\"\"),\"/\",\"\"),\"erro\")","v":""},{"$f":"IFERROR(Gerar_Upload!C2898,\"erro\")","v":0},{"$f":"IFERROR(Gerar_Upload!D2898,\"erro\")","v":0},{"$f":"IFERROR(DATE(YEAR(Gerar_Upload!E2898),MONTH(Gerar_Upload!E2898),DAY(Gerar_Upload!E2898)),\"erro\")","v":"00:00:00"},{"$f":"IFERROR(Gerar_Upload!F2898,\"erro\")","v":0},{"$f":"IFERROR(IF(Gerar_Upload!G2898<44,REPT(0,44-LEN(Gerar_Upload!G2898))&Gerar_Upload!G2898,Gerar_Upload!G2898),\"erro\")","v":"00000000000000000000000000000000000000000000"}]
[{"$f":"IFERROR(LEFT(Gerar_Upload!A2899,120),\"erro\")","v":""},{"$f":"IFERROR(SUBSTITUTE(SUBSTITUTE(SUBSTITUTE(Gerar_Upload!B2899,\".\",\"\"),\"-\",\"\"),\"/\",\"\"),\"erro\")","v":""},{"$f":"IFERROR(Gerar_Upload!C2899,\"erro\")","v":0},{"$f":"IFERROR(Gerar_Upload!D2899,\"erro\")","v":0},{"$f":"IFERROR(DATE(YEAR(Gerar_Upload!E2899),MONTH(Gerar_Upload!E2899),DAY(Gerar_Upload!E2899)),\"erro\")","v":"00:00:00"},{"$f":"IFERROR(Gerar_Upload!F2899,\"erro\")","v":0},{"$f":"IFERROR(IF(Gerar_Upload!G2899<44,REPT(0,44-LEN(Gerar_Upload!G2899))&Gerar_Upload!G2899,Gerar_Upload!G2899),\"erro\")","v":"00000000000000000000000000000000000000000000"}]
[{"$f":"IFERROR(LEFT(Gerar_Upload!A2900,120),\"erro\")","v":""},{"$f":"IFERROR(SUBSTITUTE(SUBSTITUTE(SUBSTITUTE(Gerar_Upload!B2900,\".\",\"\"),\"-\",\"\"),\"/\",\"\"),\"erro\")","v":""},{"$f":"IFERROR(Gerar_Upload!C2900,\"erro\")","v":0},{"$f":"IFERROR(Gerar_Upload!D2900,\"erro\")","v":0},{"$f":"IFERROR(DATE(YEAR(Gerar_Upload!E2900),MONTH(Gerar_Upload!E2900),DAY(Gerar_Upload!E2900)),\"erro\")","v":"00:00:00"},{"$f":"IFERROR(Gerar_Upload!F2900,\"erro\")","v":0},{"$f":"IFERROR(IF(Gerar_Upload!G2900<44,REPT(0,44-LEN(Gerar_Upload!G2900))&Gerar_Upload!G2900,Gerar_Upload!G2900),\"erro\")","v":"00000000000000000000000000000000000000000000"}]
[{"$f":"IFERROR(LEFT(Gerar_Upload!A2901,120),\"erro\")","v":""},{"$f":"IFERROR(SUBSTITUTE(SUBSTITUTE(SUBSTITUTE(Gerar_Upload!B2901,\".\",\"\"),\"-\",\"\"),\"/\",\"\"),\"erro\")","v":""},{"$f":"IFERROR(Gerar_Upload!C2901,\"erro\")","v":0},{"$f":"IFERROR(Gerar_Upload!D2901,\"erro\")","v":0},{"$f":"IFERROR(DATE(YEAR(Gerar_Upload!E2901),MONTH(Gerar_Upload!E2901),DAY(Gerar_Upload!E2901)),\"erro\")","v":"00:00:00"},{"$f":"IFERROR(Gerar_Upload!F2901,\"erro\")","v":0},{"$f":"IFERROR(IF(Gerar_Upload!G2901<44,REPT(0,44-LEN(Gerar_Upload!G2901))&Gerar_Upload!G2901,Gerar_Upload!G2901),\"erro\")","v":"00000000000000000000000000000000000000000000"}]
[{"$f":"IFERROR(LEFT(Gerar_Upload!A2902,120),\"erro\")","v":""},{"$f":"IFERROR(SUBSTITUTE(SUBSTITUTE(SUBSTITUTE(Gerar_Upload!B2902,\".\",\"\"),\"-\",\"\"),\"/\",\"\"),\"erro\")","v":""},{"$f":"IFERROR(Gerar_Upload!C2902,\"erro\")","v":0},{"$f":"IFERROR(Gerar_Upload!D2902,\"erro\")","v":0},{"$f":"IFERROR(DATE(YEAR(Gerar_Upload!E2902),MONTH(Gerar_Upload!E2902),DAY(Gerar_Upload!E2902)),\"erro\")","v":"00:00:00"},{"$f":"IFERROR(Gerar_Upload!F2902,\"erro\")","v":0},{"$f":"IFERROR(IF(Gerar_Upload!G2902<44,REPT(0,44-LEN(Gerar_Upload!G2902))&Gerar_Upload!G2902,Gerar_Upload!G2902),\"erro\")","v":"00000000000000000000000000000000000000000000"}]
[{"$f":"IFERROR(LEFT(Gerar_Upload!A2903,120),\"erro\")","v":""},{"$f":"IFERROR(SUBSTITUTE(SUBSTITUTE(SUBSTITUTE(Gerar_Upload!B2903,\".\",\"\"),\"-\",\"\"),\"/\",\"\"),\"erro\")","v":""},{"$f":"IFERROR(Gerar_Upload!C2903,\"erro\")","v":0},{"$f":"IFERROR(Gerar_Upload!D2903,\"erro\")","v":0},{"$f":"IFERROR(DATE(YEAR(Gerar_Upload!E2903),MONTH(Gerar_Upload!E2903),DAY(Gerar_Upload!E2903)),\"erro\")","v":"00:00:00"},{"$f":"IFERROR(Gerar_Upload!F2903,\"erro\")","v":0},{"$f":"IFERROR(IF(Gerar_Upload!G2903<44,REPT(0,44-LEN(Gerar_Upload!G2903))&Gerar_Upload!G2903,Gerar_Upload!G2903),\"erro\")","v":"00000000000000000000000000000000000000000000"}]
[{"$f":"IFERROR(LEFT(Gerar_Upload!A2904,120),\"erro\")","v":""},{"$f":"IFERROR(SUBSTITUTE(SUBSTITUTE(SUBSTITUTE(Gerar_Upload!B2904,\".\",\"\"),\"-\",\"\"),\"/\",\"\"),\"erro\")","v":""},{"$f":"IFERROR(Gerar_Upload!C2904,\"erro\")","v":0},{"$f":"IFERROR(Gerar_Upload!D2904,\"erro\")","v":0},{"$f":"IFERROR(DATE(YEAR(Gerar_Upload!E2904),MONTH(Gerar_Upload!E2904),DAY(Gerar_Upload!E2904)),\"erro\")","v":"00:00:00"},{"$f":"IFERROR(Gerar_Upload!F2904,\"erro\")","v":0},{"$f":"IFERROR(IF(Gerar_Upload!G2904<44,REPT(0,44-LEN(Gerar_Upload!G2904))&Gerar_Upload!G2904,Gerar_Upload!G2904),\"erro\")","v":"00000000000000000000000000000000000000000000"}]
[{"$f":"IFERROR(LEFT(Gerar_Upload!A2905,120),\"erro\")","v":""},{"$f":"IFERROR(SUBSTITUTE(SUBSTITUTE(SUBSTITUTE(Gerar_Upload!B2905,\".\",\"\"),\"-\",\"\"),\"/\",\"\"),\"erro\")","v":""},{"$f":"IFERROR(Gerar_Upload!C2905,\"erro\")","v":0},{"$f":"IFERROR(Gerar_Upload!D2905,\"erro\")","v":0},{"$f":"IFERROR(DATE(YEAR(Gerar_Upload!E2905),MONTH(Gerar_Upload!E2905),DAY(Gerar_Upload!E2905)),\"erro\")","v":"00:00:00"},{"$f":"IFERROR(Gerar_Upload!F2905,\"erro\")","v":0},{"$f":"IFERROR(IF(Gerar_Upload!G2905<44,REPT(0,44-LEN(Gerar_Upload!G2905))&Gerar_Upload!G2905,Gerar_Upload!G2905),\"erro\")","v":"00000000000000000000000000000000000000000000"}]
[{"$f":"IFERROR(LEFT(Gerar_Upload!A2906,120),\"erro\")","v":""},{"$f":"IFERROR(SUBSTITUTE(SUBSTITUTE(SUBSTITUTE(Gerar_Upload!B2906,\".\",\"\"),\"-\",\"\"),\"/\",\"\"),\"erro\")","v":""},{"$f":"IFERROR(Gerar_Upload!C2906,\"erro\")","v":0},{"$f":"IFERROR(Gerar_Upload!D2906,\"erro\")","v":0},{"$f":"IFERROR(DATE(YEAR(Gerar_Upload!E2906),MONTH(Gerar_Upload!E2906),DAY(Gerar_Upload!E2906)),\"erro\")","v":"00:00:00"},{"$f":"IFERROR(Gerar_Upload!F2906,\"erro\")","v":0},{"$f":"IFERROR(IF(Gerar_Upload!G2906<44,REPT(0,44-LEN(Gerar_Upload!G2906))&Gerar_Upload!G2906,Gerar_Upload!G2906),\"erro\")","v":"00000000000000000000000000000000000000000000"}]
[{"$f":"IFERROR(LEFT(Gerar_Upload!A2907,120),\"erro\")","v":""},{"$f":"IFERROR(SUBSTITUTE(SUBSTITUTE(SUBSTITUTE(Gerar_Upload!B2907,\".\",\"\"),\"-\",\"\"),\"/\",\"\"),\"erro\")","v":""},{"$f":"IFERROR(Gerar_Upload!C2907,\"erro\")","v":0},{"$f":"IFERROR(Gerar_Upload!D2907,\"erro\")","v":0},{"$f":"IFERROR(DATE(YEAR(Gerar_Upload!E2907),MONTH(Gerar_Upload!E2907),DAY(Gerar_Upload!E2907)),\"erro\")","v":"00:00:00"},{"$f":"IFERROR(Gerar_Upload!F2907,\"erro\")","v":0},{"$f":"IFERROR(IF(Gerar_Upload!G2907<44,REPT(0,44-LEN(Gerar_Upload!G2907))&Gerar_Upload!G2907,Gerar_Upload!G2907),\"erro\")","v":"00000000000000000000000000000000000000000000"}]
[{"$f":"IFERROR(LEFT(Gerar_Upload!A2908,120),\"erro\")","v":""},{"$f":"IFERROR(SUBSTITUTE(SUBSTITUTE(SUBSTITUTE(Gerar_Upload!B2908,\".\",\"\"),\"-\",\"\"),\"/\",\"\"),\"erro\")","v":""},{"$f":"IFERROR(Gerar_Upload!C2908,\"erro\")","v":0},{"$f":"IFERROR(Gerar_Upload!D2908,\"erro\")","v":0},{"$f":"IFERROR(DATE(YEAR(Gerar_Upload!E2908),MONTH(Gerar_Upload!E2908),DAY(Gerar_Upload!E2908)),\"erro\")","v":"00:00:00"},{"$f":"IFERROR(Gerar_Upload!F2908,\"erro\")","v":0},{"$f":"IFERROR(IF(Gerar_Upload!G2908<44,REPT(0,44-LEN(Gerar_Upload!G2908))&Gerar_Upload!G2908,Gerar_Upload!G2908),\"erro\")","v":"00000000000000000000000000000000000000000000"}]
[{"$f":"IFERROR(LEFT(Gerar_Upload!A2909,120),\"erro\")","v":""},{"$f":"IFERROR(SUBSTITUTE(SUBSTITUTE(SUBSTITUTE(Gerar_Upload!B2909,\".\",\"\"),\"-\",\"\"),\"/\",\"\"),\"erro\")","v":""},{"$f":"IFERROR(Gerar_Upload!C2909,\"erro\")","v":0},{"$f":"IFERROR(Gerar_Upload!D2909,\"erro\")","v":0},{"$f":"IFERROR(DATE(YEAR(Gerar_Upload!E2909),MONTH(Gerar_Upload!E2909),DAY(Gerar_Upload!E2909)),\"erro\")","v":"00:00:00"},{"$f":"IFERROR(Gerar_Upload!F2909,\"erro\")","v":0},{"$f":"IFERROR(IF(Gerar_Upload!G2909<44,REPT(0,44-LEN(Gerar_Upload!G2909))&Gerar_Upload!G2909,Gerar_Upload!G2909),\"erro\")","v":"00000000000000000000000000000000000000000000"}]
[{"$f":"IFERROR(LEFT(Gerar_Upload!A2910,120),\"erro\")","v":""},{"$f":"IFERROR(SUBSTITUTE(SUBSTITUTE(SUBSTITUTE(Gerar_Upload!B2910,\".\",\"\"),\"-\",\"\"),\"/\",\"\"),\"erro\")","v":""},{"$f":"IFERROR(Gerar_Upload!C2910,\"erro\")","v":0},{"$f":"IFERROR(Gerar_Upload!D2910,\"erro\")","v":0},{"$f":"IFERROR(DATE(YEAR(Gerar_Upload!E2910),MONTH(Gerar_Upload!E2910),DAY(Gerar_Upload!E2910)),\"erro\")","v":"00:00:00"},{"$f":"IFERROR(Gerar_Upload!F2910,\"erro\")","v":0},{"$f":"IFERROR(IF(Gerar_Upload!G2910<44,REPT(0,44-LEN(Gerar_Upload!G2910))&Gerar_Upload!G2910,Gerar_Upload!G2910),\"erro\")","v":"00000000000000000000000000000000000000000000"}]
[{"$f":"IFERROR(LEFT(Gerar_Upload!A2911,120),\"erro\")","v":""},{"$f":"IFERROR(SUBSTITUTE(SUBSTITUTE(SUBSTITUTE(Gerar_Upload!B2911,\".\",\"\"),\"-\",\"\"),\"/\",\"\"),\"erro\")","v":""},{"$f":"IFERROR(Gerar_Upload!C2911,\"erro\")","v":0},{"$f":"IFERROR(Gerar_Upload!D2911,\"erro\")","v":0},{"$f":"IFERROR(DATE(YEAR(Gerar_Upload!E2911),MONTH(Gerar_Upload!E2911),DAY(Gerar_Upload!E2911)),\"erro\")","v":"00:00:00"},{"$f":"IFERROR(Gerar_Upload!F2911,\"erro\")","v":0},{"$f":"IFERROR(IF(Gerar_Upload!G2911<44,REPT(0,44-LEN(Gerar_Upload!G2911))&Gerar_Upload!G2911,Gerar_Upload!G2911),\"erro\")","v":"00000000000000000000000000000000000000000000"}]
[{"$f":"IFERROR(LEFT(Gerar_Upload!A2912,120),\"erro\")","v":""},{"$f":"IFERROR(SUBSTITUTE(SUBSTITUTE(SUBSTITUTE(Gerar_Upload!B2912,\".\",\"\"),\"-\",\"\"),\"/\",\"\"),\"erro\")","v":""},{"$f":"IFERROR(Gerar_Upload!C2912,\"erro\")","v":0},{"$f":"IFERROR(Gerar_Upload!D2912,\"erro\")","v":0},{"$f":"IFERROR(DATE(YEAR(Gerar_Upload!E2912),MONTH(Gerar_Upload!E2912),DAY(Gerar_Upload!E2912)),\"erro\")","v":"00:00:00"},{"$f":"IFERROR(Gerar_Upload!F2912,\"erro\")","v":0},{"$f":"IFERROR(IF(Gerar_Upload!G2912<44,REPT(0,44-LEN(Gerar_Upload!G2912))&Gerar_Upload!G2912,Gerar_Upload!G2912),\"erro\")","v":"00000000000000000000000000000000000000000000"}]
[{"$f":"IFERROR(LEFT(Gerar_Upload!A2913,120),\"erro\")","v":""},{"$f":"IFERROR(SUBSTITUTE(SUBSTITUTE(SUBSTITUTE(Gerar_Upload!B2913,\".\",\"\"),\"-\",\"\"),\"/\",\"\"),\"erro\")","v":""},{"$f":"IFERROR(Gerar_Upload!C2913,\"erro\")","v":0},{"$f":"IFERROR(Gerar_Upload!D2913,\"erro\")","v":0},{"$f":"IFERROR(DATE(YEAR(Gerar_Upload!E2913),MONTH(Gerar_Upload!E2913),DAY(Gerar_Upload!E2913)),\"erro\")","v":"00:00:00"},{"$f":"IFERROR(Gerar_Upload!F2913,\"erro\")","v":0},{"$f":"IFERROR(IF(Gerar_Upload!G2913<44,REPT(0,44-LEN(Gerar_Upload!G2913))&Gerar_Upload!G2913,Gerar_Upload!G2913),\"erro\")","v":"00000000000000000000000000000000000000000000"}]
[{"$f":"IFERROR(LEFT(Gerar_Upload!A2914,120),\"erro\")","v":""},{"$f":"IFERROR(SUBSTITUTE(SUBSTITUTE(SUBSTITUTE(Gerar_Upload!B2914,\".\",\"\"),\"-\",\"\"),\"/\",\"\"),\"erro\")","v":""},{"$f":"IFERROR(Gerar_Upload!C2914,\"erro\")","v":0},{"$f":"IFERROR(Gerar_Upload!D2914,\"erro\")","v":0},{"$f":"IFERROR(DATE(YEAR(Gerar_Upload!E2914),MONTH(Gerar_Upload!E2914),DAY(Gerar_Upload!E2914)),\"erro\")","v":"00:00:00"},{"$f":"IFERROR(Gerar_Upload!F2914,\"erro\")","v":0},{"$f":"IFERROR(IF(Gerar_Upload!G2914<44,REPT(0,44-LEN(Gerar_Upload!G2914))&Gerar_Upload!G2914,Gerar_Upload!G2914),\"erro\")","v":"00000000000000000000000000000000000000000000"}]
[{"$f":"IFERROR(LEFT(Gerar_Upload!A2915,120),\"erro\")","v":""},{"$f":"IFERROR(SUBSTITUTE(SUBSTITUTE(SUBSTITUTE(Gerar_Upload!B2915,\".\",\"\"),\"-\",\"\"),\"/\",\"\"),\"erro\")","v":""},{"$f":"IFERROR(Gerar_Upload!C2915,\"erro\")","v":0},{"$f":"IFERROR(Gerar_Upload!D2915,\"erro\")","v":0},{"$f":"IFERROR(DATE(YEAR(Gerar_Upload!E2915),MONTH(Gerar_Upload!E2915),DAY(Gerar_Upload!E2915)),\"erro\")","v":"00:00:00"},{"$f":"IFERROR(Gerar_Upload!F2915,\"erro\")","v":0},{"$f":"IFERROR(IF(Gerar_Upload!G2915<44,REPT(0,44-LEN(Gerar_Upload!G2915))&Gerar_Upload!G2915,Gerar_Upload!G2915),\"erro\")","v":"00000000000000000000000000000000000000000000"}]
[{"$f":"IFERROR(LEFT(Gerar_Upload!A2916,120),\"erro\")","v":""},{"$f":"IFERROR(SUBSTITUTE(SUBSTITUTE(SUBSTITUTE(Gerar_Upload!B2916,\".\",\"\"),\"-\",\"\"),\"/\",\"\"),\"erro\")","v":""},{"$f":"IFERROR(Gerar_Upload!C2916,\"erro\")","v":0},{"$f":"IFERROR(Gerar_Upload!D2916,\"erro\")","v":0},{"$f":"IFERROR(DATE(YEAR(Gerar_Upload!E2916),MONTH(Gerar_Upload!E2916),DAY(Gerar_Upload!E2916)),\"erro\")","v":"00:00:00"},{"$f":"IFERROR(Gerar_Upload!F2916,\"erro\")","v":0},{"$f":"IFERROR(IF(Gerar_Upload!G2916<44,REPT(0,44-LEN(Gerar_Upload!G2916))&Gerar_Upload!G2916,Gerar_Upload!G2916),\"erro\")","v":"00000000000000000000000000000000000000000000"}]
[{"$f":"IFERROR(LEFT(Gerar_Upload!A2917,120),\"erro\")","v":""},{"$f":"IFERROR(SUBSTITUTE(SUBSTITUTE(SUBSTITUTE(Gerar_Upload!B2917,\".\",\"\"),\"-\",\"\"),\"/\",\"\"),\"erro\")","v":""},{"$f":"IFERROR(Gerar_Upload!C2917,\"erro\")","v":0},{"$f":"IFERROR(Gerar_Upload!D2917,\"erro\")","v":0},{"$f":"IFERROR(DATE(YEAR(Gerar_Upload!E2917),MONTH(Gerar_Upload!E2917),DAY(Gerar_Upload!E2917)),\"erro\")","v":"00:00:00"},{"$f":"IFERROR(Gerar_Upload!F2917,\"erro\")","v":0},{"$f":"IFERROR(IF(Gerar_Upload!G2917<44,REPT(0,44-LEN(Gerar_Upload!G2917))&Gerar_Upload!G2917,Gerar_Upload!G2917),\"erro\")","v":"00000000000000000000000000000000000000000000"}]
[{"$f":"IFERROR(LEFT(Gerar_Upload!A2918,120),\"erro\")","v":""},{"$f":"IFERROR(SUBSTITUTE(SUBSTITUTE(SUBSTITUTE(Gerar_Upload!B2918,\".\",\"\"),\"-\",\"\"),\"/\",\"\"),\"erro\")","v":""},{"$f":"IFERROR(Gerar_Upload!C2918,\"erro\")","v":0},{"$f":"IFERROR(Gerar_Upload!D2918,\"erro\")","v":0},{"$f":"IFERROR(DATE(YEAR(Gerar_Upload!E2918),MONTH(Gerar_Upload!E2918),DAY(Gerar_Upload!E2918)),\"erro\")","v":"00:00:00"},{"$f":"IFERROR(Gerar_Upload!F2918,\"erro\")","v":0},{"$f":"IFERROR(IF(Gerar_Upload!G2918<44,REPT(0,44-LEN(Gerar_Upload!G2918))&Gerar_Upload!G2918,Gerar_Upload!G2918),\"erro\")","v":"00000000000000000000000000000000000000000000"}]
[{"$f":"IFERROR(LEFT(Gerar_Upload!A2919,120),\"erro\")","v":""},{"$f":"IFERROR(SUBSTITUTE(SUBSTITUTE(SUBSTITUTE(Gerar_Upload!B2919,\".\",\"\"),\"-\",\"\"),\"/\",\"\"),\"erro\")","v":""},{"$f":"IFERROR(Gerar_Upload!C2919,\"erro\")","v":0},{"$f":"IFERROR(Gerar_Upload!D2919,\"erro\")","v":0},{"$f":"IFERROR(DATE(YEAR(Gerar_Upload!E2919),MONTH(Gerar_Upload!E2919),DAY(Gerar_Upload!E2919)),\"erro\")","v":"00:00:00"},{"$f":"IFERROR(Gerar_Upload!F2919,\"erro\")","v":0},{"$f":"IFERROR(IF(Gerar_Upload!G2919<44,REPT(0,44-LEN(Gerar_Upload!G2919))&Gerar_Upload!G2919,Gerar_Upload!G2919),\"erro\")","v":"00000000000000000000000000000000000000000000"}]
[{"$f":"IFERROR(LEFT(Gerar_Upload!A2920,120),\"erro\")","v":""},{"$f":"IFERROR(SUBSTITUTE(SUBSTITUTE(SUBSTITUTE(Gerar_Upload!B2920,\".\",\"\"),\"-\",\"\"),\"/\",\"\"),\"erro\")","v":""},{"$f":"IFERROR(Gerar_Upload!C2920,\"erro\")","v":0},{"$f":"IFERROR(Gerar_Upload!D2920,\"erro\")","v":0},{"$f":"IFERROR(DATE(YEAR(Gerar_Upload!E2920),MONTH(Gerar_Upload!E2920),DAY(Gerar_Upload!E2920)),\"erro\")","v":"00:00:00"},{"$f":"IFERROR(Gerar_Upload!F2920,\"erro\")","v":0},{"$f":"IFERROR(IF(Gerar_Upload!G2920<44,REPT(0,44-LEN(Gerar_Upload!G2920))&Gerar_Upload!G2920,Gerar_Upload!G2920),\"erro\")","v":"00000000000000000000000000000000000000000000"}]
[{"$f":"IFERROR(LEFT(Gerar_Upload!A2921,120),\"erro\")","v":""},{"$f":"IFERROR(SUBSTITUTE(SUBSTITUTE(SUBSTITUTE(Gerar_Upload!B2921,\".\",\"\"),\"-\",\"\"),\"/\",\"\"),\"erro\")","v":""},{"$f":"IFERROR(Gerar_Upload!C2921,\"erro\")","v":0},{"$f":"IFERROR(Gerar_Upload!D2921,\"erro\")","v":0},{"$f":"IFERROR(DATE(YEAR(Gerar_Upload!E2921),MONTH(Gerar_Upload!E2921),DAY(Gerar_Upload!E2921)),\"erro\")","v":"00:00:00"},{"$f":"IFERROR(Gerar_Upload!F2921,\"erro\")","v":0},{"$f":"IFERROR(IF(Gerar_Upload!G2921<44,REPT(0,44-LEN(Gerar_Upload!G2921))&Gerar_Upload!G2921,Gerar_Upload!G2921),\"erro\")","v":"00000000000000000000000000000000000000000000"}]
[{"$f":"IFERROR(LEFT(Gerar_Upload!A2922,120),\"erro\")","v":""},{"$f":"IFERROR(SUBSTITUTE(SUBSTITUTE(SUBSTITUTE(Gerar_Upload!B2922,\".\",\"\"),\"-\",\"\"),\"/\",\"\"),\"erro\")","v":""},{"$f":"IFERROR(Gerar_Upload!C2922,\"erro\")","v":0},{"$f":"IFERROR(Gerar_Upload!D2922,\"erro\")","v":0},{"$f":"IFERROR(DATE(YEAR(Gerar_Upload!E2922),MONTH(Gerar_Upload!E2922),DAY(Gerar_Upload!E2922)),\"erro\")","v":"00:00:00"},{"$f":"IFERROR(Gerar_Upload!F2922,\"erro\")","v":0},{"$f":"IFERROR(IF(Gerar_Upload!G2922<44,REPT(0,44-LEN(Gerar_Upload!G2922))&Gerar_Upload!G2922,Gerar_Upload!G2922),\"erro\")","v":"00000000000000000000000000000000000000000000"}]
[{"$f":"IFERROR(LEFT(Gerar_Upload!A2923,120),\"erro\")","v":""},{"$f":"IFERROR(SUBSTITUTE(SUBSTITUTE(SUBSTITUTE(Gerar_Upload!B2923,\".\",\"\"),\"-\",\"\"),\"/\",\"\"),\"erro\")","v":""},{"$f":"IFERROR(Gerar_Upload!C2923,\"erro\")","v":0},{"$f":"IFERROR(Gerar_Upload!D2923,\"erro\")","v":0},{"$f":"IFERROR(DATE(YEAR(Gerar_Upload!E2923),MONTH(Gerar_Upload!E2923),DAY(Gerar_Upload!E2923)),\"erro\")","v":"00:00:00"},{"$f":"IFERROR(Gerar_Upload!F2923,\"erro\")","v":0},{"$f":"IFERROR(IF(Gerar_Upload!G2923<44,REPT(0,44-LEN(Gerar_Upload!G2923))&Gerar_Upload!G2923,Gerar_Upload!G2923),\"erro\")","v":"00000000000000000000000000000000000000000000"}]
[{"$f":"IFERROR(LEFT(Gerar_Upload!A2924,120),\"erro\")","v":""},{"$f":"IFERROR(SUBSTITUTE(SUBSTITUTE(SUBSTITUTE(Gerar_Upload!B2924,\".\",\"\"),\"-\",\"\"),\"/\",\"\"),\"erro\")","v":""},{"$f":"IFERROR(Gerar_Upload!C2924,\"erro\")","v":0},{"$f":"IFERROR(Gerar_Upload!D2924,\"erro\")","v":0},{"$f":"IFERROR(DATE(YEAR(Gerar_Upload!E2924),MONTH(Gerar_Upload!E2924),DAY(Gerar_Upload!E2924)),\"erro\")","v":"00:00:00"},{"$f":"IFERROR(Gerar_Upload!F2924,\"erro\")","v":0},{"$f":"IFERROR(IF(Gerar_Upload!G2924<44,REPT(0,44-LEN(Gerar_Upload!G2924))&Gerar_Upload!G2924,Gerar_Upload!G2924),\"erro\")","v":"00000000000000000000000000000000000000000000"}]
[{"$f":"IFERROR(LEFT(Gerar_Upload!A2925,120),\"erro\")","v":""},{"$f":"IFERROR(SUBSTITUTE(SUBSTITUTE(SUBSTITUTE(Gerar_Upload!B2925,\".\",\"\"),\"-\",\"\"),\"/\",\"\"),\"erro\")","v":""},{"$f":"IFERROR(Gerar_Upload!C2925,\"erro\")","v":0},{"$f":"IFERROR(Gerar_Upload!D2925,\"erro\")","v":0},{"$f":"IFERROR(DATE(YEAR(Gerar_Upload!E2925),MONTH(Gerar_Upload!E2925),DAY(Gerar_Upload!E2925)),\"erro\")","v":"00:00:00"},{"$f":"IFERROR(Gerar_Upload!F2925,\"erro\")","v":0},{"$f":"IFERROR(IF(Gerar_Upload!G2925<44,REPT(0,44-LEN(Gerar_Upload!G2925))&Gerar_Upload!G2925,Gerar_Upload!G2925),\"erro\")","v":"00000000000000000000000000000000000000000000"}]
[{"$f":"IFERROR(LEFT(Gerar_Upload!A2926,120),\"erro\")","v":""},{"$f":"IFERROR(SUBSTITUTE(SUBSTITUTE(SUBSTITUTE(Gerar_Upload!B2926,\".\",\"\"),\"-\",\"\"),\"/\",\"\"),\"erro\")","v":""},{"$f":"IFERROR(Gerar_Upload!C2926,\"erro\")","v":0},{"$f":"IFERROR(Gerar_Upload!D2926,\"erro\")","v":0},{"$f":"IFERROR(DATE(YEAR(Gerar_Upload!E2926),MONTH(Gerar_Upload!E2926),DAY(Gerar_Upload!E2926)),\"erro\")","v":"00:00:00"},{"$f":"IFERROR(Gerar_Upload!F2926,\"erro\")","v":0},{"$f":"IFERROR(IF(Gerar_Upload!G2926<44,REPT(0,44-LEN(Gerar_Upload!G2926))&Gerar_Upload!G2926,Gerar_Upload!G2926),\"erro\")","v":"00000000000000000000000000000000000000000000"}]
[{"$f":"IFERROR(LEFT(Gerar_Upload!A2927,120),\"erro\")","v":""},{"$f":"IFERROR(SUBSTITUTE(SUBSTITUTE(SUBSTITUTE(Gerar_Upload!B2927,\".\",\"\"),\"-\",\"\"),\"/\",\"\"),\"erro\")","v":""},{"$f":"IFERROR(Gerar_Upload!C2927,\"erro\")","v":0},{"$f":"IFERROR(Gerar_Upload!D2927,\"erro\")","v":0},{"$f":"IFERROR(DATE(YEAR(Gerar_Upload!E2927),MONTH(Gerar_Upload!E2927),DAY(Gerar_Upload!E2927)),\"erro\")","v":"00:00:00"},{"$f":"IFERROR(Gerar_Upload!F2927,\"erro\")","v":0},{"$f":"IFERROR(IF(Gerar_Upload!G2927<44,REPT(0,44-LEN(Gerar_Upload!G2927))&Gerar_Upload!G2927,Gerar_Upload!G2927),\"erro\")","v":"00000000000000000000000000000000000000000000"}]
[{"$f":"IFERROR(LEFT(Gerar_Upload!A2928,120),\"erro\")","v":""},{"$f":"IFERROR(SUBSTITUTE(SUBSTITUTE(SUBSTITUTE(Gerar_Upload!B2928,\".\",\"\"),\"-\",\"\"),\"/\",\"\"),\"erro\")","v":""},{"$f":"IFERROR(Gerar_Upload!C2928,\"erro\")","v":0},{"$f":"IFERROR(Gerar_Upload!D2928,\"erro\")","v":0},{"$f":"IFERROR(DATE(YEAR(Gerar_Upload!E2928),MONTH(Gerar_Upload!E2928),DAY(Gerar_Upload!E2928)),\"erro\")","v":"00:00:00"},{"$f":"IFERROR(Gerar_Upload!F2928,\"erro\")","v":0},{"$f":"IFERROR(IF(Gerar_Upload!G2928<44,REPT(0,44-LEN(Gerar_Upload!G2928))&Gerar_Upload!G2928,Gerar_Upload!G2928),\"erro\")","v":"00000000000000000000000000000000000000000000"}]
[{"$f":"IFERROR(LEFT(Gerar_Upload!A2929,120),\"erro\")","v":""},{"$f":"IFERROR(SUBSTITUTE(SUBSTITUTE(SUBSTITUTE(Gerar_Upload!B2929,\".\",\"\"),\"-\",\"\"),\"/\",\"\"),\"erro\")","v":""},{"$f":"IFERROR(Gerar_Upload!C2929,\"erro\")","v":0},{"$f":"IFERROR(Gerar_Upload!D2929,\"erro\")","v":0},{"$f":"IFERROR(DATE(YEAR(Gerar_Upload!E2929),MONTH(Gerar_Upload!E2929),DAY(Gerar_Upload!E2929)),\"erro\")","v":"00:00:00"},{"$f":"IFERROR(Gerar_Upload!F2929,\"erro\")","v":0},{"$f":"IFERROR(IF(Gerar_Upload!G2929<44,REPT(0,44-LEN(Gerar_Upload!G2929))&Gerar_Upload!G2929,Gerar_Upload!G2929),\"erro\")","v":"00000000000000000000000000000000000000000000"}]
[{"$f":"IFERROR(LEFT(Gerar_Upload!A2930,120),\"erro\")","v":""},{"$f":"IFERROR(SUBSTITUTE(SUBSTITUTE(SUBSTITUTE(Gerar_Upload!B2930,\".\",\"\"),\"-\",\"\"),\"/\",\"\"),\"erro\")","v":""},{"$f":"IFERROR(Gerar_Upload!C2930,\"erro\")","v":0},{"$f":"IFERROR(Gerar_Upload!D2930,\"erro\")","v":0},{"$f":"IFERROR(DATE(YEAR(Gerar_Upload!E2930),MONTH(Gerar_Upload!E2930),DAY(Gerar_Upload!E2930)),\"erro\")","v":"00:00:00"},{"$f":"IFERROR(Gerar_Upload!F2930,\"erro\")","v":0},{"$f":"IFERROR(IF(Gerar_Upload!G2930<44,REPT(0,44-LEN(Gerar_Upload!G2930))&Gerar_Upload!G2930,Gerar_Upload!G2930),\"erro\")","v":"00000000000000000000000000000000000000000000"}]
[{"$f":"IFERROR(LEFT(Gerar_Upload!A2931,120),\"erro\")","v":""},{"$f":"IFERROR(SUBSTITUTE(SUBSTITUTE(SUBSTITUTE(Gerar_Upload!B2931,\".\",\"\"),\"-\",\"\"),\"/\",\"\"),\"erro\")","v":""},{"$f":"IFERROR(Gerar_Upload!C2931,\"erro\")","v":0},{"$f":"IFERROR(Gerar_Upload!D2931,\"erro\")","v":0},{"$f":"IFERROR(DATE(YEAR(Gerar_Upload!E2931),MONTH(Gerar_Upload!E2931),DAY(Gerar_Upload!E2931)),\"erro\")","v":"00:00:00"},{"$f":"IFERROR(Gerar_Upload!F2931,\"erro\")","v":0},{"$f":"IFERROR(IF(Gerar_Upload!G2931<44,REPT(0,44-LEN(Gerar_Upload!G2931))&Gerar_Upload!G2931,Gerar_Upload!G2931),\"erro\")","v":"00000000000000000000000000000000000000000000"}]
[{"$f":"IFERROR(LEFT(Gerar_Upload!A2932,120),\"erro\")","v":""},{"$f":"IFERROR(SUBSTITUTE(SUBSTITUTE(SUBSTITUTE(Gerar_Upload!B2932,\".\",\"\"),\"-\",\"\"),\"/\",\"\"),\"erro\")","v":""},{"$f":"IFERROR(Gerar_Upload!C2932,\"erro\")","v":0},{"$f":"IFERROR(Gerar_Upload!D2932,\"erro\")","v":0},{"$f":"IFERROR(DATE(YEAR(Gerar_Upload!E2932),MONTH(Gerar_Upload!E2932),DAY(Gerar_Upload!E2932)),\"erro\")","v":"00:00:00"},{"$f":"IFERROR(Gerar_Upload!F2932,\"erro\")","v":0},{"$f":"IFERROR(IF(Gerar_Upload!G2932<44,REPT(0,44-LEN(Gerar_Upload!G2932))&Gerar_Upload!G2932,Gerar_Upload!G2932),\"erro\")","v":"00000000000000000000000000000000000000000000"}]
[{"$f":"IFERROR(LEFT(Gerar_Upload!A2933,120),\"erro\")","v":""},{"$f":"IFERROR(SUBSTITUTE(SUBSTITUTE(SUBSTITUTE(Gerar_Upload!B2933,\".\",\"\"),\"-\",\"\"),\"/\",\"\"),\"erro\")","v":""},{"$f":"IFERROR(Gerar_Upload!C2933,\"erro\")","v":0},{"$f":"IFERROR(Gerar_Upload!D2933,\"erro\")","v":0},{"$f":"IFERROR(DATE(YEAR(Gerar_Upload!E2933),MONTH(Gerar_Upload!E2933),DAY(Gerar_Upload!E2933)),\"erro\")","v":"00:00:00"},{"$f":"IFERROR(Gerar_Upload!F2933,\"erro\")","v":0},{"$f":"IFERROR(IF(Gerar_Upload!G2933<44,REPT(0,44-LEN(Gerar_Upload!G2933))&Gerar_Upload!G2933,Gerar_Upload!G2933),\"erro\")","v":"00000000000000000000000000000000000000000000"}]
[{"$f":"IFERROR(LEFT(Gerar_Upload!A2934,120),\"erro\")","v":""},{"$f":"IFERROR(SUBSTITUTE(SUBSTITUTE(SUBSTITUTE(Gerar_Upload!B2934,\".\",\"\"),\"-\",\"\"),\"/\",\"\"),\"erro\")","v":""},{"$f":"IFERROR(Gerar_Upload!C2934,\"erro\")","v":0},{"$f":"IFERROR(Gerar_Upload!D2934,\"erro\")","v":0},{"$f":"IFERROR(DATE(YEAR(Gerar_Upload!E2934),MONTH(Gerar_Upload!E2934),DAY(Gerar_Upload!E2934)),\"erro\")","v":"00:00:00"},{"$f":"IFERROR(Gerar_Upload!F2934,\"erro\")","v":0},{"$f":"IFERROR(IF(Gerar_Upload!G2934<44,REPT(0,44-LEN(Gerar_Upload!G2934))&Gerar_Upload!G2934,Gerar_Upload!G2934),\"erro\")","v":"00000000000000000000000000000000000000000000"}]
[{"$f":"IFERROR(LEFT(Gerar_Upload!A2935,120),\"erro\")","v":""},{"$f":"IFERROR(SUBSTITUTE(SUBSTITUTE(SUBSTITUTE(Gerar_Upload!B2935,\".\",\"\"),\"-\",\"\"),\"/\",\"\"),\"erro\")","v":""},{"$f":"IFERROR(Gerar_Upload!C2935,\"erro\")","v":0},{"$f":"IFERROR(Gerar_Upload!D2935,\"erro\")","v":0},{"$f":"IFERROR(DATE(YEAR(Gerar_Upload!E2935),MONTH(Gerar_Upload!E2935),DAY(Gerar_Upload!E2935)),\"erro\")","v":"00:00:00"},{"$f":"IFERROR(Gerar_Upload!F2935,\"erro\")","v":0},{"$f":"IFERROR(IF(Gerar_Upload!G2935<44,REPT(0,44-LEN(Gerar_Upload!G2935))&Gerar_Upload!G2935,Gerar_Upload!G2935),\"erro\")","v":"00000000000000000000000000000000000000000000"}]
[{"$f":"IFERROR(LEFT(Gerar_Upload!A2936,120),\"erro\")","v":""},{"$f":"IFERROR(SUBSTITUTE(SUBSTITUTE(SUBSTITUTE(Gerar_Upload!B2936,\".\",\"\"),\"-\",\"\"),\"/\",\"\"),\"erro\")","v":""},{"$f":"IFERROR(Gerar_Upload!C2936,\"erro\")","v":0},{"$f":"IFERROR(Gerar_Upload!D2936,\"erro\")","v":0},{"$f":"IFERROR(DATE(YEAR(Gerar_Upload!E2936),MONTH(Gerar_Upload!E2936),DAY(Gerar_Upload!E2936)),\"erro\")","v":"00:00:00"},{"$f":"IFERROR(Gerar_Upload!F2936,\"erro\")","v":0},{"$f":"IFERROR(IF(Gerar_Upload!G2936<44,REPT(0,44-LEN(Gerar_Upload!G2936))&Gerar_Upload!G2936,Gerar_Upload!G2936),\"erro\")","v":"00000000000000000000000000000000000000000000"}]
[{"$f":"IFERROR(LEFT(Gerar_Upload!A2937,120),\"erro\")","v":""},{"$f":"IFERROR(SUBSTITUTE(SUBSTITUTE(SUBSTITUTE(Gerar_Upload!B2937,\".\",\"\"),\"-\",\"\"),\"/\",\"\"),\"erro\")","v":""},{"$f":"IFERROR(Gerar_Upload!C2937,\"erro\")","v":0},{"$f":"IFERROR(Gerar_Upload!D2937,\"erro\")","v":0},{"$f":"IFERROR(DATE(YEAR(Gerar_Upload!E2937),MONTH(Gerar_Upload!E2937),DAY(Gerar_Upload!E2937)),\"erro\")","v":"00:00:00"},{"$f":"IFERROR(Gerar_Upload!F2937,\"erro\")","v":0},{"$f":"IFERROR(IF(Gerar_Upload!G2937<44,REPT(0,44-LEN(Gerar_Upload!G2937))&Gerar_Upload!G2937,Gerar_Upload!G2937),\"erro\")","v":"00000000000000000000000000000000000000000000"}]
[{"$f":"IFERROR(LEFT(Gerar_Upload!A2938,120),\"erro\")","v":""},{"$f":"IFERROR(SUBSTITUTE(SUBSTITUTE(SUBSTITUTE(Gerar_Upload!B2938,\".\",\"\"),\"-\",\"\"),\"/\",\"\"),\"erro\")","v":""},{"$f":"IFERROR(Gerar_Upload!C2938,\"erro\")","v":0},{"$f":"IFERROR(Gerar_Upload!D2938,\"erro\")","v":0},{"$f":"IFERROR(DATE(YEAR(Gerar_Upload!E2938),MONTH(Gerar_Upload!E2938),DAY(Gerar_Upload!E2938)),\"erro\")","v":"00:00:00"},{"$f":"IFERROR(Gerar_Upload!F2938,\"erro\")","v":0},{"$f":"IFERROR(IF(Gerar_Upload!G2938<44,REPT(0,44-LEN(Gerar_Upload!G2938))&Gerar_Upload!G2938,Gerar_Upload!G2938),\"erro\")","v":"00000000000000000000000000000000000000000000"}]
[{"$f":"IFERROR(LEFT(Gerar_Upload!A2939,120),\"erro\")","v":""},{"$f":"IFERROR(SUBSTITUTE(SUBSTITUTE(SUBSTITUTE(Gerar_Upload!B2939,\".\",\"\"),\"-\",\"\"),\"/\",\"\"),\"erro\")","v":""},{"$f":"IFERROR(Gerar_Upload!C2939,\"erro\")","v":0},{"$f":"IFERROR(Gerar_Upload!D2939,\"erro\")","v":0},{"$f":"IFERROR(DATE(YEAR(Gerar_Upload!E2939),MONTH(Gerar_Upload!E2939),DAY(Gerar_Upload!E2939)),\"erro\")","v":"00:00:00"},{"$f":"IFERROR(Gerar_Upload!F2939,\"erro\")","v":0},{"$f":"IFERROR(IF(Gerar_Upload!G2939<44,REPT(0,44-LEN(Gerar_Upload!G2939))&Gerar_Upload!G2939,Gerar_Upload!G2939),\"erro\")","v":"00000000000000000000000000000000000000000000"}]
[{"$f":"IFERROR(LEFT(Gerar_Upload!A2940,120),\"erro\")","v":""},{"$f":"IFERROR(SUBSTITUTE(SUBSTITUTE(SUBSTITUTE(Gerar_Upload!B2940,\".\",\"\"),\"-\",\"\"),\"/\",\"\"),\"erro\")","v":""},{"$f":"IFERROR(Gerar_Upload!C2940,\"erro\")","v":0},{"$f":"IFERROR(Gerar_Upload!D2940,\"erro\")","v":0},{"$f":"IFERROR(DATE(YEAR(Gerar_Upload!E2940),MONTH(Gerar_Upload!E2940),DAY(Gerar_Upload!E2940)),\"erro\")","v":"00:00:00"},{"$f":"IFERROR(Gerar_Upload!F2940,\"erro\")","v":0},{"$f":"IFERROR(IF(Gerar_Upload!G2940<44,REPT(0,44-LEN(Gerar_Upload!G2940))&Gerar_Upload!G2940,Gerar_Upload!G2940),\"erro\")","v":"00000000000000000000000000000000000000000000"}]
[{"$f":"IFERROR(LEFT(Gerar_Upload!A2941,120),\"erro\")","v":""},{"$f":"IFERROR(SUBSTITUTE(SUBSTITUTE(SUBSTITUTE(Gerar_Upload!B2941,\".\",\"\"),\"-\",\"\"),\"/\",\"\"),\"erro\")","v":""},{"$f":"IFERROR(Gerar_Upload!C2941,\"erro\")","v":0},{"$f":"IFERROR(Gerar_Upload!D2941,\"erro\")","v":0},{"$f":"IFERROR(DATE(YEAR(Gerar_Upload!E2941),MONTH(Gerar_Upload!E2941),DAY(Gerar_Upload!E2941)),\"erro\")","v":"00:00:00"},{"$f":"IFERROR(Gerar_Upload!F2941,\"erro\")","v":0},{"$f":"IFERROR(IF(Gerar_Upload!G2941<44,REPT(0,44-LEN(Gerar_Upload!G2941))&Gerar_Upload!G2941,Gerar_Upload!G2941),\"erro\")","v":"00000000000000000000000000000000000000000000"}]
[{"$f":"IFERROR(LEFT(Gerar_Upload!A2942,120),\"erro\")","v":""},{"$f":"IFERROR(SUBSTITUTE(SUBSTITUTE(SUBSTITUTE(Gerar_Upload!B2942,\".\",\"\"),\"-\",\"\"),\"/\",\"\"),\"erro\")","v":""},{"$f":"IFERROR(Gerar_Upload!C2942,\"erro\")","v":0},{"$f":"IFERROR(Gerar_Upload!D2942,\"erro\")","v":0},{"$f":"IFERROR(DATE(YEAR(Gerar_Upload!E2942),MONTH(Gerar_Upload!E2942),DAY(Gerar_Upload!E2942)),\"erro\")","v":"00:00:00"},{"$f":"IFERROR(Gerar_Upload!F2942,\"erro\")","v":0},{"$f":"IFERROR(IF(Gerar_Upload!G2942<44,REPT(0,44-LEN(Gerar_Upload!G2942))&Gerar_Upload!G2942,Gerar_Upload!G2942),\"erro\")","v":"00000000000000000000000000000000000000000000"}]
[{"$f":"IFERROR(LEFT(Gerar_Upload!A2943,120),\"erro\")","v":""},{"$f":"IFERROR(SUBSTITUTE(SUBSTITUTE(SUBSTITUTE(Gerar_Upload!B2943,\".\",\"\"),\"-\",\"\"),\"/\",\"\"),\"erro\")","v":""},{"$f":"IFERROR(Gerar_Upload!C2943,\"erro\")","v":0},{"$f":"IFERROR(Gerar_Upload!D2943,\"erro\")","v":0},{"$f":"IFERROR(DATE(YEAR(Gerar_Upload!E2943),MONTH(Gerar_Upload!E2943),DAY(Gerar_Upload!E2943)),\"erro\")","v":"00:00:00"},{"$f":"IFERROR(Gerar_Upload!F2943,\"erro\")","v":0},{"$f":"IFERROR(IF(Gerar_Upload!G2943<44,REPT(0,44-LEN(Gerar_Upload!G2943))&Gerar_Upload!G2943,Gerar_Upload!G2943),\"erro\")","v":"00000000000000000000000000000000000000000000"}]
[{"$f":"IFERROR(LEFT(Gerar_Upload!A2944,120),\"erro\")","v":""},{"$f":"IFERROR(SUBSTITUTE(SUBSTITUTE(SUBSTITUTE(Gerar_Upload!B2944,\".\",\"\"),\"-\",\"\"),\"/\",\"\"),\"erro\")","v":""},{"$f":"IFERROR(Gerar_Upload!C2944,\"erro\")","v":0},{"$f":"IFERROR(Gerar_Upload!D2944,\"erro\")","v":0},{"$f":"IFERROR(DATE(YEAR(Gerar_Upload!E2944),MONTH(Gerar_Upload!E2944),DAY(Gerar_Upload!E2944)),\"erro\")","v":"00:00:00"},{"$f":"IFERROR(Gerar_Upload!F2944,\"erro\")","v":0},{"$f":"IFERROR(IF(Gerar_Upload!G2944<44,REPT(0,44-LEN(Gerar_Upload!G2944))&Gerar_Upload!G2944,Gerar_Upload!G2944),\"erro\")","v":"00000000000000000000000000000000000000000000"}]
[{"$f":"IFERROR(LEFT(Gerar_Upload!A2945,120),\"erro\")","v":""},{"$f":"IFERROR(SUBSTITUTE(SUBSTITUTE(SUBSTITUTE(Gerar_Upload!B2945,\".\",\"\"),\"-\",\"\"),\"/\",\"\"),\"erro\")","v":""},{"$f":"IFERROR(Gerar_Upload!C2945,\"erro\")","v":0},{"$f":"IFERROR(Gerar_Upload!D2945,\"erro\")","v":0},{"$f":"IFERROR(DATE(YEAR(Gerar_Upload!E2945),MONTH(Gerar_Upload!E2945),DAY(Gerar_Upload!E2945)),\"erro\")","v":"00:00:00"},{"$f":"IFERROR(Gerar_Upload!F2945,\"erro\")","v":0},{"$f":"IFERROR(IF(Gerar_Upload!G2945<44,REPT(0,44-LEN(Gerar_Upload!G2945))&Gerar_Upload!G2945,Gerar_Upload!G2945),\"erro\")","v":"00000000000000000000000000000000000000000000"}]
[{"$f":"IFERROR(LEFT(Gerar_Upload!A2946,120),\"erro\")","v":""},{"$f":"IFERROR(SUBSTITUTE(SUBSTITUTE(SUBSTITUTE(Gerar_Upload!B2946,\".\",\"\"),\"-\",\"\"),\"/\",\"\"),\"erro\")","v":""},{"$f":"IFERROR(Gerar_Upload!C2946,\"erro\")","v":0},{"$f":"IFERROR(Gerar_Upload!D2946,\"erro\")","v":0},{"$f":"IFERROR(DATE(YEAR(Gerar_Upload!E2946),MONTH(Gerar_Upload!E2946),DAY(Gerar_Upload!E2946)),\"erro\")","v":"00:00:00"},{"$f":"IFERROR(Gerar_Upload!F2946,\"erro\")","v":0},{"$f":"IFERROR(IF(Gerar_Upload!G2946<44,REPT(0,44-LEN(Gerar_Upload!G2946))&Gerar_Upload!G2946,Gerar_Upload!G2946),\"erro\")","v":"00000000000000000000000000000000000000000000"}]
[{"$f":"IFERROR(LEFT(Gerar_Upload!A2947,120),\"erro\")","v":""},{"$f":"IFERROR(SUBSTITUTE(SUBSTITUTE(SUBSTITUTE(Gerar_Upload!B2947,\".\",\"\"),\"-\",\"\"),\"/\",\"\"),\"erro\")","v":""},{"$f":"IFERROR(Gerar_Upload!C2947,\"erro\")","v":0},{"$f":"IFERROR(Gerar_Upload!D2947,\"erro\")","v":0},{"$f":"IFERROR(DATE(YEAR(Gerar_Upload!E2947),MONTH(Gerar_Upload!E2947),DAY(Gerar_Upload!E2947)),\"erro\")","v":"00:00:00"},{"$f":"IFERROR(Gerar_Upload!F2947,\"erro\")","v":0},{"$f":"IFERROR(IF(Gerar_Upload!G2947<44,REPT(0,44-LEN(Gerar_Upload!G2947))&Gerar_Upload!G2947,Gerar_Upload!G2947),\"erro\")","v":"00000000000000000000000000000000000000000000"}]
[{"$f":"IFERROR(LEFT(Gerar_Upload!A2948,120),\"erro\")","v":""},{"$f":"IFERROR(SUBSTITUTE(SUBSTITUTE(SUBSTITUTE(Gerar_Upload!B2948,\".\",\"\"),\"-\",\"\"),\"/\",\"\"),\"erro\")","v":""},{"$f":"IFERROR(Gerar_Upload!C2948,\"erro\")","v":0},{"$f":"IFERROR(Gerar_Upload!D2948,\"erro\")","v":0},{"$f":"IFERROR(DATE(YEAR(Gerar_Upload!E2948),MONTH(Gerar_Upload!E2948),DAY(Gerar_Upload!E2948)),\"erro\")","v":"00:00:00"},{"$f":"IFERROR(Gerar_Upload!F2948,\"erro\")","v":0},{"$f":"IFERROR(IF(Gerar_Upload!G2948<44,REPT(0,44-LEN(Gerar_Upload!G2948))&Gerar_Upload!G2948,Gerar_Upload!G2948),\"erro\")","v":"00000000000000000000000000000000000000000000"}]
[{"$f":"IFERROR(LEFT(Gerar_Upload!A2949,120),\"erro\")","v":""},{"$f":"IFERROR(SUBSTITUTE(SUBSTITUTE(SUBSTITUTE(Gerar_Upload!B2949,\".\",\"\"),\"-\",\"\"),\"/\",\"\"),\"erro\")","v":""},{"$f":"IFERROR(Gerar_Upload!C2949,\"erro\")","v":0},{"$f":"IFERROR(Gerar_Upload!D2949,\"erro\")","v":0},{"$f":"IFERROR(DATE(YEAR(Gerar_Upload!E2949),MONTH(Gerar_Upload!E2949),DAY(Gerar_Upload!E2949)),\"erro\")","v":"00:00:00"},{"$f":"IFERROR(Gerar_Upload!F2949,\"erro\")","v":0},{"$f":"IFERROR(IF(Gerar_Upload!G2949<44,REPT(0,44-LEN(Gerar_Upload!G2949))&Gerar_Upload!G2949,Gerar_Upload!G2949),\"erro\")","v":"00000000000000000000000000000000000000000000"}]
[{"$f":"IFERROR(LEFT(Gerar_Upload!A2950,120),\"erro\")","v":""},{"$f":"IFERROR(SUBSTITUTE(SUBSTITUTE(SUBSTITUTE(Gerar_Upload!B2950,\".\",\"\"),\"-\",\"\"),\"/\",\"\"),\"erro\")","v":""},{"$f":"IFERROR(Gerar_Upload!C2950,\"erro\")","v":0},{"$f":"IFERROR(Gerar_Upload!D2950,\"erro\")","v":0},{"$f":"IFERROR(DATE(YEAR(Gerar_Upload!E2950),MONTH(Gerar_Upload!E2950),DAY(Gerar_Upload!E2950)),\"erro\")","v":"00:00:00"},{"$f":"IFERROR(Gerar_Upload!F2950,\"erro\")","v":0},{"$f":"IFERROR(IF(Gerar_Upload!G2950<44,REPT(0,44-LEN(Gerar_Upload!G2950))&Gerar_Upload!G2950,Gerar_Upload!G2950),\"erro\")","v":"00000000000000000000000000000000000000000000"}]
[{"$f":"IFERROR(LEFT(Gerar_Upload!A2951,120),\"erro\")","v":""},{"$f":"IFERROR(SUBSTITUTE(SUBSTITUTE(SUBSTITUTE(Gerar_Upload!B2951,\".\",\"\"),\"-\",\"\"),\"/\",\"\"),\"erro\")","v":""},{"$f":"IFERROR(Gerar_Upload!C2951,\"erro\")","v":0},{"$f":"IFERROR(Gerar_Upload!D2951,\"erro\")","v":0},{"$f":"IFERROR(DATE(YEAR(Gerar_Upload!E2951),MONTH(Gerar_Upload!E2951),DAY(Gerar_Upload!E2951)),\"erro\")","v":"00:00:00"},{"$f":"IFERROR(Gerar_Upload!F2951,\"erro\")","v":0},{"$f":"IFERROR(IF(Gerar_Upload!G2951<44,REPT(0,44-LEN(Gerar_Upload!G2951))&Gerar_Upload!G2951,Gerar_Upload!G2951),\"erro\")","v":"00000000000000000000000000000000000000000000"}]
[{"$f":"IFERROR(LEFT(Gerar_Upload!A2952,120),\"erro\")","v":""},{"$f":"IFERROR(SUBSTITUTE(SUBSTITUTE(SUBSTITUTE(Gerar_Upload!B2952,\".\",\"\"),\"-\",\"\"),\"/\",\"\"),\"erro\")","v":""},{"$f":"IFERROR(Gerar_Upload!C2952,\"erro\")","v":0},{"$f":"IFERROR(Gerar_Upload!D2952,\"erro\")","v":0},{"$f":"IFERROR(DATE(YEAR(Gerar_Upload!E2952),MONTH(Gerar_Upload!E2952),DAY(Gerar_Upload!E2952)),\"erro\")","v":"00:00:00"},{"$f":"IFERROR(Gerar_Upload!F2952,\"erro\")","v":0},{"$f":"IFERROR(IF(Gerar_Upload!G2952<44,REPT(0,44-LEN(Gerar_Upload!G2952))&Gerar_Upload!G2952,Gerar_Upload!G2952),\"erro\")","v":"00000000000000000000000000000000000000000000"}]
[{"$f":"IFERROR(LEFT(Gerar_Upload!A2953,120),\"erro\")","v":""},{"$f":"IFERROR(SUBSTITUTE(SUBSTITUTE(SUBSTITUTE(Gerar_Upload!B2953,\".\",\"\"),\"-\",\"\"),\"/\",\"\"),\"erro\")","v":""},{"$f":"IFERROR(Gerar_Upload!C2953,\"erro\")","v":0},{"$f":"IFERROR(Gerar_Upload!D2953,\"erro\")","v":0},{"$f":"IFERROR(DATE(YEAR(Gerar_Upload!E2953),MONTH(Gerar_Upload!E2953),DAY(Gerar_Upload!E2953)),\"erro\")","v":"00:00:00"},{"$f":"IFERROR(Gerar_Upload!F2953,\"erro\")","v":0},{"$f":"IFERROR(IF(Gerar_Upload!G2953<44,REPT(0,44-LEN(Gerar_Upload!G2953))&Gerar_Upload!G2953,Gerar_Upload!G2953),\"erro\")","v":"00000000000000000000000000000000000000000000"}]
[{"$f":"IFERROR(LEFT(Gerar_Upload!A2954,120),\"erro\")","v":""},{"$f":"IFERROR(SUBSTITUTE(SUBSTITUTE(SUBSTITUTE(Gerar_Upload!B2954,\".\",\"\"),\"-\",\"\"),\"/\",\"\"),\"erro\")","v":""},{"$f":"IFERROR(Gerar_Upload!C2954,\"erro\")","v":0},{"$f":"IFERROR(Gerar_Upload!D2954,\"erro\")","v":0},{"$f":"IFERROR(DATE(YEAR(Gerar_Upload!E2954),MONTH(Gerar_Upload!E2954),DAY(Gerar_Upload!E2954)),\"erro\")","v":"00:00:00"},{"$f":"IFERROR(Gerar_Upload!F2954,\"erro\")","v":0},{"$f":"IFERROR(IF(Gerar_Upload!G2954<44,REPT(0,44-LEN(Gerar_Upload!G2954))&Gerar_Upload!G2954,Gerar_Upload!G2954),\"erro\")","v":"00000000000000000000000000000000000000000000"}]
[{"$f":"IFERROR(LEFT(Gerar_Upload!A2955,120),\"erro\")","v":""},{"$f":"IFERROR(SUBSTITUTE(SUBSTITUTE(SUBSTITUTE(Gerar_Upload!B2955,\".\",\"\"),\"-\",\"\"),\"/\",\"\"),\"erro\")","v":""},{"$f":"IFERROR(Gerar_Upload!C2955,\"erro\")","v":0},{"$f":"IFERROR(Gerar_Upload!D2955,\"erro\")","v":0},{"$f":"IFERROR(DATE(YEAR(Gerar_Upload!E2955),MONTH(Gerar_Upload!E2955),DAY(Gerar_Upload!E2955)),\"erro\")","v":"00:00:00"},{"$f":"IFERROR(Gerar_Upload!F2955,\"erro\")","v":0},{"$f":"IFERROR(IF(Gerar_Upload!G2955<44,REPT(0,44-LEN(Gerar_Upload!G2955))&Gerar_Upload!G2955,Gerar_Upload!G2955),\"erro\")","v":"00000000000000000000000000000000000000000000"}]
[{"$f":"IFERROR(LEFT(Gerar_Upload!A2956,120),\"erro\")","v":""},{"$f":"IFERROR(SUBSTITUTE(SUBSTITUTE(SUBSTITUTE(Gerar_Upload!B2956,\".\",\"\"),\"-\",\"\"),\"/\",\"\"),\"erro\")","v":""},{"$f":"IFERROR(Gerar_Upload!C2956,\"erro\")","v":0},{"$f":"IFERROR(Gerar_Upload!D2956,\"erro\")","v":0},{"$f":"IFERROR(DATE(YEAR(Gerar_Upload!E2956),MONTH(Gerar_Upload!E2956),DAY(Gerar_Upload!E2956)),\"erro\")","v":"00:00:00"},{"$f":"IFERROR(Gerar_Upload!F2956,\"erro\")","v":0},{"$f":"IFERROR(IF(Gerar_Upload!G2956<44,REPT(0,44-LEN(Gerar_Upload!G2956))&Gerar_Upload!G2956,Gerar_Upload!G2956),\"erro\")","v":"00000000000000000000000000000000000000000000"}]
[{"$f":"IFERROR(LEFT(Gerar_Upload!A2957,120),\"erro\")","v":""},{"$f":"IFERROR(SUBSTITUTE(SUBSTITUTE(SUBSTITUTE(Gerar_Upload!B2957,\".\",\"\"),\"-\",\"\"),\"/\",\"\"),\"erro\")","v":""},{"$f":"IFERROR(Gerar_Upload!C2957,\"erro\")","v":0},{"$f":"IFERROR(Gerar_Upload!D2957,\"erro\")","v":0},{"$f":"IFERROR(DATE(YEAR(Gerar_Upload!E2957),MONTH(Gerar_Upload!E2957),DAY(Gerar_Upload!E2957)),\"erro\")","v":"00:00:00"},{"$f":"IFERROR(Gerar_Upload!F2957,\"erro\")","v":0},{"$f":"IFERROR(IF(Gerar_Upload!G2957<44,REPT(0,44-LEN(Gerar_Upload!G2957))&Gerar_Upload!G2957,Gerar_Upload!G2957),\"erro\")","v":"00000000000000000000000000000000000000000000"}]
[{"$f":"IFERROR(LEFT(Gerar_Upload!A2958,120),\"erro\")","v":""},{"$f":"IFERROR(SUBSTITUTE(SUBSTITUTE(SUBSTITUTE(Gerar_Upload!B2958,\".\",\"\"),\"-\",\"\"),\"/\",\"\"),\"erro\")","v":""},{"$f":"IFERROR(Gerar_Upload!C2958,\"erro\")","v":0},{"$f":"IFERROR(Gerar_Upload!D2958,\"erro\")","v":0},{"$f":"IFERROR(DATE(YEAR(Gerar_Upload!E2958),MONTH(Gerar_Upload!E2958),DAY(Gerar_Upload!E2958)),\"erro\")","v":"00:00:00"},{"$f":"IFERROR(Gerar_Upload!F2958,\"erro\")","v":0},{"$f":"IFERROR(IF(Gerar_Upload!G2958<44,REPT(0,44-LEN(Gerar_Upload!G2958))&Gerar_Upload!G2958,Gerar_Upload!G2958),\"erro\")","v":"00000000000000000000000000000000000000000000"}]
[{"$f":"IFERROR(LEFT(Gerar_Upload!A2959,120),\"erro\")","v":""},{"$f":"IFERROR(SUBSTITUTE(SUBSTITUTE(SUBSTITUTE(Gerar_Upload!B2959,\".\",\"\"),\"-\",\"\"),\"/\",\"\"),\"erro\")","v":""},{"$f":"IFERROR(Gerar_Upload!C2959,\"erro\")","v":0},{"$f":"IFERROR(Gerar_Upload!D2959,\"erro\")","v":0},{"$f":"IFERROR(DATE(YEAR(Gerar_Upload!E2959),MONTH(Gerar_Upload!E2959),DAY(Gerar_Upload!E2959)),\"erro\")","v":"00:00:00"},{"$f":"IFERROR(Gerar_Upload!F2959,\"erro\")","v":0},{"$f":"IFERROR(IF(Gerar_Upload!G2959<44,REPT(0,44-LEN(Gerar_Upload!G2959))&Gerar_Upload!G2959,Gerar_Upload!G2959),\"erro\")","v":"00000000000000000000000000000000000000000000"}]
[{"$f":"IFERROR(LEFT(Gerar_Upload!A2960,120),\"erro\")","v":""},{"$f":"IFERROR(SUBSTITUTE(SUBSTITUTE(SUBSTITUTE(Gerar_Upload!B2960,\".\",\"\"),\"-\",\"\"),\"/\",\"\"),\"erro\")","v":""},{"$f":"IFERROR(Gerar_Upload!C2960,\"erro\")","v":0},{"$f":"IFERROR(Gerar_Upload!D2960,\"erro\")","v":0},{"$f":"IFERROR(DATE(YEAR(Gerar_Upload!E2960),MONTH(Gerar_Upload!E2960),DAY(Gerar_Upload!E2960)),\"erro\")","v":"00:00:00"},{"$f":"IFERROR(Gerar_Upload!F2960,\"erro\")","v":0},{"$f":"IFERROR(IF(Gerar_Upload!G2960<44,REPT(0,44-LEN(Gerar_Upload!G2960))&Gerar_Upload!G2960,Gerar_Upload!G2960),\"erro\")","v":"00000000000000000000000000000000000000000000"}]
[{"$f":"IFERROR(LEFT(Gerar_Upload!A2961,120),\"erro\")","v":""},{"$f":"IFERROR(SUBSTITUTE(SUBSTITUTE(SUBSTITUTE(Gerar_Upload!B2961,\".\",\"\"),\"-\",\"\"),\"/\",\"\"),\"erro\")","v":""},{"$f":"IFERROR(Gerar_Upload!C2961,\"erro\")","v":0},{"$f":"IFERROR(Gerar_Upload!D2961,\"erro\")","v":0},{"$f":"IFERROR(DATE(YEAR(Gerar_Upload!E2961),MONTH(Gerar_Upload!E2961),DAY(Gerar_Upload!E2961)),\"erro\")","v":"00:00:00"},{"$f":"IFERROR(Gerar_Upload!F2961,\"erro\")","v":0},{"$f":"IFERROR(IF(Gerar_Upload!G2961<44,REPT(0,44-LEN(Gerar_Upload!G2961))&Gerar_Upload!G2961,Gerar_Upload!G2961),\"erro\")","v":"00000000000000000000000000000000000000000000"}]
[{"$f":"IFERROR(LEFT(Gerar_Upload!A2962,120),\"erro\")","v":""},{"$f":"IFERROR(SUBSTITUTE(SUBSTITUTE(SUBSTITUTE(Gerar_Upload!B2962,\".\",\"\"),\"-\",\"\"),\"/\",\"\"),\"erro\")","v":""},{"$f":"IFERROR(Gerar_Upload!C2962,\"erro\")","v":0},{"$f":"IFERROR(Gerar_Upload!D2962,\"erro\")","v":0},{"$f":"IFERROR(DATE(YEAR(Gerar_Upload!E2962),MONTH(Gerar_Upload!E2962),DAY(Gerar_Upload!E2962)),\"erro\")","v":"00:00:00"},{"$f":"IFERROR(Gerar_Upload!F2962,\"erro\")","v":0},{"$f":"IFERROR(IF(Gerar_Upload!G2962<44,REPT(0,44-LEN(Gerar_Upload!G2962))&Gerar_Upload!G2962,Gerar_Upload!G2962),\"erro\")","v":"00000000000000000000000000000000000000000000"}]
[{"$f":"IFERROR(LEFT(Gerar_Upload!A2963,120),\"erro\")","v":""},{"$f":"IFERROR(SUBSTITUTE(SUBSTITUTE(SUBSTITUTE(Gerar_Upload!B2963,\".\",\"\"),\"-\",\"\"),\"/\",\"\"),\"erro\")","v":""},{"$f":"IFERROR(Gerar_Upload!C2963,\"erro\")","v":0},{"$f":"IFERROR(Gerar_Upload!D2963,\"erro\")","v":0},{"$f":"IFERROR(DATE(YEAR(Gerar_Upload!E2963),MONTH(Gerar_Upload!E2963),DAY(Gerar_Upload!E2963)),\"erro\")","v":"00:00:00"},{"$f":"IFERROR(Gerar_Upload!F2963,\"erro\")","v":0},{"$f":"IFERROR(IF(Gerar_Upload!G2963<44,REPT(0,44-LEN(Gerar_Upload!G2963))&Gerar_Upload!G2963,Gerar_Upload!G2963),\"erro\")","v":"00000000000000000000000000000000000000000000"}]
[{"$f":"IFERROR(LEFT(Gerar_Upload!A2964,120),\"erro\")","v":""},{"$f":"IFERROR(SUBSTITUTE(SUBSTITUTE(SUBSTITUTE(Gerar_Upload!B2964,\".\",\"\"),\"-\",\"\"),\"/\",\"\"),\"erro\")","v":""},{"$f":"IFERROR(Gerar_Upload!C2964,\"erro\")","v":0},{"$f":"IFERROR(Gerar_Upload!D2964,\"erro\")","v":0},{"$f":"IFERROR(DATE(YEAR(Gerar_Upload!E2964),MONTH(Gerar_Upload!E2964),DAY(Gerar_Upload!E2964)),\"erro\")","v":"00:00:00"},{"$f":"IFERROR(Gerar_Upload!F2964,\"erro\")","v":0},{"$f":"IFERROR(IF(Gerar_Upload!G2964<44,REPT(0,44-LEN(Gerar_Upload!G2964))&Gerar_Upload!G2964,Gerar_Upload!G2964),\"erro\")","v":"00000000000000000000000000000000000000000000"}]
[{"$f":"IFERROR(LEFT(Gerar_Upload!A2965,120),\"erro\")","v":""},{"$f":"IFERROR(SUBSTITUTE(SUBSTITUTE(SUBSTITUTE(Gerar_Upload!B2965,\".\",\"\"),\"-\",\"\"),\"/\",\"\"),\"erro\")","v":""},{"$f":"IFERROR(Gerar_Upload!C2965,\"erro\")","v":0},{"$f":"IFERROR(Gerar_Upload!D2965,\"erro\")","v":0},{"$f":"IFERROR(DATE(YEAR(Gerar_Upload!E2965),MONTH(Gerar_Upload!E2965),DAY(Gerar_Upload!E2965)),\"erro\")","v":"00:00:00"},{"$f":"IFERROR(Gerar_Upload!F2965,\"erro\")","v":0},{"$f":"IFERROR(IF(Gerar_Upload!G2965<44,REPT(0,44-LEN(Gerar_Upload!G2965))&Gerar_Upload!G2965,Gerar_Upload!G2965),\"erro\")","v":"00000000000000000000000000000000000000000000"}]
[{"$f":"IFERROR(LEFT(Gerar_Upload!A2966,120),\"erro\")","v":""},{"$f":"IFERROR(SUBSTITUTE(SUBSTITUTE(SUBSTITUTE(Gerar_Upload!B2966,\".\",\"\"),\"-\",\"\"),\"/\",\"\"),\"erro\")","v":""},{"$f":"IFERROR(Gerar_Upload!C2966,\"erro\")","v":0},{"$f":"IFERROR(Gerar_Upload!D2966,\"erro\")","v":0},{"$f":"IFERROR(DATE(YEAR(Gerar_Upload!E2966),MONTH(Gerar_Upload!E2966),DAY(Gerar_Upload!E2966)),\"erro\")","v":"00:00:00"},{"$f":"IFERROR(Gerar_Upload!F2966,\"erro\")","v":0},{"$f":"IFERROR(IF(Gerar_Upload!G2966<44,REPT(0,44-LEN(Gerar_Upload!G2966))&Gerar_Upload!G2966,Gerar_Upload!G2966),\"erro\")","v":"00000000000000000000000000000000000000000000"}]
[{"$f":"IFERROR(LEFT(Gerar_Upload!A2967,120),\"erro\")","v":""},{"$f":"IFERROR(SUBSTITUTE(SUBSTITUTE(SUBSTITUTE(Gerar_Upload!B2967,\".\",\"\"),\"-\",\"\"),\"/\",\"\"),\"erro\")","v":""},{"$f":"IFERROR(Gerar_Upload!C2967,\"erro\")","v":0},{"$f":"IFERROR(Gerar_Upload!D2967,\"erro\")","v":0},{"$f":"IFERROR(DATE(YEAR(Gerar_Upload!E2967),MONTH(Gerar_Upload!E2967),DAY(Gerar_Upload!E2967)),\"erro\")","v":"00:00:00"},{"$f":"IFERROR(Gerar_Upload!F2967,\"erro\")","v":0},{"$f":"IFERROR(IF(Gerar_Upload!G2967<44,REPT(0,44-LEN(Gerar_Upload!G2967))&Gerar_Upload!G2967,Gerar_Upload!G2967),\"erro\")","v":"00000000000000000000000000000000000000000000"}]
[{"$f":"IFERROR(LEFT(Gerar_Upload!A2968,120),\"erro\")","v":""},{"$f":"IFERROR(SUBSTITUTE(SUBSTITUTE(SUBSTITUTE(Gerar_Upload!B2968,\".\",\"\"),\"-\",\"\"),\"/\",\"\"),\"erro\")","v":""},{"$f":"IFERROR(Gerar_Upload!C2968,\"erro\")","v":0},{"$f":"IFERROR(Gerar_Upload!D2968,\"erro\")","v":0},{"$f":"IFERROR(DATE(YEAR(Gerar_Upload!E2968),MONTH(Gerar_Upload!E2968),DAY(Gerar_Upload!E2968)),\"erro\")","v":"00:00:00"},{"$f":"IFERROR(Gerar_Upload!F2968,\"erro\")","v":0},{"$f":"IFERROR(IF(Gerar_Upload!G2968<44,REPT(0,44-LEN(Gerar_Upload!G2968))&Gerar_Upload!G2968,Gerar_Upload!G2968),\"erro\")","v":"00000000000000000000000000000000000000000000"}]
[{"$f":"IFERROR(LEFT(Gerar_Upload!A2969,120),\"erro\")","v":""},{"$f":"IFERROR(SUBSTITUTE(SUBSTITUTE(SUBSTITUTE(Gerar_Upload!B2969,\".\",\"\"),\"-\",\"\"),\"/\",\"\"),\"erro\")","v":""},{"$f":"IFERROR(Gerar_Upload!C2969,\"erro\")","v":0},{"$f":"IFERROR(Gerar_Upload!D2969,\"erro\")","v":0},{"$f":"IFERROR(DATE(YEAR(Gerar_Upload!E2969),MONTH(Gerar_Upload!E2969),DAY(Gerar_Upload!E2969)),\"erro\")","v":"00:00:00"},{"$f":"IFERROR(Gerar_Upload!F2969,\"erro\")","v":0},{"$f":"IFERROR(IF(Gerar_Upload!G2969<44,REPT(0,44-LEN(Gerar_Upload!G2969))&Gerar_Upload!G2969,Gerar_Upload!G2969),\"erro\")","v":"00000000000000000000000000000000000000000000"}]
[{"$f":"IFERROR(LEFT(Gerar_Upload!A2970,120),\"erro\")","v":""},{"$f":"IFERROR(SUBSTITUTE(SUBSTITUTE(SUBSTITUTE(Gerar_Upload!B2970,\".\",\"\"),\"-\",\"\"),\"/\",\"\"),\"erro\")","v":""},{"$f":"IFERROR(Gerar_Upload!C2970,\"erro\")","v":0},{"$f":"IFERROR(Gerar_Upload!D2970,\"erro\")","v":0},{"$f":"IFERROR(DATE(YEAR(Gerar_Upload!E2970),MONTH(Gerar_Upload!E2970),DAY(Gerar_Upload!E2970)),\"erro\")","v":"00:00:00"},{"$f":"IFERROR(Gerar_Upload!F2970,\"erro\")","v":0},{"$f":"IFERROR(IF(Gerar_Upload!G2970<44,REPT(0,44-LEN(Gerar_Upload!G2970))&Gerar_Upload!G2970,Gerar_Upload!G2970),\"erro\")","v":"00000000000000000000000000000000000000000000"}]
[{"$f":"IFERROR(LEFT(Gerar_Upload!A2971,120),\"erro\")","v":""},{"$f":"IFERROR(SUBSTITUTE(SUBSTITUTE(SUBSTITUTE(Gerar_Upload!B2971,\".\",\"\"),\"-\",\"\"),\"/\",\"\"),\"erro\")","v":""},{"$f":"IFERROR(Gerar_Upload!C2971,\"erro\")","v":0},{"$f":"IFERROR(Gerar_Upload!D2971,\"erro\")","v":0},{"$f":"IFERROR(DATE(YEAR(Gerar_Upload!E2971),MONTH(Gerar_Upload!E2971),DAY(Gerar_Upload!E2971)),\"erro\")","v":"00:00:00"},{"$f":"IFERROR(Gerar_Upload!F2971,\"erro\")","v":0},{"$f":"IFERROR(IF(Gerar_Upload!G2971<44,REPT(0,44-LEN(Gerar_Upload!G2971))&Gerar_Upload!G2971,Gerar_Upload!G2971),\"erro\")","v":"00000000000000000000000000000000000000000000"}]
[{"$f":"IFERROR(LEFT(Gerar_Upload!A2972,120),\"erro\")","v":""},{"$f":"IFERROR(SUBSTITUTE(SUBSTITUTE(SUBSTITUTE(Gerar_Upload!B2972,\".\",\"\"),\"-\",\"\"),\"/\",\"\"),\"erro\")","v":""},{"$f":"IFERROR(Gerar_Upload!C2972,\"erro\")","v":0},{"$f":"IFERROR(Gerar_Upload!D2972,\"erro\")","v":0},{"$f":"IFERROR(DATE(YEAR(Gerar_Upload!E2972),MONTH(Gerar_Upload!E2972),DAY(Gerar_Upload!E2972)),\"erro\")","v":"00:00:00"},{"$f":"IFERROR(Gerar_Upload!F2972,\"erro\")","v":0},{"$f":"IFERROR(IF(Gerar_Upload!G2972<44,REPT(0,44-LEN(Gerar_Upload!G2972))&Gerar_Upload!G2972,Gerar_Upload!G2972),\"erro\")","v":"00000000000000000000000000000000000000000000"}]
[{"$f":"IFERROR(LEFT(Gerar_Upload!A2973,120),\"erro\")","v":""},{"$f":"IFERROR(SUBSTITUTE(SUBSTITUTE(SUBSTITUTE(Gerar_Upload!B2973,\".\",\"\"),\"-\",\"\"),\"/\",\"\"),\"erro\")","v":""},{"$f":"IFERROR(Gerar_Upload!C2973,\"erro\")","v":0},{"$f":"IFERROR(Gerar_Upload!D2973,\"erro\")","v":0},{"$f":"IFERROR(DATE(YEAR(Gerar_Upload!E2973),MONTH(Gerar_Upload!E2973),DAY(Gerar_Upload!E2973)),\"erro\")","v":"00:00:00"},{"$f":"IFERROR(Gerar_Upload!F2973,\"erro\")","v":0},{"$f":"IFERROR(IF(Gerar_Upload!G2973<44,REPT(0,44-LEN(Gerar_Upload!G2973))&Gerar_Upload!G2973,Gerar_Upload!G2973),\"erro\")","v":"00000000000000000000000000000000000000000000"}]
[{"$f":"IFERROR(LEFT(Gerar_Upload!A2974,120),\"erro\")","v":""},{"$f":"IFERROR(SUBSTITUTE(SUBSTITUTE(SUBSTITUTE(Gerar_Upload!B2974,\".\",\"\"),\"-\",\"\"),\"/\",\"\"),\"erro\")","v":""},{"$f":"IFERROR(Gerar_Upload!C2974,\"erro\")","v":0},{"$f":"IFERROR(Gerar_Upload!D2974,\"erro\")","v":0},{"$f":"IFERROR(DATE(YEAR(Gerar_Upload!E2974),MONTH(Gerar_Upload!E2974),DAY(Gerar_Upload!E2974)),\"erro\")","v":"00:00:00"},{"$f":"IFERROR(Gerar_Upload!F2974,\"erro\")","v":0},{"$f":"IFERROR(IF(Gerar_Upload!G2974<44,REPT(0,44-LEN(Gerar_Upload!G2974))&Gerar_Upload!G2974,Gerar_Upload!G2974),\"erro\")","v":"00000000000000000000000000000000000000000000"}]
[{"$f":"IFERROR(LEFT(Gerar_Upload!A2975,120),\"erro\")","v":""},{"$f":"IFERROR(SUBSTITUTE(SUBSTITUTE(SUBSTITUTE(Gerar_Upload!B2975,\".\",\"\"),\"-\",\"\"),\"/\",\"\"),\"erro\")","v":""},{"$f":"IFERROR(Gerar_Upload!C2975,\"erro\")","v":0},{"$f":"IFERROR(Gerar_Upload!D2975,\"erro\")","v":0},{"$f":"IFERROR(DATE(YEAR(Gerar_Upload!E2975),MONTH(Gerar_Upload!E2975),DAY(Gerar_Upload!E2975)),\"erro\")","v":"00:00:00"},{"$f":"IFERROR(Gerar_Upload!F2975,\"erro\")","v":0},{"$f":"IFERROR(IF(Gerar_Upload!G2975<44,REPT(0,44-LEN(Gerar_Upload!G2975))&Gerar_Upload!G2975,Gerar_Upload!G2975),\"erro\")","v":"00000000000000000000000000000000000000000000"}]
[{"$f":"IFERROR(LEFT(Gerar_Upload!A2976,120),\"erro\")","v":""},{"$f":"IFERROR(SUBSTITUTE(SUBSTITUTE(SUBSTITUTE(Gerar_Upload!B2976,\".\",\"\"),\"-\",\"\"),\"/\",\"\"),\"erro\")","v":""},{"$f":"IFERROR(Gerar_Upload!C2976,\"erro\")","v":0},{"$f":"IFERROR(Gerar_Upload!D2976,\"erro\")","v":0},{"$f":"IFERROR(DATE(YEAR(Gerar_Upload!E2976),MONTH(Gerar_Upload!E2976),DAY(Gerar_Upload!E2976)),\"erro\")","v":"00:00:00"},{"$f":"IFERROR(Gerar_Upload!F2976,\"erro\")","v":0},{"$f":"IFERROR(IF(Gerar_Upload!G2976<44,REPT(0,44-LEN(Gerar_Upload!G2976))&Gerar_Upload!G2976,Gerar_Upload!G2976),\"erro\")","v":"00000000000000000000000000000000000000000000"}]
[{"$f":"IFERROR(LEFT(Gerar_Upload!A2977,120),\"erro\")","v":""},{"$f":"IFERROR(SUBSTITUTE(SUBSTITUTE(SUBSTITUTE(Gerar_Upload!B2977,\".\",\"\"),\"-\",\"\"),\"/\",\"\"),\"erro\")","v":""},{"$f":"IFERROR(Gerar_Upload!C2977,\"erro\")","v":0},{"$f":"IFERROR(Gerar_Upload!D2977,\"erro\")","v":0},{"$f":"IFERROR(DATE(YEAR(Gerar_Upload!E2977),MONTH(Gerar_Upload!E2977),DAY(Gerar_Upload!E2977)),\"erro\")","v":"00:00:00"},{"$f":"IFERROR(Gerar_Upload!F2977,\"erro\")","v":0},{"$f":"IFERROR(IF(Gerar_Upload!G2977<44,REPT(0,44-LEN(Gerar_Upload!G2977))&Gerar_Upload!G2977,Gerar_Upload!G2977),\"erro\")","v":"00000000000000000000000000000000000000000000"}]
[{"$f":"IFERROR(LEFT(Gerar_Upload!A2978,120),\"erro\")","v":""},{"$f":"IFERROR(SUBSTITUTE(SUBSTITUTE(SUBSTITUTE(Gerar_Upload!B2978,\".\",\"\"),\"-\",\"\"),\"/\",\"\"),\"erro\")","v":""},{"$f":"IFERROR(Gerar_Upload!C2978,\"erro\")","v":0},{"$f":"IFERROR(Gerar_Upload!D2978,\"erro\")","v":0},{"$f":"IFERROR(DATE(YEAR(Gerar_Upload!E2978),MONTH(Gerar_Upload!E2978),DAY(Gerar_Upload!E2978)),\"erro\")","v":"00:00:00"},{"$f":"IFERROR(Gerar_Upload!F2978,\"erro\")","v":0},{"$f":"IFERROR(IF(Gerar_Upload!G2978<44,REPT(0,44-LEN(Gerar_Upload!G2978))&Gerar_Upload!G2978,Gerar_Upload!G2978),\"erro\")","v":"00000000000000000000000000000000000000000000"}]
[{"$f":"IFERROR(LEFT(Gerar_Upload!A2979,120),\"erro\")","v":""},{"$f":"IFERROR(SUBSTITUTE(SUBSTITUTE(SUBSTITUTE(Gerar_Upload!B2979,\".\",\"\"),\"-\",\"\"),\"/\",\"\"),\"erro\")","v":""},{"$f":"IFERROR(Gerar_Upload!C2979,\"erro\")","v":0},{"$f":"IFERROR(Gerar_Upload!D2979,\"erro\")","v":0},{"$f":"IFERROR(DATE(YEAR(Gerar_Upload!E2979),MONTH(Gerar_Upload!E2979),DAY(Gerar_Upload!E2979)),\"erro\")","v":"00:00:00"},{"$f":"IFERROR(Gerar_Upload!F2979,\"erro\")","v":0},{"$f":"IFERROR(IF(Gerar_Upload!G2979<44,REPT(0,44-LEN(Gerar_Upload!G2979))&Gerar_Upload!G2979,Gerar_Upload!G2979),\"erro\")","v":"00000000000000000000000000000000000000000000"}]
[{"$f":"IFERROR(LEFT(Gerar_Upload!A2980,120),\"erro\")","v":""},{"$f":"IFERROR(SUBSTITUTE(SUBSTITUTE(SUBSTITUTE(Gerar_Upload!B2980,\".\",\"\"),\"-\",\"\"),\"/\",\"\"),\"erro\")","v":""},{"$f":"IFERROR(Gerar_Upload!C2980,\"erro\")","v":0},{"$f":"IFERROR(Gerar_Upload!D2980,\"erro\")","v":0},{"$f":"IFERROR(DATE(YEAR(Gerar_Upload!E2980),MONTH(Gerar_Upload!E2980),DAY(Gerar_Upload!E2980)),\"erro\")","v":"00:00:00"},{"$f":"IFERROR(Gerar_Upload!F2980,\"erro\")","v":0},{"$f":"IFERROR(IF(Gerar_Upload!G2980<44,REPT(0,44-LEN(Gerar_Upload!G2980))&Gerar_Upload!G2980,Gerar_Upload!G2980),\"erro\")","v":"00000000000000000000000000000000000000000000"}]
[{"$f":"IFERROR(LEFT(Gerar_Upload!A2981,120),\"erro\")","v":""},{"$f":"IFERROR(SUBSTITUTE(SUBSTITUTE(SUBSTITUTE(Gerar_Upload!B2981,\".\",\"\"),\"-\",\"\"),\"/\",\"\"),\"erro\")","v":""},{"$f":"IFERROR(Gerar_Upload!C2981,\"erro\")","v":0},{"$f":"IFERROR(Gerar_Upload!D2981,\"erro\")","v":0},{"$f":"IFERROR(DATE(YEAR(Gerar_Upload!E2981),MONTH(Gerar_Upload!E2981),DAY(Gerar_Upload!E2981)),\"erro\")","v":"00:00:00"},{"$f":"IFERROR(Gerar_Upload!F2981,\"erro\")","v":0},{"$f":"IFERROR(IF(Gerar_Upload!G2981<44,REPT(0,44-LEN(Gerar_Upload!G2981))&Gerar_Upload!G2981,Gerar_Upload!G2981),\"erro\")","v":"00000000000000000000000000000000000000000000"}]
[{"$f":"IFERROR(LEFT(Gerar_Upload!A2982,120),\"erro\")","v":""},{"$f":"IFERROR(SUBSTITUTE(SUBSTITUTE(SUBSTITUTE(Gerar_Upload!B2982,\".\",\"\"),\"-\",\"\"),\"/\",\"\"),\"erro\")","v":""},{"$f":"IFERROR(Gerar_Upload!C2982,\"erro\")","v":0},{"$f":"IFERROR(Gerar_Upload!D2982,\"erro\")","v":0},{"$f":"IFERROR(DATE(YEAR(Gerar_Upload!E2982),MONTH(Gerar_Upload!E2982),DAY(Gerar_Upload!E2982)),\"erro\")","v":"00:00:00"},{"$f":"IFERROR(Gerar_Upload!F2982,\"erro\")","v":0},{"$f":"IFERROR(IF(Gerar_Upload!G2982<44,REPT(0,44-LEN(Gerar_Upload!G2982))&Gerar_Upload!G2982,Gerar_Upload!G2982),\"erro\")","v":"00000000000000000000000000000000000000000000"}]
[{"$f":"IFERROR(LEFT(Gerar_Upload!A2983,120),\"erro\")","v":""},{"$f":"IFERROR(SUBSTITUTE(SUBSTITUTE(SUBSTITUTE(Gerar_Upload!B2983,\".\",\"\"),\"-\",\"\"),\"/\",\"\"),\"erro\")","v":""},{"$f":"IFERROR(Gerar_Upload!C2983,\"erro\")","v":0},{"$f":"IFERROR(Gerar_Upload!D2983,\"erro\")","v":0},{"$f":"IFERROR(DATE(YEAR(Gerar_Upload!E2983),MONTH(Gerar_Upload!E2983),DAY(Gerar_Upload!E2983)),\"erro\")","v":"00:00:00"},{"$f":"IFERROR(Gerar_Upload!F2983,\"erro\")","v":0},{"$f":"IFERROR(IF(Gerar_Upload!G2983<44,REPT(0,44-LEN(Gerar_Upload!G2983))&Gerar_Upload!G2983,Gerar_Upload!G2983),\"erro\")","v":"00000000000000000000000000000000000000000000"}]
[{"$f":"IFERROR(LEFT(Gerar_Upload!A2984,120),\"erro\")","v":""},{"$f":"IFERROR(SUBSTITUTE(SUBSTITUTE(SUBSTITUTE(Gerar_Upload!B2984,\".\",\"\"),\"-\",\"\"),\"/\",\"\"),\"erro\")","v":""},{"$f":"IFERROR(Gerar_Upload!C2984,\"erro\")","v":0},{"$f":"IFERROR(Gerar_Upload!D2984,\"erro\")","v":0},{"$f":"IFERROR(DATE(YEAR(Gerar_Upload!E2984),MONTH(Gerar_Upload!E2984),DAY(Gerar_Upload!E2984)),\"erro\")","v":"00:00:00"},{"$f":"IFERROR(Gerar_Upload!F2984,\"erro\")","v":0},{"$f":"IFERROR(IF(Gerar_Upload!G2984<44,REPT(0,44-LEN(Gerar_Upload!G2984))&Gerar_Upload!G2984,Gerar_Upload!G2984),\"erro\")","v":"00000000000000000000000000000000000000000000"}]
[{"$f":"IFERROR(LEFT(Gerar_Upload!A2985,120),\"erro\")","v":""},{"$f":"IFERROR(SUBSTITUTE(SUBSTITUTE(SUBSTITUTE(Gerar_Upload!B2985,\".\",\"\"),\"-\",\"\"),\"/\",\"\"),\"erro\")","v":""},{"$f":"IFERROR(Gerar_Upload!C2985,\"erro\")","v":0},{"$f":"IFERROR(Gerar_Upload!D2985,\"erro\")","v":0},{"$f":"IFERROR(DATE(YEAR(Gerar_Upload!E2985),MONTH(Gerar_Upload!E2985),DAY(Gerar_Upload!E2985)),\"erro\")","v":"00:00:00"},{"$f":"IFERROR(Gerar_Upload!F2985,\"erro\")","v":0},{"$f":"IFERROR(IF(Gerar_Upload!G2985<44,REPT(0,44-LEN(Gerar_Upload!G2985))&Gerar_Upload!G2985,Gerar_Upload!G2985),\"erro\")","v":"00000000000000000000000000000000000000000000"}]
[{"$f":"IFERROR(LEFT(Gerar_Upload!A2986,120),\"erro\")","v":""},{"$f":"IFERROR(SUBSTITUTE(SUBSTITUTE(SUBSTITUTE(Gerar_Upload!B2986,\".\",\"\"),\"-\",\"\"),\"/\",\"\"),\"erro\")","v":""},{"$f":"IFERROR(Gerar_Upload!C2986,\"erro\")","v":0},{"$f":"IFERROR(Gerar_Upload!D2986,\"erro\")","v":0},{"$f":"IFERROR(DATE(YEAR(Gerar_Upload!E2986),MONTH(Gerar_Upload!E2986),DAY(Gerar_Upload!E2986)),\"erro\")","v":"00:00:00"},{"$f":"IFERROR(Gerar_Upload!F2986,\"erro\")","v":0},{"$f":"IFERROR(IF(Gerar_Upload!G2986<44,REPT(0,44-LEN(Gerar_Upload!G2986))&Gerar_Upload!G2986,Gerar_Upload!G2986),\"erro\")","v":"00000000000000000000000000000000000000000000"}]
[{"$f":"IFERROR(LEFT(Gerar_Upload!A2987,120),\"erro\")","v":""},{"$f":"IFERROR(SUBSTITUTE(SUBSTITUTE(SUBSTITUTE(Gerar_Upload!B2987,\".\",\"\"),\"-\",\"\"),\"/\",\"\"),\"erro\")","v":""},{"$f":"IFERROR(Gerar_Upload!C2987,\"erro\")","v":0},{"$f":"IFERROR(Gerar_Upload!D2987,\"erro\")","v":0},{"$f":"IFERROR(DATE(YEAR(Gerar_Upload!E2987),MONTH(Gerar_Upload!E2987),DAY(Gerar_Upload!E2987)),\"erro\")","v":"00:00:00"},{"$f":"IFERROR(Gerar_Upload!F2987,\"erro\")","v":0},{"$f":"IFERROR(IF(Gerar_Upload!G2987<44,REPT(0,44-LEN(Gerar_Upload!G2987))&Gerar_Upload!G2987,Gerar_Upload!G2987),\"erro\")","v":"00000000000000000000000000000000000000000000"}]
[{"$f":"IFERROR(LEFT(Gerar_Upload!A2988,120),\"erro\")","v":""},{"$f":"IFERROR(SUBSTITUTE(SUBSTITUTE(SUBSTITUTE(Gerar_Upload!B2988,\".\",\"\"),\"-\",\"\"),\"/\",\"\"),\"erro\")","v":""},{"$f":"IFERROR(Gerar_Upload!C2988,\"erro\")","v":0},{"$f":"IFERROR(Gerar_Upload!D2988,\"erro\")","v":0},{"$f":"IFERROR(DATE(YEAR(Gerar_Upload!E2988),MONTH(Gerar_Upload!E2988),DAY(Gerar_Upload!E2988)),\"erro\")","v":"00:00:00"},{"$f":"IFERROR(Gerar_Upload!F2988,\"erro\")","v":0},{"$f":"IFERROR(IF(Gerar_Upload!G2988<44,REPT(0,44-LEN(Gerar_Upload!G2988))&Gerar_Upload!G2988,Gerar_Upload!G2988),\"erro\")","v":"00000000000000000000000000000000000000000000"}]
[{"$f":"IFERROR(LEFT(Gerar_Upload!A2989,120),\"erro\")","v":""},{"$f":"IFERROR(SUBSTITUTE(SUBSTITUTE(SUBSTITUTE(Gerar_Upload!B2989,\".\",\"\"),\"-\",\"\"),\"/\",\"\"),\"erro\")","v":""},{"$f":"IFERROR(Gerar_Upload!C2989,\"erro\")","v":0},{"$f":"IFERROR(Gerar_Upload!D2989,\"erro\")","v":0},{"$f":"IFERROR(DATE(YEAR(Gerar_Upload!E2989),MONTH(Gerar_Upload!E2989),DAY(Gerar_Upload!E2989)),\"erro\")","v":"00:00:00"},{"$f":"IFERROR(Gerar_Upload!F2989,\"erro\")","v":0},{"$f":"IFERROR(IF(Gerar_Upload!G2989<44,REPT(0,44-LEN(Gerar_Upload!G2989))&Gerar_Upload!G2989,Gerar_Upload!G2989),\"erro\")","v":"00000000000000000000000000000000000000000000"}]
[{"$f":"IFERROR(LEFT(Gerar_Upload!A2990,120),\"erro\")","v":""},{"$f":"IFERROR(SUBSTITUTE(SUBSTITUTE(SUBSTITUTE(Gerar_Upload!B2990,\".\",\"\"),\"-\",\"\"),\"/\",\"\"),\"erro\")","v":""},{"$f":"IFERROR(Gerar_Upload!C2990,\"erro\")","v":0},{"$f":"IFERROR(Gerar_Upload!D2990,\"erro\")","v":0},{"$f":"IFERROR(DATE(YEAR(Gerar_Upload!E2990),MONTH(Gerar_Upload!E2990),DAY(Gerar_Upload!E2990)),\"erro\")","v":"00:00:00"},{"$f":"IFERROR(Gerar_Upload!F2990,\"erro\")","v":0},{"$f":"IFERROR(IF(Gerar_Upload!G2990<44,REPT(0,44-LEN(Gerar_Upload!G2990))&Gerar_Upload!G2990,Gerar_Upload!G2990),\"erro\")","v":"00000000000000000000000000000000000000000000"}]
[{"$f":"IFERROR(LEFT(Gerar_Upload!A2991,120),\"erro\")","v":""},{"$f":"IFERROR(SUBSTITUTE(SUBSTITUTE(SUBSTITUTE(Gerar_Upload!B2991,\".\",\"\"),\"-\",\"\"),\"/\",\"\"),\"erro\")","v":""},{"$f":"IFERROR(Gerar_Upload!C2991,\"erro\")","v":0},{"$f":"IFERROR(Gerar_Upload!D2991,\"erro\")","v":0},{"$f":"IFERROR(DATE(YEAR(Gerar_Upload!E2991),MONTH(Gerar_Upload!E2991),DAY(Gerar_Upload!E2991)),\"erro\")","v":"00:00:00"},{"$f":"IFERROR(Gerar_Upload!F2991,\"erro\")","v":0},{"$f":"IFERROR(IF(Gerar_Upload!G2991<44,REPT(0,44-LEN(Gerar_Upload!G2991))&Gerar_Upload!G2991,Gerar_Upload!G2991),\"erro\")","v":"00000000000000000000000000000000000000000000"}]
[{"$f":"IFERROR(LEFT(Gerar_Upload!A2992,120),\"erro\")","v":""},{"$f":"IFERROR(SUBSTITUTE(SUBSTITUTE(SUBSTITUTE(Gerar_Upload!B2992,\".\",\"\"),\"-\",\"\"),\"/\",\"\"),\"erro\")","v":""},{"$f":"IFERROR(Gerar_Upload!C2992,\"erro\")","v":0},{"$f":"IFERROR(Gerar_Upload!D2992,\"erro\")","v":0},{"$f":"IFERROR(DATE(YEAR(Gerar_Upload!E2992),MONTH(Gerar_Upload!E2992),DAY(Gerar_Upload!E2992)),\"erro\")","v":"00:00:00"},{"$f":"IFERROR(Gerar_Upload!F2992,\"erro\")","v":0},{"$f":"IFERROR(IF(Gerar_Upload!G2992<44,REPT(0,44-LEN(Gerar_Upload!G2992))&Gerar_Upload!G2992,Gerar_Upload!G2992),\"erro\")","v":"00000000000000000000000000000000000000000000"}]
[{"$f":"IFERROR(LEFT(Gerar_Upload!A2993,120),\"erro\")","v":""},{"$f":"IFERROR(SUBSTITUTE(SUBSTITUTE(SUBSTITUTE(Gerar_Upload!B2993,\".\",\"\"),\"-\",\"\"),\"/\",\"\"),\"erro\")","v":""},{"$f":"IFERROR(Gerar_Upload!C2993,\"erro\")","v":0},{"$f":"IFERROR(Gerar_Upload!D2993,\"erro\")","v":0},{"$f":"IFERROR(DATE(YEAR(Gerar_Upload!E2993),MONTH(Gerar_Upload!E2993),DAY(Gerar_Upload!E2993)),\"erro\")","v":"00:00:00"},{"$f":"IFERROR(Gerar_Upload!F2993,\"erro\")","v":0},{"$f":"IFERROR(IF(Gerar_Upload!G2993<44,REPT(0,44-LEN(Gerar_Upload!G2993))&Gerar_Upload!G2993,Gerar_Upload!G2993),\"erro\")","v":"00000000000000000000000000000000000000000000"}]
[{"$f":"IFERROR(LEFT(Gerar_Upload!A2994,120),\"erro\")","v":""},{"$f":"IFERROR(SUBSTITUTE(SUBSTITUTE(SUBSTITUTE(Gerar_Upload!B2994,\".\",\"\"),\"-\",\"\"),\"/\",\"\"),\"erro\")","v":""},{"$f":"IFERROR(Gerar_Upload!C2994,\"erro\")","v":0},{"$f":"IFERROR(Gerar_Upload!D2994,\"erro\")","v":0},{"$f":"IFERROR(DATE(YEAR(Gerar_Upload!E2994),MONTH(Gerar_Upload!E2994),DAY(Gerar_Upload!E2994)),\"erro\")","v":"00:00:00"},{"$f":"IFERROR(Gerar_Upload!F2994,\"erro\")","v":0},{"$f":"IFERROR(IF(Gerar_Upload!G2994<44,REPT(0,44-LEN(Gerar_Upload!G2994))&Gerar_Upload!G2994,Gerar_Upload!G2994),\"erro\")","v":"00000000000000000000000000000000000000000000"}]
[{"$f":"IFERROR(LEFT(Gerar_Upload!A2995,120),\"erro\")","v":""},{"$f":"IFERROR(SUBSTITUTE(SUBSTITUTE(SUBSTITUTE(Gerar_Upload!B2995,\".\",\"\"),\"-\",\"\"),\"/\",\"\"),\"erro\")","v":""},{"$f":"IFERROR(Gerar_Upload!C2995,\"erro\")","v":0},{"$f":"IFERROR(Gerar_Upload!D2995,\"erro\")","v":0},{"$f":"IFERROR(DATE(YEAR(Gerar_Upload!E2995),MONTH(Gerar_Upload!E2995),DAY(Gerar_Upload!E2995)),\"erro\")","v":"00:00:00"},{"$f":"IFERROR(Gerar_Upload!F2995,\"erro\")","v":0},{"$f":"IFERROR(IF(Gerar_Upload!G2995<44,REPT(0,44-LEN(Gerar_Upload!G2995))&Gerar_Upload!G2995,Gerar_Upload!G2995),\"erro\")","v":"00000000000000000000000000000000000000000000"}]
[{"$f":"IFERROR(LEFT(Gerar_Upload!A2996,120),\"erro\")","v":""},{"$f":"IFERROR(SUBSTITUTE(SUBSTITUTE(SUBSTITUTE(Gerar_Upload!B2996,\".\",\"\"),\"-\",\"\"),\"/\",\"\"),\"erro\")","v":""},{"$f":"IFERROR(Gerar_Upload!C2996,\"erro\")","v":0},{"$f":"IFERROR(Gerar_Upload!D2996,\"erro\")","v":0},{"$f":"IFERROR(DATE(YEAR(Gerar_Upload!E2996),MONTH(Gerar_Upload!E2996),DAY(Gerar_Upload!E2996)),\"erro\")","v":"00:00:00"},{"$f":"IFERROR(Gerar_Upload!F2996,\"erro\")","v":0},{"$f":"IFERROR(IF(Gerar_Upload!G2996<44,REPT(0,44-LEN(Gerar_Upload!G2996))&Gerar_Upload!G2996,Gerar_Upload!G2996),\"erro\")","v":"00000000000000000000000000000000000000000000"}]
[{"$f":"IFERROR(LEFT(Gerar_Upload!A2997,120),\"erro\")","v":""},{"$f":"IFERROR(SUBSTITUTE(SUBSTITUTE(SUBSTITUTE(Gerar_Upload!B2997,\".\",\"\"),\"-\",\"\"),\"/\",\"\"),\"erro\")","v":""},{"$f":"IFERROR(Gerar_Upload!C2997,\"erro\")","v":0},{"$f":"IFERROR(Gerar_Upload!D2997,\"erro\")","v":0},{"$f":"IFERROR(DATE(YEAR(Gerar_Upload!E2997),MONTH(Gerar_Upload!E2997),DAY(Gerar_Upload!E2997)),\"erro\")","v":"00:00:00"},{"$f":"IFERROR(Gerar_Upload!F2997,\"erro\")","v":0},{"$f":"IFERROR(IF(Gerar_Upload!G2997<44,REPT(0,44-LEN(Gerar_Upload!G2997))&Gerar_Upload!G2997,Gerar_Upload!G2997),\"erro\")","v":"00000000000000000000000000000000000000000000"}]
[{"$f":"IFERROR(LEFT(Gerar_Upload!A2998,120),\"erro\")","v":""},{"$f":"IFERROR(SUBSTITUTE(SUBSTITUTE(SUBSTITUTE(Gerar_Upload!B2998,\".\",\"\"),\"-\",\"\"),\"/\",\"\"),\"erro\")","v":""},{"$f":"IFERROR(Gerar_Upload!C2998,\"erro\")","v":0},{"$f":"IFERROR(Gerar_Upload!D2998,\"erro\")","v":0},{"$f":"IFERROR(DATE(YEAR(Gerar_Upload!E2998),MONTH(Gerar_Upload!E2998),DAY(Gerar_Upload!E2998)),\"erro\")","v":"00:00:00"},{"$f":"IFERROR(Gerar_Upload!F2998,\"erro\")","v":0},{"$f":"IFERROR(IF(Gerar_Upload!G2998<44,REPT(0,44-LEN(Gerar_Upload!G2998))&Gerar_Upload!G2998,Gerar_Upload!G2998),\"erro\")","v":"00000000000000000000000000000000000000000000"}]
[{"$f":"IFERROR(LEFT(Gerar_Upload!A2999,120),\"erro\")","v":""},{"$f":"IFERROR(SUBSTITUTE(SUBSTITUTE(SUBSTITUTE(Gerar_Upload!B2999,\".\",\"\"),\"-\",\"\"),\"/\",\"\"),\"erro\")","v":""},{"$f":"IFERROR(Gerar_Upload!C2999,\"erro\")","v":0},{"$f":"IFERROR(Gerar_Upload!D2999,\"erro\")","v":0},{"$f":"IFERROR(DATE(YEAR(Gerar_Upload!E2999),MONTH(Gerar_Upload!E2999),DAY(Gerar_Upload!E2999)),\"erro\")","v":"00:00:00"},{"$f":"IFERROR(Gerar_Upload!F2999,\"erro\")","v":0},{"$f":"IFERROR(IF(Gerar_Upload!G2999<44,REPT(0,44-LEN(Gerar_Upload!G2999))&Gerar_Upload!G2999,Gerar_Upload!G2999),\"erro\")","v":"00000000000000000000000000000000000000000000"}]
[{"$f":"IFERROR(LEFT(Gerar_Upload!A3000,120),\"erro\")","v":""},{"$f":"IFERROR(SUBSTITUTE(SUBSTITUTE(SUBSTITUTE(Gerar_Upload!B3000,\".\",\"\"),\"-\",\"\"),\"/\",\"\"),\"erro\")","v":""},{"$f":"IFERROR(Gerar_Upload!C3000,\"erro\")","v":0},{"$f":"IFERROR(Gerar_Upload!D3000,\"erro\")","v":0},{"$f":"IFERROR(DATE(YEAR(Gerar_Upload!E3000),MONTH(Gerar_Upload!E3000),DAY(Gerar_Upload!E3000)),\"erro\")","v":"00:00:00"},{"$f":"IFERROR(Gerar_Upload!F3000,\"erro\")","v":0},{"$f":"IFERROR(IF(Gerar_Upload!G3000<44,REPT(0,44-LEN(Gerar_Upload!G3000))&Gerar_Upload!G3000,Gerar_Upload!G3000),\"erro\")","v":"00000000000000000000000000000000000000000000"}]
[{"$f":"IFERROR(LEFT(Gerar_Upload!A3001,120),\"erro\")","v":""},{"$f":"IFERROR(SUBSTITUTE(SUBSTITUTE(SUBSTITUTE(Gerar_Upload!B3001,\".\",\"\"),\"-\",\"\"),\"/\",\"\"),\"erro\")","v":""},{"$f":"IFERROR(Gerar_Upload!C3001,\"erro\")","v":0},{"$f":"IFERROR(Gerar_Upload!D3001,\"erro\")","v":0},{"$f":"IFERROR(DATE(YEAR(Gerar_Upload!E3001),MONTH(Gerar_Upload!E3001),DAY(Gerar_Upload!E3001)),\"erro\")","v":"00:00:00"},{"$f":"IFERROR(Gerar_Upload!F3001,\"erro\")","v":0},{"$f":"IFERROR(IF(Gerar_Upload!G3001<44,REPT(0,44-LEN(Gerar_Upload!G3001))&Gerar_Upload!G3001,Gerar_Upload!G3001),\"erro\")","v":"00000000000000000000000000000000000000000000"}]
[{"$f":"IFERROR(LEFT(Gerar_Upload!A3002,120),\"erro\")","v":""},{"$f":"IFERROR(SUBSTITUTE(SUBSTITUTE(SUBSTITUTE(Gerar_Upload!B3002,\".\",\"\"),\"-\",\"\"),\"/\",\"\"),\"erro\")","v":""},{"$f":"IFERROR(Gerar_Upload!C3002,\"erro\")","v":0},{"$f":"IFERROR(Gerar_Upload!D3002,\"erro\")","v":0},{"$f":"IFERROR(DATE(YEAR(Gerar_Upload!E3002),MONTH(Gerar_Upload!E3002),DAY(Gerar_Upload!E3002)),\"erro\")","v":"00:00:00"},{"$f":"IFERROR(Gerar_Upload!F3002,\"erro\")","v":0},{"$f":"IFERROR(IF(Gerar_Upload!G3002<44,REPT(0,44-LEN(Gerar_Upload!G3002))&Gerar_Upload!G3002,Gerar_Upload!G3002),\"erro\")","v":"00000000000000000000000000000000000000000000"}]
[{"$f":"IFERROR(LEFT(Gerar_Upload!A3003,120),\"erro\")","v":""},{"$f":"IFERROR(SUBSTITUTE(SUBSTITUTE(SUBSTITUTE(Gerar_Upload!B3003,\".\",\"\"),\"-\",\"\"),\"/\",\"\"),\"erro\")","v":""},{"$f":"IFERROR(Gerar_Upload!C3003,\"erro\")","v":0},{"$f":"IFERROR(Gerar_Upload!D3003,\"erro\")","v":0},{"$f":"IFERROR(DATE(YEAR(Gerar_Upload!E3003),MONTH(Gerar_Upload!E3003),DAY(Gerar_Upload!E3003)),\"erro\")","v":"00:00:00"},{"$f":"IFERROR(Gerar_Upload!F3003,\"erro\")","v":0},{"$f":"IFERROR(IF(Gerar_Upload!G3003<44,REPT(0,44-LEN(Gerar_Upload!G3003))&Gerar_Upload!G3003,Gerar_Upload!G3003),\"erro\")","v":"00000000000000000000000000000000000000000000"}]

{"sheet":"SuporteVBA","index":6,"n_rows":1,"n_cols":2,"rows_kept":1,"cut":false,"hidden":true,"merged":[]}
["Deixar planilha destravada?","N"]